{"text_format":"1","workbook":"xlsx","n_sheets":117,"sheets":["Accueil","Liste","Choix","JANVIER","FEVRIER","MARS","AVRIL","MAI","JUIN","JUILLET","AOUT","SEPTEMBRE","OCTOBRE","NOVEMBRE","DECEMBRE","TRANSPORTEURS_JANVIER","TRANSPORTEURS_FEVRIER","TRANSPORTEURS_MARS","TRANSPORTEURS_AVRIL","TRANSPORTEURS_MAI","TRANSPORTEURS_JUIN","TRANSPORTEURS_JUILLET","TRANSPORTEURS_AOUT","TRANSPORTEURS_SEPTEMBRE","TRANSPORTEURS_OCTOBRE","TRANSPORTEURS_NOVEMBRE","TRANSPORTEURS_DECEMBRE","TMF34","TMF47","TMF34_JANVIER","TMF34_AVRIL","TMF34_MAI","TMF34_JUIN","TMF34_JUILLET","TMF34_AOUT","TMF34_SEPTEMBRE","TMF34_OCTOBRE","TMF34_NOVEMBRE","TMF34_DECEMBRE","TMF34_MARS","TMF34_FEVRIER","TMF47_DECEMBRE","TMF47_NOVEMBRE","TMF47_OCTOBRE","TMF47_SEPTEMBRE","TMF47_AOUT","TMF47_JUILLET","TMF47_JUIN","TMF47_MAI","TMF47_AVRIL","TMF47_MARS","TMF47_FEVRIER","TMF47_JANVIER","TEL_FEVRIER","TEL_MARS","TEL_AVRIL","TEL_MAI","TEL_JUIN","TEL_JUILLET","TEL_AOUT","TEL_SEPTEMBRE","TEL_OCTOBRE","TEL_NOVEMBRE","TEL_DECEMBRE","DW_JANVIER","DW_FEVRIER","DW_MARS","DW_AVRIL","DW_MAI","DW_JUIN","DW_JUILLET","DW_AOUT","DW_SEPTEMBRE","DW_OCTOBRE","DW_NOVEMBRE","DW_DECEMBRE","KN33_JANVIER","KN33_FEVRIER","KN33_MARS","KN33_AVRIL","KN33_MAI","KN33_JUIN","KN33_JUILLET","KN33_AOUT","KN33_SEPTEMBRE","KN33_OCTOBRE","KN33_NOVEMBRE","KN33_DECEMBRE","KN44_JANVIER","KN44_FEVRIER","KN44_MARS","KN44_AVRIL","KN44_MAI","KN44_JUIN","KN44_JUILLET","KN44_AOUT","KN44_SEPTEMBRE","KN44_OCTOBRE","KN44_DECEMBRE","KN44_NOVEMBRE","TEL_JANVIER","Choix_AV","Choix_JA","Choix_FE","Choix_MAR","Choix_MAI","Choix_JUIN","Choix_JUIL","Choix_AO","Choix_SE","Choix_OC","Choix_NO","Choix_DE","TRANSP","BDD","TOTAL AGENCE","Base"],"not_rendered":{"charts":0,"images":14,"macros":1,"external_links":2,"defined_names":201,"comments":1,"pivot_tables":0},"unopened":[],"bounds":{"document_bytes":16777216,"sheet_cells":100000,"rows_first":2000,"rows_last":500,"rows_between":2000,"halvings":0,"cell_chars":16384,"cell_head_chars":4096},"cells_cut":0,"cells_raw":0,"read":"whole","date_system":"1900"}

{"sheet":"Accueil","index":0,"n_rows":23,"n_cols":16,"rows_kept":23,"cut":false,"hidden":false,"merged":[]}
[]
[]
[]
[]
[]
[]
[]
[]
[]
[]
[]
[]
[]
[]
[]
[]
[]
[]
[]
[]
[]
[]
[null,null,null,null,null,null,null,null,null,null,null,null,null,null,null," "]

{"sheet":"Liste","index":1,"n_rows":17,"n_cols":15,"rows_kept":17,"cut":false,"hidden":true,"merged":[]}
[]
[]
[]
[]
[]
[]
[]
[]
[]
[]
[]
[]
[]
[]
[null,null,null,null,null,null,null,null,null,null,null,null,null," "]
[null,null,null,null,null,null,null,null,null,null,null,null,null,null,"é\"'(-"]
[" "]

{"sheet":"Choix","index":2,"n_rows":0,"n_cols":0,"rows_kept":0,"cut":false,"hidden":true,"merged":[]}

{"sheet":"JANVIER","index":3,"n_rows":0,"n_cols":0,"rows_kept":0,"cut":false,"hidden":true,"merged":[[0,35,0,37],[0,2,0,4],[0,5,0,7],[0,8,0,10],[0,11,0,13],[0,14,0,16],[0,17,0,19],[0,20,0,22],[0,23,0,25],[0,26,0,28],[0,29,0,31],[0,32,0,34],[0,56,0,58],[0,38,0,40],[0,41,0,43],[0,44,0,46],[0,47,0,49],[0,50,0,52],[0,53,0,55]]}

{"sheet":"FEVRIER","index":4,"n_rows":0,"n_cols":0,"rows_kept":0,"cut":false,"hidden":true,"merged":[]}

{"sheet":"MARS","index":5,"n_rows":0,"n_cols":0,"rows_kept":0,"cut":false,"hidden":true,"merged":[]}

{"sheet":"AVRIL","index":6,"n_rows":0,"n_cols":0,"rows_kept":0,"cut":false,"hidden":true,"merged":[]}

{"sheet":"MAI","index":7,"n_rows":0,"n_cols":0,"rows_kept":0,"cut":false,"hidden":true,"merged":[]}

{"sheet":"JUIN","index":8,"n_rows":0,"n_cols":0,"rows_kept":0,"cut":false,"hidden":true,"merged":[]}

{"sheet":"JUILLET","index":9,"n_rows":0,"n_cols":0,"rows_kept":0,"cut":false,"hidden":true,"merged":[]}

{"sheet":"AOUT","index":10,"n_rows":0,"n_cols":0,"rows_kept":0,"cut":false,"hidden":true,"merged":[]}

{"sheet":"SEPTEMBRE","index":11,"n_rows":0,"n_cols":0,"rows_kept":0,"cut":false,"hidden":true,"merged":[]}

{"sheet":"OCTOBRE","index":12,"n_rows":0,"n_cols":0,"rows_kept":0,"cut":false,"hidden":true,"merged":[]}

{"sheet":"NOVEMBRE","index":13,"n_rows":0,"n_cols":0,"rows_kept":0,"cut":false,"hidden":true,"merged":[]}

{"sheet":"DECEMBRE","index":14,"n_rows":0,"n_cols":0,"rows_kept":0,"cut":false,"hidden":true,"merged":[]}

{"sheet":"TRANSPORTEURS_JANVIER","index":15,"n_rows":36,"n_cols":38,"rows_kept":36,"cut":false,"hidden":false,"merged":[[1,36,1,37],[1,24,1,25],[1,26,1,27],[1,28,1,29],[1,30,1,31],[1,32,1,33],[1,34,1,35],[1,22,1,23],[1,2,1,3],[1,4,1,5],[1,6,1,7],[1,8,1,9],[1,10,1,11],[1,12,1,13],[1,14,1,15],[1,16,1,17],[1,18,1,19],[1,20,1,21]]}
[]
[null,"TRANSPORTEURS","STAM 82",null,"DENJEAN",null,"BARRAU (T.44)",null,"TRESSERRAS",null,"LA LAURAGAISE",null,"JAMMET",null,"DW TRANS",null,"TDS",null,"BELLEVILLE",null,"RANDON",null,"OLANO 82",null,"FAU",null,"GALTIER",null,"LACTALIS 47",null,"ARNAUD 47",null,"LADOUX",null,"LAUQUE",null,"L'OURS BLANC"]
[null,"Dates","C","R","C","R","C","R","C","R","C","R","C","R","C","R","C","R","C","R","C","R","C","R","C","R","C","R","C","R","C","R","C","R","C","R","C","R"]
[null,"REPORT M-1"]
[null,"2017-01-01"]
[null,"2017-01-02"]
[null,"2017-01-03"]
[null,"2017-01-04"]
[null,"2017-01-05"]
[null,"2017-01-06"]
[null,"2017-01-07"]
[null,"2017-01-08"]
[null,"2017-01-09"]
[null,"2017-01-10"]
[null,"2017-01-11"]
[null,"2017-01-12"]
[null,"2017-01-13"]
[null,"2017-01-14"]
[null,"2017-01-15"]
[null,"2017-01-16"]
[null,"2017-01-17"]
[null,"2017-01-18"]
[null,"2017-01-19"]
[null,"2017-01-20"]
[null,"2017-01-21"]
[null,"2017-01-22"]
[null,"2017-01-23"]
[null,"2017-01-24"]
[null,"2017-01-25"]
[null,"2017-01-26"]
[null,"2017-01-27"]
[null,"2017-01-28"]
[null,"2017-01-29"]
[null,"2017-01-30"]
[null,"2017-01-31"]
[null,"TOTAL A NOUS DEVOIR",{"$f":"SUM(C4:C35)-SUM(D4:D35)","v":0},null,{"$f":"SUM(E4:E35)-SUM(F4:F35)","v":0},null,{"$f":"SUM(G4:G35)-SUM(H4:H35)","v":0},null,{"$f":"SUM(I4:I35)-SUM(J4:J35)","v":0},null,{"$f":"SUM(K4:K35)-SUM(L4:L35)","v":0},null,{"$f":"SUM(M4:M35)-SUM(N4:N35)","v":0},null,{"$f":"SUM(O4:O35)-SUM(P4:P35)","v":0},null,{"$f":"SUM(Q4:Q35)-SUM(R4:R35)","v":0},null,{"$f":"SUM(S4:S35)-SUM(T4:T35)","v":0},null,{"$f":"SUM(U4:U35)-SUM(V4:V35)","v":0},null,{"$f":"SUM(W4:W35)-SUM(X4:X35)","v":0},null,{"$f":"SUM(Y4:Y35)-SUM(Z4:Z35)","v":0},null,{"$f":"SUM(AA4:AA35)-SUM(AB4:AB35)","v":0},null,{"$f":"SUM(AC4:AC35)-SUM(AD4:AD35)","v":0},null,{"$f":"SUM(AE4:AE35)-SUM(AF4:AF35)","v":0},null,{"$f":"SUM(AG4:AG35)-SUM(AH4:AH35)","v":0},null,{"$f":"SUM(AI4:AI35)-SUM(AJ4:AJ35)","v":0},null,{"$f":"SUM(AK4:AK35)-SUM(AL4:AL35)","v":0}]

{"sheet":"TRANSPORTEURS_FEVRIER","index":16,"n_rows":36,"n_cols":38,"rows_kept":36,"cut":false,"hidden":false,"merged":[[1,12,1,13],[1,2,1,3],[1,4,1,5],[1,6,1,7],[1,8,1,9],[1,10,1,11],[1,36,1,37],[1,14,1,15],[1,16,1,17],[1,18,1,19],[1,20,1,21],[1,22,1,23],[1,24,1,25],[1,26,1,27],[1,28,1,29],[1,30,1,31],[1,32,1,33],[1,34,1,35]]}
[]
[null,"TRANSPORTEURS","STAM 82",null,"DENJEAN",null,"BARRAU (T.44)",null,"TRESSERRAS",null,"LA LAURAGAISE",null,"JAMMET",null,"DW TRANS",null,"TDS",null,"BELLEVILLE",null,"RANDON",null,"OLANO 82",null,"FAU",null,"GALTIER",null,"LACTALIS 47",null,"ARNAUD 47",null,"LADOUX",null,"LAUQUE",null,"L'OURS BLANC"]
[null,"Dates","C","R","C","R","C","R","C","R","C","R","C","R","C","R","C","R","C","R","C","R","C","R","C","R","C","R","C","R","C","R","C","R","C","R","C","R"]
[null,"REPORT M-1"]
[null,"2017-02-01"]
[null,"2017-02-02"]
[null,"2017-02-03"]
[null,"2017-02-04"]
[null,"2017-02-05"]
[null,"2017-02-06"]
[null,"2017-02-07"]
[null,"2017-02-08"]
[null,"2017-02-09"]
[null,"2017-02-10"]
[null,"2017-02-11"]
[null,"2017-02-12"]
[null,"2017-02-13"]
[null,"2017-02-14"]
[null,"2017-02-15"]
[null,"2017-02-16"]
[null,"2017-02-17"]
[null,"2017-02-18"]
[null,"2017-02-19"]
[null,"2017-02-20"]
[null,"2017-02-21"]
[null,"2017-02-22"]
[null,"2017-02-23"]
[null,"2017-02-24"]
[null,"2017-02-25"]
[null,"2017-02-26"]
[null,"2017-02-27"]
[null,"2017-02-28"]
[]
[]
[]
[null,"TOTAL A NOUS DEVOIR",{"$f":"SUM(C4:C35)-SUM(D4:D35)","v":0},null,{"$f":"SUM(E4:E35)-SUM(F4:F35)","v":0},null,{"$f":"SUM(G4:G35)-SUM(H4:H35)","v":0},null,{"$f":"SUM(I4:I35)-SUM(J4:J35)","v":0},null,{"$f":"SUM(K4:K35)-SUM(L4:L35)","v":0},null,{"$f":"SUM(M4:M35)-SUM(N4:N35)","v":0},null,{"$f":"SUM(O4:O35)-SUM(P4:P35)","v":0},null,{"$f":"SUM(Q4:Q35)-SUM(R4:R35)","v":0},null,{"$f":"SUM(S4:S35)-SUM(T4:T35)","v":0},null,{"$f":"SUM(U4:U35)-SUM(V4:V35)","v":0},null,{"$f":"SUM(W4:W35)-SUM(X4:X35)","v":0},null,{"$f":"SUM(Y4:Y35)-SUM(Z4:Z35)","v":0},null,{"$f":"SUM(AA4:AA35)-SUM(AB4:AB35)","v":0},null,{"$f":"SUM(AC4:AC35)-SUM(AD4:AD35)","v":0},null,{"$f":"SUM(AE4:AE35)-SUM(AF4:AF35)","v":0},null,{"$f":"SUM(AG4:AG35)-SUM(AH4:AH35)","v":0},null,{"$f":"SUM(AI4:AI35)-SUM(AJ4:AJ35)","v":0},null,{"$f":"SUM(AK4:AK35)-SUM(AL4:AL35)","v":0}]

{"sheet":"TRANSPORTEURS_MARS","index":17,"n_rows":36,"n_cols":38,"rows_kept":36,"cut":false,"hidden":false,"merged":[[1,12,1,13],[1,2,1,3],[1,4,1,5],[1,6,1,7],[1,8,1,9],[1,10,1,11],[1,36,1,37],[1,14,1,15],[1,16,1,17],[1,18,1,19],[1,20,1,21],[1,22,1,23],[1,24,1,25],[1,26,1,27],[1,28,1,29],[1,30,1,31],[1,32,1,33],[1,34,1,35]]}
[]
[null,"TRANSPORTEURS","STAM 82",null,"DENJEAN",null,"BARRAU (T.44)",null,"TRESSERRAS",null,"LA LAURAGAISE",null,"JAMMET",null,"DW TRANS",null,"TDS",null,"BELLEVILLE",null,"RANDON",null,"OLANO 82",null,"FAU",null,"GALTIER",null,"LACTALIS 47",null,"ARNAUD 47",null,"LADOUX",null,"LAUQUE",null,"L'OURS BLANC"]
[null,"Dates","C","R","C","R","C","R","C","R","C","R","C","R","C","R","C","R","C","R","C","R","C","R","C","R","C","R","C","R","C","R","C","R","C","R","C","R"]
[null,"REPORT M-1"]
[null,"2017-03-01"]
[null,"2017-03-02"]
[null,"2017-03-03"]
[null,"2017-03-04"]
[null,"2017-03-05"]
[null,"2017-03-06"]
[null,"2017-03-07"]
[null,"2017-03-08"]
[null,"2017-03-09"]
[null,"2017-03-10"]
[null,"2017-03-11"]
[null,"2017-03-12"]
[null,"2017-03-13"]
[null,"2017-03-14"]
[null,"2017-03-15"]
[null,"2017-03-16"]
[null,"2017-03-17"]
[null,"2017-03-18"]
[null,"2017-03-19"]
[null,"2017-03-20"]
[null,"2017-03-21"]
[null,"2017-03-22"]
[null,"2017-03-23"]
[null,"2017-03-24"]
[null,"2017-03-25"]
[null,"2017-03-26"]
[null,"2017-03-27"]
[null,"2017-03-28"]
[null,"2017-03-29"]
[null,"2017-03-30"]
[null,"2017-03-31"]
[null,"TOTAL A NOUS DEVOIR",{"$f":"SUM(C4:C35)-SUM(D4:D35)","v":0},null,{"$f":"SUM(E4:E35)-SUM(F4:F35)","v":0},null,{"$f":"SUM(G4:G35)-SUM(H4:H35)","v":0},null,{"$f":"SUM(I4:I35)-SUM(J4:J35)","v":0},null,{"$f":"SUM(K4:K35)-SUM(L4:L35)","v":0},null,{"$f":"SUM(M4:M35)-SUM(N4:N35)","v":0},null,{"$f":"SUM(O4:O35)-SUM(P4:P35)","v":0},null,{"$f":"SUM(Q4:Q35)-SUM(R4:R35)","v":0},null,{"$f":"SUM(S4:S35)-SUM(T4:T35)","v":0},null,{"$f":"SUM(U4:U35)-SUM(V4:V35)","v":0},null,{"$f":"SUM(W4:W35)-SUM(X4:X35)","v":0},null,{"$f":"SUM(Y4:Y35)-SUM(Z4:Z35)","v":0},null,{"$f":"SUM(AA4:AA35)-SUM(AB4:AB35)","v":0},null,{"$f":"SUM(AC4:AC35)-SUM(AD4:AD35)","v":0},null,{"$f":"SUM(AE4:AE35)-SUM(AF4:AF35)","v":0},null,{"$f":"SUM(AG4:AG35)-SUM(AH4:AH35)","v":0},null,{"$f":"SUM(AI4:AI35)-SUM(AJ4:AJ35)","v":0},null,{"$f":"SUM(AK4:AK35)-SUM(AL4:AL35)","v":0}]

{"sheet":"TRANSPORTEURS_AVRIL","index":18,"n_rows":36,"n_cols":38,"rows_kept":36,"cut":false,"hidden":false,"merged":[[1,12,1,13],[1,2,1,3],[1,4,1,5],[1,6,1,7],[1,8,1,9],[1,10,1,11],[1,36,1,37],[1,14,1,15],[1,16,1,17],[1,18,1,19],[1,20,1,21],[1,22,1,23],[1,24,1,25],[1,26,1,27],[1,28,1,29],[1,30,1,31],[1,32,1,33],[1,34,1,35]]}
[]
[null,"TRANSPORTEURS","STAM 82",null,"DENJEAN",null,"BARRAU (T.44)",null,"TRESSERRAS",null,"LA LAURAGAISE",null,"JAMMET",null,"DW TRANS",null,"TDS",null,"BELLEVILLE",null,"RANDON",null,"OLANO 82",null,"FAU",null,"GALTIER",null,"LACTALIS 47",null,"ARNAUD 47",null,"LADOUX",null,"LAUQUE",null,"L'OURS BLANC"]
[null,"Dates","C","R","C","R","C","R","C","R","C","R","C","R","C","R","C","R","C","R","C","R","C","R","C","R","C","R","C","R","C","R","C","R","C","R","C","R"]
[null,"REPORT M-1"]
[null,"2017-04-01"]
[null,"2017-04-02"]
[null,"2017-04-03"]
[null,"2017-04-04"]
[null,"2017-04-05"]
[null,"2017-04-06"]
[null,"2017-04-07"]
[null,"2017-04-08"]
[null,"2017-04-09"]
[null,"2017-04-10"]
[null,"2017-04-11"]
[null,"2017-04-12"]
[null,"2017-04-13"]
[null,"2017-04-14"]
[null,"2017-04-15"]
[null,"2017-04-16"]
[null,"2017-04-17"]
[null,"2017-04-18"]
[null,"2017-04-19"]
[null,"2017-04-20"]
[null,"2017-04-21"]
[null,"2017-04-22"]
[null,"2017-04-23"]
[null,"2017-04-24"]
[null,"2017-04-25"]
[null,"2017-04-26"]
[null,"2017-04-27"]
[null,"2017-04-28"]
[null,"2017-04-29"]
[null,"2017-04-30"]
[]
[null,"TOTAL A NOUS DEVOIR",{"$f":"SUM(C4:C35)-SUM(D4:D35)","v":0},null,{"$f":"SUM(E4:E35)-SUM(F4:F35)","v":0},null,{"$f":"SUM(G4:G35)-SUM(H4:H35)","v":0},null,{"$f":"SUM(I4:I35)-SUM(J4:J35)","v":0},null,{"$f":"SUM(K4:K35)-SUM(L4:L35)","v":0},null,{"$f":"SUM(M4:M35)-SUM(N4:N35)","v":0},null,{"$f":"SUM(O4:O35)-SUM(P4:P35)","v":0},null,{"$f":"SUM(Q4:Q35)-SUM(R4:R35)","v":0},null,{"$f":"SUM(S4:S35)-SUM(T4:T35)","v":0},null,{"$f":"SUM(U4:U35)-SUM(V4:V35)","v":0},null,{"$f":"SUM(W4:W35)-SUM(X4:X35)","v":0},null,{"$f":"SUM(Y4:Y35)-SUM(Z4:Z35)","v":0},null,{"$f":"SUM(AA4:AA35)-SUM(AB4:AB35)","v":0},null,{"$f":"SUM(AC4:AC35)-SUM(AD4:AD35)","v":0},null,{"$f":"SUM(AE4:AE35)-SUM(AF4:AF35)","v":0},null,{"$f":"SUM(AG4:AG35)-SUM(AH4:AH35)","v":0},null,{"$f":"SUM(AI4:AI35)-SUM(AJ4:AJ35)","v":0},null,{"$f":"SUM(AK4:AK35)-SUM(AL4:AL35)","v":0}]

{"sheet":"TRANSPORTEURS_MAI","index":19,"n_rows":36,"n_cols":38,"rows_kept":36,"cut":false,"hidden":false,"merged":[[1,12,1,13],[1,2,1,3],[1,4,1,5],[1,6,1,7],[1,8,1,9],[1,10,1,11],[1,36,1,37],[1,14,1,15],[1,16,1,17],[1,18,1,19],[1,20,1,21],[1,22,1,23],[1,24,1,25],[1,26,1,27],[1,28,1,29],[1,30,1,31],[1,32,1,33],[1,34,1,35]]}
[]
[null,"TRANSPORTEURS","STAM 82",null,"DENJEAN",null,"BARRAU (T.44)",null,"TRESSERRAS",null,"LA LAURAGAISE",null,"JAMMET",null,"DW TRANS",null,"TDS",null,"BELLEVILLE",null,"RANDON",null,"OLANO 82",null,"FAU",null,"GALTIER",null,"LACTALIS 47",null,"ARNAUD 47",null,"LADOUX",null,"LAUQUE",null,"L'OURS BLANC"]
[null,"Dates","C","R","C","R","C","R","C","R","C","R","C","R","C","R","C","R","C","R","C","R","C","R","C","R","C","R","C","R","C","R","C","R","C","R","C","R"]
[null,"REPORT M-1"]
[null,"2017-05-01"]
[null,"2017-05-02"]
[null,"2017-05-03"]
[null,"2017-05-04"]
[null,"2017-05-05"]
[null,"2017-05-06"]
[null,"2017-05-07"]
[null,"2017-05-08"]
[null,"2017-05-09"]
[null,"2017-05-10"]
[null,"2017-05-11"]
[null,"2017-05-12"]
[null,"2017-05-13"]
[null,"2017-05-14"]
[null,"2017-05-15"]
[null,"2017-05-16"]
[null,"2017-05-17"]
[null,"2017-05-18"]
[null,"2017-05-19"]
[null,"2017-05-20"]
[null,"2017-05-21"]
[null,"2017-05-22"]
[null,"2017-05-23"]
[null,"2017-05-24"]
[null,"2017-05-25"]
[null,"2017-05-26"]
[null,"2017-05-27"]
[null,"2017-05-28"]
[null,"2017-05-29"]
[null,"2017-05-30"]
[null,"2017-05-31"]
[null,"TOTAL A NOUS DEVOIR",{"$f":"SUM(C4:C35)-SUM(D4:D35)","v":0},null,{"$f":"SUM(E4:E35)-SUM(F4:F35)","v":0},null,{"$f":"SUM(G4:G35)-SUM(H4:H35)","v":0},null,{"$f":"SUM(I4:I35)-SUM(J4:J35)","v":0},null,{"$f":"SUM(K4:K35)-SUM(L4:L35)","v":0},null,{"$f":"SUM(M4:M35)-SUM(N4:N35)","v":0},null,{"$f":"SUM(O4:O35)-SUM(P4:P35)","v":0},null,{"$f":"SUM(Q4:Q35)-SUM(R4:R35)","v":0},null,{"$f":"SUM(S4:S35)-SUM(T4:T35)","v":0},null,{"$f":"SUM(U4:U35)-SUM(V4:V35)","v":0},null,{"$f":"SUM(W4:W35)-SUM(X4:X35)","v":0},null,{"$f":"SUM(Y4:Y35)-SUM(Z4:Z35)","v":0},null,{"$f":"SUM(AA4:AA35)-SUM(AB4:AB35)","v":0},null,{"$f":"SUM(AC4:AC35)-SUM(AD4:AD35)","v":0},null,{"$f":"SUM(AE4:AE35)-SUM(AF4:AF35)","v":0},null,{"$f":"SUM(AG4:AG35)-SUM(AH4:AH35)","v":0},null,{"$f":"SUM(AI4:AI35)-SUM(AJ4:AJ35)","v":0},null,{"$f":"SUM(AK4:AK35)-SUM(AL4:AL35)","v":0}]

{"sheet":"TRANSPORTEURS_JUIN","index":20,"n_rows":36,"n_cols":38,"rows_kept":36,"cut":false,"hidden":false,"merged":[[1,12,1,13],[1,2,1,3],[1,4,1,5],[1,6,1,7],[1,8,1,9],[1,10,1,11],[1,36,1,37],[1,14,1,15],[1,16,1,17],[1,18,1,19],[1,20,1,21],[1,22,1,23],[1,24,1,25],[1,26,1,27],[1,28,1,29],[1,30,1,31],[1,32,1,33],[1,34,1,35]]}
[]
[null,"TRANSPORTEURS","STAM 82",null,"DENJEAN",null,"BARRAU (T.44)",null,"TRESSERRAS",null,"LA LAURAGAISE",null,"JAMMET",null,"DW TRANS",null,"TDS",null,"BELLEVILLE",null,"RANDON",null,"OLANO 82",null,"FAU",null,"GALTIER",null,"LACTALIS 47",null,"ARNAUD 47",null,"LADOUX",null,"LAUQUE",null,"L'OURS BLANC"]
[null,"Dates","C","R","C","R","C","R","C","R","C","R","C","R","C","R","C","R","C","R","C","R","C","R","C","R","C","R","C","R","C","R","C","R","C","R","C","R"]
[null,"REPORT M-1"]
[null,"2017-06-01"]
[null,"2017-06-02"]
[null,"2017-06-03"]
[null,"2017-06-04"]
[null,"2017-06-05"]
[null,"2017-06-06"]
[null,"2017-06-07"]
[null,"2017-06-08"]
[null,"2017-06-09"]
[null,"2017-06-10"]
[null,"2017-06-11"]
[null,"2017-06-12"]
[null,"2017-06-13"]
[null,"2017-06-14"]
[null,"2017-06-15"]
[null,"2017-06-16"]
[null,"2017-06-17"]
[null,"2017-06-18"]
[null,"2017-06-19"]
[null,"2017-06-20"]
[null,"2017-06-21"]
[null,"2017-06-22"]
[null,"2017-06-23"]
[null,"2017-06-24"]
[null,"2017-06-25"]
[null,"2017-06-26"]
[null,"2017-06-27"]
[null,"2017-06-28"]
[null,"2017-06-29"]
[null,"2017-06-30"]
[]
[null,"TOTAL A NOUS DEVOIR",{"$f":"SUM(C4:C35)-SUM(D4:D35)","v":0},null,{"$f":"SUM(E4:E35)-SUM(F4:F35)","v":0},null,{"$f":"SUM(G4:G35)-SUM(H4:H35)","v":0},null,{"$f":"SUM(I4:I35)-SUM(J4:J35)","v":0},null,{"$f":"SUM(K4:K35)-SUM(L4:L35)","v":0},null,{"$f":"SUM(M4:M35)-SUM(N4:N35)","v":0},null,{"$f":"SUM(O4:O35)-SUM(P4:P35)","v":0},null,{"$f":"SUM(Q4:Q35)-SUM(R4:R35)","v":0},null,{"$f":"SUM(S4:S35)-SUM(T4:T35)","v":0},null,{"$f":"SUM(U4:U35)-SUM(V4:V35)","v":0},null,{"$f":"SUM(W4:W35)-SUM(X4:X35)","v":0},null,{"$f":"SUM(Y4:Y35)-SUM(Z4:Z35)","v":0},null,{"$f":"SUM(AA4:AA35)-SUM(AB4:AB35)","v":0},null,{"$f":"SUM(AC4:AC35)-SUM(AD4:AD35)","v":0},null,{"$f":"SUM(AE4:AE35)-SUM(AF4:AF35)","v":0},null,{"$f":"SUM(AG4:AG35)-SUM(AH4:AH35)","v":0},null,{"$f":"SUM(AI4:AI35)-SUM(AJ4:AJ35)","v":0},null,{"$f":"SUM(AK4:AK35)-SUM(AL4:AL35)","v":0}]

{"sheet":"TRANSPORTEURS_JUILLET","index":21,"n_rows":36,"n_cols":38,"rows_kept":36,"cut":false,"hidden":false,"merged":[[1,12,1,13],[1,2,1,3],[1,4,1,5],[1,6,1,7],[1,8,1,9],[1,10,1,11],[1,36,1,37],[1,14,1,15],[1,16,1,17],[1,18,1,19],[1,20,1,21],[1,22,1,23],[1,24,1,25],[1,26,1,27],[1,28,1,29],[1,30,1,31],[1,32,1,33],[1,34,1,35]]}
[]
[null,"TRANSPORTEURS","STAM 82",null,"DENJEAN",null,"BARRAU (T.44)",null,"TRESSERRAS",null,"LA LAURAGAISE",null,"JAMMET",null,"DW TRANS",null,"TDS",null,"BELLEVILLE",null,"RANDON",null,"OLANO 82",null,"FAU",null,"GALTIER",null,"LACTALIS 47",null,"ARNAUD 47",null,"LADOUX",null,"LAUQUE",null,"L'OURS BLANC"]
[null,"Dates","C","R","C","R","C","R","C","R","C","R","C","R","C","R","C","R","C","R","C","R","C","R","C","R","C","R","C","R","C","R","C","R","C","R","C","R"]
[null,"REPORT M-1"]
[null,"2017-07-01"]
[null,"2017-07-02"]
[null,"2017-07-03"]
[null,"2017-07-04"]
[null,"2017-07-05"]
[null,"2017-07-06"]
[null,"2017-07-07"]
[null,"2017-07-08"]
[null,"2017-07-09"]
[null,"2017-07-10"]
[null,"2017-07-11"]
[null,"2017-07-12"]
[null,"2017-07-13"]
[null,"2017-07-14"]
[null,"2017-07-15"]
[null,"2017-07-16"]
[null,"2017-07-17"]
[null,"2017-07-18"]
[null,"2017-07-19"]
[null,"2017-07-20"]
[null,"2017-07-21"]
[null,"2017-07-22"]
[null,"2017-07-23"]
[null,"2017-07-24"]
[null,"2017-07-25"]
[null,"2017-07-26"]
[null,"2017-07-27"]
[null,"2017-07-28"]
[null,"2017-07-29"]
[null,"2017-07-30"]
[null,"2017-07-31"]
[null,"TOTAL A NOUS DEVOIR",{"$f":"SUM(C4:C35)-SUM(D4:D35)","v":0},null,{"$f":"SUM(E4:E35)-SUM(F4:F35)","v":0},null,{"$f":"SUM(G4:G35)-SUM(H4:H35)","v":0},null,{"$f":"SUM(I4:I35)-SUM(J4:J35)","v":0},null,{"$f":"SUM(K4:K35)-SUM(L4:L35)","v":0},null,{"$f":"SUM(M4:M35)-SUM(N4:N35)","v":0},null,{"$f":"SUM(O4:O35)-SUM(P4:P35)","v":0},null,{"$f":"SUM(Q4:Q35)-SUM(R4:R35)","v":0},null,{"$f":"SUM(S4:S35)-SUM(T4:T35)","v":0},null,{"$f":"SUM(U4:U35)-SUM(V4:V35)","v":0},null,{"$f":"SUM(W4:W35)-SUM(X4:X35)","v":0},null,{"$f":"SUM(Y4:Y35)-SUM(Z4:Z35)","v":0},null,{"$f":"SUM(AA4:AA35)-SUM(AB4:AB35)","v":0},null,{"$f":"SUM(AC4:AC35)-SUM(AD4:AD35)","v":0},null,{"$f":"SUM(AE4:AE35)-SUM(AF4:AF35)","v":0},null,{"$f":"SUM(AG4:AG35)-SUM(AH4:AH35)","v":0},null,{"$f":"SUM(AI4:AI35)-SUM(AJ4:AJ35)","v":0},null,{"$f":"SUM(AK4:AK35)-SUM(AL4:AL35)","v":0}]

{"sheet":"TRANSPORTEURS_AOUT","index":22,"n_rows":36,"n_cols":38,"rows_kept":36,"cut":false,"hidden":false,"merged":[[1,12,1,13],[1,2,1,3],[1,4,1,5],[1,6,1,7],[1,8,1,9],[1,10,1,11],[1,36,1,37],[1,14,1,15],[1,16,1,17],[1,18,1,19],[1,20,1,21],[1,22,1,23],[1,24,1,25],[1,26,1,27],[1,28,1,29],[1,30,1,31],[1,32,1,33],[1,34,1,35]]}
[]
[null,"TRANSPORTEURS","STAM 82",null,"DENJEAN",null,"BARRAU (T.44)",null,"TRESSERRAS",null,"LA LAURAGAISE",null,"JAMMET",null,"DW TRANS",null,"TDS",null,"BELLEVILLE",null,"RANDON",null,"OLANO 82",null,"FAU",null,"GALTIER",null,"LACTALIS 47",null,"ARNAUD 47",null,"LADOUX",null,"LAUQUE",null,"L'OURS BLANC"]
[null,"Dates","C","R","C","R","C","R","C","R","C","R","C","R","C","R","C","R","C","R","C","R","C","R","C","R","C","R","C","R","C","R","C","R","C","R","C","R"]
[null,"REPORT M-1"]
[null,"2017-08-01"]
[null,"2017-08-02"]
[null,"2017-08-03"]
[null,"2017-08-04"]
[null,"2017-08-05"]
[null,"2017-08-06"]
[null,"2017-08-07"]
[null,"2017-08-08"]
[null,"2017-08-09"]
[null,"2017-08-10"]
[null,"2017-08-11"]
[null,"2017-08-12"]
[null,"2017-08-13"]
[null,"2017-08-14"]
[null,"2017-08-15"]
[null,"2017-08-16"]
[null,"2017-08-17"]
[null,"2017-08-18"]
[null,"2017-08-19"]
[null,"2017-08-20"]
[null,"2017-08-21"]
[null,"2017-08-22"]
[null,"2017-08-23"]
[null,"2017-08-24"]
[null,"2017-08-25"]
[null,"2017-08-26"]
[null,"2017-08-27"]
[null,"2017-08-28"]
[null,"2017-08-29"]
[null,"2017-08-30"]
[null,"2017-08-31"]
[null,"TOTAL A NOUS DEVOIR",{"$f":"SUM(C4:C35)-SUM(D4:D35)","v":0},null,{"$f":"SUM(E4:E35)-SUM(F4:F35)","v":0},null,{"$f":"SUM(G4:G35)-SUM(H4:H35)","v":0},null,{"$f":"SUM(I4:I35)-SUM(J4:J35)","v":0},null,{"$f":"SUM(K4:K35)-SUM(L4:L35)","v":0},null,{"$f":"SUM(M4:M35)-SUM(N4:N35)","v":0},null,{"$f":"SUM(O4:O35)-SUM(P4:P35)","v":0},null,{"$f":"SUM(Q4:Q35)-SUM(R4:R35)","v":0},null,{"$f":"SUM(S4:S35)-SUM(T4:T35)","v":0},null,{"$f":"SUM(U4:U35)-SUM(V4:V35)","v":0},null,{"$f":"SUM(W4:W35)-SUM(X4:X35)","v":0},null,{"$f":"SUM(Y4:Y35)-SUM(Z4:Z35)","v":0},null,{"$f":"SUM(AA4:AA35)-SUM(AB4:AB35)","v":0},null,{"$f":"SUM(AC4:AC35)-SUM(AD4:AD35)","v":0},null,{"$f":"SUM(AE4:AE35)-SUM(AF4:AF35)","v":0},null,{"$f":"SUM(AG4:AG35)-SUM(AH4:AH35)","v":0},null,{"$f":"SUM(AI4:AI35)-SUM(AJ4:AJ35)","v":0},null,{"$f":"SUM(AK4:AK35)-SUM(AL4:AL35)","v":0}]

{"sheet":"TRANSPORTEURS_SEPTEMBRE","index":23,"n_rows":36,"n_cols":38,"rows_kept":36,"cut":false,"hidden":false,"merged":[[1,12,1,13],[1,2,1,3],[1,4,1,5],[1,6,1,7],[1,8,1,9],[1,10,1,11],[1,36,1,37],[1,14,1,15],[1,16,1,17],[1,18,1,19],[1,20,1,21],[1,22,1,23],[1,24,1,25],[1,26,1,27],[1,28,1,29],[1,30,1,31],[1,32,1,33],[1,34,1,35]]}
[]
[null,"TRANSPORTEURS","STAM 82",null,"DENJEAN",null,"BARRAU (T.44)",null,"TRESSERRAS",null,"LA LAURAGAISE",null,"JAMMET",null,"DW TRANS",null,"TDS",null,"BELLEVILLE",null,"RANDON",null,"OLANO 82",null,"FAU",null,"GALTIER",null,"LACTALIS 47",null,"ARNAUD 47",null,"LADOUX",null,"LAUQUE",null,"L'OURS BLANC"]
[null,"Dates","C","R","C","R","C","R","C","R","C","R","C","R","C","R","C","R","C","R","C","R","C","R","C","R","C","R","C","R","C","R","C","R","C","R","C","R"]
[null,"REPORT M-1"]
[null,"2017-09-01"]
[null,"2017-09-02"]
[null,"2017-09-03"]
[null,"2017-09-04"]
[null,"2017-09-05"]
[null,"2017-09-06"]
[null,"2017-09-07"]
[null,"2017-09-08"]
[null,"2017-09-09"]
[null,"2017-09-10"]
[null,"2017-09-11"]
[null,"2017-09-12"]
[null,"2017-09-13"]
[null,"2017-09-14"]
[null,"2017-09-15"]
[null,"2017-09-16"]
[null,"2017-09-17"]
[null,"2017-09-18"]
[null,"2017-09-19"]
[null,"2017-09-20"]
[null,"2017-09-21"]
[null,"2017-09-22"]
[null,"2017-09-23"]
[null,"2017-09-24"]
[null,"2017-09-25"]
[null,"2017-09-26"]
[null,"2017-09-27"]
[null,"2017-09-28"]
[null,"2017-09-29"]
[null,"2017-09-30"]
[]
[null,"TOTAL A NOUS DEVOIR",{"$f":"SUM(C4:C35)-SUM(D4:D35)","v":0},null,{"$f":"SUM(E4:E35)-SUM(F4:F35)","v":0},null,{"$f":"SUM(G4:G35)-SUM(H4:H35)","v":0},null,{"$f":"SUM(I4:I35)-SUM(J4:J35)","v":0},null,{"$f":"SUM(K4:K35)-SUM(L4:L35)","v":0},null,{"$f":"SUM(M4:M35)-SUM(N4:N35)","v":0},null,{"$f":"SUM(O4:O35)-SUM(P4:P35)","v":0},null,{"$f":"SUM(Q4:Q35)-SUM(R4:R35)","v":0},null,{"$f":"SUM(S4:S35)-SUM(T4:T35)","v":0},null,{"$f":"SUM(U4:U35)-SUM(V4:V35)","v":0},null,{"$f":"SUM(W4:W35)-SUM(X4:X35)","v":0},null,{"$f":"SUM(Y4:Y35)-SUM(Z4:Z35)","v":0},null,{"$f":"SUM(AA4:AA35)-SUM(AB4:AB35)","v":0},null,{"$f":"SUM(AC4:AC35)-SUM(AD4:AD35)","v":0},null,{"$f":"SUM(AE4:AE35)-SUM(AF4:AF35)","v":0},null,{"$f":"SUM(AG4:AG35)-SUM(AH4:AH35)","v":0},null,{"$f":"SUM(AI4:AI35)-SUM(AJ4:AJ35)","v":0},null,{"$f":"SUM(AK4:AK35)-SUM(AL4:AL35)","v":0}]

{"sheet":"TRANSPORTEURS_OCTOBRE","index":24,"n_rows":36,"n_cols":38,"rows_kept":36,"cut":false,"hidden":false,"merged":[[1,12,1,13],[1,2,1,3],[1,4,1,5],[1,6,1,7],[1,8,1,9],[1,10,1,11],[1,36,1,37],[1,14,1,15],[1,16,1,17],[1,18,1,19],[1,20,1,21],[1,22,1,23],[1,24,1,25],[1,26,1,27],[1,28,1,29],[1,30,1,31],[1,32,1,33],[1,34,1,35]]}
[]
[null,"TRANSPORTEURS","STAM 82",null,"DENJEAN",null,"BARRAU (T.44)",null,"TRESSERRAS",null,"LA LAURAGAISE",null,"JAMMET",null,"DW TRANS",null,"TDS",null,"BELLEVILLE",null,"RANDON",null,"OLANO 82",null,"FAU",null,"GALTIER",null,"LACTALIS 47",null,"ARNAUD 47",null,"LADOUX",null,"LAUQUE",null,"L'OURS BLANC"]
[null,"Dates","C","R","C","R","C","R","C","R","C","R","C","R","C","R","C","R","C","R","C","R","C","R","C","R","C","R","C","R","C","R","C","R","C","R","C","R"]
[null,"REPORT M-1"]
[null,"2017-10-01"]
[null,"2017-10-02"]
[null,"2017-10-03"]
[null,"2017-10-04"]
[null,"2017-10-05"]
[null,"2017-10-06"]
[null,"2017-10-07"]
[null,"2017-10-08"]
[null,"2017-10-09"]
[null,"2017-10-10"]
[null,"2017-10-11"]
[null,"2017-10-12"]
[null,"2017-10-13"]
[null,"2017-10-14"]
[null,"2017-10-15"]
[null,"2017-10-16"]
[null,"2017-10-17"]
[null,"2017-10-18"]
[null,"2017-10-19"]
[null,"2017-10-20"]
[null,"2017-10-21"]
[null,"2017-10-22"]
[null,"2017-10-23"]
[null,"2017-10-24"]
[null,"2017-10-25"]
[null,"2017-10-26"]
[null,"2017-10-27"]
[null,"2017-10-28"]
[null,"2017-10-29"]
[null,"2017-10-30"]
[null,"2017-10-31"]
[null,"TOTAL A NOUS DEVOIR",{"$f":"SUM(C4:C35)-SUM(D4:D35)","v":0},null,{"$f":"SUM(E4:E35)-SUM(F4:F35)","v":0},null,{"$f":"SUM(G4:G35)-SUM(H4:H35)","v":0},null,{"$f":"SUM(I4:I35)-SUM(J4:J35)","v":0},null,{"$f":"SUM(K4:K35)-SUM(L4:L35)","v":0},null,{"$f":"SUM(M4:M35)-SUM(N4:N35)","v":0},null,{"$f":"SUM(O4:O35)-SUM(P4:P35)","v":0},null,{"$f":"SUM(Q4:Q35)-SUM(R4:R35)","v":0},null,{"$f":"SUM(S4:S35)-SUM(T4:T35)","v":0},null,{"$f":"SUM(U4:U35)-SUM(V4:V35)","v":0},null,{"$f":"SUM(W4:W35)-SUM(X4:X35)","v":0},null,{"$f":"SUM(Y4:Y35)-SUM(Z4:Z35)","v":0},null,{"$f":"SUM(AA4:AA35)-SUM(AB4:AB35)","v":0},null,{"$f":"SUM(AC4:AC35)-SUM(AD4:AD35)","v":0},null,{"$f":"SUM(AE4:AE35)-SUM(AF4:AF35)","v":0},null,{"$f":"SUM(AG4:AG35)-SUM(AH4:AH35)","v":0},null,{"$f":"SUM(AI4:AI35)-SUM(AJ4:AJ35)","v":0},null,{"$f":"SUM(AK4:AK35)-SUM(AL4:AL35)","v":0}]

{"sheet":"TRANSPORTEURS_NOVEMBRE","index":25,"n_rows":36,"n_cols":38,"rows_kept":36,"cut":false,"hidden":false,"merged":[[1,12,1,13],[1,2,1,3],[1,4,1,5],[1,6,1,7],[1,8,1,9],[1,10,1,11],[1,36,1,37],[1,14,1,15],[1,16,1,17],[1,18,1,19],[1,20,1,21],[1,22,1,23],[1,24,1,25],[1,26,1,27],[1,28,1,29],[1,30,1,31],[1,32,1,33],[1,34,1,35]]}
[]
[null,"TRANSPORTEURS","STAM 82",null,"DENJEAN",null,"BARRAU (T.44)",null,"TRESSERRAS",null,"LA LAURAGAISE",null,"JAMMET",null,"DW TRANS",null,"TDS",null,"BELLEVILLE",null,"RANDON",null,"OLANO 82",null,"FAU",null,"GALTIER",null,"LACTALIS 47",null,"ARNAUD 47",null,"LADOUX",null,"LAUQUE",null,"L'OURS BLANC"]
[null,"Dates","C","R","C","R","C","R","C","R","C","R","C","R","C","R","C","R","C","R","C","R","C","R","C","R","C","R","C","R","C","R","C","R","C","R","C","R"]
[null,"REPORT M-1"]
[null,"2017-11-01"]
[null,"2017-11-02"]
[null,"2017-11-03"]
[null,"2017-11-04"]
[null,"2017-11-05"]
[null,"2017-11-06"]
[null,"2017-11-07"]
[null,"2017-11-08"]
[null,"2017-11-09"]
[null,"2017-11-10"]
[null,"2017-11-11"]
[null,"2017-11-12"]
[null,"2017-11-13"]
[null,"2017-11-14"]
[null,"2017-11-15"]
[null,"2017-11-16"]
[null,"2017-11-17"]
[null,"2017-11-18"]
[null,"2017-11-19"]
[null,"2017-11-20"]
[null,"2017-11-21"]
[null,"2017-11-22"]
[null,"2017-11-23"]
[null,"2017-11-24"]
[null,"2017-11-25"]
[null,"2017-11-26"]
[null,"2017-11-27"]
[null,"2017-11-28"]
[null,"2017-11-29"]
[null,"2017-11-30"]
[]
[null,"TOTAL A NOUS DEVOIR",{"$f":"SUM(C4:C35)-SUM(D4:D35)","v":0},null,{"$f":"SUM(E4:E35)-SUM(F4:F35)","v":0},null,{"$f":"SUM(G4:G35)-SUM(H4:H35)","v":0},null,{"$f":"SUM(I4:I35)-SUM(J4:J35)","v":0},null,{"$f":"SUM(K4:K35)-SUM(L4:L35)","v":0},null,{"$f":"SUM(M4:M35)-SUM(N4:N35)","v":0},null,{"$f":"SUM(O4:O35)-SUM(P4:P35)","v":0},null,{"$f":"SUM(Q4:Q35)-SUM(R4:R35)","v":0},null,{"$f":"SUM(S4:S35)-SUM(T4:T35)","v":0},null,{"$f":"SUM(U4:U35)-SUM(V4:V35)","v":0},null,{"$f":"SUM(W4:W35)-SUM(X4:X35)","v":0},null,{"$f":"SUM(Y4:Y35)-SUM(Z4:Z35)","v":0},null,{"$f":"SUM(AA4:AA35)-SUM(AB4:AB35)","v":0},null,{"$f":"SUM(AC4:AC35)-SUM(AD4:AD35)","v":0},null,{"$f":"SUM(AE4:AE35)-SUM(AF4:AF35)","v":0},null,{"$f":"SUM(AG4:AG35)-SUM(AH4:AH35)","v":0},null,{"$f":"SUM(AI4:AI35)-SUM(AJ4:AJ35)","v":0},null,{"$f":"SUM(AK4:AK35)-SUM(AL4:AL35)","v":0}]

{"sheet":"TRANSPORTEURS_DECEMBRE","index":26,"n_rows":36,"n_cols":38,"rows_kept":36,"cut":false,"hidden":false,"merged":[[1,12,1,13],[1,2,1,3],[1,4,1,5],[1,6,1,7],[1,8,1,9],[1,10,1,11],[1,36,1,37],[1,14,1,15],[1,16,1,17],[1,18,1,19],[1,20,1,21],[1,22,1,23],[1,24,1,25],[1,26,1,27],[1,28,1,29],[1,30,1,31],[1,32,1,33],[1,34,1,35]]}
[]
[null,"TRANSPORTEURS","STAM 82",null,"DENJEAN",null,"BARRAU (T.44)",null,"TRESSERRAS",null,"LA LAURAGAISE",null,"JAMMET",null,"DW TRANS",null,"TDS",null,"BELLEVILLE",null,"RANDON",null,"OLANO 82",null,"FAU",null,"GALTIER",null,"LACTALIS 47",null,"ARNAUD 47",null,"LADOUX",null,"LAUQUE",null,"L'OURS BLANC"]
[null,"Dates","C","R","C","R","C","R","C","R","C","R","C","R","C","R","C","R","C","R","C","R","C","R","C","R","C","R","C","R","C","R","C","R","C","R","C","R"]
[null,"REPORT M-1"]
[null,"2017-12-01"]
[null,"2017-12-02"]
[null,"2017-12-03"]
[null,"2017-12-04"]
[null,"2017-12-05"]
[null,"2017-12-06"]
[null,"2017-12-07"]
[null,"2017-12-08"]
[null,"2017-12-09"]
[null,"2017-12-10"]
[null,"2017-12-11"]
[null,"2017-12-12"]
[null,"2017-12-13"]
[null,"2017-12-14"]
[null,"2017-12-15"]
[null,"2017-12-16"]
[null,"2017-12-17"]
[null,"2017-12-18"]
[null,"2017-12-19"]
[null,"2017-12-20"]
[null,"2017-12-21"]
[null,"2017-12-22"]
[null,"2017-12-23"]
[null,"2017-12-24"]
[null,"2017-12-25"]
[null,"2017-12-26"]
[null,"2017-12-27"]
[null,"2017-12-28"]
[null,"2017-12-29"]
[null,"2017-12-30"]
[null,"2017-12-31"]
[null,"TOTAL A NOUS DEVOIR",{"$f":"SUM(C4:C35)-SUM(D4:D35)","v":0},null,{"$f":"SUM(E4:E35)-SUM(F4:F35)","v":0},null,{"$f":"SUM(G4:G35)-SUM(H4:H35)","v":0},null,{"$f":"SUM(I4:I35)-SUM(J4:J35)","v":0},null,{"$f":"SUM(K4:K35)-SUM(L4:L35)","v":0},null,{"$f":"SUM(M4:M35)-SUM(N4:N35)","v":0},null,{"$f":"SUM(O4:O35)-SUM(P4:P35)","v":0},null,{"$f":"SUM(Q4:Q35)-SUM(R4:R35)","v":0},null,{"$f":"SUM(S4:S35)-SUM(T4:T35)","v":0},null,{"$f":"SUM(U4:U35)-SUM(V4:V35)","v":0},null,{"$f":"SUM(W4:W35)-SUM(X4:X35)","v":0},null,{"$f":"SUM(Y4:Y35)-SUM(Z4:Z35)","v":0},null,{"$f":"SUM(AA4:AA35)-SUM(AB4:AB35)","v":0},null,{"$f":"SUM(AC4:AC35)-SUM(AD4:AD35)","v":0},null,{"$f":"SUM(AE4:AE35)-SUM(AF4:AF35)","v":0},null,{"$f":"SUM(AG4:AG35)-SUM(AH4:AH35)","v":0},null,{"$f":"SUM(AI4:AI35)-SUM(AJ4:AJ35)","v":0},null,{"$f":"SUM(AK4:AK35)-SUM(AL4:AL35)","v":0}]

{"sheet":"TMF34","index":27,"n_rows":0,"n_cols":0,"rows_kept":0,"cut":false,"hidden":true,"merged":[]}

{"sheet":"TMF47","index":28,"n_rows":0,"n_cols":0,"rows_kept":0,"cut":false,"hidden":true,"merged":[]}

{"sheet":"TMF34_JANVIER","index":29,"n_rows":33,"n_cols":5,"rows_kept":33,"cut":false,"hidden":false,"merged":[]}
["Date","Numéro de bon","Palettes chargement","Palettes déchargement","Solde"]
["2017-01-01",null,null,null,{"$f":"C2-D2","v":0}]
["2017-01-02",null,null,null,{"$f":"C3-D3","v":0}]
["2017-01-03",null,null,null,{"$f":"C4-D4","v":0}]
["2017-01-04",null,null,null,0]
["2017-01-05",null,null,null,0]
["2017-01-06",null,null,null,0]
["2017-01-07",null,null,null,0]
["2017-01-08",null,null,null,0]
["2017-01-09",null,null,null,0]
["2017-01-10",null,null,null,0]
["2017-01-11",null,null,null,0]
["2017-01-12",null,null,null,0]
["2017-01-13",null,null,null,0]
["2017-01-14",null,null,null,0]
["2017-01-15",null,null,null,0]
["2017-01-16",null,null,null,0]
["2017-01-17",null,null,null,0]
["2017-01-18",null,null,null,0]
["2017-01-19",null,null,null,0]
["2017-01-20",null,null,null,0]
["2017-01-21",null,null,null,0]
["2017-01-22",null,null,null,0]
["2017-01-23",null,null,null,0]
["2017-01-24",null,null,null,0]
["2017-01-25",null,null,null,0]
["2017-01-26",null,null,null,0]
["2017-01-27",null,null,null,0]
["2017-01-28",null,null,null,0]
["2017-01-29",null,null,null,0]
["2017-01-30",null,null,null,0]
["2017-01-31",null,null,null,0]
["TOTAL A NOUS DEVOIR",null,{"$f":"SUM(E2:E32)","v":0}]

{"sheet":"TMF34_AVRIL","index":30,"n_rows":33,"n_cols":5,"rows_kept":33,"cut":false,"hidden":false,"merged":[]}
["Date","Numéro de bon","Palettes chargement","Palettes déchargement","Solde"]
["2017-01-01",null,null,null,{"$f":"C2-D2","v":0}]
["2017-01-02",null,null,null,{"$f":"C3-D3","v":0}]
["2017-01-03",null,null,null,{"$f":"C4-D4","v":0}]
["2017-01-04",null,null,null,0]
["2017-01-05",null,null,null,0]
["2017-01-06",null,null,null,0]
["2017-01-07",null,null,null,0]
["2017-01-08",null,null,null,0]
["2017-01-09",null,null,null,0]
["2017-01-10",null,null,null,0]
["2017-01-11",null,null,null,0]
["2017-01-12",null,null,null,0]
["2017-01-13",null,null,null,0]
["2017-01-14",null,null,null,0]
["2017-01-15",null,null,null,0]
["2017-01-16",null,null,null,0]
["2017-01-17",null,null,null,0]
["2017-01-18",null,null,null,0]
["2017-01-19",null,null,null,0]
["2017-01-20",null,null,null,0]
["2017-01-21",null,null,null,0]
["2017-01-22",null,null,null,0]
["2017-01-23",null,null,null,0]
["2017-01-24",null,null,null,0]
["2017-01-25",null,null,null,0]
["2017-01-26",null,null,null,0]
["2017-01-27",null,null,null,0]
["2017-01-28",null,null,null,0]
["2017-01-29",null,null,null,0]
["2017-01-30",null,null,null,0]
["2017-01-31",null,null,null,0]
["TOTAL A NOUS DEVOIR",null,{"$f":"SUM(E2:E32)","v":0}]

{"sheet":"TMF34_MAI","index":31,"n_rows":33,"n_cols":5,"rows_kept":33,"cut":false,"hidden":false,"merged":[]}
["Date","Numéro de bon","Palettes chargement","Palettes déchargement","Solde"]
["2017-01-01",null,null,null,{"$f":"C2-D2","v":0}]
["2017-01-02",null,null,null,{"$f":"C3-D3","v":0}]
["2017-01-03",null,null,null,{"$f":"C4-D4","v":0}]
["2017-01-04",null,null,null,0]
["2017-01-05",null,null,null,0]
["2017-01-06",null,null,null,0]
["2017-01-07",null,null,null,0]
["2017-01-08",null,null,null,0]
["2017-01-09",null,null,null,0]
["2017-01-10",null,null,null,0]
["2017-01-11",null,null,null,0]
["2017-01-12",null,null,null,0]
["2017-01-13",null,null,null,0]
["2017-01-14",null,null,null,0]
["2017-01-15",null,null,null,0]
["2017-01-16",null,null,null,0]
["2017-01-17",null,null,null,0]
["2017-01-18",null,null,null,0]
["2017-01-19",null,null,null,0]
["2017-01-20",null,null,null,0]
["2017-01-21",null,null,null,0]
["2017-01-22",null,null,null,0]
["2017-01-23",null,null,null,0]
["2017-01-24",null,null,null,0]
["2017-01-25",null,null,null,0]
["2017-01-26",null,null,null,0]
["2017-01-27",null,null,null,0]
["2017-01-28",null,null,null,0]
["2017-01-29",null,null,null,0]
["2017-01-30",null,null,null,0]
["2017-01-31",null,null,null,0]
["TOTAL A NOUS DEVOIR",null,{"$f":"SUM(E2:E32)","v":0}]

{"sheet":"TMF34_JUIN","index":32,"n_rows":33,"n_cols":5,"rows_kept":33,"cut":false,"hidden":false,"merged":[]}
["Date","Numéro de bon","Palettes chargement","Palettes déchargement","Solde"]
["2017-01-01",null,null,null,{"$f":"C2-D2","v":0}]
["2017-01-02",null,null,null,{"$f":"C3-D3","v":0}]
["2017-01-03",null,null,null,{"$f":"C4-D4","v":0}]
["2017-01-04",null,null,null,0]
["2017-01-05",null,null,null,0]
["2017-01-06",null,null,null,0]
["2017-01-07",null,null,null,0]
["2017-01-08",null,null,null,0]
["2017-01-09",null,null,null,0]
["2017-01-10",null,null,null,0]
["2017-01-11",null,null,null,0]
["2017-01-12",null,null,null,0]
["2017-01-13",null,null,null,0]
["2017-01-14",null,null,null,0]
["2017-01-15",null,null,null,0]
["2017-01-16",null,null,null,0]
["2017-01-17",null,null,null,0]
["2017-01-18",null,null,null,0]
["2017-01-19",null,null,null,0]
["2017-01-20",null,null,null,0]
["2017-01-21",null,null,null,0]
["2017-01-22",null,null,null,0]
["2017-01-23",null,null,null,0]
["2017-01-24",null,null,null,0]
["2017-01-25",null,null,null,0]
["2017-01-26",null,null,null,0]
["2017-01-27",null,null,null,0]
["2017-01-28",null,null,null,0]
["2017-01-29",null,null,null,0]
["2017-01-30",null,null,null,0]
["2017-01-31",null,null,null,0]
["TOTAL A NOUS DEVOIR",null,{"$f":"SUM(E2:E32)","v":0}]

{"sheet":"TMF34_JUILLET","index":33,"n_rows":33,"n_cols":5,"rows_kept":33,"cut":false,"hidden":false,"merged":[]}
["Date","Numéro de bon","Palettes chargement","Palettes déchargement","Solde"]
["2017-01-01",null,null,null,{"$f":"C2-D2","v":0}]
["2017-01-02",null,null,null,{"$f":"C3-D3","v":0}]
["2017-01-03",null,null,null,{"$f":"C4-D4","v":0}]
["2017-01-04",null,null,null,0]
["2017-01-05",null,null,null,0]
["2017-01-06",null,null,null,0]
["2017-01-07",null,null,null,0]
["2017-01-08",null,null,null,0]
["2017-01-09",null,null,null,0]
["2017-01-10",null,null,null,0]
["2017-01-11",null,null,null,0]
["2017-01-12",null,null,null,0]
["2017-01-13",null,null,null,0]
["2017-01-14",null,null,null,0]
["2017-01-15",null,null,null,0]
["2017-01-16",null,null,null,0]
["2017-01-17",null,null,null,0]
["2017-01-18",null,null,null,0]
["2017-01-19",null,null,null,0]
["2017-01-20",null,null,null,0]
["2017-01-21",null,null,null,0]
["2017-01-22",null,null,null,0]
["2017-01-23",null,null,null,0]
["2017-01-24",null,null,null,0]
["2017-01-25",null,null,null,0]
["2017-01-26",null,null,null,0]
["2017-01-27",null,null,null,0]
["2017-01-28",null,null,null,0]
["2017-01-29",null,null,null,0]
["2017-01-30",null,null,null,0]
["2017-01-31",null,null,null,0]
["TOTAL A NOUS DEVOIR",null,{"$f":"SUM(E2:E32)","v":0}]

{"sheet":"TMF34_AOUT","index":34,"n_rows":33,"n_cols":5,"rows_kept":33,"cut":false,"hidden":false,"merged":[]}
["Date","Numéro de bon","Palettes chargement","Palettes déchargement","Solde"]
["2017-01-01",null,null,null,{"$f":"C2-D2","v":0}]
["2017-01-02",null,null,null,{"$f":"C3-D3","v":0}]
["2017-01-03",null,null,null,{"$f":"C4-D4","v":0}]
["2017-01-04",null,null,null,0]
["2017-01-05",null,null,null,0]
["2017-01-06",null,null,null,0]
["2017-01-07",null,null,null,0]
["2017-01-08",null,null,null,0]
["2017-01-09",null,null,null,0]
["2017-01-10",null,null,null,0]
["2017-01-11",null,null,null,0]
["2017-01-12",null,null,null,0]
["2017-01-13",null,null,null,0]
["2017-01-14",null,null,null,0]
["2017-01-15",null,null,null,0]
["2017-01-16",null,null,null,0]
["2017-01-17",null,null,null,0]
["2017-01-18",null,null,null,0]
["2017-01-19",null,null,null,0]
["2017-01-20",null,null,null,0]
["2017-01-21",null,null,null,0]
["2017-01-22",null,null,null,0]
["2017-01-23",null,null,null,0]
["2017-01-24",null,null,null,0]
["2017-01-25",null,null,null,0]
["2017-01-26",null,null,null,0]
["2017-01-27",null,null,null,0]
["2017-01-28",null,null,null,0]
["2017-01-29",null,null,null,0]
["2017-01-30",null,null,null,0]
["2017-01-31",null,null,null,0]
["TOTAL A NOUS DEVOIR",null,{"$f":"SUM(E2:E32)","v":0}]

{"sheet":"TMF34_SEPTEMBRE","index":35,"n_rows":33,"n_cols":6,"rows_kept":33,"cut":false,"hidden":false,"merged":[]}
[null,"Date","Numéro de bon","Palettes chargement","Palettes déchargement","Solde"]
[null,"2017-01-01",null,null,null,{"$f":"D2-E2","v":0}]
[null,"2017-01-02",null,null,null,{"$f":"D3-E3","v":0}]
[null,"2017-01-03",null,null,null,{"$f":"D4-E4","v":0}]
[null,"2017-01-04",null,null,null,0]
[null,"2017-01-05",null,null,null,0]
[null,"2017-01-06",null,null,null,0]
[null,"2017-01-07",null,null,null,0]
[null,"2017-01-08",null,null,null,0]
[null,"2017-01-09",null,null,null,0]
[null,"2017-01-10",null,null,null,0]
[null,"2017-01-11",null,null,null,0]
[null,"2017-01-12",null,null,null,0]
[null,"2017-01-13",null,null,null,0]
[null,"2017-01-14",null,null,null,0]
[null,"2017-01-15",null,null,null,0]
[null,"2017-01-16",null,null,null,0]
[null,"2017-01-17",null,null,null,0]
[null,"2017-01-18",null,null,null,0]
[null,"2017-01-19",null,null,null,0]
[null,"2017-01-20",null,null,null,0]
[null,"2017-01-21",null,null,null,0]
[null,"2017-01-22",null,null,null,0]
[null,"2017-01-23",null,null,null,0]
[null,"2017-01-24",null,null,null,0]
[null,"2017-01-25",null,null,null,0]
[null,"2017-01-26",null,null,null,0]
[null,"2017-01-27",null,null,null,0]
[null,"2017-01-28",null,null,null,0]
[null,"2017-01-29",null,null,null,0]
[null,"2017-01-30",null,null,null,0]
[null,"2017-01-31",null,null,null,0]
[null,"TOTAL A NOUS DEVOIR",null,{"$f":"SUM(F2:F32)","v":0}]

{"sheet":"TMF34_OCTOBRE","index":36,"n_rows":33,"n_cols":5,"rows_kept":33,"cut":false,"hidden":false,"merged":[]}
["Date","Numéro de bon","Palettes chargement","Palettes déchargement","Solde"]
["2017-01-01",null,null,null,{"$f":"C2-D2","v":0}]
["2017-01-02",null,null,null,{"$f":"C3-D3","v":0}]
["2017-01-03",null,null,null,{"$f":"C4-D4","v":0}]
["2017-01-04",null,null,null,0]
["2017-01-05",null,null,null,0]
["2017-01-06",null,null,null,0]
["2017-01-07",null,null,null,0]
["2017-01-08",null,null,null,0]
["2017-01-09",null,null,null,0]
["2017-01-10",null,null,null,0]
["2017-01-11",null,null,null,0]
["2017-01-12",null,null,null,0]
["2017-01-13",null,null,null,0]
["2017-01-14",null,null,null,0]
["2017-01-15",null,null,null,0]
["2017-01-16",null,null,null,0]
["2017-01-17",null,null,null,0]
["2017-01-18",null,null,null,0]
["2017-01-19",null,null,null,0]
["2017-01-20",null,null,null,0]
["2017-01-21",null,null,null,0]
["2017-01-22",null,null,null,0]
["2017-01-23",null,null,null,0]
["2017-01-24",null,null,null,0]
["2017-01-25",null,null,null,0]
["2017-01-26",null,null,null,0]
["2017-01-27",null,null,null,0]
["2017-01-28",null,null,null,0]
["2017-01-29",null,null,null,0]
["2017-01-30",null,null,null,0]
["2017-01-31",null,null,null,0]
["TOTAL A NOUS DEVOIR",null,{"$f":"SUM(E2:E32)","v":0}]

{"sheet":"TMF34_NOVEMBRE","index":37,"n_rows":33,"n_cols":5,"rows_kept":33,"cut":false,"hidden":false,"merged":[]}
["Date","Numéro de bon","Palettes chargement","Palettes déchargement","Solde"]
["2017-01-01",null,null,null,{"$f":"C2-D2","v":0}]
["2017-01-02",null,null,null,{"$f":"C3-D3","v":0}]
["2017-01-03",null,null,null,{"$f":"C4-D4","v":0}]
["2017-01-04",null,null,null,0]
["2017-01-05",null,null,null,0]
["2017-01-06",null,null,null,0]
["2017-01-07",null,null,null,0]
["2017-01-08",null,null,null,0]
["2017-01-09",null,null,null,0]
["2017-01-10",null,null,null,0]
["2017-01-11",null,null,null,0]
["2017-01-12",null,null,null,0]
["2017-01-13",null,null,null,0]
["2017-01-14",null,null,null,0]
["2017-01-15",null,null,null,0]
["2017-01-16",null,null,null,0]
["2017-01-17",null,null,null,0]
["2017-01-18",null,null,null,0]
["2017-01-19",null,null,null,0]
["2017-01-20",null,null,null,0]
["2017-01-21",null,null,null,0]
["2017-01-22",null,null,null,0]
["2017-01-23",null,null,null,0]
["2017-01-24",null,null,null,0]
["2017-01-25",null,null,null,0]
["2017-01-26",null,null,null,0]
["2017-01-27",null,null,null,0]
["2017-01-28",null,null,null,0]
["2017-01-29",null,null,null,0]
["2017-01-30",null,null,null,0]
["2017-01-31",null,null,null,0]
["TOTAL A NOUS DEVOIR",null,{"$f":"SUM(E2:E32)","v":0}]

{"sheet":"TMF34_DECEMBRE","index":38,"n_rows":33,"n_cols":5,"rows_kept":33,"cut":false,"hidden":false,"merged":[]}
["Date","Numéro de bon","Palettes chargement","Palettes déchargement","Solde"]
["2017-01-01",null,null,null,{"$f":"C2-D2","v":0}]
["2017-01-02",null,null,null,{"$f":"C3-D3","v":0}]
["2017-01-03",null,null,null,{"$f":"C4-D4","v":0}]
["2017-01-04",null,null,null,0]
["2017-01-05",null,null,null,0]
["2017-01-06",null,null,null,0]
["2017-01-07",null,null,null,0]
["2017-01-08",null,null,null,0]
["2017-01-09",null,null,null,0]
["2017-01-10",null,null,null,0]
["2017-01-11",null,null,null,0]
["2017-01-12",null,null,null,0]
["2017-01-13",null,null,null,0]
["2017-01-14",null,null,null,0]
["2017-01-15",null,null,null,0]
["2017-01-16",null,null,null,0]
["2017-01-17",null,null,null,0]
["2017-01-18",null,null,null,0]
["2017-01-19",null,null,null,0]
["2017-01-20",null,null,null,0]
["2017-01-21",null,null,null,0]
["2017-01-22",null,null,null,0]
["2017-01-23",null,null,null,0]
["2017-01-24",null,null,null,0]
["2017-01-25",null,null,null,0]
["2017-01-26",null,null,null,0]
["2017-01-27",null,null,null,0]
["2017-01-28",null,null,null,0]
["2017-01-29",null,null,null,0]
["2017-01-30",null,null,null,0]
["2017-01-31",null,null,null,0]
["TOTAL A NOUS DEVOIR",null,{"$f":"SUM(E2:E32)","v":0}]

{"sheet":"TMF34_MARS","index":39,"n_rows":33,"n_cols":8,"rows_kept":33,"cut":false,"hidden":false,"merged":[]}
[null,null,null,"Date","Numéro de bon","Palettes chargement","Palettes déchargement","Solde"]
[null,null,null,"2017-01-01",null,null,null,{"$f":"F2-G2","v":0}]
[null,null,null,"2017-01-02",null,null,null,{"$f":"F3-G3","v":0}]
[null,null,null,"2017-01-03",null,null,null,{"$f":"F4-G4","v":0}]
[null,null,null,"2017-01-04",null,null,null,0]
[null,null,null,"2017-01-05",null,null,null,0]
[null,null,null,"2017-01-06",null,null,null,0]
[null,null,null,"2017-01-07",null,null,null,0]
[null,null,null,"2017-01-08",null,null,null,0]
[null,null,null,"2017-01-09",null,null,null,0]
[null,null,null,"2017-01-10",null,null,null,0]
[null,null,null,"2017-01-11",null,null,null,0]
[null,null,null,"2017-01-12",null,null,null,0]
[null,null,null,"2017-01-13",null,null,null,0]
[null,null,null,"2017-01-14",null,null,null,0]
[null,null,null,"2017-01-15",null,null,null,0]
[null,null,null,"2017-01-16",null,null,null,0]
[null,null,null,"2017-01-17",null,null,null,0]
[null,null,null,"2017-01-18",null,null,null,0]
[null,null,null,"2017-01-19",null,null,null,0]
[null,null,null,"2017-01-20",null,null,null,0]
[null,null,null,"2017-01-21",null,null,null,0]
[null,null,null,"2017-01-22",null,null,null,0]
[null,null,null,"2017-01-23",null,null,null,0]
[null,null,null,"2017-01-24",null,null,null,0]
[null,null,null,"2017-01-25",null,null,null,0]
[null,null,null,"2017-01-26",null,null,null,0]
[null,null,null,"2017-01-27",null,null,null,0]
[null,null,null,"2017-01-28",null,null,null,0]
[null,null,null,"2017-01-29",null,null,null,0]
[null,null,null,"2017-01-30",null,null,null,0]
[null,null,null,"2017-01-31",null,null,null,0]
[null,null,null,"TOTAL A NOUS DEVOIR",null,{"$f":"SUM(H2:H32)","v":0}]

{"sheet":"TMF34_FEVRIER","index":40,"n_rows":33,"n_cols":5,"rows_kept":33,"cut":false,"hidden":false,"merged":[]}
["Date","Numéro de bon","Palettes chargement","Palettes déchargement","Solde"]
["2017-01-01",null,null,null,{"$f":"C2-D2","v":0}]
["2017-01-02",null,null,null,{"$f":"C3-D3","v":0}]
["2017-01-03",null,null,null,{"$f":"C4-D4","v":0}]
["2017-01-04",null,null,null,0]
["2017-01-05",null,null,null,0]
["2017-01-06",null,null,null,0]
["2017-01-07",null,null,null,0]
["2017-01-08",null,null,null,0]
["2017-01-09",null,null,null,0]
["2017-01-10",null,null,null,0]
["2017-01-11",null,null,null,0]
["2017-01-12",null,null,null,0]
["2017-01-13",null,null,null,0]
["2017-01-14",null,null,null,0]
["2017-01-15",null,null,null,0]
["2017-01-16",null,null,null,0]
["2017-01-17",null,null,null,0]
["2017-01-18",null,null,null,0]
["2017-01-19",null,null,null,0]
["2017-01-20",null,null,null,0]
["2017-01-21",null,null,null,0]
["2017-01-22",null,null,null,0]
["2017-01-23",null,null,null,0]
["2017-01-24",null,null,null,0]
["2017-01-25",null,null,null,0]
["2017-01-26",null,null,null,0]
["2017-01-27",null,null,null,0]
["2017-01-28",null,null,null,0]
["2017-01-29",null,null,null,0]
["2017-01-30",null,null,null,0]
["2017-01-31",null,null,null,0]
["TOTAL A NOUS DEVOIR",null,{"$f":"SUM(E2:E32)","v":0}]

{"sheet":"TMF47_DECEMBRE","index":41,"n_rows":33,"n_cols":5,"rows_kept":33,"cut":false,"hidden":false,"merged":[]}
["Date","Numéro de bon","Palettes chargement","Palettes déchargement","Solde"]
["2017-01-01",null,null,null,{"$f":"C2-D2","v":0}]
["2017-01-02",null,null,null,{"$f":"C3-D3","v":0}]
["2017-01-03",null,null,null,{"$f":"C4-D4","v":0}]
["2017-01-04",null,null,null,0]
["2017-01-05",null,null,null,0]
["2017-01-06",null,null,null,0]
["2017-01-07",null,null,null,0]
["2017-01-08",null,null,null,0]
["2017-01-09",null,null,null,0]
["2017-01-10",null,null,null,0]
["2017-01-11",null,null,null,0]
["2017-01-12",null,null,null,0]
["2017-01-13",null,null,null,0]
["2017-01-14",null,null,null,0]
["2017-01-15",null,null,null,0]
["2017-01-16",null,null,null,0]
["2017-01-17",null,null,null,0]
["2017-01-18",null,null,null,0]
["2017-01-19",null,null,null,0]
["2017-01-20",null,null,null,0]
["2017-01-21",null,null,null,0]
["2017-01-22",null,null,null,0]
["2017-01-23",null,null,null,0]
["2017-01-24",null,null,null,0]
["2017-01-25",null,null,null,0]
["2017-01-26",null,null,null,0]
["2017-01-27",null,null,null,0]
["2017-01-28",null,null,null,0]
["2017-01-29",null,null,null,0]
["2017-01-30",null,null,null,0]
["2017-01-31",null,null,null,0]
["TOTAL A NOUS DEVOIR",null,{"$f":"SUM(E2:E32)","v":0}]

{"sheet":"TMF47_NOVEMBRE","index":42,"n_rows":33,"n_cols":5,"rows_kept":33,"cut":false,"hidden":false,"merged":[]}
["Date","Numéro de bon","Palettes chargement","Palettes déchargement","Solde"]
["2017-01-01",null,null,null,{"$f":"C2-D2","v":0}]
["2017-01-02",null,null,null,{"$f":"C3-D3","v":0}]
["2017-01-03",null,null,null,{"$f":"C4-D4","v":0}]
["2017-01-04",null,null,null,0]
["2017-01-05",null,null,null,0]
["2017-01-06",null,null,null,0]
["2017-01-07",null,null,null,0]
["2017-01-08",null,null,null,0]
["2017-01-09",null,null,null,0]
["2017-01-10",null,null,null,0]
["2017-01-11",null,null,null,0]
["2017-01-12",null,null,null,0]
["2017-01-13",null,null,null,0]
["2017-01-14",null,null,null,0]
["2017-01-15",null,null,null,0]
["2017-01-16",null,null,null,0]
["2017-01-17",null,null,null,0]
["2017-01-18",null,null,null,0]
["2017-01-19",null,null,null,0]
["2017-01-20",null,null,null,0]
["2017-01-21",null,null,null,0]
["2017-01-22",null,null,null,0]
["2017-01-23",null,null,null,0]
["2017-01-24",null,null,null,0]
["2017-01-25",null,null,null,0]
["2017-01-26",null,null,null,0]
["2017-01-27",null,null,null,0]
["2017-01-28",null,null,null,0]
["2017-01-29",null,null,null,0]
["2017-01-30",null,null,null,0]
["2017-01-31",null,null,null,0]
["TOTAL A NOUS DEVOIR",null,{"$f":"SUM(E2:E32)","v":0}]

{"sheet":"TMF47_OCTOBRE","index":43,"n_rows":33,"n_cols":5,"rows_kept":33,"cut":false,"hidden":false,"merged":[]}
["Date","Numéro de bon","Palettes chargement","Palettes déchargement","Solde"]
["2017-01-01",null,null,null,{"$f":"C2-D2","v":0}]
["2017-01-02",null,null,null,{"$f":"C3-D3","v":0}]
["2017-01-03",null,null,null,{"$f":"C4-D4","v":0}]
["2017-01-04",null,null,null,0]
["2017-01-05",null,null,null,0]
["2017-01-06",null,null,null,0]
["2017-01-07",null,null,null,0]
["2017-01-08",null,null,null,0]
["2017-01-09",null,null,null,0]
["2017-01-10",null,null,null,0]
["2017-01-11",null,null,null,0]
["2017-01-12",null,null,null,0]
["2017-01-13",null,null,null,0]
["2017-01-14",null,null,null,0]
["2017-01-15",null,null,null,0]
["2017-01-16",null,null,null,0]
["2017-01-17",null,null,null,0]
["2017-01-18",null,null,null,0]
["2017-01-19",null,null,null,0]
["2017-01-20",null,null,null,0]
["2017-01-21",null,null,null,0]
["2017-01-22",null,null,null,0]
["2017-01-23",null,null,null,0]
["2017-01-24",null,null,null,0]
["2017-01-25",null,null,null,0]
["2017-01-26",null,null,null,0]
["2017-01-27",null,null,null,0]
["2017-01-28",null,null,null,0]
["2017-01-29",null,null,null,0]
["2017-01-30",null,null,null,0]
["2017-01-31",null,null,null,0]
["TOTAL A NOUS DEVOIR",null,{"$f":"SUM(E2:E32)","v":0}]

{"sheet":"TMF47_SEPTEMBRE","index":44,"n_rows":33,"n_cols":5,"rows_kept":33,"cut":false,"hidden":false,"merged":[]}
["Date","Numéro de bon","Palettes chargement","Palettes déchargement","Solde"]
["2017-01-01",null,null,null,{"$f":"C2-D2","v":0}]
["2017-01-02",null,null,null,{"$f":"C3-D3","v":0}]
["2017-01-03",null,null,null,{"$f":"C4-D4","v":0}]
["2017-01-04",null,null,null,0]
["2017-01-05",null,null,null,0]
["2017-01-06",null,null,null,0]
["2017-01-07",null,null,null,0]
["2017-01-08",null,null,null,0]
["2017-01-09",null,null,null,0]
["2017-01-10",null,null,null,0]
["2017-01-11",null,null,null,0]
["2017-01-12",null,null,null,0]
["2017-01-13",null,null,null,0]
["2017-01-14",null,null,null,0]
["2017-01-15",null,null,null,0]
["2017-01-16",null,null,null,0]
["2017-01-17",null,null,null,0]
["2017-01-18",null,null,null,0]
["2017-01-19",null,null,null,0]
["2017-01-20",null,null,null,0]
["2017-01-21",null,null,null,0]
["2017-01-22",null,null,null,0]
["2017-01-23",null,null,null,0]
["2017-01-24",null,null,null,0]
["2017-01-25",null,null,null,0]
["2017-01-26",null,null,null,0]
["2017-01-27",null,null,null,0]
["2017-01-28",null,null,null,0]
["2017-01-29",null,null,null,0]
["2017-01-30",null,null,null,0]
["2017-01-31",null,null,null,0]
["TOTAL A NOUS DEVOIR",null,{"$f":"SUM(E2:E32)","v":0}]

{"sheet":"TMF47_AOUT","index":45,"n_rows":33,"n_cols":5,"rows_kept":33,"cut":false,"hidden":false,"merged":[]}
["Date","Numéro de bon","Palettes chargement","Palettes déchargement","Solde"]
["2017-01-01",null,null,null,{"$f":"C2-D2","v":0}]
["2017-01-02",null,null,null,{"$f":"C3-D3","v":0}]
["2017-01-03",null,null,null,{"$f":"C4-D4","v":0}]
["2017-01-04",null,null,null,0]
["2017-01-05",null,null,null,0]
["2017-01-06",null,null,null,0]
["2017-01-07",null,null,null,0]
["2017-01-08",null,null,null,0]
["2017-01-09",null,null,null,0]
["2017-01-10",null,null,null,0]
["2017-01-11",null,null,null,0]
["2017-01-12",null,null,null,0]
["2017-01-13",null,null,null,0]
["2017-01-14",null,null,null,0]
["2017-01-15",null,null,null,0]
["2017-01-16",null,null,null,0]
["2017-01-17",null,null,null,0]
["2017-01-18",null,null,null,0]
["2017-01-19",null,null,null,0]
["2017-01-20",null,null,null,0]
["2017-01-21",null,null,null,0]
["2017-01-22",null,null,null,0]
["2017-01-23",null,null,null,0]
["2017-01-24",null,null,null,0]
["2017-01-25",null,null,null,0]
["2017-01-26",null,null,null,0]
["2017-01-27",null,null,null,0]
["2017-01-28",null,null,null,0]
["2017-01-29",null,null,null,0]
["2017-01-30",null,null,null,0]
["2017-01-31",null,null,null,0]
["TOTAL A NOUS DEVOIR",null,{"$f":"SUM(E2:E32)","v":0}]

{"sheet":"TMF47_JUILLET","index":46,"n_rows":33,"n_cols":5,"rows_kept":33,"cut":false,"hidden":false,"merged":[]}
["Date","Numéro de bon","Palettes chargement","Palettes déchargement","Solde"]
["2017-01-01",null,null,null,{"$f":"C2-D2","v":0}]
["2017-01-02",null,null,null,{"$f":"C3-D3","v":0}]
["2017-01-03",null,null,null,{"$f":"C4-D4","v":0}]
["2017-01-04",null,null,null,0]
["2017-01-05",null,null,null,0]
["2017-01-06",null,null,null,0]
["2017-01-07",null,null,null,0]
["2017-01-08",null,null,null,0]
["2017-01-09",null,null,null,0]
["2017-01-10",null,null,null,0]
["2017-01-11",null,null,null,0]
["2017-01-12",null,null,null,0]
["2017-01-13",null,null,null,0]
["2017-01-14",null,null,null,0]
["2017-01-15",null,null,null,0]
["2017-01-16",null,null,null,0]
["2017-01-17",null,null,null,0]
["2017-01-18",null,null,null,0]
["2017-01-19",null,null,null,0]
["2017-01-20",null,null,null,0]
["2017-01-21",null,null,null,0]
["2017-01-22",null,null,null,0]
["2017-01-23",null,null,null,0]
["2017-01-24",null,null,null,0]
["2017-01-25",null,null,null,0]
["2017-01-26",null,null,null,0]
["2017-01-27",null,null,null,0]
["2017-01-28",null,null,null,0]
["2017-01-29",null,null,null,0]
["2017-01-30",null,null,null,0]
["2017-01-31",null,null,null,0]
["TOTAL A NOUS DEVOIR",null,{"$f":"SUM(E2:E32)","v":0}]

{"sheet":"TMF47_JUIN","index":47,"n_rows":33,"n_cols":6,"rows_kept":33,"cut":false,"hidden":false,"merged":[]}
[null,"Date","Numéro de bon","Palettes chargement","Palettes déchargement","Solde"]
[null,"2017-01-01",null,null,null,{"$f":"D2-E2","v":0}]
[null,"2017-01-02",null,null,null,{"$f":"D3-E3","v":0}]
[null,"2017-01-03",null,null,null,{"$f":"D4-E4","v":0}]
[null,"2017-01-04",null,null,null,0]
[null,"2017-01-05",null,null,null,0]
[null,"2017-01-06",null,null,null,0]
[null,"2017-01-07",null,null,null,0]
[null,"2017-01-08",null,null,null,0]
[null,"2017-01-09",null,null,null,0]
[null,"2017-01-10",null,null,null,0]
[null,"2017-01-11",null,null,null,0]
[null,"2017-01-12",null,null,null,0]
[null,"2017-01-13",null,null,null,0]
[null,"2017-01-14",null,null,null,0]
[null,"2017-01-15",null,null,null,0]
[null,"2017-01-16",null,null,null,0]
[null,"2017-01-17",null,null,null,0]
[null,"2017-01-18",null,null,null,0]
[null,"2017-01-19",null,null,null,0]
[null,"2017-01-20",null,null,null,0]
[null,"2017-01-21",null,null,null,0]
[null,"2017-01-22",null,null,null,0]
[null,"2017-01-23",null,null,null,0]
[null,"2017-01-24",null,null,null,0]
[null,"2017-01-25",null,null,null,0]
[null,"2017-01-26",null,null,null,0]
[null,"2017-01-27",null,null,null,0]
[null,"2017-01-28",null,null,null,0]
[null,"2017-01-29",null,null,null,0]
[null,"2017-01-30",null,null,null,0]
[null,"2017-01-31",null,null,null,0]
[null,"TOTAL A NOUS DEVOIR",null,{"$f":"SUM(F2:F32)","v":0}]

{"sheet":"TMF47_MAI","index":48,"n_rows":33,"n_cols":5,"rows_kept":33,"cut":false,"hidden":false,"merged":[]}
["Date","Numéro de bon","Palettes chargement","Palettes déchargement","Solde"]
["2017-01-01",null,null,null,{"$f":"C2-D2","v":0}]
["2017-01-02",null,null,null,{"$f":"C3-D3","v":0}]
["2017-01-03",null,null,null,{"$f":"C4-D4","v":0}]
["2017-01-04",null,null,null,0]
["2017-01-05",null,null,null,0]
["2017-01-06",null,null,null,0]
["2017-01-07",null,null,null,0]
["2017-01-08",null,null,null,0]
["2017-01-09",null,null,null,0]
["2017-01-10",null,null,null,0]
["2017-01-11",null,null,null,0]
["2017-01-12",null,null,null,0]
["2017-01-13",null,null,null,0]
["2017-01-14",null,null,null,0]
["2017-01-15",null,null,null,0]
["2017-01-16",null,null,null,0]
["2017-01-17",null,null,null,0]
["2017-01-18",null,null,null,0]
["2017-01-19",null,null,null,0]
["2017-01-20",null,null,null,0]
["2017-01-21",null,null,null,0]
["2017-01-22",null,null,null,0]
["2017-01-23",null,null,null,0]
["2017-01-24",null,null,null,0]
["2017-01-25",null,null,null,0]
["2017-01-26",null,null,null,0]
["2017-01-27",null,null,null,0]
["2017-01-28",null,null,null,0]
["2017-01-29",null,null,null,0]
["2017-01-30",null,null,null,0]
["2017-01-31",null,null,null,0]
["TOTAL A NOUS DEVOIR",null,{"$f":"SUM(E2:E32)","v":0}]

{"sheet":"TMF47_AVRIL","index":49,"n_rows":33,"n_cols":5,"rows_kept":33,"cut":false,"hidden":false,"merged":[]}
["Date","Numéro de bon","Palettes chargement","Palettes déchargement","Solde"]
["2017-01-01",null,null,null,{"$f":"C2-D2","v":0}]
["2017-01-02",null,null,null,{"$f":"C3-D3","v":0}]
["2017-01-03",null,null,null,{"$f":"C4-D4","v":0}]
["2017-01-04",null,null,null,0]
["2017-01-05",null,null,null,0]
["2017-01-06",null,null,null,0]
["2017-01-07",null,null,null,0]
["2017-01-08",null,null,null,0]
["2017-01-09",null,null,null,0]
["2017-01-10",null,null,null,0]
["2017-01-11",null,null,null,0]
["2017-01-12",null,null,null,0]
["2017-01-13",null,null,null,0]
["2017-01-14",null,null,null,0]
["2017-01-15",null,null,null,0]
["2017-01-16",null,null,null,0]
["2017-01-17",null,null,null,0]
["2017-01-18",null,null,null,0]
["2017-01-19",null,null,null,0]
["2017-01-20",null,null,null,0]
["2017-01-21",null,null,null,0]
["2017-01-22",null,null,null,0]
["2017-01-23",null,null,null,0]
["2017-01-24",null,null,null,0]
["2017-01-25",null,null,null,0]
["2017-01-26",null,null,null,0]
["2017-01-27",null,null,null,0]
["2017-01-28",null,null,null,0]
["2017-01-29",null,null,null,0]
["2017-01-30",null,null,null,0]
["2017-01-31",null,null,null,0]
["TOTAL A NOUS DEVOIR",null,{"$f":"SUM(E2:E32)","v":0}]

{"sheet":"TMF47_MARS","index":50,"n_rows":33,"n_cols":7,"rows_kept":33,"cut":false,"hidden":false,"merged":[]}
[null,null,"Date","Numéro de bon","Palettes chargement","Palettes déchargement","Solde"]
[null,null,"2017-01-01",null,null,null,{"$f":"E2-F2","v":0}]
[null,null,"2017-01-02",null,null,null,{"$f":"E3-F3","v":0}]
[null,null,"2017-01-03",null,null,null,{"$f":"E4-F4","v":0}]
[null,null,"2017-01-04",null,null,null,0]
[null,null,"2017-01-05",null,null,null,0]
[null,null,"2017-01-06",null,null,null,0]
[null,null,"2017-01-07",null,null,null,0]
[null,null,"2017-01-08",null,null,null,0]
[null,null,"2017-01-09",null,null,null,0]
[null,null,"2017-01-10",null,null,null,0]
[null,null,"2017-01-11",null,null,null,0]
[null,null,"2017-01-12",null,null,null,0]
[null,null,"2017-01-13",null,null,null,0]
[null,null,"2017-01-14",null,null,null,0]
[null,null,"2017-01-15",null,null,null,0]
[null,null,"2017-01-16",null,null,null,0]
[null,null,"2017-01-17",null,null,null,0]
[null,null,"2017-01-18",null,null,null,0]
[null,null,"2017-01-19",null,null,null,0]
[null,null,"2017-01-20",null,null,null,0]
[null,null,"2017-01-21",null,null,null,0]
[null,null,"2017-01-22",null,null,null,0]
[null,null,"2017-01-23",null,null,null,0]
[null,null,"2017-01-24",null,null,null,0]
[null,null,"2017-01-25",null,null,null,0]
[null,null,"2017-01-26",null,null,null,0]
[null,null,"2017-01-27",null,null,null,0]
[null,null,"2017-01-28",null,null,null,0]
[null,null,"2017-01-29",null,null,null,0]
[null,null,"2017-01-30",null,null,null,0]
[null,null,"2017-01-31",null,null,null,0]
[null,null,"TOTAL A NOUS DEVOIR",null,{"$f":"SUM(G2:G32)","v":0}]

{"sheet":"TMF47_FEVRIER","index":51,"n_rows":33,"n_cols":5,"rows_kept":33,"cut":false,"hidden":false,"merged":[]}
["Date","Numéro de bon","Palettes chargement","Palettes déchargement","Solde"]
["2017-01-01",null,null,null,{"$f":"C2-D2","v":0}]
["2017-01-02",null,null,null,{"$f":"C3-D3","v":0}]
["2017-01-03",null,null,null,{"$f":"C4-D4","v":0}]
["2017-01-04",null,null,null,0]
["2017-01-05",null,null,null,0]
["2017-01-06",null,null,null,0]
["2017-01-07",null,null,null,0]
["2017-01-08",null,null,null,0]
["2017-01-09",null,null,null,0]
["2017-01-10",null,null,null,0]
["2017-01-11",null,null,null,0]
["2017-01-12",null,null,null,0]
["2017-01-13",null,null,null,0]
["2017-01-14",null,null,null,0]
["2017-01-15",null,null,null,0]
["2017-01-16",null,null,null,0]
["2017-01-17",null,null,null,0]
["2017-01-18",null,null,null,0]
["2017-01-19",null,null,null,0]
["2017-01-20",null,null,null,0]
["2017-01-21",null,null,null,0]
["2017-01-22",null,null,null,0]
["2017-01-23",null,null,null,0]
["2017-01-24",null,null,null,0]
["2017-01-25",null,null,null,0]
["2017-01-26",null,null,null,0]
["2017-01-27",null,null,null,0]
["2017-01-28",null,null,null,0]
["2017-01-29",null,null,null,0]
["2017-01-30",null,null,null,0]
["2017-01-31",null,null,null,0]
["TOTAL A NOUS DEVOIR",null,{"$f":"SUM(E2:E32)","v":0}]

{"sheet":"TMF47_JANVIER","index":52,"n_rows":33,"n_cols":5,"rows_kept":33,"cut":false,"hidden":false,"merged":[]}
["Date","Numéro de bon","Palettes chargement","Palettes déchargement","Solde"]
["2017-01-01",null,null,null,{"$f":"C2-D2","v":0}]
["2017-01-02",null,null,null,{"$f":"C3-D3","v":0}]
["2017-01-03",null,null,null,{"$f":"C4-D4","v":0}]
["2017-01-04",null,null,null,0]
["2017-01-05",null,null,null,0]
["2017-01-06",null,null,null,0]
["2017-01-07",null,null,null,0]
["2017-01-08",null,null,null,0]
["2017-01-09",null,null,null,0]
["2017-01-10",null,null,null,0]
["2017-01-11",null,null,null,0]
["2017-01-12",null,null,null,0]
["2017-01-13",null,null,null,0]
["2017-01-14",null,null,null,0]
["2017-01-15",null,null,null,0]
["2017-01-16",null,null,null,0]
["2017-01-17",null,null,null,0]
["2017-01-18",null,null,null,0]
["2017-01-19",null,null,null,0]
["2017-01-20",null,null,null,0]
["2017-01-21",null,null,null,0]
["2017-01-22",null,null,null,0]
["2017-01-23",null,null,null,0]
["2017-01-24",null,null,null,0]
["2017-01-25",null,null,null,0]
["2017-01-26",null,null,null,0]
["2017-01-27",null,null,null,0]
["2017-01-28",null,null,null,0]
["2017-01-29",null,null,null,0]
["2017-01-30",null,null,null,0]
["2017-01-31",null,null,null,0]
["TOTAL A NOUS DEVOIR",null,{"$f":"SUM(E2:E32)","v":0}]

{"sheet":"TEL_FEVRIER","index":53,"n_rows":33,"n_cols":5,"rows_kept":33,"cut":false,"hidden":false,"merged":[]}
["Date","Numéro de bon","Palettes chargement","Palettes déchargement","Solde"]
["2017-01-01",null,null,null,{"$f":"C2-D2","v":0}]
["2017-01-02",null,null,null,{"$f":"C3-D3","v":0}]
["2017-01-03",null,null,null,{"$f":"C4-D4","v":0}]
["2017-01-04",null,null,null,0]
["2017-01-05",null,null,null,0]
["2017-01-06",null,null,null,0]
["2017-01-07",null,null,null,0]
["2017-01-08",null,null,null,0]
["2017-01-09",null,null,null,0]
["2017-01-10",null,null,null,0]
["2017-01-11",null,null,null,0]
["2017-01-12",null,null,null,0]
["2017-01-13",null,null,null,0]
["2017-01-14",null,null,null,0]
["2017-01-15",null,null,null,0]
["2017-01-16",null,null,null,0]
["2017-01-17",null,null,null,0]
["2017-01-18",null,null,null,0]
["2017-01-19",null,null,null,0]
["2017-01-20",null,null,null,0]
["2017-01-21",null,null,null,0]
["2017-01-22",null,null,null,0]
["2017-01-23",null,null,null,0]
["2017-01-24",null,null,null,0]
["2017-01-25",null,null,null,0]
["2017-01-26",null,null,null,0]
["2017-01-27",null,null,null,0]
["2017-01-28",null,null,null,0]
["2017-01-29",null,null,null,0]
["2017-01-30",null,null,null,0]
["2017-01-31",null,null,null,0]
["TOTAL A NOUS DEVOIR",null,{"$f":"SUM(E2:E32)","v":0}]

{"sheet":"TEL_MARS","index":54,"n_rows":33,"n_cols":5,"rows_kept":33,"cut":false,"hidden":false,"merged":[]}
["Date","Numéro de bon","Palettes chargement","Palettes déchargement","Solde"]
["2017-01-01",null,null,null,{"$f":"C2-D2","v":0}]
["2017-01-02",null,null,null,{"$f":"C3-D3","v":0}]
["2017-01-03",null,null,null,{"$f":"C4-D4","v":0}]
["2017-01-04",null,null,null,0]
["2017-01-05",null,null,null,0]
["2017-01-06",null,null,null,0]
["2017-01-07",null,null,null,0]
["2017-01-08",null,null,null,0]
["2017-01-09",null,null,null,0]
["2017-01-10",null,null,null,0]
["2017-01-11",null,null,null,0]
["2017-01-12",null,null,null,0]
["2017-01-13",null,null,null,0]
["2017-01-14",null,null,null,0]
["2017-01-15",null,null,null,0]
["2017-01-16",null,null,null,0]
["2017-01-17",null,null,null,0]
["2017-01-18",null,null,null,0]
["2017-01-19",null,null,null,0]
["2017-01-20",null,null,null,0]
["2017-01-21",null,null,null,0]
["2017-01-22",null,null,null,0]
["2017-01-23",null,null,null,0]
["2017-01-24",null,null,null,0]
["2017-01-25",null,null,null,0]
["2017-01-26",null,null,null,0]
["2017-01-27",null,null,null,0]
["2017-01-28",null,null,null,0]
["2017-01-29",null,null,null,0]
["2017-01-30",null,null,null,0]
["2017-01-31",null,null,null,0]
["TOTAL A NOUS DEVOIR",null,{"$f":"SUM(E2:E32)","v":0}]

{"sheet":"TEL_AVRIL","index":55,"n_rows":33,"n_cols":5,"rows_kept":33,"cut":false,"hidden":false,"merged":[]}
["Date","Numéro de bon","Palettes chargement","Palettes déchargement","Solde"]
["2017-01-01",null,null,null,{"$f":"C2-D2","v":0}]
["2017-01-02",null,null,null,{"$f":"C3-D3","v":0}]
["2017-01-03",null,null,null,{"$f":"C4-D4","v":0}]
["2017-01-04",null,null,null,0]
["2017-01-05",null,null,null,0]
["2017-01-06",null,null,null,0]
["2017-01-07",null,null,null,0]
["2017-01-08",null,null,null,0]
["2017-01-09",null,null,null,0]
["2017-01-10",null,null,null,0]
["2017-01-11",null,null,null,0]
["2017-01-12",null,null,null,0]
["2017-01-13",null,null,null,0]
["2017-01-14",null,null,null,0]
["2017-01-15",null,null,null,0]
["2017-01-16",null,null,null,0]
["2017-01-17",null,null,null,0]
["2017-01-18",null,null,null,0]
["2017-01-19",null,null,null,0]
["2017-01-20",null,null,null,0]
["2017-01-21",null,null,null,0]
["2017-01-22",null,null,null,0]
["2017-01-23",null,null,null,0]
["2017-01-24",null,null,null,0]
["2017-01-25",null,null,null,0]
["2017-01-26",null,null,null,0]
["2017-01-27",null,null,null,0]
["2017-01-28",null,null,null,0]
["2017-01-29",null,null,null,0]
["2017-01-30",null,null,null,0]
["2017-01-31",null,null,null,0]
["TOTAL A NOUS DEVOIR",null,{"$f":"SUM(E2:E32)","v":0}]

{"sheet":"TEL_MAI","index":56,"n_rows":33,"n_cols":5,"rows_kept":33,"cut":false,"hidden":false,"merged":[]}
["Date","Numéro de bon","Palettes chargement","Palettes déchargement","Solde"]
["2017-01-01",null,null,null,{"$f":"C2-D2","v":0}]
["2017-01-02",null,null,null,{"$f":"C3-D3","v":0}]
["2017-01-03",null,null,null,{"$f":"C4-D4","v":0}]
["2017-01-04",null,null,null,0]
["2017-01-05",null,null,null,0]
["2017-01-06",null,null,null,0]
["2017-01-07",null,null,null,0]
["2017-01-08",null,null,null,0]
["2017-01-09",null,null,null,0]
["2017-01-10",null,null,null,0]
["2017-01-11",null,null,null,0]
["2017-01-12",null,null,null,0]
["2017-01-13",null,null,null,0]
["2017-01-14",null,null,null,0]
["2017-01-15",null,null,null,0]
["2017-01-16",null,null,null,0]
["2017-01-17",null,null,null,0]
["2017-01-18",null,null,null,0]
["2017-01-19",null,null,null,0]
["2017-01-20",null,null,null,0]
["2017-01-21",null,null,null,0]
["2017-01-22",null,null,null,0]
["2017-01-23",null,null,null,0]
["2017-01-24",null,null,null,0]
["2017-01-25",null,null,null,0]
["2017-01-26",null,null,null,0]
["2017-01-27",null,null,null,0]
["2017-01-28",null,null,null,0]
["2017-01-29",null,null,null,0]
["2017-01-30",null,null,null,0]
["2017-01-31",null,null,null,0]
["TOTAL A NOUS DEVOIR",null,{"$f":"SUM(E2:E32)","v":0}]

{"sheet":"TEL_JUIN","index":57,"n_rows":33,"n_cols":5,"rows_kept":33,"cut":false,"hidden":false,"merged":[]}
["Date","Numéro de bon","Palettes chargement","Palettes déchargement","Solde"]
["2017-01-01",null,null,null,{"$f":"C2-D2","v":0}]
["2017-01-02",null,null,null,{"$f":"C3-D3","v":0}]
["2017-01-03",null,null,null,{"$f":"C4-D4","v":0}]
["2017-01-04",null,null,null,0]
["2017-01-05",null,null,null,0]
["2017-01-06",null,null,null,0]
["2017-01-07",null,null,null,0]
["2017-01-08",null,null,null,0]
["2017-01-09",null,null,null,0]
["2017-01-10",null,null,null,0]
["2017-01-11",null,null,null,0]
["2017-01-12",null,null,null,0]
["2017-01-13",null,null,null,0]
["2017-01-14",null,null,null,0]
["2017-01-15",null,null,null,0]
["2017-01-16",null,null,null,0]
["2017-01-17",null,null,null,0]
["2017-01-18",null,null,null,0]
["2017-01-19",null,null,null,0]
["2017-01-20",null,null,null,0]
["2017-01-21",null,null,null,0]
["2017-01-22",null,null,null,0]
["2017-01-23",null,null,null,0]
["2017-01-24",null,null,null,0]
["2017-01-25",null,null,null,0]
["2017-01-26",null,null,null,0]
["2017-01-27",null,null,null,0]
["2017-01-28",null,null,null,0]
["2017-01-29",null,null,null,0]
["2017-01-30",null,null,null,0]
["2017-01-31",null,null,null,0]
["TOTAL A NOUS DEVOIR",null,{"$f":"SUM(E2:E32)","v":0}]

{"sheet":"TEL_JUILLET","index":58,"n_rows":33,"n_cols":5,"rows_kept":33,"cut":false,"hidden":false,"merged":[]}
["Date","Numéro de bon","Palettes chargement","Palettes déchargement","Solde"]
["2017-01-01",null,null,null,{"$f":"C2-D2","v":0}]
["2017-01-02",null,null,null,{"$f":"C3-D3","v":0}]
["2017-01-03",null,null,null,{"$f":"C4-D4","v":0}]
["2017-01-04",null,null,null,0]
["2017-01-05",null,null,null,0]
["2017-01-06",null,null,null,0]
["2017-01-07",null,null,null,0]
["2017-01-08",null,null,null,0]
["2017-01-09",null,null,null,0]
["2017-01-10",null,null,null,0]
["2017-01-11",null,null,null,0]
["2017-01-12",null,null,null,0]
["2017-01-13",null,null,null,0]
["2017-01-14",null,null,null,0]
["2017-01-15",null,null,null,0]
["2017-01-16",null,null,null,0]
["2017-01-17",null,null,null,0]
["2017-01-18",null,null,null,0]
["2017-01-19",null,null,null,0]
["2017-01-20",null,null,null,0]
["2017-01-21",null,null,null,0]
["2017-01-22",null,null,null,0]
["2017-01-23",null,null,null,0]
["2017-01-24",null,null,null,0]
["2017-01-25",null,null,null,0]
["2017-01-26",null,null,null,0]
["2017-01-27",null,null,null,0]
["2017-01-28",null,null,null,0]
["2017-01-29",null,null,null,0]
["2017-01-30",null,null,null,0]
["2017-01-31",null,null,null,0]
["TOTAL A NOUS DEVOIR",null,{"$f":"SUM(E2:E32)","v":0}]

{"sheet":"TEL_AOUT","index":59,"n_rows":33,"n_cols":5,"rows_kept":33,"cut":false,"hidden":false,"merged":[]}
["Date","Numéro de bon","Palettes chargement","Palettes déchargement","Solde"]
["2017-01-01",null,null,null,{"$f":"C2-D2","v":0}]
["2017-01-02",null,null,null,{"$f":"C3-D3","v":0}]
["2017-01-03",null,null,null,{"$f":"C4-D4","v":0}]
["2017-01-04",null,null,null,0]
["2017-01-05",null,null,null,0]
["2017-01-06",null,null,null,0]
["2017-01-07",null,null,null,0]
["2017-01-08",null,null,null,0]
["2017-01-09",null,null,null,0]
["2017-01-10",null,null,null,0]
["2017-01-11",null,null,null,0]
["2017-01-12",null,null,null,0]
["2017-01-13",null,null,null,0]
["2017-01-14",null,null,null,0]
["2017-01-15",null,null,null,0]
["2017-01-16",null,null,null,0]
["2017-01-17",null,null,null,0]
["2017-01-18",null,null,null,0]
["2017-01-19",null,null,null,0]
["2017-01-20",null,null,null,0]
["2017-01-21",null,null,null,0]
["2017-01-22",null,null,null,0]
["2017-01-23",null,null,null,0]
["2017-01-24",null,null,null,0]
["2017-01-25",null,null,null,0]
["2017-01-26",null,null,null,0]
["2017-01-27",null,null,null,0]
["2017-01-28",null,null,null,0]
["2017-01-29",null,null,null,0]
["2017-01-30",null,null,null,0]
["2017-01-31",null,null,null,0]
["TOTAL A NOUS DEVOIR",null,{"$f":"SUM(E2:E32)","v":0}]

{"sheet":"TEL_SEPTEMBRE","index":60,"n_rows":33,"n_cols":5,"rows_kept":33,"cut":false,"hidden":false,"merged":[]}
["Date","Numéro de bon","Palettes chargement","Palettes déchargement","Solde"]
["2017-01-01",null,null,null,{"$f":"C2-D2","v":0}]
["2017-01-02",null,null,null,{"$f":"C3-D3","v":0}]
["2017-01-03",null,null,null,{"$f":"C4-D4","v":0}]
["2017-01-04",null,null,null,0]
["2017-01-05",null,null,null,0]
["2017-01-06",null,null,null,0]
["2017-01-07",null,null,null,0]
["2017-01-08",null,null,null,0]
["2017-01-09",null,null,null,0]
["2017-01-10",null,null,null,0]
["2017-01-11",null,null,null,0]
["2017-01-12",null,null,null,0]
["2017-01-13",null,null,null,0]
["2017-01-14",null,null,null,0]
["2017-01-15",null,null,null,0]
["2017-01-16",null,null,null,0]
["2017-01-17",null,null,null,0]
["2017-01-18",null,null,null,0]
["2017-01-19",null,null,null,0]
["2017-01-20",null,null,null,0]
["2017-01-21",null,null,null,0]
["2017-01-22",null,null,null,0]
["2017-01-23",null,null,null,0]
["2017-01-24",null,null,null,0]
["2017-01-25",null,null,null,0]
["2017-01-26",null,null,null,0]
["2017-01-27",null,null,null,0]
["2017-01-28",null,null,null,0]
["2017-01-29",null,null,null,0]
["2017-01-30",null,null,null,0]
["2017-01-31",null,null,null,0]
["TOTAL A NOUS DEVOIR",null,{"$f":"SUM(E2:E32)","v":0}]

{"sheet":"TEL_OCTOBRE","index":61,"n_rows":33,"n_cols":5,"rows_kept":33,"cut":false,"hidden":false,"merged":[]}
["Date","Numéro de bon","Palettes chargement","Palettes déchargement","Solde"]
["2017-01-01",null,null,null,{"$f":"C2-D2","v":0}]
["2017-01-02",null,null,null,{"$f":"C3-D3","v":0}]
["2017-01-03",null,null,null,{"$f":"C4-D4","v":0}]
["2017-01-04",null,null,null,0]
["2017-01-05",null,null,null,0]
["2017-01-06",null,null,null,0]
["2017-01-07",null,null,null,0]
["2017-01-08",null,null,null,0]
["2017-01-09",null,null,null,0]
["2017-01-10",null,null,null,0]
["2017-01-11",null,null,null,0]
["2017-01-12",null,null,null,0]
["2017-01-13",null,null,null,0]
["2017-01-14",null,null,null,0]
["2017-01-15",null,null,null,0]
["2017-01-16",null,null,null,0]
["2017-01-17",null,null,null,0]
["2017-01-18",null,null,null,0]
["2017-01-19",null,null,null,0]
["2017-01-20",null,null,null,0]
["2017-01-21",null,null,null,0]
["2017-01-22",null,null,null,0]
["2017-01-23",null,null,null,0]
["2017-01-24",null,null,null,0]
["2017-01-25",null,null,null,0]
["2017-01-26",null,null,null,0]
["2017-01-27",null,null,null,0]
["2017-01-28",null,null,null,0]
["2017-01-29",null,null,null,0]
["2017-01-30",null,null,null,0]
["2017-01-31",null,null,null,0]
["TOTAL A NOUS DEVOIR",null,{"$f":"SUM(E2:E32)","v":0}]

{"sheet":"TEL_NOVEMBRE","index":62,"n_rows":33,"n_cols":5,"rows_kept":33,"cut":false,"hidden":false,"merged":[]}
["Date","Numéro de bon","Palettes chargement","Palettes déchargement","Solde"]
["2017-01-01",null,null,null,{"$f":"C2-D2","v":0}]
["2017-01-02",null,null,null,{"$f":"C3-D3","v":0}]
["2017-01-03",null,null,null,{"$f":"C4-D4","v":0}]
["2017-01-04",null,null,null,0]
["2017-01-05",null,null,null,0]
["2017-01-06",null,null,null,0]
["2017-01-07",null,null,null,0]
["2017-01-08",null,null,null,0]
["2017-01-09",null,null,null,0]
["2017-01-10",null,null,null,0]
["2017-01-11",null,null,null,0]
["2017-01-12",null,null,null,0]
["2017-01-13",null,null,null,0]
["2017-01-14",null,null,null,0]
["2017-01-15",null,null,null,0]
["2017-01-16",null,null,null,0]
["2017-01-17",null,null,null,0]
["2017-01-18",null,null,null,0]
["2017-01-19",null,null,null,0]
["2017-01-20",null,null,null,0]
["2017-01-21",null,null,null,0]
["2017-01-22",null,null,null,0]
["2017-01-23",null,null,null,0]
["2017-01-24",null,null,null,0]
["2017-01-25",null,null,null,0]
["2017-01-26",null,null,null,0]
["2017-01-27",null,null,null,0]
["2017-01-28",null,null,null,0]
["2017-01-29",null,null,null,0]
["2017-01-30",null,null,null,0]
["2017-01-31",null,null,null,0]
["TOTAL A NOUS DEVOIR",null,{"$f":"SUM(E2:E32)","v":0}]

{"sheet":"TEL_DECEMBRE","index":63,"n_rows":33,"n_cols":5,"rows_kept":33,"cut":false,"hidden":false,"merged":[]}
["Date","Numéro de bon","Palettes chargement","Palettes déchargement","Solde"]
["2017-01-01",null,null,null,{"$f":"C2-D2","v":0}]
["2017-01-02",null,null,null,{"$f":"C3-D3","v":0}]
["2017-01-03",null,null,null,{"$f":"C4-D4","v":0}]
["2017-01-04",null,null,null,0]
["2017-01-05",null,null,null,0]
["2017-01-06",null,null,null,0]
["2017-01-07",null,null,null,0]
["2017-01-08",null,null,null,0]
["2017-01-09",null,null,null,0]
["2017-01-10",null,null,null,0]
["2017-01-11",null,null,null,0]
["2017-01-12",null,null,null,0]
["2017-01-13",null,null,null,0]
["2017-01-14",null,null,null,0]
["2017-01-15",null,null,null,0]
["2017-01-16",null,null,null,0]
["2017-01-17",null,null,null,0]
["2017-01-18",null,null,null,0]
["2017-01-19",null,null,null,0]
["2017-01-20",null,null,null,0]
["2017-01-21",null,null,null,0]
["2017-01-22",null,null,null,0]
["2017-01-23",null,null,null,0]
["2017-01-24",null,null,null,0]
["2017-01-25",null,null,null,0]
["2017-01-26",null,null,null,0]
["2017-01-27",null,null,null,0]
["2017-01-28",null,null,null,0]
["2017-01-29",null,null,null,0]
["2017-01-30",null,null,null,0]
["2017-01-31",null,null,null,0]
["TOTAL A NOUS DEVOIR",null,{"$f":"SUM(E2:E32)","v":0}]

{"sheet":"DW_JANVIER","index":64,"n_rows":33,"n_cols":5,"rows_kept":33,"cut":false,"hidden":false,"merged":[]}
["Date","Numéro de bon","Palettes chargement","Palettes déchargement","Solde"]
["2017-01-01",null,null,null,{"$f":"C2-D2","v":0}]
["2017-01-02",null,null,null,{"$f":"C3-D3","v":0}]
["2017-01-03",null,null,null,{"$f":"C4-D4","v":0}]
["2017-01-04",null,null,null,0]
["2017-01-05",null,null,null,0]
["2017-01-06",null,null,null,0]
["2017-01-07",null,null,null,0]
["2017-01-08",null,null,null,0]
["2017-01-09",null,null,null,0]
["2017-01-10",null,null,null,0]
["2017-01-11",null,null,null,0]
["2017-01-12",null,null,null,0]
["2017-01-13",null,null,null,0]
["2017-01-14",null,null,null,0]
["2017-01-15",null,null,null,0]
["2017-01-16",null,null,null,0]
["2017-01-17",null,null,null,0]
["2017-01-18",null,null,null,0]
["2017-01-19",null,null,null,0]
["2017-01-20",null,null,null,0]
["2017-01-21",null,null,null,0]
["2017-01-22",null,null,null,0]
["2017-01-23",null,null,null,0]
["2017-01-24",null,null,null,0]
["2017-01-25",null,null,null,0]
["2017-01-26",null,null,null,0]
["2017-01-27",null,null,null,0]
["2017-01-28",null,null,null,0]
["2017-01-29",null,null,null,0]
["2017-01-30",null,null,null,0]
["2017-01-31",null,null,null,0]
["TOTAL A NOUS DEVOIR",null,{"$f":"SUM(E2:E32)","v":0}]

{"sheet":"DW_FEVRIER","index":65,"n_rows":33,"n_cols":5,"rows_kept":33,"cut":false,"hidden":false,"merged":[]}
["Date","Numéro de bon","Palettes chargement","Palettes déchargement","Solde"]
["2017-01-01",null,null,null,{"$f":"C2-D2","v":0}]
["2017-01-02",null,null,null,{"$f":"C3-D3","v":0}]
["2017-01-03",null,null,null,{"$f":"C4-D4","v":0}]
["2017-01-04",null,null,null,0]
["2017-01-05",null,null,null,0]
["2017-01-06",null,null,null,0]
["2017-01-07",null,null,null,0]
["2017-01-08",null,null,null,0]
["2017-01-09",null,null,null,0]
["2017-01-10",null,null,null,0]
["2017-01-11",null,null,null,0]
["2017-01-12",null,null,null,0]
["2017-01-13",null,null,null,0]
["2017-01-14",null,null,null,0]
["2017-01-15",null,null,null,0]
["2017-01-16",null,null,null,0]
["2017-01-17",null,null,null,0]
["2017-01-18",null,null,null,0]
["2017-01-19",null,null,null,0]
["2017-01-20",null,null,null,0]
["2017-01-21",null,null,null,0]
["2017-01-22",null,null,null,0]
["2017-01-23",null,null,null,0]
["2017-01-24",null,null,null,0]
["2017-01-25",null,null,null,0]
["2017-01-26",null,null,null,0]
["2017-01-27",null,null,null,0]
["2017-01-28",null,null,null,0]
["2017-01-29",null,null,null,0]
["2017-01-30",null,null,null,0]
["2017-01-31",null,null,null,0]
["TOTAL A NOUS DEVOIR",null,{"$f":"SUM(E2:E32)","v":0}]

{"sheet":"DW_MARS","index":66,"n_rows":33,"n_cols":5,"rows_kept":33,"cut":false,"hidden":false,"merged":[]}
["Date","Numéro de bon","Palettes chargement","Palettes déchargement","Solde"]
["2017-01-01",null,null,null,{"$f":"C2-D2","v":0}]
["2017-01-02",null,null,null,{"$f":"C3-D3","v":0}]
["2017-01-03",null,null,null,{"$f":"C4-D4","v":0}]
["2017-01-04",null,null,null,0]
["2017-01-05",null,null,null,0]
["2017-01-06",null,null,null,0]
["2017-01-07",null,null,null,0]
["2017-01-08",null,null,null,0]
["2017-01-09",null,null,null,0]
["2017-01-10",null,null,null,0]
["2017-01-11",null,null,null,0]
["2017-01-12",null,null,null,0]
["2017-01-13",null,null,null,0]
["2017-01-14",null,null,null,0]
["2017-01-15",null,null,null,0]
["2017-01-16",null,null,null,0]
["2017-01-17",null,null,null,0]
["2017-01-18",null,null,null,0]
["2017-01-19",null,null,null,0]
["2017-01-20",null,null,null,0]
["2017-01-21",null,null,null,0]
["2017-01-22",null,null,null,0]
["2017-01-23",null,null,null,0]
["2017-01-24",null,null,null,0]
["2017-01-25",null,null,null,0]
["2017-01-26",null,null,null,0]
["2017-01-27",null,null,null,0]
["2017-01-28",null,null,null,0]
["2017-01-29",null,null,null,0]
["2017-01-30",null,null,null,0]
["2017-01-31",null,null,null,0]
["TOTAL A NOUS DEVOIR",null,{"$f":"SUM(E2:E32)","v":0}]

{"sheet":"DW_AVRIL","index":67,"n_rows":33,"n_cols":5,"rows_kept":33,"cut":false,"hidden":false,"merged":[]}
["Date","Numéro de bon","Palettes chargement","Palettes déchargement","Solde"]
["2017-01-01",null,null,null,{"$f":"C2-D2","v":0}]
["2017-01-02",null,null,null,{"$f":"C3-D3","v":0}]
["2017-01-03",null,null,null,{"$f":"C4-D4","v":0}]
["2017-01-04",null,null,null,0]
["2017-01-05",null,null,null,0]
["2017-01-06",null,null,null,0]
["2017-01-07",null,null,null,0]
["2017-01-08",null,null,null,0]
["2017-01-09",null,null,null,0]
["2017-01-10",null,null,null,0]
["2017-01-11",null,null,null,0]
["2017-01-12",null,null,null,0]
["2017-01-13",null,null,null,0]
["2017-01-14",null,null,null,0]
["2017-01-15",null,null,null,0]
["2017-01-16",null,null,null,0]
["2017-01-17",null,null,null,0]
["2017-01-18",null,null,null,0]
["2017-01-19",null,null,null,0]
["2017-01-20",null,null,null,0]
["2017-01-21",null,null,null,0]
["2017-01-22",null,null,null,0]
["2017-01-23",null,null,null,0]
["2017-01-24",null,null,null,0]
["2017-01-25",null,null,null,0]
["2017-01-26",null,null,null,0]
["2017-01-27",null,null,null,0]
["2017-01-28",null,null,null,0]
["2017-01-29",null,null,null,0]
["2017-01-30",null,null,null,0]
["2017-01-31",null,null,null,0]
["TOTAL A NOUS DEVOIR",null,{"$f":"SUM(E2:E32)","v":0}]

{"sheet":"DW_MAI","index":68,"n_rows":33,"n_cols":5,"rows_kept":33,"cut":false,"hidden":false,"merged":[]}
["Date","Numéro de bon","Palettes chargement","Palettes déchargement","Solde"]
["2017-01-01",null,null,null,{"$f":"C2-D2","v":0}]
["2017-01-02",null,null,null,{"$f":"C3-D3","v":0}]
["2017-01-03",null,null,null,{"$f":"C4-D4","v":0}]
["2017-01-04",null,null,null,0]
["2017-01-05",null,null,null,0]
["2017-01-06",null,null,null,0]
["2017-01-07",null,null,null,0]
["2017-01-08",null,null,null,0]
["2017-01-09",null,null,null,0]
["2017-01-10",null,null,null,0]
["2017-01-11",null,null,null,0]
["2017-01-12",null,null,null,0]
["2017-01-13",null,null,null,0]
["2017-01-14",null,null,null,0]
["2017-01-15",null,null,null,0]
["2017-01-16",null,null,null,0]
["2017-01-17",null,null,null,0]
["2017-01-18",null,null,null,0]
["2017-01-19",null,null,null,0]
["2017-01-20",null,null,null,0]
["2017-01-21",null,null,null,0]
["2017-01-22",null,null,null,0]
["2017-01-23",null,null,null,0]
["2017-01-24",null,null,null,0]
["2017-01-25",null,null,null,0]
["2017-01-26",null,null,null,0]
["2017-01-27",null,null,null,0]
["2017-01-28",null,null,null,0]
["2017-01-29",null,null,null,0]
["2017-01-30",null,null,null,0]
["2017-01-31",null,null,null,0]
["TOTAL A NOUS DEVOIR",null,{"$f":"SUM(E2:E32)","v":0}]

{"sheet":"DW_JUIN","index":69,"n_rows":33,"n_cols":5,"rows_kept":33,"cut":false,"hidden":false,"merged":[]}
["Date","Numéro de bon","Palettes chargement","Palettes déchargement","Solde"]
["2017-01-01",null,null,null,{"$f":"C2-D2","v":0}]
["2017-01-02",null,null,null,{"$f":"C3-D3","v":0}]
["2017-01-03",null,null,null,{"$f":"C4-D4","v":0}]
["2017-01-04",null,null,null,0]
["2017-01-05",null,null,null,0]
["2017-01-06",null,null,null,0]
["2017-01-07",null,null,null,0]
["2017-01-08",null,null,null,0]
["2017-01-09",null,null,null,0]
["2017-01-10",null,null,null,0]
["2017-01-11",null,null,null,0]
["2017-01-12",null,null,null,0]
["2017-01-13",null,null,null,0]
["2017-01-14",null,null,null,0]
["2017-01-15",null,null,null,0]
["2017-01-16",null,null,null,0]
["2017-01-17",null,null,null,0]
["2017-01-18",null,null,null,0]
["2017-01-19",null,null,null,0]
["2017-01-20",null,null,null,0]
["2017-01-21",null,null,null,0]
["2017-01-22",null,null,null,0]
["2017-01-23",null,null,null,0]
["2017-01-24",null,null,null,0]
["2017-01-25",null,null,null,0]
["2017-01-26",null,null,null,0]
["2017-01-27",null,null,null,0]
["2017-01-28",null,null,null,0]
["2017-01-29",null,null,null,0]
["2017-01-30",null,null,null,0]
["2017-01-31",null,null,null,0]
["TOTAL A NOUS DEVOIR",null,{"$f":"SUM(E2:E32)","v":0}]

{"sheet":"DW_JUILLET","index":70,"n_rows":33,"n_cols":5,"rows_kept":33,"cut":false,"hidden":false,"merged":[]}
["Date","Numéro de bon","Palettes chargement","Palettes déchargement","Solde"]
["2017-01-01",null,null,null,{"$f":"C2-D2","v":0}]
["2017-01-02",null,null,null,{"$f":"C3-D3","v":0}]
["2017-01-03",null,null,null,{"$f":"C4-D4","v":0}]
["2017-01-04",null,null,null,0]
["2017-01-05",null,null,null,0]
["2017-01-06",null,null,null,0]
["2017-01-07",null,null,null,0]
["2017-01-08",null,null,null,0]
["2017-01-09",null,null,null,0]
["2017-01-10",null,null,null,0]
["2017-01-11",null,null,null,0]
["2017-01-12",null,null,null,0]
["2017-01-13",null,null,null,0]
["2017-01-14",null,null,null,0]
["2017-01-15",null,null,null,0]
["2017-01-16",null,null,null,0]
["2017-01-17",null,null,null,0]
["2017-01-18",null,null,null,0]
["2017-01-19",null,null,null,0]
["2017-01-20",null,null,null,0]
["2017-01-21",null,null,null,0]
["2017-01-22",null,null,null,0]
["2017-01-23",null,null,null,0]
["2017-01-24",null,null,null,0]
["2017-01-25",null,null,null,0]
["2017-01-26",null,null,null,0]
["2017-01-27",null,null,null,0]
["2017-01-28",null,null,null,0]
["2017-01-29",null,null,null,0]
["2017-01-30",null,null,null,0]
["2017-01-31",null,null,null,0]
["TOTAL A NOUS DEVOIR",null,{"$f":"SUM(E2:E32)","v":0}]

{"sheet":"DW_AOUT","index":71,"n_rows":33,"n_cols":5,"rows_kept":33,"cut":false,"hidden":false,"merged":[]}
["Date","Numéro de bon","Palettes chargement","Palettes déchargement","Solde"]
["2017-01-01",null,null,null,{"$f":"C2-D2","v":0}]
["2017-01-02",null,null,null,{"$f":"C3-D3","v":0}]
["2017-01-03",null,null,null,{"$f":"C4-D4","v":0}]
["2017-01-04",null,null,null,0]
["2017-01-05",null,null,null,0]
["2017-01-06",null,null,null,0]
["2017-01-07",null,null,null,0]
["2017-01-08",null,null,null,0]
["2017-01-09",null,null,null,0]
["2017-01-10",null,null,null,0]
["2017-01-11",null,null,null,0]
["2017-01-12",null,null,null,0]
["2017-01-13",null,null,null,0]
["2017-01-14",null,null,null,0]
["2017-01-15",null,null,null,0]
["2017-01-16",null,null,null,0]
["2017-01-17",null,null,null,0]
["2017-01-18",null,null,null,0]
["2017-01-19",null,null,null,0]
["2017-01-20",null,null,null,0]
["2017-01-21",null,null,null,0]
["2017-01-22",null,null,null,0]
["2017-01-23",null,null,null,0]
["2017-01-24",null,null,null,0]
["2017-01-25",null,null,null,0]
["2017-01-26",null,null,null,0]
["2017-01-27",null,null,null,0]
["2017-01-28",null,null,null,0]
["2017-01-29",null,null,null,0]
["2017-01-30",null,null,null,0]
["2017-01-31",null,null,null,0]
["TOTAL A NOUS DEVOIR",null,{"$f":"SUM(E2:E32)","v":0}]

{"sheet":"DW_SEPTEMBRE","index":72,"n_rows":33,"n_cols":5,"rows_kept":33,"cut":false,"hidden":false,"merged":[]}
["Date","Numéro de bon","Palettes chargement","Palettes déchargement","Solde"]
["2017-01-01",null,null,null,{"$f":"C2-D2","v":0}]
["2017-01-02",null,null,null,{"$f":"C3-D3","v":0}]
["2017-01-03",null,null,null,{"$f":"C4-D4","v":0}]
["2017-01-04",null,null,null,0]
["2017-01-05",null,null,null,0]
["2017-01-06",null,null,null,0]
["2017-01-07",null,null,null,0]
["2017-01-08",null,null,null,0]
["2017-01-09",null,null,null,0]
["2017-01-10",null,null,null,0]
["2017-01-11",null,null,null,0]
["2017-01-12",null,null,null,0]
["2017-01-13",null,null,null,0]
["2017-01-14",null,null,null,0]
["2017-01-15",null,null,null,0]
["2017-01-16",null,null,null,0]
["2017-01-17",null,null,null,0]
["2017-01-18",null,null,null,0]
["2017-01-19",null,null,null,0]
["2017-01-20",null,null,null,0]
["2017-01-21",null,null,null,0]
["2017-01-22",null,null,null,0]
["2017-01-23",null,null,null,0]
["2017-01-24",null,null,null,0]
["2017-01-25",null,null,null,0]
["2017-01-26",null,null,null,0]
["2017-01-27",null,null,null,0]
["2017-01-28",null,null,null,0]
["2017-01-29",null,null,null,0]
["2017-01-30",null,null,null,0]
["2017-01-31",null,null,null,0]
["TOTAL A NOUS DEVOIR",null,{"$f":"SUM(E2:E32)","v":0}]

{"sheet":"DW_OCTOBRE","index":73,"n_rows":33,"n_cols":5,"rows_kept":33,"cut":false,"hidden":false,"merged":[]}
["Date","Numéro de bon","Palettes chargement","Palettes déchargement","Solde"]
["2017-01-01",null,null,null,{"$f":"C2-D2","v":0}]
["2017-01-02",null,null,null,{"$f":"C3-D3","v":0}]
["2017-01-03",null,null,null,{"$f":"C4-D4","v":0}]
["2017-01-04",null,null,null,0]
["2017-01-05",null,null,null,0]
["2017-01-06",null,null,null,0]
["2017-01-07",null,null,null,0]
["2017-01-08",null,null,null,0]
["2017-01-09",null,null,null,0]
["2017-01-10",null,null,null,0]
["2017-01-11",null,null,null,0]
["2017-01-12",null,null,null,0]
["2017-01-13",null,null,null,0]
["2017-01-14",null,null,null,0]
["2017-01-15",null,null,null,0]
["2017-01-16",null,null,null,0]
["2017-01-17",null,null,null,0]
["2017-01-18",null,null,null,0]
["2017-01-19",null,null,null,0]
["2017-01-20",null,null,null,0]
["2017-01-21",null,null,null,0]
["2017-01-22",null,null,null,0]
["2017-01-23",null,null,null,0]
["2017-01-24",null,null,null,0]
["2017-01-25",null,null,null,0]
["2017-01-26",null,null,null,0]
["2017-01-27",null,null,null,0]
["2017-01-28",null,null,null,0]
["2017-01-29",null,null,null,0]
["2017-01-30",null,null,null,0]
["2017-01-31",null,null,null,0]
["TOTAL A NOUS DEVOIR",null,{"$f":"SUM(E2:E32)","v":0}]

{"sheet":"DW_NOVEMBRE","index":74,"n_rows":33,"n_cols":5,"rows_kept":33,"cut":false,"hidden":false,"merged":[]}
["Date","Numéro de bon","Palettes chargement","Palettes déchargement","Solde"]
["2017-01-01",null,null,null,{"$f":"C2-D2","v":0}]
["2017-01-02",null,null,null,{"$f":"C3-D3","v":0}]
["2017-01-03",null,null,null,{"$f":"C4-D4","v":0}]
["2017-01-04",null,null,null,0]
["2017-01-05",null,null,null,0]
["2017-01-06",null,null,null,0]
["2017-01-07",null,null,null,0]
["2017-01-08",null,null,null,0]
["2017-01-09",null,null,null,0]
["2017-01-10",null,null,null,0]
["2017-01-11",null,null,null,0]
["2017-01-12",null,null,null,0]
["2017-01-13",null,null,null,0]
["2017-01-14",null,null,null,0]
["2017-01-15",null,null,null,0]
["2017-01-16",null,null,null,0]
["2017-01-17",null,null,null,0]
["2017-01-18",null,null,null,0]
["2017-01-19",null,null,null,0]
["2017-01-20",null,null,null,0]
["2017-01-21",null,null,null,0]
["2017-01-22",null,null,null,0]
["2017-01-23",null,null,null,0]
["2017-01-24",null,null,null,0]
["2017-01-25",null,null,null,0]
["2017-01-26",null,null,null,0]
["2017-01-27",null,null,null,0]
["2017-01-28",null,null,null,0]
["2017-01-29",null,null,null,0]
["2017-01-30",null,null,null,0]
["2017-01-31",null,null,null,0]
["TOTAL A NOUS DEVOIR",null,{"$f":"SUM(E2:E32)","v":0}]

{"sheet":"DW_DECEMBRE","index":75,"n_rows":33,"n_cols":5,"rows_kept":33,"cut":false,"hidden":false,"merged":[]}
["Date","Numéro de bon","Palettes chargement","Palettes déchargement","Solde"]
["2017-01-01",null,null,null,{"$f":"C2-D2","v":0}]
["2017-01-02",null,null,null,{"$f":"C3-D3","v":0}]
["2017-01-03",null,null,null,{"$f":"C4-D4","v":0}]
["2017-01-04",null,null,null,0]
["2017-01-05",null,null,null,0]
["2017-01-06",null,null,null,0]
["2017-01-07",null,null,null,0]
["2017-01-08",null,null,null,0]
["2017-01-09",null,null,null,0]
["2017-01-10",null,null,null,0]
["2017-01-11",null,null,null,0]
["2017-01-12",null,null,null,0]
["2017-01-13",null,null,null,0]
["2017-01-14",null,null,null,0]
["2017-01-15",null,null,null,0]
["2017-01-16",null,null,null,0]
["2017-01-17",null,null,null,0]
["2017-01-18",null,null,null,0]
["2017-01-19",null,null,null,0]
["2017-01-20",null,null,null,0]
["2017-01-21",null,null,null,0]
["2017-01-22",null,null,null,0]
["2017-01-23",null,null,null,0]
["2017-01-24",null,null,null,0]
["2017-01-25",null,null,null,0]
["2017-01-26",null,null,null,0]
["2017-01-27",null,null,null,0]
["2017-01-28",null,null,null,0]
["2017-01-29",null,null,null,0]
["2017-01-30",null,null,null,0]
["2017-01-31",null,null,null,0]
["TOTAL A NOUS DEVOIR",null,{"$f":"SUM(E2:E32)","v":0}]

{"sheet":"KN33_JANVIER","index":76,"n_rows":33,"n_cols":5,"rows_kept":33,"cut":false,"hidden":false,"merged":[]}
["Date","Numéro de bon","Palettes chargement","Palettes déchargement","Solde"]
["2017-01-01",null,null,null,{"$f":"C2-D2","v":0}]
["2017-01-02",null,null,null,{"$f":"C3-D3","v":0}]
["2017-01-03",null,null,null,{"$f":"C4-D4","v":0}]
["2017-01-04",null,null,null,0]
["2017-01-05",null,null,null,0]
["2017-01-06",null,null,null,0]
["2017-01-07",null,null,null,0]
["2017-01-08",null,null,null,0]
["2017-01-09",null,null,null,0]
["2017-01-10",null,null,null,0]
["2017-01-11",null,null,null,0]
["2017-01-12",null,null,null,0]
["2017-01-13",null,null,null,0]
["2017-01-14",null,null,null,0]
["2017-01-15",null,null,null,0]
["2017-01-16",null,null,null,0]
["2017-01-17",null,null,null,0]
["2017-01-18",null,null,null,0]
["2017-01-19",null,null,null,0]
["2017-01-20",null,null,null,0]
["2017-01-21",null,null,null,0]
["2017-01-22",null,null,null,0]
["2017-01-23",null,null,null,0]
["2017-01-24",null,null,null,0]
["2017-01-25",null,null,null,0]
["2017-01-26",null,null,null,0]
["2017-01-27",null,null,null,0]
["2017-01-28",null,null,null,0]
["2017-01-29",null,null,null,0]
["2017-01-30",null,null,null,0]
["2017-01-31",null,null,null,0]
["TOTAL A NOUS DEVOIR",null,{"$f":"SUM(E2:E32)","v":0}]

{"sheet":"KN33_FEVRIER","index":77,"n_rows":33,"n_cols":5,"rows_kept":33,"cut":false,"hidden":false,"merged":[]}
["Date","Numéro de bon","Palettes chargement","Palettes déchargement","Solde"]
["2017-01-01",null,null,null,{"$f":"C2-D2","v":0}]
["2017-01-02",null,null,null,{"$f":"C3-D3","v":0}]
["2017-01-03",null,null,null,{"$f":"C4-D4","v":0}]
["2017-01-04",null,null,null,0]
["2017-01-05",null,null,null,0]
["2017-01-06",null,null,null,0]
["2017-01-07",null,null,null,0]
["2017-01-08",null,null,null,0]
["2017-01-09",null,null,null,0]
["2017-01-10",null,null,null,0]
["2017-01-11",null,null,null,0]
["2017-01-12",null,null,null,0]
["2017-01-13",null,null,null,0]
["2017-01-14",null,null,null,0]
["2017-01-15",null,null,null,0]
["2017-01-16",null,null,null,0]
["2017-01-17",null,null,null,0]
["2017-01-18",null,null,null,0]
["2017-01-19",null,null,null,0]
["2017-01-20",null,null,null,0]
["2017-01-21",null,null,null,0]
["2017-01-22",null,null,null,0]
["2017-01-23",null,null,null,0]
["2017-01-24",null,null,null,0]
["2017-01-25",null,null,null,0]
["2017-01-26",null,null,null,0]
["2017-01-27",null,null,null,0]
["2017-01-28",null,null,null,0]
["2017-01-29",null,null,null,0]
["2017-01-30",null,null,null,0]
["2017-01-31",null,null,null,0]
["TOTAL A NOUS DEVOIR",null,{"$f":"SUM(E2:E32)","v":0}]

{"sheet":"KN33_MARS","index":78,"n_rows":33,"n_cols":5,"rows_kept":33,"cut":false,"hidden":false,"merged":[]}
["Date","Numéro de bon","Palettes chargement","Palettes déchargement","Solde"]
["2017-01-01",null,null,null,{"$f":"C2-D2","v":0}]
["2017-01-02",null,null,null,{"$f":"C3-D3","v":0}]
["2017-01-03",null,null,null,{"$f":"C4-D4","v":0}]
["2017-01-04",null,null,null,0]
["2017-01-05",null,null,null,0]
["2017-01-06",null,null,null,0]
["2017-01-07",null,null,null,0]
["2017-01-08",null,null,null,0]
["2017-01-09",null,null,null,0]
["2017-01-10",null,null,null,0]
["2017-01-11",null,null,null,0]
["2017-01-12",null,null,null,0]
["2017-01-13",null,null,null,0]
["2017-01-14",null,null,null,0]
["2017-01-15",null,null,null,0]
["2017-01-16",null,null,null,0]
["2017-01-17",null,null,null,0]
["2017-01-18",null,null,null,0]
["2017-01-19",null,null,null,0]
["2017-01-20",null,null,null,0]
["2017-01-21",null,null,null,0]
["2017-01-22",null,null,null,0]
["2017-01-23",null,null,null,0]
["2017-01-24",null,null,null,0]
["2017-01-25",null,null,null,0]
["2017-01-26",null,null,null,0]
["2017-01-27",null,null,null,0]
["2017-01-28",null,null,null,0]
["2017-01-29",null,null,null,0]
["2017-01-30",null,null,null,0]
["2017-01-31",null,null,null,0]
["TOTAL A NOUS DEVOIR",null,{"$f":"SUM(E2:E32)","v":0}]

{"sheet":"KN33_AVRIL","index":79,"n_rows":33,"n_cols":6,"rows_kept":33,"cut":false,"hidden":false,"merged":[]}
[null,"Date","Numéro de bon","Palettes chargement","Palettes déchargement","Solde"]
[null,"2017-01-01",null,null,null,{"$f":"D2-E2","v":0}]
[null,"2017-01-02",null,null,null,{"$f":"D3-E3","v":0}]
[null,"2017-01-03",null,null,null,{"$f":"D4-E4","v":0}]
[null,"2017-01-04",null,null,null,0]
[null,"2017-01-05",null,null,null,0]
[null,"2017-01-06",null,null,null,0]
[null,"2017-01-07",null,null,null,0]
[null,"2017-01-08",null,null,null,0]
[null,"2017-01-09",null,null,null,0]
[null,"2017-01-10",null,null,null,0]
[null,"2017-01-11",null,null,null,0]
[null,"2017-01-12",null,null,null,0]
[null,"2017-01-13",null,null,null,0]
[null,"2017-01-14",null,null,null,0]
[null,"2017-01-15",null,null,null,0]
[null,"2017-01-16",null,null,null,0]
[null,"2017-01-17",null,null,null,0]
[null,"2017-01-18",null,null,null,0]
[null,"2017-01-19",null,null,null,0]
[null,"2017-01-20",null,null,null,0]
[null,"2017-01-21",null,null,null,0]
[null,"2017-01-22",null,null,null,0]
[null,"2017-01-23",null,null,null,0]
[null,"2017-01-24",null,null,null,0]
[null,"2017-01-25",null,null,null,0]
[null,"2017-01-26",null,null,null,0]
[null,"2017-01-27",null,null,null,0]
[null,"2017-01-28",null,null,null,0]
[null,"2017-01-29",null,null,null,0]
[null,"2017-01-30",null,null,null,0]
[null,"2017-01-31",null,null,null,0]
[null,"TOTAL A NOUS DEVOIR",null,{"$f":"SUM(F2:F32)","v":0}]

{"sheet":"KN33_MAI","index":80,"n_rows":33,"n_cols":5,"rows_kept":33,"cut":false,"hidden":false,"merged":[]}
["Date","Numéro de bon","Palettes chargement","Palettes déchargement","Solde"]
["2017-01-01",null,null,null,{"$f":"C2-D2","v":0}]
["2017-01-02",null,null,null,{"$f":"C3-D3","v":0}]
["2017-01-03",null,null,null,{"$f":"C4-D4","v":0}]
["2017-01-04",null,null,null,0]
["2017-01-05",null,null,null,0]
["2017-01-06",null,null,null,0]
["2017-01-07",null,null,null,0]
["2017-01-08",null,null,null,0]
["2017-01-09",null,null,null,0]
["2017-01-10",null,null,null,0]
["2017-01-11",null,null,null,0]
["2017-01-12",null,null,null,0]
["2017-01-13",null,null,null,0]
["2017-01-14",null,null,null,0]
["2017-01-15",null,null,null,0]
["2017-01-16",null,null,null,0]
["2017-01-17",null,null,null,0]
["2017-01-18",null,null,null,0]
["2017-01-19",null,null,null,0]
["2017-01-20",null,null,null,0]
["2017-01-21",null,null,null,0]
["2017-01-22",null,null,null,0]
["2017-01-23",null,null,null,0]
["2017-01-24",null,null,null,0]
["2017-01-25",null,null,null,0]
["2017-01-26",null,null,null,0]
["2017-01-27",null,null,null,0]
["2017-01-28",null,null,null,0]
["2017-01-29",null,null,null,0]
["2017-01-30",null,null,null,0]
["2017-01-31",null,null,null,0]
["TOTAL A NOUS DEVOIR",null,{"$f":"SUM(E2:E32)","v":0}]

{"sheet":"KN33_JUIN","index":81,"n_rows":33,"n_cols":5,"rows_kept":33,"cut":false,"hidden":false,"merged":[]}
["Date","Numéro de bon","Palettes chargement","Palettes déchargement","Solde"]
["2017-01-01",null,null,null,{"$f":"C2-D2","v":0}]
["2017-01-02",null,null,null,{"$f":"C3-D3","v":0}]
["2017-01-03",null,null,null,{"$f":"C4-D4","v":0}]
["2017-01-04",null,null,null,0]
["2017-01-05",null,null,null,0]
["2017-01-06",null,null,null,0]
["2017-01-07",null,null,null,0]
["2017-01-08",null,null,null,0]
["2017-01-09",null,null,null,0]
["2017-01-10",null,null,null,0]
["2017-01-11",null,null,null,0]
["2017-01-12",null,null,null,0]
["2017-01-13",null,null,null,0]
["2017-01-14",null,null,null,0]
["2017-01-15",null,null,null,0]
["2017-01-16",null,null,null,0]
["2017-01-17",null,null,null,0]
["2017-01-18",null,null,null,0]
["2017-01-19",null,null,null,0]
["2017-01-20",null,null,null,0]
["2017-01-21",null,null,null,0]
["2017-01-22",null,null,null,0]
["2017-01-23",null,null,null,0]
["2017-01-24",null,null,null,0]
["2017-01-25",null,null,null,0]
["2017-01-26",null,null,null,0]
["2017-01-27",null,null,null,0]
["2017-01-28",null,null,null,0]
["2017-01-29",null,null,null,0]
["2017-01-30",null,null,null,0]
["2017-01-31",null,null,null,0]
["TOTAL A NOUS DEVOIR",null,{"$f":"SUM(E2:E32)","v":0}]

{"sheet":"KN33_JUILLET","index":82,"n_rows":33,"n_cols":5,"rows_kept":33,"cut":false,"hidden":false,"merged":[]}
["Date","Numéro de bon","Palettes chargement","Palettes déchargement","Solde"]
["2017-01-01",null,null,null,{"$f":"C2-D2","v":0}]
["2017-01-02",null,null,null,{"$f":"C3-D3","v":0}]
["2017-01-03",null,null,null,{"$f":"C4-D4","v":0}]
["2017-01-04",null,null,null,0]
["2017-01-05",null,null,null,0]
["2017-01-06",null,null,null,0]
["2017-01-07",null,null,null,0]
["2017-01-08",null,null,null,0]
["2017-01-09",null,null,null,0]
["2017-01-10",null,null,null,0]
["2017-01-11",null,null,null,0]
["2017-01-12",null,null,null,0]
["2017-01-13",null,null,null,0]
["2017-01-14",null,null,null,0]
["2017-01-15",null,null,null,0]
["2017-01-16",null,null,null,0]
["2017-01-17",null,null,null,0]
["2017-01-18",null,null,null,0]
["2017-01-19",null,null,null,0]
["2017-01-20",null,null,null,0]
["2017-01-21",null,null,null,0]
["2017-01-22",null,null,null,0]
["2017-01-23",null,null,null,0]
["2017-01-24",null,null,null,0]
["2017-01-25",null,null,null,0]
["2017-01-26",null,null,null,0]
["2017-01-27",null,null,null,0]
["2017-01-28",null,null,null,0]
["2017-01-29",null,null,null,0]
["2017-01-30",null,null,null,0]
["2017-01-31",null,null,null,0]
["TOTAL A NOUS DEVOIR",null,{"$f":"SUM(E2:E32)","v":0}]

{"sheet":"KN33_AOUT","index":83,"n_rows":33,"n_cols":5,"rows_kept":33,"cut":false,"hidden":false,"merged":[]}
["Date","Numéro de bon","Palettes chargement","Palettes déchargement","Solde"]
["2017-01-01",null,null,null,{"$f":"C2-D2","v":0}]
["2017-01-02",null,null,null,{"$f":"C3-D3","v":0}]
["2017-01-03",null,null,null,{"$f":"C4-D4","v":0}]
["2017-01-04",null,null,null,0]
["2017-01-05",null,null,null,0]
["2017-01-06",null,null,null,0]
["2017-01-07",null,null,null,0]
["2017-01-08",null,null,null,0]
["2017-01-09",null,null,null,0]
["2017-01-10",null,null,null,0]
["2017-01-11",null,null,null,0]
["2017-01-12",null,null,null,0]
["2017-01-13",null,null,null,0]
["2017-01-14",null,null,null,0]
["2017-01-15",null,null,null,0]
["2017-01-16",null,null,null,0]
["2017-01-17",null,null,null,0]
["2017-01-18",null,null,null,0]
["2017-01-19",null,null,null,0]
["2017-01-20",null,null,null,0]
["2017-01-21",null,null,null,0]
["2017-01-22",null,null,null,0]
["2017-01-23",null,null,null,0]
["2017-01-24",null,null,null,0]
["2017-01-25",null,null,null,0]
["2017-01-26",null,null,null,0]
["2017-01-27",null,null,null,0]
["2017-01-28",null,null,null,0]
["2017-01-29",null,null,null,0]
["2017-01-30",null,null,null,0]
["2017-01-31",null,null,null,0]
["TOTAL A NOUS DEVOIR",null,{"$f":"SUM(E2:E32)","v":0}]

{"sheet":"KN33_SEPTEMBRE","index":84,"n_rows":33,"n_cols":5,"rows_kept":33,"cut":false,"hidden":false,"merged":[]}
["Date","Numéro de bon","Palettes chargement","Palettes déchargement","Solde"]
["2017-01-01",null,null,null,{"$f":"C2-D2","v":0}]
["2017-01-02",null,null,null,{"$f":"C3-D3","v":0}]
["2017-01-03",null,null,null,{"$f":"C4-D4","v":0}]
["2017-01-04",null,null,null,0]
["2017-01-05",null,null,null,0]
["2017-01-06",null,null,null,0]
["2017-01-07",null,null,null,0]
["2017-01-08",null,null,null,0]
["2017-01-09",null,null,null,0]
["2017-01-10",null,null,null,0]
["2017-01-11",null,null,null,0]
["2017-01-12",null,null,null,0]
["2017-01-13",null,null,null,0]
["2017-01-14",null,null,null,0]
["2017-01-15",null,null,null,0]
["2017-01-16",null,null,null,0]
["2017-01-17",null,null,null,0]
["2017-01-18",null,null,null,0]
["2017-01-19",null,null,null,0]
["2017-01-20",null,null,null,0]
["2017-01-21",null,null,null,0]
["2017-01-22",null,null,null,0]
["2017-01-23",null,null,null,0]
["2017-01-24",null,null,null,0]
["2017-01-25",null,null,null,0]
["2017-01-26",null,null,null,0]
["2017-01-27",null,null,null,0]
["2017-01-28",null,null,null,0]
["2017-01-29",null,null,null,0]
["2017-01-30",null,null,null,0]
["2017-01-31",null,null,null,0]
["TOTAL A NOUS DEVOIR",null,{"$f":"SUM(E2:E32)","v":0}]

{"sheet":"KN33_OCTOBRE","index":85,"n_rows":33,"n_cols":6,"rows_kept":33,"cut":false,"hidden":false,"merged":[]}
[null,"Date","Numéro de bon","Palettes chargement","Palettes déchargement","Solde"]
[null,"2017-01-01",null,null,null,{"$f":"D2-E2","v":0}]
[null,"2017-01-02",null,null,null,{"$f":"D3-E3","v":0}]
[null,"2017-01-03",null,null,null,{"$f":"D4-E4","v":0}]
[null,"2017-01-04",null,null,null,0]
[null,"2017-01-05",null,null,null,0]
[null,"2017-01-06",null,null,null,0]
[null,"2017-01-07",null,null,null,0]
[null,"2017-01-08",null,null,null,0]
[null,"2017-01-09",null,null,null,0]
[null,"2017-01-10",null,null,null,0]
[null,"2017-01-11",null,null,null,0]
[null,"2017-01-12",null,null,null,0]
[null,"2017-01-13",null,null,null,0]
[null,"2017-01-14",null,null,null,0]
[null,"2017-01-15",null,null,null,0]
[null,"2017-01-16",null,null,null,0]
[null,"2017-01-17",null,null,null,0]
[null,"2017-01-18",null,null,null,0]
[null,"2017-01-19",null,null,null,0]
[null,"2017-01-20",null,null,null,0]
[null,"2017-01-21",null,null,null,0]
[null,"2017-01-22",null,null,null,0]
[null,"2017-01-23",null,null,null,0]
[null,"2017-01-24",null,null,null,0]
[null,"2017-01-25",null,null,null,0]
[null,"2017-01-26",null,null,null,0]
[null,"2017-01-27",null,null,null,0]
[null,"2017-01-28",null,null,null,0]
[null,"2017-01-29",null,null,null,0]
[null,"2017-01-30",null,null,null,0]
[null,"2017-01-31",null,null,null,0]
[null,"TOTAL A NOUS DEVOIR",null,{"$f":"SUM(F2:F32)","v":0}]

{"sheet":"KN33_NOVEMBRE","index":86,"n_rows":33,"n_cols":5,"rows_kept":33,"cut":false,"hidden":false,"merged":[]}
["Date","Numéro de bon","Palettes chargement","Palettes déchargement","Solde"]
["2017-01-01",null,null,null,{"$f":"C2-D2","v":0}]
["2017-01-02",null,null,null,{"$f":"C3-D3","v":0}]
["2017-01-03",null,null,null,{"$f":"C4-D4","v":0}]
["2017-01-04",null,null,null,0]
["2017-01-05",null,null,null,0]
["2017-01-06",null,null,null,0]
["2017-01-07",null,null,null,0]
["2017-01-08",null,null,null,0]
["2017-01-09",null,null,null,0]
["2017-01-10",null,null,null,0]
["2017-01-11",null,null,null,0]
["2017-01-12",null,null,null,0]
["2017-01-13",null,null,null,0]
["2017-01-14",null,null,null,0]
["2017-01-15",null,null,null,0]
["2017-01-16",null,null,null,0]
["2017-01-17",null,null,null,0]
["2017-01-18",null,null,null,0]
["2017-01-19",null,null,null,0]
["2017-01-20",null,null,null,0]
["2017-01-21",null,null,null,0]
["2017-01-22",null,null,null,0]
["2017-01-23",null,null,null,0]
["2017-01-24",null,null,null,0]
["2017-01-25",null,null,null,0]
["2017-01-26",null,null,null,0]
["2017-01-27",null,null,null,0]
["2017-01-28",null,null,null,0]
["2017-01-29",null,null,null,0]
["2017-01-30",null,null,null,0]
["2017-01-31",null,null,null,0]
["TOTAL A NOUS DEVOIR",null,{"$f":"SUM(E2:E32)","v":0}]

{"sheet":"KN33_DECEMBRE","index":87,"n_rows":33,"n_cols":5,"rows_kept":33,"cut":false,"hidden":false,"merged":[]}
["Date","Numéro de bon","Palettes chargement","Palettes déchargement","Solde"]
["2017-01-01",null,null,null,{"$f":"C2-D2","v":0}]
["2017-01-02",null,null,null,{"$f":"C3-D3","v":0}]
["2017-01-03",null,null,null,{"$f":"C4-D4","v":0}]
["2017-01-04",null,null,null,0]
["2017-01-05",null,null,null,0]
["2017-01-06",null,null,null,0]
["2017-01-07",null,null,null,0]
["2017-01-08",null,null,null,0]
["2017-01-09",null,null,null,0]
["2017-01-10",null,null,null,0]
["2017-01-11",null,null,null,0]
["2017-01-12",null,null,null,0]
["2017-01-13",null,null,null,0]
["2017-01-14",null,null,null,0]
["2017-01-15",null,null,null,0]
["2017-01-16",null,null,null,0]
["2017-01-17",null,null,null,0]
["2017-01-18",null,null,null,0]
["2017-01-19",null,null,null,0]
["2017-01-20",null,null,null,0]
["2017-01-21",null,null,null,0]
["2017-01-22",null,null,null,0]
["2017-01-23",null,null,null,0]
["2017-01-24",null,null,null,0]
["2017-01-25",null,null,null,0]
["2017-01-26",null,null,null,0]
["2017-01-27",null,null,null,0]
["2017-01-28",null,null,null,0]
["2017-01-29",null,null,null,0]
["2017-01-30",null,null,null,0]
["2017-01-31",null,null,null,0]
["TOTAL A NOUS DEVOIR",null,{"$f":"SUM(E2:E32)","v":0}]

{"sheet":"KN44_JANVIER","index":88,"n_rows":33,"n_cols":5,"rows_kept":33,"cut":false,"hidden":false,"merged":[]}
["Date","Numéro de bon","Palettes chargement","Palettes déchargement","Solde"]
["2017-01-01",null,null,null,{"$f":"C2-D2","v":0}]
["2017-01-02",null,null,null,{"$f":"C3-D3","v":0}]
["2017-01-03",null,null,null,{"$f":"C4-D4","v":0}]
["2017-01-04",null,null,null,0]
["2017-01-05",null,null,null,0]
["2017-01-06",null,null,null,0]
["2017-01-07",null,null,null,0]
["2017-01-08",null,null,null,0]
["2017-01-09",null,null,null,0]
["2017-01-10",null,null,null,0]
["2017-01-11",null,null,null,0]
["2017-01-12",null,null,null,0]
["2017-01-13",null,null,null,0]
["2017-01-14",null,null,null,0]
["2017-01-15",null,null,null,0]
["2017-01-16",null,null,null,0]
["2017-01-17",null,null,null,0]
["2017-01-18",null,null,null,0]
["2017-01-19",null,null,null,0]
["2017-01-20",null,null,null,0]
["2017-01-21",null,null,null,0]
["2017-01-22",null,null,null,0]
["2017-01-23",null,null,null,0]
["2017-01-24",null,null,null,0]
["2017-01-25",null,null,null,0]
["2017-01-26",null,null,null,0]
["2017-01-27",null,null,null,0]
["2017-01-28",null,null,null,0]
["2017-01-29",null,null,null,0]
["2017-01-30",null,null,null,0]
["2017-01-31",null,null,null,0]
["TOTAL A NOUS DEVOIR",null,{"$f":"SUM(E2:E32)","v":0}]

{"sheet":"KN44_FEVRIER","index":89,"n_rows":33,"n_cols":5,"rows_kept":33,"cut":false,"hidden":false,"merged":[]}
["Date","Numéro de bon","Palettes chargement","Palettes déchargement","Solde"]
["2017-01-01",null,null,null,{"$f":"C2-D2","v":0}]
["2017-01-02",null,null,null,{"$f":"C3-D3","v":0}]
["2017-01-03",null,null,null,{"$f":"C4-D4","v":0}]
["2017-01-04",null,null,null,0]
["2017-01-05",null,null,null,0]
["2017-01-06",null,null,null,0]
["2017-01-07",null,null,null,0]
["2017-01-08",null,null,null,0]
["2017-01-09",null,null,null,0]
["2017-01-10",null,null,null,0]
["2017-01-11",null,null,null,0]
["2017-01-12",null,null,null,0]
["2017-01-13",null,null,null,0]
["2017-01-14",null,null,null,0]
["2017-01-15",null,null,null,0]
["2017-01-16",null,null,null,0]
["2017-01-17",null,null,null,0]
["2017-01-18",null,null,null,0]
["2017-01-19",null,null,null,0]
["2017-01-20",null,null,null,0]
["2017-01-21",null,null,null,0]
["2017-01-22",null,null,null,0]
["2017-01-23",null,null,null,0]
["2017-01-24",null,null,null,0]
["2017-01-25",null,null,null,0]
["2017-01-26",null,null,null,0]
["2017-01-27",null,null,null,0]
["2017-01-28",null,null,null,0]
["2017-01-29",null,null,null,0]
["2017-01-30",null,null,null,0]
["2017-01-31",null,null,null,0]
["TOTAL A NOUS DEVOIR",null,{"$f":"SUM(E2:E32)","v":0}]

{"sheet":"KN44_MARS","index":90,"n_rows":33,"n_cols":5,"rows_kept":33,"cut":false,"hidden":false,"merged":[]}
["Date","Numéro de bon","Palettes chargement","Palettes déchargement","Solde"]
["2017-01-01",null,null,null,{"$f":"C2-D2","v":0}]
["2017-01-02",null,null,null,{"$f":"C3-D3","v":0}]
["2017-01-03",null,null,null,{"$f":"C4-D4","v":0}]
["2017-01-04",null,null,null,0]
["2017-01-05",null,null,null,0]
["2017-01-06",null,null,null,0]
["2017-01-07",null,null,null,0]
["2017-01-08",null,null,null,0]
["2017-01-09",null,null,null,0]
["2017-01-10",null,null,null,0]
["2017-01-11",null,null,null,0]
["2017-01-12",null,null,null,0]
["2017-01-13",null,null,null,0]
["2017-01-14",null,null,null,0]
["2017-01-15",null,null,null,0]
["2017-01-16",null,null,null,0]
["2017-01-17",null,null,null,0]
["2017-01-18",null,null,null,0]
["2017-01-19",null,null,null,0]
["2017-01-20",null,null,null,0]
["2017-01-21",null,null,null,0]
["2017-01-22",null,null,null,0]
["2017-01-23",null,null,null,0]
["2017-01-24",null,null,null,0]
["2017-01-25",null,null,null,0]
["2017-01-26",null,null,null,0]
["2017-01-27",null,null,null,0]
["2017-01-28",null,null,null,0]
["2017-01-29",null,null,null,0]
["2017-01-30",null,null,null,0]
["2017-01-31",null,null,null,0]
["TOTAL A NOUS DEVOIR",null,{"$f":"SUM(E2:E32)","v":0}]

{"sheet":"KN44_AVRIL","index":91,"n_rows":33,"n_cols":5,"rows_kept":33,"cut":false,"hidden":false,"merged":[]}
["Date","Numéro de bon","Palettes chargement","Palettes déchargement","Solde"]
["2017-01-01",null,null,null,{"$f":"C2-D2","v":0}]
["2017-01-02",null,null,null,{"$f":"C3-D3","v":0}]
["2017-01-03",null,null,null,{"$f":"C4-D4","v":0}]
["2017-01-04",null,null,null,0]
["2017-01-05",null,null,null,0]
["2017-01-06",null,null,null,0]
["2017-01-07",null,null,null,0]
["2017-01-08",null,null,null,0]
["2017-01-09",null,null,null,0]
["2017-01-10",null,null,null,0]
["2017-01-11",null,null,null,0]
["2017-01-12",null,null,null,0]
["2017-01-13",null,null,null,0]
["2017-01-14",null,null,null,0]
["2017-01-15",null,null,null,0]
["2017-01-16",null,null,null,0]
["2017-01-17",null,null,null,0]
["2017-01-18",null,null,null,0]
["2017-01-19",null,null,null,0]
["2017-01-20",null,null,null,0]
["2017-01-21",null,null,null,0]
["2017-01-22",null,null,null,0]
["2017-01-23",null,null,null,0]
["2017-01-24",null,null,null,0]
["2017-01-25",null,null,null,0]
["2017-01-26",null,null,null,0]
["2017-01-27",null,null,null,0]
["2017-01-28",null,null,null,0]
["2017-01-29",null,null,null,0]
["2017-01-30",null,null,null,0]
["2017-01-31",null,null,null,0]
["TOTAL A NOUS DEVOIR",null,{"$f":"SUM(E2:E32)","v":0}]

{"sheet":"KN44_MAI","index":92,"n_rows":33,"n_cols":5,"rows_kept":33,"cut":false,"hidden":false,"merged":[]}
["Date","Numéro de bon","Palettes chargement","Palettes déchargement","Solde"]
["2017-01-01",null,null,null,{"$f":"C2-D2","v":0}]
["2017-01-02",null,null,null,{"$f":"C3-D3","v":0}]
["2017-01-03",null,null,null,{"$f":"C4-D4","v":0}]
["2017-01-04",null,null,null,0]
["2017-01-05",null,null,null,0]
["2017-01-06",null,null,null,0]
["2017-01-07",null,null,null,0]
["2017-01-08",null,null,null,0]
["2017-01-09",null,null,null,0]
["2017-01-10",null,null,null,0]
["2017-01-11",null,null,null,0]
["2017-01-12",null,null,null,0]
["2017-01-13",null,null,null,0]
["2017-01-14",null,null,null,0]
["2017-01-15",null,null,null,0]
["2017-01-16",null,null,null,0]
["2017-01-17",null,null,null,0]
["2017-01-18",null,null,null,0]
["2017-01-19",null,null,null,0]
["2017-01-20",null,null,null,0]
["2017-01-21",null,null,null,0]
["2017-01-22",null,null,null,0]
["2017-01-23",null,null,null,0]
["2017-01-24",null,null,null,0]
["2017-01-25",null,null,null,0]
["2017-01-26",null,null,null,0]
["2017-01-27",null,null,null,0]
["2017-01-28",null,null,null,0]
["2017-01-29",null,null,null,0]
["2017-01-30",null,null,null,0]
["2017-01-31",null,null,null,0]
["TOTAL A NOUS DEVOIR",null,{"$f":"SUM(E2:E32)","v":0}]

{"sheet":"KN44_JUIN","index":93,"n_rows":33,"n_cols":5,"rows_kept":33,"cut":false,"hidden":false,"merged":[]}
["Date","Numéro de bon","Palettes chargement","Palettes déchargement","Solde"]
["2017-01-01",null,null,null,{"$f":"C2-D2","v":0}]
["2017-01-02",null,null,null,{"$f":"C3-D3","v":0}]
["2017-01-03",null,null,null,{"$f":"C4-D4","v":0}]
["2017-01-04",null,null,null,0]
["2017-01-05",null,null,null,0]
["2017-01-06",null,null,null,0]
["2017-01-07",null,null,null,0]
["2017-01-08",null,null,null,0]
["2017-01-09",null,null,null,0]
["2017-01-10",null,null,null,0]
["2017-01-11",null,null,null,0]
["2017-01-12",null,null,null,0]
["2017-01-13",null,null,null,0]
["2017-01-14",null,null,null,0]
["2017-01-15",null,null,null,0]
["2017-01-16",null,null,null,0]
["2017-01-17",null,null,null,0]
["2017-01-18",null,null,null,0]
["2017-01-19",null,null,null,0]
["2017-01-20",null,null,null,0]
["2017-01-21",null,null,null,0]
["2017-01-22",null,null,null,0]
["2017-01-23",null,null,null,0]
["2017-01-24",null,null,null,0]
["2017-01-25",null,null,null,0]
["2017-01-26",null,null,null,0]
["2017-01-27",null,null,null,0]
["2017-01-28",null,null,null,0]
["2017-01-29",null,null,null,0]
["2017-01-30",null,null,null,0]
["2017-01-31",null,null,null,0]
["TOTAL A NOUS DEVOIR",null,{"$f":"SUM(E2:E32)","v":0}]

{"sheet":"KN44_JUILLET","index":94,"n_rows":33,"n_cols":5,"rows_kept":33,"cut":false,"hidden":false,"merged":[]}
["Date","Numéro de bon","Palettes chargement","Palettes déchargement","Solde"]
["2017-01-01",null,null,null,{"$f":"C2-D2","v":0}]
["2017-01-02",null,null,null,{"$f":"C3-D3","v":0}]
["2017-01-03",null,null,null,{"$f":"C4-D4","v":0}]
["2017-01-04",null,null,null,0]
["2017-01-05",null,null,null,0]
["2017-01-06",null,null,null,0]
["2017-01-07",null,null,null,0]
["2017-01-08",null,null,null,0]
["2017-01-09",null,null,null,0]
["2017-01-10",null,null,null,0]
["2017-01-11",null,null,null,0]
["2017-01-12",null,null,null,0]
["2017-01-13",null,null,null,0]
["2017-01-14",null,null,null,0]
["2017-01-15",null,null,null,0]
["2017-01-16",null,null,null,0]
["2017-01-17",null,null,null,0]
["2017-01-18",null,null,null,0]
["2017-01-19",null,null,null,0]
["2017-01-20",null,null,null,0]
["2017-01-21",null,null,null,0]
["2017-01-22",null,null,null,0]
["2017-01-23",null,null,null,0]
["2017-01-24",null,null,null,0]
["2017-01-25",null,null,null,0]
["2017-01-26",null,null,null,0]
["2017-01-27",null,null,null,0]
["2017-01-28",null,null,null,0]
["2017-01-29",null,null,null,0]
["2017-01-30",null,null,null,0]
["2017-01-31",null,null,null,0]
["TOTAL A NOUS DEVOIR",null,{"$f":"SUM(E2:E32)","v":0}]

{"sheet":"KN44_AOUT","index":95,"n_rows":33,"n_cols":5,"rows_kept":33,"cut":false,"hidden":false,"merged":[]}
["Date","Numéro de bon","Palettes chargement","Palettes déchargement","Solde"]
["2017-01-01",null,null,null,{"$f":"C2-D2","v":0}]
["2017-01-02",null,null,null,{"$f":"C3-D3","v":0}]
["2017-01-03",null,null,null,{"$f":"C4-D4","v":0}]
["2017-01-04",null,null,null,0]
["2017-01-05",null,null,null,0]
["2017-01-06",null,null,null,0]
["2017-01-07",null,null,null,0]
["2017-01-08",null,null,null,0]
["2017-01-09",null,null,null,0]
["2017-01-10",null,null,null,0]
["2017-01-11",null,null,null,0]
["2017-01-12",null,null,null,0]
["2017-01-13",null,null,null,0]
["2017-01-14",null,null,null,0]
["2017-01-15",null,null,null,0]
["2017-01-16",null,null,null,0]
["2017-01-17",null,null,null,0]
["2017-01-18",null,null,null,0]
["2017-01-19",null,null,null,0]
["2017-01-20",null,null,null,0]
["2017-01-21",null,null,null,0]
["2017-01-22",null,null,null,0]
["2017-01-23",null,null,null,0]
["2017-01-24",null,null,null,0]
["2017-01-25",null,null,null,0]
["2017-01-26",null,null,null,0]
["2017-01-27",null,null,null,0]
["2017-01-28",null,null,null,0]
["2017-01-29",null,null,null,0]
["2017-01-30",null,null,null,0]
["2017-01-31",null,null,null,0]
["TOTAL A NOUS DEVOIR",null,{"$f":"SUM(E2:E32)","v":0}]

{"sheet":"KN44_SEPTEMBRE","index":96,"n_rows":33,"n_cols":5,"rows_kept":33,"cut":false,"hidden":false,"merged":[]}
["Date","Numéro de bon","Palettes chargement","Palettes déchargement","Solde"]
["2017-01-01",null,null,null,{"$f":"C2-D2","v":0}]
["2017-01-02",null,null,null,{"$f":"C3-D3","v":0}]
["2017-01-03",null,null,null,{"$f":"C4-D4","v":0}]
["2017-01-04",null,null,null,0]
["2017-01-05",null,null,null,0]
["2017-01-06",null,null,null,0]
["2017-01-07",null,null,null,0]
["2017-01-08",null,null,null,0]
["2017-01-09",null,null,null,0]
["2017-01-10",null,null,null,0]
["2017-01-11",null,null,null,0]
["2017-01-12",null,null,null,0]
["2017-01-13",null,null,null,0]
["2017-01-14",null,null,null,0]
["2017-01-15",null,null,null,0]
["2017-01-16",null,null,null,0]
["2017-01-17",null,null,null,0]
["2017-01-18",null,null,null,0]
["2017-01-19",null,null,null,0]
["2017-01-20",null,null,null,0]
["2017-01-21",null,null,null,0]
["2017-01-22",null,null,null,0]
["2017-01-23",null,null,null,0]
["2017-01-24",null,null,null,0]
["2017-01-25",null,null,null,0]
["2017-01-26",null,null,null,0]
["2017-01-27",null,null,null,0]
["2017-01-28",null,null,null,0]
["2017-01-29",null,null,null,0]
["2017-01-30",null,null,null,0]
["2017-01-31",null,null,null,0]
["TOTAL A NOUS DEVOIR",null,{"$f":"SUM(E2:E32)","v":0}]

{"sheet":"KN44_OCTOBRE","index":97,"n_rows":33,"n_cols":5,"rows_kept":33,"cut":false,"hidden":false,"merged":[]}
["Date","Numéro de bon","Palettes chargement","Palettes déchargement","Solde"]
["2017-01-01",null,null,null,{"$f":"C2-D2","v":0}]
["2017-01-02",null,null,null,{"$f":"C3-D3","v":0}]
["2017-01-03",null,null,null,{"$f":"C4-D4","v":0}]
["2017-01-04",null,null,null,0]
["2017-01-05",null,null,null,0]
["2017-01-06",null,null,null,0]
["2017-01-07",null,null,null,0]
["2017-01-08",null,null,null,0]
["2017-01-09",null,null,null,0]
["2017-01-10",null,null,null,0]
["2017-01-11",null,null,null,0]
["2017-01-12",null,null,null,0]
["2017-01-13",null,null,null,0]
["2017-01-14",null,null,null,0]
["2017-01-15",null,null,null,0]
["2017-01-16",null,null,null,0]
["2017-01-17",null,null,null,0]
["2017-01-18",null,null,null,0]
["2017-01-19",null,null,null,0]
["2017-01-20",null,null,null,0]
["2017-01-21",null,null,null,0]
["2017-01-22",null,null,null,0]
["2017-01-23",null,null,null,0]
["2017-01-24",null,null,null,0]
["2017-01-25",null,null,null,0]
["2017-01-26",null,null,null,0]
["2017-01-27",null,null,null,0]
["2017-01-28",null,null,null,0]
["2017-01-29",null,null,null,0]
["2017-01-30",null,null,null,0]
["2017-01-31",null,null,null,0]
["TOTAL A NOUS DEVOIR",null,{"$f":"SUM(E2:E32)","v":0}]

{"sheet":"KN44_DECEMBRE","index":98,"n_rows":33,"n_cols":5,"rows_kept":33,"cut":false,"hidden":false,"merged":[]}
["Date","Numéro de bon","Palettes chargement","Palettes déchargement","Solde"]
["2017-01-01",null,null,null,{"$f":"C2-D2","v":0}]
["2017-01-02",null,null,null,{"$f":"C3-D3","v":0}]
["2017-01-03",null,null,null,{"$f":"C4-D4","v":0}]
["2017-01-04",null,null,null,0]
["2017-01-05",null,null,null,0]
["2017-01-06",null,null,null,0]
["2017-01-07",null,null,null,0]
["2017-01-08",null,null,null,0]
["2017-01-09",null,null,null,0]
["2017-01-10",null,null,null,0]
["2017-01-11",null,null,null,0]
["2017-01-12",null,null,null,0]
["2017-01-13",null,null,null,0]
["2017-01-14",null,null,null,0]
["2017-01-15",null,null,null,0]
["2017-01-16",null,null,null,0]
["2017-01-17",null,null,null,0]
["2017-01-18",null,null,null,0]
["2017-01-19",null,null,null,0]
["2017-01-20",null,null,null,0]
["2017-01-21",null,null,null,0]
["2017-01-22",null,null,null,0]
["2017-01-23",null,null,null,0]
["2017-01-24",null,null,null,0]
["2017-01-25",null,null,null,0]
["2017-01-26",null,null,null,0]
["2017-01-27",null,null,null,0]
["2017-01-28",null,null,null,0]
["2017-01-29",null,null,null,0]
["2017-01-30",null,null,null,0]
["2017-01-31",null,null,null,0]
["TOTAL A NOUS DEVOIR",null,{"$f":"SUM(E2:E32)","v":0}]

{"sheet":"KN44_NOVEMBRE","index":99,"n_rows":33,"n_cols":5,"rows_kept":33,"cut":false,"hidden":false,"merged":[]}
["Date","Numéro de bon","Palettes chargement","Palettes déchargement","Solde"]
["2017-01-01",null,null,null,{"$f":"C2-D2","v":0}]
["2017-01-02",null,null,null,{"$f":"C3-D3","v":0}]
["2017-01-03",null,null,null,{"$f":"C4-D4","v":0}]
["2017-01-04",null,null,null,0]
["2017-01-05",null,null,null,0]
["2017-01-06",null,null,null,0]
["2017-01-07",null,null,null,0]
["2017-01-08",null,null,null,0]
["2017-01-09",null,null,null,0]
["2017-01-10",null,null,null,0]
["2017-01-11",null,null,null,0]
["2017-01-12",null,null,null,0]
["2017-01-13",null,null,null,0]
["2017-01-14",null,null,null,0]
["2017-01-15",null,null,null,0]
["2017-01-16",null,null,null,0]
["2017-01-17",null,null,null,0]
["2017-01-18",null,null,null,0]
["2017-01-19",null,null,null,0]
["2017-01-20",null,null,null,0]
["2017-01-21",null,null,null,0]
["2017-01-22",null,null,null,0]
["2017-01-23",null,null,null,0]
["2017-01-24",null,null,null,0]
["2017-01-25",null,null,null,0]
["2017-01-26",null,null,null,0]
["2017-01-27",null,null,null,0]
["2017-01-28",null,null,null,0]
["2017-01-29",null,null,null,0]
["2017-01-30",null,null,null,0]
["2017-01-31",null,null,null,0]
["TOTAL A NOUS DEVOIR",null,{"$f":"SUM(E2:E32)","v":0}]

{"sheet":"TEL_JANVIER","index":100,"n_rows":33,"n_cols":5,"rows_kept":33,"cut":false,"hidden":false,"merged":[]}
["Date","Numéro de bon","Palettes chargement","Palettes déchargement","Solde"]
["2017-01-01",null,null,null,{"$f":"C2-D2","v":0}]
["2017-01-02",null,null,null,{"$f":"C3-D3","v":0}]
["2017-01-03",null,null,null,{"$f":"C4-D4","v":0}]
["2017-01-04",null,null,null,{"$f":"C5-D5","v":0}]
["2017-01-05",null,null,null,0]
["2017-01-06",null,null,null,0]
["2017-01-07",null,null,null,0]
["2017-01-08",null,null,null,0]
["2017-01-09",null,null,null,0]
["2017-01-10",null,null,null,0]
["2017-01-11",null,null,null,0]
["2017-01-12",null,null,null,0]
["2017-01-13",null,null,null,0]
["2017-01-14",null,null,null,0]
["2017-01-15",null,null,null,0]
["2017-01-16",null,null,null,0]
["2017-01-17",null,null,null,0]
["2017-01-18",null,null,null,0]
["2017-01-19",null,null,null,0]
["2017-01-20",null,null,null,0]
["2017-01-21",null,null,null,0]
["2017-01-22",null,null,null,0]
["2017-01-23",null,null,null,0]
["2017-01-24",null,null,null,0]
["2017-01-25",null,null,null,0]
["2017-01-26",null,null,null,0]
["2017-01-27",null,null,null,0]
["2017-01-28",null,null,null,0]
["2017-01-29",null,null,null,0]
["2017-01-30",null,null,null,0]
["2017-01-31",null,null,null,0]
["TOTAL A NOUS DEVOIR",null,{"$f":"SUM(E2:E32)","v":0}]

{"sheet":"Choix_AV","index":101,"n_rows":0,"n_cols":0,"rows_kept":0,"cut":false,"hidden":false,"merged":[]}

{"sheet":"Choix_JA","index":102,"n_rows":0,"n_cols":0,"rows_kept":0,"cut":false,"hidden":false,"merged":[]}

{"sheet":"Choix_FE","index":103,"n_rows":0,"n_cols":0,"rows_kept":0,"cut":false,"hidden":true,"merged":[]}

{"sheet":"Choix_MAR","index":104,"n_rows":0,"n_cols":0,"rows_kept":0,"cut":false,"hidden":false,"merged":[]}

{"sheet":"Choix_MAI","index":105,"n_rows":0,"n_cols":0,"rows_kept":0,"cut":false,"hidden":true,"merged":[]}

{"sheet":"Choix_JUIN","index":106,"n_rows":0,"n_cols":0,"rows_kept":0,"cut":false,"hidden":false,"merged":[]}

{"sheet":"Choix_JUIL","index":107,"n_rows":0,"n_cols":0,"rows_kept":0,"cut":false,"hidden":false,"merged":[]}

{"sheet":"Choix_AO","index":108,"n_rows":0,"n_cols":0,"rows_kept":0,"cut":false,"hidden":false,"merged":[]}

{"sheet":"Choix_SE","index":109,"n_rows":0,"n_cols":0,"rows_kept":0,"cut":false,"hidden":false,"merged":[]}

{"sheet":"Choix_OC","index":110,"n_rows":0,"n_cols":0,"rows_kept":0,"cut":false,"hidden":false,"merged":[]}

{"sheet":"Choix_NO","index":111,"n_rows":0,"n_cols":0,"rows_kept":0,"cut":false,"hidden":false,"merged":[]}

{"sheet":"Choix_DE","index":112,"n_rows":0,"n_cols":0,"rows_kept":0,"cut":false,"hidden":false,"merged":[]}

{"sheet":"TRANSP","index":113,"n_rows":10,"n_cols":8,"rows_kept":10,"cut":false,"hidden":false,"merged":[]}
["Mois","Jour","Date","Numéro de bon","Transporteur","Palettes chargement","Palettes déchargement","Solde"]
[{"$f":"MONTH(C2)","v":2},{"$f":"TEXT(WEEKDAY(C2),\"jjjj\")","v":"vendredi"},"2017-02-17",458,"KN 44",87,58,{"$f":"F2-G2","v":29}]
[2,"vendredi","2017-02-17",458,"TEL",87,24,63]
[2,"vendredi","2017-02-17","7897\t\t\t","KN\t\t",87,32,55]
[2,"vendredi","2017-02-17","rgtrtgretg","TMF 34",78,21,57]
[2,"vendredi","2017-02-17","ererer","KN 33",8,7,1]
[2,"vendredi","2017-02-17","gfj","DW TRANS",7,7,0]
[2,"vendredi","2017-02-17","hs","KN 44",8,7,1]
[{"$f":"MONTH(C9)","v":2},{"$f":"TEXT(WEEKDAY(C9),\"jjjj\")","v":"vendredi"},"2017-02-17",46456,"DW TRANS",87,58,{"$f":"F9-G9","v":29}]
[{"$f":"MONTH(C10)","v":2},{"$f":"TEXT(WEEKDAY(C10),\"jjjj\")","v":"vendredi"},"2017-02-17","qqdqddq","TRANSPORTEURS",4,9,{"$f":"F10-G10","v":-5}]

{"sheet":"BDD","index":114,"n_rows":26,"n_cols":5,"rows_kept":26,"cut":false,"hidden":true,"merged":[]}
["Transporteurs","Clients","Auchan Mag","Auchan Transp","Interne"]
["ARNAUD","ABCD","AUCHAN BEYCHAC","KN BEYCHAC","KN ANGERS"]
["BLASON","ALDI","AUCHAN Montauban","SDTL","KN BLANQUEFORT"]
["DOME (DTT = LUSTRUCRU)","BLASON","AUCHAN MTB Drive","T3C","KN FLEURY"]
["EFS","CELYS  CITE GOURMANDE","AUCHAN TLSE Drive",null,"KN TOULOUSE"]
["GEODIS","CEMOI","AUCHAN Toulouse",null,"KN VALLET"]
["JAMMET","CITE GOURMANDE",null,null,"LFB"]
["LAHAYE LAITA","LAHAYE"]
["LAUQUE","LAITA"]
["LE TORCH","LODIFRAIS 33"]
["MALHERBE","LUSTUCRU"]
["MEDIMAR","ŒUF GASCON"]
["MESGUEN","OLANO BX"]
["OLANO","PATIS"]
["STAM","PETIT BASQUE"]
["STFV","POMONA CESTAS"]
["TEL","POMONA CESTAS"]
["TMF","POMONA SO"]
["TRANSOCCITAN","POT AU PIN"]
[null,"SCALANDES"]
[null,"SCASO"]
[null,"SOGIVIG"]
[null,"STEF BX"]
[null,"SU AGEN"]
[null,"SU BON ENCONTRE"]
[null,"TCA"]

{"sheet":"TOTAL AGENCE","index":115,"n_rows":27,"n_cols":3,"rows_kept":27,"cut":false,"hidden":false,"merged":[]}
[]
[null,"Transporteurs","Palettes à nous devoir"]
[null,{"$f":"TRANSPORTEURS_JANVIER!C2","v":"STAM 82"},{"$f":"TRANSPORTEURS_JANVIER!C$36+TRANSPORTEURS_FEVRIER!C$36+TRANSPORTEURS_MARS!C$36+TRANSPORTEURS_AVRIL!C$36+TRANSPORTEURS_MAI!C$36+TRANSPORTEURS_JUIN!C$36+TRANSPORTEURS_JUILLET!C$36+TRANSPORTEURS_AOUT!C$36+TRANSPORTEURS_SEPTEMBRE!C$36+TRANSPORTEURS_OCTOBRE!C$36+TRANSPORTEURS_NOVEMBRE!C$36+TRANSPORTEURS_DECEMBRE!C$36","v":0}]
[null,{"$f":"TRANSPORTEURS_JANVIER!E2","v":"DENJEAN"},{"$f":"TRANSPORTEURS_JANVIER!E$36+TRANSPORTEURS_FEVRIER!E$36+TRANSPORTEURS_MARS!E$36+TRANSPORTEURS_AVRIL!E$36+TRANSPORTEURS_MAI!E$36+TRANSPORTEURS_JUIN!E$36+TRANSPORTEURS_JUILLET!E$36+TRANSPORTEURS_AOUT!E$36+TRANSPORTEURS_SEPTEMBRE!E$36+TRANSPORTEURS_OCTOBRE!E$36+TRANSPORTEURS_NOVEMBRE!E$36+TRANSPORTEURS_DECEMBRE!E$36","v":0}]
[null,{"$f":"TRANSPORTEURS_JANVIER!G2","v":"BARRAU (T.44)"},{"$f":"TRANSPORTEURS_JANVIER!G$36+TRANSPORTEURS_FEVRIER!G$36+TRANSPORTEURS_MARS!G$36+TRANSPORTEURS_AVRIL!G$36+TRANSPORTEURS_MAI!G$36+TRANSPORTEURS_JUIN!G$36+TRANSPORTEURS_JUILLET!G$36+TRANSPORTEURS_AOUT!G$36+TRANSPORTEURS_SEPTEMBRE!G$36+TRANSPORTEURS_OCTOBRE!G$36+TRANSPORTEURS_NOVEMBRE!G$36+TRANSPORTEURS_DECEMBRE!G$36","v":0}]
[null,{"$f":"TRANSPORTEURS_JANVIER!I2","v":"TRESSERRAS"},{"$f":"TRANSPORTEURS_JANVIER!I$36+TRANSPORTEURS_FEVRIER!I$36+TRANSPORTEURS_MARS!I$36+TRANSPORTEURS_AVRIL!I$36+TRANSPORTEURS_MAI!I$36+TRANSPORTEURS_JUIN!I$36+TRANSPORTEURS_JUILLET!I$36+TRANSPORTEURS_AOUT!I$36+TRANSPORTEURS_SEPTEMBRE!I$36+TRANSPORTEURS_OCTOBRE!I$36+TRANSPORTEURS_NOVEMBRE!I$36+TRANSPORTEURS_DECEMBRE!I$36","v":0}]
[null,{"$f":"TRANSPORTEURS_JANVIER!K2","v":"LA LAURAGAISE"},{"$f":"TRANSPORTEURS_JANVIER!K$36+TRANSPORTEURS_FEVRIER!K$36+TRANSPORTEURS_MARS!K$36+TRANSPORTEURS_AVRIL!K$36+TRANSPORTEURS_MAI!K$36+TRANSPORTEURS_JUIN!K$36+TRANSPORTEURS_JUILLET!K$36+TRANSPORTEURS_AOUT!K$36+TRANSPORTEURS_SEPTEMBRE!K$36+TRANSPORTEURS_OCTOBRE!K$36+TRANSPORTEURS_NOVEMBRE!K$36+TRANSPORTEURS_DECEMBRE!K$36","v":0}]
[null,{"$f":"TRANSPORTEURS_JANVIER!M2","v":"JAMMET"},{"$f":"TRANSPORTEURS_JANVIER!M$36+TRANSPORTEURS_FEVRIER!M$36+TRANSPORTEURS_MARS!M$36+TRANSPORTEURS_AVRIL!M$36+TRANSPORTEURS_MAI!M$36+TRANSPORTEURS_JUIN!M$36+TRANSPORTEURS_JUILLET!M$36+TRANSPORTEURS_AOUT!M$36+TRANSPORTEURS_SEPTEMBRE!M$36+TRANSPORTEURS_OCTOBRE!M$36+TRANSPORTEURS_NOVEMBRE!M$36+TRANSPORTEURS_DECEMBRE!M$36","v":0}]
[null,{"$f":"TRANSPORTEURS_JANVIER!O2","v":"DW TRANS"},{"$f":"TRANSPORTEURS_JANVIER!O$36+TRANSPORTEURS_FEVRIER!O$36+TRANSPORTEURS_MARS!O$36+TRANSPORTEURS_AVRIL!O$36+TRANSPORTEURS_MAI!O$36+TRANSPORTEURS_JUIN!O$36+TRANSPORTEURS_JUILLET!O$36+TRANSPORTEURS_AOUT!O$36+TRANSPORTEURS_SEPTEMBRE!O$36+TRANSPORTEURS_OCTOBRE!O$36+TRANSPORTEURS_NOVEMBRE!O$36+TRANSPORTEURS_DECEMBRE!O$36","v":0}]
[null,{"$f":"TRANSPORTEURS_JANVIER!Q2","v":"TDS"},{"$f":"TRANSPORTEURS_JANVIER!Q$36+TRANSPORTEURS_FEVRIER!Q$36+TRANSPORTEURS_MARS!Q$36+TRANSPORTEURS_AVRIL!Q$36+TRANSPORTEURS_MAI!Q$36+TRANSPORTEURS_JUIN!Q$36+TRANSPORTEURS_JUILLET!Q$36+TRANSPORTEURS_AOUT!Q$36+TRANSPORTEURS_SEPTEMBRE!Q$36+TRANSPORTEURS_OCTOBRE!Q$36+TRANSPORTEURS_NOVEMBRE!Q$36+TRANSPORTEURS_DECEMBRE!Q$36","v":0}]
[null,{"$f":"TRANSPORTEURS_JANVIER!S2","v":"BELLEVILLE"},{"$f":"TRANSPORTEURS_JANVIER!S$36+TRANSPORTEURS_FEVRIER!S$36+TRANSPORTEURS_MARS!S$36+TRANSPORTEURS_AVRIL!S$36+TRANSPORTEURS_MAI!S$36+TRANSPORTEURS_JUIN!S$36+TRANSPORTEURS_JUILLET!S$36+TRANSPORTEURS_AOUT!S$36+TRANSPORTEURS_SEPTEMBRE!S$36+TRANSPORTEURS_OCTOBRE!S$36+TRANSPORTEURS_NOVEMBRE!S$36+TRANSPORTEURS_DECEMBRE!S$36","v":0}]
[null,{"$f":"TRANSPORTEURS_JANVIER!U2","v":"RANDON"},{"$f":"TRANSPORTEURS_JANVIER!U$36+TRANSPORTEURS_FEVRIER!U$36+TRANSPORTEURS_MARS!U$36+TRANSPORTEURS_AVRIL!U$36+TRANSPORTEURS_MAI!U$36+TRANSPORTEURS_JUIN!U$36+TRANSPORTEURS_JUILLET!U$36+TRANSPORTEURS_AOUT!U$36+TRANSPORTEURS_SEPTEMBRE!U$36+TRANSPORTEURS_OCTOBRE!U$36+TRANSPORTEURS_NOVEMBRE!U$36+TRANSPORTEURS_DECEMBRE!U$36","v":0}]
[null,{"$f":"TRANSPORTEURS_JANVIER!W2","v":"OLANO 82"},{"$f":"TRANSPORTEURS_JANVIER!W$36+TRANSPORTEURS_FEVRIER!W$36+TRANSPORTEURS_MARS!W$36+TRANSPORTEURS_AVRIL!W$36+TRANSPORTEURS_MAI!W$36+TRANSPORTEURS_JUIN!W$36+TRANSPORTEURS_JUILLET!W$36+TRANSPORTEURS_AOUT!W$36+TRANSPORTEURS_SEPTEMBRE!W$36+TRANSPORTEURS_OCTOBRE!W$36+TRANSPORTEURS_NOVEMBRE!W$36+TRANSPORTEURS_DECEMBRE!W$36","v":0}]
[null,{"$f":"TRANSPORTEURS_JANVIER!Y2","v":"FAU"},{"$f":"TRANSPORTEURS_JANVIER!Y$36+TRANSPORTEURS_FEVRIER!Y$36+TRANSPORTEURS_MARS!Y$36+TRANSPORTEURS_AVRIL!Y$36+TRANSPORTEURS_MAI!Y$36+TRANSPORTEURS_JUIN!Y$36+TRANSPORTEURS_JUILLET!Y$36+TRANSPORTEURS_AOUT!Y$36+TRANSPORTEURS_SEPTEMBRE!Y$36+TRANSPORTEURS_OCTOBRE!Y$36+TRANSPORTEURS_NOVEMBRE!Y$36+TRANSPORTEURS_DECEMBRE!Y$36","v":0}]
[null,{"$f":"TRANSPORTEURS_JANVIER!AA2","v":"GALTIER"},{"$f":"TRANSPORTEURS_JANVIER!AA$36+TRANSPORTEURS_FEVRIER!AA$36+TRANSPORTEURS_MARS!AA$36+TRANSPORTEURS_AVRIL!AA$36+TRANSPORTEURS_MAI!AA$36+TRANSPORTEURS_JUIN!AA$36+TRANSPORTEURS_JUILLET!AA$36+TRANSPORTEURS_AOUT!AA$36+TRANSPORTEURS_SEPTEMBRE!AA$36+TRANSPORTEURS_OCTOBRE!AA$36+TRANSPORTEURS_NOVEMBRE!AA$36+TRANSPORTEURS_DECEMBRE!AA$36","v":0}]
[null,{"$f":"TRANSPORTEURS_JANVIER!AC2","v":"LACTALIS 47"},{"$f":"TRANSPORTEURS_JANVIER!AC$36+TRANSPORTEURS_FEVRIER!AC$36+TRANSPORTEURS_MARS!AC$36+TRANSPORTEURS_AVRIL!AC$36+TRANSPORTEURS_MAI!AC$36+TRANSPORTEURS_JUIN!AC$36+TRANSPORTEURS_JUILLET!AC$36+TRANSPORTEURS_AOUT!AC$36+TRANSPORTEURS_SEPTEMBRE!AC$36+TRANSPORTEURS_OCTOBRE!AC$36+TRANSPORTEURS_NOVEMBRE!AC$36+TRANSPORTEURS_DECEMBRE!AC$36","v":0}]
[null,{"$f":"TRANSPORTEURS_JANVIER!AE2","v":"ARNAUD 47"},{"$f":"TRANSPORTEURS_JANVIER!AE$36+TRANSPORTEURS_FEVRIER!AE$36+TRANSPORTEURS_MARS!AE$36+TRANSPORTEURS_AVRIL!AE$36+TRANSPORTEURS_MAI!AE$36+TRANSPORTEURS_JUIN!AE$36+TRANSPORTEURS_JUILLET!AE$36+TRANSPORTEURS_AOUT!AE$36+TRANSPORTEURS_SEPTEMBRE!AE$36+TRANSPORTEURS_OCTOBRE!AE$36+TRANSPORTEURS_NOVEMBRE!AE$36+TRANSPORTEURS_DECEMBRE!AE$36","v":0}]
[null,{"$f":"TRANSPORTEURS_JANVIER!AG2","v":"LADOUX"},{"$f":"TRANSPORTEURS_JANVIER!AG$36+TRANSPORTEURS_FEVRIER!AG$36+TRANSPORTEURS_MARS!AG$36+TRANSPORTEURS_AVRIL!AG$36+TRANSPORTEURS_MAI!AG$36+TRANSPORTEURS_JUIN!AG$36+TRANSPORTEURS_JUILLET!AG$36+TRANSPORTEURS_AOUT!AG$36+TRANSPORTEURS_SEPTEMBRE!AG$36+TRANSPORTEURS_OCTOBRE!AG$36+TRANSPORTEURS_NOVEMBRE!AG$36+TRANSPORTEURS_DECEMBRE!AG$36","v":0}]
[null,{"$f":"TRANSPORTEURS_JANVIER!AI2","v":"LAUQUE"},{"$f":"TRANSPORTEURS_JANVIER!AI$36+TRANSPORTEURS_FEVRIER!AI$36+TRANSPORTEURS_MARS!AI$36+TRANSPORTEURS_AVRIL!AI$36+TRANSPORTEURS_MAI!AI$36+TRANSPORTEURS_JUIN!AI$36+TRANSPORTEURS_JUILLET!AI$36+TRANSPORTEURS_AOUT!AI$36+TRANSPORTEURS_SEPTEMBRE!AI$36+TRANSPORTEURS_OCTOBRE!AI$36+TRANSPORTEURS_NOVEMBRE!AI$36+TRANSPORTEURS_DECEMBRE!AI$36","v":0}]
[null,{"$f":"TRANSPORTEURS_JANVIER!AK2","v":"L'OURS BLANC"},{"$f":"TRANSPORTEURS_JANVIER!AK$36+TRANSPORTEURS_FEVRIER!AK$36+TRANSPORTEURS_MARS!AK$36+TRANSPORTEURS_AVRIL!AK$36+TRANSPORTEURS_MAI!AK$36+TRANSPORTEURS_JUIN!AK$36+TRANSPORTEURS_JUILLET!AK$36+TRANSPORTEURS_AOUT!AK$36+TRANSPORTEURS_SEPTEMBRE!AK$36+TRANSPORTEURS_OCTOBRE!AK$36+TRANSPORTEURS_NOVEMBRE!AK$36+TRANSPORTEURS_DECEMBRE!AK$36","v":0}]
[null,"KN44"]
[null,"KN33"]
[null,"TEL"]
[null,"TMF 34"]
[null,"TMF 47"]
[null,"DW TRANS"]
[null,"Total AGENCE"]

{"sheet":"Base","index":116,"n_rows":8,"n_cols":1,"rows_kept":8,"cut":false,"hidden":true,"merged":[]}
["Tableau correspondant"]
["TRANSPORTEURS"]
["KN 44"]
["KN 33"]
["DW TRANS"]
["TMF 34"]
["TMF 47"]
["TEL"]