{"text_format":"1","workbook":"xlsx","n_sheets":2,"sheets":["Feuil1","Classement"],"not_rendered":{"charts":0,"images":0,"macros":1,"external_links":0,"defined_names":1,"comments":0,"pivot_tables":0},"unopened":[],"bounds":{"document_bytes":16777216,"sheet_cells":100000,"rows_first":2000,"rows_last":500,"rows_between":2000,"halvings":0,"cell_chars":16384,"cell_head_chars":4096},"cells_cut":0,"cells_raw":0,"read":"whole","date_system":"1900"}

{"sheet":"Feuil1","index":0,"n_rows":46,"n_cols":132,"rows_kept":46,"cut":false,"hidden":false,"merged":[]}
[null,null,null,null,null,null,null,null,null,null,null,null,null,null,null,null,null,null,null,null,null,null,null,null,null,null,null,null,null,null,null,null,null,null,null,null,null,null,null,null,null,null,null,null,null,null,null,null,null,null,null,null,null,null,null,null,null,null,null,null,null,null,null,null,null,null,null,null,null,null,null,null,null,null,null,null,null,null,null,null,null,null,null,null,null,null,null,null,null,null,null,null,null,null,null,null,null,null,6.86,null,3.57,3.57,3.57,3.57,6.86,null,3.57,3.57,3.57,3.57]
[null,null,null,"D",null,null,null,null,null,"D",null,null,null,null,null,"D",null,null,null,null,null,"D",null,null,null,null,null,"D",null,null,null,null,null,"D",null,null,null,null,null,"D",null,null,null,null,null,"D",null,null,null,null,null,"D",null,null,null,null,null,"D",null,null,null,null,null,"D",null,null,null,null,null,"D",null,null,null,null,null,"D",null,null,null,null,null,"D",null,null,null,null,null,"D",null,null,null,null,null,"D",null,null,null,null,null,"D",2.14,null,null,null,null,"D",2.14]
[null,null,null,"E",null,null,null,null,null,"E",null,null,null,null,null,"E",null,null,null,null,null,"E",null,null,null,null,null,"E",null,null,null,null,null,"E",null,null,null,null,null,"E",null,null,null,null,null,"E",null,null,null,null,null,"E",null,null,null,null,null,"E",null,null,null,null,null,"E",null,null,null,null,null,"E",null,null,null,null,null,"E",null,null,null,null,null,"E",null,null,null,null,null,"E",null,null,null,null,null,"E",null,null,null,null,null,"E",null,null,null,null,null,"E",null,null,null,null,null,null,null,null,null,null,null,17,"V","N","D"]
[null,"VILLES","sem. 1",null,"bm","be","pts","pos","sem. 2",null,"bm","be","pts","pos","sem. 3",null,"bm","be","pts","pos","sem. 4",null,"bm","be","pts","pos","sem. 5",null,"bm","be","pts","pos","sem. 6",null,"bm","be","pts","pos","sem. 7",null,"bm","be","pts","pos","sem. 8",null,"bm","be","pts","pos","sem. 9",null,"bm","be","pts","pos","sem. 10",null,"bm","be","pts","pos","sem. 11",null,"bm","be","pts","pos","sem. 12",null,"bm","be","pts","pos","sem. 13",null,"bm","be","pts","pos","sem. 14",null,"bm","be","pts","pos","sem. 15",null,"bm","be","pts","pos","sem. 16",null,"bm","be","pts","pos","sem. 17",null,"bm","be","pts","pos","sem. 18",null,"bm","be","pts","pos",null,null,null,null,"CLUB","clas.","pts","J.","G","N","P","Bp","Bc","diff.","CLUB",null,null,"sem. 18"]
[1,"ANGERS",3,"E",2,0,3,"V",4,"D",0,0,1,"N",7,"E",2,0,3,"V",3,"D",1,1,1,"N",6,"E",1,3,0,"D",7,"D",1,0,3,"V",1,"D",0,0,1,"N",7,"E",2,1,3,"V",5,"D",1,0,3,"V",7,"E",2,1,3,"V",5,"D",0,0,1,"N",10,"E",0,1,0,"D",1,"D",0,2,0,"D",9,"E",0,0,1,"N",3,"D",2,0,3,"V",3,"D",0,0,1,"N",2,"E",2,0,3,"V",9,"D",null,null,null,null,null,null,null,null,"ANGERS",{"$f":"RANK(DM5,$DM$5:$DM$24,0)","v":2},{"$f":"SUM(DO5*3)+(DP5*1)+(DQ5*0)","v":30},{"$f":"$DN$3","v":17},{"$f":"COUNTIF(E5:DF5,$DO$3)","v":8},{"$f":"COUNTIF(E5:DF5,$DP$3)","v":6},{"$f":"SUM(DN5)-(DO5+DP5)","v":3},{"$f":"E5+K5+Q5+W5+AC5+AI5+AO5+AU5+BA5+BG5+BM5+BS5+BY5+CE5+CK5+CQ5+CW5+DC5","v":16},{"$f":"F5+L5+R5+X5+AD5+AJ5+AP5+AV5+BB5+BH5+BN5+BT5+BZ5+CF5+CL5+CR5+CX5+DD5","v":9},{"$f":"DR5-DS5","v":7},"ANGERS",{"$f":"G5+M5+S5+Y5+AE5+AK5+AQ5+AW5+BC5+BI5+BO5+BU5+CA5+CG5+CM5+CS5+CY5+DE5","v":30},1,"RENNES","CAEN",null,null,"2015-12-11"]
[2,"BASTIA",2,"D",2,1,3,"V",10,"E",1,1,1,"N",4,"D",3,0,3,"V",8,"E",1,2,0,"D",9,"E",1,4,0,"D",5,"D",1,3,0,"D",6,"E",0,2,0,"D",5,"D",3,0,3,"V",5,"E",0,1,0,"D",2,"D",0,2,0,"D",6,"E",0,2,0,"D",5,"D",1,0,3,"V",7,"E",1,1,1,"N",3,"D",1,2,0,"D",5,"E",0,0,1,"N",8,"D",1,0,3,"V",3,"D",1,2,0,"D",4,"E",null,null,null,null,null,null,null,null,"BASTIA",{"$f":"RANK(DM6,$DM$5:$DM$24,0)","v":18},18,{"$f":"$DN$3","v":17},{"$f":"COUNTIF(E6:DF6,$DO$3)","v":5},{"$f":"COUNTIF(E6:DF6,$DP$3)","v":3},{"$f":"SUM(DN6)-(DO6+DP6)","v":9},{"$f":"E6+K6+Q6+W6+AC6+AI6+AO6+AU6+BA6+BG6+BM6+BS6+BY6+CE6+CK6+CQ6+CW6+DC6","v":17},{"$f":"F6+L6+R6+X6+AD6+AJ6+AP6+AV6+BB6+BH6+BN6+BT6+BZ6+CF6+CL6+CR6+CX6+DD6","v":23},{"$f":"DR6-DS6","v":-6},"BASTIA",{"$f":"G6+M6+S6+Y6+AE6+AK6+AQ6+AW6+BC6+BI6+BO6+BU6+CA6+CG6+CM6+CS6+CY6+DE6","v":18},2,"REIMS ","NICE",null,null,"2015-12-12"]
[3,"BORDEAUX",8,"D",1,2,0,"D",2,"E",1,1,1,"N",8,"E",0,0,1,"N",10,"D",2,0,3,"V",1,"E",2,2,1,"N",6,"D",1,1,1,"N",7,"E",1,6,0,"D",3,"D",3,1,3,"V",8,"E",2,3,0,"D",10,"D",0,0,1,"N",9,"D",1,0,3,"V",6,"E",0,2,0,"D",10,"D",3,1,3,"V",8,"E",2,2,1,"N",10,"D",1,4,0,"D",8,"E",0,1,0,"D",10,"D",1,0,3,"V",9,"E",null,null,null,null,null,null,null,null,"BORDEAUX",12,21,17,{"$f":"COUNTIF(E7:DF7,$DO$3)","v":5},{"$f":"COUNTIF(E7:DF7,$DP$3)","v":6},6,{"$f":"E7+K7+Q7+W7+AC7+AI7+AO7+AU7+BA7+BG7+BM7+BS7+BY7+CE7+CK7+CQ7+CW7+DC7","v":21},{"$f":"F7+L7+R7+X7+AD7+AJ7+AP7+AV7+BB7+BH7+BN7+BT7+BZ7+CF7+CL7+CR7+CX7+DD7","v":26},-5,"BORDEAUX",{"$f":"G7+M7+S7+Y7+AE7+AK7+AQ7+AW7+BC7+BI7+BO7+BU7+CA7+CG7+CM7+CS7+CY7+DE7","v":21},3,"LOSC","LORIENT"]
[4,"CAEN",7,"E",1,0,3,"V",3,"D",1,0,3,"V",5,"E",1,2,0,"D",2,"D",0,4,0,"D",3,"E",3,1,3,"V",3,"D",2,1,3,"V",4,"E",0,2,0,"D",6,"D",2,0,3,"V",9,"D",1,0,3,"V",6,"E",1,0,3,"V",1,"D",0,2,0,"D",5,"E",0,1,0,"D",3,"D",2,1,3,"V",9,"D",0,0,1,"N",10,"E",4,1,3,"V",4,"E",1,1,1,"N",4,"D",1,2,0,"D",1,"E",null,null,null,null,null,null,null,null,"CAEN",3,29,17,{"$f":"COUNTIF(E8:DF8,$DO$3)","v":9},{"$f":"COUNTIF(E8:DF8,$DP$3)","v":2},6,{"$f":"E8+K8+Q8+W8+AC8+AI8+AO8+AU8+BA8+BG8+BM8+BS8+BY8+CE8+CK8+CQ8+CW8+DC8","v":20},{"$f":"F8+L8+R8+X8+AD8+AJ8+AP8+AV8+BB8+BH8+BN8+BT8+BZ8+CF8+CL8+CR8+CX8+DD8","v":18},2,"CAEN",{"$f":"G8+M8+S8+Y8+AE8+AK8+AQ8+AW8+BC8+BI8+BO8+BU8+CA8+CG8+CM8+CS8+CY8+DE8","v":29},4,"TROYES","BASTIA"]
[5,"GFC AJACCIO",5,"E",0,0,1,"N",9,"E",0,2,0,"D",7,"D",0,2,0,"D",7,"E",0,1,0,"D",8,"D",0,1,0,"D",4,"E",1,2,0,"D",5,"D",1,1,1,"N",6,"E",0,2,0,"D",4,"D",2,2,1,"N",4,"E",0,2,0,"D",4,"D",3,1,3,"V",6,"D",2,0,3,"V",6,"E",2,1,3,"V",3,"E",2,1,3,"V",4,"D",1,1,1,"N",7,"E",2,0,3,"V",5,"D",1,1,1,"N",8,"E",null,null,null,null,null,null,null,null,"GFC AJACCIO",13,20,17,{"$f":"COUNTIF(E9:DF9,$DO$3)","v":5},{"$f":"COUNTIF(E9:DF9,$DP$3)","v":5},7,{"$f":"E9+K9+Q9+W9+AC9+AI9+AO9+AU9+BA9+BG9+BM9+BS9+BY9+CE9+CK9+CQ9+CW9+DC9","v":17},{"$f":"F9+L9+R9+X9+AD9+AJ9+AP9+AV9+BB9+BH9+BN9+BT9+BZ9+CF9+CL9+CR9+CX9+DD9","v":20},-3,"GFC AJACCIO",{"$f":"G9+M9+S9+Y9+AE9+AK9+AQ9+AW9+BC9+BI9+BO9+BU9+CA9+CG9+CM9+CS9+CY9+DE9","v":20},5,"MONTPELLIER","GUINGAMP"]
[6,"GUINGAMP",6,"E",0,1,0,"D",5,"D",0,1,0,"D",4,"E",0,3,0,"D",1,"D",2,0,3,"V",5,"E",1,0,3,"V",4,"D",2,1,3,"V",2,"E",0,3,0,"D",9,"D",3,3,1,"N",6,"E",1,0,3,"V",3,"D",1,1,1,"N",5,"E",0,0,1,"N",4,"D",2,2,1,"N",3,"E",1,2,0,"D",6,"D",2,0,3,"V",8,"E",0,3,0,"D",6,"D",1,2,0,"D",10,"E",0,1,0,"D",5,"E",null,null,null,null,null,null,null,null,"GUINGAMP",16,19,17,{"$f":"COUNTIF(E10:DF10,$DO$3)","v":5},{"$f":"COUNTIF(E10:DF10,$DP$3)","v":4},8,{"$f":"E10+K10+Q10+W10+AC10+AI10+AO10+AU10+BA10+BG10+BM10+BS10+BY10+CE10+CK10+CQ10+CW10+DC10","v":16},{"$f":"F10+L10+R10+X10+AD10+AJ10+AP10+AV10+BB10+BH10+BN10+BT10+BZ10+CF10+CL10+CR10+CX10+DD10","v":23},-7,"GUINGAMP",{"$f":"G10+M10+S10+Y10+AE10+AK10+AQ10+AW10+BC10+BI10+BO10+BU10+CA10+CG10+CM10+CS10+CY10+DE10","v":19},6,"NANTES","TOULOUSE"]
[7,"LORIENT",9,"E",0,0,1,"N",10,"D",1,1,1,"N",10,"D",0,1,0,"D",6,"E",1,4,0,"D",6,"D",3,1,3,"V",8,"E",3,2,3,"V",4,"D",2,0,3,"V",8,"E",1,2,0,"D",8,"D",3,2,3,"V",8,"E",1,1,1,"N",3,"D",1,1,1,"N",4,"E",2,2,1,"N",5,"D",4,1,3,"V",2,"D",1,2,0,"D",4,"E",1,1,1,"N",1,"D",0,0,1,"N",7,"E",3,2,3,"V",3,"E",null,null,null,null,null,null,null,null,"LORIENT",7,25,17,{"$f":"COUNTIF(E11:DF11,$DO$3)","v":6},{"$f":"COUNTIF(E11:DF11,$DP$3)","v":7},4,{"$f":"E11+K11+Q11+W11+AC11+AI11+AO11+AU11+BA11+BG11+BM11+BS11+BY11+CE11+CK11+CQ11+CW11+DC11","v":27},{"$f":"F11+L11+R11+X11+AD11+AJ11+AP11+AV11+BB11+BH11+BN11+BT11+BZ11+CF11+CL11+CR11+CX11+DD11","v":23},4,"LORIENT",{"$f":"G11+M11+S11+Y11+AE11+AK11+AQ11+AW11+BC11+BI11+BO11+BU11+CA11+CG11+CM11+CS11+CY11+DE11","v":25},7,"MONACO","ST-ETIENNE",null,null,"2015-12-13"]
[8,"LOSC",1,"D",0,1,0,"D",1,"E",0,0,1,"N",8,"D",0,0,1,"N",7,"D",1,0,3,"V",2,"E",0,0,1,"N",1,"E",1,1,1,"N",9,"D",0,1,0,"D",1,"E",0,1,0,"D",1,"D",2,0,3,"V",3,"E",1,1,1,"N",8,"D",1,2,0,"D",8,"E",0,0,1,"N",7,"D",1,1,1,"N",4,"E",1,1,1,"N",3,"E",0,2,0,"D",9,"D",1,0,3,"V",4,"E",2,1,3,"V",3,"D",null,null,null,null,null,null,null,null,"LOSC",13,20,17,{"$f":"COUNTIF(E12:DF12,$DO$3)","v":4},{"$f":"COUNTIF(E12:DF12,$DP$3)","v":8},5,{"$f":"E12+K12+Q12+W12+AC12+AI12+AO12+AU12+BA12+BG12+BM12+BS12+BY12+CE12+CK12+CQ12+CW12+DC12","v":11},{"$f":"F12+L12+R12+X12+AD12+AJ12+AP12+AV12+BB12+BH12+BN12+BT12+BZ12+CF12+CL12+CR12+CX12+DD12","v":12},-1,"LOSC",{"$f":"G12+M12+S12+Y12+AE12+AK12+AQ12+AW12+BC12+BI12+BO12+BU12+CA12+CG12+CM12+CS12+CY12+DE12","v":20},8,"MARSEILLE","AJACCIO"]
[9,"LYON",9,"D",0,0,1,"N",5,"E",1,0,3,"V",2,"D",1,2,0,"D",2,"E",4,0,3,"V",2,"D",0,0,1,"N",10,"D",1,1,1,"N",6,"D",2,0,3,"V",3,"E",1,3,0,"D",2,"D",1,0,3,"V",1,"E",1,1,1,"N",2,"D",3,0,3,"V",3,"E",1,0,3,"V",9,"D",3,0,3,"V",1,"E",0,3,0,"D",1,"D",2,4,0,"D",2,"E",0,0,1,"N",2,"D",0,2,0,"D",10,"E",null,null,null,null,null,null,null,null,"LYON",5,26,17,{"$f":"COUNTIF(E13:DF13,$DO$3)","v":7},{"$f":"COUNTIF(E13:DF13,$DP$3)","v":5},5,{"$f":"E13+K13+Q13+W13+AC13+AI13+AO13+AU13+BA13+BG13+BM13+BS13+BY13+CE13+CK13+CQ13+CW13+DC13","v":21},{"$f":"F13+L13+R13+X13+AD13+AJ13+AP13+AV13+BB13+BH13+BN13+BT13+BZ13+CF13+CL13+CR13+CX13+DD13","v":16},5,"LYON",{"$f":"G13+M13+S13+Y13+AE13+AK13+AQ13+AW13+BC13+BI13+BO13+BU13+CA13+CG13+CM13+CS13+CY13+DE13","v":26},9,"ANGERS","BORDEAUX"]
[10,"MARSEILLE",7,"D",0,1,0,"D",8,"E",0,1,0,"D",9,"D",6,0,3,"V",1,"E",0,2,0,"D",9,"D",4,1,3,"V",10,"E",1,1,1,"N",8,"E",1,1,1,"N",7,"D",1,2,0,"D",10,"D",1,2,0,"D",8,"D",1,1,1,"N",8,"E",2,1,3,"V",9,"E",1,0,3,"V",8,"D",0,1,0,"D",10,"E",2,0,3,"V",9,"D",3,3,1,"N",10,"E",1,0,3,"V",8,"D",2,2,1,"N",8,"D",null,null,null,null,null,null,null,null,"MARSEILLE",9,23,17,{"$f":"COUNTIF(E14:DF14,$DO$3)","v":6},{"$f":"COUNTIF(E14:DF14,$DP$3)","v":5},6,{"$f":"E14+K14+Q14+W14+AC14+AI14+AO14+AU14+BA14+BG14+BM14+BS14+BY14+CE14+CK14+CQ14+CW14+DC14","v":26},{"$f":"F14+L14+R14+X14+AD14+AJ14+AP14+AV14+BB14+BH14+BN14+BT14+BZ14+CF14+CL14+CR14+CX14+DD14","v":19},7,"MARSEILLE",{"$f":"G14+M14+S14+Y14+AE14+AK14+AQ14+AW14+BC14+BI14+BO14+BU14+CA14+CG14+CM14+CS14+CY14+DE14","v":23},10,"PSG","LYON"]
[11,"MONACO",4,"E",2,1,3,"V",1,"D",0,0,1,"N",3,"E",1,1,1,"N",9,"D",0,3,0,"D",8,"E",1,0,3,"V",8,"D",2,3,0,"D",10,"E",3,2,3,"V",9,"E",3,3,1,"N",7,"D",1,1,1,"N",1,"D",1,1,1,"N",7,"E",1,0,3,"V",10,"D",1,0,3,"V",10,"E",1,3,0,"D",7,"D",1,0,3,"V",9,"E",3,3,1,"N",4,"D",1,1,1,"N",3,"E",2,1,3,"V",7,"D",null,null,null,null,null,null,null,null,"MONACO",4,28,17,{"$f":"COUNTIF(E15:DF15,$DO$3)","v":7},{"$f":"COUNTIF(E15:DF15,$DP$3)","v":7},3,{"$f":"E15+K15+Q15+W15+AC15+AI15+AO15+AU15+BA15+BG15+BM15+BS15+BY15+CE15+CK15+CQ15+CW15+DC15","v":24},{"$f":"F15+L15+R15+X15+AD15+AJ15+AP15+AV15+BB15+BH15+BN15+BT15+BZ15+CF15+CL15+CR15+CX15+DD15","v":23},1,"MONACO",{"$f":"G15+M15+S15+Y15+AE15+AK15+AQ15+AW15+BC15+BI15+BO15+BU15+CA15+CG15+CM15+CS15+CY15+DE15","v":28},null," "]
[12,"MONTPELLIER",3,"D",0,2,0,"D",7,"E",0,1,0,"D",1,"D",0,1,0,"D",4,"E",0,0,1,"N",4,"D",1,2,0,"D",3,"E",1,2,0,"D",10,"D",2,3,0,"D",8,"D",2,1,3,"V",1,"E",0,2,0,"D",10,"E",1,1,1,"N",6,"D",2,0,3,"V",7,"E",1,1,1,"N",4,"D",2,1,3,"V",5,"D",3,1,3,"V",1,"E",4,2,3,"V",7,"D",0,2,0,"D",8,"E",2,2,1,"N",5,"D",null,null,null,null,null,null,null,null,"MONTPELLIER",16,19,17,{"$f":"COUNTIF(E16:DF16,$DO$3)","v":5},{"$f":"COUNTIF(E16:DF16,$DP$3)","v":4},8,{"$f":"E16+K16+Q16+W16+AC16+AI16+AO16+AU16+BA16+BG16+BM16+BS16+BY16+CE16+CK16+CQ16+CW16+DC16","v":21},{"$f":"F16+L16+R16+X16+AD16+AJ16+AP16+AV16+BB16+BH16+BN16+BT16+BZ16+CF16+CL16+CR16+CX16+DD16","v":24},-3,"MONTPELLIER",{"$f":"G16+M16+S16+Y16+AE16+AK16+AQ16+AW16+BC16+BI16+BO16+BU16+CA16+CG16+CM16+CS16+CY16+DE16","v":19},null,"sem. 19"]
[13,"NANTES",6,"D",1,0,3,"V",4,"E",0,0,1,"N",6,"D",1,0,3,"V",10,"E",0,2,0,"D",10,"D",0,2,0,"D",9,"E",0,2,0,"D",9,"E",1,0,3,"V",2,"D",1,4,0,"D",3,"E",2,1,3,"V",5,"D",3,0,3,"V",1,"E",2,0,3,"V",9,"D",0,1,0,"D",4,"E",1,2,0,"D",7,"E",0,1,0,"D",5,"D",0,0,1,"N",2,"D",0,0,1,"N",5,"E",1,1,1,"N",6,"D",null,null,null,null,null,null,null,null,"NANTES",11,22,17,{"$f":"COUNTIF(E17:DF17,$DO$3)","v":6},{"$f":"COUNTIF(E17:DF17,$DP$3)","v":4},7,{"$f":"E17+K17+Q17+W17+AC17+AI17+AO17+AU17+BA17+BG17+BM17+BS17+BY17+CE17+CK17+CQ17+CW17+DC17","v":13},{"$f":"F17+L17+R17+X17+AD17+AJ17+AP17+AV17+BB17+BH17+BN17+BT17+BZ17+CF17+CL17+CR17+CX17+DD17","v":16},-3,"NANTES",{"$f":"G17+M17+S17+Y17+AE17+AK17+AQ17+AW17+BC17+BI17+BO17+BU17+CA17+CG17+CM17+CS17+CY17+DE17","v":22},1,"NICE","MONTPELLIER",null,null,"2015-12-18"]
[14,"NICE",4,"D",1,2,0,"D",6,"E",3,3,1,"N",5,"D",2,1,3,"V",3,"E",1,1,1,"N",5,"D",0,1,0,"D",5,"E",3,1,3,"V",7,"D",6,1,3,"V",10,"E",4,1,3,"V",3,"D",1,2,0,"D",9,"E",4,1,3,"V",4,"E",1,3,0,"D",8,"D",0,0,1,"N",8,"E",1,0,3,"V",1,"D",3,0,3,"V",6,"E",0,2,0,"D",1,"E",0,0,1,"N",1,"D",0,3,0,"D",2,"E",null,null,null,null,null,null,null,null,"NICE",7,25,17,{"$f":"COUNTIF(E18:DF18,$DO$3)","v":7},{"$f":"COUNTIF(E18:DF18,$DP$3)","v":4},6,{"$f":"E18+K18+Q18+W18+AC18+AI18+AO18+AU18+BA18+BG18+BM18+BS18+BY18+CE18+CK18+CQ18+CW18+DC18","v":30},{"$f":"F18+L18+R18+X18+AD18+AJ18+AP18+AV18+BB18+BH18+BN18+BT18+BZ18+CF18+CL18+CR18+CX18+DD18","v":22},8,"NICE",{"$f":"G18+M18+S18+Y18+AE18+AK18+AQ18+AW18+BC18+BI18+BO18+BU18+CA18+CG18+CM18+CS18+CY18+DE18","v":25},2,"CAEN","PSG",null,null,"2015-12-19"]
[15,"PSG",1,"E",1,0,3,"V",9,"D",2,0,3,"V",1,"E",1,0,3,"V",9,"E",3,0,3,"V",1,"D",2,2,1,"N",2,"E",1,1,1,"N",2,"D",3,0,3,"V",2,"E",4,1,3,"V",10,"E",2,1,3,"V",2,"E",2,0,3,"V",10,"D",4,1,3,"V",1,"E",1,0,3,"V",2,"D",5,0,3,"V",2,"E",2,1,3,"V",2,"D",4,1,3,"V",3,"E",0,0,1,"N",1,"E",3,0,3,"V",10,"D",null,null,null,null,null,null,null,null,"PSG",1,45,17,{"$f":"COUNTIF(E19:DF19,$DO$3)","v":14},{"$f":"COUNTIF(E19:DF19,$DP$3)","v":3},0,{"$f":"E19+K19+Q19+W19+AC19+AI19+AO19+AU19+BA19+BG19+BM19+BS19+BY19+CE19+CK19+CQ19+CW19+DC19","v":40},{"$f":"F19+L19+R19+X19+AD19+AJ19+AP19+AV19+BB19+BH19+BN19+BT19+BZ19+CF19+CL19+CR19+CX19+DD19","v":8},32,"PSG",{"$f":"G19+M19+S19+Y19+AE19+AK19+AQ19+AW19+BC19+BI19+BO19+BU19+CA19+CG19+CM19+CS19+CY19+DE19","v":45},3,"TROYES","MONACO"]
[16,"REIMS",8,"E",2,1,3,"V",8,"D",1,0,3,"V",6,"E",0,1,0,"D",6,"D",4,1,3,"V",7,"E",2,2,1,"N",2,"D",1,1,1,"N",1,"E",0,0,1,"N",1,"D",1,0,3,"V",2,"E",0,1,0,"D",6,"D",0,1,0,"D",7,"D",0,1,0,"D",2,"E",0,3,0,"D",6,"D",1,2,0,"D",5,"E",1,3,0,"D",7,"D",2,2,1,"N",6,"E",2,1,3,"V",6,"D",1,1,1,"N",2,"D",null,null,null,null,null,null,null,null,"REIMS",13,20,17,{"$f":"COUNTIF(E20:DF20,$DO$3)","v":5},{"$f":"COUNTIF(E20:DF20,$DP$3)","v":5},7,{"$f":"E20+K20+Q20+W20+AC20+AI20+AO20+AU20+BA20+BG20+BM20+BS20+BY20+CE20+CK20+CQ20+CW20+DC20","v":18},{"$f":"F20+L20+R20+X20+AD20+AJ20+AP20+AV20+BB20+BH20+BN20+BT20+BZ20+CF20+CL20+CR20+CX20+DD20","v":21},-3,"REIMS",{"$f":"G20+M20+S20+Y20+AE20+AK20+AQ20+AW20+BC20+BI20+BO20+BU20+CA20+CG20+CM20+CS20+CY20+DE20","v":20},4,"GUINGAMP","RENNES"]
[17,"RENNES",2,"E",1,2,0,"D",7,"D",1,0,3,"V",2,"E",2,1,3,"V",5,"D",3,1,3,"V",10,"E",2,0,3,"V",1,"D",1,1,1,"N",5,"E",1,1,1,"N",4,"D",1,1,1,"N",7,"E",1,1,1,"N",9,"D",1,4,0,"D",3,"E",1,1,1,"N",1,"D",0,1,0,"D",1,"E",2,0,3,"V",8,"D",2,2,1,"N",7,"E",2,2,1,"N",10,"D",0,1,0,"D",9,"E",1,1,1,"N",1,"D",null,null,null,null,null,null,null,null,"RENNES",9,23,17,{"$f":"COUNTIF(E21:DF21,$DO$3)","v":5},{"$f":"COUNTIF(E21:DF21,$DP$3)","v":8},4,{"$f":"E21+K21+Q21+W21+AC21+AI21+AO21+AU21+BA21+BG21+BM21+BS21+BY21+CE21+CK21+CQ21+CW21+DC21","v":22},{"$f":"F21+L21+R21+X21+AD21+AJ21+AP21+AV21+BB21+BH21+BN21+BT21+BZ21+CF21+CL21+CR21+CX21+DD21","v":20},2,"RENNES",{"$f":"G21+M21+S21+Y21+AE21+AK21+AQ21+AW21+BC21+BI21+BO21+BU21+CA21+CG21+CM21+CS21+CY21+DE21","v":23},5,"LORIENT","NANTES"]
[18,"ST-ETIENNE",10,"E",1,2,0,"D",2,"D",1,1,1,"N",10,"E",1,0,3,"V",8,"D",2,1,3,"V",4,"E",2,1,3,"V",9,"D",2,0,3,"V",3,"E",1,0,3,"V",10,"D",1,4,0,"D",9,"E",0,1,0,"D",4,"D",2,0,3,"V",10,"E",1,4,0,"D",2,"D",3,0,3,"V",9,"E",0,3,0,"D",10,"D",0,2,0,"D",8,"D",3,0,3,"V",9,"E",0,1,0,"D",9,"D",1,1,1,"N",7,"E",null,null,null,null,null,null,null,null,"ST-ETIENNE",5,26,17,{"$f":"COUNTIF(E22:DF22,$DO$3)","v":8},{"$f":"COUNTIF(E22:DF22,$DP$3)","v":2},7,{"$f":"E22+K22+Q22+W22+AC22+AI22+AO22+AU22+BA22+BG22+BM22+BS22+BY22+CE22+CK22+CQ22+CW22+DC22","v":21},{"$f":"F22+L22+R22+X22+AD22+AJ22+AP22+AV22+BB22+BH22+BN22+BT22+BZ22+CF22+CL22+CR22+CX22+DD22","v":21},0,"ST-ETIENNE",{"$f":"G22+M22+S22+Y22+AE22+AK22+AQ22+AW22+BC22+BI22+BO22+BU22+CA22+CG22+CM22+CS22+CY22+DE22","v":26},6,"BASTIA","REIMS"]
[19,"TOULOUSE",10,"D",2,1,3,"V",3,"E",0,1,0,"D",3,"D",1,1,1,"N",5,"E",1,3,0,"D",7,"D",2,2,1,"N",6,"E",1,1,1,"N",8,"D",1,1,1,"N",5,"E",0,3,0,"D",4,"E",2,2,1,"N",7,"D",1,2,0,"D",2,"E",0,3,0,"D",7,"D",1,1,1,"N",2,"E",0,5,0,"D",6,"E",0,2,0,"D",6,"D",2,0,3,"V",5,"E",3,0,3,"V",7,"D",2,3,0,"D",6,"E",null,null,null,null,null,null,null,null,"TOULOUSE",19,15,17,{"$f":"COUNTIF(E23:DF23,$DO$3)","v":3},{"$f":"COUNTIF(E23:DF23,$DP$3)","v":6},8,{"$f":"E23+K23+Q23+W23+AC23+AI23+AO23+AU23+BA23+BG23+BM23+BS23+BY23+CE23+CK23+CQ23+CW23+DC23","v":19},{"$f":"F23+L23+R23+X23+AD23+AJ23+AP23+AV23+BB23+BH23+BN23+BT23+BZ23+CF23+CL23+CR23+CX23+DD23","v":31},-12,"TOULOUSE",{"$f":"G23+M23+S23+Y23+AE23+AK23+AQ23+AW23+BC23+BI23+BO23+BU23+CA23+CG23+CM23+CS23+CY23+DE23","v":15},7,"TOULOUSE","LOSC"]
[20,"TROYES",5,"D",0,0,1,"N",6,"D",3,3,1,"N",9,"E",0,6,0,"D",4,"D",0,0,1,"N",3,"D",1,3,0,"D",7,"E",0,1,0,"D",3,"D",0,1,0,"D",4,"E",1,1,1,"N",6,"D",0,1,0,"D",5,"E",0,3,0,"D",9,"E",0,1,0,"D",3,"D",0,1,0,"D",5,"E",1,4,0,"D",4,"D",1,1,1,"N",2,"E",1,4,0,"D",5,"D",0,3,0,"D",6,"E",1,1,1,"N",4,"D",null,null,null,null,null,null,null,null,"TROYES",20,6,17,{"$f":"COUNTIF(E24:DF24,$DO$3)","v":0},{"$f":"COUNTIF(E24:DF24,$DP$3)","v":6},11,{"$f":"E24+K24+Q24+W24+AC24+AI24+AO24+AU24+BA24+BG24+BM24+BS24+BY24+CE24+CK24+CQ24+CW24+DC24","v":9},{"$f":"F24+L24+R24+X24+AD24+AJ24+AP24+AV24+BB24+BH24+BN24+BT24+BZ24+CF24+CL24+CR24+CX24+DD24","v":34},-25,"TROYES",{"$f":"G24+M24+S24+Y24+AE24+AK24+AQ24+AW24+BC24+BI24+BO24+BU24+CA24+CG24+CM24+CS24+CY24+DE24","v":6},8,"ST-ETIENNE","ANGERS",null,null,"2015-12-20"]
[null,null,null,null,{"$f":"SUM(E5:E24)","v":17},{"$f":"SUM(F5:F24)","v":17},{"$f":"SUM(G5:G24)","v":28},null,null,null,{"$f":"SUM(K5:K24)","v":16},{"$f":"SUM(L5:L24)","v":16},{"$f":"SUM(M5:M24)","v":25},null,null,null,{"$f":"SUM(Q5:Q24)","v":22},{"$f":"SUM(R5:R24)","v":22},{"$f":"SUM(S5:S24)","v":28},null,null,null,{"$f":"SUM(W5:W24)","v":26},{"$f":"SUM(X5:X24)","v":26},{"$f":"SUM(Y5:Y24)","v":28},null,null,null,{"$f":"SUM(AC5:AC24)","v":28},{"$f":"SUM(AD5:AD24)","v":28},{"$f":"SUM(AE5:AE24)","v":27},null,null,null,{"$f":"SUM(AI5:AI24)","v":26},{"$f":"SUM(AJ5:AJ24)","v":26},{"$f":"SUM(AK5:AK24)","v":26},null,null,null,{"$f":"SUM(AO5:AO24)","v":25},{"$f":"SUM(AP5:AP24)","v":25},{"$f":"SUM(AQ5:AQ24)","v":27},null,null,null,{"$f":"SUM(AU5:AU24)","v":34},{"$f":"SUM(AV5:AV24)","v":34},{"$f":"SUM(AW5:AW24)","v":28},null,null,null,{"$f":"SUM(BA5:BA24)","v":23},{"$f":"SUM(BB5:BB24)","v":23},{"$f":"SUM(BC5:BC24)","v":28},null,null,null,{"$f":"SUM(BG5:BG24)","v":23},{"$f":"SUM(BH5:BH24)","v":23},{"$f":"SUM(BI5:BI24)","v":26},null,null,null,{"$f":"SUM(BM5:BM24)","v":23},{"$f":"SUM(BN5:BN24)","v":23},{"$f":"SUM(BO5:BO24)","v":28},null,null,null,{"$f":"SUM(BS5:BS24)","v":16},{"$f":"SUM(BT5:BT24)","v":16},{"$f":"SUM(BU5:BU24)","v":27},null,null,null,{"$f":"SUM(BY5:BY24)","v":31},{"$f":"SUM(BZ5:BZ24)","v":31},{"$f":"SUM(CA5:CA24)","v":29},null,null,null,{"$f":"SUM(CE5:CE24)","v":24},{"$f":"SUM(CF5:CF24)","v":24},{"$f":"SUM(CG5:CG24)","v":27},null,null,null,{"$f":"SUM(CK5:CK24)","v":35},{"$f":"SUM(CL5:CL24)","v":35},{"$f":"SUM(CM5:CM24)","v":26},null,null,null,{"$f":"SUM(CQ5:CQ24)","v":13},{"$f":"SUM(CR5:CR24)","v":13},{"$f":"SUM(CS5:CS24)","v":26},null,null,null,{"$f":"SUM(CW5:CW24)","v":27},{"$f":"SUM(CX5:CX24)","v":27},{"$f":"SUM(CY5:CY24)","v":26},null,null,null,{"$f":"SUM(DC5:DC24)","v":0},{"$f":"SUM(DD5:DD24)","v":0},{"$f":"SUM(DE5:DE24)","v":0},null,null,null,null,null,null,null,{"$f":"SUM(DM5:DM24)","v":460},null,{"$f":"SUM(DO5:DO24)","v":120},{"$f":"SUM(DP5:DP24)","v":100},{"$f":"SUM(DQ5:DQ24)","v":120},{"$f":"SUM(DR5:DR24)","v":409},{"$f":"SUM(DS5:DS24)","v":409},null,null,{"$f":"SUM(DV5:DV24)","v":460},9,"AJACCIO","LYON"]
[null,null,null,null,null,null,null,null,null,null,null,null,null,null,null,null,null,null,null,null,null,null,null,null,null,null,null,null,null,null,null,null,null,null,null,null,null,null,null,null,null,null,null,null,null,null,null,null,null,null,null,null,null,null,null,null,null,null,null,null,null,null,null,null,null,null,null,null,null,null,null,null,null,null,null,null,null,null,null,null,null,null,null,null,null,null,null,null,null,null,null,null,null,null,null,null,null,null,null,null,null,null,null,null,null,null,null,null,null,null,null,null,null,null,null,null,null,null,null,null,null,{"$f":"DR25/DN3","v":24.058823529411764},{"$f":"DS25/DM25","v":0.88913043478260867},null,null,null,10,"BORDEAUX","MARSEILLE"]
[null,null,{"$f":"COUNTIF(D5:D24,D2)","v":10},"D","V",null,{"$f":"H27*3","v":24},{"$f":"COUNTIF(H5:H24,E27)","v":8},{"$f":"COUNTIF(J5:J24,J2)","v":10},"D","V",null,{"$f":"N27*3","v":15},{"$f":"COUNTIF(N5:N24,K27)","v":5},{"$f":"COUNTIF(P5:P24,P2)","v":10},"D","V",null,{"$f":"T27*3","v":24},{"$f":"COUNTIF(T5:T24,Q27)","v":8},{"$f":"COUNTIF(V5:V24,V2)","v":10},"D","V",null,{"$f":"Z27*3","v":24},{"$f":"COUNTIF(Z5:Z24,W27)","v":8},{"$f":"COUNTIF(AB5:AB24,AB2)","v":10},"D","V",null,{"$f":"AF27*3","v":21},{"$f":"COUNTIF(AF5:AF24,AC27)","v":7},{"$f":"COUNTIF(AH5:AH24,AH2)","v":10},"D","V",null,{"$f":"AL27*3","v":18},{"$f":"COUNTIF(AL5:AL24,AI27)","v":6},{"$f":"COUNTIF(AN5:AN24,AN2)","v":10},"D","V",null,{"$f":"AR27*3","v":21},{"$f":"COUNTIF(AR5:AR24,AO27)","v":7},{"$f":"COUNTIF(AT5:AT24,AT2)","v":10},"D","V",null,{"$f":"AX27*3","v":24},{"$f":"COUNTIF(AX5:AX24,AU27)","v":8},{"$f":"COUNTIF(AZ5:AZ24,AZ2)","v":10},"D","V",null,{"$f":"BD27*3","v":24},{"$f":"COUNTIF(BD5:BD24,BA27)","v":8},{"$f":"COUNTIF(BF5:BF24,BF2)","v":10},"D","V",null,{"$f":"BJ27*3","v":18},{"$f":"COUNTIF(BJ5:BJ24,BG27)","v":6},{"$f":"COUNTIF(BL5:BL24,BL2)","v":10},"D","V",null,{"$f":"BP27*3","v":24},{"$f":"COUNTIF(BP5:BP24,BM27)","v":8},{"$f":"COUNTIF(BR5:BR24,BR2)","v":10},"D","V",null,{"$f":"BV27*3","v":21},{"$f":"COUNTIF(BV5:BV24,BS27)","v":7},{"$f":"COUNTIF(BX5:BX24,BX2)","v":10},"D","V",null,{"$f":"CB27*3","v":27},{"$f":"COUNTIF(CB5:CB24,BY27)","v":9},{"$f":"COUNTIF(CD5:CD24,CD2)","v":10},"D","V",null,{"$f":"CH27*3","v":21},{"$f":"COUNTIF(CH5:CH24,CE27)","v":7},{"$f":"COUNTIF(CJ5:CJ24,CJ2)","v":10},"D","V",null,{"$f":"CN27*3","v":18},{"$f":"COUNTIF(CN5:CN24,CK27)","v":6},{"$f":"COUNTIF(CP5:CP24,CP2)","v":10},"D","V",null,{"$f":"CT27*3","v":18},{"$f":"COUNTIF(CT5:CT24,CQ27)","v":6},{"$f":"COUNTIF(CV5:CV24,CV2)","v":10},"D","V",null,{"$f":"CZ27*3","v":18},{"$f":"COUNTIF(CZ5:CZ24,CW27)","v":6},{"$f":"COUNTIF(DB5:DB24,DB2)","v":10},"D","V",null,{"$f":"DF27*3","v":0},{"$f":"COUNTIF(DF5:DF24,DC27)","v":0},null,null,null,1,{"$f":"Classement!A1","v":"PSG"},{"$f":"Classement!B1","v":45},null,null,null,null,null,null,null,null,null,null,null," "]
[null,null,{"$f":"COUNTIF(D5:D24,D3)","v":10},"E","N",null,{"$f":"H28*1","v":4},{"$f":"COUNTIF(H5:H24,E28)","v":4},{"$f":"COUNTIF(J5:J24,J3)","v":10},"E","N",null,{"$f":"N28*1","v":10},{"$f":"COUNTIF(N5:N24,K28)","v":10},{"$f":"COUNTIF(P5:P24,P3)","v":10},"E","N",null,{"$f":"T28*1","v":4},{"$f":"COUNTIF(T5:T24,Q28)","v":4},{"$f":"COUNTIF(V5:V24,V3)","v":10},"E","N",null,{"$f":"Z28*1","v":4},{"$f":"COUNTIF(Z5:Z24,W28)","v":4},{"$f":"COUNTIF(AB5:AB24,AB3)","v":10},"E","N",null,{"$f":"AF28*1","v":6},{"$f":"COUNTIF(AF5:AF24,AC28)","v":6},{"$f":"COUNTIF(AH5:AH24,AH3)","v":10},"E","N",null,{"$f":"AL28*1","v":8},{"$f":"COUNTIF(AL5:AL24,AI28)","v":8},{"$f":"COUNTIF(AN5:AN24,AN3)","v":10},"E","N",null,{"$f":"AR28*1","v":6},{"$f":"COUNTIF(AR5:AR24,AO28)","v":6},{"$f":"COUNTIF(AT5:AT24,AT3)","v":10},"E","N",null,{"$f":"AX28*1","v":4},{"$f":"COUNTIF(AX5:AX24,AU28)","v":4},{"$f":"COUNTIF(AZ5:AZ24,AZ3)","v":10},"E","N",null,{"$f":"BD28*1","v":4},{"$f":"COUNTIF(BD5:BD24,BA28)","v":4},{"$f":"COUNTIF(BF5:BF24,BF3)","v":10},"E","N",null,{"$f":"BJ28*1","v":8},{"$f":"COUNTIF(BJ5:BJ24,BG28)","v":8},{"$f":"COUNTIF(BL5:BL24,BL3)","v":10},"E","N",null,{"$f":"BP28*1","v":4},{"$f":"COUNTIF(BP5:BP24,BM28)","v":4},{"$f":"COUNTIF(BR5:BR24,BR3)","v":10},"E","N",null,{"$f":"BV28*1","v":6},{"$f":"COUNTIF(BV5:BV24,BS28)","v":6},{"$f":"COUNTIF(BX5:BX24,BX3)","v":10},"E","N",null,{"$f":"CB28*1","v":2},{"$f":"COUNTIF(CB5:CB24,BY28)","v":2},{"$f":"COUNTIF(CD5:CD24,CD3)","v":10},"E","N",null,{"$f":"CH28*1","v":6},{"$f":"COUNTIF(CH5:CH24,CE28)","v":6},{"$f":"COUNTIF(CJ5:CJ24,CJ3)","v":10},"E","N",null,{"$f":"CN28*1","v":8},{"$f":"COUNTIF(CN5:CN24,CK28)","v":8},{"$f":"COUNTIF(CP5:CP24,CP3)","v":10},"E","N",null,{"$f":"CT28*1","v":8},{"$f":"COUNTIF(CT5:CT24,CQ28)","v":8},{"$f":"COUNTIF(CV5:CV24,CV3)","v":10},"E","N",null,{"$f":"CZ28*1","v":8},{"$f":"COUNTIF(CZ5:CZ24,CW28)","v":8},{"$f":"COUNTIF(DB5:DB24,DB3)","v":10},"E","N",null,{"$f":"DF28*1","v":0},{"$f":"COUNTIF(DF5:DF24,DC28)","v":0},null,null,null,2,{"$f":"Classement!A2","v":"ANGERS"},{"$f":"Classement!B2","v":30},null,null,null,null,null,null,null,null,null,null,null,"sem. 20"]
[null,null,null,null,"D",null,{"$f":"SUM(G27:G28)","v":28},{"$f":"COUNTIF(H5:H24,E29)","v":8},null,null,"D",null,{"$f":"SUM(M27:M28)","v":25},{"$f":"COUNTIF(N5:N24,K29)","v":5},null,null,"D",null,{"$f":"SUM(S27:S28)","v":28},{"$f":"COUNTIF(T5:T24,Q29)","v":8},null,null,"D",null,{"$f":"SUM(Y27:Y28)","v":28},{"$f":"COUNTIF(Z5:Z24,W29)","v":8},null,null,"D",null,{"$f":"SUM(AE27:AE28)","v":27},{"$f":"COUNTIF(AF5:AF24,AC29)","v":7},null,null,"D",null,{"$f":"SUM(AK27:AK28)","v":26},{"$f":"COUNTIF(AL5:AL24,AI29)","v":6},null,null,"D",null,{"$f":"SUM(AQ27:AQ28)","v":27},{"$f":"COUNTIF(AR5:AR24,AO29)","v":7},null,null,"D",null,{"$f":"SUM(AW27:AW28)","v":28},{"$f":"COUNTIF(AX5:AX24,AU29)","v":8},null,null,"D",null,{"$f":"SUM(BC27:BC28)","v":28},{"$f":"COUNTIF(BD5:BD24,BA29)","v":8},null,null,"D",null,{"$f":"SUM(BI27:BI28)","v":26},{"$f":"COUNTIF(BJ5:BJ24,BG29)","v":6},null,null,"D",null,{"$f":"SUM(BO27:BO28)","v":28},{"$f":"COUNTIF(BP5:BP24,BM29)","v":8},null,null,"D",null,{"$f":"SUM(BU27:BU28)","v":27},{"$f":"COUNTIF(BV5:BV24,BS29)","v":7},null,null,"D",null,{"$f":"SUM(CA27:CA28)","v":29},{"$f":"COUNTIF(CB5:CB24,BY29)","v":9},null,null,"D",null,{"$f":"SUM(CG27:CG28)","v":27},{"$f":"COUNTIF(CH5:CH24,CE29)","v":7},null,null,"D",null,{"$f":"SUM(CM27:CM28)","v":26},{"$f":"COUNTIF(CN5:CN24,CK29)","v":6},null,null,"D",null,{"$f":"SUM(CS27:CS28)","v":26},{"$f":"COUNTIF(CT5:CT24,CQ29)","v":6},null,null,"D",null,{"$f":"SUM(CY27:CY28)","v":26},{"$f":"COUNTIF(CZ5:CZ24,CW29)","v":6},null,null,"D",null,{"$f":"SUM(DE27:DE28)","v":0},{"$f":"COUNTIF(DF5:DF24,DC29)","v":0},null,null,null,3,{"$f":"Classement!A3","v":"CAEN"},{"$f":"Classement!B3","v":29},null,null,null,null,null,null,null,null,null,null,1]
[null,null,null,null,null,null,null,{"$f":"SUM(H27:H29)","v":20},null,null,null,null,null,{"$f":"SUM(N27:N29)","v":20},null,null,null,null,null,{"$f":"SUM(T27:T29)","v":20},null,null,null,null,null,{"$f":"SUM(Z27:Z29)","v":20},null,null,null,null,null,{"$f":"SUM(AF27:AF29)","v":20},null,null,null,null,null,{"$f":"SUM(AL27:AL29)","v":20},null,null,null,null,null,{"$f":"SUM(AR27:AR29)","v":20},null,null,null,null,null,{"$f":"SUM(AX27:AX29)","v":20},null,null,null,null,null,{"$f":"SUM(BD27:BD29)","v":20},null,null,null,null,null,{"$f":"SUM(BJ27:BJ29)","v":20},null,null,null,null,null,{"$f":"SUM(BP27:BP29)","v":20},null,null,null,null,null,{"$f":"SUM(BV27:BV29)","v":20},null,null,null,null,null,{"$f":"SUM(CB27:CB29)","v":20},null,null,null,null,null,{"$f":"SUM(CH27:CH29)","v":20},null,null,null,null,null,{"$f":"SUM(CN27:CN29)","v":20},null,null,null,null,null,{"$f":"SUM(CT27:CT29)","v":20},null,null,null,null,null,{"$f":"SUM(CZ27:CZ29)","v":20},null,null,null,null,null,{"$f":"SUM(DF27:DF29)","v":0},null,null,null,4,{"$f":"Classement!A4","v":"MONACO"},{"$f":"Classement!B4","v":28},null,null,null,null,null,null,null,null,null,null,2]
[null,null,null,null,null,null,null,null,null,null,null,null,null,null,null,null,null,null,null,null,null,null,null,null,null,null,null,null,null,null,null,null,null,null,null,null,null,null,null,null,null,null,null,null,null,null,null,null,null,null,null,null,null,null,null,null,null,null,null,null,null,null,null,null,null,null,null,null,null,null,null,null,null,null,null,null,null,null,null,null,null,null,null,null,null,null,null,null,null,null,null,null,null,null,null,null,null,null,null,null,null,null,null,null,null,null,null,null,null,null,null,null,null,5,{"$f":"Classement!A5","v":"LYON"},{"$f":"Classement!B5","v":26},null,null,null,null,null,null,null,null,null,null,3]
[null,null,null,null,null,null,null,null,null,null,null,null,null,null,null,null,null,null,null,null,null,null,null,null,null,null,null,null,null,null,null,null,null,null,null,null,null,null,null,null,null,null,null,null,null,null,null,null,null,null,null,null,null,null,null,null,null,null,null,null,null,null,null,null,null,null,null,null,null,null,null,null,null,null,null,null,null,null,null,null,null,null,null,null,null,null,null,null,null,null,null,null,null,null,null,"V",{"$f":"H27+N27+T27+Z27+AF27+AL27+AR27+AX27+BD27+BJ27+BP27+BV27+CB27+CH27+CN27+CT27+CZ27+DF27","v":120},null,{"$f":"CS32*1/CS36","v":0.54545454545454541},null,null,null,null,null,null,null,null,null,null,null,null,null,null,6,{"$f":"Classement!A6","v":"ST-ETIENNE"},{"$f":"Classement!B6","v":26},null,null,null,null,null,null,null,null,null,null,4]
[null,null,null,null,null,null,null,null,null,null,null,null,null,null,null,null,null,null,null,null,null,null,null,null,null,null,null,null,null,null,null,null,null,null,null,null,null,null,null,null,null,null,null,null,null,null,null,null,null,null,null,null,null,null,null,null,null,null,null,null,null,null,null,null,null,null,null,null,null,null,null,null,null,null,null,null,null,null,null,null,null,null,null,null,null,null,null,null,null,null,null,null,null,null,null,"N",{"$f":"H28+N28+T28+Z28+AF28+AL28+AR28+AX28+BD28+BJ28+BP28+BV28+CB28+CH28+CN28+CT28+CZ28+DF28","v":100},null,{"$f":"CS33*1/CS36","v":0.45454545454545453},null,null,null,null,null,null,null,null,null,null,null,null,null,null,7,{"$f":"Classement!A7","v":"NICE"},{"$f":"Classement!B7","v":25},null,null,null,null,null,null,null,null,null,null,5]
[null,null,null,null,null,null,null,null,null,null,null,null,null,null,null,null,null,null,null,null,null,null,null,null,null,null,null,null,null,null,null,null,null,null,null,null,null,null,null,null,null,null,null,null,null,null,null,null,null,null,null,null,null,null,null,null,null,null,null,null,null,null,null,null,null,null,null,null,null,null,null,null,null,null,null,null,null,null,null,null,null,null,null,null,null,null,null,null,null,null,null,null,null,null,null,"D",{"$f":"H29+N29+T29+Z29+AF29+AL29+AR29+AX29+BD29+BJ29+BP29+BV29+CB29+CH29+CN29+CT29+CZ29+DF29","v":120},null,null,null,null,null,null,null,null,null,null,null,null,null,null,null,null,8,{"$f":"Classement!A8","v":"LORIENT"},{"$f":"Classement!B8","v":25},null,null,null,null,null,null,null,null,null,null,6]
[null,null,null,null,null,null,null,null,null,null,null,null,null,null,null,null,null,null,null,null,null,null,null,null,null,null,null,null,null,null,null,null,null,null,null,null,null,null,null,null,null,null,null,null,null,null,null,null,null,null,null,null,null,null,null,null,null,null,null,null,null,null,null,null,null,null,null,null,null,null,null,null,null,null,null,null,null,null,null,null,null,null,null,null,null,null,null,null,null,null,null,null,null,null,null,null,null,null,null,null,null,null,null,null,null,null,null,null,null,null,null,null,null,9,{"$f":"Classement!A9","v":"MARSEILLE"},{"$f":"Classement!B9","v":23},null,null,null,null,null,null,null,null,null,null,7]
[null,null,null,null,null,null,null,null,null,null,null,null,null,null,null,null,null,null,null,null,null,null,null,null,null,null,null,null,null,null,null,null,null,null,null,null,null,null,null,null,null,null,null,null,null,null,null,null,null,null,null,null,null,null,null,null,null,null,null,null,null,null,null,null,null,null,null,null,null,null,null,null,null,null,null,null,null,null,null,null,null,null,null,null,null,null,null,null,null,null,null,null,null,null,null,null,{"$f":"CS32+CS33","v":220},null,null,null,null,null,null,null,null,null,null,null,null,null,null,null,null,10,{"$f":"Classement!A10","v":"RENNES"},{"$f":"Classement!B10","v":23},null,null,null,null,null,null,null,null,null,null,8]
[null,null,null,null,null,null,null,null,null,null,null,null,null,null,null,null,null,null,null,null,null,null,null,null,null,null,null,null,null,null,null,null,null,null,null,null,null,null,null,null,null,null,null,null,null,null,null,null,null,null,null,null,null,null,null,null,null,null,null,null,null,null,null,null,null,null,null,null,null,null,null,null,null,null,null,null,null,null,null,null,null,null,null,null,null,null,null,null,null,null,null,null,null,null,null,null,null,null,null,null,null,null,null,null,null,null,null,null,null,null,null,null,null,11,{"$f":"Classement!A11","v":"NANTES"},{"$f":"Classement!B11","v":22},null,null,null,null,null,null,null,null,null,null,9]
[null,null,null,null,null,null,null,null,null,null,null,null,null,null,null,null,null,null,null,null,null,null,null,null,null,null,null,null,null,null,null,null,null,null,null,null,null,null,null,null,null,null,null,null,null,null,null,null,null,null,null,null,null,null,null,null,null,null,null,null,null,null,null,null,null,null,null,null,null,null,null,null,null,null,null,null,null,null,null,null,null,null,null,null,null,null,null,null,null,null,null,null,null,null,null,null,null,null,null,null,null,null,null,null,null,null,null,null,null,null,null,null,null,12,{"$f":"Classement!A12","v":"BORDEAUX"},{"$f":"Classement!B12","v":21},null,null,null,null,null,null,null,null,null,null,10]
[null,null,null,null,null,null,null,null,null,null,null,null,null,null,null,null,null,null,null,null,null,null,null,null,null,null,null,null,null,null,null,null,null,null,null,null,null,null,null,null,null,null,null,null,null,null,null,null,null,null,null,null,null,null,null,null,null,null,null,null,null,null,null,null,null,null,null,null,null,null,null,null,null,null,null,null,null,null,null,null,null,null,null,null,null,null,null,null,null,null,null,null,null,null,null,null,null,null,null,null,null,null,null,null,null,null,null,null,null,null,null,null,null,13,{"$f":"Classement!A13","v":"LOSC"},{"$f":"Classement!B13","v":20}]
[null,null,null,null,null,null,null,null,null,null,null,null,null,null,null,null,null,null,null,null,null,null,null,null,null,null,null,null,null,null,null,null,null,null,null,null,null,null,null,null,null,null,null,null,null,null,null,null,null,null,null,null,null,null,null,null,null,null,null,null,null,null,null,null,null,null,null,null,null,null,null,null,null,null,null,null,null,null,null,null,null,null,null,null,null,null,null,null,null,null,null,null,null,null,null,null,null,null,null,null,null,null,null,null,null,null,null,null,null,null,null,null,null,14,{"$f":"Classement!A14","v":"GFC AJACCIO"},{"$f":"Classement!B14","v":20}]
[null,null,null,null,null,null,null,null,null,null,null,null,null,null,null,null,null,null,null,null,null,null,null,null,null,null,null,null,null,null,null,null,null,null,null,null,null,null,null,null,null,null,null,null,null,null,null,null,null,null,null,null,null,null,null,null,null,null,null,null,null,null,null,null,null,null,null,null,null,null,null,null,null,null,null,null,null,null,null,null,null,null,null,null,null,null,null,null,null,null,null,null,null,null,null,null,null,null,null,null,null,null,null,null,null,null,null,null,null,null,null,null,null,15,{"$f":"Classement!A15","v":"REIMS"},{"$f":"Classement!B15","v":20}]
[null,null,null,null,null,null,null,null,null,null,null,null,null,null,null,null,null,null,null,null,null,null,null,null,null,null,null,null,null,null,null,null,null,null,null,null,null,null,null,null,null,null,null,null,null,null,null,null,null,null,null,null,null,null,null,null,null,null,null,null,null,null,null,null,null,null,null,null,null,null,null,null,null,null,null,null,null,null,null,null,null,null,null,null,null,null,null,null,null,null,null,null,null,null,null,null,null,null,null,null,null,null,null,null,null,null,null,null,null,null,null,null,null,16,{"$f":"Classement!A16","v":"MONTPELLIER"},{"$f":"Classement!B16","v":19}]
[null,null,null,null,null,null,null,null,null,null,null,null,null,null,null,null,null,null,null,null,null,null,null,null,null,null,null,null,null,null,null,null,null,null,null,null,null,null,null,null,null,null,null,null,null,null,null,null,null,null,null,null,null,null,null,null,null,null,null,null,null,null,null,null,null,null,null,null,null,null,null,null,null,null,null,null,null,null,null,null,null,null,null,null,null,null,null,null,null,null,null,null,null,null,null,null,null,null,null,null,null,null,null,null,null,null,null,null,null,null,null,null,null,17,{"$f":"Classement!A17","v":"GUINGAMP"},{"$f":"Classement!B17","v":19}]
[null,null,null,null,null,null,null,null,null,null,null,null,null,null,null,null,null,null,null,null,null,null,null,null,null,null,null,null,null,null,null,null,null,null,null,null,null,null,null,null,null,null,null,null,null,null,null,null,null,null,null,null,null,null,null,null,null,null,null,null,null,null,null,null,null,null,null,null,null,null,null,null,null,null,null,null,null,null,null,null,null,null,null,null,null,null,null,null,null,null,null,null,null,null,null,null,null,null,null,null,null,null,null,null,null,null,null,null,null,null,null,null,null,18,{"$f":"Classement!A18","v":"BASTIA"},{"$f":"Classement!B18","v":18}]
[null,null,null,null,null,null,null,null,null,null,null,null,null,null,null,null,null,null,null,null,null,null,null,null,null,null,null,null,null,null,null,null,null,null,null,null,null,null,null,null,null,null,null,null,null,null,null,null,null,null,null,null,null,null,null,null,null,null,null,null,null,null,null,null,null,null,null,null,null,null,null,null,null,null,null,null,null,null,null,null,null,null,null,null,null,null,null,null,null,null,null,null,null,null,null,null,null,null,null,null,null,null,null,null,null,null,null,null,null,null,null,null,null,19,{"$f":"Classement!A19","v":"TOULOUSE"},{"$f":"Classement!B19","v":15}]
[null,null,null,null,null,null,null,null,null,null,null,null,null,null,null,null,null,null,null,null,null,null,null,null,null,null,null,null,null,null,null,null,null,null,null,null,null,null,null,null,null,null,null,null,null,null,null,null,null,null,null,null,null,null,null,null,null,null,null,null,null,null,null,null,null,null,null,null,null,null,null,null,null,null,null,null,null,null,null,null,null,null,null,null,null,null,null,null,null,null,null,null,null,null,null,null,null,null,null,null,null,null,null,null,null,null,null,null,null,null,null,null,null,20,{"$f":"Classement!A20","v":"TROYES"},{"$f":"Classement!B20","v":6}]

{"sheet":"Classement","index":1,"n_rows":20,"n_cols":3,"rows_kept":20,"cut":false,"hidden":false,"merged":[]}
["PSG",{"$f":"VLOOKUP(A1,Feuil1!DK$5:DT$24,3)","v":45},{"$f":"VLOOKUP(A1,Feuil1!DK$5:DU$24,10)","v":32}]
["ANGERS",{"$f":"VLOOKUP(A2,Feuil1!DK$5:DT$24,3)","v":30},{"$f":"VLOOKUP(A2,Feuil1!DK$5:DU$24,10)","v":7}]
["CAEN",{"$f":"VLOOKUP(A3,Feuil1!DK$5:DT$24,3)","v":29},{"$f":"VLOOKUP(A3,Feuil1!DK$5:DU$24,10)","v":2}]
["MONACO",{"$f":"VLOOKUP(A4,Feuil1!DK$5:DT$24,3)","v":28},{"$f":"VLOOKUP(A4,Feuil1!DK$5:DU$24,10)","v":1}]
["LYON",{"$f":"VLOOKUP(A5,Feuil1!DK$5:DT$24,3)","v":26},{"$f":"VLOOKUP(A5,Feuil1!DK$5:DU$24,10)","v":5}]
["ST-ETIENNE",{"$f":"VLOOKUP(A6,Feuil1!DK$5:DT$24,3)","v":26},{"$f":"VLOOKUP(A6,Feuil1!DK$5:DU$24,10)","v":0}]
["NICE",{"$f":"VLOOKUP(A7,Feuil1!DK$5:DT$24,3)","v":25},{"$f":"VLOOKUP(A7,Feuil1!DK$5:DU$24,10)","v":8}]
["LORIENT",{"$f":"VLOOKUP(A8,Feuil1!DK$5:DT$24,3)","v":25},{"$f":"VLOOKUP(A8,Feuil1!DK$5:DU$24,10)","v":4}]
["MARSEILLE",{"$f":"VLOOKUP(A9,Feuil1!DK$5:DT$24,3)","v":23},{"$f":"VLOOKUP(A9,Feuil1!DK$5:DU$24,10)","v":7}]
["RENNES",{"$f":"VLOOKUP(A10,Feuil1!DK$5:DT$24,3)","v":23},{"$f":"VLOOKUP(A10,Feuil1!DK$5:DU$24,10)","v":2}]
["NANTES",{"$f":"VLOOKUP(A11,Feuil1!DK$5:DT$24,3)","v":22},{"$f":"VLOOKUP(A11,Feuil1!DK$5:DU$24,10)","v":-3}]
["BORDEAUX",{"$f":"VLOOKUP(A12,Feuil1!DK$5:DT$24,3)","v":21},{"$f":"VLOOKUP(A12,Feuil1!DK$5:DU$24,10)","v":-5}]
["LOSC",{"$f":"VLOOKUP(A13,Feuil1!DK$5:DT$24,3)","v":20},{"$f":"VLOOKUP(A13,Feuil1!DK$5:DU$24,10)","v":-1}]
["GFC AJACCIO",{"$f":"VLOOKUP(A14,Feuil1!DK$5:DT$24,3)","v":20},{"$f":"VLOOKUP(A14,Feuil1!DK$5:DU$24,10)","v":-3}]
["REIMS",{"$f":"VLOOKUP(A15,Feuil1!DK$5:DT$24,3)","v":20},{"$f":"VLOOKUP(A15,Feuil1!DK$5:DU$24,10)","v":-3}]
["MONTPELLIER",{"$f":"VLOOKUP(A16,Feuil1!DK$5:DT$24,3)","v":19},{"$f":"VLOOKUP(A16,Feuil1!DK$5:DU$24,10)","v":-3}]
["GUINGAMP",{"$f":"VLOOKUP(A17,Feuil1!DK$5:DT$24,3)","v":19},{"$f":"VLOOKUP(A17,Feuil1!DK$5:DU$24,10)","v":-7}]
["BASTIA",{"$f":"VLOOKUP(A18,Feuil1!DK$5:DT$24,3)","v":18},{"$f":"VLOOKUP(A18,Feuil1!DK$5:DU$24,10)","v":-6}]
["TOULOUSE",{"$f":"VLOOKUP(A19,Feuil1!DK$5:DT$24,3)","v":15},{"$f":"VLOOKUP(A19,Feuil1!DK$5:DU$24,10)","v":-12}]
["TROYES",{"$f":"VLOOKUP(A20,Feuil1!DK$5:DT$24,3)","v":6},{"$f":"VLOOKUP(A20,Feuil1!DK$5:DU$24,10)","v":-25}]