{"text_format":"1","workbook":"xlsx","n_sheets":18,"sheets":["Feuil1","import advers","Feuil6","Team","ExportCompo","Feuil2","Feuil3","Ana Champ","Tuto","Pauljo","Problemes connus","541","433","352","442","Feuil4","Feuil5","ana"],"not_rendered":{"charts":0,"images":14,"macros":1,"external_links":1,"defined_names":205,"comments":0,"pivot_tables":0},"unopened":[],"bounds":{"document_bytes":16777216,"sheet_cells":100000,"rows_first":2000,"rows_last":500,"rows_between":2000,"halvings":0,"cell_chars":16384,"cell_head_chars":4096},"cells_cut":0,"cells_raw":0,"read":"row_number_cap","date_system":"1900"}

{"sheet":"Feuil1","index":0,"n_rows":307,"n_cols":145,"rows_kept":307,"cut":false,"hidden":false,"merged":[[30,94,30,95],[26,82,26,83],[30,86,30,87],[24,90,24,91],[25,90,25,91],[26,90,26,91],[27,90,27,91],[28,90,28,91],[29,90,29,91],[30,90,30,91],[30,92,30,93],[24,86,24,87],[30,88,30,89],[27,84,27,85],[27,86,27,87],[27,88,27,89],[28,84,28,85],[28,86,28,87],[28,88,28,89],[25,86,25,87],[27,82,27,83],[24,88,24,89],[29,88,29,89],[25,88,25,89],[30,78,30,79],[30,80,30,81],[30,82,30,83],[31,78,31,79],[31,80,31,81],[31,82,31,83],[28,82,28,83],[27,78,27,79],[27,80,27,81],[139,88,139,91],[140,88,140,91],[26,78,26,79],[26,80,26,81],[23,82,23,83],[32,80,32,81],[32,82,32,83],[33,78,33,79],[33,80,33,81],[34,82,34,83],[35,78,35,79],[35,82,35,83],[23,78,23,79],[23,80,23,81],[24,78,24,79],[24,80,24,81],[24,82,24,83],[29,84,29,85],[41,76,41,79],[40,76,40,79],[34,78,34,79],[72,82,72,83],[80,77,80,80],[79,77,79,80],[114,109,114,120],[114,121,114,132],[115,97,115,100],[115,101,115,104],[115,105,115,108],[115,109,115,112],[115,113,115,116],[115,117,115,120],[115,121,115,124],[115,125,115,128],[115,129,115,132],[114,97,114,108],[138,88,138,91],[23,90,23,91],[23,92,23,93],[24,92,24,93],[25,92,25,93],[26,92,26,93],[23,94,23,95],[24,94,24,95],[25,94,25,95],[26,94,26,95],[27,94,27,95],[28,94,28,95],[29,94,29,95],[27,92,27,93],[28,92,28,93],[29,92,29,93],[94,87,94,95],[116,94,127,94],[31,92,31,93],[32,92,32,93],[34,92,34,93],[35,92,35,93],[34,90,34,91],[47,94,49,94],[113,97,113,144],[116,95,118,95],[119,95,121,95],[122,95,124,95],[125,95,127,95],[23,74,23,75],[22,69,22,70],[10,62,10,65],[12,62,12,64],[13,62,13,64],[14,62,14,64],[12,72,12,73],[13,72,13,73],[14,72,14,73],[13,69,13,71],[12,69,12,71],[14,69,14,71],[20,62,20,64],[20,65,20,66],[20,67,20,68],[21,65,21,66],[32,74,32,75],[32,76,32,77],[22,84,22,89],[28,57,28,67],[24,69,35,69],[24,70,26,70],[27,70,29,70],[30,70,32,70],[33,70,35,70],[35,72,35,73],[35,74,35,75],[35,76,35,77],[33,72,33,73],[33,74,33,75],[33,76,33,77],[34,76,34,77],[29,74,29,75],[25,58,25,59],[29,76,29,77],[30,72,30,73],[30,74,30,75],[30,76,30,77],[24,76,24,77],[25,72,25,73],[26,72,26,73],[26,74,26,75],[31,72,31,73],[21,62,21,64],[21,69,21,70],[23,72,23,73],[22,72,22,77],[22,78,22,83],[20,69,20,70],[20,72,20,83],[15,69,15,71],[16,69,16,71],[15,80,15,81],[16,76,16,77],[15,72,15,73],[16,72,16,73],[17,72,17,73],[18,72,18,73],[17,80,17,81],[16,80,16,81],[21,72,21,95],[22,90,22,95],[23,88,23,89],[13,54,13,55],[16,58,16,59],[14,56,14,57],[15,56,15,57],[21,55,21,56],[21,52,21,54],[21,58,21,59],[7,5,7,12],[8,58,8,59],[9,58,9,59],[11,58,11,59],[12,58,12,59],[14,58,14,59],[12,56,12,57],[11,56,11,57],[13,58,13,59],[15,58,15,59],[10,58,10,59],[10,56,10,57],[17,56,17,57],[2,35,3,39],[2,41,3,45],[5,49,5,50],[1,33,1,34],[2,33,2,34],[4,33,4,34],[3,47,3,48],[2,47,2,48],[12,54,12,55],[6,49,6,50],[5,35,5,45],[5,22,6,28],[1,15,2,29],[3,15,3,29],[1,50,2,56],[14,54,14,55],[8,54,8,55],[8,56,8,57],[54,70,54,75],[55,70,55,75],[39,69,39,73],[39,45,39,49],[31,16,32,29],[15,17,15,21],[15,25,15,27],[22,62,22,64],[22,65,22,66],[22,67,22,68],[16,56,16,57],[31,52,32,59],[39,36,39,40],[39,53,39,57],[17,58,17,59],[18,58,18,59],[23,58,23,59],[23,54,23,55],[23,56,23,57],[18,56,18,57],[39,61,39,65],[19,58,19,59],[25,62,26,64],[87,4,87,6],[87,13,87,15],[87,10,87,12],[87,7,87,9],[59,4,59,6],[73,4,73,6],[73,7,73,9],[73,10,73,12],[59,7,59,9],[59,10,59,12],[59,13,59,15],[73,13,73,15],[23,52,23,53],[25,52,25,53],[25,56,25,57],[25,54,25,55],[29,57,29,67],[21,67,21,68],[1,2,2,3],[5,2,6,3],[37,4,37,8],[42,11,42,13],[42,8,42,10],[42,5,42,7],[13,56,13,57],[11,54,11,55],[9,56,9,57],[19,56,19,57],[15,54,15,55],[16,54,16,55],[18,54,18,55],[41,5,41,13],[33,4,35,5],[22,0,23,4],[17,54,17,55],[19,54,19,55],[3,33,3,34],[1,5,2,12],[3,5,3,12],[5,5,6,12],[9,54,9,55],[10,54,10,55],[72,80,72,81],[72,78,72,79],[71,78,71,83],[55,84,55,86],[55,87,55,89],[55,90,55,92],[71,87,71,89],[71,90,71,92],[73,85,73,86],[70,87,70,95],[55,93,55,95],[32,84,32,85],[32,86,32,87],[32,88,32,89],[31,94,31,95],[34,84,34,85],[34,86,34,87],[34,88,34,89],[35,84,35,85],[35,86,35,87],[35,88,35,89],[33,92,33,93],[33,90,33,91],[33,84,33,85],[31,88,31,89],[31,84,31,85],[31,86,31,87],[31,90,31,91],[32,90,32,91],[32,94,32,95],[70,114,70,122],[55,96,55,98],[55,99,55,101],[71,120,71,122],[41,84,41,85],[33,94,33,95],[34,94,34,95],[35,94,35,95],[33,86,33,87],[33,88,33,89],[55,102,55,104],[71,93,71,95],[71,96,71,98],[70,96,70,104],[55,111,55,113],[55,105,55,107],[55,108,55,110],[71,99,71,101],[71,102,71,104],[70,105,70,113],[71,105,71,107],[71,108,71,110],[71,111,71,113],[24,97,35,97],[24,98,26,98],[33,110,33,111],[33,112,33,113],[33,114,33,115],[35,100,35,101],[35,102,35,103],[35,104,35,105],[35,106,35,107],[35,108,35,109],[35,110,35,111],[35,112,35,113],[35,114,35,115],[26,100,26,101],[26,102,26,103],[26,104,26,105],[26,106,26,107],[26,108,26,109],[26,110,26,111],[26,112,26,113],[24,114,24,115],[26,114,26,115],[31,114,31,115],[45,76,45,78],[44,81,44,83],[78,77,78,80],[54,84,54,92],[54,93,54,101],[43,80,43,81],[43,76,43,79],[34,80,34,81],[35,90,35,91],[33,98,35,98],[33,100,33,101],[40,98,40,99],[40,100,40,101],[44,94,46,94],[44,96,44,97],[44,98,44,99],[44,100,44,101],[45,96,45,97],[45,98,45,99],[45,100,45,101],[46,96,46,97],[46,100,46,101],[46,98,46,99],[74,85,74,86],[26,84,26,85],[26,86,26,87],[26,88,26,89],[24,84,24,85],[44,76,44,78],[32,78,32,79],[25,84,25,85],[29,82,29,83],[29,86,29,87],[29,78,29,79],[40,80,40,81],[40,82,40,83],[41,80,41,81],[41,82,41,83],[25,78,25,79],[25,80,25,81],[25,82,25,83],[35,80,35,81],[33,82,33,83],[29,80,29,81],[28,78,28,79],[28,80,28,81],[30,84,30,85],[40,84,40,85],[34,72,34,73],[34,74,34,75],[28,72,28,73],[28,74,28,75],[28,76,28,77],[24,72,24,73],[24,74,24,75],[25,74,25,75],[32,72,32,73],[25,76,25,77],[31,74,31,75],[26,76,26,77],[27,72,27,73],[27,74,27,75],[27,76,27,77],[29,72,29,73],[31,76,31,77],[0,85,0,93],[13,85,13,87],[14,85,14,87],[12,80,12,81],[11,80,11,81],[23,84,23,85],[23,86,23,87],[12,76,12,78],[8,79,8,82],[11,85,11,87],[12,85,12,87],[10,80,10,81],[13,80,13,81],[23,76,23,77],[5,69,5,77],[7,69,7,77],[9,69,9,71],[9,72,9,73],[10,72,10,73],[9,74,9,75],[9,76,9,77],[10,74,10,75],[4,98,5,108],[6,98,7,108],[21,100,21,123],[21,97,21,98],[20,97,20,98],[20,100,20,111],[9,85,9,87],[10,85,10,87],[14,76,14,77],[10,76,10,77],[16,87,16,88],[16,85,16,86],[16,90,16,92],[19,85,19,88],[8,85,8,87],[18,85,18,88],[1,60,2,67],[2,69,3,77],[1,95,1,97],[1,89,1,92],[3,60,4,67],[3,85,3,87],[4,85,4,87],[6,85,6,87],[7,85,7,87],[6,62,6,65],[7,62,7,65],[7,66,7,67],[2,79,3,82],[4,79,5,82],[5,85,5,87],[22,97,22,98],[22,100,22,105],[22,106,22,111],[22,112,22,117],[22,118,22,123],[23,100,23,101],[23,102,23,103],[23,104,23,105],[23,106,23,107],[23,108,23,109],[23,110,23,111],[23,112,23,113],[23,114,23,115],[23,116,23,117],[23,118,23,119],[23,120,23,121],[23,122,23,123],[24,116,24,117],[24,118,24,119],[24,120,24,121],[24,122,24,123],[25,100,25,101],[25,102,25,103],[25,104,25,105],[25,106,25,107],[25,108,25,109],[25,110,25,111],[25,112,25,113],[25,114,25,115],[25,116,25,117],[25,118,25,119],[25,120,25,121],[25,122,25,123],[24,100,24,101],[24,102,24,103],[24,104,24,105],[24,106,24,107],[24,108,24,109],[24,110,24,111],[24,112,24,113],[26,116,26,117],[26,118,26,119],[26,120,26,121],[26,122,26,123],[27,98,29,98],[27,100,27,101],[27,102,27,103],[27,104,27,105],[27,106,27,107],[27,108,27,109],[27,110,27,111],[27,112,27,113],[27,114,27,115],[29,100,29,101],[29,102,29,103],[29,104,29,105],[29,106,29,107],[29,108,29,109],[29,110,29,111],[29,112,29,113],[29,114,29,115],[27,116,27,117],[27,118,27,119],[27,120,27,121],[27,122,27,123],[28,100,28,101],[28,102,28,103],[28,104,28,105],[28,106,28,107],[28,108,28,109],[28,110,28,111],[28,112,28,113],[28,114,28,115],[28,116,28,117],[28,118,28,119],[28,120,28,121],[28,122,28,123],[29,116,29,117],[29,118,29,119],[29,120,29,121],[29,122,29,123],[30,98,32,98],[30,100,30,101],[30,102,30,103],[30,104,30,105],[30,106,30,107],[30,108,30,109],[30,110,30,111],[30,112,30,113],[30,114,30,115],[30,116,30,117],[30,118,30,119],[30,120,30,121],[30,122,30,123],[31,100,31,101],[31,102,31,103],[31,104,31,105],[31,106,31,107],[31,108,31,109],[31,110,31,111],[31,112,31,113],[31,116,31,117],[31,118,31,119],[31,120,31,121],[31,122,31,123],[32,100,32,101],[32,102,32,103],[32,104,32,105],[32,106,32,107],[32,108,32,109],[32,110,32,111],[32,112,32,113],[32,114,32,115],[32,116,32,117],[32,118,32,119],[32,120,32,121],[32,122,32,123],[35,118,35,119],[35,120,35,121],[35,122,35,123],[33,116,33,117],[33,118,33,119],[33,120,33,121],[33,122,33,123],[34,100,34,101],[34,102,34,103],[34,104,34,105],[34,106,34,107],[34,108,34,109],[34,110,34,111],[34,112,34,113],[34,114,34,115],[34,116,34,117],[34,118,34,119],[34,120,34,121],[34,122,34,123],[33,102,33,103],[33,104,33,105],[33,106,33,107],[33,108,33,109],[35,116,35,117],[91,83,91,84],[41,93,52,93],[41,94,43,94],[41,96,41,97],[41,98,41,99],[41,100,41,101],[41,102,41,103],[41,104,41,105],[41,106,41,107],[86,83,86,84],[87,83,87,84],[88,83,88,84],[89,83,89,84],[90,83,90,84],[81,83,81,84],[82,83,82,84],[83,83,83,84],[84,83,84,84],[85,83,85,84],[77,103,77,111],[80,83,80,84],[43,96,43,97],[43,98,43,99],[43,100,43,101],[95,108,95,110],[95,105,95,107],[95,102,95,104],[95,99,95,101],[94,96,94,104],[94,105,94,113],[95,96,95,98],[98,84,109,84],[98,85,100,85],[101,85,103,85],[104,85,106,85],[107,85,109,85],[94,84,95,86],[97,84,97,86],[95,93,95,95],[95,90,95,92],[95,87,95,89],[96,84,96,86],[78,109,78,111],[78,106,78,108],[78,103,78,105],[78,100,78,102],[38,93,38,95],[39,93,39,95],[40,93,40,95],[77,85,77,93],[78,85,78,87],[78,88,78,90],[78,91,78,93],[77,94,77,102],[78,97,78,99],[78,94,78,96],[38,96,38,119],[39,96,39,101],[39,102,39,107],[39,108,39,113],[39,114,39,119],[40,96,40,97],[54,111,54,119],[54,102,54,110],[55,114,55,116],[55,117,55,119],[40,102,40,103],[40,104,40,105],[40,106,40,107],[40,108,40,109],[40,110,40,111],[40,112,40,113],[40,114,40,115],[40,116,40,117],[40,118,40,119],[41,112,41,113],[41,114,41,115],[41,116,41,117],[41,118,41,119],[42,96,42,97],[42,98,42,99],[42,100,42,101],[42,102,42,103],[42,104,42,105],[42,106,42,107],[42,108,42,109],[42,110,42,111],[42,112,42,113],[42,114,42,115],[42,116,42,117],[42,118,42,119],[41,108,41,109],[41,110,41,111],[43,102,43,103],[43,104,43,105],[43,106,43,107],[43,108,43,109],[43,110,43,111],[43,112,43,113],[43,114,43,115],[43,116,43,117],[43,118,43,119],[44,102,44,103],[44,104,44,105],[44,106,44,107],[44,108,44,109],[44,110,44,111],[44,112,44,113],[44,114,44,115],[44,116,44,117],[44,118,44,119],[45,102,45,103],[45,104,45,105],[45,106,45,107],[45,108,45,109],[45,110,45,111],[45,112,45,113],[45,114,45,115],[45,116,45,117],[45,118,45,119],[47,100,47,101],[47,102,47,103],[47,104,47,105],[47,106,47,107],[47,108,47,109],[47,110,47,111],[47,112,47,113],[46,116,46,117],[46,118,46,119],[46,102,46,103],[46,104,46,105],[46,106,46,107],[46,108,46,109],[46,110,46,111],[46,112,46,113],[46,114,46,115],[51,110,51,111],[51,112,51,113],[51,114,51,115],[51,116,51,117],[51,118,51,119],[47,114,47,115],[49,96,49,97],[49,98,49,99],[49,100,49,101],[49,102,49,103],[49,104,49,105],[49,106,49,107],[49,108,49,109],[49,110,49,111],[48,96,48,97],[48,98,48,99],[48,100,48,101],[48,102,48,103],[48,104,48,105],[48,106,48,107],[48,108,48,109],[48,110,48,111],[47,96,47,97],[47,98,47,99],[52,110,52,111],[52,112,52,113],[50,116,50,117],[50,118,50,119],[51,96,51,97],[51,98,51,99],[51,100,51,101],[51,102,51,103],[47,116,47,117],[47,118,47,119],[48,114,48,115],[48,116,48,117],[48,118,48,119],[51,104,51,105],[51,106,51,107],[51,108,51,109],[50,98,50,99],[50,100,50,101],[50,102,50,103],[50,104,50,105],[50,106,50,107],[50,108,50,109],[48,112,48,113],[50,110,50,111],[50,94,52,94],[50,96,50,97],[52,96,52,97],[52,98,52,99],[52,100,52,101],[52,102,52,103],[52,104,52,105],[52,106,52,107],[52,108,52,109],[115,141,115,144],[115,137,115,140],[115,133,115,136],[114,133,114,144],[52,114,52,115],[52,116,52,117],[52,118,52,119],[49,112,49,113],[49,114,49,115],[49,116,49,117],[49,118,49,119],[50,112,50,113],[50,114,50,115],[77,112,77,120],[78,112,78,114],[78,115,78,117],[78,118,78,120],[94,114,94,122],[95,120,95,122],[95,117,95,119],[95,114,95,116],[95,111,95,113],[71,114,71,116],[71,117,71,119]],"read":"row_number_cap"}
[]
[null,null,"Bonus",null,null,"1) Ce qui nous interresse est dans la partie jaune, en haut, de gauche a droite. En blanc, les cases a remplir",null,null,null,null,null,null,null,null,null,"4) Choisir entre l'approximation des kits=0 ou kit officiel=1. Dans ce ",null,null,null,null,null,null,null,null,null,null,null,null,null,null,null,null,null,"choisir une tactique :",null,null,null,null,null,null,null,null,null,null,null,null,0,null,null,null,"7) Choisir la position des joueurs.",null,null,null,null,null,null,null,null,null,"9) Entrer les bonus de match que vous pensez avoir,",null,null,null,null,null,null,null,null,null,null,null,null,null,null,null,null,null,null,null,null,null,null,null,null,null,null,null,null,"valeur des vitamines :",null,null,null,0,null,"vitamines :"]
[null,null,null,null,null,null,null,null,null,null,null,null,null,null,null,null,null,null,null,null,null,null,null,null,null,null,null,null,null,null,null,null,null,"Def/Neutre/Off :",null,{"$f":"AH4","v":352},null,null,null,null,null,{"$f":"AH5","v":"Defensif"},null,null,null,null,null,"total sans bonus",null,null,null,null,null,null,null,null,null,null,null,",",null,null,null,null,null,null,null,null,null,"Nom de l'équipe adverse à analyser \nou URL du match de référence :",null,null,null,null,null,null,null,null,null,"10) Choisir la tactique",null,null,null,null,null,"ATTENTION : si vous saisissez les données des joueurs manuellement, elles ne pourront plus être importées !!!"]
[null,null,null,null,null,", en jaune pale, les informations. Les données sont indicatives (a 1% pres) pour un moral et une energie max.",null,null,null,null,null,null,null,null,null,"dernier cas, entrer les valeurs des caracteristiques de vos kits.",null,null,null,null,null,null,null,null,null,null,null,null,null,null,null,null,null,352,null,null,null,null,null,null,null,null,null,null,null,null,null,{"$f":"BG24","v":0},null,null,null,null,null,null,null,null,null,null,null,null,"ainsi que ceux de votre adversaire.",null,null,null,null,null,null,null,null,null,null,null,null,null,null,null,null,null,null,null,null,null,null,null,null,"NOM",null,null,"force","hab","vit","end","int","XP","cap"]
[null,null,null,null,null,null,null,null,null,null,null,null,null,null,null,null,null,null,null,null,null,null,null,null,null,null,null,null,null,null,null,null,null,"Defensif",null,null,null,null,null,null,null,null,null,null,null,null,null,null,null,null,null,null,null,null,null,null,null,null,null,null,null,null,null,null,null,null,null,null,null,null,null,null,null,null,null,null,null,null,null,"de l'adversaire.",null,null,null,null,1,{"$f":"IF(OFFSET(Feuil6!A3,0,'import advers'!$S$1)=\"\",\"\",OFFSET(Feuil6!A3,0,'import advers'!$S$1))","v":""},null,"408",{"$f":"IF(CH5=\"\",\"\",CLEAN(SUBSTITUTE(OFFSET(Feuil6!A$13,0,'import advers'!$S$1),\"Force\",\"\")))","v":""},{"$f":"IF(CH5=\"\",\"\",CLEAN(SUBSTITUTE(OFFSET(Feuil6!A$15,0,'import advers'!$S$1),\"Habileté\",\"\")))","v":""},{"$f":"IF(CH5=\"\",\"\",CLEAN(SUBSTITUTE(OFFSET(Feuil6!A$17,0,'import advers'!$S$1),\"Vitesse\",\"\")))","v":""},{"$f":"IF(CH5=\"\",\"\",CLEAN(SUBSTITUTE(OFFSET(Feuil6!A$19,0,'import advers'!$S$1),\"Endurance\",\"\")))","v":""},{"$f":"IF(CH5=\"\",\"\",CLEAN(SUBSTITUTE(OFFSET(Feuil6!A$21,0,'import advers'!$S$1),\"Intelligence\",\"\")))","v":""},{"$f":"IF(CH5=\"\",\"\",VALUE(SUBSTITUTE(CLEAN(OFFSET(Feuil6!A$9,0,'import advers'!$S$1)),\".\",\",\")))","v":""},{"$f":"IF(CH5<>\"\",(CO5/100+MIN(5000,CP5)/500)/100,\"\")","v":""},null,null,null,"11) Entrer la valeur des vitamines de l'adversaire et choisir si"]
[null,null,"batiments :",null,null,"2) Remplir les cases blanches par la valeur des gains. Pour \"objet\", il",null,null,null,null,null,null,null,null,null,null,null,null,null,null,null,null,"5) Choisir une tactique.",null,null,null,null,null,null,null,null,null,null,null,null,{"$f":"IF(AX306,\"Calcul sur la base des stats et bonus REELS des joueurs\",\"Calcul sur la base des stats et bonus OPTIMUMS des joueurs\")","v":"Calcul sur la base des stats et bonus OPTIMUMS des joueurs"},null,null,null,null,null,null,null,null,null,null,null,"Position :",null,"Capitaine",null,null,null,null,null,null,null,null,null,null,null,null,null,null,null,null,null,null,null,"",null,null,null,null,null,null,null,null,null,null,null,null,null,null,2,{"$f":"IF(OFFSET(Feuil6!B3,0,'import advers'!$S$1)=\"\",\"\",OFFSET(Feuil6!B3,0,'import advers'!$S$1))","v":""},null,"770",{"$f":"IF(CH6=\"\",\"\",CLEAN(SUBSTITUTE(OFFSET(Feuil6!B$13,0,'import advers'!$S$1),\"Force\",\"\")))","v":""},{"$f":"IF(CH6=\"\",\"\",CLEAN(SUBSTITUTE(OFFSET(Feuil6!B$15,0,'import advers'!$S$1),\"Habileté\",\"\")))","v":""},{"$f":"IF(CH6=\"\",\"\",CLEAN(SUBSTITUTE(OFFSET(Feuil6!B$17,0,'import advers'!$S$1),\"Vitesse\",\"\")))","v":""},{"$f":"IF(CH6=\"\",\"\",CLEAN(SUBSTITUTE(OFFSET(Feuil6!B$19,0,'import advers'!$S$1),\"Endurance\",\"\")))","v":""},{"$f":"IF(CH6=\"\",\"\",CLEAN(SUBSTITUTE(OFFSET(Feuil6!B$21,0,'import advers'!$S$1),\"Intelligence\",\"\")))","v":""},{"$f":"IF(CH6=\"\",\"\",VALUE(SUBSTITUTE(CLEAN(OFFSET(Feuil6!B$9,0,'import advers'!$S$1)),\".\",\",\")))","v":""},""]
[null,null,null,null,null,null,null,null,null,null,null,null,null,null,null,null,null,null,null,null,null,null,null,null,null,null,null,null,null,null,null,null,null,null,null,1,2,3,4,5,6,7,8,9,10,11,null,null,null,"Gogod",null,null,null,null,null,null,null,null,null,null,null,null,"Meilleur capitaine :",null,null,null,null,null,null,"Si import par URL, équipe à importer : ",null,null,null,null,null,null,null,null,null,null,null,null,null,null,3,{"$f":"IF(OFFSET(Feuil6!C3,0,'import advers'!$S$1)=\"\",\"\",OFFSET(Feuil6!C3,0,'import advers'!$S$1))","v":""},null,"725",{"$f":"IF(CH7=\"\",\"\",CLEAN(SUBSTITUTE(OFFSET(Feuil6!C$13,0,'import advers'!$S$1),\"Force\",\"\")))","v":""},{"$f":"IF(CH7=\"\",\"\",CLEAN(SUBSTITUTE(OFFSET(Feuil6!C$15,0,'import advers'!$S$1),\"Habileté\",\"\")))","v":""},{"$f":"IF(CH7=\"\",\"\",CLEAN(SUBSTITUTE(OFFSET(Feuil6!C$17,0,'import advers'!$S$1),\"Vitesse\",\"\")))","v":""},{"$f":"IF(CH7=\"\",\"\",CLEAN(SUBSTITUTE(OFFSET(Feuil6!C$19,0,'import advers'!$S$1),\"Endurance\",\"\")))","v":""},{"$f":"IF(CH7=\"\",\"\",CLEAN(SUBSTITUTE(OFFSET(Feuil6!C$21,0,'import advers'!$S$1),\"Intelligence\",\"\")))","v":""},{"$f":"IF(CH7=\"\",\"\",VALUE(SUBSTITUTE(CLEAN(OFFSET(Feuil6!C$9,0,'import advers'!$S$1)),\".\",\",\")))","v":""},"",null,null,null," le joueur à une vitamine supplementaire."]
[null,null,"force :",{"$f":"Team!A11","v":""},null," s'agit de la valeur max des objets que l'on trouve au marché.",null,null,null,null,null,null,null,null,"caracteristiques kit en cours",null,null,null,null,null,null,null,null,null,null,null,null,null,null,null,null,null,0,null,{"$f":"IF(G11=\"\",\"\",G11)","v":""},{"$f":"IF(AI8<>\"\",AY56*IF($AX$37=1,$BW$58,1),\"\")","v":""},{"$f":"IF(AI8<>\"\",BP56*IF($AX$37=1,$BW$59,1),\"\")","v":""},{"$f":"IF(AI8<>\"\",AY83*IF($AX$37=1,$BW$60,1),\"\")","v":""},{"$f":"IF(AI8<>\"\",BP83*IF($AX$37=1,$BW$61,1),\"\")","v":""},{"$f":"IF(AI8<>\"\",AY110*IF($AX$37=1,$BW$62,1),\"\")","v":""},{"$f":"IF(AI8<>\"\",BP110*IF($AX$37=1,$BW$63,1),\"\")","v":""},{"$f":"IF(AI8<>\"\",AY137*IF($AX$37=1,$BW$64,1),\"\")","v":""},{"$f":"IF(AI8<>\"\",BP137*IF($AX$37=1,$BW$65,1),\"\")","v":""},{"$f":"IF(AI8<>\"\",AY164*IF($AX$37=1,$BW$66,1),\"\")","v":""},{"$f":"IF(AI8<>\"\",BP164*IF($AX$37=1,$BW$67,1),\"\")","v":""},{"$f":"IF(AI8<>\"\",AY191*IF($AX$37=1,$BW$68,1),\"\")","v":""},null,1,{"$f":"IF(ISNA(VLOOKUP(1,$AV$8:$AV$33,1,FALSE)),1,\"\")","v":""},{"$f":"IF(AND(AV8<>\"\",AI8<>\"\"),IF(ISNA(VLOOKUP(AI8,$E$104:$I$128,5,FALSE)),0,VLOOKUP(AI8,$E$104:$I$128,5,FALSE)),\"\")","v":""},null,null,null,null,null,null,null,null,null,null,null,null,{"$f":"IF(ISNA(VLOOKUP(\"CAP\",D104:I128,2,)),\"\",VLOOKUP(\"CAP\",D104:I128,2,))","v":""},null,null,null,{"$f":"IF(ISNA(VLOOKUP(BK8,E104:I128,5,FALSE)),\"\",VLOOKUP(BK8,E104:I128,5,FALSE))","v":""},null,null,"brut adversaire sans bonus",null,null,null,null,null,null,null,null,null,null,null,null,null,null,4,{"$f":"IF(OFFSET(Feuil6!D3,0,'import advers'!$S$1)=\"\",\"\",OFFSET(Feuil6!D3,0,'import advers'!$S$1))","v":""},null,"770",{"$f":"IF(CH8=\"\",\"\",CLEAN(SUBSTITUTE(OFFSET(Feuil6!D$13,0,'import advers'!$S$1),\"Force\",\"\")))","v":""},{"$f":"IF(CH8=\"\",\"\",CLEAN(SUBSTITUTE(OFFSET(Feuil6!D$15,0,'import advers'!$S$1),\"Habileté\",\"\")))","v":""},{"$f":"IF(CH8=\"\",\"\",CLEAN(SUBSTITUTE(OFFSET(Feuil6!D$17,0,'import advers'!$S$1),\"Vitesse\",\"\")))","v":""},{"$f":"IF(CH8=\"\",\"\",CLEAN(SUBSTITUTE(OFFSET(Feuil6!D$19,0,'import advers'!$S$1),\"Endurance\",\"\")))","v":""},{"$f":"IF(CH8=\"\",\"\",CLEAN(SUBSTITUTE(OFFSET(Feuil6!D$21,0,'import advers'!$S$1),\"Intelligence\",\"\")))","v":""},{"$f":"IF(CH8=\"\",\"\",VALUE(SUBSTITUTE(CLEAN(OFFSET(Feuil6!D$9,0,'import advers'!$S$1)),\".\",\",\")))","v":""},""]
[null,null,"habilité :",{"$f":"Team!B11","v":""},null,null,null,null,null,null,null,null,null,null,null,null,"kit 1","kit 2/3",null,"kit 4",null,"kit 5","kit 6/7",null,null,"kit 8","kit 9",null,"kit 10","kit 11",null,null,0,null,{"$f":"IF(G12=\"\",\"\",G12)","v":""},{"$f":"IF(AI9<>\"\",AY57*IF($AX$37=1,$BW$58,1),\"\")","v":""},"","","","","","","","","","",null,2,{"$f":"IF(ISNA(VLOOKUP(2,$AV$8:$AV$33,1,FALSE)),2,\"\")","v":""},{"$f":"IF(AND(AV9<>\"\",AI9<>\"\"),IF(ISNA(VLOOKUP(AI9,$E$104:$I$128,5,FALSE)),0,VLOOKUP(AI9,$E$104:$I$128,5,FALSE)),\"\")","v":""},null,null,"nom du joueur","kit","attaque",null,"defense",null,"cumulé",null,"XP",null,null,null,null,null,null,null,null,null,null,null,null,null,null,null,null,null,null,"code choix tactique",null,null,null,null,5,{"$f":"IF(OFFSET(Feuil6!E3,0,'import advers'!$S$1)=\"\",\"\",OFFSET(Feuil6!E3,0,'import advers'!$S$1))","v":""},null,"483",{"$f":"IF(CH9=\"\",\"\",CLEAN(SUBSTITUTE(OFFSET(Feuil6!E$13,0,'import advers'!$S$1),\"Force\",\"\")))","v":""},{"$f":"IF(CH9=\"\",\"\",CLEAN(SUBSTITUTE(OFFSET(Feuil6!E$15,0,'import advers'!$S$1),\"Habileté\",\"\")))","v":""},{"$f":"IF(CH9=\"\",\"\",CLEAN(SUBSTITUTE(OFFSET(Feuil6!E$17,0,'import advers'!$S$1),\"Vitesse\",\"\")))","v":""},{"$f":"IF(CH9=\"\",\"\",CLEAN(SUBSTITUTE(OFFSET(Feuil6!E$19,0,'import advers'!$S$1),\"Endurance\",\"\")))","v":""},{"$f":"IF(CH9=\"\",\"\",CLEAN(SUBSTITUTE(OFFSET(Feuil6!E$21,0,'import advers'!$S$1),\"Intelligence\",\"\")))","v":""},{"$f":"IF(CH9=\"\",\"\",VALUE(SUBSTITUTE(CLEAN(OFFSET(Feuil6!E$9,0,'import advers'!$S$1)),\".\",\",\")))","v":""},""]
[null,null,"vitesse :",{"$f":"Team!C11","v":""},null,null,"NOM","force","habilité","vitesse","endurance","intelligence","XP","% Capitaine",null,"force",{"$f":"IF(Q39=1,Q26,Q19)","v":0},0,0,0,0,0,0,0,0,0,0,0,0,0,null,null,0,null,"","","","","","","","","","","","",null,3,{"$f":"IF(ISNA(VLOOKUP(3,$AV$8:$AV$33,1,FALSE)),3,\"\")","v":""},"",null,1,{"$f":"IF(AV8=1,AI8,IF(AV9=1,AI9,IF(AV10=1,AI10,IF(AV11=1,AI11,IF(AV12=1,AI12,IF(AV13=1,AI13,IF(AV14=1,AI14,IF(AV15=1,AI15,BT70))))))))","v":""},{"$f":"IF(BA10=\"\",\"\",IF(AV8=1,BS113,IF(AV9=1,BS114,IF(AV10=1,BS115,IF(AV11=1,BS116,IF(AV12=1,BS117,IF(AV13=1,BS118,IF(AV14=1,BS119,IF(AV15=1,BS120,BT140)))))))))","v":""},{"$f":"IF(BA10=\"\",\"\",BW70*BS58)","v":""},null,{"$f":"IF(BA10=\"\",\"\",BW70*BU58)","v":""},null,{"$f":"IF(BA10=\"\",\"\",ROUND(BW70*BW58,2))","v":""},null,{"$f":"VLOOKUP(BA10,$G$11:$M$32,7,FALSE)","v":""},null,null,null,null,null,null,null,null,"tactique adversaire",null,null,"attaque",null,"défense",null,"cumulé",null,null,null,null,null,null,null,6,{"$f":"IF(OFFSET(Feuil6!F3,0,'import advers'!$S$1)=\"\",\"\",OFFSET(Feuil6!F3,0,'import advers'!$S$1))","v":""},null,"680",{"$f":"IF(CH10=\"\",\"\",CLEAN(SUBSTITUTE(OFFSET(Feuil6!F$13,0,'import advers'!$S$1),\"Force\",\"\")))","v":""},{"$f":"IF(CH10=\"\",\"\",CLEAN(SUBSTITUTE(OFFSET(Feuil6!F$15,0,'import advers'!$S$1),\"Habileté\",\"\")))","v":""},{"$f":"IF(CH10=\"\",\"\",CLEAN(SUBSTITUTE(OFFSET(Feuil6!F$17,0,'import advers'!$S$1),\"Vitesse\",\"\")))","v":""},{"$f":"IF(CH10=\"\",\"\",CLEAN(SUBSTITUTE(OFFSET(Feuil6!F$19,0,'import advers'!$S$1),\"Endurance\",\"\")))","v":""},{"$f":"IF(CH10=\"\",\"\",CLEAN(SUBSTITUTE(OFFSET(Feuil6!F$21,0,'import advers'!$S$1),\"Intelligence\",\"\")))","v":""},{"$f":"IF(CH10=\"\",\"\",VALUE(SUBSTITUTE(CLEAN(OFFSET(Feuil6!F$9,0,'import advers'!$S$1)),\".\",\",\")))","v":""},""]
[null,null,"endurance :",{"$f":"Team!D11","v":""},null,1,{"$f":"IF(Team!C44<>0,Team!C44,\"\")","v":""},{"$f":"IF($G11<>\"\",VLOOKUP(Team!X17,Team!$E$30:$F$300,2,FALSE),\"\")","v":""},{"$f":"IF($G11<>\"\",VLOOKUP(Team!Y17,Team!$E$41:$F$300,2,FALSE),\"\")","v":""},{"$f":"IF($G11<>\"\",VLOOKUP(Team!Z17,Team!$E$41:$F$300,2,FALSE),\"\")","v":""},{"$f":"IF($G11<>\"\",VLOOKUP(Team!AA17,Team!$E$41:$F$300,2,FALSE),\"\")","v":""},{"$f":"IF($G11<>\"\",VLOOKUP(Team!AB17,Team!$E$41:$F$300,2,FALSE),\"\")","v":""},{"$f":"IF($G11<>\"\",VALUE(VLOOKUP(Team!X17,Team!$E$41:$P$300,12,FALSE)),\"\")","v":""},{"$f":"G104","v":""},null,"habilité",{"$f":"IF(Q40=1,Q27,Q20)","v":0},0,0,0,0,0,0,0,0,0,0,0,0,0,null,null,0,null,"","","","","","","","","","","","",null,4,{"$f":"IF(ISNA(VLOOKUP(4,$AV$8:$AV$33,1,FALSE)),4,\"\")","v":""},"",null,2,{"$f":"IF(AV8=2,AI8,IF(AV9=2,AI9,IF(AV10=2,AI10,IF(AV11=2,AI11,IF(AV12=2,AI12,IF(AV13=2,AI13,IF(AV14=2,AI14,IF(AV15=2,AI15,BT71))))))))","v":""},{"$f":"IF(BA11=\"\",\"\",IF(AV8=2,BU113,IF(AV9=2,BU114,IF(AV10=2,BU115,IF(AV11=2,BU116,IF(AV12=2,BU117,IF(AV13=2,BU118,IF(AV14=2,BU119,IF(AV15=2,BU120,BT141)))))))))","v":""},{"$f":"IF(BA10=\"\",\"\",BW71*BS59)","v":""},null,{"$f":"IF(BA10=\"\",\"\",BW71*BU59)","v":""},null,{"$f":"IF(BA10=\"\",\"\",ROUND(BW71*BW59,2))","v":""},null,{"$f":"VLOOKUP(BA11,$G$11:$M$32,7,FALSE)","v":""},null,"bonus match",null,null,null,null,null,null,{"$f":"IF(CA15=CE11,CC11,IF(CA15=CE12,CC12,IF(CA15=CE13,CC13,IF(CA15=CE14,CC14,erreur))))","v":352},{"$f":"IF(CA17=CE16,CC16,IF(CA17=CE17,CC17,IF(CA17=CE18,CC18,erreur)))","v":"offensif"},null,{"$f":"IF(CH5=\"\",\"\",CA70)","v":""},null,{"$f":"IF(CH5=\"\",\"\",CB70)","v":""},null,{"$f":"IF(CH5=\"\",\"\",ROUND(BU11+BW11,2))","v":""},null,null,null,541,null,1,null,7,{"$f":"IF(OFFSET(Feuil6!G3,0,'import advers'!$S$1)=\"\",\"\",OFFSET(Feuil6!G3,0,'import advers'!$S$1))","v":""},null,"680",{"$f":"IF(CH11=\"\",\"\",CLEAN(SUBSTITUTE(OFFSET(Feuil6!G$13,0,'import advers'!$S$1),\"Force\",\"\")))","v":""},{"$f":"IF(CH11=\"\",\"\",CLEAN(SUBSTITUTE(OFFSET(Feuil6!G$15,0,'import advers'!$S$1),\"Habileté\",\"\")))","v":""},{"$f":"IF(CH11=\"\",\"\",CLEAN(SUBSTITUTE(OFFSET(Feuil6!G$17,0,'import advers'!$S$1),\"Vitesse\",\"\")))","v":""},{"$f":"IF(CH11=\"\",\"\",CLEAN(SUBSTITUTE(OFFSET(Feuil6!G$19,0,'import advers'!$S$1),\"Endurance\",\"\")))","v":""},{"$f":"IF(CH11=\"\",\"\",CLEAN(SUBSTITUTE(OFFSET(Feuil6!G$21,0,'import advers'!$S$1),\"Intelligence\",\"\")))","v":""},{"$f":"IF(CH11=\"\",\"\",VALUE(SUBSTITUTE(CLEAN(OFFSET(Feuil6!G$9,0,'import advers'!$S$1)),\".\",\",\")))","v":""},""]
[null,null,"intelligence :",{"$f":"Team!E11","v":""},null,2,{"$f":"IF(Team!C55<>0,Team!C55,\"\")","v":""},{"$f":"IF($G12<>\"\",VLOOKUP(Team!X18,Team!$E$41:$F$300,2,FALSE),\"\")","v":""},{"$f":"IF($G12<>\"\",VLOOKUP(Team!Y18,Team!$E$41:$F$300,2,FALSE),\"\")","v":""},{"$f":"IF($G12<>\"\",VLOOKUP(Team!Z18,Team!$E$41:$F$300,2,FALSE),\"\")","v":""},{"$f":"IF($G12<>\"\",VLOOKUP(Team!AA18,Team!$E$41:$F$300,2,FALSE),\"\")","v":""},{"$f":"IF($G12<>\"\",VLOOKUP(Team!AB18,Team!$E$41:$F$300,2,FALSE),\"\")","v":""},{"$f":"IF($G12<>\"\",VALUE(VLOOKUP(Team!X18,Team!$E$41:$P$300,12,FALSE)),\"\")","v":""},{"$f":"G105","v":""},null,"vitesse",{"$f":"IF(Q41=1,Q28,Q21)","v":0},0,0,0,0,0,0,0,0,0,0,0,0,0,null,null,0,null,{"$f":"IF(G15=\"\",\"\",G15)","v":""},"","","","","","","","","","","",null,5,{"$f":"IF(ISNA(VLOOKUP(5,$AV$8:$AV$33,1,FALSE)),5,\"\")","v":""},"",null,3,{"$f":"IF(AV8=3,AI8,IF(AV9=3,AI9,IF(AV10=3,AI10,IF(AV11=3,AI11,IF(AV12=3,AI12,IF(AV13=3,AI13,IF(AV14=3,AI14,IF(AV15=3,AI15,BT72))))))))","v":""},{"$f":"IF(BA10=\"\",\"\",IF(AV8=3,BW113,IF(AV9=3,BW114,IF(AV10=3,BW115,IF(AV11=3,BW116,IF(AV12=3,BW117,IF(AV13=3,BW118,IF(AV14=3,BW119,IF(AV15=3,BW120,BT142)))))))))","v":""},{"$f":"IF(BA10=\"\",\"\",BW72*BS60)","v":""},null,{"$f":"IF(BA10=\"\",\"\",BW72*BU60)","v":""},null,{"$f":"IF(BA10=\"\",\"\",ROUND(BW72*BW60,2))","v":""},null,"",null,null,null,null,null,null,null,null,null,null,null,null,null,null,null,null,null,null,null,433,null,2,null,8,{"$f":"IF(OFFSET(Feuil6!H3,0,'import advers'!$S$1)=\"\",\"\",OFFSET(Feuil6!H3,0,'import advers'!$S$1))","v":""},null,"483",{"$f":"IF(CH12=\"\",\"\",CLEAN(SUBSTITUTE(OFFSET(Feuil6!H$13,0,'import advers'!$S$1),\"Force\",\"\")))","v":""},{"$f":"IF(CH12=\"\",\"\",CLEAN(SUBSTITUTE(OFFSET(Feuil6!H$15,0,'import advers'!$S$1),\"Habileté\",\"\")))","v":""},{"$f":"IF(CH12=\"\",\"\",CLEAN(SUBSTITUTE(OFFSET(Feuil6!H$17,0,'import advers'!$S$1),\"Vitesse\",\"\")))","v":""},{"$f":"IF(CH12=\"\",\"\",CLEAN(SUBSTITUTE(OFFSET(Feuil6!H$19,0,'import advers'!$S$1),\"Endurance\",\"\")))","v":""},{"$f":"IF(CH12=\"\",\"\",CLEAN(SUBSTITUTE(OFFSET(Feuil6!H$21,0,'import advers'!$S$1),\"Intelligence\",\"\")))","v":""},{"$f":"IF(CH12=\"\",\"\",VALUE(SUBSTITUTE(CLEAN(OFFSET(Feuil6!H$9,0,'import advers'!$S$1)),\".\",\",\")))","v":""},""]
[null,null,"Laboratoire :",{"$f":"Team!F11","v":""},null,3,{"$f":"IF(Team!C66<>0,Team!C66,\"\")","v":""},{"$f":"IF($G13<>\"\",VLOOKUP(Team!X19,Team!$E$41:$F$300,2,FALSE),\"\")","v":""},{"$f":"IF($G13<>\"\",VLOOKUP(Team!Y19,Team!$E$41:$F$300,2,FALSE),\"\")","v":""},{"$f":"IF($G13<>\"\",VLOOKUP(Team!Z19,Team!$E$41:$F$300,2,FALSE),\"\")","v":""},{"$f":"IF($G13<>\"\",VLOOKUP(Team!AA19,Team!$E$41:$F$300,2,FALSE),\"\")","v":""},{"$f":"IF($G13<>\"\",VLOOKUP(Team!AB19,Team!$E$41:$F$300,2,FALSE),\"\")","v":""},{"$f":"IF($G13<>\"\",VALUE(VLOOKUP(Team!X19,Team!$E$41:$P$300,12,FALSE)),\"\")","v":""},"",null,"endurance",{"$f":"IF(Q42=1,Q29,Q22)","v":0},0,0,0,0,0,0,0,0,0,0,0,0,0,null,null,0,null,"","","","","","","","","","","","",null,6,{"$f":"IF(ISNA(VLOOKUP(6,$AV$8:$AV$33,1,FALSE)),6,\"\")","v":""},"",null,4,{"$f":"IF(AV8=4,AI8,IF(AV9=4,AI9,IF(AV10=4,AI10,IF(AV11=4,AI11,IF(AV12=4,AI12,IF(AV13=4,AI13,IF(AV14=4,AI14,IF(AV15=4,AI15,BT73))))))))","v":""},{"$f":"IF(BA10=\"\",\"\",IF(AV8=4,BY113,IF(AV9=4,BY114,IF(AV10=4,BY115,IF(AV11=4,BY116,IF(AV12=4,BY117,IF(AV13=4,BY118,IF(AV14=4,BY119,IF(AV15=4,BY120,BT143)))))))))","v":""},{"$f":"IF(BA10=\"\",\"\",BW73*BS61)","v":""},null,{"$f":"IF(BA10=\"\",\"\",BW73*BU61)","v":""},null,{"$f":"IF(BA10=\"\",\"\",ROUND(BW73*BW61,2))","v":""},null,"",null,"bonus de chance :",null,null,0,"%",null,null,"bonus de chance :",null,null,null,null,"%",null,"tactique adversaire",null,null,null,352,null,3,null,9,{"$f":"IF(OFFSET(Feuil6!I3,0,'import advers'!$S$1)=\"\",\"\",OFFSET(Feuil6!I3,0,'import advers'!$S$1))","v":""},null,"846",{"$f":"IF(CH13=\"\",\"\",CLEAN(SUBSTITUTE(OFFSET(Feuil6!I$13,0,'import advers'!$S$1),\"Force\",\"\")))","v":""},{"$f":"IF(CH13=\"\",\"\",CLEAN(SUBSTITUTE(OFFSET(Feuil6!I$15,0,'import advers'!$S$1),\"Habileté\",\"\")))","v":""},{"$f":"IF(CH13=\"\",\"\",CLEAN(SUBSTITUTE(OFFSET(Feuil6!I$17,0,'import advers'!$S$1),\"Vitesse\",\"\")))","v":""},{"$f":"IF(CH13=\"\",\"\",CLEAN(SUBSTITUTE(OFFSET(Feuil6!I$19,0,'import advers'!$S$1),\"Endurance\",\"\")))","v":""},{"$f":"IF(CH13=\"\",\"\",CLEAN(SUBSTITUTE(OFFSET(Feuil6!I$21,0,'import advers'!$S$1),\"Intelligence\",\"\")))","v":""},{"$f":"IF(CH13=\"\",\"\",VALUE(SUBSTITUTE(CLEAN(OFFSET(Feuil6!I$9,0,'import advers'!$S$1)),\".\",\",\")))","v":""},""]
[null,null,null,null,null,4,{"$f":"IF(Team!C77<>0,Team!C77,\"\")","v":""},{"$f":"IF($G14<>\"\",VLOOKUP(Team!X20,Team!$E$41:$F$300,2,FALSE),\"\")","v":""},{"$f":"IF($G14<>\"\",VLOOKUP(Team!Y20,Team!$E$41:$F$300,2,FALSE),\"\")","v":""},{"$f":"IF($G14<>\"\",VLOOKUP(Team!Z20,Team!$E$41:$F$300,2,FALSE),\"\")","v":""},{"$f":"IF($G14<>\"\",VLOOKUP(Team!AA20,Team!$E$41:$F$300,2,FALSE),\"\")","v":""},{"$f":"IF($G14<>\"\",VLOOKUP(Team!AB20,Team!$E$41:$F$300,2,FALSE),\"\")","v":""},{"$f":"IF($G14<>\"\",VALUE(VLOOKUP(Team!X20,Team!$E$41:$P$300,12,FALSE)),\"\")","v":""},"",null,"intelligence",{"$f":"IF(Q43=1,Q30,Q23)","v":0},0,0,0,0,0,0,0,0,0,0,0,0,0,null,null,0,null,"","","","","","","","","","","","",null,7,{"$f":"IF(ISNA(VLOOKUP(7,$AV$8:$AV$33,1,FALSE)),7,\"\")","v":""},"",null,5,{"$f":"IF(AV8=5,AI8,IF(AV9=5,AI9,IF(AV10=5,AI10,IF(AV11=5,AI11,IF(AV12=5,AI12,IF(AV13=5,AI13,IF(AV14=5,AI14,IF(AV15=5,AI15,BT74))))))))","v":""},{"$f":"IF(BA10=\"\",\"\",IF(AV8=5,CA113,IF(AV9=5,CA114,IF(AV10=5,CA115,IF(AV11=5,CA116,IF(AV12=5,CA117,IF(AV13=5,CA118,IF(AV14=5,CA119,IF(AV15=5,CA120,BT144)))))))))","v":""},{"$f":"IF(BA10=\"\",\"\",BW74*BS62)","v":""},null,{"$f":"IF(BA10=\"\",\"\",BW74*BU62)","v":""},null,{"$f":"IF(BA10=\"\",\"\",ROUND(BW74*BW62,2))","v":""},null,"",null,"bonus d'experience :",null,null,{"$f":"IF(CH20=\"Votre équipe à\",CL20*100,0)","v":0},"%",null,null,"bonus d'experience :",null,null,{"$f":"IF(CH20=\"L'équipe adverse à\",CL20*100,0)","v":0},null,"%",null,null,null,null,null,442,null,4,null,10,{"$f":"IF(OFFSET(Feuil6!J3,0,'import advers'!$S$1)=\"\",\"\",OFFSET(Feuil6!J3,0,'import advers'!$S$1))","v":""},null,"483",{"$f":"IF(CH14=\"\",\"\",CLEAN(SUBSTITUTE(OFFSET(Feuil6!J$13,0,'import advers'!$S$1),\"Force\",\"\")))","v":""},{"$f":"IF(CH14=\"\",\"\",CLEAN(SUBSTITUTE(OFFSET(Feuil6!J$15,0,'import advers'!$S$1),\"Habileté\",\"\")))","v":""},{"$f":"IF(CH14=\"\",\"\",CLEAN(SUBSTITUTE(OFFSET(Feuil6!J$17,0,'import advers'!$S$1),\"Vitesse\",\"\")))","v":""},{"$f":"IF(CH14=\"\",\"\",CLEAN(SUBSTITUTE(OFFSET(Feuil6!J$19,0,'import advers'!$S$1),\"Endurance\",\"\")))","v":""},{"$f":"IF(CH14=\"\",\"\",CLEAN(SUBSTITUTE(OFFSET(Feuil6!J$21,0,'import advers'!$S$1),\"Intelligence\",\"\")))","v":""},{"$f":"IF(CH14=\"\",\"\",VALUE(SUBSTITUTE(CLEAN(OFFSET(Feuil6!J$9,0,'import advers'!$S$1)),\".\",\",\")))","v":""},""]
[null,null,null,null,null,5,{"$f":"IF(Team!C88<>0,Team!C88,\"\")","v":""},{"$f":"IF($G15<>\"\",VLOOKUP(Team!X21,Team!$E$41:$F$300,2,FALSE),\"\")","v":""},{"$f":"IF($G15<>\"\",VLOOKUP(Team!Y21,Team!$E$41:$F$300,2,FALSE),\"\")","v":""},{"$f":"IF($G15<>\"\",VLOOKUP(Team!Z21,Team!$E$41:$F$300,2,FALSE),\"\")","v":""},{"$f":"IF($G15<>\"\",VLOOKUP(Team!AA21,Team!$E$41:$F$300,2,FALSE),\"\")","v":""},{"$f":"IF($G15<>\"\",VLOOKUP(Team!AB21,Team!$E$41:$F$300,2,FALSE),\"\")","v":""},{"$f":"IF($G15<>\"\",VALUE(VLOOKUP(Team!X21,Team!$E$41:$P$300,12,FALSE)),\"\")","v":""},{"$f":"G108","v":""},null,null,null,null,null,null,null,null,null,null,null,null,null,null,null,null,null,null,0,null,"",{"$f":"IF(AI15<>\"\",AY63*IF($AX$37=1,$BW$58,1),\"\")","v":""},{"$f":"IF(AI15<>\"\",BP63*IF($AX$37=1,$BW$59,1),\"\")","v":""},{"$f":"IF(AI15<>\"\",AY90*IF($AX$37=1,$BW$60,1),\"\")","v":""},{"$f":"IF(AI15<>\"\",BP90*IF($AX$37=1,$BW$61,1),\"\")","v":""},{"$f":"IF(AI15<>\"\",AY117*IF($AX$37=1,$BW$62,1),\"\")","v":""},{"$f":"IF(AI15<>\"\",BP117*IF($AX$37=1,$BW$63,1),\"\")","v":""},{"$f":"IF(AI15<>\"\",AY144*IF($AX$37=1,$BW$64,1),\"\")","v":""},{"$f":"IF(AI15<>\"\",BP144*IF($AX$37=1,$BW$65,1),\"\")","v":""},{"$f":"IF(AI15<>\"\",AY171*IF($AX$37=1,$BW$66,1),\"\")","v":""},{"$f":"IF(AI15<>\"\",BP171*IF($AX$37=1,$BW$67,1),\"\")","v":""},{"$f":"IF(AI15<>\"\",AY198*IF($AX$37=1,$BW$68,1),\"\")","v":""},null,8,{"$f":"IF(ISNA(VLOOKUP(8,$AV$8:$AV$33,1,FALSE)),8,\"\")","v":""},{"$f":"IF(AND(AV15<>\"\",AI15<>\"\"),IF(ISNA(VLOOKUP(AI15,$E$104:$I$128,5,FALSE)),0,VLOOKUP(AI15,$E$104:$I$128,5,FALSE)),\"\")","v":""},null,6,{"$f":"IF(AV8=6,AI8,IF(AV9=6,AI9,IF(AV10=6,AI10,IF(AV11=6,AI11,IF(AV12=6,AI12,IF(AV13=6,AI13,IF(AV14=6,AI14,IF(AV15=6,AI15,BT75))))))))","v":""},{"$f":"IF(BA10=\"\",\"\",IF(AV8=6,CC113,IF(AV9=6,CC114,IF(AV10=6,CC115,IF(AV11=6,CC116,IF(AV12=6,CC117,IF(AV13=6,CC118,IF(AV14=6,CC119,IF(AV15=6,CC120,BT145)))))))))","v":""},{"$f":"IF(BA10=\"\",\"\",BW75*BS63)","v":""},null,{"$f":"IF(BA10=\"\",\"\",BW75*BU63)","v":""},null,{"$f":"IF(BA10=\"\",\"\",ROUND(BW75*BW63,2))","v":""},null,{"$f":"VLOOKUP(BA15,$G$11:$M$32,7,FALSE)","v":""},null,"bonus a domicile :",null,null,0,"%",null,null,"bonus à domicile :",null,null,10,null,"%",null,"stratégie :",null,3,null,null,null,null,null,11,{"$f":"IF(OFFSET(Feuil6!K3,0,'import advers'!$S$1)=\"\",\"\",OFFSET(Feuil6!K3,0,'import advers'!$S$1))","v":""},null,"680",{"$f":"IF(CH15=\"\",\"\",CLEAN(SUBSTITUTE(OFFSET(Feuil6!K$13,0,'import advers'!$S$1),\"Force\",\"\")))","v":""},{"$f":"IF(CH15=\"\",\"\",CLEAN(SUBSTITUTE(OFFSET(Feuil6!K$15,0,'import advers'!$S$1),\"Habileté\",\"\")))","v":""},{"$f":"IF(CH15=\"\",\"\",CLEAN(SUBSTITUTE(OFFSET(Feuil6!K$17,0,'import advers'!$S$1),\"Vitesse\",\"\")))","v":""},{"$f":"IF(CH15=\"\",\"\",CLEAN(SUBSTITUTE(OFFSET(Feuil6!K$19,0,'import advers'!$S$1),\"Endurance\",\"\")))","v":""},{"$f":"IF(CH15=\"\",\"\",CLEAN(SUBSTITUTE(OFFSET(Feuil6!K$21,0,'import advers'!$S$1),\"Intelligence\",\"\")))","v":""},{"$f":"IF(CH15=\"\",\"\",VALUE(SUBSTITUTE(CLEAN(OFFSET(Feuil6!K$9,0,'import advers'!$S$1)),\".\",\",\")))","v":""},{"$f":"IF(CH15<>\"\",(CO15/100+MIN(5000,CP15)/500)/100,\"\")","v":""}]
[null,null,null,null,null,6,{"$f":"IF(Team!C99<>0,Team!C99,\"\")","v":""},{"$f":"IF($G16<>\"\",VLOOKUP(Team!X22,Team!$E$41:$F$300,2,FALSE),\"\")","v":""},{"$f":"IF($G16<>\"\",VLOOKUP(Team!Y22,Team!$E$41:$F$300,2,FALSE),\"\")","v":""},{"$f":"IF($G16<>\"\",VLOOKUP(Team!Z22,Team!$E$41:$F$300,2,FALSE),\"\")","v":""},{"$f":"IF($G16<>\"\",VLOOKUP(Team!AA22,Team!$E$41:$F$300,2,FALSE),\"\")","v":""},{"$f":"IF($G16<>\"\",VLOOKUP(Team!AB22,Team!$E$41:$F$300,2,FALSE),\"\")","v":""},{"$f":"IF($G16<>\"\",VALUE(VLOOKUP(Team!X22,Team!$E$41:$P$300,12,FALSE)),\"\")","v":""},{"$f":"G109","v":""},null,"kit officiel :",1,"aprroximation kit :",null,null,null,null,0,null,null,"choix kit :",null,null,0,null,null,null,0,null,"",{"$f":"IF(AI16<>\"\",AY64*IF($AX$37=1,$BW$58,1),\"\")","v":""},{"$f":"IF(AI16<>\"\",BP64*IF($AX$37=1,$BW$59,1),\"\")","v":""},{"$f":"IF(AI16<>\"\",AY91*IF($AX$37=1,$BW$60,1),\"\")","v":""},{"$f":"IF(AI16<>\"\",BP91*IF($AX$37=1,$BW$61,1),\"\")","v":""},{"$f":"IF(AI16<>\"\",AY118*IF($AX$37=1,$BW$62,1),\"\")","v":""},{"$f":"IF(AI16<>\"\",BP118*IF($AX$37=1,$BW$63,1),\"\")","v":""},{"$f":"IF(AI16<>\"\",AY145*IF($AX$37=1,$BW$64,1),\"\")","v":""},{"$f":"IF(AI16<>\"\",BP145*IF($AX$37=1,$BW$65,1),\"\")","v":""},{"$f":"IF(AI16<>\"\",AY172*IF($AX$37=1,$BW$66,1),\"\")","v":""},{"$f":"IF(AI16<>\"\",BP172*IF($AX$37=1,$BW$67,1),\"\")","v":""},{"$f":"IF(AI16<>\"\",AY199*IF($AX$37=1,$BW$68,1),\"\")","v":""},null,9,{"$f":"IF(ISNA(VLOOKUP(9,$AV$8:$AV$33,1,FALSE)),9,\"\")","v":""},{"$f":"IF(AND(AV16<>\"\",AI16<>\"\"),IF(ISNA(VLOOKUP(AI16,$E$104:$I$128,5,FALSE)),0,VLOOKUP(AI16,$E$104:$I$128,5,FALSE)),\"\")","v":""},null,7,{"$f":"IF(AV8=7,AI8,IF(AV9=7,AI9,IF(AV10=7,AI10,IF(AV11=7,AI11,IF(AV12=7,AI12,IF(AV13=7,AI13,IF(AV14=7,AI14,IF(AV15=7,AI15,BT76))))))))","v":""},{"$f":"IF(BA10=\"\",\"\",IF(AV8=7,CE113,IF(AV9=7,CE114,IF(AV10=7,CE115,IF(AV11=7,CE116,IF(AV12=7,CE117,IF(AV13=7,CE118,IF(AV14=7,CE119,IF(AV15=7,CE120,BT146)))))))))","v":""},{"$f":"IF(BA10=\"\",\"\",BW76*BS64)","v":""},null,{"$f":"IF(BA10=\"\",\"\",BW76*BU64)","v":""},null,{"$f":"IF(BA10=\"\",\"\",ROUND(BW76*BW64,2))","v":""},null,{"$f":"VLOOKUP(BA16,$G$11:$M$32,7,FALSE)","v":""},null,"bonus capitaine :",null,null,{"$f":"BO8*100","v":{"$error":"#VALUE!"}},"%",null,null,"bonus capitaine :",null,null,{"$f":"MAX(CQ5:CQ15)*100","v":0},null,"%",null,null,null,null,null,"defensif",null,"a",null,null,"ATTENTION : si vous saisissez les données manuellement, les données ne pourront plus être importées !!!"]
[null,null,null,null,null,7,{"$f":"IF(Team!C110<>0,Team!C110,\"\")","v":""},{"$f":"IF($G17<>\"\",VLOOKUP(Team!X23,Team!$E$41:$F$300,2,FALSE),\"\")","v":""},{"$f":"IF($G17<>\"\",VLOOKUP(Team!Y23,Team!$E$41:$F$300,2,FALSE),\"\")","v":""},{"$f":"IF($G17<>\"\",VLOOKUP(Team!Z23,Team!$E$41:$F$300,2,FALSE),\"\")","v":""},{"$f":"IF($G17<>\"\",VLOOKUP(Team!AA23,Team!$E$41:$F$300,2,FALSE),\"\")","v":""},{"$f":"IF($G17<>\"\",VLOOKUP(Team!AB23,Team!$E$41:$F$300,2,FALSE),\"\")","v":""},{"$f":"IF($G17<>\"\",VALUE(VLOOKUP(Team!X23,Team!$E$41:$P$300,12,FALSE)),\"\")","v":""},"",null,null,null,null,null,null,null,null,null,null,null,null,null,null,null,null,null,null,0,null,"","","","","","","","","","","","",null,10,{"$f":"IF(ISNA(VLOOKUP(10,$AV$8:$AV$33,1,FALSE)),10,\"\")","v":""},"",null,8,{"$f":"IF(AV8=8,AI8,IF(AV9=8,AI9,IF(AV10=8,AI10,IF(AV11=8,AI11,IF(AV12=8,AI12,IF(AV13=8,AI13,IF(AV14=8,AI14,IF(AV15=8,AI15,BT77))))))))","v":""},{"$f":"IF(BA10=\"\",\"\",IF(AV8=8,CG113,IF(AV9=8,CG114,IF(AV10=8,CG115,IF(AV11=8,CG116,IF(AV12=8,CG117,IF(AV13=8,CG118,IF(AV14=8,CG119,IF(AV15=8,CG120,BT147)))))))))","v":""},{"$f":"IF(BA10=\"\",\"\",BW77*BS65)","v":""},null,{"$f":"IF(BA10=\"\",\"\",BW77*BU65)","v":""},null,{"$f":"IF(BA10=\"\",\"\",ROUND(BW77*BW65,2))","v":""},null,"",null,"bonus de meteo :",null,null,5,"%",null,null,"bonus de météo :",null,null,5,null,"%",null,"tactique :",null,"c",null,"neutre",null,"b",null,null,"total XP :",null,{"$f":"IF(CP5<>\"\",SUM(CP5:CP15),\"\")","v":""},null,null,"XP moyenne :",null,null,{"$f":"IF(CP5<>\"\",CJ17/11,\"\")","v":""}]
[null,null,null,null,null,8,{"$f":"IF(Team!C121<>0,Team!C121,\"\")","v":""},{"$f":"IF($G18<>\"\",VLOOKUP(Team!X24,Team!$E$41:$F$300,2,FALSE),\"\")","v":""},{"$f":"IF($G18<>\"\",VLOOKUP(Team!Y24,Team!$E$41:$F$300,2,FALSE),\"\")","v":""},{"$f":"IF($G18<>\"\",VLOOKUP(Team!Z24,Team!$E$41:$F$300,2,FALSE),\"\")","v":""},{"$f":"IF($G18<>\"\",VLOOKUP(Team!AA24,Team!$E$41:$F$300,2,FALSE),\"\")","v":""},{"$f":"IF($G18<>\"\",VLOOKUP(Team!AB24,Team!$E$41:$F$300,2,FALSE),\"\")","v":""},{"$f":"IF($G18<>\"\",VALUE(VLOOKUP(Team!X24,Team!$E$41:$P$300,12,FALSE)),\"\")","v":""},"","approximation  kit",null,{"$f":"Q9","v":"kit 1"},"kit 2/3",0,"kit 4",0,"kit 5","kit 6/7",0,0,"kit 8","kit 9",0,"kit 10","kit 11",null,null,0,null,"","","","","","","","","","","","",null,11,{"$f":"IF(ISNA(VLOOKUP(11,$AV$8:$AV$33,1,FALSE)),11,\"\")","v":""},"",null,9,{"$f":"IF(AV8=9,AI8,IF(AV9=9,AI9,IF(AV10=9,AI10,IF(AV11=9,AI11,IF(AV12=9,AI12,IF(AV13=9,AI13,IF(AV14=9,AI14,IF(AV15=9,AI15,BT78))))))))","v":""},{"$f":"IF(BA10=\"\",\"\",IF(AV8=9,CI113,IF(AV9=9,CI114,IF(AV10=9,CI115,IF(AV11=9,CI116,IF(AV12=9,CI117,IF(AV13=9,CI118,IF(AV14=9,CI119,IF(AV15=9,CI120,BT148)))))))))","v":""},{"$f":"IF(BA10=\"\",\"\",BW78*BS66)","v":""},null,{"$f":"IF(BA10=\"\",\"\",BW78*BU66)","v":""},null,{"$f":"IF(BA10=\"\",\"\",ROUND(BW78*BW66,2))","v":""},null,"",null,"bonus d'agressivité :",null,null,16,"%",null,null,"bonus d'agressivité :",null,null,16,null,"%",null,null,null,null,null,"offensif",null,"c"]
[null,null,"vitamines :",null,null,9,{"$f":"IF(Team!C132<>0,Team!C132,\"\")","v":""},{"$f":"IF($G19<>\"\",VLOOKUP(Team!X25,Team!$E$41:$F$300,2,FALSE),\"\")","v":""},{"$f":"IF($G19<>\"\",VLOOKUP(Team!Y25,Team!$E$41:$F$300,2,FALSE),\"\")","v":""},{"$f":"IF($G19<>\"\",VLOOKUP(Team!Z25,Team!$E$41:$F$300,2,FALSE),\"\")","v":""},{"$f":"IF($G19<>\"\",VLOOKUP(Team!AA25,Team!$E$41:$F$300,2,FALSE),\"\")","v":""},{"$f":"IF($G19<>\"\",VLOOKUP(Team!AB25,Team!$E$41:$F$300,2,FALSE),\"\")","v":""},{"$f":"IF($G19<>\"\",VALUE(VLOOKUP(Team!X25,Team!$E$41:$P$300,12,FALSE)),\"\")","v":""},"",null,{"$f":"P10","v":"force"},{"$f":"ROUND(Q45*Q51,0)","v":0},0,0,0,0,0,0,0,0,0,0,0,0,0,null,null,0,null,"","","","","","","","","","","","",null,12,{"$f":"IF(ISNA(VLOOKUP(12,$AV$8:$AV$33,1,FALSE)),12,\"\")","v":""},"",null,10,{"$f":"IF(AV8=10,AI8,IF(AV9=10,AI9,IF(AV10=10,AI10,IF(AV11=10,AI11,IF(AV12=10,AI12,IF(AV13=10,AI13,IF(AV14=10,AI14,IF(AV15=10,AI15,BT79))))))))","v":""},{"$f":"IF(BA10=\"\",\"\",IF(AV8=10,CK113,IF(AV9=10,CK114,IF(AV10=10,CK115,IF(AV11=10,CK116,IF(AV12=10,CK117,IF(AV13=10,CK118,IF(AV14=10,CK119,IF(AV15=10,CK120,BT149)))))))))","v":""},{"$f":"IF(BA10=\"\",\"\",BW79*BS67)","v":""},null,{"$f":"IF(BA10=\"\",\"\",BW79*BU67)","v":""},null,{"$f":"IF(BA10=\"\",\"\",ROUND(BW79*BW67,2))","v":""},null,"",null,"Bonus stratégie :",null,null,null,"%",null,null,"bonus stratégie :",null,null,null,null,"%",null,null,null,null,null,null,null,null,null,null,"bonus d'experience :"]
[null,null,null,null,null,10,{"$f":"IF(Team!C143<>0,Team!C143,\"\")","v":""},{"$f":"IF($G20<>\"\",VLOOKUP(Team!X26,Team!$E$41:$F$300,2,FALSE),\"\")","v":""},{"$f":"IF($G20<>\"\",VLOOKUP(Team!Y26,Team!$E$41:$F$300,2,FALSE),\"\")","v":""},{"$f":"IF($G20<>\"\",VLOOKUP(Team!Z26,Team!$E$41:$F$300,2,FALSE),\"\")","v":""},{"$f":"IF($G20<>\"\",VLOOKUP(Team!AA26,Team!$E$41:$F$300,2,FALSE),\"\")","v":""},{"$f":"IF($G20<>\"\",VLOOKUP(Team!AB26,Team!$E$41:$F$300,2,FALSE),\"\")","v":""},{"$f":"IF($G20<>\"\",VALUE(VLOOKUP(Team!X26,Team!$E$41:$P$300,12,FALSE)),\"\")","v":""},"",null,{"$f":"P11","v":"habilité"},{"$f":"ROUND(Q46*Q52,0)","v":0},0,0,0,0,0,0,0,0,0,0,0,0,0,null,null,0,null,"","","","","","","","","","","","",null,13,{"$f":"IF(ISNA(VLOOKUP(13,$AV$8:$AV$33,1,FALSE)),13,\"\")","v":""},"",null,11,{"$f":"IF(AV8=11,AI8,IF(AV9=11,AI9,IF(AV10=11,AI10,IF(AV11=11,AI11,IF(AV12=11,AI12,IF(AV13=11,AI13,IF(AV14=11,AI14,IF(AV15=11,AI15,BT80))))))))","v":""},{"$f":"IF(BA10=\"\",\"\",IF(AV8=11,CM113,IF(AV9=11,CM114,IF(AV10=11,CM115,IF(AV11=11,CM116,IF(AV12=11,CM117,IF(AV13=11,CM118,IF(AV14=11,CM119,IF(AV15=11,CM120,BT150)))))))))","v":""},{"$f":"IF(BA10=\"\",\"\",BW80*BS68)","v":""},null,{"$f":"IF(BA10=\"\",\"\",BW80*BU68)","v":""},null,{"$f":"IF(BA10=\"\",\"\",ROUND(BW80*BW68,2))","v":""},null,"",null,null,null,null,null,null,null,null,null,null,null,null,null,null,null,null,null,null,null,null,null,null,null,null,{"$f":"IF(CP5<>\"\",IF(ABS(CK41)<=0.01,\"les équipes ont\",IF(CK41>0,\"Votre équipe à\",\"L'équipe adverse à\")),\"\")","v":""},null,null,null,{"$f":"CM41","v":""},{"$f":"IF(CH20<>\"\",\"de bonus\",\"\")","v":""}]
[null,null,"objets :",null,null,11,{"$f":"IF(Team!C154<>0,Team!C154,\"\")","v":""},{"$f":"IF($G21<>\"\",VLOOKUP(Team!X27,Team!$E$41:$F$300,2,FALSE),\"\")","v":""},{"$f":"IF($G21<>\"\",VLOOKUP(Team!Y27,Team!$E$41:$F$300,2,FALSE),\"\")","v":""},{"$f":"IF($G21<>\"\",VLOOKUP(Team!Z27,Team!$E$41:$F$300,2,FALSE),\"\")","v":""},{"$f":"IF($G21<>\"\",VLOOKUP(Team!AA27,Team!$E$41:$F$300,2,FALSE),\"\")","v":""},{"$f":"IF($G21<>\"\",VLOOKUP(Team!AB27,Team!$E$41:$F$300,2,FALSE),\"\")","v":""},{"$f":"IF($G21<>\"\",VALUE(VLOOKUP(Team!X27,Team!$E$41:$P$300,12,FALSE)),\"\")","v":""},"",null,{"$f":"P12","v":"vitesse"},{"$f":"ROUND(Q47*Q53,0)","v":0},0,0,0,0,0,0,0,0,0,0,0,0,0,null,null,0,null,"","","","","","","","","","","","",null,14,{"$f":"IF(ISNA(VLOOKUP(14,$AV$8:$AV$33,1,FALSE)),14,\"\")","v":""},"",null,null,null,null,null,null,null,null,null,null,null,null,null,null,null,"attaque",null,"défense",null,"cumulé",null,null,"Championnat / Amical ou Premiere Mi Temps Coupe / Tournoi",null,null,null,null,null,null,null,null,null,null,null,null,null,null,null,null,null,null,null,null,null,null,null,null,null,null,null,"Deuxieme Mi Temps Coupe / Tournoi"]
[null,null,null,null,null,null,{"$f":"IF(Team!C165<>0,Team!C165,\"\")","v":""},{"$f":"IF($G22<>\"\",VLOOKUP(Team!X28,Team!$E$41:$F$300,2,FALSE),\"\")","v":""},{"$f":"IF($G22<>\"\",VLOOKUP(Team!Y28,Team!$E$41:$F$300,2,FALSE),\"\")","v":""},{"$f":"IF($G22<>\"\",VLOOKUP(Team!Z28,Team!$E$41:$F$300,2,FALSE),\"\")","v":""},{"$f":"IF($G22<>\"\",VLOOKUP(Team!AA28,Team!$E$41:$F$300,2,FALSE),\"\")","v":""},{"$f":"IF($G22<>\"\",VLOOKUP(Team!AB28,Team!$E$41:$F$300,2,FALSE),\"\")","v":""},{"$f":"IF($G22<>\"\",VALUE(VLOOKUP(Team!X28,Team!$E$41:$P$300,12,FALSE)),\"\")","v":""},"",null,{"$f":"P13","v":"endurance"},{"$f":"ROUND(Q48*Q54,0)","v":0},0,0,0,0,0,0,0,0,0,0,0,0,0,null,null,0,null,"","","","","","","","","","","","",null,15,{"$f":"IF(ISNA(VLOOKUP(15,$AV$8:$AV$33,1,FALSE)),15,\"\")","v":""},"",null,null,"total XP du 11",null,null,{"$f":"SUM(BI10:BI20)","v":0},null,null,"XP moyenne :",null,{"$f":"BD22/11","v":0},null,{"$f":"IF(BR6<>\"\",BR6,\"\")","v":""},null,null,{"$f":"IF(CH5=\"\",\"\",ROUND(BU11*(100+BU13)/100*(BU14+100)/100*(100+BU15)/100*(100+BU16)/100*(BU17+100)/100*(100+BU18)/100*(100+BU19)/100,2))","v":""},null,{"$f":"IF(CH5=\"\",\"\",ROUND(BW11*(100+BU13)/100*(BU14+100)/100*(100+BU15)/100*(100+BU16)/100*(BU17+100)/100*(100+BU18)/100*(100+BU19)/100,2))","v":""},null,{"$f":"IF(BN22=\"\",\"\",BN22+BP22)","v":""},null,null,{"$f":"BK22","v":""},null,null,null,null,null,null,null,null,null,null,null,null,null,null,null,null,null,null,null,null,null,null,null,null,null,null,null,{"$f":"BU22","v":""}]
["3) Entrer les stats des joueurs à comparer.",null,null,null,null,null,{"$f":"IF(Team!C176<>0,Team!C176,\"\")","v":""},{"$f":"IF($G23<>\"\",VLOOKUP(Team!X29,Team!$E$41:$F$300,2,FALSE),\"\")","v":""},{"$f":"IF($G23<>\"\",VLOOKUP(Team!Y29,Team!$E$41:$F$300,2,FALSE),\"\")","v":""},{"$f":"IF($G23<>\"\",VLOOKUP(Team!Z29,Team!$E$41:$F$300,2,FALSE),\"\")","v":""},{"$f":"IF($G23<>\"\",VLOOKUP(Team!AA29,Team!$E$41:$F$300,2,FALSE),\"\")","v":""},{"$f":"IF($G23<>\"\",VLOOKUP(Team!AB29,Team!$E$41:$F$300,2,FALSE),\"\")","v":""},{"$f":"IF($G23<>\"\",VALUE(VLOOKUP(Team!X29,Team!$E$41:$P$300,12,FALSE)),\"\")","v":""},{"$f":"G116","v":""},null,{"$f":"P14","v":"intelligence"},{"$f":"ROUND(Q49*Q55,0)","v":0},0,0,0,0,0,0,0,0,0,0,0,0,0,null,null,0,null,"","","","","","","","","","","","",null,16,{"$f":"IF(ISNA(VLOOKUP(16,$AV$8:$AV$33,1,FALSE)),16,\"\")","v":""},"",null,null,null,null,null,null,null,null,null,null,null,null,"mon équipe",null,null,{"$f":"BC26","v":{"$error":"#VALUE!"}},null,{"$f":"BE26","v":{"$error":"#VALUE!"}},null,{"$f":"BG26","v":{"$error":"#VALUE!"}},null,null,541,null,null,null,null,null,433,null,null,null,null,null,352,null,null,null,null,null,442,null,null,null,null,null,null,null,null,null,541,null,null,null,null,null,433,null,null,null,null,null,352,null,null,null,null,null,442]
[null,null,null,null,null,null,{"$f":"IF(Team!C187<>0,Team!C187,\"\")","v":""},{"$f":"IF($G24<>\"\",VLOOKUP(Team!X30,Team!$E$41:$F$300,2,FALSE),\"\")","v":""},{"$f":"IF($G24<>\"\",VLOOKUP(Team!Y30,Team!$E$41:$F$300,2,FALSE),\"\")","v":""},{"$f":"IF($G24<>\"\",VLOOKUP(Team!Z30,Team!$E$41:$F$300,2,FALSE),\"\")","v":""},{"$f":"IF($G24<>\"\",VLOOKUP(Team!AA30,Team!$E$41:$F$300,2,FALSE),\"\")","v":""},{"$f":"IF($G24<>\"\",VLOOKUP(Team!AB30,Team!$E$41:$F$300,2,FALSE),\"\")","v":""},{"$f":"IF($G24<>\"\",VALUE(VLOOKUP(Team!X30,Team!$E$41:$P$300,12,FALSE)),\"\")","v":""},"",null,null,null,null,null,null,null,null,null,null,null,null,null,null,null,null,null,null,0,null,"","","","","","","","","","","","",null,17,{"$f":"IF(ISNA(VLOOKUP(17,$AV$8:$AV$33,1,FALSE)),17,\"\")","v":""},"",null,null,"sans bonus match",null,{"$f":"ROUND(SUM(BC10:BD20),2)","v":0},null,{"$f":"ROUND(SUM(BE10:BF20),2)","v":0},null,{"$f":"BC24+BE24","v":0},null,null,null,null,null,null,null,null,null,null,null,null,null,"defensif",null,"neutre",null,"offensif",null,"defensif",null,"neutre",null,"offensif",null,"defensif",null,"neutre",null,"offensif",null,"defensif",null,"neutre",null,"offensif",null,null,null,null,null,"defensif",null,"neutre",null,"offensif",null,"defensif",null,"neutre",null,"offensif",null,"defensif",null,"neutre",null,"offensif",null,"defensif",null,"neutre",null,"offensif"]
[null,null,null,null,{"$f":"VLOOKUP(AH4,B26:C29,2,FALSE)","v":"C"},null,{"$f":"IF(Team!C198<>0,Team!C198,\"\")","v":""},{"$f":"IF($G25<>\"\",VLOOKUP(Team!X31,Team!$E$41:$F$300,2,FALSE),\"\")","v":""},{"$f":"IF($G25<>\"\",VLOOKUP(Team!Y31,Team!$E$41:$F$300,2,FALSE),\"\")","v":""},{"$f":"IF($G25<>\"\",VLOOKUP(Team!Z31,Team!$E$41:$F$300,2,FALSE),\"\")","v":""},{"$f":"IF($G25<>\"\",VLOOKUP(Team!AA31,Team!$E$41:$F$300,2,FALSE),\"\")","v":""},{"$f":"IF($G25<>\"\",VLOOKUP(Team!AB31,Team!$E$41:$F$300,2,FALSE),\"\")","v":""},{"$f":"IF($G25<>\"\",VALUE(VLOOKUP(Team!X31,Team!$E$41:$P$300,12,FALSE)),\"\")","v":""},"","caracteristiques kit officiel",null,{"$f":"Q9","v":"kit 1"},"kit 2/3",0,"kit 4",0,"kit 5","kit 6/7",0,0,"kit 8","kit 9",0,"kit 10","kit 11",null,null,0,null,{"$f":"IF(G28=\"\",\"\",G28)","v":""},"","","","","","","","","","","",null,18,{"$f":"IF(ISNA(VLOOKUP(18,$AV$8:$AV$33,1,FALSE)),18,\"\")","v":""},"",null,null,null,null,null,null,null,null,null,null,null,null,null,null,null,null,null,null,null,"Mon équipe",541,"def",{"$f":"CT117","v":{"$error":"#VALUE!"}},null,{"$f":"CX117","v":{"$error":"#VALUE!"}},null,{"$f":"DB117","v":{"$error":"#VALUE!"}},null,{"$f":"DF117","v":{"$error":"#VALUE!"}},null,{"$f":"DJ117","v":{"$error":"#VALUE!"}},null,{"$f":"DN117","v":{"$error":"#VALUE!"}},null,{"$f":"DR117","v":{"$error":"#VALUE!"}},null,{"$f":"DV117","v":{"$error":"#VALUE!"}},null,{"$f":"DZ117","v":{"$error":"#VALUE!"}},null,{"$f":"ED117","v":{"$error":"#VALUE!"}},null,{"$f":"EH117","v":{"$error":"#VALUE!"}},null,{"$f":"EL117","v":{"$error":"#VALUE!"}},null,null,"Mon équipe",541,"def",{"$f":"IF(BU25<>$BZ$79,BU25,CS42)","v":{"$error":"#VALUE!"}},null,{"$f":"IF(BW25<>$BZ$79,BW25,CU42)","v":{"$error":"#VALUE!"}},null,{"$f":"IF(BY25<>$BZ$79,BY25,CW42)","v":{"$error":"#VALUE!"}},null,{"$f":"IF(CA25<>$BZ$79,CA25,CY42)","v":{"$error":"#VALUE!"}},null,{"$f":"IF(CC25<>$BZ$79,CC25,DA42)","v":{"$error":"#VALUE!"}},null,{"$f":"IF(CE25<>$BZ$79,CE25,DC42)","v":{"$error":"#VALUE!"}},null,{"$f":"IF(CG25<>$BZ$79,CG25,DE42)","v":{"$error":"#VALUE!"}},null,{"$f":"IF(CI25<>$BZ$79,CI25,DG42)","v":{"$error":"#VALUE!"}},null,{"$f":"IF(CK25<>$BZ$79,CK25,DI42)","v":{"$error":"#VALUE!"}},null,{"$f":"IF(CM25<>$BZ$79,CM25,DK42)","v":{"$error":"#VALUE!"}},null,{"$f":"IF(CO25<>$BZ$79,CO25,DM42)","v":{"$error":"#VALUE!"}},null,{"$f":"IF(CQ25<>$BZ$79,CQ25,DO42)","v":{"$error":"#VALUE!"}}]
[null,541,"A",541,{"$f":"VLOOKUP(AH5,B31:C33,2,FALSE)","v":"d"},null,{"$f":"IF(Team!C209<>0,Team!C209,\"\")","v":""},{"$f":"IF($G26<>\"\",VLOOKUP(Team!X32,Team!$E$41:$F$300,2,FALSE),\"\")","v":""},{"$f":"IF($G26<>\"\",VLOOKUP(Team!Y32,Team!$E$41:$F$300,2,FALSE),\"\")","v":""},{"$f":"IF($G26<>\"\",VLOOKUP(Team!Z32,Team!$E$41:$F$300,2,FALSE),\"\")","v":""},{"$f":"IF($G26<>\"\",VLOOKUP(Team!AA32,Team!$E$41:$F$300,2,FALSE),\"\")","v":""},{"$f":"IF($G26<>\"\",VLOOKUP(Team!AB32,Team!$E$41:$F$300,2,FALSE),\"\")","v":""},{"$f":"IF($G26<>\"\",VALUE(VLOOKUP(Team!X32,Team!$E$41:$P$300,12,FALSE)),\"\")","v":""},"",null,{"$f":"P19","v":"force"},null,null,null,null,null,null,null,null,null,null,null,null,null,null,null,null,0,null,{"$f":"IF(G29=\"\",\"\",G29)","v":""},"","","","","","","","","","","",null,19,{"$f":"IF(ISNA(VLOOKUP(19,$AV$8:$AV$33,1,FALSE)),19,\"\")","v":""},"",null,null,"avec bonus match",null,{"$f":"ROUND(BC24*(100+BN13)/100*(100+BN14)/100*(100+BN15)/100*(100+BN16)/100*(BN17+100)/100*(100+BN18)/100*(100+BN19)/100,2)","v":{"$error":"#VALUE!"}},null,{"$f":"ROUND(BE24*(100+BN13)/100*(BN14+100)/100*(100+BN15)/100*(100+BN16)/100*(BN17+100)/100*(100+BN18)/100*(100+BN19)/100,2)","v":{"$error":"#VALUE!"}},null,{"$f":"BC26+BE26","v":{"$error":"#VALUE!"}},null,null,null,"12) Enjoy !! ",null,null,null,null,null,null,null,null,"neutre",{"$error":"#VALUE!"},null,{"$error":"#VALUE!"},null,{"$error":"#VALUE!"},null,{"$error":"#VALUE!"},null,{"$error":"#VALUE!"},null,{"$error":"#VALUE!"},null,{"$error":"#VALUE!"},null,{"$error":"#VALUE!"},null,{"$error":"#VALUE!"},null,{"$error":"#VALUE!"},null,{"$error":"#VALUE!"},null,{"$error":"#VALUE!"},null,null,null,null,"neutre",{"$f":"IF(BU26<>$BZ$79,BU26,CS43)","v":{"$error":"#VALUE!"}},null,{"$f":"IF(BW26<>$BZ$79,BW26,CU43)","v":{"$error":"#VALUE!"}},null,{"$error":"#VALUE!"},null,{"$error":"#VALUE!"},null,{"$error":"#VALUE!"},null,{"$error":"#VALUE!"},null,{"$error":"#VALUE!"},null,{"$error":"#VALUE!"},null,{"$error":"#VALUE!"},null,{"$error":"#VALUE!"},null,{"$error":"#VALUE!"},null,{"$error":"#VALUE!"}]
[null,433,"B",433,null,null,{"$f":"IF(Team!C220<>0,Team!C220,\"\")","v":""},{"$f":"IF($G27<>\"\",VLOOKUP(Team!X33,Team!$E$41:$F$300,2,FALSE),\"\")","v":""},{"$f":"IF($G27<>\"\",VLOOKUP(Team!Y33,Team!$E$41:$F$300,2,FALSE),\"\")","v":""},{"$f":"IF($G27<>\"\",VLOOKUP(Team!Z33,Team!$E$41:$F$300,2,FALSE),\"\")","v":""},{"$f":"IF($G27<>\"\",VLOOKUP(Team!AA33,Team!$E$41:$F$300,2,FALSE),\"\")","v":""},{"$f":"IF($G27<>\"\",VLOOKUP(Team!AB33,Team!$E$41:$F$300,2,FALSE),\"\")","v":""},{"$f":"IF($G27<>\"\",VALUE(VLOOKUP(Team!X33,Team!$E$41:$P$300,12,FALSE)),\"\")","v":""},"",null,{"$f":"P20","v":"habilité"},null,null,null,null,null,null,null,null,null,null,null,null,null,null,null,null,0,null,{"$f":"IF(G30=\"\",\"\",G30)","v":""},"","","","","","","","","","","",null,20,{"$f":"IF(ISNA(VLOOKUP(20,$AV$8:$AV$33,1,FALSE)),20,\"\")","v":""},"",null,null,null,null,null,null,null,null,null,null,null,null,null,null,null,null,null,null,null,null,null,"off",{"$error":"#VALUE!"},null,{"$error":"#VALUE!"},null,{"$error":"#VALUE!"},null,{"$error":"#VALUE!"},null,{"$error":"#VALUE!"},null,{"$error":"#VALUE!"},null,{"$error":"#VALUE!"},null,{"$error":"#VALUE!"},null,{"$error":"#VALUE!"},null,{"$error":"#VALUE!"},null,{"$error":"#VALUE!"},null,{"$error":"#VALUE!"},null,null,null,null,"off",{"$error":"#VALUE!"},null,{"$error":"#VALUE!"},null,{"$error":"#VALUE!"},null,{"$error":"#VALUE!"},null,{"$error":"#VALUE!"},null,{"$error":"#VALUE!"},null,{"$error":"#VALUE!"},null,{"$error":"#VALUE!"},null,{"$error":"#VALUE!"},null,{"$error":"#VALUE!"},null,{"$error":"#VALUE!"},null,{"$error":"#VALUE!"}]
[null,352,"C",352,null,null,{"$f":"IF(Team!C231<>0,Team!C231,\"\")","v":""},{"$f":"IF($G28<>\"\",VLOOKUP(Team!X34,Team!$E$41:$F$300,2,FALSE),\"\")","v":""},{"$f":"IF($G28<>\"\",VLOOKUP(Team!Y34,Team!$E$41:$F$300,2,FALSE),\"\")","v":""},{"$f":"IF($G28<>\"\",VLOOKUP(Team!Z34,Team!$E$41:$F$300,2,FALSE),\"\")","v":""},{"$f":"IF($G28<>\"\",VLOOKUP(Team!AA34,Team!$E$41:$F$300,2,FALSE),\"\")","v":""},{"$f":"IF($G28<>\"\",VLOOKUP(Team!AB34,Team!$E$41:$F$300,2,FALSE),\"\")","v":""},{"$f":"IF($G28<>\"\",VALUE(VLOOKUP(Team!X34,Team!$E$41:$P$300,12,FALSE)),\"\")","v":""},"",null,{"$f":"P21","v":"vitesse"},null,null,null,null,null,null,null,null,null,null,null,null,null,null,null,null,0,null,{"$f":"IF(G31=\"\",\"\",G31)","v":""},"","","","","","","","","","","",null,21,{"$f":"IF(ISNA(VLOOKUP(21,$AV$8:$AV$33,1,FALSE)),21,\"\")","v":""},"",null,null,null,null,null,null,null,null,null,null,null,null,null,null,null,null,null,null,null,null,433,"def",{"$error":"#VALUE!"},null,{"$error":"#VALUE!"},null,{"$error":"#VALUE!"},null,{"$error":"#VALUE!"},null,{"$error":"#VALUE!"},null,{"$error":"#VALUE!"},null,{"$error":"#VALUE!"},null,{"$error":"#VALUE!"},null,{"$error":"#VALUE!"},null,{"$error":"#VALUE!"},null,{"$error":"#VALUE!"},null,{"$error":"#VALUE!"},null,null,null,433,"def",{"$error":"#VALUE!"},null,{"$error":"#VALUE!"},null,{"$error":"#VALUE!"},null,{"$error":"#VALUE!"},null,{"$error":"#VALUE!"},null,{"$error":"#VALUE!"},null,{"$error":"#VALUE!"},null,{"$error":"#VALUE!"},null,{"$error":"#VALUE!"},null,{"$error":"#VALUE!"},null,{"$error":"#VALUE!"},null,{"$error":"#VALUE!"}]
[null,442,"D",442,null,null,{"$f":"IF(Team!C242<>0,Team!C242,\"\")","v":""},{"$f":"IF($G29<>\"\",VLOOKUP(Team!X35,Team!$E$41:$F$300,2,FALSE),\"\")","v":""},{"$f":"IF($G29<>\"\",VLOOKUP(Team!Y35,Team!$E$41:$F$300,2,FALSE),\"\")","v":""},{"$f":"IF($G29<>\"\",VLOOKUP(Team!Z35,Team!$E$41:$F$300,2,FALSE),\"\")","v":""},{"$f":"IF($G29<>\"\",VLOOKUP(Team!AA35,Team!$E$41:$F$300,2,FALSE),\"\")","v":""},{"$f":"IF($G29<>\"\",VLOOKUP(Team!AB35,Team!$E$41:$F$300,2,FALSE),\"\")","v":""},{"$f":"IF($G29<>\"\",VALUE(VLOOKUP(Team!X35,Team!$E$41:$P$300,12,FALSE)),\"\")","v":""},"",null,{"$f":"P22","v":"endurance"},null,null,null,null,null,null,null,null,null,null,null,null,null,null,null,null,0,null,{"$f":"IF(G32=\"\",\"\",G32)","v":""},"","","","","","","","","","","",null,22,{"$f":"IF(ISNA(VLOOKUP(22,$AV$8:$AV$33,1,FALSE)),22,\"\")","v":""},"",null,null,null,null,null,null,null,"La colonne Kit donne le meilleur kit pour ce joueur a cette position",null,null,null,null,null,null,null,null,null,null,null,null,null,"neutre",{"$error":"#VALUE!"},null,{"$error":"#VALUE!"},null,{"$error":"#VALUE!"},null,{"$error":"#VALUE!"},null,{"$error":"#VALUE!"},null,{"$error":"#VALUE!"},null,{"$error":"#VALUE!"},null,{"$error":"#VALUE!"},null,{"$error":"#VALUE!"},null,{"$error":"#VALUE!"},null,{"$error":"#VALUE!"},null,{"$error":"#VALUE!"},null,null,null,null,"neutre",{"$error":"#VALUE!"},null,{"$error":"#VALUE!"},null,{"$error":"#VALUE!"},null,{"$error":"#VALUE!"},null,{"$error":"#VALUE!"},null,{"$error":"#VALUE!"},null,{"$error":"#VALUE!"},null,{"$error":"#VALUE!"},null,{"$error":"#VALUE!"},null,{"$error":"#VALUE!"},null,{"$error":"#VALUE!"},null,{"$error":"#VALUE!"}]
[null,null,null,null,null,null,{"$f":"IF(Team!C253<>0,Team!C253,\"\")","v":""},{"$f":"IF($G30<>\"\",VLOOKUP(Team!X36,Team!$E$41:$F$300,2,FALSE),\"\")","v":""},{"$f":"IF($G30<>\"\",VLOOKUP(Team!Y36,Team!$E$41:$F$300,2,FALSE),\"\")","v":""},{"$f":"IF($G30<>\"\",VLOOKUP(Team!Z36,Team!$E$41:$F$300,2,FALSE),\"\")","v":""},{"$f":"IF($G30<>\"\",VLOOKUP(Team!AA36,Team!$E$41:$F$300,2,FALSE),\"\")","v":""},{"$f":"IF($G30<>\"\",VLOOKUP(Team!AB36,Team!$E$41:$F$300,2,FALSE),\"\")","v":""},{"$f":"IF($G30<>\"\",VALUE(VLOOKUP(Team!X36,Team!$E$41:$P$300,12,FALSE)),\"\")","v":""},"",null,{"$f":"P23","v":"intelligence"},null,null,null,null,null,null,null,null,null,null,null,null,null,null,null,null,0,null,null,null,null,null,null,null,null,null,null,null,null,null,{"$f":"SUM(AU8:AU29)","v":0},null,{"$f":"IF(ISNA(VLOOKUP(23,$AV$8:$AV$33,1,FALSE)),23,\"\")","v":23},null,null,null,null,null,null,null,null,"le tableau donne le resultat du match en fonction des stratégies utilisées.",null,null,null,null,null,null,null,null,null,null,null,null,null,"off",{"$error":"#VALUE!"},null,{"$error":"#VALUE!"},null,{"$error":"#VALUE!"},null,{"$error":"#VALUE!"},null,{"$error":"#VALUE!"},null,{"$error":"#VALUE!"},null,{"$error":"#VALUE!"},null,{"$error":"#VALUE!"},null,{"$error":"#VALUE!"},null,{"$error":"#VALUE!"},null,{"$error":"#VALUE!"},null,{"$error":"#VALUE!"},null,null,null,null,"off",{"$error":"#VALUE!"},null,{"$error":"#VALUE!"},null,{"$error":"#VALUE!"},null,{"$error":"#VALUE!"},null,{"$error":"#VALUE!"},null,{"$error":"#VALUE!"},null,{"$error":"#VALUE!"},null,{"$error":"#VALUE!"},null,{"$error":"#VALUE!"},null,{"$error":"#VALUE!"},null,{"$error":"#VALUE!"},null,{"$error":"#VALUE!"}]
[null,"Defensif","d","defensif",null,null,{"$f":"IF(Team!C264<>0,Team!C264,\"\")","v":""},{"$f":"IF($G31<>\"\",VLOOKUP(Team!X37,Team!$E$41:$F$300,2,FALSE),\"\")","v":""},{"$f":"IF($G31<>\"\",VLOOKUP(Team!Y37,Team!$E$41:$F$300,2,FALSE),\"\")","v":""},{"$f":"IF($G31<>\"\",VLOOKUP(Team!Z37,Team!$E$41:$F$300,2,FALSE),\"\")","v":""},{"$f":"IF($G31<>\"\",VLOOKUP(Team!AA37,Team!$E$41:$F$300,2,FALSE),\"\")","v":""},{"$f":"IF($G31<>\"\",VLOOKUP(Team!AB37,Team!$E$41:$F$300,2,FALSE),\"\")","v":""},{"$f":"IF($G31<>\"\",VALUE(VLOOKUP(Team!X37,Team!$E$41:$P$300,12,FALSE)),\"\")","v":""},"",null,null,null,null,null,null,null,null,null,null,null,null,null,null,null,null,null,null,null,null,{"$f":"IF(G34=\"\",\"\",G34)","v":""},{"$f":"IF(AI31<>\"\",AY78*IF($AX$37=1,$BW$58,1),\"\")","v":""},{"$f":"IF(AI31<>\"\",BP78*IF($AX$37=1,$BW$59,1),\"\")","v":""},{"$f":"IF(AI31<>\"\",AY105*IF($AX$37=1,$BW$60,1),\"\")","v":""},{"$f":"IF(AI31<>\"\",BP105*IF($AX$37=1,$BW$61,1),\"\")","v":""},{"$f":"IF(AI31<>\"\",AY132*IF($AX$37=1,$BW$62,1),\"\")","v":""},{"$f":"IF(AI31<>\"\",BP132*IF($AX$37=1,$BW$63,1),\"\")","v":""},{"$f":"IF(AI31<>\"\",AY159*IF($AX$37=1,$BW$64,1),\"\")","v":""},{"$f":"IF(AI31<>\"\",BP159*IF($AX$37=1,$BW$65,1),\"\")","v":""},{"$f":"IF(AI31<>\"\",AY186*IF($AX$37=1,$BW$66,1),\"\")","v":""},{"$f":"IF(AI31<>\"\",BP186*IF($AX$37=1,$BW$67,1),\"\")","v":""},{"$f":"IF(AI31<>\"\",AY213*IF($AX$37=1,$BW$68,1),\"\")","v":""},null,null,{"$f":"IF(ISNA(VLOOKUP(24,$AV$8:$AV$33,1,FALSE)),24,\"\")","v":24},"",null,null,null,null,null,null,null,null,null,null,null,null,null,null,null,null,null,null,null,null,352,"def",{"$error":"#VALUE!"},null,{"$error":"#VALUE!"},null,{"$error":"#VALUE!"},null,{"$error":"#VALUE!"},null,{"$error":"#VALUE!"},null,{"$error":"#VALUE!"},null,{"$error":"#VALUE!"},null,{"$error":"#VALUE!"},null,{"$error":"#VALUE!"},null,{"$error":"#VALUE!"},null,{"$error":"#VALUE!"},null,{"$error":"#VALUE!"},null,null,null,352,"def",{"$error":"#VALUE!"},null,{"$error":"#VALUE!"},null,{"$error":"#VALUE!"},null,{"$error":"#VALUE!"},null,{"$error":"#VALUE!"},null,{"$error":"#VALUE!"},null,{"$error":"#VALUE!"},null,{"$error":"#VALUE!"},null,{"$error":"#VALUE!"},null,{"$error":"#VALUE!"},null,{"$error":"#VALUE!"},null,{"$error":"#VALUE!"}]
[null,"Neutre","n","neutre",null,null,{"$f":"IF(Team!C275<>0,Team!C275,\"\")","v":""},{"$f":"IF($G32<>\"\",VLOOKUP(Team!X38,Team!$E$41:$F$300,2,FALSE),\"\")","v":""},{"$f":"IF($G32<>\"\",VLOOKUP(Team!Y38,Team!$E$41:$F$300,2,FALSE),\"\")","v":""},{"$f":"IF($G32<>\"\",VLOOKUP(Team!Z38,Team!$E$41:$F$300,2,FALSE),\"\")","v":""},{"$f":"IF($G32<>\"\",VLOOKUP(Team!AA38,Team!$E$41:$F$300,2,FALSE),\"\")","v":""},{"$f":"IF($G32<>\"\",VLOOKUP(Team!AB38,Team!$E$41:$F$300,2,FALSE),\"\")","v":""},{"$f":"IF($G32<>\"\",VALUE(VLOOKUP(Team!X38,Team!$E$41:$P$300,12,FALSE)),\"\")","v":""},"",null,null,"6) Choisir si le joueur ou la position a une vitamine.",null,null,null,null,null,null,null,null,null,null,null,null,null,null,null,null,null,{"$f":"IF(G35=\"\",\"\",G35)","v":""},{"$f":"IF(AI32<>\"\",AY75*IF($AX$37=1,$BW$58,1),\"\")","v":""},{"$f":"IF(AI32<>\"\",BP75*IF($AX$37=1,$BW$59,1),\"\")","v":""},{"$f":"IF(AI32<>\"\",AY102*IF($AX$37=1,$BW$60,1),\"\")","v":""},{"$f":"IF(AI32<>\"\",BP102*IF($AX$37=1,$BW$61,1),\"\")","v":""},{"$f":"IF(AI32<>\"\",AY129*IF($AX$37=1,$BW$62,1),\"\")","v":""},{"$f":"IF(AI32<>\"\",BP129*IF($AX$37=1,$BW$63,1),\"\")","v":""},{"$f":"IF(AI32<>\"\",AY156*IF($AX$37=1,$BW$64,1),\"\")","v":""},{"$f":"IF(AI32<>\"\",BP156*IF($AX$37=1,$BW$65,1),\"\")","v":""},{"$f":"IF(AI32<>\"\",AY183*IF($AX$37=1,$BW$66,1),\"\")","v":""},{"$f":"IF(AI32<>\"\",BP183*IF($AX$37=1,$BW$67,1),\"\")","v":""},{"$f":"IF(AI32<>\"\",AY210*IF($AX$37=1,$BW$68,1),\"\")","v":""},null,null,{"$f":"IF(ISNA(VLOOKUP(25,$AV$8:$AV$33,1,FALSE)),25,\"\")","v":25},"",null,null,"8) Choisir entre pourcentage poste ou valeur brute.",null,null,null,null,null,null,null,null,null,null,null,null,null,null,null,null,null,null,"neutre",{"$error":"#VALUE!"},null,{"$error":"#VALUE!"},null,{"$error":"#VALUE!"},null,{"$error":"#VALUE!"},null,{"$error":"#VALUE!"},null,{"$error":"#VALUE!"},null,{"$error":"#VALUE!"},null,{"$error":"#VALUE!"},null,{"$error":"#VALUE!"},null,{"$error":"#VALUE!"},null,{"$error":"#VALUE!"},null,{"$error":"#VALUE!"},null,null,null,null,"neutre",{"$error":"#VALUE!"},null,{"$error":"#VALUE!"},null,{"$error":"#VALUE!"},null,{"$error":"#VALUE!"},null,{"$error":"#VALUE!"},null,{"$error":"#VALUE!"},null,{"$error":"#VALUE!"},null,{"$error":"#VALUE!"},null,{"$error":"#VALUE!"},null,{"$error":"#VALUE!"},null,{"$error":"#VALUE!"},null,{"$error":"#VALUE!"}]
[null,"Offensif","o","offensif",null,null,null,null,null,null,null,null,null,null,null,null,null,null,null,null,null,null,null,null,null,null,null,null,null,null,null,null,null,null,{"$f":"IF(G36=\"\",\"\",G36)","v":""},{"$f":"IF(AI33<>\"\",AY76*IF($AX$37=1,$BW$58,1),\"\")","v":""},{"$f":"IF(AI33<>\"\",BP76*IF($AX$37=1,$BW$59,1),\"\")","v":""},{"$f":"IF(AI33<>\"\",AY103*IF($AX$37=1,$BW$60,1),\"\")","v":""},{"$f":"IF(AI33<>\"\",BP103*IF($AX$37=1,$BW$61,1),\"\")","v":""},{"$f":"IF(AI33<>\"\",AY130*IF($AX$37=1,$BW$62,1),\"\")","v":""},{"$f":"IF(AI33<>\"\",BP130*IF($AX$37=1,$BW$63,1),\"\")","v":""},{"$f":"IF(AI33<>\"\",AY157*IF($AX$37=1,$BW$64,1),\"\")","v":""},{"$f":"IF(AI33<>\"\",BP157*IF($AX$37=1,$BW$65,1),\"\")","v":""},{"$f":"IF(AI33<>\"\",AY184*IF($AX$37=1,$BW$66,1),\"\")","v":""},{"$f":"IF(AI33<>\"\",BP184*IF($AX$37=1,$BW$67,1),\"\")","v":""},{"$f":"IF(AI33<>\"\",AY211*IF($AX$37=1,$BW$68,1),\"\")","v":""},null,null,null,"",null,null,null,null,null,null,null,null,null,null,null,null,null,null,null,null,null,null,null,null,null,"off",{"$error":"#VALUE!"},null,{"$error":"#VALUE!"},null,{"$error":"#VALUE!"},null,{"$error":"#VALUE!"},null,{"$error":"#VALUE!"},null,{"$error":"#VALUE!"},null,{"$error":"#VALUE!"},null,{"$error":"#VALUE!"},null,{"$error":"#VALUE!"},null,{"$error":"#VALUE!"},null,{"$error":"#VALUE!"},null,{"$error":"#VALUE!"},null,null,null,null,"off",{"$error":"#VALUE!"},null,{"$error":"#VALUE!"},null,{"$error":"#VALUE!"},null,{"$error":"#VALUE!"},null,{"$error":"#VALUE!"},null,{"$error":"#VALUE!"},null,{"$error":"#VALUE!"},null,{"$error":"#VALUE!"},null,{"$error":"#VALUE!"},null,{"$error":"#VALUE!"},null,{"$error":"#VALUE!"},null,{"$error":"#VALUE!"}]
[null,null,null,null,"Joueurs à comparer",null,null,null,null,null,null,null,null,{"$f":"G126","v":""},null,null,null,null,null,null,null,null,null,null,null,null,null,null,null,null,null,null,null,null,null,null,null,null,null,null,null,null,null,null,null,null,null,null,null,null,null,null,null,null,null,null,null,null,null,null,null,null,null,null,null,null,null,null,null,null,442,"def",{"$error":"#VALUE!"},null,{"$error":"#VALUE!"},null,{"$error":"#VALUE!"},null,{"$error":"#VALUE!"},null,{"$error":"#VALUE!"},null,{"$error":"#VALUE!"},null,{"$error":"#VALUE!"},null,{"$error":"#VALUE!"},null,{"$error":"#VALUE!"},null,{"$error":"#VALUE!"},null,{"$error":"#VALUE!"},null,{"$error":"#VALUE!"},null,null,null,442,"def",{"$error":"#VALUE!"},null,{"$error":"#VALUE!"},null,{"$error":"#VALUE!"},null,{"$error":"#VALUE!"},null,{"$error":"#VALUE!"},null,{"$error":"#VALUE!"},null,{"$error":"#VALUE!"},null,{"$error":"#VALUE!"},null,{"$error":"#VALUE!"},null,{"$error":"#VALUE!"},null,{"$error":"#VALUE!"},null,{"$error":"#VALUE!"}]
[null,null,null,null,null,null,null,null,null,null,null,null,null,{"$f":"G127","v":""},null,null,null,null,null,null,null,null,null,null,null,null,null,null,null,null,null,null,"vitamines :",null,null,0,0,0,0,0,0,0,0,0,0,0,null,"pourcentage :",null,0,null,null,null,null,null,null,null,null,null,null,null,null,null,null,null,null,null,null,null,null,null,"neutre",{"$error":"#VALUE!"},null,{"$error":"#VALUE!"},null,{"$error":"#VALUE!"},null,{"$error":"#VALUE!"},null,{"$error":"#VALUE!"},null,{"$error":"#VALUE!"},null,{"$error":"#VALUE!"},null,{"$error":"#VALUE!"},null,{"$error":"#VALUE!"},null,{"$error":"#VALUE!"},null,{"$error":"#VALUE!"},null,{"$error":"#VALUE!"},null,null,null,null,"neutre",{"$error":"#VALUE!"},null,{"$error":"#VALUE!"},null,{"$error":"#VALUE!"},null,{"$error":"#VALUE!"},null,{"$error":"#VALUE!"},null,{"$error":"#VALUE!"},null,{"$error":"#VALUE!"},null,{"$error":"#VALUE!"},null,{"$error":"#VALUE!"},null,{"$error":"#VALUE!"},null,{"$error":"#VALUE!"},null,{"$error":"#VALUE!"}]
[null,null,null,null,null,null,null,null,null,null,null,null,null,{"$f":"G128","v":""},null,null,null,null,null,null,null,null,null,null,null,null,null,null,null,null,null,null,null,null,null,null,null,null,null,null,null,null,null,null,null,null,null,"valeur brute :",null,1,null,null,null,null,null,null,null,null,null,null,null,null,null,null,null,null,null,null,null,null,null,"off",{"$error":"#VALUE!"},null,{"$error":"#VALUE!"},null,{"$error":"#VALUE!"},null,{"$error":"#VALUE!"},null,{"$error":"#VALUE!"},null,{"$error":"#VALUE!"},null,{"$error":"#VALUE!"},null,{"$error":"#VALUE!"},null,{"$error":"#VALUE!"},null,{"$error":"#VALUE!"},null,{"$error":"#VALUE!"},null,{"$error":"#VALUE!"},null,null,null,null,"off",{"$error":"#VALUE!"},null,{"$error":"#VALUE!"},null,{"$error":"#VALUE!"},null,{"$error":"#VALUE!"},null,{"$error":"#VALUE!"},null,{"$error":"#VALUE!"},null,{"$error":"#VALUE!"},null,{"$error":"#VALUE!"},null,{"$error":"#VALUE!"},null,{"$error":"#VALUE!"},null,{"$error":"#VALUE!"},null,{"$error":"#VALUE!"}]
[null,null,null,null,null,null,null,null,null,null,null,null,null,null,null,null,null,null,null,null,null,null,null,null,null,null,null,null,null,null,null,null,null,"Gain minimum pour une vitamine",null,{"$f":"BB192","v":0},0,0,0,0,0,0,0,0,0,0,null,"pourcentage/valeur brute :",null,1]
[null,null,null,null,"caracteristiques bonus :",null,null,null,null,null,null,null,null,null,null,"choix kit",null,null,null,null,null,null,null,null,null,null,null,null,null,null,null,null,"bonus cara"]
[null,null,null,null,"force","hab","vit","end","int",null,null,null,null,null,null,null,{"$f":"AC16","v":0},{"$f":"AC16","v":0},{"$f":"AC16","v":0},{"$f":"AC16","v":0},{"$f":"AC16","v":0},{"$f":"AC16","v":0},{"$f":"AC16","v":0},{"$f":"AC16","v":0},{"$f":"AC16","v":0},{"$f":"AC16","v":0},{"$f":"AC16","v":0},{"$f":"AC16","v":0},{"$f":"AC16","v":0},{"$f":"AC16","v":0},null,null,null,{"$f":"D8+D13","v":{"$error":"#VALUE!"}},"coefficient caracteristique par poste / tactique actuelle",null,null,null,null,null,null,null,null,"coefficient caracteristique par poste et par tactique",null,null,null,null,null,null,null,null,null,null,null,null,null,null,null,null,null,null,null,null,null,null,null,null,null,null,null,null,null,null,null,"comparaison équipe",null,null,null,null,null,null,null,null,null,null,null,"bonus XP",null,null,null,null,null,"resultat 2eme"]
[null,null,null,null,{"$f":"AH39+D16+D17+D21","v":{"$error":"#VALUE!"}},{"$f":"AH40+D15+D17+D21","v":{"$error":"#VALUE!"}},{"$f":"AH41+D15+D17+D21","v":{"$error":"#VALUE!"}},{"$f":"AH42+D16+D17+D21","v":{"$error":"#VALUE!"}},{"$f":"AH43+D15+D17+D21","v":{"$error":"#VALUE!"}},null,null,null,null,null,null,null,{"$f":"AC16","v":0},{"$f":"AC16","v":0},{"$f":"AC16","v":0},{"$f":"AC16","v":0},{"$f":"AC16","v":0},{"$f":"AC16","v":0},{"$f":"AC16","v":0},{"$f":"AC16","v":0},{"$f":"AC16","v":0},{"$f":"AC16","v":0},{"$f":"AC16","v":0},{"$f":"AC16","v":0},{"$f":"AC16","v":0},{"$f":"AC16","v":0},null,null,null,{"$f":"D9+D13","v":{"$error":"#VALUE!"}},null,null,{"$f":"F42","v":352},null,null,null,null,null,null,null,null,541,null,null,null,null,null,null,null,433,null,null,null,null,null,null,null,352,null,null,null,null,null,null,null,442,null,null,null,null,null,null,null,null,null,null,null,null,null,null,null,null,null,null,null,null,null,null,null,"mi temps",null,null,541,null,null,null,null,null,433,null,null,null,null,null,352,null,null,null,null,null,442]
[null,null,null,null,"stats brutes / pourcentage placement pour la tactique en cours",null,null,null,null,null,null,null,null,null,null,null,{"$f":"AC16","v":0},{"$f":"AC16","v":0},{"$f":"AC16","v":0},{"$f":"AC16","v":0},{"$f":"AC16","v":0},{"$f":"AC16","v":0},{"$f":"AC16","v":0},{"$f":"AC16","v":0},{"$f":"AC16","v":0},{"$f":"AC16","v":0},{"$f":"AC16","v":0},{"$f":"AC16","v":0},{"$f":"AC16","v":0},{"$f":"AC16","v":0},null,null,null,{"$f":"D10+D13","v":{"$error":"#VALUE!"}},null,"Position","force","hab","vit","end","int","% poste",null,null,"Position","force","hab","vit","end","int","% poste",null,"Position","force","hab","vit","end","int","% poste",null,"Position","force","hab","vit","end","int","% poste",null,"Position","force","hab","vit","end","int","% poste",null,null,null,null,null,"att A/def ME",null,"att ME/def A",null,"différence",null,null,null,{"$f":"IF(CJ17<>\"\",(BD22/11-CJ17/11)/200,\"\")","v":""},null,{"$f":"IF(CK41<>\"\",IF(ABS(CK41)<0.01,0,IF(ABS(CK41)>0.04,0.04,ROUND(ABS(CK41),1))),\"\")","v":""},null,null,"tournoi/coupe",null,null,"defensif",null,"neutre",null,"offensif",null,"defensif",null,"neutre",null,"offensif",null,"defensif",null,"neutre",null,"offensif",null,"defensif",null,"neutre",null,"offensif"]
[null,null,null,null,null,{"$f":"IF(E25=C26,D26,IF(E25=C27,D27,IF(E25=C28,D28,IF(E25=C29,D29,AH2))))","v":352},null,null,null,null,null,null,null,null,null,null,{"$f":"AC16","v":0},{"$f":"AC16","v":0},{"$f":"AC16","v":0},{"$f":"AC16","v":0},{"$f":"AC16","v":0},{"$f":"AC16","v":0},{"$f":"AC16","v":0},{"$f":"AC16","v":0},{"$f":"AC16","v":0},{"$f":"AC16","v":0},{"$f":"AC16","v":0},{"$f":"AC16","v":0},{"$f":"AC16","v":0},{"$f":"AC16","v":0},null,null,null,{"$f":"D11+D13","v":{"$error":"#VALUE!"}},null,1,{"$f":"IF(AK40=AT40,AT42,IF(AK40=BB40,BB42,IF(AK40=BJ40,BJ42,IF(AK40=BR40,BR42,erreur))))","v":150},{"$f":"IF(AK40=AT40,AU42,IF(AK40=BB40,BC42,IF(AK40=BJ40,BK42,IF(AK40=BR40,BS42,erreur))))","v":400},{"$f":"IF(AK40=AT40,AV42,IF(AK40=BB40,BD42,IF(AK40=BJ40,BL42,IF(AK40=BR40,BT42,erreur))))","v":150},{"$f":"IF(AK40=AT40,AW42,IF(AK40=BB40,BE42,IF(AK40=BJ40,BM42,IF(AK40=BR40,BU42,erreur))))","v":50},{"$f":"IF(AK40=AT40,AX42,IF(AK40=BB40,BF42,IF(AK40=BJ40,BN42,IF(AK40=BR40,BV42,erreur))))","v":250},{"$f":"IF(AK40=AT40,AY42,IF(AK40=BB40,BG42,IF(AK40=BJ40,BO42,IF(AK40=BR40,BW42,erreur))))","v":200},null,null,1,150,400,150,50,250,200,null,1,150,400,150,50,250,200,null,1,150,400,150,50,250,200,null,1,150,400,150,50,250,200,null,"rapport statistique",null,null,null,{"$f":"BN22/BP23","v":{"$error":"#VALUE!"}},null,{"$f":"BN23/BP22","v":{"$error":"#VALUE!"}},null,{"$f":"CC42-CE42","v":{"$error":"#VALUE!"}},null,null,null,null,null,null,null,null,"Mon équipe",541,"def",{"$f":"IF(CL74-$CL$75>0,$BZ$80,$BZ$81)","v":{"$error":"#VALUE!"}},null,{"$f":"IF(CO74-$CL$75>0,$BZ$80,$BZ$81)","v":{"$error":"#VALUE!"}},null,{"$f":"IF(CR74-$CL$75>0,$BZ$80,$BZ$81)","v":{"$error":"#VALUE!"}},null,{"$f":"IF(1.15*CU74-$CL$75>0,$BZ$80,$BZ$81)","v":{"$error":"#VALUE!"}},null,{"$f":"IF(1.15*CX74-$CL$75>0,$BZ$80,$BZ$81)","v":{"$error":"#VALUE!"}},null,{"$f":"IF(1.15*DA74-$CL$75>0,$BZ$80,$BZ$81)","v":{"$error":"#VALUE!"}},null,{"$f":"IF(DD74-1.15*$CL$75>0,$BZ$80,$BZ$81)","v":{"$error":"#VALUE!"}},null,{"$f":"IF(DG74-1.15*$CL$75>0,$BZ$80,$BZ$81)","v":{"$error":"#VALUE!"}},null,{"$f":"IF(DJ74-1.15*$CL$75>0,$BZ$80,$BZ$81)","v":{"$error":"#VALUE!"}},null,{"$f":"IF(DM74-$CL$75>0,$BZ$80,$BZ$81)","v":{"$error":"#VALUE!"}},null,{"$f":"IF(DP74-$CL$75>0,$BZ$80,$BZ$81)","v":{"$error":"#VALUE!"}},null,{"$f":"IF(DS74-$CL$75>0,$BZ$80,$BZ$81)","v":{"$error":"#VALUE!"}}]
[null,null,null,null,null,"defensif",null,null,"neutre",null,null,"offensif",null,null,null,null,{"$f":"AC16","v":0},{"$f":"AC16","v":0},{"$f":"AC16","v":0},{"$f":"AC16","v":0},{"$f":"AC16","v":0},{"$f":"AC16","v":0},{"$f":"AC16","v":0},{"$f":"AC16","v":0},{"$f":"AC16","v":0},{"$f":"AC16","v":0},{"$f":"AC16","v":0},{"$f":"AC16","v":0},{"$f":"AC16","v":0},{"$f":"AC16","v":0},null,null,null,{"$f":"D12+D13","v":{"$error":"#VALUE!"}},null,2,{"$f":"IF(AK40=AT40,AT43,IF(AK40=BB40,BB43,IF(AK40=BJ40,BJ43,IF(AK40=BR40,BR43,erreur))))","v":300},{"$f":"IF(AK40=AT40,AU43,IF(AK40=BB40,BC43,IF(AK40=BJ40,BK43,IF(AK40=BR40,BS43,erreur))))","v":200},{"$f":"IF(AK40=AT40,AV43,IF(AK40=BB40,BD43,IF(AK40=BJ40,BL43,IF(AK40=BR40,BT43,erreur))))","v":200},{"$f":"IF(AK40=AT40,AW43,IF(AK40=BB40,BE43,IF(AK40=BJ40,BM43,IF(AK40=BR40,BU43,erreur))))","v":300},{"$f":"IF(AK40=AT40,AX43,IF(AK40=BB40,BF43,IF(AK40=BJ40,BN43,IF(AK40=BR40,BV43,erreur))))","v":200},{"$f":"IF(AK40=AT40,AY43,IF(AK40=BB40,BG43,IF(AK40=BJ40,BO43,IF(AK40=BR40,BW43,erreur))))","v":200},null,null,2,300,200,200,300,200,200,null,2,250,200,250,300,200,200,null,2,300,200,200,300,200,200,null,2,250,200,250,300,200,200,null,null,null,null,null,null,null,null,null,null,null,null,null,null,null,null,null,null,null,null,"neutre",{"$f":"IF($CL$74-$CO$75>0,$BZ$80,$BZ$81)","v":{"$error":"#VALUE!"}},null,{"$f":"IF($CO$74-$CO$75>0,$BZ$80,$BZ$81)","v":{"$error":"#VALUE!"}},null,{"$f":"IF($CR$74-$CO$75>0,$BZ$80,$BZ$81)","v":{"$error":"#VALUE!"}},null,{"$f":"IF(1.15*$CU$74-$CO$75>0,$BZ$80,$BZ$81)","v":{"$error":"#VALUE!"}},null,{"$f":"IF(1.15*$CX$74-$CO$75>0,$BZ$80,$BZ$81)","v":{"$error":"#VALUE!"}},null,{"$f":"IF(1.15*$DA$74-$CO$75>0,$BZ$80,$BZ$81)","v":{"$error":"#VALUE!"}},null,{"$f":"IF($DD$74-1.15*$CO$75>0,$BZ$80,$BZ$81)","v":{"$error":"#VALUE!"}},null,{"$f":"IF($DG$74-1.15*$CO$75>0,$BZ$80,$BZ$81)","v":{"$error":"#VALUE!"}},null,{"$f":"IF($DJ$74-1.15*$CO$75>0,$BZ$80,$BZ$81)","v":{"$error":"#VALUE!"}},null,{"$f":"IF($DM$74-$CO$75>0,$BZ$80,$BZ$81)","v":{"$error":"#VALUE!"}},null,{"$f":"IF($DP$74-$CO$75>0,$BZ$80,$BZ$81)","v":{"$error":"#VALUE!"}},null,{"$f":"IF($DS$74-$CO$75>0,$BZ$80,$BZ$81)","v":{"$error":"#VALUE!"}}]
[null,null,null,null,null,"1% attaque","1% defense","1% cumulé","1% attaque","1% defense","1% cumulé","1% attaque","1% defense","1% cumulé",null,"coefficient caracteristique kit",null,null,null,null,null,null,null,null,null,null,null,null,null,null,null,null,null,null,null,3,{"$f":"IF(AK40=AT40,AT44,IF(AK40=BB40,BB44,IF(AK40=BJ40,BJ44,IF(AK40=BR40,BR44,erreur))))","v":300},{"$f":"IF(AK40=AT40,AU44,IF(AK40=BB40,BC44,IF(AK40=BJ40,BK44,IF(AK40=BR40,BS44,erreur))))","v":200},{"$f":"IF(AK40=AT40,AV44,IF(AK40=BB40,BD44,IF(AK40=BJ40,BL44,IF(AK40=BR40,BT44,erreur))))","v":200},{"$f":"IF(AK40=AT40,AW44,IF(AK40=BB40,BE44,IF(AK40=BJ40,BM44,IF(AK40=BR40,BU44,erreur))))","v":300},{"$f":"IF(AK40=AT40,AX44,IF(AK40=BB40,BF44,IF(AK40=BJ40,BN44,IF(AK40=BR40,BV44,erreur))))","v":200},{"$f":"IF(AK40=AT40,AY44,IF(AK40=BB40,BG44,IF(AK40=BJ40,BO44,IF(AK40=BR40,BW44,erreur))))","v":200},null,null,3,300,200,200,300,200,200,null,3,125,100,125,150,100,100,null,3,300,200,200,300,200,200,null,3,250,200,250,300,200,200,null,null,null,null,null,null,null,null,null,null,null,null,null,null,null,null,null,null,null,null,"off",{"$f":"IF($CL$74-CR75>0,$BZ$80,$BZ$81)","v":{"$error":"#VALUE!"}},null,{"$f":"IF($CO$74-$CR$75>0,$BZ$80,$BZ$81)","v":{"$error":"#VALUE!"}},null,{"$f":"IF($CR$74-$CR$75>0,$BZ$80,$BZ$81)","v":{"$error":"#VALUE!"}},null,{"$f":"IF(1.15*$CU$74-$CR$75>0,$BZ$80,$BZ$81)","v":{"$error":"#VALUE!"}},null,{"$f":"IF(1.15*$CX$74-$CR$75>0,$BZ$80,$BZ$81)","v":{"$error":"#VALUE!"}},null,{"$f":"IF(1.15*$DA$74-$CR$75>0,$BZ$80,$BZ$81)","v":{"$error":"#VALUE!"}},null,{"$f":"IF($DD$74-1.15*$CR$75>0,$BZ$80,$BZ$81)","v":{"$error":"#VALUE!"}},null,{"$f":"IF($DG$74-1.15*$CR$75>0,$BZ$80,$BZ$81)","v":{"$error":"#VALUE!"}},null,{"$f":"IF($DJ$74-1.15*$CR$75>0,$BZ$80,$BZ$81)","v":{"$error":"#VALUE!"}},null,{"$f":"IF($DM$74-$CR$75>0,$BZ$80,$BZ$81)","v":{"$error":"#VALUE!"}},null,{"$f":"IF($DP$74-$CR$75>0,$BZ$80,$BZ$81)","v":{"$error":"#VALUE!"}},null,{"$f":"IF($DS$74-$CR$75>0,$BZ$80,$BZ$81)","v":{"$error":"#VALUE!"}}]
[null,null,null,null,null,{"$f":"IF(E25=C26,E62,IF(E25=C27,H62,IF(E25=C28,K62,IF(E25=C29,N62,erreur))))","v":5.4449999999999998E-2},{"$f":"IF(E25=C26,F62,IF(E25=C27,I62,IF(E25=C28,L62,IF(E25=C29,O62,erreur))))","v":2.6702499999999998},{"$f":"F45+G45","v":2.7246999999999999},{"$f":"IF(E25=C26,E76,IF(E25=C27,H76,IF(E25=C28,K76,IF(E25=C29,N76,erreur))))","v":5.4449999999999998E-2},{"$f":"IF(E25=C26,F76,IF(E25=C27,I76,IF(E25=C28,L76,IF(E25=C29,O76,erreur))))","v":2.6702499999999998},{"$f":"I45+J45","v":2.7246999999999999},{"$f":"IF(E25=C26,E90,IF(E25=C27,H90,IF(E25=C28,K90,IF(E25=C29,N90,erreur))))","v":5.4449999999999998E-2},{"$f":"IF(E25=C26,F90,IF(E25=C27,I90,IF(E25=C28,L90,IF(E25=C29,O90,erreur))))","v":2.6702499999999998},{"$f":"L45+M45","v":2.7246999999999999},null,null,0.8833333333333333,1.3666666666666667,0,1.4333333333333333,0,1.4509803921568627,1.2745098039215685,0,1.2745098039215685,1.1833333333333333,1.2745098039215685,0,0.98333333333333328,1.0833333333333333,null,null,null,null,null,4,{"$f":"IF(AK40=AT40,AT45,IF(AK40=BB40,BB45,IF(AK40=BJ40,BI45,IF(AK40=BR40,BR45,erreur))))","v":4},{"$f":"IF(AK40=AT40,AU45,IF(AK40=BB40,BC45,IF(AK40=BJ40,BK45,IF(AK40=BR40,BS45,erreur))))","v":150},{"$f":"IF(AK40=AT40,AV45,IF(AK40=BB40,BD45,IF(AK40=BJ40,BL45,IF(AK40=BR40,BT45,erreur))))","v":300},{"$f":"IF(AK40=AT40,AW45,IF(AK40=BB40,BE45,IF(AK40=BJ40,BM45,IF(AK40=BR40,BU45,erreur))))","v":200},{"$f":"IF(AK40=AT40,AX45,IF(AK40=BB40,BF45,IF(AK40=BJ40,BN45,IF(AK40=BR40,BV45,erreur))))","v":100},{"$f":"IF(AK40=AT40,AY45,IF(AK40=BB40,BG45,IF(AK40=BJ40,BO45,IF(AK40=BR40,BW45,erreur))))","v":200},null,null,4,300,150,300,200,100,200,null,4,300,100,250,250,150,200,null,4,300,150,300,200,100,200,null,4,300,100,250,250,150,200,null,null,null,null,null,null,null,null,null,null,null,null,null,null,null,null,null,null,null,433,"def",{"$f":"IF($CL$74-1.15*$CU$75>0,$BZ$80,$BZ$81)","v":{"$error":"#VALUE!"}},null,{"$f":"IF($CO$74-1.15*$CU$75>0,$BZ$80,$BZ$81)","v":{"$error":"#VALUE!"}},null,{"$f":"IF($CR$74-1.15*$CU$75>0,$BZ$80,$BZ$81)","v":{"$error":"#VALUE!"}},null,{"$f":"IF($CU$74-$CU$75>0,$BZ$80,$BZ$81)","v":{"$error":"#VALUE!"}},null,{"$f":"IF($CX$74-$CU$75>0,$BZ$80,$BZ$81)","v":{"$error":"#VALUE!"}},null,{"$f":"IF($DA$74-$CU$75>0,$BZ$80,$BZ$81)","v":{"$error":"#VALUE!"}},null,{"$f":"IF($DD$74-$CU$75>0,$BZ$80,$BZ$81)","v":{"$error":"#VALUE!"}},null,{"$f":"IF($DG$74-$CU$75>0,$BZ$80,$BZ$81)","v":{"$error":"#VALUE!"}},null,{"$f":"IF($DJ$74-$CU$75>0,$BZ$80,$BZ$81)","v":{"$error":"#VALUE!"}},null,{"$f":"IF(1.15*$DM$74-$CU$75>0,$BZ$80,$BZ$81)","v":{"$error":"#VALUE!"}},null,{"$f":"IF(1.15*$DP$74-$CU$75>0,$BZ$80,$BZ$81)","v":{"$error":"#VALUE!"}},null,{"$f":"IF(1.15*$DS$74-$CU$75>0,$BZ$80,$BZ$81)","v":{"$error":"#VALUE!"}}]
[null,null,null,null,null,{"$f":"IF(E25=C26,E63,IF(E25=C27,H63,IF(E25=C28,K63,IF(E25=C29,N63,erreur))))","v":0.90825},{"$f":"IF(E25=C26,F63,IF(E25=C27,I63,IF(E25=C28,L63,IF(E25=C29,O63,erreur))))","v":1.3623499999999999},{"$f":"F46+G46","v":2.2706},{"$f":"IF(E25=C26,E77,IF(E25=C27,H77,IF(E25=C28,K77,IF(E25=C29,N77,erreur))))","v":1.1353},{"$f":"IF(E25=C26,F77,IF(E25=C27,I77,IF(E25=C28,L77,IF(E25=C29,O77,erreur))))","v":1.1353},{"$f":"I46+J46","v":2.2706},{"$f":"IF(E25=C26,E91,IF(E25=C27,H91,IF(E25=C28,K91,IF(E25=C29,N91,erreur))))","v":1.3623499999999999},{"$f":"IF(E25=C26,F91,IF(E25=C27,I91,IF(E25=C28,L91,IF(E25=C29,O91,erreur))))","v":0.90825},{"$f":"L46+M46","v":2.2706},null,null,1.5833333333333333,1.0666666666666667,0,0.95,0,1.1764705882352942,1.2745098039215685,0,1.2745098039215685,1.3,1.411764705882353,0,1.4,1.3333333333333333,null,null,null,null,null,5,{"$f":"IF(AK40=AT40,AT46,IF(AK40=BB40,BB46,IF(AK40=BJ40,BJ46,IF(AK40=BR40,BR46,erreur))))","v":200},{"$f":"IF(AK40=AT40,AU46,IF(AK40=BB40,BC46,IF(AK40=BJ40,BK46,IF(AK40=BR40,BS46,erreur))))","v":150},{"$f":"IF(AK40=AT40,AV46,IF(AK40=BB40,BD46,IF(AK40=BJ40,BL46,IF(AK40=BR40,BT46,erreur))))","v":150},{"$f":"IF(AK40=AT40,AW46,IF(AK40=BB40,BE46,IF(AK40=BJ40,BM46,IF(AK40=BR40,BU46,erreur))))","v":150},{"$f":"IF(AK40=AT40,AX46,IF(AK40=BB40,BF46,IF(AK40=BJ40,BN46,IF(AK40=BR40,BV46,erreur))))","v":150},{"$f":"IF(AK40=AT40,AY46,IF(AK40=BB40,BG46,IF(AK40=BJ40,BO46,IF(AK40=BR40,BW46,erreur))))","v":200},null,null,5,200,150,150,150,150,200,null,5,200,150,150,150,150,200,null,5,200,150,150,150,150,200,null,5,200,150,150,150,150,200,null,null,null,null,null,null,null,null,null,null,null,null,null,null,null,null,null,null,null,null,"neutre",{"$f":"IF($CL$74-1.15*$CX$75>0,$BZ$80,$BZ$81)","v":{"$error":"#VALUE!"}},null,{"$f":"IF($CO$74-1.15*$CX$75>0,$BZ$80,$BZ$81)","v":{"$error":"#VALUE!"}},null,{"$f":"IF($CR$74-1.15*$CX$75>0,$BZ$80,$BZ$81)","v":{"$error":"#VALUE!"}},null,{"$f":"IF($CU$74-$CX$75>0,$BZ$80,$BZ$81)","v":{"$error":"#VALUE!"}},null,{"$f":"IF($CX$74-$CX$75>0,$BZ$80,$BZ$81)","v":{"$error":"#VALUE!"}},null,{"$f":"IF($DA$74-$CX$75>0,$BZ$80,$BZ$81)","v":{"$error":"#VALUE!"}},null,{"$f":"IF($DD$74-$CX$75>0,$BZ$80,$BZ$81)","v":{"$error":"#VALUE!"}},null,{"$f":"IF($DG$74-$CX$75>0,$BZ$80,$BZ$81)","v":{"$error":"#VALUE!"}},null,{"$f":"IF($DJ$74-$CX$75>0,$BZ$80,$BZ$81)","v":{"$error":"#VALUE!"}},null,{"$f":"IF(1.15*$DM$74-$CX$75>0,$BZ$80,$BZ$81)","v":{"$error":"#VALUE!"}},null,{"$f":"IF(1.15*$DP$74-$CX$75>0,$BZ$80,$BZ$81)","v":{"$error":"#VALUE!"}},null,{"$f":"IF(1.15*$DS$74-$CX$75>0,$BZ$80,$BZ$81)","v":{"$error":"#VALUE!"}}]
[null,null,null,null,null,{"$f":"IF(E25=C26,E64,IF(E25=C27,H64,IF(E25=C28,K64,IF(E25=C29,N64,erreur))))","v":0.68115000000000003},{"$f":"IF(E25=C26,F64,IF(E25=C27,I64,IF(E25=C28,L64,IF(E25=C29,O64,erreur))))","v":1.58945},2.2706,{"$f":"IF(E25=C26,E78,IF(E25=C27,H78,IF(E25=C28,K78,IF(E25=C29,N78,erreur))))","v":1.1353},{"$f":"IF(E25=C26,F78,IF(E25=C27,I78,IF(E25=C28,L78,IF(E25=C29,O78,erreur))))","v":1.1353},2.2706,{"$f":"IF(E25=C26,E92,IF(E25=C27,H92,IF(E25=C28,K92,IF(E25=C29,N92,erreur))))","v":1.3623499999999999},{"$f":"IF(E25=C26,F92,IF(E25=C27,I92,IF(E25=C28,L92,IF(E25=C29,O92,erreur))))","v":0.90825},2.2706,null,null,0.8833333333333333,1.2166666666666666,0,1.4333333333333333,0,1.1764705882352942,1.2745098039215685,0,1.2745098039215685,1.3,1.411764705882353,0,1.1166666666666667,1.45,null,null,null,null,null,6,{"$f":"IF(AK40=AT40,AT47,IF(AK40=BB40,BB47,IF(AK40=BJ40,BJ47,IF(AK40=BR40,BR47,erreur))))","v":250},{"$f":"IF(AK40=AT40,AU47,IF(AK40=BB40,BC47,IF(AK40=BJ40,BK47,IF(AK40=BR40,BS47,erreur))))","v":250},{"$f":"IF(AK40=AT40,AV47,IF(AK40=BB40,BD47,IF(AK40=BJ40,BL47,IF(AK40=BR40,BT47,erreur))))","v":150},{"$f":"IF(AK40=AT40,AW47,IF(AK40=BB40,BE47,IF(AK40=BJ40,BM47,IF(AK40=BR40,BU47,erreur))))","v":250},{"$f":"IF(AK40=AT40,AX47,IF(AK40=BB40,BF47,IF(AK40=BJ40,BN47,IF(AK40=BR40,BV47,erreur))))","v":200},{"$f":"IF(AK40=AT40,AY47,IF(AK40=BB40,BG47,IF(AK40=BJ40,BO47,IF(AK40=BR40,BW47,erreur))))","v":200},null,null,6,250,250,150,250,200,200,null,6,250,200,250,250,150,200,null,6,250,250,150,250,200,200,null,6,250,200,250,250,150,200,null,null,null,null,null,null,null,null,null,null,null,null,null,null,null,null,null,null,null,null,"off",{"$f":"IF($CL$74-1.15*$DA$75>0,$BZ$80,$BZ$81)","v":{"$error":"#VALUE!"}},null,{"$f":"IF($CO$74-1.15*$DA$75>0,$BZ$80,$BZ$81)","v":{"$error":"#VALUE!"}},null,{"$f":"IF($CR$74-1.15*$DA$75>0,$BZ$80,$BZ$81)","v":{"$error":"#VALUE!"}},null,{"$f":"IF($CU$74-$DA$75>0,$BZ$80,$BZ$81)","v":{"$error":"#VALUE!"}},null,{"$f":"IF($CX$74-$DA$75>0,$BZ$80,$BZ$81)","v":{"$error":"#VALUE!"}},null,{"$f":"IF($DA$74-$DA$75>0,$BZ$80,$BZ$81)","v":{"$error":"#VALUE!"}},null,{"$f":"IF($DD$74-$DA$75>0,$BZ$80,$BZ$81)","v":{"$error":"#VALUE!"}},null,{"$f":"IF($DG$74-$DA$75>0,$BZ$80,$BZ$81)","v":{"$error":"#VALUE!"}},null,{"$f":"IF($DJ$74-$DA$75>0,$BZ$80,$BZ$81)","v":{"$error":"#VALUE!"}},null,{"$f":"IF(1.15*$DM$74-$DA$75>0,$BZ$80,$BZ$81)","v":{"$error":"#VALUE!"}},null,{"$f":"IF(1.15*$DP$74-$DA$75>0,$BZ$80,$BZ$81)","v":{"$error":"#VALUE!"}},null,{"$f":"IF(1.15*$DS$74-$DA$75>0,$BZ$80,$BZ$81)","v":{"$error":"#VALUE!"}}]
[null,null,null,null,null,{"$f":"IF(E25=C26,E65,IF(E25=C27,H65,IF(E25=C28,K65,IF(E25=C29,N65,erreur))))","v":0.27245000000000003},{"$f":"IF(E25=C26,F65,IF(E25=C27,I65,IF(E25=C28,L65,IF(E25=C29,O65,erreur))))","v":0.63575000000000004},0.90820000000000012,{"$f":"IF(E25=C26,E79,IF(E25=C27,H79,IF(E25=C28,K79,IF(E25=C29,N79,erreur))))","v":0.27245000000000003},{"$f":"IF(E25=C26,F79,IF(E25=C27,I79,IF(E25=C28,L79,IF(E25=C29,O79,erreur))))","v":0.63575000000000004},0.90820000000000012,{"$f":"IF(E25=C26,E93,IF(E25=C27,H93,IF(E25=C28,K93,IF(E25=C29,N93,erreur))))","v":0.4541},{"$f":"IF(E25=C26,F93,IF(E25=C27,I93,IF(E25=C28,L93,IF(E25=C29,O93,erreur))))","v":0.4541},0.90820000000000001,null,null,0.6,1.3666666666666667,0,1.2666666666666666,0,1.1764705882352942,1.2745098039215685,0,1.2745098039215685,1.3,1.1568627450980393,0,1.25,1.3333333333333333,null,null,null,null,null,7,{"$f":"IF(AK40=AT40,AT48,IF(AK40=BB40,BB48,IF(AK40=BJ40,BJ48,IF(AK40=BR40,BR48,erreur))))","v":250},{"$f":"IF(AK40=AT40,AU48,IF(AK40=BB40,BC48,IF(AK40=BJ40,BK48,IF(AK40=BR40,BS48,erreur))))","v":250},{"$f":"IF(AK40=AT40,AV48,IF(AK40=BB40,BD48,IF(AK40=BJ40,BL48,IF(AK40=BR40,BT48,erreur))))","v":250},{"$f":"IF(AK40=AT40,AW48,IF(AK40=BB40,BE48,IF(AK40=BJ40,BM48,IF(AK40=BR40,BU48,erreur))))","v":250},{"$f":"IF(AK40=AT40,AX48,IF(AK40=BB40,BF48,IF(AK40=BJ40,BN48,IF(AK40=BR40,BV48,erreur))))","v":200},{"$f":"IF(AK40=AT40,AY48,IF(AK40=BB40,BG48,IF(AK40=BJ40,BO48,IF(AK40=BR40,BW48,erreur))))","v":200},null,null,7,250,250,250,250,200,200,null,7,250,250,250,250,200,200,null,7,250,250,250,250,200,200,null,7,250,250,250,250,200,200,null,null,null,null,null,null,null,null,null,null,null,null,null,null,null,null,null,null,null,352,"def",{"$f":"IF(1.15*$CL$74-$DD$75>0,$BZ$80,$BZ$81)","v":{"$error":"#VALUE!"}},null,{"$f":"IF(1.15*$CO$74-$DD$75>0,$BZ$80,$BZ$81)","v":{"$error":"#VALUE!"}},null,{"$f":"IF(1.15*$CR$74-$DD$75>0,$BZ$80,$BZ$81)","v":{"$error":"#VALUE!"}},null,{"$f":"IF($CU$74-$DD$75>0,$BZ$80,$BZ$81)","v":{"$error":"#VALUE!"}},null,{"$f":"IF($CX$74-$DD$75>0,$BZ$80,$BZ$81)","v":{"$error":"#VALUE!"}},null,{"$f":"IF($DA$74-$DD$75>0,$BZ$80,$BZ$81)","v":{"$error":"#VALUE!"}},null,{"$f":"IF($DD$74-$DD$75>0,$BZ$80,$BZ$81)","v":{"$error":"#VALUE!"}},null,{"$f":"IF($DG$74-$DD$75>0,$BZ$80,$BZ$81)","v":{"$error":"#VALUE!"}},null,{"$f":"IF($DJ$74-$DD$75>0,$BZ$80,$BZ$81)","v":{"$error":"#VALUE!"}},null,{"$f":"IF($DM$74-1.15*$DD$75>0,$BZ$80,$BZ$81)","v":{"$error":"#VALUE!"}},null,{"$f":"IF($DP$74-1.15*$DD$75>0,$BZ$80,$BZ$81)","v":{"$error":"#VALUE!"}},null,{"$f":"IF($DS$74-1.15*$DD$75>0,$BZ$80,$BZ$81)","v":{"$error":"#VALUE!"}}]
[null,null,null,null,null,{"$f":"IF(E25=C26,E66,IF(E25=C27,H66,IF(E25=C28,K66,IF(E25=C29,N66,erreur))))","v":0.27245000000000003},{"$f":"IF(E25=C26,F66,IF(E25=C27,I66,IF(E25=C28,L66,IF(E25=C29,O66,erreur))))","v":0.63575000000000004},0.90820000000000012,{"$f":"IF(E25=C26,E80,IF(E25=C27,H80,IF(E25=C28,K80,IF(E25=C29,N80,erreur))))","v":0.36330000000000001},{"$f":"IF(E25=C26,F80,IF(E25=C27,I80,IF(E25=C28,L80,IF(E25=C29,O80,erreur))))","v":0.54495000000000005},0.90825,{"$f":"IF(E25=C26,E94,IF(E25=C27,H94,IF(E25=C28,K94,IF(E25=C29,N94,erreur))))","v":0.4541},{"$f":"IF(E25=C26,F94,IF(E25=C27,I94,IF(E25=C28,L94,IF(E25=C29,O94,erreur))))","v":0.4541},0.90820000000000001,null,null,1.1666666666666667,1.0666666666666667,0,0.95,0,1.1764705882352942,1.0980392156862746,0,1.0980392156862746,1.1833333333333333,1.0196078431372548,0,1.25,0.96666666666666667,null,null,null,null,null,8,{"$f":"IF(AK40=AT40,AT49,IF(AK40=BB40,BB49,IF(AK40=BJ40,BJ49,IF(AK40=BR40,BR49,erreur))))","v":200},{"$f":"IF(AK40=AT40,AU49,IF(AK40=BB40,BC49,IF(AK40=BJ40,BK49,IF(AK40=BR40,BS49,erreur))))","v":300},{"$f":"IF(AK40=AT40,AV49,IF(AK40=BB40,BD49,IF(AK40=BJ40,BL49,IF(AK40=BR40,BT49,erreur))))","v":300},{"$f":"IF(AK40=AT40,AW49,IF(AK40=BB40,BE49,IF(AK40=BJ40,BM49,IF(AK40=BR40,BU49,erreur))))","v":300},{"$f":"IF(AK40=AT40,AX49,IF(AK40=BB40,BF49,IF(AK40=BJ40,BN49,IF(AK40=BR40,BV49,erreur))))","v":200},{"$f":"IF(AK40=AT40,AY49,IF(AK40=BB40,BG49,IF(AK40=BJ40,BO49,IF(AK40=BR40,BW49,erreur))))","v":200},null,null,8,250,250,250,250,200,200,null,8,200,300,300,300,200,200,null,8,200,300,300,300,200,200,null,8,250,250,250,250,200,200,null,null,null,null,null,null,null,null,null,null,null,null,null,null,null,null,null,null,null,null,"neutre",{"$f":"IF(1.15*$CL$74-$DG$75>0,$BZ$80,$BZ$81)","v":{"$error":"#VALUE!"}},null,{"$f":"IF(1.15*$CO$74-$DG$75>0,$BZ$80,$BZ$81)","v":{"$error":"#VALUE!"}},null,{"$f":"IF(1.15*$CR$74-$DG$75>0,$BZ$80,$BZ$81)","v":{"$error":"#VALUE!"}},null,{"$f":"IF($CU$74-$DG$75>0,$BZ$80,$BZ$81)","v":{"$error":"#VALUE!"}},null,{"$f":"IF($CX$74-$DG$75>0,$BZ$80,$BZ$81)","v":{"$error":"#VALUE!"}},null,{"$f":"IF($DA$74-$DG$75>0,$BZ$80,$BZ$81)","v":{"$error":"#VALUE!"}},null,{"$f":"IF($DD$74-$DG$75>0,$BZ$80,$BZ$81)","v":{"$error":"#VALUE!"}},null,{"$f":"IF($DG$74-$DG$75>0,$BZ$80,$BZ$81)","v":{"$error":"#VALUE!"}},null,{"$f":"IF($DJ$74-$DG$75>0,$BZ$80,$BZ$81)","v":{"$error":"#VALUE!"}},null,{"$f":"IF($DM$74-1.15*$DG$75>0,$BZ$80,$BZ$81)","v":{"$error":"#VALUE!"}},null,{"$f":"IF($DP$74-1.15*$DG$75>0,$BZ$80,$BZ$81)","v":{"$error":"#VALUE!"}},null,{"$f":"IF($DS$74-1.15*$DG$75>0,$BZ$80,$BZ$81)","v":{"$error":"#VALUE!"}}]
[null,null,null,null,null,{"$f":"IF(E25=C26,E67,IF(E25=C27,H67,IF(E25=C28,K67,IF(E25=C29,N67,erreur))))","v":0.72660000000000002},{"$f":"IF(E25=C26,F67,IF(E25=C27,I67,IF(E25=C28,L67,IF(E25=C29,O67,erreur))))","v":1.0899000000000001},1.8165,{"$f":"IF(E25=C26,E81,IF(E25=C27,H81,IF(E25=C28,K81,IF(E25=C29,N81,erreur))))","v":0.90825},{"$f":"IF(E25=C26,F81,IF(E25=C27,I81,IF(E25=C28,L81,IF(E25=C29,O81,erreur))))","v":0.90825},1.8165,{"$f":"IF(E25=C26,E95,IF(E25=C27,H95,IF(E25=C28,K95,IF(E25=C29,N95,erreur))))","v":1.0899000000000001},{"$f":"IF(E25=C26,F95,IF(E25=C27,I95,IF(E25=C28,L95,IF(E25=C29,O95,erreur))))","v":0.72660000000000002},1.8165,null,"valeur objet max",null,null,null,null,null,null,null,null,null,null,null,null,null,null,null,null,null,null,null,9,{"$f":"IF(AK40=AT40,AT50,IF(AK40=BB40,BB50,IF(AK40=BJ40,BJ50,IF(AK40=BR40,BR50,erreur))))","v":350},{"$f":"IF(AK40=AT40,AU50,IF(AK40=BB40,BC50,IF(AK40=BJ40,BK50,IF(AK40=BR40,BS50,erreur))))","v":400},{"$f":"IF(AK40=AT40,AV50,IF(AK40=BB40,BD50,IF(AK40=BJ40,BL50,IF(AK40=BR40,BT50,erreur))))","v":250},{"$f":"IF(AK40=AT40,AW50,IF(AK40=BB40,BE50,IF(AK40=BJ40,BM50,IF(AK40=BR40,BU50,erreur))))","v":250},{"$f":"IF(AK40=AT40,AX50,IF(AK40=BB40,BF50,IF(AK40=BJ40,BN50,IF(AK40=BR40,BV50,erreur))))","v":250},{"$f":"IF(AK40=AT40,AY50,IF(AK40=BB40,BG50,IF(AK40=BJ40,BO50,IF(AK40=BR40,BW50,erreur))))","v":200},null,null,9,250,350,400,300,200,200,null,9,350,400,250,250,250,200,null,9,350,400,250,250,250,200,null,9,250,350,400,300,200,200,null,null,null,null,null,null,null,null,null,null,null,null,null,null,null,null,null,null,null,null,"off",{"$f":"IF(1.15*$CL$74-$DJ$75>0,$BZ$80,$BZ$81)","v":{"$error":"#VALUE!"}},null,{"$f":"IF(1.15*$CO$74-$DJ$75>0,$BZ$80,$BZ$81)","v":{"$error":"#VALUE!"}},null,{"$f":"IF(1.15*$CR$74-$DJ$75>0,$BZ$80,$BZ$81)","v":{"$error":"#VALUE!"}},null,{"$f":"IF($CU$74-$DJ$75>0,$BZ$80,$BZ$81)","v":{"$error":"#VALUE!"}},null,{"$f":"IF($CX$74-$DJ$75>0,$BZ$80,$BZ$81)","v":{"$error":"#VALUE!"}},null,{"$f":"IF($DA$74-$DJ$75>0,$BZ$80,$BZ$81)","v":{"$error":"#VALUE!"}},null,{"$f":"IF($DD$74-$DJ$75>0,$BZ$80,$BZ$81)","v":{"$error":"#VALUE!"}},null,{"$f":"IF($DG$74-$DJ$75>0,$BZ$80,$BZ$81)","v":{"$error":"#VALUE!"}},null,{"$f":"IF($DJ$74-$DJ$75>0,$BZ$80,$BZ$81)","v":{"$error":"#VALUE!"}},null,{"$f":"IF($DM$74-1.15*$DJ$75>0,$BZ$80,$BZ$81)","v":{"$error":"#VALUE!"}},null,{"$f":"IF($DP$74-1.15*$DJ$75>0,$BZ$80,$BZ$81)","v":{"$error":"#VALUE!"}},null,{"$f":"IF($DS$74-1.15*$DJ$75>0,$BZ$80,$BZ$81)","v":{"$error":"#VALUE!"}}]
[null,null,null,null,null,{"$f":"IF(E25=C26,E68,IF(E25=C27,H68,IF(E25=C28,K68,IF(E25=C29,N68,erreur))))","v":1.0899000000000001},{"$f":"IF(E25=C26,F68,IF(E25=C27,I68,IF(E25=C28,L68,IF(E25=C29,O68,erreur))))","v":1.6348499999999999},2.7247500000000002,{"$f":"IF(E25=C26,E82,IF(E25=C27,H82,IF(E25=C28,K82,IF(E25=C29,N82,erreur))))","v":1.6348499999999999},{"$f":"IF(E25=C26,F82,IF(E25=C27,I82,IF(E25=C28,L82,IF(E25=C29,O82,erreur))))","v":1.0899000000000001},2.7247500000000002,{"$f":"IF(E25=C26,E96,IF(E25=C27,H96,IF(E25=C28,K96,IF(E25=C29,N96,erreur))))","v":1.9073500000000001},{"$f":"IF(E25=C26,F96,IF(E25=C27,I96,IF(E25=C28,L96,IF(E25=C29,O96,erreur))))","v":0.81740000000000002},2.7247500000000002,null,null,{"$f":"D21","v":0},{"$f":"D21","v":0},{"$f":"D21","v":0},{"$f":"D21","v":0},{"$f":"D21","v":0},{"$f":"D21","v":0},{"$f":"D21","v":0},{"$f":"D21","v":0},{"$f":"D21","v":0},{"$f":"D21","v":0},{"$f":"D21","v":0},{"$f":"D21","v":0},{"$f":"D21","v":0},{"$f":"D21","v":0},null,null,null,null,null,10,{"$f":"IF(AK40=AT40,AT51,IF(AK40=BB40,BB51,IF(AK40=BJ40,BJ51,IF(AK40=BR40,BR51,erreur))))","v":200},{"$f":"IF(AK40=AT40,AU51,IF(AK40=BB40,BC51,IF(AK40=BJ40,BK51,IF(AK40=BR40,BS51,erreur))))","v":350},{"$f":"IF(AK40=AT40,AV51,IF(AK40=BB40,BD51,IF(AK40=BJ40,BL51,IF(AK40=BR40,BT51,erreur))))","v":250},{"$f":"IF(AK40=AT40,AW51,IF(AK40=BB40,BE51,IF(AK40=BJ40,BM51,IF(AK40=BR40,BU51,erreur))))","v":300},{"$f":"IF(AK40=AT40,AX51,IF(AK40=BB40,BF51,IF(AK40=BJ40,BN51,IF(AK40=BR40,BV51,erreur))))","v":300},{"$f":"IF(AK40=AT40,AY51,IF(AK40=BB40,BG51,IF(AK40=BJ40,BO51,IF(AK40=BR40,BW51,erreur))))","v":200},null,null,10,200,350,250,300,300,200,null,10,200,350,250,300,300,200,null,10,200,350,250,300,300,200,null,10,200,350,250,300,300,200,null,null,null,null,null,null,null,null,null,null,null,null,null,null,null,null,null,null,null,442,"def",{"$f":"IF($CL$74-$DM$75>0,$BZ$80,$BZ$81)","v":{"$error":"#VALUE!"}},null,{"$f":"IF($CO$74-$DM$75>0,$BZ$80,$BZ$81)","v":{"$error":"#VALUE!"}},null,{"$f":"IF($CR$74-$DM$75>0,$BZ$80,$BZ$81)","v":{"$error":"#VALUE!"}},null,{"$f":"IF($CU$74-1.15*$DM$75>0,$BZ$80,$BZ$81)","v":{"$error":"#VALUE!"}},null,{"$f":"IF($CX$74-1.15*$DM$75>0,$BZ$80,$BZ$81)","v":{"$error":"#VALUE!"}},null,{"$f":"IF($DA$74-1.15*$DM$75>0,$BZ$80,$BZ$81)","v":{"$error":"#VALUE!"}},null,{"$f":"IF(1.15*$DD$74-$DM$75>0,$BZ$80,$BZ$81)","v":{"$error":"#VALUE!"}},null,{"$f":"IF(1.15*$DG$74-$DM$75>0,$BZ$80,$BZ$81)","v":{"$error":"#VALUE!"}},null,{"$f":"IF(1.15*$DJ$74-$DM$75>0,$BZ$80,$BZ$81)","v":{"$error":"#VALUE!"}},null,{"$f":"IF($DM$74-$DM$75>0,$BZ$80,$BZ$81)","v":{"$error":"#VALUE!"}},null,{"$f":"IF($DP$74-$DM$75>0,$BZ$80,$BZ$81)","v":{"$error":"#VALUE!"}},null,{"$f":"IF($DS$74-$DM$75>0,$BZ$80,$BZ$81)","v":{"$error":"#VALUE!"}}]
[null,null,null,null,null,{"$f":"IF(E25=C26,E69,IF(E25=C27,H69,IF(E25=C28,K69,IF(E25=C29,N69,erreur))))","v":0.68115000000000003},{"$f":"IF(E25=C26,F69,IF(E25=C27,I69,IF(E25=C28,L69,IF(E25=C29,O69,erreur))))","v":0.68115000000000003},1.3623000000000001,{"$f":"IF(E25=C26,E83,IF(E25=C27,H83,IF(E25=C28,K83,IF(E25=C29,N83,erreur))))","v":0.81740000000000002},{"$f":"IF(E25=C26,F83,IF(E25=C27,I83,IF(E25=C28,L83,IF(E25=C29,O83,erreur))))","v":0.54495000000000005},1.3623500000000002,{"$f":"IF(E25=C26,E97,IF(E25=C27,H97,IF(E25=C28,K97,IF(E25=C29,N97,erreur))))","v":1.0899000000000001},{"$f":"IF(E25=C26,F97,IF(E25=C27,I97,IF(E25=C28,L97,IF(E25=C29,O97,erreur))))","v":0.27245000000000003},1.3623500000000002,null,null,{"$f":"D21","v":0},{"$f":"D21","v":0},{"$f":"D21","v":0},{"$f":"D21","v":0},{"$f":"D21","v":0},{"$f":"D21","v":0},{"$f":"D21","v":0},{"$f":"D21","v":0},{"$f":"D21","v":0},{"$f":"D21","v":0},{"$f":"D21","v":0},{"$f":"D21","v":0},{"$f":"D21","v":0},{"$f":"D21","v":0},null,null,null,null,null,11,{"$f":"IF(AK40=AT40,AT52,IF(AK40=BB40,BB52,IF(AK40=BJ40,BJ52,IF(AK40=BR40,BR52,erreur))))","v":200},{"$f":"IF(AK40=AT40,AU52,IF(AK40=BB40,BC52,IF(AK40=BJ40,BK52,IF(AK40=BR40,BS52,erreur))))","v":300},{"$f":"IF(AK40=AT40,AV52,IF(AK40=BB40,BD52,IF(AK40=BJ40,BL52,IF(AK40=BR40,BT52,erreur))))","v":300},{"$f":"IF(AK40=AT40,AW52,IF(AK40=BB40,BE52,IF(AK40=BJ40,BM52,IF(AK40=BR40,BU52,erreur))))","v":300},{"$f":"IF(AK40=AT40,AX52,IF(AK40=BB40,BF52,IF(AK40=BJ40,BN52,IF(AK40=BR40,BV52,erreur))))","v":200},{"$f":"IF(AK40=AT40,AY52,IF(AK40=BB40,BG52,IF(AK40=BJ40,BO52,IF(AK40=BR40,BW52,erreur))))","v":200},null,null,11,250,350,400,350,150,200,null,11,100,150,150,150,100,100,null,11,200,300,300,300,200,200,null,11,250,350,400,350,150,200,null,null,null,null,null,null,null,null,null,null,null,null,null,null,null,null,null,null,null,null,"neutre",{"$f":"IF($CL$74-$DP$75>0,$BZ$80,$BZ$81)","v":{"$error":"#VALUE!"}},null,{"$f":"IF($CO$74-$DP$75>0,$BZ$80,$BZ$81)","v":{"$error":"#VALUE!"}},null,{"$f":"IF($CR$74-$DP$75>0,$BZ$80,$BZ$81)","v":{"$error":"#VALUE!"}},null,{"$f":"IF($CU$74-1.15*$DP$75>0,$BZ$80,$BZ$81)","v":{"$error":"#VALUE!"}},null,{"$f":"IF($CX$74-1.15*$DP$75>0,$BZ$80,$BZ$81)","v":{"$error":"#VALUE!"}},null,{"$f":"IF($DA$74-1.15*$DP$75>0,$BZ$80,$BZ$81)","v":{"$error":"#VALUE!"}},null,{"$f":"IF(1.15*$DD$74-$DP$75>0,$BZ$80,$BZ$81)","v":{"$error":"#VALUE!"}},null,{"$f":"IF(1.15*$DG$74-$DP$75>0,$BZ$80,$BZ$81)","v":{"$error":"#VALUE!"}},null,{"$f":"IF(1.15*$DJ$74-$DP$75>0,$BZ$80,$BZ$81)","v":{"$error":"#VALUE!"}},null,{"$f":"IF($DM$74-$DP$75>0,$BZ$80,$BZ$81)","v":{"$error":"#VALUE!"}},null,{"$f":"IF($DP$74-$DP$75>0,$BZ$80,$BZ$81)","v":{"$error":"#VALUE!"}},null,{"$f":"IF($DS$74-$DP$75>0,$BZ$80,$BZ$81)","v":{"$error":"#VALUE!"}}]
[null,null,null,null,null,{"$f":"IF(E25=C26,E70,IF(E25=C27,H70,IF(E25=C28,K70,IF(E25=C29,N70,erreur))))","v":1.27155},{"$f":"IF(E25=C26,F70,IF(E25=C27,I70,IF(E25=C28,L70,IF(E25=C29,O70,erreur))))","v":0.54495000000000005},1.8165,{"$f":"IF(E25=C26,E84,IF(E25=C27,H84,IF(E25=C28,K84,IF(E25=C29,N84,erreur))))","v":1.4532},{"$f":"IF(E25=C26,F84,IF(E25=C27,I84,IF(E25=C28,L84,IF(E25=C29,O84,erreur))))","v":0.36330000000000001},1.8165,{"$f":"IF(E25=C26,E98,IF(E25=C27,H98,IF(E25=C28,K98,IF(E25=C29,N98,erreur))))","v":1.6348499999999999},{"$f":"IF(E25=C26,F98,IF(E25=C27,I98,IF(E25=C28,L98,IF(E25=C29,O98,erreur))))","v":0.18165000000000001},1.8165,null,null,{"$f":"D21","v":0},{"$f":"D21","v":0},{"$f":"D21","v":0},{"$f":"D21","v":0},{"$f":"D21","v":0},{"$f":"D21","v":0},{"$f":"D21","v":0},{"$f":"D21","v":0},{"$f":"D21","v":0},{"$f":"D21","v":0},{"$f":"D21","v":0},{"$f":"D21","v":0},{"$f":"D21","v":0},{"$f":"D21","v":0},null,null,null,null,null,null,null,null,null,null,null,null,null,null,null,null,null,null,null,null,null,null,null,null,null,null,null,null,null,null,null,null,null,null,null,null,null,null,null,null,null,null,null,null,null,null,null,null,null,null,null,null,null,null,null,null,null,null,null,null,null,null,null,null,null,"off",{"$f":"IF($CL$74-$DS$75>0,$BZ$80,$BZ$81)","v":{"$error":"#VALUE!"}},null,{"$f":"IF($CO$74-$DS$75>0,$BZ$80,$BZ$81)","v":{"$error":"#VALUE!"}},null,{"$f":"IF($CR$74-$DS$75>0,$BZ$80,$BZ$81)","v":{"$error":"#VALUE!"}},null,{"$f":"IF($CU$74-1.15*$DS$75>0,$BZ$80,$BZ$81)","v":{"$error":"#VALUE!"}},null,{"$f":"IF($CX$74-1.15*$DS$75>0,$BZ$80,$BZ$81)","v":{"$error":"#VALUE!"}},null,{"$f":"IF($DA$74-1.15*$DS$75>0,$BZ$80,$BZ$81)","v":{"$error":"#VALUE!"}},null,{"$f":"IF(1.15*$DD$74-$DS$75>0,$BZ$80,$BZ$81)","v":{"$error":"#VALUE!"}},null,{"$f":"IF(1.15*$DG$74-$DS$75>0,$BZ$80,$BZ$81)","v":{"$error":"#VALUE!"}},null,{"$f":"IF(1.15*$DJ$74-$DS$75>0,$BZ$80,$BZ$81)","v":{"$error":"#VALUE!"}},null,{"$f":"IF($DM$74-$DS$75>0,$BZ$80,$BZ$81)","v":{"$error":"#VALUE!"}},null,{"$f":"IF($DP$74-$DS$75>0,$BZ$80,$BZ$81)","v":{"$error":"#VALUE!"}},null,{"$f":"IF($DS$74-$DS$75>0,$BZ$80,$BZ$81)","v":{"$error":"#VALUE!"}}]
[null,null,null,null,null,{"$f":"IF(E25=C26,E71,IF(E25=C27,H71,IF(E25=C28,K71,IF(E25=C29,N71,erreur))))","v":0.95365},{"$f":"IF(E25=C26,F71,IF(E25=C27,I71,IF(E25=C28,L71,IF(E25=C29,O71,erreur))))","v":0.40870000000000001},1.3623499999999999,{"$f":"IF(E25=C26,E85,IF(E25=C27,H85,IF(E25=C28,K85,IF(E25=C29,N85,erreur))))","v":0.95365},{"$f":"IF(E25=C26,F85,IF(E25=C27,I85,IF(E25=C28,L85,IF(E25=C29,O85,erreur))))","v":0.40870000000000001},1.3623499999999999,{"$f":"IF(E25=C26,E99,IF(E25=C27,H99,IF(E25=C28,K99,IF(E25=C29,N99,erreur))))","v":1.0899000000000001},{"$f":"IF(E25=C26,F99,IF(E25=C27,I99,IF(E25=C28,L99,IF(E25=C29,O99,erreur))))","v":0.27245000000000003},1.3623500000000002,null,null,{"$f":"D21","v":0},{"$f":"D21","v":0},{"$f":"D21","v":0},{"$f":"D21","v":0},{"$f":"D21","v":0},{"$f":"D21","v":0},{"$f":"D21","v":0},{"$f":"D21","v":0},{"$f":"D21","v":0},{"$f":"D21","v":0},{"$f":"D21","v":0},{"$f":"D21","v":0},{"$f":"D21","v":0},{"$f":"D21","v":0},null,null,null,null,"pourcentage poste par kit et par place",null,null,null,null,null,null,null,null,null,null,null,null,null,null,null,null,null,null,null,null,null,null,null,null,null,null,null,null,null,null,null,null,null,null,"coefficient multiplicateur par tactique :",null,null,null,null,null,null,null,"pourcentage joueur ",null,null,null,null,null,"stats brutes joueurs adversaires par position sans bonus match"]
[null,null,null,null,null,{"$f":"IF(E25=C26,E72,IF(E25=C27,H72,IF(E25=C28,K72,IF(E25=C29,N72, erreur))))","v":1.0899000000000001},{"$f":"IF(E25=C26,F72,IF(E25=C27,I72,IF(E25=C28,L72,IF(E25=C29,O72,erreur))))","v":0.72660000000000002},1.8165,{"$f":"IF(E25=C26,E86,IF(E25=C27,H86,IF(E25=C28,K86,IF(E25=C29,N86,erreur))))","v":1.27155},{"$f":"IF(E25=C26,F86,IF(E25=C27,I86,IF(E25=C28,L86,IF(E25=C29,O86,erreur))))","v":0.54495000000000005},1.8165,{"$f":"IF(E25=C26,E100,IF(E25=C27,H100,IF(E25=C28,K100,IF(E25=C29,N100,erreur))))","v":1.4532},{"$f":"IF(E25=C26,F100,IF(E25=C27,I100,IF(E25=C28,L100,IF(E25=C29,O100,erreur))))","v":0.36330000000000001},1.8165,null,null,{"$f":"D21","v":0},{"$f":"D21","v":0},{"$f":"D21","v":0},{"$f":"D21","v":0},{"$f":"D21","v":0},{"$f":"D21","v":0},{"$f":"D21","v":0},{"$f":"D21","v":0},{"$f":"D21","v":0},{"$f":"D21","v":0},{"$f":"D21","v":0},{"$f":"D21","v":0},{"$f":"D21","v":0},{"$f":"D21","v":0},null,null,null,null,null,1,{"$f":"Q9","v":"kit 1"},"kit 2/3",0,"kit 4",0,"kit 5","kit 6/7",0,0,"kit 8","kit 9",0,"kit 10","kit 11","MAX",null,2,{"$f":"Q9","v":"kit 1"},"kit 2/3",0,"kit 4",0,"kit 5","kit 6/7",0,0,"kit 8","kit 9",0,"kit 10","kit 11","MAX",null,null,{"$f":"F42","v":352},null,null,null,null,null,null,"adversaire par position",null,null,null,null,null,null,541,null,null,null,null,null,null,null,null,433,null,null,null,null,null,null,null,null,352,null,null,null,null,null,null,null,null,442]
[null,null,null,null,"tactique selectionnée (ca ne sert a rien)",null,null,null,null,null,null,null,null,null,null,null,null,null,null,null,null,null,null,null,null,null,null,null,null,null,null,null,null,1,null,{"$f":"AJ191","v":""},{"$f":"MIN((S59+AJ35*D19)/AK42,(S60+AJ35*D19)/AL42,(S61+AJ35*D19)/AM42,(S62+AJ35*D19)/AN42,(S63+AJ35*D19)/AO42)*AP42","v":{"$error":"#VALUE!"}},{"$f":"MIN((T59+AJ35*D19)/AK42,(T60+AJ35*D19)/AL42,(T61+AJ35*D19)/AM42,(T62+AJ35*D19)/AN42,(T63+AJ35*D19)/AO42)*AP42","v":{"$error":"#VALUE!"}},{"$f":"MIN((U59+AJ35*D19)/AK42,(U60+AJ35*D19)/AL42,(U61+AJ35*D19)/AM42,(U62+AJ35*D19)/AN42,(U63+AJ35*D19)/AO42)*AP42","v":{"$error":"#VALUE!"}},{"$f":"MIN((V59+AJ35*D19)/AK42,(V60+AJ35*D19)/AL42,(V61+AJ35*D19)/AM42,(V62+AJ35*D19)/AN42,(V63+AJ35*D19)/AO42)*AP42","v":{"$error":"#VALUE!"}},{"$f":"MIN((W59+AJ35*D19)/AK42,(W60+AJ35*D19)/AL42,(W61+AJ35*D19)/AM42,(W62+AJ35*D19)/AN42,(W63+AJ35*D19)/AO42)*AP42","v":{"$error":"#VALUE!"}},{"$f":"MIN((X59+AJ35*D19)/AK42,(X60+AJ35*D19)/AL42,(X61+AJ35*D19)/AM42,(X62+AJ35*D19)/AN42,(X63+AJ35*D19)/AO42)*AP42","v":{"$error":"#VALUE!"}},{"$f":"MIN((Y59+AJ35*D19)/AK42,(Y60+AJ35*D19)/AL42,(Y61+AJ35*D19)/AM42,(Y62+AJ35*D19)/AN42,(Y63+AJ35*D19)/AO42)*AP42","v":{"$error":"#VALUE!"}},{"$f":"MIN((Z59+AJ35*D19)/AK42,(Z60+AJ35*D19)/AL42,(Z61+AJ35*D19)/AM42,(Z62+AJ35*D19)/AN42,(Z63+AJ35*D19)/AO42)*AP42","v":{"$error":"#VALUE!"}},{"$f":"MIN((AA59+AJ35*D19)/AK42,(AA60+AJ35*D19)/AL42,(AA61+AJ35*D19)/AM42,(AA62+AJ35*D19)/AN42,(AA63+AJ35*D19)/AO42)*AP42","v":{"$error":"#VALUE!"}},{"$f":"MIN((AB59+AJ35*D19)/AK42,(AB60+AJ35*D19)/AL42,(AB61+AJ35*D19)/AM42,(AB62+AJ35*D19)/AN42,(AB63+AJ35*D19)/AO42)*AP42","v":{"$error":"#VALUE!"}},{"$f":"MIN((AC59+AJ35*D19)/AK42,(AC60+AJ35*D19)/AL42,(AC61+AJ35*D19)/AM42,(AC62+AJ35*D19)/AN42,(AC63+AJ35*D19)/AO42)*AP42","v":{"$error":"#VALUE!"}},{"$f":"MIN((AD59+AJ35*D19)/AK42,(AD60+AJ35*D19)/AL42,(AD61+AJ35*D19)/AM42,(AD62+AJ35*D19)/AN42,(AD63+AJ35*D19)/AO42)*AP42","v":{"$error":"#VALUE!"}},{"$f":"MIN((AE59+AJ35*D19)/AK42,(AE60+AJ35*D19)/AL42,(AE61+AJ35*D19)/AM42,(AE62+AJ35*D19)/AN42,(AE63+AJ35*D19)/AO42)*AP42","v":{"$error":"#VALUE!"}},{"$f":"MIN((AF59+AJ35*D19)/AK42,(AF60+AJ35*D19)/AL42,(AF61+AJ35*D19)/AM42,(AF62+AJ35*D19)/AN42,(AF63+AJ35*D19)/AO42)*AP42","v":{"$error":"#VALUE!"}},{"$f":"MAX(AK56:AX56)","v":{"$error":"#VALUE!"}},null,{"$f":"AJ191","v":""},{"$f":"MIN((S59+AK35*D19)/AK43,(S60+AK35*D19)/AL43,(S61+AK35*D19)/AM43,(S62+AK35*D19)/AN43,(S63+AK35*D19)/AO43)*AP43","v":{"$error":"#VALUE!"}},{"$f":"MIN((T59+AK35*D19)/AK43,(T60+AK35*D19)/AL43,(T61+AK35*D19)/AM43,(T62+AK35*D19)/AN43,(T63+AK35*D19)/AO43)*AP43","v":{"$error":"#VALUE!"}},{"$f":"MIN((U59+AK35*D19)/AK43,(U60+AK35*D19)/AL43,(U61+AK35*D19)/AM43,(U62+AK35*D19)/AN43,(U63+AK35*D19)/AO43)*AP43","v":{"$error":"#VALUE!"}},{"$f":"MIN((V59+AK35*D19)/AK43,(V60+AK35*D19)/AL43,(V61+AK35*D19)/AM43,(V62+AK35*D19)/AN43,(V63+AK35*D19)/AO43)*AP43","v":{"$error":"#VALUE!"}},{"$f":"MIN((W59+AK35*D19)/AK43,(W60+AK35*D19)/AL43,(W61+AK35*D19)/AM43,(W62+AK35*D19)/AN43,(W63+AK35*D19)/AO43)*AP43","v":{"$error":"#VALUE!"}},{"$f":"MIN((X59+AK35*D19)/AK43,(X60+AK35*D19)/AL43,(X61+AK35*D19)/AM43,(X62+AK35*D19)/AN43,(X63+AK35*D19)/AO43)*AP43","v":{"$error":"#VALUE!"}},{"$f":"MIN((Y59+AK35*D19)/AK43,(Y60+AK35*D19)/AL43,(Y61+AK35*D19)/AM43,(Y62+AK35*D19)/AN43,(Y63+AK35*D19)/AO43)*AP43","v":{"$error":"#VALUE!"}},{"$f":"MIN((Z59+AK35*D19)/AK43,(Z60+AK35*D19)/AL43,(Z61+AK35*D19)/AM43,(Z62+AK35*D19)/AN43,(Z63+AK35*D19)/AO43)*AP43","v":{"$error":"#VALUE!"}},{"$f":"MIN((AA59+AK35*D19)/AK43,(AA60+AK35*D19)/AL43,(AA61+AK35*D19)/AM43,(AA62+AK35*D19)/AN43,(AA63+AK35*D19)/AO43)*AP43","v":{"$error":"#VALUE!"}},{"$f":"MIN((AB59+AK35*D19)/AK43,(AB60+AK35*D19)/AL43,(AB61+AK35*D19)/AM43,(AB62+AK35*D19)/AN43,(AB63+AK35*D19)/AO43)*AP43","v":{"$error":"#VALUE!"}},{"$f":"MIN((AC59+AK35*D19)/AK43,(AC60+AK35*D19)/AL43,(AC61+AK35*D19)/AM43,(AC62+AK35*D19)/AN43,(AC63+AK35*D19)/AO43)*AP43","v":{"$error":"#VALUE!"}},{"$f":"MIN((AD59+AK35*D19)/AK43,(AD60+AK35*D19)/AL43,(AD61+AK35*D19)/AM43,(AD62+AK35*D19)/AN43,(AD63+AK35*D19)/AO43)*AP43","v":{"$error":"#VALUE!"}},{"$f":"MIN((AE59+AK35*D19)/AK43,(AE60+AK35*D19)/AL43,(AE61+AK35*D19)/AM43,(AE62+AK35*D19)/AN43,(AE63+AK35*D19)/AO43)*AP43","v":{"$error":"#VALUE!"}},{"$f":"MIN((AF59+AK35*D19)/AK43,(AF60+AK35*D19)/AL43,(AF61+AK35*D19)/AM43,(AF62+AK35*D19)/AN43,(AF63+AK35*D19)/AO43)*AP43","v":{"$error":"#VALUE!"}},{"$f":"MAX(BB56:BO56)","v":{"$error":"#VALUE!"}},null,null,{"$f":"AP3","v":"Defensif"},null,null,null,null,null,null,null,541,433,352,442,null,null,"defensif",null,null,"neutre",null,null,"offensif",null,null,"defensif",null,null,"neutre",null,null,"offensif",null,null,"defensif",null,null,"neutre",null,null,"offensif",null,null,"defensif",null,null,"neutre",null,null,"offensif"]
[null,null,null,null,"541 defensif","541 neutre","541 offensif","433 defensif","433 neutre","433 offensif","352 defensif","352 neutre","352 offensif","442 defensif","442 neutre","442 offensif","caracteristiques joueur avec bonus batiment, objet et kit, sans vitamine.",null,null,null,null,null,null,null,null,null,null,null,null,null,null,null,null,null,null,"",{"$f":"MIN((S66+AJ35*D19)/AK42,(S67+AJ35*D19)/AL42,(S68+AJ35*D19)/AM42,(S69+AJ35*D19)/AN42,(S70+AJ35*D19)/AO42)*AP42","v":{"$error":"#VALUE!"}},{"$f":"MIN((T66+AJ35*D19)/AK42,(T67+AJ35*D19)/AL42,(T68+AJ35*D19)/AM42,(T69+AJ35*D19)/AN42,(T70+AJ35*D19)/AO42)*AP42","v":{"$error":"#VALUE!"}},{"$f":"MIN((U66+AJ35*D19)/AK42,(U67+AJ35*D19)/AL42,(U68+AJ35*D19)/AM42,(U69+AJ35*D19)/AN42,(U70+AJ35*D19)/AO42)*AP42","v":{"$error":"#VALUE!"}},{"$f":"MIN((V66+AJ35*D19)/AK42,(V67+AJ35*D19)/AL42,(V68+AJ35*D19)/AM42,(V69+AJ35*D19)/AN42,(V70+AJ35*D19)/AO42)*AP42","v":{"$error":"#VALUE!"}},{"$f":"MIN((W66+AJ35*D19)/AK42,(W67+AJ35*D19)/AL42,(W68+AJ35*D19)/AM42,(W69+AJ35*D19)/AN42,(W70+AJ35*D19)/AO42)*AP42","v":{"$error":"#VALUE!"}},{"$f":"MIN((X66+AJ35*D19)/AK42,(X67+AJ35*D19)/AL42,(X68+AJ35*D19)/AM42,(X69+AJ35*D19)/AN42,(X70+AJ35*D19)/AO42)*AP42","v":{"$error":"#VALUE!"}},{"$f":"MIN((Y66+AJ35*D19)/AK42,(Y67+AJ35*D19)/AL42,(Y68+AJ35*D19)/AM42,(Y69+AJ35*D19)/AN42,(Y70+AJ35*D19)/AO42)*AP42","v":{"$error":"#VALUE!"}},{"$f":"MIN((Z66+AJ35*D19)/AK42,(Z67+AJ35*D19)/AL42,(Z68+AJ35*D19)/AM42,(Z69+AJ35*D19)/AN42,(Z70+AJ35*D19)/AO42)*AP42","v":{"$error":"#VALUE!"}},{"$f":"MIN((AA66+AJ35*D19)/AK42,(AA67+AJ35*D19)/AL42,(AA68+AJ35*D19)/AM42,(AA69+AJ35*D19)/AN42,(AA70+AJ35*D19)/AO42)*AP42","v":{"$error":"#VALUE!"}},{"$f":"MIN((AB66+AJ35*D19)/AK42,(AB67+AJ35*D19)/AL42,(AB68+AJ35*D19)/AM42,(AB69+AJ35*D19)/AN42,(AB70+AJ35*D19)/AO42)*AP42","v":{"$error":"#VALUE!"}},{"$f":"MIN((AC66+AJ35*D19)/AK42,(AC67+AJ35*D19)/AL42,(AC68+AJ35*D19)/AM42,(AC69+AJ35*D19)/AN42,(AC70+AJ35*D19)/AO42)*AP42","v":{"$error":"#VALUE!"}},{"$f":"MIN((AD66+AJ35*D19)/AK42,(AD67+AJ35*D19)/AL42,(AD68+AJ35*D19)/AM42,(AD69+AJ35*D19)/AN42,(AD70+AJ35*D19)/AO42)*AP42","v":{"$error":"#VALUE!"}},{"$f":"MIN((AE66+AJ35*D19)/AK42,(AE67+AJ35*D19)/AL42,(AE68+AJ35*D19)/AM42,(AE69+AJ35*D19)/AN42,(AE70+AJ35*D19)/AO42)*AP42","v":{"$error":"#VALUE!"}},{"$f":"MIN((AF66+AJ35*D19)/AK42,(AF67+AJ35*D19)/AL42,(AF68+AJ35*D19)/AM42,(AF69+AJ35*D19)/AN42,(AF70+AJ35*D19)/AO42)*AP42","v":{"$error":"#VALUE!"}},{"$f":"MAX(AK57:AX57)","v":{"$error":"#VALUE!"}},null,"",{"$f":"MIN((S66+AK35*D19)/AK43,(S67+AK35*D19)/AL43,(S68+AK35*D19)/AM43,(S69+AK35*D19)/AN43,(S70+AK35*D19)/AO43)*AP43","v":{"$error":"#VALUE!"}},{"$f":"MIN((T66+AK35*D19)/AK43,(T67+AK35*D19)/AL43,(T68+AK35*D19)/AM43,(T69+AK35*D19)/AN43,(T70+AK35*D19)/AO43)*AP43","v":{"$error":"#VALUE!"}},{"$f":"MIN((U66+AK35*D19)/AK43,(U67+AK35*D19)/AL43,(U68+AK35*D19)/AM43,(U69+AK35*D19)/AN43,(U70+AK35*D19)/AO43)*AP43","v":{"$error":"#VALUE!"}},{"$f":"MIN((V66+AK35*D19)/AK43,(V67+AK35*D19)/AL43,(V68+AK35*D19)/AM43,(V69+AK35*D19)/AN43,(V70+AK35*D19)/AO43)*AP43","v":{"$error":"#VALUE!"}},{"$f":"MIN((W66+AK35*D19)/AK43,(W67+AK35*D19)/AL43,(W68+AK35*D19)/AM43,(W69+AK35*D19)/AN43,(W70+AK35*D19)/AO43)*AP43","v":{"$error":"#VALUE!"}},{"$f":"MIN((X66+AK35*D19)/AK43,(X67+AK35*D19)/AL43,(X68+AK35*D19)/AM43,(X69+AK35*D19)/AN43,(X70+AK35*D19)/AO43)*AP43","v":{"$error":"#VALUE!"}},{"$f":"MIN((Y66+AK35*D19)/AK43,(Y67+AK35*D19)/AL43,(Y68+AK35*D19)/AM43,(Y69+AK35*D19)/AN43,(Y70+AK35*D19)/AO43)*AP43","v":{"$error":"#VALUE!"}},{"$f":"MIN((Z66+AK35*D19)/AK43,(Z67+AK35*D19)/AL43,(Z68+AK35*D19)/AM43,(Z69+AK35*D19)/AN43,(Z70+AK35*D19)/AO43)*AP43","v":{"$error":"#VALUE!"}},{"$f":"MIN((AA66+AK35*D19)/AK43,(AA67+AK35*D19)/AL43,(AA68+AK35*D19)/AM43,(AA69+AK35*D19)/AN43,(AA70+AK35*D19)/AO43)*AP43","v":{"$error":"#VALUE!"}},{"$f":"MIN((AB66+AK35*D19)/AK43,(AB67+AK35*D19)/AL43,(AB68+AK35*D19)/AM43,(AB69+AK35*D19)/AN43,(AB70+AK35*D19)/AO43)*AP43","v":{"$error":"#VALUE!"}},{"$f":"MIN((AC66+AK35*D19)/AK43,(AC67+AK35*D19)/AL43,(AC68+AK35*D19)/AM43,(AC69+AK35*D19)/AN43,(AC70+AK35*D19)/AO43)*AP43","v":{"$error":"#VALUE!"}},{"$f":"MIN((AD66+AK35*D19)/AK43,(AD67+AK35*D19)/AL43,(AD68+AK35*D19)/AM43,(AD69+AK35*D19)/AN43,(AD70+AK35*D19)/AO43)*AP43","v":{"$error":"#VALUE!"}},{"$f":"MIN((AE66+AK35*D19)/AK43,(AE67+AK35*D19)/AL43,(AE68+AK35*D19)/AM43,(AE69+AK35*D19)/AN43,(AE70+AK35*D19)/AO43)*AP43","v":{"$error":"#VALUE!"}},{"$f":"MIN((AF66+AK35*D19)/AK43,(AF67+AK35*D19)/AL43,(AF68+AK35*D19)/AM43,(AF69+AK35*D19)/AN43,(AF70+AK35*D19)/AO43)*AP43","v":{"$error":"#VALUE!"}},{"$f":"MAX(BB57:BO57)","v":{"$error":"#VALUE!"}},null,null,"1% attaque",null,"1% defense",null,"1% cumulé",null,null,1,{"$f":"MIN((CP2*CS5+CK5)/AT42,(CP2*CS5+CL5)/AU42,(CP2*CS5+CM5)/AV42,(CP2*CS5+CN5)/AW42,(CP2*CS5+CO5)/AX42)*AY42","v":{"$error":"#VALUE!"}},{"$f":"MIN((CP2*CS5+CK5)/BB42,(CP2*CS5+CL5)/BC42,(CP2*CS5+CM5)/BD42,(CP2*CS5+CN5)/BE42,(CP2*CS5+CO5)/BF42)*BG42","v":{"$error":"#VALUE!"}},{"$f":"MIN((CP2*CS5+CK5)/BJ42,(CP2*CS5+CL5)/BK42,(CP2*CS5+CM5)/BL42,(CP2*CS5+CN5)/BM42,(CP2*CS5+CO5)/BN42)*BO42","v":{"$error":"#VALUE!"}},{"$f":"MIN((CP2*CS5+CK5)/BR42,(CP2*CS5+CL5)/BS42,(CP2*CS5+CM5)/BT42,(CP2*CS5+CN5)/BU42,(CP2*CS5+CO5)/BV42)*BW42","v":{"$error":"#VALUE!"}},null,null,"att","def","tot","att","def","tot","att","def","tot","att","def","tot","att","def","tot","att","def","tot","att","def","tot","att","def","tot","att","def","tot","att","def","tot","att","def","tot","att","def","tot"]
[null,null,null,null,{"$f":"AND(E25=C26,E26=C31)","v":false},{"$f":"AND(E25=C26,E26=C32)","v":false},{"$f":"AND(E25=C26,E26=C33)","v":false},{"$f":"AND(E25=C27,E26=C31)","v":false},{"$f":"AND(E25=C27,E26=C32)","v":false},{"$f":"AND(E25=C27,E26=C33)","v":false},{"$f":"AND(E25=C28,E26=C31)","v":true},{"$f":"AND(E25=C28,E26=C32)","v":false},{"$f":"AND(E25=C28,E26=C33)","v":false},{"$f":"AND(E25=C29,E26=C31)","v":false},{"$f":"AND(E25=C29,E26=C32)","v":false},{"$f":"AND(E25=D29,E26=C33)","v":false},null,{"$f":"G11","v":""},{"$f":"Q9","v":"kit 1"},"kit 2/3",0,"kit 4",0,"kit 5","kit 6/7",0,0,"kit 8","kit 9",0,"kit 10","kit 11",null,null,null,"",{"$f":"MIN((S73+AJ35*D19)/AK42,(S74+AJ35*D19)/AL42,(S75+AJ35*D19)/AM42,(S76+AJ35*D19)/AN42,(S77+AJ35*D19)/AO42)*AP42","v":{"$error":"#VALUE!"}},{"$f":"MIN((T73+AJ35*D19)/AK42,(T74+AJ35*D19)/AL42,(T75+AJ35*D19)/AM42,(T76+AJ35*D19)/AN42,(T77+AJ35*D19)/AO42)*AP42","v":{"$error":"#VALUE!"}},{"$f":"MIN((U73+AJ35*D19)/AK42,(U74+AJ35*D19)/AL42,(U75+AJ35*D19)/AM42,(U76+AJ35*D19)/AN42,(U77+AJ35*D19)/AO42)*AP42","v":{"$error":"#VALUE!"}},{"$f":"MIN((V73+AJ35*D19)/AK42,(V74+AJ35*D19)/AL42,(V75+AJ35*D19)/AM42,(V76+AJ35*D19)/AN42,(V77+AJ35*D19)/AO42)*AP42","v":{"$error":"#VALUE!"}},{"$f":"MIN((W73+AJ35*D19)/AK42,(W74+AJ35*D19)/AL42,(W75+AJ35*D19)/AM42,(W76+AJ35*D19)/AN42,(W77+AJ35*D19)/AO42)*AP42","v":{"$error":"#VALUE!"}},{"$f":"MIN((X73+AJ35*D19)/AK42,(X74+AJ35*D19)/AL42,(X75+AJ35*D19)/AM42,(X76+AJ35*D19)/AN42,(X77+AJ35*D19)/AO42)*AP42","v":{"$error":"#VALUE!"}},{"$f":"MIN((Y73+AJ35*D19)/AK42,(Y74+AJ35*D19)/AL42,(Y75+AJ35*D19)/AM42,(Y76+AJ35*D19)/AN42,(Y77+AJ35*D19)/AO42)*AP42","v":{"$error":"#VALUE!"}},{"$f":"MIN((Z73+AJ35*D19)/AK42,(Z74+AJ35*D19)/AL42,(Z75+AJ35*D19)/AM42,(Z76+AJ35*D19)/AN42,(Z77+AJ35*D19)/AO42)*AP42","v":{"$error":"#VALUE!"}},{"$f":"MIN((AA73+AJ35*D19)/AK42,(AA74+AJ35*D19)/AL42,(AA75+AJ35*D19)/AM42,(AA76+AJ35*D19)/AN42,(AA77+AJ35*D19)/AO42)*AP42","v":{"$error":"#VALUE!"}},{"$f":"MIN((AB73+AJ35*D19)/AK42,(AB74+AJ35*D19)/AL42,(AB75+AJ35*D19)/AM42,(AB76+AJ35*D19)/AN42,(AB77+AJ35*D19)/AO42)*AP42","v":{"$error":"#VALUE!"}},{"$f":"MIN((AC73+AJ35*D19)/AK42,(AC74+AJ35*D19)/AL42,(AC75+AJ35*D19)/AM42,(AC76+AJ35*D19)/AN42,(AC77+AJ35*D19)/AO42)*AP42","v":{"$error":"#VALUE!"}},{"$f":"MIN((AD73+AJ35*D19)/AK42,(AD74+AJ35*D19)/AL42,(AD75+AJ35*D19)/AM42,(AD76+AJ35*D19)/AN42,(AD77+AJ35*D19)/AO42)*AP42","v":{"$error":"#VALUE!"}},{"$f":"MIN((AE73+AJ35*D19)/AK42,(AE74+AJ35*D19)/AL42,(AE75+AJ35*D19)/AM42,(AE76+AJ35*D19)/AN42,(AE77+AJ35*D19)/AO42)*AP42","v":{"$error":"#VALUE!"}},{"$f":"MIN((AF73+AJ35*D19)/AK42,(AF74+AJ35*D19)/AL42,(AF75+AJ35*D19)/AM42,(AF76+AJ35*D19)/AN42,(AF77+AJ35*D19)/AO42)*AP42","v":{"$error":"#VALUE!"}},{"$error":"#VALUE!"},null,"",{"$f":"MIN((S73+AK35*D19)/AK43,(S74+AK35*D19)/AL43,(S75+AK35*D19)/AM43,(S76+AK35*D19)/AN43,(S77+AK35*D19)/AO43)*AP43","v":{"$error":"#VALUE!"}},{"$f":"MIN((T73+AK35*D19)/AK43,(T74+AK35*D19)/AL43,(T75+AK35*D19)/AM43,(T76+AK35*D19)/AN43,(T77+AK35*D19)/AO43)*AP43","v":{"$error":"#VALUE!"}},{"$f":"MIN((U73+AK35*D19)/AK43,(U74+AK35*D19)/AL43,(U75+AK35*D19)/AM43,(U76+AK35*D19)/AN43,(U77+AK35*D19)/AO43)*AP43","v":{"$error":"#VALUE!"}},{"$f":"MIN((V73+AK35*D19)/AK43,(V74+AK35*D19)/AL43,(V75+AK35*D19)/AM43,(V76+AK35*D19)/AN43,(V77+AK35*D19)/AO43)*AP43","v":{"$error":"#VALUE!"}},{"$f":"MIN((W73+AK35*D19)/AK43,(W74+AK35*D19)/AL43,(W75+AK35*D19)/AM43,(W76+AK35*D19)/AN43,(W77+AK35*D19)/AO43)*AP43","v":{"$error":"#VALUE!"}},{"$f":"MIN((X73+AK35*D19)/AK43,(X74+AK35*D19)/AL43,(X75+AK35*D19)/AM43,(X76+AK35*D19)/AN43,(X77+AK35*D19)/AO43)*AP43","v":{"$error":"#VALUE!"}},{"$f":"MIN((Y73+AK35*D19)/AK43,(Y74+AK35*D19)/AL43,(Y75+AK35*D19)/AM43,(Y76+AK35*D19)/AN43,(Y77+AK35*D19)/AO43)*AP43","v":{"$error":"#VALUE!"}},{"$f":"MIN((Z73+AK35*D19)/AK43,(Z74+AK35*D19)/AL43,(Z75+AK35*D19)/AM43,(Z76+AK35*D19)/AN43,(Z77+AK35*D19)/AO43)*AP43","v":{"$error":"#VALUE!"}},{"$f":"MIN((AA73+AK35*D19)/AK43,(AA74+AK35*D19)/AL43,(AA75+AK35*D19)/AM43,(AA76+AK35*D19)/AN43,(AA77+AK35*D19)/AO43)*AP43","v":{"$error":"#VALUE!"}},{"$f":"MIN((AB73+AK35*D19)/AK43,(AB74+AK35*D19)/AL43,(AB75+AK35*D19)/AM43,(AB76+AK35*D19)/AN43,(AB77+AK35*D19)/AO43)*AP43","v":{"$error":"#VALUE!"}},{"$f":"MIN((AC73+AK35*D19)/AK43,(AC74+AK35*D19)/AL43,(AC75+AK35*D19)/AM43,(AC76+AK35*D19)/AN43,(AC77+AK35*D19)/AO43)*AP43","v":{"$error":"#VALUE!"}},{"$f":"MIN((AD73+AK35*D19)/AK43,(AD74+AK35*D19)/AL43,(AD75+AK35*D19)/AM43,(AD76+AK35*D19)/AN43,(AD77+AK35*D19)/AO43)*AP43","v":{"$error":"#VALUE!"}},{"$f":"MIN((AE73+AK35*D19)/AK43,(AE74+AK35*D19)/AL43,(AE75+AK35*D19)/AM43,(AE76+AK35*D19)/AN43,(AE77+AK35*D19)/AO43)*AP43","v":{"$error":"#VALUE!"}},{"$f":"MIN((AF73+AK35*D19)/AK43,(AF74+AK35*D19)/AL43,(AF75+AK35*D19)/AM43,(AF76+AK35*D19)/AN43,(AF77+AK35*D19)/AO43)*AP43","v":{"$error":"#VALUE!"}},{"$error":"#VALUE!"},null,null,{"$f":"IF(E26=C31,F45,IF(E26=C32,I45,IF(E26=C33,L45,erreur)))","v":5.4449999999999998E-2},null,{"$f":"IF(E26=C31,G45,IF(E26=C32,J45,IF(E26=C33,M45,erreur)))","v":2.6702499999999998},null,{"$f":"BS58+BU58","v":2.7246999999999999},null,null,2,{"$f":"MIN((CP2*CS6+CK6)/AT43,(CP2*CS6+CL6)/AU43,(CP2*CS6+CM6)/AV43,(CP2*CS6+CN6)/AW43,(CP2*CS6+CO6)/AX43)*AY43","v":{"$error":"#VALUE!"}},{"$f":"MIN((CP2*CS6+CK6)/BB43,(CP2*CS6+CL6)/BC43,(CP2*CS6+CM6)/BD43,(CP2*CS6+CN6)/BE43,(CP2*CS6+CO6)/BF43)*BG43","v":{"$error":"#VALUE!"}},{"$f":"MIN((CP2*CS6+CK6)/BJ43,(CP2*CS6+CL6)/BK43,(CP2*CS6+CM6)/BL43,(CP2*CS6+CN6)/BM43,(CP2*CS6+CO6)/BN43)*BO43","v":{"$error":"#VALUE!"}},{"$f":"MIN((CP2*CS6+CK6)/BR43,(CP2*CS6+CL6)/BS43,(CP2*CS6+CM6)/BT43,(CP2*CS6+CN6)/BU43,(CP2*CS6+CO6)/BV43)*BW43","v":{"$error":"#VALUE!"}},null,1,{"$f":"CA57*E62","v":{"$error":"#VALUE!"}},{"$f":"CA57*F62","v":{"$error":"#VALUE!"}},{"$f":"CA57*G62","v":{"$error":"#VALUE!"}},{"$f":"CA57*E76","v":{"$error":"#VALUE!"}},{"$f":"CA57*F76","v":{"$error":"#VALUE!"}},{"$f":"CA57*G76","v":{"$error":"#VALUE!"}},{"$f":"CA57*E90","v":{"$error":"#VALUE!"}},{"$f":"CA57*F90","v":{"$error":"#VALUE!"}},{"$f":"CA57*G90","v":{"$error":"#VALUE!"}},{"$f":"CB57*H62","v":{"$error":"#VALUE!"}},{"$f":"CB57*I62","v":{"$error":"#VALUE!"}},{"$f":"CB57*J62","v":{"$error":"#VALUE!"}},{"$f":"CB57*H76","v":{"$error":"#VALUE!"}},{"$f":"CB57*I76","v":{"$error":"#VALUE!"}},{"$f":"CB57*J76","v":{"$error":"#VALUE!"}},{"$f":"CB57*H90","v":{"$error":"#VALUE!"}},{"$f":"CB57*I90","v":{"$error":"#VALUE!"}},{"$f":"CB57*J90","v":{"$error":"#VALUE!"}},{"$f":"CC57*K62","v":{"$error":"#VALUE!"}},{"$f":"CC57*L62","v":{"$error":"#VALUE!"}},{"$f":"CC57*M62","v":{"$error":"#VALUE!"}},{"$f":"CC57*K76","v":{"$error":"#VALUE!"}},{"$f":"CC57*L76","v":{"$error":"#VALUE!"}},{"$f":"CC57*M76","v":{"$error":"#VALUE!"}},{"$f":"CC57*K90","v":{"$error":"#VALUE!"}},{"$f":"CC57*L90","v":{"$error":"#VALUE!"}},{"$f":"CC57*M90","v":{"$error":"#VALUE!"}},{"$f":"CD57*N62","v":{"$error":"#VALUE!"}},{"$f":"CD57*O62","v":{"$error":"#VALUE!"}},{"$f":"CD57*P62","v":{"$error":"#VALUE!"}},{"$f":"CD57*N76","v":{"$error":"#VALUE!"}},{"$f":"CD57*O76","v":{"$error":"#VALUE!"}},{"$f":"CD57*P76","v":{"$error":"#VALUE!"}},{"$f":"CD57*N90","v":{"$error":"#VALUE!"}},{"$f":"CD57*O90","v":{"$error":"#VALUE!"}},{"$f":"CD57*P90","v":{"$error":"#VALUE!"}}]
[null,null,null,"coefficient stat brute pour 1% / tactique",null,null,null,null,null,null,null,null,null,null,null,null,null,{"$f":"IF($AX$306,H11+VLOOKUP(Team!$X17,Team!$E$30:$J$300,6,FALSE),H11+AH39+$D$21)+$D$19*$AG$8","v":{"$error":"#VALUE!"}},{"$f":"IF($AX$306,$R59,$R59+Q10)","v":{"$error":"#VALUE!"}},{"$error":"#VALUE!"},{"$f":"IF($AX$306,$R$59,$R$59+S10)","v":{"$error":"#VALUE!"}},{"$error":"#VALUE!"},{"$error":"#VALUE!"},{"$error":"#VALUE!"},{"$error":"#VALUE!"},{"$error":"#VALUE!"},{"$error":"#VALUE!"},{"$error":"#VALUE!"},{"$error":"#VALUE!"},{"$f":"IF($AX$306,$R$59,$R$59+AB10)","v":{"$error":"#VALUE!"}},{"$f":"IF($AX$306,$R$59,$R$59+AC10)","v":{"$error":"#VALUE!"}},{"$f":"IF($AX$306,$R$59,$R$59+AD10)","v":{"$error":"#VALUE!"}},null,null,null,"",{"$f":"MIN((S80+AJ35*D19)/AK42,(S81+AJ35*D19)/AL42,(S82+AJ35*D19)/AM42,(S83+AJ35*D19)/AN42,(S84+AJ35*D19)/AO42)*AP42","v":{"$error":"#VALUE!"}},{"$f":"MIN((T80+AJ35*D19)/AK42,(T81+AJ35*D19)/AL42,(T82+AJ35*D19)/AM42,(T83+AJ35*D19)/AN42,(T84+AJ35*D19)/AO42)*AP42","v":{"$error":"#VALUE!"}},{"$f":"MIN((U80+AJ35*D19)/AK42,(U81+AJ35*D19)/AL42,(U82+AJ35*D19)/AM42,(U83+AJ35*D19)/AN42,(U84+AJ35*D19)/AO42)*AP42","v":{"$error":"#VALUE!"}},{"$f":"MIN((V80+AJ35*D19)/AK42,(V81+AJ35*D19)/AL42,(V82+AJ35*D19)/AM42,(V83+AJ35*D19)/AN42,(V84+AJ35*D19)/AO42)*AP42","v":{"$error":"#VALUE!"}},{"$f":"MIN((W80+AJ35*D19)/AK42,(W81+AJ35*D19)/AL42,(W82+AJ35*D19)/AM42,(W83+AJ35*D19)/AN42,(W84+AJ35*D19)/AO42)*AP42","v":{"$error":"#VALUE!"}},{"$f":"MIN((X80+AJ35*D19)/AK42,(X81+AJ35*D19)/AL42,(X82+AJ35*D19)/AM42,(X83+AJ35*D19)/AN42,(X84+AJ35*D19)/AO42)*AP42","v":{"$error":"#VALUE!"}},{"$f":"MIN((Y80+AJ35*D19)/AK42,(Y81+AJ35*D19)/AL42,(Y82+AJ35*D19)/AM42,(Y83+AJ35*D19)/AN42,(Y84+AJ35*D19)/AO42)*AP42","v":{"$error":"#VALUE!"}},{"$f":"MIN((Z80+AJ35*D19)/AK42,(Z81+AJ35*D19)/AL42,(Z82+AJ35*D19)/AM42,(Z83+AJ35*D19)/AN42,(Z84+AJ35*D19)/AO42)*AP42","v":{"$error":"#VALUE!"}},{"$f":"MIN((AA80+AJ35*D19)/AK42,(AA81+AJ35*D19)/AL42,(AA82+AJ35*D19)/AM42,(AA83+AJ35*D19)/AN42,(AA84+AJ35*D19)/AO42)*AP42","v":{"$error":"#VALUE!"}},{"$f":"MIN((AB80+AJ35*D19)/AK42,(AB81+AJ35*D19)/AL42,(AB82+AJ35*D19)/AM42,(AB83+AJ35*D19)/AN42,(AB84+AJ35*D19)/AO42)*AP42","v":{"$error":"#VALUE!"}},{"$f":"MIN((AC80+AJ35*D19)/AK42,(AC81+AJ35*D19)/AL42,(AC82+AJ35*D19)/AM42,(AC83+AJ35*D19)/AN42,(AC84+AJ35*D19)/AO42)*AP42","v":{"$error":"#VALUE!"}},{"$f":"MIN((AD80+AJ35*D19)/AK42,(AD81+AJ35*D19)/AL42,(AD82+AJ35*D19)/AM42,(AD83+AJ35*D19)/AN42,(AD84+AJ35*D19)/AO42)*AP42","v":{"$error":"#VALUE!"}},{"$f":"MIN((AE80+AJ35*D19)/AK42,(AE81+AJ35*D19)/AL42,(AE82+AJ35*D19)/AM42,(AE83+AJ35*D19)/AN42,(AE84+AJ35*D19)/AO42)*AP42","v":{"$error":"#VALUE!"}},{"$f":"MIN((AF80+AJ35*D19)/AK42,(AF81+AJ35*D19)/AL42,(AF82+AJ35*D19)/AM42,(AF83+AJ35*D19)/AN42,(AF84+AJ35*D19)/AO42)*AP42","v":{"$error":"#VALUE!"}},{"$error":"#VALUE!"},null,"",{"$f":"MIN((S80+AK35*D19)/AK43,(S81+AK35*D19)/AL43,(S82+AK35*D19)/AM43,(S83+AK35*D19)/AN43,(S84+AK35*D19)/AO43)*AP43","v":{"$error":"#VALUE!"}},{"$f":"MIN((T80+AK35*D19)/AK43,(T81+AK35*D19)/AL43,(T82+AK35*D19)/AM43,(T83+AK35*D19)/AN43,(T84+AK35*D19)/AO43)*AP43","v":{"$error":"#VALUE!"}},{"$f":"MIN((U80+AK35*D19)/AK43,(U81+AK35*D19)/AL43,(U82+AK35*D19)/AM43,(U83+AK35*D19)/AN43,(U84+AK35*D19)/AO43)*AP43","v":{"$error":"#VALUE!"}},{"$f":"MIN((V80+AK35*D19)/AK43,(V81+AK35*D19)/AL43,(V82+AK35*D19)/AM43,(V83+AK35*D19)/AN43,(V84+AK35*D19)/AO43)*AP43","v":{"$error":"#VALUE!"}},{"$f":"MIN((W80+AK35*D19)/AK43,(W81+AK35*D19)/AL43,(W82+AK35*D19)/AM43,(W83+AK35*D19)/AN43,(W84+AK35*D19)/AO43)*AP43","v":{"$error":"#VALUE!"}},{"$f":"MIN((X80+AK35*D19)/AK43,(X81+AK35*D19)/AL43,(X82+AK35*D19)/AM43,(X83+AK35*D19)/AN43,(X84+AK35*D19)/AO43)*AP43","v":{"$error":"#VALUE!"}},{"$f":"MIN((Y80+AK35*D19)/AK43,(Y81+AK35*D19)/AL43,(Y82+AK35*D19)/AM43,(Y83+AK35*D19)/AN43,(Y84+AK35*D19)/AO43)*AP43","v":{"$error":"#VALUE!"}},{"$f":"MIN((Z80+AK35*D19)/AK43,(Z81+AK35*D19)/AL43,(Z82+AK35*D19)/AM43,(Z83+AK35*D19)/AN43,(Z84+AK35*D19)/AO43)*AP43","v":{"$error":"#VALUE!"}},{"$f":"MIN((AA80+AK35*D19)/AK43,(AA81+AK35*D19)/AL43,(AA82+AK35*D19)/AM43,(AA83+AK35*D19)/AN43,(AA84+AK35*D19)/AO43)*AP43","v":{"$error":"#VALUE!"}},{"$f":"MIN((AB80+AK35*D19)/AK43,(AB81+AK35*D19)/AL43,(AB82+AK35*D19)/AM43,(AB83+AK35*D19)/AN43,(AB84+AK35*D19)/AO43)*AP43","v":{"$error":"#VALUE!"}},{"$f":"MIN((AC80+AK35*D19)/AK43,(AC81+AK35*D19)/AL43,(AC82+AK35*D19)/AM43,(AC83+AK35*D19)/AN43,(AC84+AK35*D19)/AO43)*AP43","v":{"$error":"#VALUE!"}},{"$f":"MIN((AD80+AK35*D19)/AK43,(AD81+AK35*D19)/AL43,(AD82+AK35*D19)/AM43,(AD83+AK35*D19)/AN43,(AD84+AK35*D19)/AO43)*AP43","v":{"$error":"#VALUE!"}},{"$f":"MIN((AE80+AK35*D19)/AK43,(AE81+AK35*D19)/AL43,(AE82+AK35*D19)/AM43,(AE83+AK35*D19)/AN43,(AE84+AK35*D19)/AO43)*AP43","v":{"$error":"#VALUE!"}},{"$f":"MIN((AF80+AK35*D19)/AK43,(AF81+AK35*D19)/AL43,(AF82+AK35*D19)/AM43,(AF83+AK35*D19)/AN43,(AF84+AK35*D19)/AO43)*AP43","v":{"$error":"#VALUE!"}},{"$error":"#VALUE!"},null,null,{"$f":"IF(E26=C31,F46,IF(E26=C32,I46,IF(E26=C33,L46,erreur)))","v":0.90825},null,{"$f":"IF(E26=C31,G46,IF(E26=C32,J46,IF(E26=C33,M46,erreur)))","v":1.3623499999999999},null,{"$f":"BS59+BU59","v":2.2706},null,null,3,{"$f":"MIN((CP2*CS7+CK7)/AT44,(CP2*CS7+CL7)/AU44,(CP2*CS7+CM7)/AV44,(CP2*CS7+CN7)/AW44,(CP2*CS7+CO7)/AX44)*AY44","v":{"$error":"#VALUE!"}},{"$f":"MIN((CP2*CS7+CK7)/BB44,(CP2*CS7+CL7)/BC44,(CP2*CS7+CM7)/BD44,(CP2*CS7+CN7)/BE44,(CP2*CS7+CO7)/BF44)*BG44","v":{"$error":"#VALUE!"}},{"$f":"MIN((CP2*CS7+CK7)/BJ44,(CP2*CS7+CL7)/BK44,(CP2*CS7+CM7)/BL44,(CP2*CS7+CN7)/BM44,(CP2*CS7+CO7)/BN44)*BO44","v":{"$error":"#VALUE!"}},{"$f":"MIN((CP2*CS7+CK7)/BR44,(CP2*CS7+CL7)/BS44,(CP2*CS7+CM7)/BT44,(CP2*CS7+CN7)/BU44,(CP2*CS7+CO7)/BV44)*BW44","v":{"$error":"#VALUE!"}},null,2,{"$error":"#VALUE!"},{"$error":"#VALUE!"},{"$error":"#VALUE!"},{"$error":"#VALUE!"},{"$error":"#VALUE!"},{"$error":"#VALUE!"},{"$error":"#VALUE!"},{"$error":"#VALUE!"},{"$error":"#VALUE!"},{"$error":"#VALUE!"},{"$error":"#VALUE!"},{"$error":"#VALUE!"},{"$error":"#VALUE!"},{"$error":"#VALUE!"},{"$error":"#VALUE!"},{"$error":"#VALUE!"},{"$error":"#VALUE!"},{"$error":"#VALUE!"},{"$error":"#VALUE!"},{"$error":"#VALUE!"},{"$error":"#VALUE!"},{"$error":"#VALUE!"},{"$error":"#VALUE!"},{"$error":"#VALUE!"},{"$error":"#VALUE!"},{"$error":"#VALUE!"},{"$error":"#VALUE!"},{"$error":"#VALUE!"},{"$error":"#VALUE!"},{"$error":"#VALUE!"},{"$error":"#VALUE!"},{"$error":"#VALUE!"},{"$error":"#VALUE!"},{"$error":"#VALUE!"},{"$error":"#VALUE!"},{"$error":"#VALUE!"}]
[null,null,null,null,"541 défensif",null,null,"433 défensif",null,null,"352 défensif",null,null,"442 défensif",null,null,null,{"$f":"IF($AX$306,I11+VLOOKUP(Team!$Y17,Team!$E$30:$J$300,6,FALSE),I11+AH40+$D$21)+$D$19*$AG$8","v":{"$error":"#VALUE!"}},{"$error":"#VALUE!"},{"$error":"#VALUE!"},{"$f":"IF($AX$306,$R$60,$R$60+S11)","v":{"$error":"#VALUE!"}},{"$error":"#VALUE!"},{"$error":"#VALUE!"},{"$error":"#VALUE!"},{"$error":"#VALUE!"},{"$error":"#VALUE!"},{"$error":"#VALUE!"},{"$error":"#VALUE!"},{"$error":"#VALUE!"},{"$f":"IF($AX$306,$R$60,$R$60+AB11)","v":{"$error":"#VALUE!"}},{"$f":"IF($AX$306,$R$60,$R$60+AC11)","v":{"$error":"#VALUE!"}},{"$f":"IF($AX$306,$R$60,$R$60+AD11)","v":{"$error":"#VALUE!"}},null,null,null,"",{"$f":"MIN((S87+AJ35*D19)/AK42,(S88+AJ35*D19)/AL42,(S89+AJ35*D19)/AM42,(S90+AJ35*D19)/AN42,(S91+AJ35*D19)/AO42)*AP42","v":{"$error":"#VALUE!"}},{"$f":"MIN((T87+AJ35*D19)/AK42,(T88+AJ35*D19)/AL42,(T89+AJ35*D19)/AM42,(T90+AJ35*D19)/AN42,(T91+AJ35*D19)/AO42)*AP42","v":{"$error":"#VALUE!"}},{"$f":"MIN((U87+AJ35*D19)/AK42,(U88+AJ35*D19)/AL42,(U89+AJ35*D19)/AM42,(U90+AJ35*D19)/AN42,(U91+AJ35*D19)/AO42)*AP42","v":{"$error":"#VALUE!"}},{"$f":"MIN((V87+AJ35*D19)/AK42,(V88+AJ35*D19)/AL42,(V89+AJ35*D19)/AM42,(V90+AJ35*D19)/AN42,(V91+AJ35*D19)/AO42)*AP42","v":{"$error":"#VALUE!"}},{"$f":"MIN((W87+AJ35*D19)/AK42,(W88+AJ35*D19)/AL42,(W89+AJ35*D19)/AM42,(W90+AJ35*D19)/AN42,(W91+AJ35*D19)/AO42)*AP42","v":{"$error":"#VALUE!"}},{"$f":"MIN((X87+AJ35*D19)/AK42,(X88+AJ35*D19)/AL42,(X89+AJ35*D19)/AM42,(X90+AJ35*D19)/AN42,(X91+AJ35*D19)/AO42)*AP42","v":{"$error":"#VALUE!"}},{"$f":"MIN((Y87+AJ35*D19)/AK42,(Y88+AJ35*D19)/AL42,(Y89+AJ35*D19)/AM42,(Y90+AJ35*D19)/AN42,(Y91+AJ35*D19)/AO42)*AP42","v":{"$error":"#VALUE!"}},{"$f":"MIN((Z87+AJ35*D19)/AK42,(Z88+AJ35*D19)/AL42,(Z89+AJ35*D19)/AM42,(Z90+AJ35*D19)/AN42,(Z91+AJ35*D19)/AO42)*AP42","v":{"$error":"#VALUE!"}},{"$f":"MIN((AA87+AJ35*D19)/AK42,(AA88+AJ35*D19)/AL42,(AA89+AJ35*D19)/AM42,(AA90+AJ35*D19)/AN42,(AA91+AJ35*D19)/AO42)*AP42","v":{"$error":"#VALUE!"}},{"$f":"MIN((AB87+AJ35*D19)/AK42,(AB88+AJ35*D19)/AL42,(AB89+AJ35*D19)/AM42,(AB90+AJ35*D19)/AN42,(AB91+AJ35*D19)/AO42)*AP42","v":{"$error":"#VALUE!"}},{"$f":"MIN((AC87+AJ35*D19)/AK42,(AC88+AJ35*D19)/AL42,(AC89+AJ35*D19)/AM42,(AC90+AJ35*D19)/AN42,(AC91+AJ35*D19)/AO42)*AP42","v":{"$error":"#VALUE!"}},{"$f":"MIN((AD87+AJ35*D19)/AK42,(AD88+AJ35*D19)/AL42,(AD89+AJ35*D19)/AM42,(AD90+AJ35*D19)/AN42,(AD91+AJ35*D19)/AO42)*AP42","v":{"$error":"#VALUE!"}},{"$f":"MIN((AE87+AJ35*D19)/AK42,(AE88+AJ35*D19)/AL42,(AE89+AJ35*D19)/AM42,(AE90+AJ35*D19)/AN42,(AE91+AJ35*D19)/AO42)*AP42","v":{"$error":"#VALUE!"}},{"$f":"MIN((AF87+AJ35*D19)/AK42,(AF88+AJ35*D19)/AL42,(AF89+AJ35*D19)/AM42,(AF90+AJ35*D19)/AN42,(AF91+AJ35*D19)/AO42)*AP42","v":{"$error":"#VALUE!"}},{"$error":"#VALUE!"},null,"",{"$f":"MIN((S87+AK35*D19)/AK43,(S88+AK35*D19)/AL43,(S89+AK35*D19)/AM43,(S90+AK35*D19)/AN43,(S91+AK35*D19)/AO43)*AP43","v":{"$error":"#VALUE!"}},{"$f":"MIN((T87+AK35*D19)/AK43,(T88+AK35*D19)/AL43,(T89+AK35*D19)/AM43,(T90+AK35*D19)/AN43,(T91+AK35*D19)/AO43)*AP43","v":{"$error":"#VALUE!"}},{"$f":"MIN((U87+AK35*D19)/AK43,(U88+AK35*D19)/AL43,(U89+AK35*D19)/AM43,(U90+AK35*D19)/AN43,(U91+AK35*D19)/AO43)*AP43","v":{"$error":"#VALUE!"}},{"$f":"MIN((V87+AK35*D19)/AK43,(V88+AK35*D19)/AL43,(V89+AK35*D19)/AM43,(V90+AK35*D19)/AN43,(V91+AK35*D19)/AO43)*AP43","v":{"$error":"#VALUE!"}},{"$f":"MIN((W87+AK35*D19)/AK43,(W88+AK35*D19)/AL43,(W89+AK35*D19)/AM43,(W90+AK35*D19)/AN43,(W91+AK35*D19)/AO43)*AP43","v":{"$error":"#VALUE!"}},{"$f":"MIN((X87+AK35*D19)/AK43,(X88+AK35*D19)/AL43,(X89+AK35*D19)/AM43,(X90+AK35*D19)/AN43,(X91+AK35*D19)/AO43)*AP43","v":{"$error":"#VALUE!"}},{"$f":"MIN((Y87+AK35*D19)/AK43,(Y88+AK35*D19)/AL43,(Y89+AK35*D19)/AM43,(Y90+AK35*D19)/AN43,(Y91+AK35*D19)/AO43)*AP43","v":{"$error":"#VALUE!"}},{"$f":"MIN((Z87+AK35*D19)/AK43,(Z88+AK35*D19)/AL43,(Z89+AK35*D19)/AM43,(Z90+AK35*D19)/AN43,(Z91+AK35*D19)/AO43)*AP43","v":{"$error":"#VALUE!"}},{"$f":"MIN((AA87+AK35*D19)/AK43,(AA88+AK35*D19)/AL43,(AA89+AK35*D19)/AM43,(AA90+AK35*D19)/AN43,(AA91+AK35*D19)/AO43)*AP43","v":{"$error":"#VALUE!"}},{"$f":"MIN((AB87+AK35*D19)/AK43,(AB88+AK35*D19)/AL43,(AB89+AK35*D19)/AM43,(AB90+AK35*D19)/AN43,(AB91+AK35*D19)/AO43)*AP43","v":{"$error":"#VALUE!"}},{"$f":"MIN((AC87+AK35*D19)/AK43,(AC88+AK35*D19)/AL43,(AC89+AK35*D19)/AM43,(AC90+AK35*D19)/AN43,(AC91+AK35*D19)/AO43)*AP43","v":{"$error":"#VALUE!"}},{"$f":"MIN((AD87+AK35*D19)/AK43,(AD88+AK35*D19)/AL43,(AD89+AK35*D19)/AM43,(AD90+AK35*D19)/AN43,(AD91+AK35*D19)/AO43)*AP43","v":{"$error":"#VALUE!"}},{"$f":"MIN((AE87+AK35*D19)/AK43,(AE88+AK35*D19)/AL43,(AE89+AK35*D19)/AM43,(AE90+AK35*D19)/AN43,(AE91+AK35*D19)/AO43)*AP43","v":{"$error":"#VALUE!"}},{"$f":"MIN((AF87+AK35*D19)/AK43,(AF88+AK35*D19)/AL43,(AF89+AK35*D19)/AM43,(AF90+AK35*D19)/AN43,(AF91+AK35*D19)/AO43)*AP43","v":{"$error":"#VALUE!"}},{"$error":"#VALUE!"},null,null,{"$f":"IF(E26=C31,F47,IF(E26=C32,I47,IF(E26=C33,L47,erreur)))","v":0.68115000000000003},null,{"$f":"IF(E26=C31,G47,IF(E26=C32,J47,IF(E26=C33,M47,erreur)))","v":1.58945},null,2.2706,null,null,4,{"$f":"MIN((CP2*CS8+CK8)/AT45,(CP2*CS8+CL8)/AU45,(CP2*CS8+CM8)/AV45,(CP2*CS8+CN8)/AW45,(CP2*CS8+CO8)/AX45)*AY45","v":{"$error":"#VALUE!"}},{"$f":"MIN((CP2*CS8+CK8)/BB45,(CP2*CS8+CL8)/BC45,(CP2*CS8+CM8)/BD45,(CP2*CS8+CN8)/BE45,(CP2*CS8+CO8)/BF45)*BG45","v":{"$error":"#VALUE!"}},{"$f":"MIN((CP2*CS8+CK8)/BJ45,(CP2*CS8+CL8)/BK45,(CP2*CS8+CM8)/BL45,(CP2*CS8+CN8)/BM45,(CP2*CS8+CO8)/BN45)*BO45","v":{"$error":"#VALUE!"}},{"$f":"MIN((CP2*CS8+CK8)/BR45,(CP2*CS8+CL8)/BS45,(CP2*CS8+CM8)/BT45,(CP2*CS8+CN8)/BU45,(CP2*CS8+CO8)/BV45)*BW45","v":{"$error":"#VALUE!"}},null,3,{"$error":"#VALUE!"},{"$error":"#VALUE!"},{"$error":"#VALUE!"},{"$error":"#VALUE!"},{"$error":"#VALUE!"},{"$error":"#VALUE!"},{"$error":"#VALUE!"},{"$error":"#VALUE!"},{"$error":"#VALUE!"},{"$error":"#VALUE!"},{"$error":"#VALUE!"},{"$error":"#VALUE!"},{"$error":"#VALUE!"},{"$error":"#VALUE!"},{"$error":"#VALUE!"},{"$error":"#VALUE!"},{"$error":"#VALUE!"},{"$error":"#VALUE!"},{"$error":"#VALUE!"},{"$error":"#VALUE!"},{"$error":"#VALUE!"},{"$error":"#VALUE!"},{"$error":"#VALUE!"},{"$error":"#VALUE!"},{"$error":"#VALUE!"},{"$error":"#VALUE!"},{"$error":"#VALUE!"},{"$error":"#VALUE!"},{"$error":"#VALUE!"},{"$error":"#VALUE!"},{"$error":"#VALUE!"},{"$error":"#VALUE!"},{"$error":"#VALUE!"},{"$error":"#VALUE!"},{"$error":"#VALUE!"},{"$error":"#VALUE!"}]
[null,null,null,null,"1% attaque","1% defense","1% cumulé","1% attaque","1% defense","1% cumulé","1% attaque","1% defense","1% cumulé","1% attaque","1% defense","1% cumulé",null,{"$f":"IF($AX$306,J11+VLOOKUP(Team!$Z17,Team!$E$30:$J$300,6,FALSE),J11+AH41+$D$21)+$D$19*$AG$8","v":{"$error":"#VALUE!"}},{"$error":"#VALUE!"},{"$error":"#VALUE!"},{"$f":"IF($AX$306,$R$61,$R$61+S12)","v":{"$error":"#VALUE!"}},{"$error":"#VALUE!"},{"$error":"#VALUE!"},{"$error":"#VALUE!"},{"$error":"#VALUE!"},{"$error":"#VALUE!"},{"$error":"#VALUE!"},{"$error":"#VALUE!"},{"$error":"#VALUE!"},{"$f":"IF($AX$306,$R$61,$R$61+AB12)","v":{"$error":"#VALUE!"}},{"$f":"IF($AX$306,$R$61,$R$61+AC12)","v":{"$error":"#VALUE!"}},{"$f":"IF($AX$306,$R$61,$R$61+AD12)","v":{"$error":"#VALUE!"}},null,null,null,"",{"$f":"MIN((S94+AJ35*D19)/AK42,(S95+AJ35*D19)/AL42,(S96+AJ35*D19)/AM42,(S97+AJ35*D19)/AN42,(S98+AJ35*D19)/AO42)*AP42","v":{"$error":"#VALUE!"}},{"$f":"MIN((T94+AJ35*D19)/AK42,(T95+AJ35*D19)/AL42,(T96+AJ35*D19)/AM42,(T97+AJ35*D19)/AN42,(T98+AJ35*D19)/AO42)*AP42","v":{"$error":"#VALUE!"}},{"$f":"MIN((U94+AJ35*D19)/AK42,(U95+AJ35*D19)/AL42,(U96+AJ35*D19)/AM42,(U97+AJ35*D19)/AN42,(U98+AJ35*D19)/AO42)*AP42","v":{"$error":"#VALUE!"}},{"$f":"MIN((V94+AJ35*D19)/AK42,(V95+AJ35*D19)/AL42,(V96+AJ35*D19)/AM42,(V97+AJ35*D19)/AN42,(V98+AJ35*D19)/AO42)*AP42","v":{"$error":"#VALUE!"}},{"$f":"MIN((W94+AJ35*D19)/AK42,(W95+AJ35*D19)/AL42,(W96+AJ35*D19)/AM42,(W97+AJ35*D19)/AN42,(W98+AJ35*D19)/AO42)*AP42","v":{"$error":"#VALUE!"}},{"$f":"MIN((X94+AJ35*D19)/AK42,(X95+AJ35*D19)/AL42,(X96+AJ35*D19)/AM42,(X97+AJ35*D19)/AN42,(X98+AJ35*D19)/AO42)*AP42","v":{"$error":"#VALUE!"}},{"$f":"MIN((Y94+AJ35*D19)/AK42,(Y95+AJ35*D19)/AL42,(Y96+AJ35*D19)/AM42,(Y97+AJ35*D19)/AN42,(Y98+AJ35*D19)/AO42)*AP42","v":{"$error":"#VALUE!"}},{"$f":"MIN((Z94+AJ35*D19)/AK42,(Z95+AJ35*D19)/AL42,(Z96+AJ35*D19)/AM42,(Z97+AJ35*D19)/AN42,(Z98+AJ35*D19)/AO42)*AP42","v":{"$error":"#VALUE!"}},{"$f":"MIN((AA94+AJ35*D19)/AK42,(AA95+AJ35*D19)/AL42,(AA96+AJ35*D19)/AM42,(AA97+AJ35*D19)/AN42,(AA98+AJ35*D19)/AO42)*AP42","v":{"$error":"#VALUE!"}},{"$f":"MIN((AB94+AJ35*D19)/AK42,(AB95+AJ35*D19)/AL42,(AB96+AJ35*D19)/AM42,(AB97+AJ35*D19)/AN42,(AB98+AJ35*D19)/AO42)*AP42","v":{"$error":"#VALUE!"}},{"$f":"MIN((AC94+AJ35*D19)/AK42,(AC95+AJ35*D19)/AL42,(AC96+AJ35*D19)/AM42,(AC97+AJ35*D19)/AN42,(AC98+AJ35*D19)/AO42)*AP42","v":{"$error":"#VALUE!"}},{"$f":"MIN((AD94+AJ35*D19)/AK42,(AD95+AJ35*D19)/AL42,(AD96+AJ35*D19)/AM42,(AD97+AJ35*D19)/AN42,(AD98+AJ35*D19)/AO42)*AP42","v":{"$error":"#VALUE!"}},{"$f":"MIN((AE94+AJ35*D19)/AK42,(AE95+AJ35*D19)/AL42,(AE96+AJ35*D19)/AM42,(AE97+AJ35*D19)/AN42,(AE98+AJ35*D19)/AO42)*AP42","v":{"$error":"#VALUE!"}},{"$f":"MIN((AF94+AJ35*D19)/AK42,(AF95+AJ35*D19)/AL42,(AF96+AJ35*D19)/AM42,(AF97+AJ35*D19)/AN42,(AF98+AJ35*D19)/AO42)*AP42","v":{"$error":"#VALUE!"}},{"$error":"#VALUE!"},null,"",{"$f":"MIN((S94+AK35*D19)/AK43,(S95+AK35*D19)/AL43,(S96+AK35*D19)/AM43,(S97+AK35*D19)/AN43,(S98+AK35*D19)/AO43)*AP43","v":{"$error":"#VALUE!"}},{"$f":"MIN((T94+AK35*D19)/AK43,(T95+AK35*D19)/AL43,(T96+AK35*D19)/AM43,(T97+AK35*D19)/AN43,(T98+AK35*D19)/AO43)*AP43","v":{"$error":"#VALUE!"}},{"$f":"MIN((U94+AK35*D19)/AK43,(U95+AK35*D19)/AL43,(U96+AK35*D19)/AM43,(U97+AK35*D19)/AN43,(U98+AK35*D19)/AO43)*AP43","v":{"$error":"#VALUE!"}},{"$f":"MIN((V94+AK35*D19)/AK43,(V95+AK35*D19)/AL43,(V96+AK35*D19)/AM43,(V97+AK35*D19)/AN43,(V98+AK35*D19)/AO43)*AP43","v":{"$error":"#VALUE!"}},{"$f":"MIN((W94+AK35*D19)/AK43,(W95+AK35*D19)/AL43,(W96+AK35*D19)/AM43,(W97+AK35*D19)/AN43,(W98+AK35*D19)/AO43)*AP43","v":{"$error":"#VALUE!"}},{"$f":"MIN((X94+AK35*D19)/AK43,(X95+AK35*D19)/AL43,(X96+AK35*D19)/AM43,(X97+AK35*D19)/AN43,(X98+AK35*D19)/AO43)*AP43","v":{"$error":"#VALUE!"}},{"$f":"MIN((Y94+AK35*D19)/AK43,(Y95+AK35*D19)/AL43,(Y96+AK35*D19)/AM43,(Y97+AK35*D19)/AN43,(Y98+AK35*D19)/AO43)*AP43","v":{"$error":"#VALUE!"}},{"$f":"MIN((Z94+AK35*D19)/AK43,(Z95+AK35*D19)/AL43,(Z96+AK35*D19)/AM43,(Z97+AK35*D19)/AN43,(Z98+AK35*D19)/AO43)*AP43","v":{"$error":"#VALUE!"}},{"$f":"MIN((AA94+AK35*D19)/AK43,(AA95+AK35*D19)/AL43,(AA96+AK35*D19)/AM43,(AA97+AK35*D19)/AN43,(AA98+AK35*D19)/AO43)*AP43","v":{"$error":"#VALUE!"}},{"$f":"MIN((AB94+AK35*D19)/AK43,(AB95+AK35*D19)/AL43,(AB96+AK35*D19)/AM43,(AB97+AK35*D19)/AN43,(AB98+AK35*D19)/AO43)*AP43","v":{"$error":"#VALUE!"}},{"$f":"MIN((AC94+AK35*D19)/AK43,(AC95+AK35*D19)/AL43,(AC96+AK35*D19)/AM43,(AC97+AK35*D19)/AN43,(AC98+AK35*D19)/AO43)*AP43","v":{"$error":"#VALUE!"}},{"$f":"MIN((AD94+AK35*D19)/AK43,(AD95+AK35*D19)/AL43,(AD96+AK35*D19)/AM43,(AD97+AK35*D19)/AN43,(AD98+AK35*D19)/AO43)*AP43","v":{"$error":"#VALUE!"}},{"$f":"MIN((AE94+AK35*D19)/AK43,(AE95+AK35*D19)/AL43,(AE96+AK35*D19)/AM43,(AE97+AK35*D19)/AN43,(AE98+AK35*D19)/AO43)*AP43","v":{"$error":"#VALUE!"}},{"$f":"MIN((AF94+AK35*D19)/AK43,(AF95+AK35*D19)/AL43,(AF96+AK35*D19)/AM43,(AF97+AK35*D19)/AN43,(AF98+AK35*D19)/AO43)*AP43","v":{"$error":"#VALUE!"}},{"$error":"#VALUE!"},null,null,{"$f":"IF(E26=C31,F48,IF(E26=C32,I48,IF(E26=C33,L48,erreur)))","v":0.27245000000000003},null,{"$f":"IF(E26=C31,G48,IF(E26=C32,J48,IF(E26=C33,M48,erreur)))","v":0.63575000000000004},null,0.90820000000000012,null,null,5,{"$f":"MIN((CP2*CS9+CK9)/AT46,(CP2*CS9+CL9)/AU46,(CP2*CS9+CM9)/AV46,(CP2*CS9+CN9)/AW46,(CP2*CS9+CO9)/AX46)*AY46","v":{"$error":"#VALUE!"}},{"$f":"MIN((CP2*CS9+CK9)/BB46,(CP2*CS9+CL9)/BC46,(CP2*CS9+CM9)/BD46,(CP2*CS9+CN9)/BE46,(CP2*CS9+CO9)/BF46)*BG46","v":{"$error":"#VALUE!"}},{"$f":"MIN((CP2*CS9+CK9)/BJ46,(CP2*CS9+CL9)/BK46,(CP2*CS9+CM9)/BL46,(CP2*CS9+CN9)/BM46,(CP2*CS9+CO9)/BN46)*BO46","v":{"$error":"#VALUE!"}},{"$f":"MIN((CP2*CS9+CK9)/BR46,(CP2*CS9+CL9)/BS46,(CP2*CS9+CM9)/BT46,(CP2*CS9+CN9)/BU46,(CP2*CS9+CO9)/BV46)*BW46","v":{"$error":"#VALUE!"}},null,4,{"$error":"#VALUE!"},{"$error":"#VALUE!"},{"$error":"#VALUE!"},{"$error":"#VALUE!"},{"$error":"#VALUE!"},{"$error":"#VALUE!"},{"$error":"#VALUE!"},{"$error":"#VALUE!"},{"$error":"#VALUE!"},{"$error":"#VALUE!"},{"$error":"#VALUE!"},{"$error":"#VALUE!"},{"$error":"#VALUE!"},{"$error":"#VALUE!"},{"$error":"#VALUE!"},{"$error":"#VALUE!"},{"$error":"#VALUE!"},{"$error":"#VALUE!"},{"$error":"#VALUE!"},{"$error":"#VALUE!"},{"$error":"#VALUE!"},{"$error":"#VALUE!"},{"$error":"#VALUE!"},{"$error":"#VALUE!"},{"$error":"#VALUE!"},{"$error":"#VALUE!"},{"$error":"#VALUE!"},{"$error":"#VALUE!"},{"$error":"#VALUE!"},{"$error":"#VALUE!"},{"$error":"#VALUE!"},{"$error":"#VALUE!"},{"$error":"#VALUE!"},{"$error":"#VALUE!"},{"$error":"#VALUE!"},{"$error":"#VALUE!"}]
[null,null,null,null,5.4449999999999998E-2,2.6702499999999998,{"$f":"E62+F62","v":2.7246999999999999},5.4449999999999998E-2,2.6702499999999998,{"$f":"H62+I62","v":2.7246999999999999},5.4449999999999998E-2,2.6702499999999998,{"$f":"K62+L62","v":2.7246999999999999},5.4449999999999998E-2,2.6702499999999998,{"$f":"N62+O62","v":2.7246999999999999},null,{"$f":"IF($AX$306,K11+VLOOKUP(Team!$AA17,Team!$E$30:$J$300,6,FALSE),K11+AH42+$D$21)+$D$19*$AG$8","v":{"$error":"#VALUE!"}},{"$error":"#VALUE!"},{"$error":"#VALUE!"},{"$f":"IF($AX$306,$R$62,$R$62+S13)","v":{"$error":"#VALUE!"}},{"$error":"#VALUE!"},{"$error":"#VALUE!"},{"$error":"#VALUE!"},{"$error":"#VALUE!"},{"$error":"#VALUE!"},{"$error":"#VALUE!"},{"$error":"#VALUE!"},{"$error":"#VALUE!"},{"$f":"IF($AX$306,$R$62,$R$62+AB13)","v":{"$error":"#VALUE!"}},{"$f":"IF($AX$306,$R$62,$R$62+AC13)","v":{"$error":"#VALUE!"}},{"$f":"IF($AX$306,$R$62,$R$62+AD13)","v":{"$error":"#VALUE!"}},null,null,null,"",{"$f":"MIN((S101+AJ35*D19)/AK42,(S102+AJ35*D19)/AL42,(S103+AJ35*D19)/AM42,(S104+AJ35*D19)/AN42,(S105+AJ35*D19)/AO42)*AP42","v":{"$error":"#VALUE!"}},{"$f":"MIN((T101+AJ35*D19)/AK42,(T102+AJ35*D19)/AL42,(T103+AJ35*D19)/AM42,(T104+AJ35*D19)/AN42,(T105+AJ35*D19)/AO42)*AP42","v":{"$error":"#VALUE!"}},{"$f":"MIN((U101+AJ35*D19)/AK42,(U102+AJ35*D19)/AL42,(U103+AJ35*D19)/AM42,(U104+AJ35*D19)/AN42,(U105+AJ35*D19)/AO42)*AP42","v":{"$error":"#VALUE!"}},{"$f":"MIN((V101+AJ35*D19)/AK42,(V102+AJ35*D19)/AL42,(V103+AJ35*D19)/AM42,(V104+AJ35*D19)/AN42,(V105+AJ35*D19)/AO42)*AP42","v":{"$error":"#VALUE!"}},{"$f":"MIN((W101+AJ35*D19)/AK42,(W102+AJ35*D19)/AL42,(W103+AJ35*D19)/AM42,(W104+AJ35*D19)/AN42,(W105+AJ35*D19)/AO42)*AP42","v":{"$error":"#VALUE!"}},{"$f":"MIN((X101+AJ35*D19)/AK42,(X102+AJ35*D19)/AL42,(X103+AJ35*D19)/AM42,(X104+AJ35*D19)/AN42,(X105+AJ35*D19)/AO42)*AP42","v":{"$error":"#VALUE!"}},{"$f":"MIN((Y101+AJ35*D19)/AK42,(Y102+AJ35*D19)/AL42,(Y103+AJ35*D19)/AM42,(Y104+AJ35*D19)/AN42,(Y105+AJ35*D19)/AO42)*AP42","v":{"$error":"#VALUE!"}},{"$f":"MIN((Z101+AJ35*D19)/AK42,(Z102+AJ35*D19)/AL42,(Z103+AJ35*D19)/AM42,(Z104+AJ35*D19)/AN42,(Z105+AJ35*D19)/AO42)*AP42","v":{"$error":"#VALUE!"}},{"$f":"MIN((AA101+AJ35*D19)/AK42,(AA102+AJ35*D19)/AL42,(AA103+AJ35*D19)/AM42,(AA104+AJ35*D19)/AN42,(AA105+AJ35*D19)/AO42)*AP42","v":{"$error":"#VALUE!"}},{"$f":"MIN((AB101+AJ35*D19)/AK42,(AB102+AJ35*D19)/AL42,(AB103+AJ35*D19)/AM42,(AB104+AJ35*D19)/AN42,(AB105+AJ35*D19)/AO42)*AP42","v":{"$error":"#VALUE!"}},{"$f":"MIN((AC101+AJ35*D19)/AK42,(AC102+AJ35*D19)/AL42,(AC103+AJ35*D19)/AM42,(AC104+AJ35*D19)/AN42,(AC105+AJ35*D19)/AO42)*AP42","v":{"$error":"#VALUE!"}},{"$f":"MIN((AD101+AJ35*D19)/AK42,(AD102+AJ35*D19)/AL42,(AD103+AJ35*D19)/AM42,(AD104+AJ35*D19)/AN42,(AD105+AJ35*D19)/AO42)*AP42","v":{"$error":"#VALUE!"}},{"$f":"MIN((AE101+AJ35*D19)/AK42,(AE102+AJ35*D19)/AL42,(AE103+AJ35*D19)/AM42,(AE104+AJ35*D19)/AN42,(AE105+AJ35*D19)/AO42)*AP42","v":{"$error":"#VALUE!"}},{"$f":"MIN((AF101+AJ35*D19)/AK42,(AF102+AJ35*D19)/AL42,(AF103+AJ35*D19)/AM42,(AF104+AJ35*D19)/AN42,(AF105+AJ35*D19)/AO42)*AP42","v":{"$error":"#VALUE!"}},{"$error":"#VALUE!"},null,"",{"$f":"MIN((S101+AK35*D19)/AK43,(S102+AK35*D19)/AL43,(S103+AK35*D19)/AM43,(S104+AK35*D19)/AN43,(S105+AK35*D19)/AO43)*AP43","v":{"$error":"#VALUE!"}},{"$f":"MIN((T101+AK35*D19)/AK43,(T102+AK35*D19)/AL43,(T103+AK35*D19)/AM43,(T104+AK35*D19)/AN43,(T105+AK35*D19)/AO43)*AP43","v":{"$error":"#VALUE!"}},{"$f":"MIN((U101+AK35*D19)/AK43,(U102+AK35*D19)/AL43,(U103+AK35*D19)/AM43,(U104+AK35*D19)/AN43,(U105+AK35*D19)/AO43)*AP43","v":{"$error":"#VALUE!"}},{"$f":"MIN((V101+AK35*D19)/AK43,(V102+AK35*D19)/AL43,(V103+AK35*D19)/AM43,(V104+AK35*D19)/AN43,(V105+AK35*D19)/AO43)*AP43","v":{"$error":"#VALUE!"}},{"$f":"MIN((W101+AK35*D19)/AK43,(W102+AK35*D19)/AL43,(W103+AK35*D19)/AM43,(W104+AK35*D19)/AN43,(W105+AK35*D19)/AO43)*AP43","v":{"$error":"#VALUE!"}},{"$f":"MIN((X101+AK35*D19)/AK43,(X102+AK35*D19)/AL43,(X103+AK35*D19)/AM43,(X104+AK35*D19)/AN43,(X105+AK35*D19)/AO43)*AP43","v":{"$error":"#VALUE!"}},{"$f":"MIN((Y101+AK35*D19)/AK43,(Y102+AK35*D19)/AL43,(Y103+AK35*D19)/AM43,(Y104+AK35*D19)/AN43,(Y105+AK35*D19)/AO43)*AP43","v":{"$error":"#VALUE!"}},{"$f":"MIN((Z101+AK35*D19)/AK43,(Z102+AK35*D19)/AL43,(Z103+AK35*D19)/AM43,(Z104+AK35*D19)/AN43,(Z105+AK35*D19)/AO43)*AP43","v":{"$error":"#VALUE!"}},{"$f":"MIN((AA101+AK35*D19)/AK43,(AA102+AK35*D19)/AL43,(AA103+AK35*D19)/AM43,(AA104+AK35*D19)/AN43,(AA105+AK35*D19)/AO43)*AP43","v":{"$error":"#VALUE!"}},{"$f":"MIN((AB101+AK35*D19)/AK43,(AB102+AK35*D19)/AL43,(AB103+AK35*D19)/AM43,(AB104+AK35*D19)/AN43,(AB105+AK35*D19)/AO43)*AP43","v":{"$error":"#VALUE!"}},{"$f":"MIN((AC101+AK35*D19)/AK43,(AC102+AK35*D19)/AL43,(AC103+AK35*D19)/AM43,(AC104+AK35*D19)/AN43,(AC105+AK35*D19)/AO43)*AP43","v":{"$error":"#VALUE!"}},{"$f":"MIN((AD101+AK35*D19)/AK43,(AD102+AK35*D19)/AL43,(AD103+AK35*D19)/AM43,(AD104+AK35*D19)/AN43,(AD105+AK35*D19)/AO43)*AP43","v":{"$error":"#VALUE!"}},{"$f":"MIN((AE101+AK35*D19)/AK43,(AE102+AK35*D19)/AL43,(AE103+AK35*D19)/AM43,(AE104+AK35*D19)/AN43,(AE105+AK35*D19)/AO43)*AP43","v":{"$error":"#VALUE!"}},{"$f":"MIN((AF101+AK35*D19)/AK43,(AF102+AK35*D19)/AL43,(AF103+AK35*D19)/AM43,(AF104+AK35*D19)/AN43,(AF105+AK35*D19)/AO43)*AP43","v":{"$error":"#VALUE!"}},{"$error":"#VALUE!"},null,null,{"$f":"IF(E26=C31,F49,IF(E26=C32,I49,IF(E26=C33,L49,erreur)))","v":0.27245000000000003},null,{"$f":"IF(E26=C31,G49,IF(E26=C32,J49,IF(E26=C33,M49,erreur)))","v":0.63575000000000004},null,0.90820000000000012,null,null,6,{"$f":"MIN((CP2*CS10+CK10)/AT47,(CP2*CS10+CL10)/AU47,(CP2*CS10+CM10)/AV47,(CP2*CS10+CN10)/AW47,(CP2*CS10+CO10)/AX47)*AY47","v":{"$error":"#VALUE!"}},{"$f":"MIN((CP2*CS10+CK10)/BB47,(CP2*CS10+CL10)/BC47,(CP2*CS10+CM10)/BD47,(CP2*CS10+CN10)/BE47,(CP2*CS10+CO10)/BF47)*BG47","v":{"$error":"#VALUE!"}},{"$f":"MIN((CP2*CS10+CK10)/BJ47,(CP2*CS10+CL10)/BK47,(CP2*CS10+CM10)/BL47,(CP2*CS10+CN10)/BM47,(CP2*CS10+CO10)/BN47)*BO47","v":{"$error":"#VALUE!"}},{"$f":"MIN((CP2*CS10+CK10)/BR47,(CP2*CS10+CL10)/BS47,(CP2*CS10+CM10)/BT47,(CP2*CS10+CN10)/BU47,(CP2*CS10+CO10)/BV47)*BW47","v":{"$error":"#VALUE!"}},null,5,{"$error":"#VALUE!"},{"$error":"#VALUE!"},{"$error":"#VALUE!"},{"$error":"#VALUE!"},{"$error":"#VALUE!"},{"$error":"#VALUE!"},{"$error":"#VALUE!"},{"$error":"#VALUE!"},{"$error":"#VALUE!"},{"$error":"#VALUE!"},{"$error":"#VALUE!"},{"$error":"#VALUE!"},{"$error":"#VALUE!"},{"$error":"#VALUE!"},{"$error":"#VALUE!"},{"$error":"#VALUE!"},{"$error":"#VALUE!"},{"$error":"#VALUE!"},{"$error":"#VALUE!"},{"$error":"#VALUE!"},{"$error":"#VALUE!"},{"$error":"#VALUE!"},{"$error":"#VALUE!"},{"$error":"#VALUE!"},{"$error":"#VALUE!"},{"$error":"#VALUE!"},{"$error":"#VALUE!"},{"$error":"#VALUE!"},{"$error":"#VALUE!"},{"$error":"#VALUE!"},{"$error":"#VALUE!"},{"$error":"#VALUE!"},{"$error":"#VALUE!"},{"$error":"#VALUE!"},{"$error":"#VALUE!"},{"$error":"#VALUE!"}]
[null,null,null,null,0.27245000000000003,1.0899000000000001,{"$f":"E63+F63","v":1.3623500000000002},0.68115000000000003,0.68115000000000003,1.3623000000000001,0.90825,1.3623499999999999,{"$f":"K63+L63","v":2.2706},0.40870000000000001,0.95365,1.3623499999999999,null,{"$f":"IF($AX$306,L11+VLOOKUP(Team!$AB17,Team!$E$30:$J$300,6,FALSE),L11+AH43+$D$21)+$D$19*$AG$8","v":{"$error":"#VALUE!"}},{"$error":"#VALUE!"},{"$error":"#VALUE!"},{"$f":"IF($AX$306,$R$63,$R$63+S14)","v":{"$error":"#VALUE!"}},{"$error":"#VALUE!"},{"$error":"#VALUE!"},{"$error":"#VALUE!"},{"$error":"#VALUE!"},{"$error":"#VALUE!"},{"$error":"#VALUE!"},{"$error":"#VALUE!"},{"$error":"#VALUE!"},{"$f":"IF($AX$306,$R$63,$R$63+AB14)","v":{"$error":"#VALUE!"}},{"$f":"IF($AX$306,$R$63,$R$63+AC14)","v":{"$error":"#VALUE!"}},{"$f":"IF($AX$306,$R$63,$R$63+AD14)","v":{"$error":"#VALUE!"}},null,null,null,"",{"$f":"MIN((S108+AJ35*D19)/AK42,(S109+AJ35*D19)/AL42,(S110+AJ35*D19)/AM42,(S111+AJ35*D19)/AN42,(S112+AJ35*D19)/AO42)*AP42","v":{"$error":"#VALUE!"}},{"$f":"MIN((T108+AJ35*D19)/AK42,(T109+AJ35*D19)/AL42,(T110+AJ35*D19)/AM42,(T111+AJ35*D19)/AN42,(T112+AJ35*D19)/AO42)*AP42","v":{"$error":"#VALUE!"}},{"$f":"MIN((U108+AJ35*D19)/AK42,(U109+AJ35*D19)/AL42,(U110+AJ35*D19)/AM42,(U111+AJ35*D19)/AN42,(U112+AJ35*D19)/AO42)*AP42","v":{"$error":"#VALUE!"}},{"$f":"MIN((V108+AJ35*D19)/AK42,(V109+AJ35*D19)/AL42,(V110+AJ35*D19)/AM42,(V111+AJ35*D19)/AN42,(V112+AJ35*D19)/AO42)*AP42","v":{"$error":"#VALUE!"}},{"$f":"MIN((W108+AJ35*D19)/AK42,(W109+AJ35*D19)/AL42,(W110+AJ35*D19)/AM42,(W111+AJ35*D19)/AN42,(W112+AJ35*D19)/AO42)*AP42","v":{"$error":"#VALUE!"}},{"$f":"MIN((X108+AJ35*D19)/AK42,(X109+AJ35*D19)/AL42,(X110+AJ35*D19)/AM42,(X111+AJ35*D19)/AN42,(X112+AJ35*D19)/AO42)*AP42","v":{"$error":"#VALUE!"}},{"$f":"MIN((Y108+AJ35*D19)/AK42,(Y109+AJ35*D19)/AL42,(Y110+AJ35*D19)/AM42,(Y111+AJ35*D19)/AN42,(Y112+AJ35*D19)/AO42)*AP42","v":{"$error":"#VALUE!"}},{"$f":"MIN((Z108+AJ35*D19)/AK42,(Z109+AJ35*D19)/AL42,(Z110+AJ35*D19)/AM42,(Z111+AJ35*D19)/AN42,(Z112+AJ35*D19)/AO42)*AP42","v":{"$error":"#VALUE!"}},{"$f":"MIN((AA108+AJ35*D19)/AK42,(AA109+AJ35*D19)/AL42,(AA110+AJ35*D19)/AM42,(AA111+AJ35*D19)/AN42,(AA112+AJ35*D19)/AO42)*AP42","v":{"$error":"#VALUE!"}},{"$f":"MIN((AB108+AJ35*D19)/AK42,(AB109+AJ35*D19)/AL42,(AB110+AJ35*D19)/AM42,(AB111+AJ35*D19)/AN42,(AB112+AJ35*D19)/AO42)*AP42","v":{"$error":"#VALUE!"}},{"$f":"MIN((AC108+AJ35*D19)/AK42,(AC109+AJ35*D19)/AL42,(AC110+AJ35*D19)/AM42,(AC111+AJ35*D19)/AN42,(AC112+AJ35*D19)/AO42)*AP42","v":{"$error":"#VALUE!"}},{"$f":"MIN((AD108+AJ35*D19)/AK42,(AD109+AJ35*D19)/AL42,(AD110+AJ35*D19)/AM42,(AD111+AJ35*D19)/AN42,(AD112+AJ35*D19)/AO42)*AP42","v":{"$error":"#VALUE!"}},{"$f":"MIN((AE108+AJ35*D19)/AK42,(AE109+AJ35*D19)/AL42,(AE110+AJ35*D19)/AM42,(AE111+AJ35*D19)/AN42,(AE112+AJ35*D19)/AO42)*AP42","v":{"$error":"#VALUE!"}},{"$f":"MIN((AF108+AJ35*D19)/AK42,(AF109+AJ35*D19)/AL42,(AF110+AJ35*D19)/AM42,(AF111+AJ35*D19)/AN42,(AF112+AJ35*D19)/AO42)*AP42","v":{"$error":"#VALUE!"}},{"$error":"#VALUE!"},null,"",{"$f":"MIN((S108+AK35*D19)/AK43,(S109+AK35*D19)/AL43,(S110+AK35*D19)/AM43,(S111+AK35*D19)/AN43,(S112+AK35*D19)/AO43)*AP43","v":{"$error":"#VALUE!"}},{"$f":"MIN((T108+AK35*D19)/AK43,(T109+AK35*D19)/AL43,(T110+AK35*D19)/AM43,(T111+AK35*D19)/AN43,(T112+AK35*D19)/AO43)*AP43","v":{"$error":"#VALUE!"}},{"$f":"MIN((U108+AK35*D19)/AK43,(U109+AK35*D19)/AL43,(U110+AK35*D19)/AM43,(U111+AK35*D19)/AN43,(U112+AK35*D19)/AO43)*AP43","v":{"$error":"#VALUE!"}},{"$f":"MIN((V108+AK35*D19)/AK43,(V109+AK35*D19)/AL43,(V110+AK35*D19)/AM43,(V111+AK35*D19)/AN43,(V112+AK35*D19)/AO43)*AP43","v":{"$error":"#VALUE!"}},{"$f":"MIN((W108+AK35*D19)/AK43,(W109+AK35*D19)/AL43,(W110+AK35*D19)/AM43,(W111+AK35*D19)/AN43,(W112+AK35*D19)/AO43)*AP43","v":{"$error":"#VALUE!"}},{"$f":"MIN((X108+AK35*D19)/AK43,(X109+AK35*D19)/AL43,(X110+AK35*D19)/AM43,(X111+AK35*D19)/AN43,(X112+AK35*D19)/AO43)*AP43","v":{"$error":"#VALUE!"}},{"$f":"MIN((Y108+AK35*D19)/AK43,(Y109+AK35*D19)/AL43,(Y110+AK35*D19)/AM43,(Y111+AK35*D19)/AN43,(Y112+AK35*D19)/AO43)*AP43","v":{"$error":"#VALUE!"}},{"$f":"MIN((Z108+AK35*D19)/AK43,(Z109+AK35*D19)/AL43,(Z110+AK35*D19)/AM43,(Z111+AK35*D19)/AN43,(Z112+AK35*D19)/AO43)*AP43","v":{"$error":"#VALUE!"}},{"$f":"MIN((AA108+AK35*D19)/AK43,(AA109+AK35*D19)/AL43,(AA110+AK35*D19)/AM43,(AA111+AK35*D19)/AN43,(AA112+AK35*D19)/AO43)*AP43","v":{"$error":"#VALUE!"}},{"$f":"MIN((AB108+AK35*D19)/AK43,(AB109+AK35*D19)/AL43,(AB110+AK35*D19)/AM43,(AB111+AK35*D19)/AN43,(AB112+AK35*D19)/AO43)*AP43","v":{"$error":"#VALUE!"}},{"$f":"MIN((AC108+AK35*D19)/AK43,(AC109+AK35*D19)/AL43,(AC110+AK35*D19)/AM43,(AC111+AK35*D19)/AN43,(AC112+AK35*D19)/AO43)*AP43","v":{"$error":"#VALUE!"}},{"$f":"MIN((AD108+AK35*D19)/AK43,(AD109+AK35*D19)/AL43,(AD110+AK35*D19)/AM43,(AD111+AK35*D19)/AN43,(AD112+AK35*D19)/AO43)*AP43","v":{"$error":"#VALUE!"}},{"$f":"MIN((AE108+AK35*D19)/AK43,(AE109+AK35*D19)/AL43,(AE110+AK35*D19)/AM43,(AE111+AK35*D19)/AN43,(AE112+AK35*D19)/AO43)*AP43","v":{"$error":"#VALUE!"}},{"$f":"MIN((AF108+AK35*D19)/AK43,(AF109+AK35*D19)/AL43,(AF110+AK35*D19)/AM43,(AF111+AK35*D19)/AN43,(AF112+AK35*D19)/AO43)*AP43","v":{"$error":"#VALUE!"}},{"$error":"#VALUE!"},null,null,{"$f":"IF(E26=C31,F50,IF(E26=C32,I50,IF(E26=C33,L50,erreur)))","v":0.72660000000000002},null,{"$f":"IF(E26=C31,G50,IF(E26=C32,J50,IF(E26=C33,M50,erreur)))","v":1.0899000000000001},null,1.8165,null,null,7,{"$f":"MIN((CP2*CS11+CK11)/AT48,(CP2*CS11+CL11)/AU48,(CP2*CS11+CM11)/AV48,(CP2*CS11+CN11)/AW48,(CP2*CS11+CO11)/AX48)*AY48","v":{"$error":"#VALUE!"}},{"$f":"MIN((CP2*CS11+CK11)/BB48,(CP2*CS11+CL11)/BC48,(CP2*CS11+CM11)/BD48,(CP2*CS11+CN11)/BE48,(CP2*CS11+CO11)/BF48)*BG48","v":{"$error":"#VALUE!"}},{"$f":"MIN((CP2*CS11+CK11)/BJ48,(CP2*CS11+CL11)/BK48,(CP2*CS11+CM11)/BL48,(CP2*CS11+CN11)/BM48,(CP2*CS11+CO11)/BN48)*BO48","v":{"$error":"#VALUE!"}},{"$f":"MIN((CP2*CS11+CK11)/BR48,(CP2*CS11+CL11)/BS48,(CP2*CS11+CM11)/BT48,(CP2*CS11+CN11)/BU48,(CP2*CS11+CO11)/BV48)*BW48","v":{"$error":"#VALUE!"}},null,6,{"$error":"#VALUE!"},{"$error":"#VALUE!"},{"$error":"#VALUE!"},{"$error":"#VALUE!"},{"$error":"#VALUE!"},{"$error":"#VALUE!"},{"$error":"#VALUE!"},{"$error":"#VALUE!"},{"$error":"#VALUE!"},{"$error":"#VALUE!"},{"$error":"#VALUE!"},{"$error":"#VALUE!"},{"$error":"#VALUE!"},{"$error":"#VALUE!"},{"$error":"#VALUE!"},{"$error":"#VALUE!"},{"$error":"#VALUE!"},{"$error":"#VALUE!"},{"$error":"#VALUE!"},{"$error":"#VALUE!"},{"$error":"#VALUE!"},{"$error":"#VALUE!"},{"$error":"#VALUE!"},{"$error":"#VALUE!"},{"$error":"#VALUE!"},{"$error":"#VALUE!"},{"$error":"#VALUE!"},{"$error":"#VALUE!"},{"$error":"#VALUE!"},{"$error":"#VALUE!"},{"$error":"#VALUE!"},{"$error":"#VALUE!"},{"$error":"#VALUE!"},{"$error":"#VALUE!"},{"$error":"#VALUE!"},{"$error":"#VALUE!"}]
[null,null,null,null,0.27245000000000003,1.0899000000000001,1.3623500000000002,0.68115000000000003,0.68115000000000003,1.3623000000000001,0.68115000000000003,1.58945,2.2706,0.40870000000000001,0.95365,1.3623499999999999,null,null,null,null,null,null,null,null,null,null,null,null,null,null,null,null,null,null,null,"",{"$f":"MIN((S115+AJ35*D19)/AK42,(S116+AJ35*D19)/AL42,(S117+AJ35*D19)/AM42,(S118+AJ35*D19)/AN42,(S119+AJ35*D19)/AO42)*AP42","v":{"$error":"#VALUE!"}},{"$f":"MIN((T115+AJ35*D19)/AK42,(T116+AJ35*D19)/AL42,(T117+AJ35*D19)/AM42,(T118+AJ35*D19)/AN42,(T119+AJ35*D19)/AO42)*AP42","v":{"$error":"#VALUE!"}},{"$f":"MIN((U115+AJ35*D19)/AK42,(U116+AJ35*D19)/AL42,(U117+AJ35*D19)/AM42,(U118+AJ35*D19)/AN42,(U119+AJ35*D19)/AO42)*AP42","v":{"$error":"#VALUE!"}},{"$f":"MIN((V115+AJ35*D19)/AK42,(V116+AJ35*D19)/AL42,(V117+AJ35*D19)/AM42,(V118+AJ35*D19)/AN42,(V119+AJ35*D19)/AO42)*AP42","v":{"$error":"#VALUE!"}},{"$f":"MIN((W115+AJ35*D19)/AK42,(W116+AJ35*D19)/AL42,(W117+AJ35*D19)/AM42,(W118+AJ35*D19)/AN42,(W119+AJ35*D19)/AO42)*AP42","v":{"$error":"#VALUE!"}},{"$f":"MIN((X115+AJ35*D19)/AK42,(X116+AJ35*D19)/AL42,(X117+AJ35*D19)/AM42,(X118+AJ35*D19)/AN42,(X119+AJ35*D19)/AO42)*AP42","v":{"$error":"#VALUE!"}},{"$f":"MIN((Y115+AJ35*D19)/AK42,(Y116+AJ35*D19)/AL42,(Y117+AJ35*D19)/AM42,(Y118+AJ35*D19)/AN42,(Y119+AJ35*D19)/AO42)*AP42","v":{"$error":"#VALUE!"}},{"$f":"MIN((Z115+AJ35*D19)/AK42,(Z116+AJ35*D19)/AL42,(Z117+AJ35*D19)/AM42,(Z118+AJ35*D19)/AN42,(Z119+AJ35*D19)/AO42)*AP42","v":{"$error":"#VALUE!"}},{"$f":"MIN((AA115+AJ35*D19)/AK42,(AA116+AJ35*D19)/AL42,(AA117+AJ35*D19)/AM42,(AA118+AJ35*D19)/AN42,(AA119+AJ35*D19)/AO42)*AP42","v":{"$error":"#VALUE!"}},{"$f":"MIN((AB115+AJ35*D19)/AK42,(AB116+AJ35*D19)/AL42,(AB117+AJ35*D19)/AM42,(AB118+AJ35*D19)/AN42,(AB119+AJ35*D19)/AO42)*AP42","v":{"$error":"#VALUE!"}},{"$f":"MIN((AC115+AJ35*D19)/AK42,(AC116+AJ35*D19)/AL42,(AC117+AJ35*D19)/AM42,(AC118+AJ35*D19)/AN42,(AC119+AJ35*D19)/AO42)*AP42","v":{"$error":"#VALUE!"}},{"$f":"MIN((AD115+AJ35*D19)/AK42,(AD116+AJ35*D19)/AL42,(AD117+AJ35*D19)/AM42,(AD118+AJ35*D19)/AN42,(AD119+AJ35*D19)/AO42)*AP42","v":{"$error":"#VALUE!"}},{"$f":"MIN((AE115+AJ35*D19)/AK42,(AE116+AJ35*D19)/AL42,(AE117+AJ35*D19)/AM42,(AE118+AJ35*D19)/AN42,(AE119+AJ35*D19)/AO42)*AP42","v":{"$error":"#VALUE!"}},{"$f":"MIN((AF115+AJ35*D19)/AK42,(AF116+AJ35*D19)/AL42,(AF117+AJ35*D19)/AM42,(AF118+AJ35*D19)/AN42,(AF119+AJ35*D19)/AO42)*AP42","v":{"$error":"#VALUE!"}},{"$error":"#VALUE!"},null,"",{"$f":"MIN((S115+AK35*D19)/AK43,(S116+AK35*D19)/AL43,(S117+AK35*D19)/AM43,(S118+AK35*D19)/AN43,(S119+AK35*D19)/AO43)*AP43","v":{"$error":"#VALUE!"}},{"$f":"MIN((T115+AK35*D19)/AK43,(T116+AK35*D19)/AL43,(T117+AK35*D19)/AM43,(T118+AK35*D19)/AN43,(T119+AK35*D19)/AO43)*AP43","v":{"$error":"#VALUE!"}},{"$f":"MIN((U115+AK35*D19)/AK43,(U116+AK35*D19)/AL43,(U117+AK35*D19)/AM43,(U118+AK35*D19)/AN43,(U119+AK35*D19)/AO43)*AP43","v":{"$error":"#VALUE!"}},{"$f":"MIN((V115+AK35*D19)/AK43,(V116+AK35*D19)/AL43,(V117+AK35*D19)/AM43,(V118+AK35*D19)/AN43,(V119+AK35*D19)/AO43)*AP43","v":{"$error":"#VALUE!"}},{"$f":"MIN((W115+AK35*D19)/AK43,(W116+AK35*D19)/AL43,(W117+AK35*D19)/AM43,(W118+AK35*D19)/AN43,(W119+AK35*D19)/AO43)*AP43","v":{"$error":"#VALUE!"}},{"$f":"MIN((X115+AK35*D19)/AK43,(X116+AK35*D19)/AL43,(X117+AK35*D19)/AM43,(X118+AK35*D19)/AN43,(X119+AK35*D19)/AO43)*AP43","v":{"$error":"#VALUE!"}},{"$f":"MIN((Y115+AK35*D19)/AK43,(Y116+AK35*D19)/AL43,(Y117+AK35*D19)/AM43,(Y118+AK35*D19)/AN43,(Y119+AK35*D19)/AO43)*AP43","v":{"$error":"#VALUE!"}},{"$f":"MIN((Z115+AK35*D19)/AK43,(Z116+AK35*D19)/AL43,(Z117+AK35*D19)/AM43,(Z118+AK35*D19)/AN43,(Z119+AK35*D19)/AO43)*AP43","v":{"$error":"#VALUE!"}},{"$f":"MIN((AA115+AK35*D19)/AK43,(AA116+AK35*D19)/AL43,(AA117+AK35*D19)/AM43,(AA118+AK35*D19)/AN43,(AA119+AK35*D19)/AO43)*AP43","v":{"$error":"#VALUE!"}},{"$f":"MIN((AB115+AK35*D19)/AK43,(AB116+AK35*D19)/AL43,(AB117+AK35*D19)/AM43,(AB118+AK35*D19)/AN43,(AB119+AK35*D19)/AO43)*AP43","v":{"$error":"#VALUE!"}},{"$f":"MIN((AC115+AK35*D19)/AK43,(AC116+AK35*D19)/AL43,(AC117+AK35*D19)/AM43,(AC118+AK35*D19)/AN43,(AC119+AK35*D19)/AO43)*AP43","v":{"$error":"#VALUE!"}},{"$f":"MIN((AD115+AK35*D19)/AK43,(AD116+AK35*D19)/AL43,(AD117+AK35*D19)/AM43,(AD118+AK35*D19)/AN43,(AD119+AK35*D19)/AO43)*AP43","v":{"$error":"#VALUE!"}},{"$f":"MIN((AE115+AK35*D19)/AK43,(AE116+AK35*D19)/AL43,(AE117+AK35*D19)/AM43,(AE118+AK35*D19)/AN43,(AE119+AK35*D19)/AO43)*AP43","v":{"$error":"#VALUE!"}},{"$f":"MIN((AF115+AK35*D19)/AK43,(AF116+AK35*D19)/AL43,(AF117+AK35*D19)/AM43,(AF118+AK35*D19)/AN43,(AF119+AK35*D19)/AO43)*AP43","v":{"$error":"#VALUE!"}},{"$error":"#VALUE!"},null,null,{"$f":"IF(E26=C31,F51,IF(E26=C32,I51,IF(E26=C33,L51,erreur)))","v":1.0899000000000001},null,{"$f":"IF(E26=C31,G51,IF(E26=C32,J51,IF(E26=C33,M51,erreur)))","v":1.6348499999999999},null,2.7247500000000002,null,null,8,{"$f":"MIN((CP2*CS12+CK12)/AT49,(CP2*CS12+CL12)/AU49,(CP2*CS12+CM12)/AV49,(CP2*CS12+CN12)/AW49,(CP2*CS12+CO12)/AX49)*AY49","v":{"$error":"#VALUE!"}},{"$f":"MIN((CP2*CS12+CK12)/BB49,(CP2*CS12+CL12)/BC49,(CP2*CS12+CM12)/BD49,(CP2*CS12+CN12)/BE49,(CP2*CS12+CO12)/BF49)*BG49","v":{"$error":"#VALUE!"}},{"$f":"MIN((CP2*CS12+CK12)/BJ49,(CP2*CS12+CL12)/BK49,(CP2*CS12+CM12)/BL49,(CP2*CS12+CN12)/BM49,(CP2*CS12+CO12)/BN49)*BO49","v":{"$error":"#VALUE!"}},{"$f":"MIN((CP2*CS12+CK12)/BR49,(CP2*CS12+CL12)/BS49,(CP2*CS12+CM12)/BT49,(CP2*CS12+CN12)/BU49,(CP2*CS12+CO12)/BV49)*BW49","v":{"$error":"#VALUE!"}},null,7,{"$error":"#VALUE!"},{"$error":"#VALUE!"},{"$error":"#VALUE!"},{"$error":"#VALUE!"},{"$error":"#VALUE!"},{"$error":"#VALUE!"},{"$error":"#VALUE!"},{"$error":"#VALUE!"},{"$error":"#VALUE!"},{"$error":"#VALUE!"},{"$error":"#VALUE!"},{"$error":"#VALUE!"},{"$error":"#VALUE!"},{"$error":"#VALUE!"},{"$error":"#VALUE!"},{"$error":"#VALUE!"},{"$error":"#VALUE!"},{"$error":"#VALUE!"},{"$error":"#VALUE!"},{"$error":"#VALUE!"},{"$error":"#VALUE!"},{"$error":"#VALUE!"},{"$error":"#VALUE!"},{"$error":"#VALUE!"},{"$error":"#VALUE!"},{"$error":"#VALUE!"},{"$error":"#VALUE!"},{"$error":"#VALUE!"},{"$error":"#VALUE!"},{"$error":"#VALUE!"},{"$error":"#VALUE!"},{"$error":"#VALUE!"},{"$error":"#VALUE!"},{"$error":"#VALUE!"},{"$error":"#VALUE!"},{"$error":"#VALUE!"}]
[null,null,null,null,0.18165000000000001,1.6348499999999999,1.8165,0.18165000000000001,0.72660000000000002,0.90825,0.27245000000000003,0.63575000000000004,0.90820000000000012,0.36330000000000001,1.4532,1.8165,null,{"$f":"G12","v":""},{"$f":"S58","v":"kit 1"},{"$f":"T58","v":"kit 2/3"},0,"kit 4",0,"kit 5","kit 6/7",0,0,"kit 8","kit 9",0,{"$f":"AE58","v":"kit 10"},{"$f":"AF58","v":"kit 11"},null,null,null,"",{"$f":"MIN((S122+AJ35*D19)/AK42,(S123+AJ35*D19)/AL42,(S124+AJ35*D19)/AM42,(S125+AJ35*D19)/AN42,(S126+AJ35*D19)/AO42)*AP42","v":{"$error":"#VALUE!"}},{"$f":"MIN((T122+AJ35*D19)/AK42,(T123+AJ35*D19)/AL42,(T124+AJ35*D19)/AM42,(T125+AJ35*D19)/AN42,(T126+AJ35*D19)/AO42)*AP42","v":{"$error":"#VALUE!"}},{"$f":"MIN((U122+AJ35*D19)/AK42,(U123+AJ35*D19)/AL42,(U124+AJ35*D19)/AM42,(U125+AJ35*D19)/AN42,(U126+AJ35*D19)/AO42)*AP42","v":{"$error":"#VALUE!"}},{"$f":"MIN((V122+AJ35*D19)/AK42,(V123+AJ35*D19)/AL42,(V124+AJ35*D19)/AM42,(V125+AJ35*D19)/AN42,(V126+AJ35*D19)/AO42)*AP42","v":{"$error":"#VALUE!"}},{"$f":"MIN((W122+AJ35*D19)/AK42,(W123+AJ35*D19)/AL42,(W124+AJ35*D19)/AM42,(W125+AJ35*D19)/AN42,(W126+AJ35*D19)/AO42)*AP42","v":{"$error":"#VALUE!"}},{"$f":"MIN((X122+AJ35*D19)/AK42,(X123+AJ35*D19)/AL42,(X124+AJ35*D19)/AM42,(X125+AJ35*D19)/AN42,(X126+AJ35*D19)/AO42)*AP42","v":{"$error":"#VALUE!"}},{"$f":"MIN((Y122+AJ35*D19)/AK42,(Y123+AJ35*D19)/AL42,(Y124+AJ35*D19)/AM42,(Y125+AJ35*D19)/AN42,(Y126+AJ35*D19)/AO42)*AP42","v":{"$error":"#VALUE!"}},{"$f":"MIN((Z122+AJ35*D19)/AK42,(Z123+AJ35*D19)/AL42,(Z124+AJ35*D19)/AM42,(Z125+AJ35*D19)/AN42,(Z126+AJ35*D19)/AO42)*AP42","v":{"$error":"#VALUE!"}},{"$f":"MIN((AA122+AJ35*D19)/AK42,(AA123+AJ35*D19)/AL42,(AA124+AJ35*D19)/AM42,(AA125+AJ35*D19)/AN42,(AA126+AJ35*D19)/AO42)*AP42","v":{"$error":"#VALUE!"}},{"$f":"MIN((AB122+AJ35*D19)/AK42,(AB123+AJ35*D19)/AL42,(AB124+AJ35*D19)/AM42,(AB125+AJ35*D19)/AN42,(AB126+AJ35*D19)/AO42)*AP42","v":{"$error":"#VALUE!"}},{"$f":"MIN((AC122+AJ35*D19)/AK42,(AC123+AJ35*D19)/AL42,(AC124+AJ35*D19)/AM42,(AC125+AJ35*D19)/AN42,(AC126+AJ35*D19)/AO42)*AP42","v":{"$error":"#VALUE!"}},{"$f":"MIN((AD122+AJ35*D19)/AK42,(AD123+AJ35*D19)/AL42,(AD124+AJ35*D19)/AM42,(AD125+AJ35*D19)/AN42,(AD126+AJ35*D19)/AO42)*AP42","v":{"$error":"#VALUE!"}},{"$f":"MIN((AE122+AJ35*D19)/AK42,(AE123+AJ35*D19)/AL42,(AE124+AJ35*D19)/AM42,(AE125+AJ35*D19)/AN42,(AE126+AJ35*D19)/AO42)*AP42","v":{"$error":"#VALUE!"}},{"$f":"MIN((AF122+AJ35*D19)/AK42,(AF123+AJ35*D19)/AL42,(AF124+AJ35*D19)/AM42,(AF125+AJ35*D19)/AN42,(AF126+AJ35*D19)/AO42)*AP42","v":{"$error":"#VALUE!"}},{"$error":"#VALUE!"},null,"",{"$f":"MIN((S122+AK35*D19)/AK43,(S123+AK35*D19)/AL43,(S124+AK35*D19)/AM43,(S125+AK35*D19)/AN43,(S126+AK35*D19)/AO43)*AP43","v":{"$error":"#VALUE!"}},{"$f":"MIN((T122+AK35*D19)/AK43,(T123+AK35*D19)/AL43,(T124+AK35*D19)/AM43,(T125+AK35*D19)/AN43,(T126+AK35*D19)/AO43)*AP43","v":{"$error":"#VALUE!"}},{"$f":"MIN((U122+AK35*D19)/AK43,(U123+AK35*D19)/AL43,(U124+AK35*D19)/AM43,(U125+AK35*D19)/AN43,(U126+AK35*D19)/AO43)*AP43","v":{"$error":"#VALUE!"}},{"$f":"MIN((V122+AK35*D19)/AK43,(V123+AK35*D19)/AL43,(V124+AK35*D19)/AM43,(V125+AK35*D19)/AN43,(V126+AK35*D19)/AO43)*AP43","v":{"$error":"#VALUE!"}},{"$f":"MIN((W122+AK35*D19)/AK43,(W123+AK35*D19)/AL43,(W124+AK35*D19)/AM43,(W125+AK35*D19)/AN43,(W126+AK35*D19)/AO43)*AP43","v":{"$error":"#VALUE!"}},{"$f":"MIN((X122+AK35*D19)/AK43,(X123+AK35*D19)/AL43,(X124+AK35*D19)/AM43,(X125+AK35*D19)/AN43,(X126+AK35*D19)/AO43)*AP43","v":{"$error":"#VALUE!"}},{"$f":"MIN((Y122+AK35*D19)/AK43,(Y123+AK35*D19)/AL43,(Y124+AK35*D19)/AM43,(Y125+AK35*D19)/AN43,(Y126+AK35*D19)/AO43)*AP43","v":{"$error":"#VALUE!"}},{"$f":"MIN((Z122+AK35*D19)/AK43,(Z123+AK35*D19)/AL43,(Z124+AK35*D19)/AM43,(Z125+AK35*D19)/AN43,(Z126+AK35*D19)/AO43)*AP43","v":{"$error":"#VALUE!"}},{"$f":"MIN((AA122+AK35*D19)/AK43,(AA123+AK35*D19)/AL43,(AA124+AK35*D19)/AM43,(AA125+AK35*D19)/AN43,(AA126+AK35*D19)/AO43)*AP43","v":{"$error":"#VALUE!"}},{"$f":"MIN((AB122+AK35*D19)/AK43,(AB123+AK35*D19)/AL43,(AB124+AK35*D19)/AM43,(AB125+AK35*D19)/AN43,(AB126+AK35*D19)/AO43)*AP43","v":{"$error":"#VALUE!"}},{"$f":"MIN((AC122+AK35*D19)/AK43,(AC123+AK35*D19)/AL43,(AC124+AK35*D19)/AM43,(AC125+AK35*D19)/AN43,(AC126+AK35*D19)/AO43)*AP43","v":{"$error":"#VALUE!"}},{"$f":"MIN((AD122+AK35*D19)/AK43,(AD123+AK35*D19)/AL43,(AD124+AK35*D19)/AM43,(AD125+AK35*D19)/AN43,(AD126+AK35*D19)/AO43)*AP43","v":{"$error":"#VALUE!"}},{"$f":"MIN((AE122+AK35*D19)/AK43,(AE123+AK35*D19)/AL43,(AE124+AK35*D19)/AM43,(AE125+AK35*D19)/AN43,(AE126+AK35*D19)/AO43)*AP43","v":{"$error":"#VALUE!"}},{"$f":"MIN((AF122+AK35*D19)/AK43,(AF123+AK35*D19)/AL43,(AF124+AK35*D19)/AM43,(AF125+AK35*D19)/AN43,(AF126+AK35*D19)/AO43)*AP43","v":{"$error":"#VALUE!"}},{"$error":"#VALUE!"},null,null,{"$f":"IF(E26=C31,F52,IF(E26=C32,I52,IF(E26=C33,L52,erreur)))","v":0.68115000000000003},null,{"$f":"IF(E26=C31,G52,IF(E26=C32,J52,IF(E26=C33,M52,erreur)))","v":0.68115000000000003},null,1.3623000000000001,null,null,9,{"$f":"MIN((CP2*CS13+CK13)/AT50,(CP2*CS13+CL13)/AU50,(CP2*CS13+CM13)/AV50,(CP2*CS13+CN13)/AW50,(CP2*CS13+CO13)/AX50)*AY50","v":{"$error":"#VALUE!"}},{"$f":"MIN((CP2*CS13+CK13)/BB50,(CP2*CS13+CL13)/BC50,(CP2*CS13+CM13)/BD50,(CP2*CS13+CN13)/BE50,(CP2*CS13+CO13)/BF50)*BG50","v":{"$error":"#VALUE!"}},{"$f":"MIN((CP2*CS13+CK13)/BJ50,(CP2*CS13+CL13)/BK50,(CP2*CS13+CM13)/BL50,(CP2*CS13+CN13)/BM50,(CP2*CS13+CO13)/BN50)*BO50","v":{"$error":"#VALUE!"}},{"$f":"MIN((CP2*CS13+CK13)/BR50,(CP2*CS13+CL13)/BS50,(CP2*CS13+CM13)/BT50,(CP2*CS13+CN13)/BU50,(CP2*CS13+CO13)/BV50)*BW50","v":{"$error":"#VALUE!"}},null,8,{"$error":"#VALUE!"},{"$error":"#VALUE!"},{"$error":"#VALUE!"},{"$error":"#VALUE!"},{"$error":"#VALUE!"},{"$error":"#VALUE!"},{"$error":"#VALUE!"},{"$error":"#VALUE!"},{"$error":"#VALUE!"},{"$error":"#VALUE!"},{"$error":"#VALUE!"},{"$error":"#VALUE!"},{"$error":"#VALUE!"},{"$error":"#VALUE!"},{"$error":"#VALUE!"},{"$error":"#VALUE!"},{"$error":"#VALUE!"},{"$error":"#VALUE!"},{"$error":"#VALUE!"},{"$error":"#VALUE!"},{"$error":"#VALUE!"},{"$error":"#VALUE!"},{"$error":"#VALUE!"},{"$error":"#VALUE!"},{"$error":"#VALUE!"},{"$error":"#VALUE!"},{"$error":"#VALUE!"},{"$error":"#VALUE!"},{"$error":"#VALUE!"},{"$error":"#VALUE!"},{"$error":"#VALUE!"},{"$error":"#VALUE!"},{"$error":"#VALUE!"},{"$error":"#VALUE!"},{"$error":"#VALUE!"},{"$error":"#VALUE!"}]
[null,null,null,null,0.18165000000000001,1.6348499999999999,1.8165,0.40870000000000001,0.95365,1.3623499999999999,0.27245000000000003,0.63575000000000004,0.90820000000000012,0.72660000000000002,1.0899000000000001,1.8165,null,{"$f":"IF($AX$306,H12+VLOOKUP(Team!$X18,Team!$E$30:$J$300,6,FALSE),H12+AH39+$D$21)+$D$19*$AG$9","v":{"$error":"#VALUE!"}},{"$f":"IF($AX$306,$R66,$R66+Q10)","v":{"$error":"#VALUE!"}},{"$f":"IF($AX$306,$R66,$R66+R10)","v":{"$error":"#VALUE!"}},{"$f":"IF($AX$306,$R66,$R66+S10)","v":{"$error":"#VALUE!"}},{"$error":"#VALUE!"},{"$error":"#VALUE!"},{"$error":"#VALUE!"},{"$error":"#VALUE!"},{"$error":"#VALUE!"},{"$error":"#VALUE!"},{"$error":"#VALUE!"},{"$error":"#VALUE!"},{"$error":"#VALUE!"},{"$error":"#VALUE!"},{"$error":"#VALUE!"},null,null,null,"",{"$f":"MIN((S129+AJ35*D19)/AK42,(S130+AJ35*D19)/AL42,(S131+AJ35*D19)/AM42,(S132+AJ35*D19)/AN42,(S133+AJ35*D19)/AO42)*AP42","v":{"$error":"#VALUE!"}},{"$f":"MIN((T129+AJ35*D19)/AK42,(T130+AJ35*D19)/AL42,(T131+AJ35*D19)/AM42,(T132+AJ35*D19)/AN42,(T133+AJ35*D19)/AO42)*AP42","v":{"$error":"#VALUE!"}},{"$f":"MIN((U129+AJ35*D19)/AK42,(U130+AJ35*D19)/AL42,(U131+AJ35*D19)/AM42,(U132+AJ35*D19)/AN42,(U133+AJ35*D19)/AO42)*AP42","v":{"$error":"#VALUE!"}},{"$f":"MIN((V129+AJ35*D19)/AK42,(V130+AJ35*D19)/AL42,(V131+AJ35*D19)/AM42,(V132+AJ35*D19)/AN42,(V133+AJ35*D19)/AO42)*AP42","v":{"$error":"#VALUE!"}},{"$f":"MIN((W129+AJ35*D19)/AK42,(W130+AJ35*D19)/AL42,(W131+AJ35*D19)/AM42,(W132+AJ35*D19)/AN42,(W133+AJ35*D19)/AO42)*AP42","v":{"$error":"#VALUE!"}},{"$f":"MIN((X129+AJ35*D19)/AK42,(X130+AJ35*D19)/AL42,(X131+AJ35*D19)/AM42,(X132+AJ35*D19)/AN42,(X133+AJ35*D19)/AO42)*AP42","v":{"$error":"#VALUE!"}},{"$f":"MIN((Y129+AJ35*D19)/AK42,(Y130+AJ35*D19)/AL42,(Y131+AJ35*D19)/AM42,(Y132+AJ35*D19)/AN42,(Y133+AJ35*D19)/AO42)*AP42","v":{"$error":"#VALUE!"}},{"$f":"MIN((Z129+AJ35*D19)/AK42,(Z130+AJ35*D19)/AL42,(Z131+AJ35*D19)/AM42,(Z132+AJ35*D19)/AN42,(Z133+AJ35*D19)/AO42)*AP42","v":{"$error":"#VALUE!"}},{"$f":"MIN((AA129+AJ35*D19)/AK42,(AA130+AJ35*D19)/AL42,(AA131+AJ35*D19)/AM42,(AA132+AJ35*D19)/AN42,(AA133+AJ35*D19)/AO42)*AP42","v":{"$error":"#VALUE!"}},{"$f":"MIN((AB129+AJ35*D19)/AK42,(AB130+AJ35*D19)/AL42,(AB131+AJ35*D19)/AM42,(AB132+AJ35*D19)/AN42,(AB133+AJ35*D19)/AO42)*AP42","v":{"$error":"#VALUE!"}},{"$f":"MIN((AC129+AJ35*D19)/AK42,(AC130+AJ35*D19)/AL42,(AC131+AJ35*D19)/AM42,(AC132+AJ35*D19)/AN42,(AC133+AJ35*D19)/AO42)*AP42","v":{"$error":"#VALUE!"}},{"$f":"MIN((AD129+AJ35*D19)/AK42,(AD130+AJ35*D19)/AL42,(AD131+AJ35*D19)/AM42,(AD132+AJ35*D19)/AN42,(AD133+AJ35*D19)/AO42)*AP42","v":{"$error":"#VALUE!"}},{"$f":"MIN((AE129+AJ35*D19)/AK42,(AE130+AJ35*D19)/AL42,(AE131+AJ35*D19)/AM42,(AE132+AJ35*D19)/AN42,(AE133+AJ35*D19)/AO42)*AP42","v":{"$error":"#VALUE!"}},{"$f":"MIN((AF129+AJ35*D19)/AK42,(AF130+AJ35*D19)/AL42,(AF131+AJ35*D19)/AM42,(AF132+AJ35*D19)/AN42,(AF133+AJ35*D19)/AO42)*AP42","v":{"$error":"#VALUE!"}},{"$error":"#VALUE!"},null,"",{"$f":"MIN((S129+AK35*D19)/AK43,(S130+AK35*D19)/AL43,(S131+AK35*D19)/AM43,(S132+AK35*D19)/AN43,(S133+AK35*D19)/AO43)*AP43","v":{"$error":"#VALUE!"}},{"$f":"MIN((T129+AK35*D19)/AK43,(T130+AK35*D19)/AL43,(T131+AK35*D19)/AM43,(T132+AK35*D19)/AN43,(T133+AK35*D19)/AO43)*AP43","v":{"$error":"#VALUE!"}},{"$f":"MIN((U129+AK35*D19)/AK43,(U130+AK35*D19)/AL43,(U131+AK35*D19)/AM43,(U132+AK35*D19)/AN43,(U133+AK35*D19)/AO43)*AP43","v":{"$error":"#VALUE!"}},{"$f":"MIN((V129+AK35*D19)/AK43,(V130+AK35*D19)/AL43,(V131+AK35*D19)/AM43,(V132+AK35*D19)/AN43,(V133+AK35*D19)/AO43)*AP43","v":{"$error":"#VALUE!"}},{"$f":"MIN((W129+AK35*D19)/AK43,(W130+AK35*D19)/AL43,(W131+AK35*D19)/AM43,(W132+AK35*D19)/AN43,(W133+AK35*D19)/AO43)*AP43","v":{"$error":"#VALUE!"}},{"$f":"MIN((X129+AK35*D19)/AK43,(X130+AK35*D19)/AL43,(X131+AK35*D19)/AM43,(X132+AK35*D19)/AN43,(X133+AK35*D19)/AO43)*AP43","v":{"$error":"#VALUE!"}},{"$f":"MIN((Y129+AK35*D19)/AK43,(Y130+AK35*D19)/AL43,(Y131+AK35*D19)/AM43,(Y132+AK35*D19)/AN43,(Y133+AK35*D19)/AO43)*AP43","v":{"$error":"#VALUE!"}},{"$f":"MIN((Z129+AK35*D19)/AK43,(Z130+AK35*D19)/AL43,(Z131+AK35*D19)/AM43,(Z132+AK35*D19)/AN43,(Z133+AK35*D19)/AO43)*AP43","v":{"$error":"#VALUE!"}},{"$f":"MIN((AA129+AK35*D19)/AK43,(AA130+AK35*D19)/AL43,(AA131+AK35*D19)/AM43,(AA132+AK35*D19)/AN43,(AA133+AK35*D19)/AO43)*AP43","v":{"$error":"#VALUE!"}},{"$f":"MIN((AB129+AK35*D19)/AK43,(AB130+AK35*D19)/AL43,(AB131+AK35*D19)/AM43,(AB132+AK35*D19)/AN43,(AB133+AK35*D19)/AO43)*AP43","v":{"$error":"#VALUE!"}},{"$f":"MIN((AC129+AK35*D19)/AK43,(AC130+AK35*D19)/AL43,(AC131+AK35*D19)/AM43,(AC132+AK35*D19)/AN43,(AC133+AK35*D19)/AO43)*AP43","v":{"$error":"#VALUE!"}},{"$f":"MIN((AD129+AK35*D19)/AK43,(AD130+AK35*D19)/AL43,(AD131+AK35*D19)/AM43,(AD132+AK35*D19)/AN43,(AD133+AK35*D19)/AO43)*AP43","v":{"$error":"#VALUE!"}},{"$f":"MIN((AE129+AK35*D19)/AK43,(AE130+AK35*D19)/AL43,(AE131+AK35*D19)/AM43,(AE132+AK35*D19)/AN43,(AE133+AK35*D19)/AO43)*AP43","v":{"$error":"#VALUE!"}},{"$f":"MIN((AF129+AK35*D19)/AK43,(AF130+AK35*D19)/AL43,(AF131+AK35*D19)/AM43,(AF132+AK35*D19)/AN43,(AF133+AK35*D19)/AO43)*AP43","v":{"$error":"#VALUE!"}},{"$error":"#VALUE!"},null,null,{"$f":"IF(E26=C31,F53,IF(E26=C32,I53,IF(E26=C33,L53,erreur)))","v":1.27155},null,{"$f":"IF(E26=C31,G53,IF(E26=C32,J53,IF(E26=C33,M53,erreur)))","v":0.54495000000000005},null,1.8165,null,null,10,{"$f":"MIN((CP2*CS14+CK14)/AT51,(CP2*CS14+CL14)/AU51,(CP2*CS14+CM14)/AV51,(CP2*CS14+CN14)/AW51,(CP2*CS14+CO14)/AX51)*AY51","v":{"$error":"#VALUE!"}},{"$f":"MIN((CP2*CS14+CK14)/BB51,(CP2*CS14+CL14)/BC51,(CP2*CS14+CM14)/BD51,(CP2*CS14+CN14)/BE51,(CP2*CS14+CO14)/BF51)*BG51","v":{"$error":"#VALUE!"}},{"$f":"MIN((CP2*CS14+CK14)/BJ51,(CP2*CS14+CL14)/BK51,(CP2*CS14+CM14)/BL51,(CP2*CS14+CN14)/BM51,(CP2*CS14+CO14)/BN51)*BO51","v":{"$error":"#VALUE!"}},{"$f":"MIN((CP2*CS14+CK14)/BR51,(CP2*CS14+CL14)/BS51,(CP2*CS14+CM14)/BT51,(CP2*CS14+CN14)/BU51,(CP2*CS14+CO14)/BV51)*BW51","v":{"$error":"#VALUE!"}},null,9,{"$error":"#VALUE!"},{"$error":"#VALUE!"},{"$error":"#VALUE!"},{"$error":"#VALUE!"},{"$error":"#VALUE!"},{"$error":"#VALUE!"},{"$error":"#VALUE!"},{"$error":"#VALUE!"},{"$error":"#VALUE!"},{"$error":"#VALUE!"},{"$error":"#VALUE!"},{"$error":"#VALUE!"},{"$error":"#VALUE!"},{"$error":"#VALUE!"},{"$error":"#VALUE!"},{"$error":"#VALUE!"},{"$error":"#VALUE!"},{"$error":"#VALUE!"},{"$error":"#VALUE!"},{"$error":"#VALUE!"},{"$error":"#VALUE!"},{"$error":"#VALUE!"},{"$error":"#VALUE!"},{"$error":"#VALUE!"},{"$error":"#VALUE!"},{"$error":"#VALUE!"},{"$error":"#VALUE!"},{"$error":"#VALUE!"},{"$error":"#VALUE!"},{"$error":"#VALUE!"},{"$error":"#VALUE!"},{"$error":"#VALUE!"},{"$error":"#VALUE!"},{"$error":"#VALUE!"},{"$error":"#VALUE!"},{"$error":"#VALUE!"}]
[null,null,null,null,0.4541,1.8165,2.2706,0.81740000000000002,0.54495000000000005,1.3623500000000002,0.72660000000000002,1.0899000000000001,1.8165,0.72660000000000002,1.0899000000000001,1.8165,null,{"$f":"IF($AX$306,I12+VLOOKUP(Team!$Y18,Team!$E$30:$J$300,6,FALSE),I12+AH40+$D$21)+$D$19*$AG$9","v":{"$error":"#VALUE!"}},{"$f":"IF($AX$306,$R67,$R67+Q11)","v":{"$error":"#VALUE!"}},{"$error":"#VALUE!"},{"$error":"#VALUE!"},{"$error":"#VALUE!"},{"$error":"#VALUE!"},{"$error":"#VALUE!"},{"$error":"#VALUE!"},{"$error":"#VALUE!"},{"$error":"#VALUE!"},{"$error":"#VALUE!"},{"$error":"#VALUE!"},{"$error":"#VALUE!"},{"$error":"#VALUE!"},{"$error":"#VALUE!"},null,null,null,"",{"$f":"MIN((S136+AJ35*D19)/AK42,(S137+AJ35*D19)/AL42,(S138+AJ35*D19)/AM42,(S139+AJ35*D19)/AN42,(S140+AJ35*D19)/AO42)*AP42","v":{"$error":"#VALUE!"}},{"$f":"MIN((T136+AJ35*D19)/AK42,(T137+AJ35*D19)/AL42,(T138+AJ35*D19)/AM42,(T139+AJ35*D19)/AN42,(T140+AJ35*D19)/AO42)*AP42","v":{"$error":"#VALUE!"}},{"$f":"MIN((U136+AJ35*D19)/AK42,(U137+AJ35*D19)/AL42,(U138+AJ35*D19)/AM42,(U139+AJ35*D19)/AN42,(U140+AJ35*D19)/AO42)*AP42","v":{"$error":"#VALUE!"}},{"$f":"MIN((V136+AJ35*D19)/AK42,(V137+AJ35*D19)/AL42,(V138+AJ35*D19)/AM42,(V139+AJ35*D19)/AN42,(V140+AJ35*D19)/AO42)*AP42","v":{"$error":"#VALUE!"}},{"$f":"MIN((W136+AJ35*D19)/AK42,(W137+AJ35*D19)/AL42,(W138+AJ35*D19)/AM42,(W139+AJ35*D19)/AN42,(W140+AJ35*D19)/AO42)*AP42","v":{"$error":"#VALUE!"}},{"$f":"MIN((X136+AJ35*D19)/AK42,(X137+AJ35*D19)/AL42,(X138+AJ35*D19)/AM42,(X139+AJ35*D19)/AN42,(X140+AJ35*D19)/AO42)*AP42","v":{"$error":"#VALUE!"}},{"$f":"MIN((Y136+AJ35*D19)/AK42,(Y137+AJ35*D19)/AL42,(Y138+AJ35*D19)/AM42,(Y139+AJ35*D19)/AN42,(Y140+AJ35*D19)/AO42)*AP42","v":{"$error":"#VALUE!"}},{"$f":"MIN((Z136+AJ35*D19)/AK42,(Z137+AJ35*D19)/AL42,(Z138+AJ35*D19)/AM42,(Z139+AJ35*D19)/AN42,(Z140+AJ35*D19)/AO42)*AP42","v":{"$error":"#VALUE!"}},{"$f":"MIN((AA136+AJ35*D19)/AK42,(AA137+AJ35*D19)/AL42,(AA138+AJ35*D19)/AM42,(AA139+AJ35*D19)/AN42,(AA140+AJ35*D19)/AO42)*AP42","v":{"$error":"#VALUE!"}},{"$f":"MIN((AB136+AJ35*D19)/AK42,(AB137+AJ35*D19)/AL42,(AB138+AJ35*D19)/AM42,(AB139+AJ35*D19)/AN42,(AB140+AJ35*D19)/AO42)*AP42","v":{"$error":"#VALUE!"}},{"$f":"MIN((AC136+AJ35*D19)/AK42,(AC137+AJ35*D19)/AL42,(AC138+AJ35*D19)/AM42,(AC139+AJ35*D19)/AN42,(AC140+AJ35*D19)/AO42)*AP42","v":{"$error":"#VALUE!"}},{"$f":"MIN((AD136+AJ35*D19)/AK42,(AD137+AJ35*D19)/AL42,(AD138+AJ35*D19)/AM42,(AD139+AJ35*D19)/AN42,(AD140+AJ35*D19)/AO42)*AP42","v":{"$error":"#VALUE!"}},{"$f":"MIN((AE136+AJ35*D19)/AK42,(AE137+AJ35*D19)/AL42,(AE138+AJ35*D19)/AM42,(AE139+AJ35*D19)/AN42,(AE140+AJ35*D19)/AO42)*AP42","v":{"$error":"#VALUE!"}},{"$f":"MIN((AF136+AJ35*D19)/AK42,(AF137+AJ35*D19)/AL42,(AF138+AJ35*D19)/AM42,(AF139+AJ35*D19)/AN42,(AF140+AJ35*D19)/AO42)*AP42","v":{"$error":"#VALUE!"}},{"$error":"#VALUE!"},null,"",{"$f":"MIN((S136+AK35*D19)/AK43,(S137+AK35*D19)/AL43,(S138+AK35*D19)/AM43,(S139+AK35*D19)/AN43,(S140+AK35*D19)/AO43)*AP43","v":{"$error":"#VALUE!"}},{"$f":"MIN((T136+AK35*D19)/AK43,(T137+AK35*D19)/AL43,(T138+AK35*D19)/AM43,(T139+AK35*D19)/AN43,(T140+AK35*D19)/AO43)*AP43","v":{"$error":"#VALUE!"}},{"$f":"MIN((U136+AK35*D19)/AK43,(U137+AK35*D19)/AL43,(U138+AK35*D19)/AM43,(U139+AK35*D19)/AN43,(U140+AK35*D19)/AO43)*AP43","v":{"$error":"#VALUE!"}},{"$f":"MIN((V136+AK35*D19)/AK43,(V137+AK35*D19)/AL43,(V138+AK35*D19)/AM43,(V139+AK35*D19)/AN43,(V140+AK35*D19)/AO43)*AP43","v":{"$error":"#VALUE!"}},{"$f":"MIN((W136+AK35*D19)/AK43,(W137+AK35*D19)/AL43,(W138+AK35*D19)/AM43,(W139+AK35*D19)/AN43,(W140+AK35*D19)/AO43)*AP43","v":{"$error":"#VALUE!"}},{"$f":"MIN((X136+AK35*D19)/AK43,(X137+AK35*D19)/AL43,(X138+AK35*D19)/AM43,(X139+AK35*D19)/AN43,(X140+AK35*D19)/AO43)*AP43","v":{"$error":"#VALUE!"}},{"$f":"MIN((Y136+AK35*D19)/AK43,(Y137+AK35*D19)/AL43,(Y138+AK35*D19)/AM43,(Y139+AK35*D19)/AN43,(Y140+AK35*D19)/AO43)*AP43","v":{"$error":"#VALUE!"}},{"$f":"MIN((Z136+AK35*D19)/AK43,(Z137+AK35*D19)/AL43,(Z138+AK35*D19)/AM43,(Z139+AK35*D19)/AN43,(Z140+AK35*D19)/AO43)*AP43","v":{"$error":"#VALUE!"}},{"$f":"MIN((AA136+AK35*D19)/AK43,(AA137+AK35*D19)/AL43,(AA138+AK35*D19)/AM43,(AA139+AK35*D19)/AN43,(AA140+AK35*D19)/AO43)*AP43","v":{"$error":"#VALUE!"}},{"$f":"MIN((AB136+AK35*D19)/AK43,(AB137+AK35*D19)/AL43,(AB138+AK35*D19)/AM43,(AB139+AK35*D19)/AN43,(AB140+AK35*D19)/AO43)*AP43","v":{"$error":"#VALUE!"}},{"$f":"MIN((AC136+AK35*D19)/AK43,(AC137+AK35*D19)/AL43,(AC138+AK35*D19)/AM43,(AC139+AK35*D19)/AN43,(AC140+AK35*D19)/AO43)*AP43","v":{"$error":"#VALUE!"}},{"$f":"MIN((AD136+AK35*D19)/AK43,(AD137+AK35*D19)/AL43,(AD138+AK35*D19)/AM43,(AD139+AK35*D19)/AN43,(AD140+AK35*D19)/AO43)*AP43","v":{"$error":"#VALUE!"}},{"$f":"MIN((AE136+AK35*D19)/AK43,(AE137+AK35*D19)/AL43,(AE138+AK35*D19)/AM43,(AE139+AK35*D19)/AN43,(AE140+AK35*D19)/AO43)*AP43","v":{"$error":"#VALUE!"}},{"$f":"MIN((AF136+AK35*D19)/AK43,(AF137+AK35*D19)/AL43,(AF138+AK35*D19)/AM43,(AF139+AK35*D19)/AN43,(AF140+AK35*D19)/AO43)*AP43","v":{"$error":"#VALUE!"}},{"$error":"#VALUE!"},null,null,{"$f":"IF(E26=C31,F54,IF(E26=C32,I54,IF(E26=C33,L54,erreur)))","v":0.95365},null,{"$f":"IF(E26=C31,G54,IF(E26=C32,J54,IF(E26=C33,M54,erreur)))","v":0.40870000000000001},null,1.3623499999999999,null,null,11,{"$f":"MIN((CP2*CS15+CK15)/AT52,(CP2*CS15+CL15)/AU52,(CP2*CS15+CM15)/AV52,(CP2*CS15+CN15)/AW52,(CP2*CS15+CO15)/AX52)*AY52","v":{"$error":"#VALUE!"}},{"$f":"MIN((CP2*CS15+CK15)/BB52,(CP2*CS15+CL15)/BC52,(CP2*CS15+CM15)/BD52,(CP2*CS15+CN15)/BE52,(CP2*CS15+CO15)/BF52)*BG52","v":{"$error":"#VALUE!"}},{"$f":"MIN((CP2*CS15+CK15)/BJ52,(CP2*CS15+CL15)/BK52,(CP2*CS15+CM15)/BL52,(CP2*CS15+CN15)/BM52,(CP2*CS15+CO15)/BN52)*BO52","v":{"$error":"#VALUE!"}},{"$f":"MIN((CP2*CS15+CK15)/BR52,(CP2*CS15+CL15)/BS52,(CP2*CS15+CM15)/BT52,(CP2*CS15+CN15)/BU52,(CP2*CS15+CO15)/BV52)*BW52","v":{"$error":"#VALUE!"}},null,10,{"$error":"#VALUE!"},{"$error":"#VALUE!"},{"$error":"#VALUE!"},{"$error":"#VALUE!"},{"$error":"#VALUE!"},{"$error":"#VALUE!"},{"$error":"#VALUE!"},{"$error":"#VALUE!"},{"$error":"#VALUE!"},{"$error":"#VALUE!"},{"$error":"#VALUE!"},{"$error":"#VALUE!"},{"$error":"#VALUE!"},{"$error":"#VALUE!"},{"$error":"#VALUE!"},{"$error":"#VALUE!"},{"$error":"#VALUE!"},{"$error":"#VALUE!"},{"$error":"#VALUE!"},{"$error":"#VALUE!"},{"$error":"#VALUE!"},{"$error":"#VALUE!"},{"$error":"#VALUE!"},{"$error":"#VALUE!"},{"$error":"#VALUE!"},{"$error":"#VALUE!"},{"$error":"#VALUE!"},{"$error":"#VALUE!"},{"$error":"#VALUE!"},{"$error":"#VALUE!"},{"$error":"#VALUE!"},{"$error":"#VALUE!"},{"$error":"#VALUE!"},{"$error":"#VALUE!"},{"$error":"#VALUE!"},{"$error":"#VALUE!"}]
[null,null,null,null,0.72660000000000002,1.0899000000000001,1.8165,0.81415000000000004,0.54274999999999995,1.3569,1.0899000000000001,1.6348499999999999,2.7247500000000002,0.68115000000000003,0.68115000000000003,1.3623000000000001,null,{"$f":"IF($AX$306,J12+VLOOKUP(Team!$Z18,Team!$E$30:$J$300,6,FALSE),J12+AH41+$D$21)+$D$19*$AG$9","v":{"$error":"#VALUE!"}},{"$error":"#VALUE!"},{"$error":"#VALUE!"},{"$error":"#VALUE!"},{"$error":"#VALUE!"},{"$error":"#VALUE!"},{"$error":"#VALUE!"},{"$error":"#VALUE!"},{"$error":"#VALUE!"},{"$error":"#VALUE!"},{"$error":"#VALUE!"},{"$error":"#VALUE!"},{"$error":"#VALUE!"},{"$error":"#VALUE!"},{"$error":"#VALUE!"},null,null,null,"",{"$f":"MIN((S143+AJ35*D19)/AK42,(S144+AJ35*D19)/AL42,(S145+AJ35*D19)/AM42,(S146+AJ35*D19)/AN42,(S147+AJ35*D19)/AO42)*AP42","v":{"$error":"#VALUE!"}},{"$f":"MIN((T143+AJ35*D19)/AK42,(T144+AJ35*D19)/AL42,(T145+AJ35*D19)/AM42,(T146+AJ35*D19)/AN42,(T147+AJ35*D19)/AO42)*AP42","v":{"$error":"#VALUE!"}},{"$f":"MIN((U143+AJ35*D19)/AK42,(U144+AJ35*D19)/AL42,(U145+AJ35*D19)/AM42,(U146+AJ35*D19)/AN42,(U147+AJ35*D19)/AO42)*AP42","v":{"$error":"#VALUE!"}},{"$f":"MIN((V143+AJ35*D19)/AK42,(V144+AJ35*D19)/AL42,(V145+AJ35*D19)/AM42,(V146+AJ35*D19)/AN42,(V147+AJ35*D19)/AO42)*AP42","v":{"$error":"#VALUE!"}},{"$f":"MIN((W143+AJ35*D19)/AK42,(W144+AJ35*D19)/AL42,(W145+AJ35*D19)/AM42,(W146+AJ35*D19)/AN42,(W147+AJ35*D19)/AO42)*AP42","v":{"$error":"#VALUE!"}},{"$f":"MIN((X143+AJ35*D19)/AK42,(X144+AJ35*D19)/AL42,(X145+AJ35*D19)/AM42,(X146+AJ35*D19)/AN42,(X147+AJ35*D19)/AO42)*AP42","v":{"$error":"#VALUE!"}},{"$f":"MIN((Y143+AJ35*D19)/AK42,(Y144+AJ35*D19)/AL42,(Y145+AJ35*D19)/AM42,(Y146+AJ35*D19)/AN42,(Y147+AJ35*D19)/AO42)*AP42","v":{"$error":"#VALUE!"}},{"$f":"MIN((Z143+AJ35*D19)/AK42,(Z144+AJ35*D19)/AL42,(Z145+AJ35*D19)/AM42,(Z146+AJ35*D19)/AN42,(Z147+AJ35*D19)/AO42)*AP42","v":{"$error":"#VALUE!"}},{"$f":"MIN((AA143+AJ35*D19)/AK42,(AA144+AJ35*D19)/AL42,(AA145+AJ35*D19)/AM42,(AA146+AJ35*D19)/AN42,(AA147+AJ35*D19)/AO42)*AP42","v":{"$error":"#VALUE!"}},{"$f":"MIN((AB143+AJ35*D19)/AK42,(AB144+AJ35*D19)/AL42,(AB145+AJ35*D19)/AM42,(AB146+AJ35*D19)/AN42,(AB147+AJ35*D19)/AO42)*AP42","v":{"$error":"#VALUE!"}},{"$f":"MIN((AC143+AJ35*D19)/AK42,(AC144+AJ35*D19)/AL42,(AC145+AJ35*D19)/AM42,(AC146+AJ35*D19)/AN42,(AC147+AJ35*D19)/AO42)*AP42","v":{"$error":"#VALUE!"}},{"$f":"MIN((AD143+AJ35*D19)/AK42,(AD144+AJ35*D19)/AL42,(AD145+AJ35*D19)/AM42,(AD146+AJ35*D19)/AN42,(AD147+AJ35*D19)/AO42)*AP42","v":{"$error":"#VALUE!"}},{"$f":"MIN((AE143+AJ35*D19)/AK42,(AE144+AJ35*D19)/AL42,(AE145+AJ35*D19)/AM42,(AE146+AJ35*D19)/AN42,(AE147+AJ35*D19)/AO42)*AP42","v":{"$error":"#VALUE!"}},{"$f":"MIN((AF143+AJ35*D19)/AK42,(AF144+AJ35*D19)/AL42,(AF145+AJ35*D19)/AM42,(AF146+AJ35*D19)/AN42,(AF147+AJ35*D19)/AO42)*AP42","v":{"$error":"#VALUE!"}},{"$error":"#VALUE!"},null,"",{"$f":"MIN((S143+AK35*D19)/AK43,(S144+AK35*D19)/AL43,(S145+AK35*D19)/AM43,(S146+AK35*D19)/AN43,(S147+AK35*D19)/AO43)*AP43","v":{"$error":"#VALUE!"}},{"$f":"MIN((T143+AK35*D19)/AK43,(T144+AK35*D19)/AL43,(T145+AK35*D19)/AM43,(T146+AK35*D19)/AN43,(T147+AK35*D19)/AO43)*AP43","v":{"$error":"#VALUE!"}},{"$f":"MIN((U143+AK35*D19)/AK43,(U144+AK35*D19)/AL43,(U145+AK35*D19)/AM43,(U146+AK35*D19)/AN43,(U147+AK35*D19)/AO43)*AP43","v":{"$error":"#VALUE!"}},{"$f":"MIN((V143+AK35*D19)/AK43,(V144+AK35*D19)/AL43,(V145+AK35*D19)/AM43,(V146+AK35*D19)/AN43,(V147+AK35*D19)/AO43)*AP43","v":{"$error":"#VALUE!"}},{"$f":"MIN((W143+AK35*D19)/AK43,(W144+AK35*D19)/AL43,(W145+AK35*D19)/AM43,(W146+AK35*D19)/AN43,(W147+AK35*D19)/AO43)*AP43","v":{"$error":"#VALUE!"}},{"$f":"MIN((X143+AK35*D19)/AK43,(X144+AK35*D19)/AL43,(X145+AK35*D19)/AM43,(X146+AK35*D19)/AN43,(X147+AK35*D19)/AO43)*AP43","v":{"$error":"#VALUE!"}},{"$f":"MIN((Y143+AK35*D19)/AK43,(Y144+AK35*D19)/AL43,(Y145+AK35*D19)/AM43,(Y146+AK35*D19)/AN43,(Y147+AK35*D19)/AO43)*AP43","v":{"$error":"#VALUE!"}},{"$f":"MIN((Z143+AK35*D19)/AK43,(Z144+AK35*D19)/AL43,(Z145+AK35*D19)/AM43,(Z146+AK35*D19)/AN43,(Z147+AK35*D19)/AO43)*AP43","v":{"$error":"#VALUE!"}},{"$f":"MIN((AA143+AK35*D19)/AK43,(AA144+AK35*D19)/AL43,(AA145+AK35*D19)/AM43,(AA146+AK35*D19)/AN43,(AA147+AK35*D19)/AO43)*AP43","v":{"$error":"#VALUE!"}},{"$f":"MIN((AB143+AK35*D19)/AK43,(AB144+AK35*D19)/AL43,(AB145+AK35*D19)/AM43,(AB146+AK35*D19)/AN43,(AB147+AK35*D19)/AO43)*AP43","v":{"$error":"#VALUE!"}},{"$f":"MIN((AC143+AK35*D19)/AK43,(AC144+AK35*D19)/AL43,(AC145+AK35*D19)/AM43,(AC146+AK35*D19)/AN43,(AC147+AK35*D19)/AO43)*AP43","v":{"$error":"#VALUE!"}},{"$f":"MIN((AD143+AK35*D19)/AK43,(AD144+AK35*D19)/AL43,(AD145+AK35*D19)/AM43,(AD146+AK35*D19)/AN43,(AD147+AK35*D19)/AO43)*AP43","v":{"$error":"#VALUE!"}},{"$f":"MIN((AE143+AK35*D19)/AK43,(AE144+AK35*D19)/AL43,(AE145+AK35*D19)/AM43,(AE146+AK35*D19)/AN43,(AE147+AK35*D19)/AO43)*AP43","v":{"$error":"#VALUE!"}},{"$f":"MIN((AF143+AK35*D19)/AK43,(AF144+AK35*D19)/AL43,(AF145+AK35*D19)/AM43,(AF146+AK35*D19)/AN43,(AF147+AK35*D19)/AO43)*AP43","v":{"$error":"#VALUE!"}},{"$error":"#VALUE!"},null,null,{"$f":"IF(E26=C31,F55,IF(E26=C32,I55,IF(E26=C33,L55,erreur)))","v":1.0899000000000001},null,{"$f":"IF(E26=C31,G55,IF(E26=C32,J55,IF(E26=C33,M55,erreur)))","v":0.72660000000000002},null,1.8165,null,null,"brut adversaire selon tactique",null,null,null,null,null,11,{"$error":"#VALUE!"},{"$error":"#VALUE!"},{"$error":"#VALUE!"},{"$error":"#VALUE!"},{"$error":"#VALUE!"},{"$error":"#VALUE!"},{"$error":"#VALUE!"},{"$error":"#VALUE!"},{"$error":"#VALUE!"},{"$error":"#VALUE!"},{"$error":"#VALUE!"},{"$error":"#VALUE!"},{"$error":"#VALUE!"},{"$error":"#VALUE!"},{"$error":"#VALUE!"},{"$error":"#VALUE!"},{"$error":"#VALUE!"},{"$error":"#VALUE!"},{"$error":"#VALUE!"},{"$error":"#VALUE!"},{"$error":"#VALUE!"},{"$error":"#VALUE!"},{"$error":"#VALUE!"},{"$error":"#VALUE!"},{"$error":"#VALUE!"},{"$error":"#VALUE!"},{"$error":"#VALUE!"},{"$error":"#VALUE!"},{"$error":"#VALUE!"},{"$error":"#VALUE!"},{"$error":"#VALUE!"},{"$error":"#VALUE!"},{"$error":"#VALUE!"},{"$error":"#VALUE!"},{"$error":"#VALUE!"},{"$error":"#VALUE!"}]
[null,null,null,null,0.68115000000000003,0.68115000000000003,1.3623000000000001,1.6348499999999999,1.0899000000000001,2.7247500000000002,0.68115000000000003,0.68115000000000003,1.3623000000000001,0.68115000000000003,0.68115000000000003,1.3623000000000001,null,{"$f":"IF($AX$306,K12+VLOOKUP(Team!$AA18,Team!$E$30:$J$300,6,FALSE),K12+AH42+$D$21)+$D$19*$AG$9","v":{"$error":"#VALUE!"}},{"$error":"#VALUE!"},{"$error":"#VALUE!"},{"$error":"#VALUE!"},{"$error":"#VALUE!"},{"$error":"#VALUE!"},{"$error":"#VALUE!"},{"$error":"#VALUE!"},{"$error":"#VALUE!"},{"$error":"#VALUE!"},{"$error":"#VALUE!"},{"$error":"#VALUE!"},{"$error":"#VALUE!"},{"$error":"#VALUE!"},{"$error":"#VALUE!"},null,null,null,"",{"$f":"MIN((S150+AJ35*D19)/AK42,(S151+AJ35*D19)/AL42,(S152+AJ35*D19)/AM42,(S153+AJ35*D19)/AN42,(S154+AJ35*D19)/AO42)*AP42","v":{"$error":"#VALUE!"}},{"$f":"MIN((T150+AJ35*D19)/AK42,(T151+AJ35*D19)/AL42,(T152+AJ35*D19)/AM42,(T153+AJ35*D19)/AN42,(T154+AJ35*D19)/AO42)*AP42","v":{"$error":"#VALUE!"}},{"$f":"MIN((U150+AJ35*D19)/AK42,(U151+AJ35*D19)/AL42,(U152+AJ35*D19)/AM42,(U153+AJ35*D19)/AN42,(U154+AJ35*D19)/AO42)*AP42","v":{"$error":"#VALUE!"}},{"$f":"MIN((V150+AJ35*D19)/AK42,(V151+AJ35*D19)/AL42,(V152+AJ35*D19)/AM42,(V153+AJ35*D19)/AN42,(V154+AJ35*D19)/AO42)*AP42","v":{"$error":"#VALUE!"}},{"$f":"MIN((W150+AJ35*D19)/AK42,(W151+AJ35*D19)/AL42,(W152+AJ35*D19)/AM42,(W153+AJ35*D19)/AN42,(W154+AJ35*D19)/AO42)*AP42","v":{"$error":"#VALUE!"}},{"$f":"MIN((X150+AJ35*D19)/AK42,(X151+AJ35*D19)/AL42,(X152+AJ35*D19)/AM42,(X153+AJ35*D19)/AN42,(X154+AJ35*D19)/AO42)*AP42","v":{"$error":"#VALUE!"}},{"$f":"MIN((Y150+AJ35*D19)/AK42,(Y151+AJ35*D19)/AL42,(Y152+AJ35*D19)/AM42,(Y153+AJ35*D19)/AN42,(Y154+AJ35*D19)/AO42)*AP42","v":{"$error":"#VALUE!"}},{"$f":"MIN((Z150+AJ35*D19)/AK42,(Z151+AJ35*D19)/AL42,(Z152+AJ35*D19)/AM42,(Z153+AJ35*D19)/AN42,(Z154+AJ35*D19)/AO42)*AP42","v":{"$error":"#VALUE!"}},{"$f":"MIN((AA150+AJ35*D19)/AK42,(AA151+AJ35*D19)/AL42,(AA152+AJ35*D19)/AM42,(AA153+AJ35*D19)/AN42,(AA154+AJ35*D19)/AO42)*AP42","v":{"$error":"#VALUE!"}},{"$f":"MIN((AB150+AJ35*D19)/AK42,(AB151+AJ35*D19)/AL42,(AB152+AJ35*D19)/AM42,(AB153+AJ35*D19)/AN42,(AB154+AJ35*D19)/AO42)*AP42","v":{"$error":"#VALUE!"}},{"$f":"MIN((AC150+AJ35*D19)/AK42,(AC151+AJ35*D19)/AL42,(AC152+AJ35*D19)/AM42,(AC153+AJ35*D19)/AN42,(AC154+AJ35*D19)/AO42)*AP42","v":{"$error":"#VALUE!"}},{"$f":"MIN((AD150+AJ35*D19)/AK42,(AD151+AJ35*D19)/AL42,(AD152+AJ35*D19)/AM42,(AD153+AJ35*D19)/AN42,(AD154+AJ35*D19)/AO42)*AP42","v":{"$error":"#VALUE!"}},{"$f":"MIN((AE150+AJ35*D19)/AK42,(AE151+AJ35*D19)/AL42,(AE152+AJ35*D19)/AM42,(AE153+AJ35*D19)/AN42,(AE154+AJ35*D19)/AO42)*AP42","v":{"$error":"#VALUE!"}},{"$f":"MIN((AF150+AJ35*D19)/AK42,(AF151+AJ35*D19)/AL42,(AF152+AJ35*D19)/AM42,(AF153+AJ35*D19)/AN42,(AF154+AJ35*D19)/AO42)*AP42","v":{"$error":"#VALUE!"}},{"$error":"#VALUE!"},null,"",{"$f":"MIN((S150+AK35*D19)/AK43,(S151+AK35*D19)/AL43,(S152+AK35*D19)/AM43,(S153+AK35*D19)/AN43,(S154+AK35*D19)/AO43)*AP43","v":{"$error":"#VALUE!"}},{"$f":"MIN((T150+AK35*D19)/AK43,(T151+AK35*D19)/AL43,(T152+AK35*D19)/AM43,(T153+AK35*D19)/AN43,(T154+AK35*D19)/AO43)*AP43","v":{"$error":"#VALUE!"}},{"$f":"MIN((U150+AK35*D19)/AK43,(U151+AK35*D19)/AL43,(U152+AK35*D19)/AM43,(U153+AK35*D19)/AN43,(U154+AK35*D19)/AO43)*AP43","v":{"$error":"#VALUE!"}},{"$f":"MIN((V150+AK35*D19)/AK43,(V151+AK35*D19)/AL43,(V152+AK35*D19)/AM43,(V153+AK35*D19)/AN43,(V154+AK35*D19)/AO43)*AP43","v":{"$error":"#VALUE!"}},{"$f":"MIN((W150+AK35*D19)/AK43,(W151+AK35*D19)/AL43,(W152+AK35*D19)/AM43,(W153+AK35*D19)/AN43,(W154+AK35*D19)/AO43)*AP43","v":{"$error":"#VALUE!"}},{"$f":"MIN((X150+AK35*D19)/AK43,(X151+AK35*D19)/AL43,(X152+AK35*D19)/AM43,(X153+AK35*D19)/AN43,(X154+AK35*D19)/AO43)*AP43","v":{"$error":"#VALUE!"}},{"$f":"MIN((Y150+AK35*D19)/AK43,(Y151+AK35*D19)/AL43,(Y152+AK35*D19)/AM43,(Y153+AK35*D19)/AN43,(Y154+AK35*D19)/AO43)*AP43","v":{"$error":"#VALUE!"}},{"$f":"MIN((Z150+AK35*D19)/AK43,(Z151+AK35*D19)/AL43,(Z152+AK35*D19)/AM43,(Z153+AK35*D19)/AN43,(Z154+AK35*D19)/AO43)*AP43","v":{"$error":"#VALUE!"}},{"$f":"MIN((AA150+AK35*D19)/AK43,(AA151+AK35*D19)/AL43,(AA152+AK35*D19)/AM43,(AA153+AK35*D19)/AN43,(AA154+AK35*D19)/AO43)*AP43","v":{"$error":"#VALUE!"}},{"$f":"MIN((AB150+AK35*D19)/AK43,(AB151+AK35*D19)/AL43,(AB152+AK35*D19)/AM43,(AB153+AK35*D19)/AN43,(AB154+AK35*D19)/AO43)*AP43","v":{"$error":"#VALUE!"}},{"$f":"MIN((AC150+AK35*D19)/AK43,(AC151+AK35*D19)/AL43,(AC152+AK35*D19)/AM43,(AC153+AK35*D19)/AN43,(AC154+AK35*D19)/AO43)*AP43","v":{"$error":"#VALUE!"}},{"$f":"MIN((AD150+AK35*D19)/AK43,(AD151+AK35*D19)/AL43,(AD152+AK35*D19)/AM43,(AD153+AK35*D19)/AN43,(AD154+AK35*D19)/AO43)*AP43","v":{"$error":"#VALUE!"}},{"$f":"MIN((AE150+AK35*D19)/AK43,(AE151+AK35*D19)/AL43,(AE152+AK35*D19)/AM43,(AE153+AK35*D19)/AN43,(AE154+AK35*D19)/AO43)*AP43","v":{"$error":"#VALUE!"}},{"$f":"MIN((AF150+AK35*D19)/AK43,(AF151+AK35*D19)/AL43,(AF152+AK35*D19)/AM43,(AF153+AK35*D19)/AN43,(AF154+AK35*D19)/AO43)*AP43","v":{"$error":"#VALUE!"}},{"$error":"#VALUE!"},null,"formule position",null,null,"formule gain brut",null,null,null,null,null,"att","def",null,null,null,"total",{"$f":"SUM(CG58:CG68)","v":{"$error":"#VALUE!"}},{"$error":"#VALUE!"},{"$error":"#VALUE!"},{"$error":"#VALUE!"},{"$error":"#VALUE!"},{"$error":"#VALUE!"},{"$error":"#VALUE!"},{"$error":"#VALUE!"},{"$error":"#VALUE!"},{"$error":"#VALUE!"},{"$error":"#VALUE!"},{"$error":"#VALUE!"},{"$error":"#VALUE!"},{"$error":"#VALUE!"},{"$error":"#VALUE!"},{"$error":"#VALUE!"},{"$error":"#VALUE!"},{"$error":"#VALUE!"},{"$error":"#VALUE!"},{"$error":"#VALUE!"},{"$error":"#VALUE!"},{"$error":"#VALUE!"},{"$error":"#VALUE!"},{"$error":"#VALUE!"},{"$error":"#VALUE!"},{"$error":"#VALUE!"},{"$error":"#VALUE!"},{"$error":"#VALUE!"},{"$error":"#VALUE!"},{"$error":"#VALUE!"},{"$error":"#VALUE!"},{"$error":"#VALUE!"},{"$error":"#VALUE!"},{"$error":"#VALUE!"},{"$error":"#VALUE!"},{"$error":"#VALUE!"}]
[null,null,null,null,1.58945,0.68115000000000003,2.2706,2.0435500000000002,0.22705,2.2706000000000004,1.27155,0.54495000000000005,1.8165,1.27155,0.54495000000000005,1.8165,null,{"$f":"IF($AX$306,L12+VLOOKUP(Team!$AB18,Team!$E$30:$J$300,6,FALSE),L12+AH43+$D$21)+$D$19*$AG$9","v":{"$error":"#VALUE!"}},{"$error":"#VALUE!"},{"$error":"#VALUE!"},{"$error":"#VALUE!"},{"$error":"#VALUE!"},{"$error":"#VALUE!"},{"$error":"#VALUE!"},{"$error":"#VALUE!"},{"$error":"#VALUE!"},{"$error":"#VALUE!"},{"$error":"#VALUE!"},{"$error":"#VALUE!"},{"$error":"#VALUE!"},{"$error":"#VALUE!"},{"$error":"#VALUE!"},null,null,null,"",{"$f":"MIN((S157+AJ35*D19)/AK42,(S158+AJ35*D19)/AL42,(S159+AJ35*D19)/AM42,(S160+AJ35*D19)/AN42,(S161+AJ35*D19)/AO42)*AP42","v":{"$error":"#VALUE!"}},{"$f":"MIN((T157+AJ35*D19)/AK42,(T158+AJ35*D19)/AL42,(T159+AJ35*D19)/AM42,(T160+AJ35*D19)/AN42,(T161+AJ35*D19)/AO42)*AP42","v":{"$error":"#VALUE!"}},{"$f":"MIN((U157+AJ35*D19)/AK42,(U158+AJ35*D19)/AL42,(U159+AJ35*D19)/AM42,(U160+AJ35*D19)/AN42,(U161+AJ35*D19)/AO42)*AP42","v":{"$error":"#VALUE!"}},{"$f":"MIN((V157+AJ35*D19)/AK42,(V158+AJ35*D19)/AL42,(V159+AJ35*D19)/AM42,(V160+AJ35*D19)/AN42,(V161+AJ35*D19)/AO42)*AP42","v":{"$error":"#VALUE!"}},{"$f":"MIN((W157+AJ35*D19)/AK42,(W158+AJ35*D19)/AL42,(W159+AJ35*D19)/AM42,(W160+AJ35*D19)/AN42,(W161+AJ35*D19)/AO42)*AP42","v":{"$error":"#VALUE!"}},{"$f":"MIN((X157+AJ35*D19)/AK42,(X158+AJ35*D19)/AL42,(X159+AJ35*D19)/AM42,(X160+AJ35*D19)/AN42,(X161+AJ35*D19)/AO42)*AP42","v":{"$error":"#VALUE!"}},{"$f":"MIN((Y157+AJ35*D19)/AK42,(Y158+AJ35*D19)/AL42,(Y159+AJ35*D19)/AM42,(Y160+AJ35*D19)/AN42,(Y161+AJ35*D19)/AO42)*AP42","v":{"$error":"#VALUE!"}},{"$f":"MIN((Z157+AJ35*D19)/AK42,(Z158+AJ35*D19)/AL42,(Z159+AJ35*D19)/AM42,(Z160+AJ35*D19)/AN42,(Z161+AJ35*D19)/AO42)*AP42","v":{"$error":"#VALUE!"}},{"$f":"MIN((AA157+AJ35*D19)/AK42,(AA158+AJ35*D19)/AL42,(AA159+AJ35*D19)/AM42,(AA160+AJ35*D19)/AN42,(AA161+AJ35*D19)/AO42)*AP42","v":{"$error":"#VALUE!"}},{"$f":"MIN((AB157+AJ35*D19)/AK42,(AB158+AJ35*D19)/AL42,(AB159+AJ35*D19)/AM42,(AB160+AJ35*D19)/AN42,(AB161+AJ35*D19)/AO42)*AP42","v":{"$error":"#VALUE!"}},{"$f":"MIN((AC157+AJ35*D19)/AK42,(AC158+AJ35*D19)/AL42,(AC159+AJ35*D19)/AM42,(AC160+AJ35*D19)/AN42,(AC161+AJ35*D19)/AO42)*AP42","v":{"$error":"#VALUE!"}},{"$f":"MIN((AD157+AJ35*D19)/AK42,(AD158+AJ35*D19)/AL42,(AD159+AJ35*D19)/AM42,(AD160+AJ35*D19)/AN42,(AD161+AJ35*D19)/AO42)*AP42","v":{"$error":"#VALUE!"}},{"$f":"MIN((AE157+AJ35*D19)/AK42,(AE158+AJ35*D19)/AL42,(AE159+AJ35*D19)/AM42,(AE160+AJ35*D19)/AN42,(AE161+AJ35*D19)/AO42)*AP42","v":{"$error":"#VALUE!"}},{"$f":"MIN((AF157+AJ35*D19)/AK42,(AF158+AJ35*D19)/AL42,(AF159+AJ35*D19)/AM42,(AF160+AJ35*D19)/AN42,(AF161+AJ35*D19)/AO42)*AP42","v":{"$error":"#VALUE!"}},{"$error":"#VALUE!"},null,"",{"$f":"MIN((S157+AK35*D19)/AK43,(S158+AK35*D19)/AL43,(S159+AK35*D19)/AM43,(S160+AK35*D19)/AN43,(S161+AK35*D19)/AO43)*AP43","v":{"$error":"#VALUE!"}},{"$f":"MIN((T157+AK35*D19)/AK43,(T158+AK35*D19)/AL43,(T159+AK35*D19)/AM43,(T160+AK35*D19)/AN43,(T161+AK35*D19)/AO43)*AP43","v":{"$error":"#VALUE!"}},{"$f":"MIN((U157+AK35*D19)/AK43,(U158+AK35*D19)/AL43,(U159+AK35*D19)/AM43,(U160+AK35*D19)/AN43,(U161+AK35*D19)/AO43)*AP43","v":{"$error":"#VALUE!"}},{"$f":"MIN((V157+AK35*D19)/AK43,(V158+AK35*D19)/AL43,(V159+AK35*D19)/AM43,(V160+AK35*D19)/AN43,(V161+AK35*D19)/AO43)*AP43","v":{"$error":"#VALUE!"}},{"$f":"MIN((W157+AK35*D19)/AK43,(W158+AK35*D19)/AL43,(W159+AK35*D19)/AM43,(W160+AK35*D19)/AN43,(W161+AK35*D19)/AO43)*AP43","v":{"$error":"#VALUE!"}},{"$f":"MIN((X157+AK35*D19)/AK43,(X158+AK35*D19)/AL43,(X159+AK35*D19)/AM43,(X160+AK35*D19)/AN43,(X161+AK35*D19)/AO43)*AP43","v":{"$error":"#VALUE!"}},{"$f":"MIN((Y157+AK35*D19)/AK43,(Y158+AK35*D19)/AL43,(Y159+AK35*D19)/AM43,(Y160+AK35*D19)/AN43,(Y161+AK35*D19)/AO43)*AP43","v":{"$error":"#VALUE!"}},{"$f":"MIN((Z157+AK35*D19)/AK43,(Z158+AK35*D19)/AL43,(Z159+AK35*D19)/AM43,(Z160+AK35*D19)/AN43,(Z161+AK35*D19)/AO43)*AP43","v":{"$error":"#VALUE!"}},{"$f":"MIN((AA157+AK35*D19)/AK43,(AA158+AK35*D19)/AL43,(AA159+AK35*D19)/AM43,(AA160+AK35*D19)/AN43,(AA161+AK35*D19)/AO43)*AP43","v":{"$error":"#VALUE!"}},{"$f":"MIN((AB157+AK35*D19)/AK43,(AB158+AK35*D19)/AL43,(AB159+AK35*D19)/AM43,(AB160+AK35*D19)/AN43,(AB161+AK35*D19)/AO43)*AP43","v":{"$error":"#VALUE!"}},{"$f":"MIN((AC157+AK35*D19)/AK43,(AC158+AK35*D19)/AL43,(AC159+AK35*D19)/AM43,(AC160+AK35*D19)/AN43,(AC161+AK35*D19)/AO43)*AP43","v":{"$error":"#VALUE!"}},{"$f":"MIN((AD157+AK35*D19)/AK43,(AD158+AK35*D19)/AL43,(AD159+AK35*D19)/AM43,(AD160+AK35*D19)/AN43,(AD161+AK35*D19)/AO43)*AP43","v":{"$error":"#VALUE!"}},{"$f":"MIN((AE157+AK35*D19)/AK43,(AE158+AK35*D19)/AL43,(AE159+AK35*D19)/AM43,(AE160+AK35*D19)/AN43,(AE161+AK35*D19)/AO43)*AP43","v":{"$error":"#VALUE!"}},{"$f":"MIN((AF157+AK35*D19)/AK43,(AF158+AK35*D19)/AL43,(AF159+AK35*D19)/AM43,(AF160+AK35*D19)/AN43,(AF161+AK35*D19)/AO43)*AP43","v":{"$error":"#VALUE!"}},{"$error":"#VALUE!"},null,null,{"$f":"IF(AV24=1,AI24,IF(AV25=1,AI25,IF(AV26=1,AI26,IF(AV27=1,AI27,IF(AV28=1,AI28,IF(AV29=1,AI29,IF(AV31=1,AI31,BS83)))))))","v":"attente"},{"$f":"IF(AV16=1,AI16,IF(AV17=1,AI17,IF(AV18=1,AI18,IF(AV19=1,AI19,IF(AV20=1,AI20,IF(AV21=1,AI21,IF(AV22=1,AI22,IF(AV23=1,AI23,BS70))))))))","v":"attente"},{"$f":"IF(AV24=1,AY72,IF(AV25=1,AY73,IF(AV26=1,AY74,IF(AV27=1,AY75,IF(AV28=1,AY76,IF(AV29=1,AY77,IF(AV31=1,AY78,0)))))))","v":0},{"$f":"IF(AV16=1,AY64,IF(AV17=1,AY65,IF(AV18=1,AY66,IF(AV19=1,AY67,IF(AV20=1,AY68,IF(AV21=1,AY69,IF(AV22=1,AY70,IF(AV23=1,AY71,BU70))))))))","v":0},{"$f":"IF(AV8=1,AY56,IF(AV9=1,AY57,IF(AV10=1,AY58,IF(AV11=1,AY59,IF(AV12=1,AY60,IF(AV13=1,AY61,IF(AV14=1,AY62,IF(AV15=1,AY63,BV70))))))))","v":{"$error":"#VALUE!"}},null,null,null,{"$f":"IF($CA$17=$CE$16,CA75,IF($CA$17=$CE$17,CC75,IF($CA$17=$CE$18,CE75,erreur)))","v":{"$error":"#VALUE!"}},{"$f":"IF($CA$17=$CE$16,CB75,IF($CA$17=$CE$17,CD75,IF($CA$17=$CE$18,CF75,erreur)))","v":{"$error":"#VALUE!"}},null,null,null,null,null,"stats brutes de l'adversaire et de mon équippe avec bonus match (sauf 15% stratégie)"]
[null,null,null,null,0.72660000000000002,1.0899000000000001,1.8165,1.0899000000000001,0.72660000000000002,1.8165,0.95365,0.40870000000000001,1.3623499999999999,1.3623499999999999,1.3623499999999999,2.7246999999999999,null,null,null,null,null,null,null,null,null,null,null,null,null,null,null,null,null,null,null,"",{"$f":"MIN((S164+AJ35*D19)/AK42,(S165+AJ35*D19)/AL42,(S166+AJ35*D19)/AM42,(S167+AJ35*D19)/AN42,(S168+AJ35*D19)/AO42)*AP42","v":{"$error":"#VALUE!"}},{"$f":"MIN((T164+AJ35*D19)/AK42,(T165+AJ35*D19)/AL42,(T166+AJ35*D19)/AM42,(T167+AJ35*D19)/AN42,(T168+AJ35*D19)/AO42)*AP42","v":{"$error":"#VALUE!"}},{"$f":"MIN((U164+AJ35*D19)/AK42,(U165+AJ35*D19)/AL42,(U166+AJ35*D19)/AM42,(U167+AJ35*D19)/AN42,(U168+AJ35*D19)/AO42)*AP42","v":{"$error":"#VALUE!"}},{"$f":"MIN((V164+AJ35*D19)/AK42,(V165+AJ35*D19)/AL42,(V166+AJ35*D19)/AM42,(V167+AJ35*D19)/AN42,(V168+AJ35*D19)/AO42)*AP42","v":{"$error":"#VALUE!"}},{"$f":"MIN((W164+AJ35*D19)/AK42,(W165+AJ35*D19)/AL42,(W166+AJ35*D19)/AM42,(W167+AJ35*D19)/AN42,(W168+AJ35*D19)/AO42)*AP42","v":{"$error":"#VALUE!"}},{"$f":"MIN((X164+AJ35*D19)/AK42,(X165+AJ35*D19)/AL42,(X166+AJ35*D19)/AM42,(X167+AJ35*D19)/AN42,(X168+AJ35*D19)/AO42)*AP42","v":{"$error":"#VALUE!"}},{"$f":"MIN((Y164+AJ35*D19)/AK42,(Y165+AJ35*D19)/AL42,(Y166+AJ35*D19)/AM42,(Y167+AJ35*D19)/AN42,(Y168+AJ35*D19)/AO42)*AP42","v":{"$error":"#VALUE!"}},{"$f":"MIN((Z164+AJ35*D19)/AK42,(Z165+AJ35*D19)/AL42,(Z166+AJ35*D19)/AM42,(Z167+AJ35*D19)/AN42,(Z168+AJ35*D19)/AO42)*AP42","v":{"$error":"#VALUE!"}},{"$f":"MIN((AA164+AJ35*D19)/AK42,(AA165+AJ35*D19)/AL42,(AA166+AJ35*D19)/AM42,(AA167+AJ35*D19)/AN42,(AA168+AJ35*D19)/AO42)*AP42","v":{"$error":"#VALUE!"}},{"$f":"MIN((AB164+AJ35*D19)/AK42,(AB165+AJ35*D19)/AL42,(AB166+AJ35*D19)/AM42,(AB167+AJ35*D19)/AN42,(AB168+AJ35*D19)/AO42)*AP42","v":{"$error":"#VALUE!"}},{"$f":"MIN((AC164+AJ35*D19)/AK42,(AC165+AJ35*D19)/AL42,(AC166+AJ35*D19)/AM42,(AC167+AJ35*D19)/AN42,(AC168+AJ35*D19)/AO42)*AP42","v":{"$error":"#VALUE!"}},{"$f":"MIN((AD164+AJ35*D19)/AK42,(AD165+AJ35*D19)/AL42,(AD166+AJ35*D19)/AM42,(AD167+AJ35*D19)/AN42,(AD168+AJ35*D19)/AO42)*AP42","v":{"$error":"#VALUE!"}},{"$f":"MIN((AE164+AJ35*D19)/AK42,(AE165+AJ35*D19)/AL42,(AE166+AJ35*D19)/AM42,(AE167+AJ35*D19)/AN42,(AE168+AJ35*D19)/AO42)*AP42","v":{"$error":"#VALUE!"}},{"$f":"MIN((AF164+AJ35*D19)/AK42,(AF165+AJ35*D19)/AL42,(AF166+AJ35*D19)/AM42,(AF167+AJ35*D19)/AN42,(AF168+AJ35*D19)/AO42)*AP42","v":{"$error":"#VALUE!"}},{"$error":"#VALUE!"},null,"",{"$f":"MIN((S164+AK35*D19)/AK43,(S165+AK35*D19)/AL43,(S166+AK35*D19)/AM43,(S167+AK35*D19)/AN43,(S168+AK35*D19)/AO43)*AP43","v":{"$error":"#VALUE!"}},{"$f":"MIN((T164+AK35*D19)/AK43,(T165+AK35*D19)/AL43,(T166+AK35*D19)/AM43,(T167+AK35*D19)/AN43,(T168+AK35*D19)/AO43)*AP43","v":{"$error":"#VALUE!"}},{"$f":"MIN((U164+AK35*D19)/AK43,(U165+AK35*D19)/AL43,(U166+AK35*D19)/AM43,(U167+AK35*D19)/AN43,(U168+AK35*D19)/AO43)*AP43","v":{"$error":"#VALUE!"}},{"$f":"MIN((V164+AK35*D19)/AK43,(V165+AK35*D19)/AL43,(V166+AK35*D19)/AM43,(V167+AK35*D19)/AN43,(V168+AK35*D19)/AO43)*AP43","v":{"$error":"#VALUE!"}},{"$f":"MIN((W164+AK35*D19)/AK43,(W165+AK35*D19)/AL43,(W166+AK35*D19)/AM43,(W167+AK35*D19)/AN43,(W168+AK35*D19)/AO43)*AP43","v":{"$error":"#VALUE!"}},{"$f":"MIN((X164+AK35*D19)/AK43,(X165+AK35*D19)/AL43,(X166+AK35*D19)/AM43,(X167+AK35*D19)/AN43,(X168+AK35*D19)/AO43)*AP43","v":{"$error":"#VALUE!"}},{"$f":"MIN((Y164+AK35*D19)/AK43,(Y165+AK35*D19)/AL43,(Y166+AK35*D19)/AM43,(Y167+AK35*D19)/AN43,(Y168+AK35*D19)/AO43)*AP43","v":{"$error":"#VALUE!"}},{"$f":"MIN((Z164+AK35*D19)/AK43,(Z165+AK35*D19)/AL43,(Z166+AK35*D19)/AM43,(Z167+AK35*D19)/AN43,(Z168+AK35*D19)/AO43)*AP43","v":{"$error":"#VALUE!"}},{"$f":"MIN((AA164+AK35*D19)/AK43,(AA165+AK35*D19)/AL43,(AA166+AK35*D19)/AM43,(AA167+AK35*D19)/AN43,(AA168+AK35*D19)/AO43)*AP43","v":{"$error":"#VALUE!"}},{"$f":"MIN((AB164+AK35*D19)/AK43,(AB165+AK35*D19)/AL43,(AB166+AK35*D19)/AM43,(AB167+AK35*D19)/AN43,(AB168+AK35*D19)/AO43)*AP43","v":{"$error":"#VALUE!"}},{"$f":"MIN((AC164+AK35*D19)/AK43,(AC165+AK35*D19)/AL43,(AC166+AK35*D19)/AM43,(AC167+AK35*D19)/AN43,(AC168+AK35*D19)/AO43)*AP43","v":{"$error":"#VALUE!"}},{"$f":"MIN((AD164+AK35*D19)/AK43,(AD165+AK35*D19)/AL43,(AD166+AK35*D19)/AM43,(AD167+AK35*D19)/AN43,(AD168+AK35*D19)/AO43)*AP43","v":{"$error":"#VALUE!"}},{"$f":"MIN((AE164+AK35*D19)/AK43,(AE165+AK35*D19)/AL43,(AE166+AK35*D19)/AM43,(AE167+AK35*D19)/AN43,(AE168+AK35*D19)/AO43)*AP43","v":{"$error":"#VALUE!"}},{"$f":"MIN((AF164+AK35*D19)/AK43,(AF165+AK35*D19)/AL43,(AF166+AK35*D19)/AM43,(AF167+AK35*D19)/AN43,(AF168+AK35*D19)/AO43)*AP43","v":{"$error":"#VALUE!"}},{"$error":"#VALUE!"},null,null,{"$f":"IF(AV24=2,AI24,IF(AV25=2,AI25,IF(AV26=2,AI26,IF(AV27=2,AI27,IF(AV28=2,AI28,IF(AV29=2,AI29,IF(AV31=2,AI31,BS83)))))))","v":"attente"},{"$f":"IF(AV16=2,AI16,IF(AV17=2,AI17,IF(AV18=2,AI18,IF(AV19=2,AI19,IF(AV20=2,AI20,IF(AV21=2,AI21,IF(AV22=2,AI22,IF(AV23=2,AI23,BS71))))))))","v":"attente"},{"$f":"IF(AV24=2,BP72,IF(AV25=2,BP73,IF(AV26=2,BP74,IF(AV27=2,BP75,IF(AV28=2,BP76,IF(AV29=2,BP77,IF(AV31=2,BP78,0)))))))","v":0},{"$f":"IF(AV16=2,BP64,IF(AV17=2,BP65,IF(AV18=2,BP66,IF(AV19=2,BP67,IF(AV20=2,BP68,IF(AV21=2,BP69,IF(AV22=2,BP70,IF(AV23=2,BP71,BU71))))))))","v":0},{"$f":"IF(AV8=2,BP56,IF(AV9=2,BP57,IF(AV10=2,BP58,IF(AV11=2,BP59,IF(AV12=2,BP60,IF(AV13=2,BP61,IF(AV14=2,BP62,IF(AV15=2,BP63,BV71))))))))","v":{"$error":"#VALUE!"}},null,null,null,null,null,null,null,null,null,null,null,null,541,null,null,null,null,null,null,null,null,433,null,null,null,null,null,null,null,null,352,null,null,null,null,null,null,null,null,442]
[null,null,null,null,0.81740000000000002,0.54495000000000005,1.3623500000000002,1.6348499999999999,1.0899000000000001,2.7247500000000002,1.0899000000000001,0.72660000000000002,1.8165,1.27155,0.54495000000000005,1.8165,null,{"$f":"G13","v":""},{"$f":"S65","v":"kit 1"},{"$f":"T65","v":"kit 2/3"},{"$f":"U65","v":0},{"$f":"V65","v":"kit 4"},{"$f":"W65","v":0},"kit 5","kit 6/7",0,0,"kit 8","kit 9",0,{"$f":"AE65","v":"kit 10"},{"$f":"AF65","v":"kit 11"},null,null,null,"",{"$f":"MIN((S171+AJ35*D19)/AK42,(S172+AJ35*D19)/AL42,(S173+AJ35*D19)/AM42,(S174+AJ35*D19)/AN42,(S175+AJ35*D19)/AO42)*AP42","v":{"$error":"#VALUE!"}},{"$f":"MIN((T171+AJ35*D19)/AK42,(T172+AJ35*D19)/AL42,(T173+AJ35*D19)/AM42,(T174+AJ35*D19)/AN42,(T175+AJ35*D19)/AO42)*AP42","v":{"$error":"#VALUE!"}},{"$f":"MIN((U171+AJ35*D19)/AK42,(U172+AJ35*D19)/AL42,(U173+AJ35*D19)/AM42,(U174+AJ35*D19)/AN42,(U175+AJ35*D19)/AO42)*AP42","v":{"$error":"#VALUE!"}},{"$f":"MIN((V171+AJ35*D19)/AK42,(V172+AJ35*D19)/AL42,(V173+AJ35*D19)/AM42,(V174+AJ35*D19)/AN42,(V175+AJ35*D19)/AO42)*AP42","v":{"$error":"#VALUE!"}},{"$f":"MIN((W171+AJ35*D19)/AK42,(W172+AJ35*D19)/AL42,(W173+AJ35*D19)/AM42,(W174+AJ35*D19)/AN42,(W175+AJ35*D19)/AO42)*AP42","v":{"$error":"#VALUE!"}},{"$f":"MIN((X171+AJ35*D19)/AK42,(X172+AJ35*D19)/AL42,(X173+AJ35*D19)/AM42,(X174+AJ35*D19)/AN42,(X175+AJ35*D19)/AO42)*AP42","v":{"$error":"#VALUE!"}},{"$f":"MIN((Y171+AJ35*D19)/AK42,(Y172+AJ35*D19)/AL42,(Y173+AJ35*D19)/AM42,(Y174+AJ35*D19)/AN42,(Y175+AJ35*D19)/AO42)*AP42","v":{"$error":"#VALUE!"}},{"$f":"MIN((Z171+AJ35*D19)/AK42,(Z172+AJ35*D19)/AL42,(Z173+AJ35*D19)/AM42,(Z174+AJ35*D19)/AN42,(Z175+AJ35*D19)/AO42)*AP42","v":{"$error":"#VALUE!"}},{"$f":"MIN((AA171+AJ35*D19)/AK42,(AA172+AJ35*D19)/AL42,(AA173+AJ35*D19)/AM42,(AA174+AJ35*D19)/AN42,(AA175+AJ35*D19)/AO42)*AP42","v":{"$error":"#VALUE!"}},{"$f":"MIN((AB171+AJ35*D19)/AK42,(AB172+AJ35*D19)/AL42,(AB173+AJ35*D19)/AM42,(AB174+AJ35*D19)/AN42,(AB175+AJ35*D19)/AO42)*AP42","v":{"$error":"#VALUE!"}},{"$f":"MIN((AC171+AJ35*D19)/AK42,(AC172+AJ35*D19)/AL42,(AC173+AJ35*D19)/AM42,(AC174+AJ35*D19)/AN42,(AC175+AJ35*D19)/AO42)*AP42","v":{"$error":"#VALUE!"}},{"$f":"MIN((AD171+AJ35*D19)/AK42,(AD172+AJ35*D19)/AL42,(AD173+AJ35*D19)/AM42,(AD174+AJ35*D19)/AN42,(AD175+AJ35*D19)/AO42)*AP42","v":{"$error":"#VALUE!"}},{"$f":"MIN((AE171+AJ35*D19)/AK42,(AE172+AJ35*D19)/AL42,(AE173+AJ35*D19)/AM42,(AE174+AJ35*D19)/AN42,(AE175+AJ35*D19)/AO42)*AP42","v":{"$error":"#VALUE!"}},{"$f":"MIN((AF171+AJ35*D19)/AK42,(AF172+AJ35*D19)/AL42,(AF173+AJ35*D19)/AM42,(AF174+AJ35*D19)/AN42,(AF175+AJ35*D19)/AO42)*AP42","v":{"$error":"#VALUE!"}},{"$error":"#VALUE!"},null,"",{"$f":"MIN((S171+AK35*D19)/AK43,(S172+AK35*D19)/AL43,(S173+AK35*D19)/AM43,(S174+AK35*D19)/AN43,(S175+AK35*D19)/AO43)*AP43","v":{"$error":"#VALUE!"}},{"$f":"MIN((T171+AK35*D19)/AK43,(T172+AK35*D19)/AL43,(T173+AK35*D19)/AM43,(T174+AK35*D19)/AN43,(T175+AK35*D19)/AO43)*AP43","v":{"$error":"#VALUE!"}},{"$f":"MIN((U171+AK35*D19)/AK43,(U172+AK35*D19)/AL43,(U173+AK35*D19)/AM43,(U174+AK35*D19)/AN43,(U175+AK35*D19)/AO43)*AP43","v":{"$error":"#VALUE!"}},{"$f":"MIN((V171+AK35*D19)/AK43,(V172+AK35*D19)/AL43,(V173+AK35*D19)/AM43,(V174+AK35*D19)/AN43,(V175+AK35*D19)/AO43)*AP43","v":{"$error":"#VALUE!"}},{"$f":"MIN((W171+AK35*D19)/AK43,(W172+AK35*D19)/AL43,(W173+AK35*D19)/AM43,(W174+AK35*D19)/AN43,(W175+AK35*D19)/AO43)*AP43","v":{"$error":"#VALUE!"}},{"$f":"MIN((X171+AK35*D19)/AK43,(X172+AK35*D19)/AL43,(X173+AK35*D19)/AM43,(X174+AK35*D19)/AN43,(X175+AK35*D19)/AO43)*AP43","v":{"$error":"#VALUE!"}},{"$f":"MIN((Y171+AK35*D19)/AK43,(Y172+AK35*D19)/AL43,(Y173+AK35*D19)/AM43,(Y174+AK35*D19)/AN43,(Y175+AK35*D19)/AO43)*AP43","v":{"$error":"#VALUE!"}},{"$f":"MIN((Z171+AK35*D19)/AK43,(Z172+AK35*D19)/AL43,(Z173+AK35*D19)/AM43,(Z174+AK35*D19)/AN43,(Z175+AK35*D19)/AO43)*AP43","v":{"$error":"#VALUE!"}},{"$f":"MIN((AA171+AK35*D19)/AK43,(AA172+AK35*D19)/AL43,(AA173+AK35*D19)/AM43,(AA174+AK35*D19)/AN43,(AA175+AK35*D19)/AO43)*AP43","v":{"$error":"#VALUE!"}},{"$f":"MIN((AB171+AK35*D19)/AK43,(AB172+AK35*D19)/AL43,(AB173+AK35*D19)/AM43,(AB174+AK35*D19)/AN43,(AB175+AK35*D19)/AO43)*AP43","v":{"$error":"#VALUE!"}},{"$f":"MIN((AC171+AK35*D19)/AK43,(AC172+AK35*D19)/AL43,(AC173+AK35*D19)/AM43,(AC174+AK35*D19)/AN43,(AC175+AK35*D19)/AO43)*AP43","v":{"$error":"#VALUE!"}},{"$f":"MIN((AD171+AK35*D19)/AK43,(AD172+AK35*D19)/AL43,(AD173+AK35*D19)/AM43,(AD174+AK35*D19)/AN43,(AD175+AK35*D19)/AO43)*AP43","v":{"$error":"#VALUE!"}},{"$f":"MIN((AE171+AK35*D19)/AK43,(AE172+AK35*D19)/AL43,(AE173+AK35*D19)/AM43,(AE174+AK35*D19)/AN43,(AE175+AK35*D19)/AO43)*AP43","v":{"$error":"#VALUE!"}},{"$f":"MIN((AF171+AK35*D19)/AK43,(AF172+AK35*D19)/AL43,(AF173+AK35*D19)/AM43,(AF174+AK35*D19)/AN43,(AF175+AK35*D19)/AO43)*AP43","v":{"$error":"#VALUE!"}},{"$error":"#VALUE!"},null,null,{"$f":"IF(AV24=3,AI24,IF(AV25=3,AI25,IF(AV26=3,AI26,IF(AV27=3,AI27,IF(AV28=3,AI28,IF(AV29=3,AI29,IF(AV31=3,AI31,BS83)))))))","v":"attente"},{"$f":"IF(AV16=3,AI16,IF(AV17=3,AI17,IF(AV18=3,AI18,IF(AV19=3,AI19,IF(AV20=3,AI20,IF(AV21=3,AI21,IF(AV22=3,AI22,IF(AV23=3,AI23,BS72))))))))","v":"attente"},{"$f":"IF(AV24=3,AY99,IF(AV25=3,AY100,IF(AV26=3,AY101,IF(AV27=3,AY102,IF(AV28=3,AY103,IF(AV29=3,AY104,IF(AV31=3,AY105,0)))))))","v":0},{"$f":"IF(AV16=3,AY91,IF(AV17=3,AY92,IF(AV18=3,AY93,IF(AV19=3,AY94,IF(AV20=3,AY95,IF(AV21=3,AY96,IF(AV22=3,AY97,IF(AV23=3,AY98,BU72))))))))","v":0},{"$f":"IF(AV8=3,AY83,IF(AV9=3,AY84,IF(AV10=3,AY85,IF(AV11=3,AY86,IF(AV12=3,AY87,IF(AV13=3,AY88,IF(AV14=3,AY89,IF(AV15=3,AY90,BV72))))))))","v":{"$error":"#VALUE!"}},null,null,null,{"$f":"IF(CA15=1,541,IF(CA15=2,433,IF(CA15=3,352,IF(CA15=4,442,\"erreur\"))))","v":352},null,null,null,null,null,null,null,null,"defensif",null,null,"neutre",null,null,"offensif",null,null,"defensif",null,null,"neutre",null,null,"offensif",null,null,"defensif",null,null,"neutre",null,null,"offensif",null,null,"defensif",null,null,"neutre",null,null,"offensif"]
[null,null,null,"total :",{"$f":"SUM(E62:E72)","v":5.9579500000000003},14.023300000000001,19.981249999999999,10.0418,9.9339499999999994,19.975750000000001,8.0015000000000001,11.979699999999999,19.981200000000001,7.9561000000000011,12.0251,19.981199999999998,null,{"$f":"IF($AX$306,H13+VLOOKUP(Team!$X19,Team!$E$30:$J$300,6,FALSE),H13+AH39+$D$21)+$D$19*$AG$10","v":{"$error":"#VALUE!"}},{"$f":"IF($AX$306,$R73,$R73+Q10)","v":{"$error":"#VALUE!"}},{"$f":"IF($AX$306,$R73,$R73+R10)","v":{"$error":"#VALUE!"}},{"$f":"IF($AX$306,$R73,$R73+S10)","v":{"$error":"#VALUE!"}},{"$error":"#VALUE!"},{"$error":"#VALUE!"},{"$error":"#VALUE!"},{"$error":"#VALUE!"},{"$error":"#VALUE!"},{"$error":"#VALUE!"},{"$error":"#VALUE!"},{"$error":"#VALUE!"},{"$error":"#VALUE!"},{"$error":"#VALUE!"},{"$error":"#VALUE!"},null,null,null,"",{"$f":"MIN((S178+$AJ$35*$D$19)/$AK$42,(S179+$AJ$35*$D$19)/$AL$42,(S180+$AJ$35*$D$19)/$AM$42,(S181+$AJ$35*$D$19)/$AN$42,(S182+$AJ$35*$D$19)/$AO$42)*$AP$42","v":{"$error":"#VALUE!"}},{"$error":"#VALUE!"},{"$error":"#VALUE!"},{"$error":"#VALUE!"},{"$error":"#VALUE!"},{"$error":"#VALUE!"},{"$error":"#VALUE!"},{"$error":"#VALUE!"},{"$error":"#VALUE!"},{"$error":"#VALUE!"},{"$error":"#VALUE!"},{"$error":"#VALUE!"},{"$error":"#VALUE!"},{"$error":"#VALUE!"},{"$error":"#VALUE!"},null,"",{"$f":"MIN((S178+$AK$35*$D$19)/$AK$43,(S179+$AK$35*$D$19)/$AL$43,(S180+$AK$35*$D$19)/$AM$43,(S181+$AK$35*$D$19)/$AN$43,(S182+$AK$35*$D$19)/$AO$43)*$AP$43","v":{"$error":"#VALUE!"}},{"$f":"MIN((T178+AK35*D19)/AK43,(T179+AK35*D19)/AL43,(T180+AK35*D19)/AM43,(T181+AK35*D19)/AN43,(T182+AK35*D19)/AO43)*AP43","v":{"$error":"#VALUE!"}},{"$f":"MIN((U178+AK35*D19)/AK43,(U179+AK35*D19)/AL43,(U180+AK35*D19)/AM43,(U181+AK35*D19)/AN43,(U182+AK35*D19)/AO43)*AP43","v":{"$error":"#VALUE!"}},{"$f":"MIN((V178+AK35*D19)/AK43,(V179+AK35*D19)/AL43,(V180+AK35*D19)/AM43,(V181+AK35*D19)/AN43,(V182+AK35*D19)/AO43)*AP43","v":{"$error":"#VALUE!"}},{"$f":"MIN((W178+AK35*D19)/AK43,(W179+AK35*D19)/AL43,(W180+AK35*D19)/AM43,(W181+AK35*D19)/AN43,(W182+AK35*D19)/AO43)*AP43","v":{"$error":"#VALUE!"}},{"$f":"MIN((X178+AK35*D19)/AK43,(X179+AK35*D19)/AL43,(X180+AK35*D19)/AM43,(X181+AK35*D19)/AN43,(X182+AK35*D19)/AO43)*AP43","v":{"$error":"#VALUE!"}},{"$f":"MIN((Y178+AK35*D19)/AK43,(Y179+AK35*D19)/AL43,(Y180+AK35*D19)/AM43,(Y181+AK35*D19)/AN43,(Y182+AK35*D19)/AO43)*AP43","v":{"$error":"#VALUE!"}},{"$f":"MIN((Z178+AK35*D19)/AK43,(Z179+AK35*D19)/AL43,(Z180+AK35*D19)/AM43,(Z181+AK35*D19)/AN43,(Z182+AK35*D19)/AO43)*AP43","v":{"$error":"#VALUE!"}},{"$f":"MIN((AA178+AK35*D19)/AK43,(AA179+AK35*D19)/AL43,(AA180+AK35*D19)/AM43,(AA181+AK35*D19)/AN43,(AA182+AK35*D19)/AO43)*AP43","v":{"$error":"#VALUE!"}},{"$f":"MIN((AB178+AK35*D19)/AK43,(AB179+AK35*D19)/AL43,(AB180+AK35*D19)/AM43,(AB181+AK35*D19)/AN43,(AB182+AK35*D19)/AO43)*AP43","v":{"$error":"#VALUE!"}},{"$f":"MIN((AC178+AK35*D19)/AK43,(AC179+AK35*D19)/AL43,(AC180+AK35*D19)/AM43,(AC181+AK35*D19)/AN43,(AC182+AK35*D19)/AO43)*AP43","v":{"$error":"#VALUE!"}},{"$f":"MIN((AD178+AK35*D19)/AK43,(AD179+AK35*D19)/AL43,(AD180+AK35*D19)/AM43,(AD181+AK35*D19)/AN43,(AD182+AK35*D19)/AO43)*AP43","v":{"$error":"#VALUE!"}},{"$f":"MIN((AE178+AK35*D19)/AK43,(AE179+AK35*D19)/AL43,(AE180+AK35*D19)/AM43,(AE181+AK35*D19)/AN43,(AE182+AK35*D19)/AO43)*AP43","v":{"$error":"#VALUE!"}},{"$f":"MIN((AF178+AK35*D19)/AK43,(AF179+AK35*D19)/AL43,(AF180+AK35*D19)/AM43,(AF181+AK35*D19)/AN43,(AF182+AK35*D19)/AO43)*AP43","v":{"$error":"#VALUE!"}},{"$error":"#VALUE!"},null,null,{"$f":"IF(AV24=4,AI24,IF(AV25=4,AI25,IF(AV26=4,AI26,IF(AV27=4,AI27,IF(AV28=4,AI28,IF(AV29=4,AI29,IF(AV31=4,AI31,BS83)))))))","v":"attente"},{"$f":"IF(AV16=4,AI16,IF(AV17=4,AI17,IF(AV18=4,AI18,IF(AV19=4,AI19,IF(AV20=4,AI20,IF(AV21=4,AI21,IF(AV22=4,AI22,IF(AV23=4,AI23,BS73))))))))","v":"attente"},{"$f":"IF(AV24=4,BP99,IF(AV25=4,BP100,IF(AV26=4,BP101,IF(AV27=4,BP102,IF(AV28=4,BP103,IF(AV29=4,BP104,IF(AV31=4,BP105,0)))))))","v":0},{"$f":"IF(AV16=4,BP91,IF(AV17=4,BP92,IF(AV18=4,BP93,IF(AV19=4,BP94,IF(AV20=4,BP95,IF(AV21=4,BP96,IF(AV22=4,BP97,IF(AV23=4,BP98,BU73))))))))","v":0},{"$f":"IF(AV8=4,BP83,IF(AV9=4,BP84,IF(AV10=4,BP85,IF(AV11=4,BP86,IF(AV12=4,BP87,IF(AV13=4,BP88,IF(AV14=4,BP89,IF(AV15=4,BP90,BV73))))))))","v":{"$error":"#VALUE!"}},null,null,null,"defensif",null,"neutre",null,"offensif",null,null,null,null,"att","def","tot","att","def","tot","att","def","tot","att","def","tot","att","def","tot","att","def","tot","att","def","tot","att","def","tot","att","def","tot","att","def","tot","att","def","tot","att","def","tot"]
[null,null,null,null,"541 neutre",null,null,"433 neutre",null,null,"352 neutre",null,null,"442 neutre",null,null,null,{"$f":"IF($AX$306,I13+VLOOKUP(Team!$Y19,Team!$E$30:$J$300,6,FALSE),I13+AH40+$D$21)+$D$19*$AG$10","v":{"$error":"#VALUE!"}},{"$f":"IF($AX$306,$R74,$R74+Q11)","v":{"$error":"#VALUE!"}},{"$error":"#VALUE!"},{"$error":"#VALUE!"},{"$error":"#VALUE!"},{"$error":"#VALUE!"},{"$error":"#VALUE!"},{"$error":"#VALUE!"},{"$error":"#VALUE!"},{"$error":"#VALUE!"},{"$error":"#VALUE!"},{"$error":"#VALUE!"},{"$error":"#VALUE!"},{"$error":"#VALUE!"},{"$error":"#VALUE!"},null,null,null,"",{"$f":"MIN((S185+$AJ$35*$D$19)/$AK$42,(S186+$AJ$35*$D$19)/$AL$42,(S187+$AJ$35*$D$19)/$AM$42,(S188+$AJ$35*$D$19)/$AN$42,(S189+$AJ$35*$D$19)/$AO$42)*$AP$42","v":{"$error":"#VALUE!"}},{"$error":"#VALUE!"},{"$error":"#VALUE!"},{"$error":"#VALUE!"},{"$error":"#VALUE!"},{"$error":"#VALUE!"},{"$error":"#VALUE!"},{"$error":"#VALUE!"},{"$error":"#VALUE!"},{"$error":"#VALUE!"},{"$error":"#VALUE!"},{"$error":"#VALUE!"},{"$error":"#VALUE!"},{"$error":"#VALUE!"},{"$error":"#VALUE!"},null,"",{"$f":"MIN((S185+$AK$35*$D$19)/$AK$43,(S186+$AK$35*$D$19)/$AL$43,(S187+$AK$35*$D$19)/$AM$43,(S188+$AK$35*$D$19)/$AN$43,(S189+$AK$35*$D$19)/$AO$43)*$AP$43","v":{"$error":"#VALUE!"}},{"$error":"#VALUE!"},{"$error":"#VALUE!"},{"$error":"#VALUE!"},{"$error":"#VALUE!"},{"$error":"#VALUE!"},{"$error":"#VALUE!"},{"$error":"#VALUE!"},{"$error":"#VALUE!"},{"$error":"#VALUE!"},{"$error":"#VALUE!"},{"$error":"#VALUE!"},{"$error":"#VALUE!"},{"$error":"#VALUE!"},{"$error":"#VALUE!"},null,null,{"$f":"IF(AV24=5,AI24,IF(AV25=5,AI25,IF(AV26=5,AI26,IF(AV27=5,AI27,IF(AV28=5,AI28,IF(AV29=5,AI29,IF(AV31=5,AI31,BS83)))))))","v":"attente"},{"$f":"IF(AV16=5,AI16,IF(AV17=5,AI17,IF(AV18=5,AI18,IF(AV19=5,AI19,IF(AV20=5,AI20,IF(AV21=5,AI21,IF(AV22=5,AI22,IF(AV23=5,AI23,BS74))))))))","v":"attente"},{"$f":"IF(AV24=5,AY126,IF(AV25=5,AY127,IF(AV26=5,AY128,IF(AV27=5,AY129,IF(AV28=5,AY130,IF(AV29=5,AY131,IF(AV31=5,AY132,0)))))))","v":0},{"$f":"IF(AV16=5,AY118,IF(AV17=5,AY119,IF(AV18=5,AY120,IF(AV19=5,AY121,IF(AV20=5,AY122,IF(AV21=5,AY123,IF(AV22=5,AY124,IF(AV23=5,AY125,BU74))))))))","v":0},{"$f":"IF(AV8=5,AY110,IF(AV9=5,AY111,IF(AV10=5,AY112,IF(AV11=5,AY113,IF(AV12=5,AY114,IF(AV13=5,AY115,IF(AV14=5,AY116,IF(AV15=5,AY117,BV74))))))))","v":{"$error":"#VALUE!"}},null,null,null,"att","def","att","def","att","def",null,"adversaire",null,{"$f":"ROUND(CG69*(100+$BU$13)/100*($BU$14+100)/100*(100+$BU$15)/100*(100+$BU$16)/100*($BU$17+100)/100*(100+$BU$18)/100,2)","v":{"$error":"#VALUE!"}},{"$error":"#VALUE!"},{"$error":"#VALUE!"},{"$error":"#VALUE!"},{"$error":"#VALUE!"},{"$error":"#VALUE!"},{"$error":"#VALUE!"},{"$error":"#VALUE!"},{"$error":"#VALUE!"},{"$error":"#VALUE!"},{"$error":"#VALUE!"},{"$error":"#VALUE!"},{"$error":"#VALUE!"},{"$error":"#VALUE!"},{"$error":"#VALUE!"},{"$error":"#VALUE!"},{"$error":"#VALUE!"},{"$error":"#VALUE!"},{"$error":"#VALUE!"},{"$error":"#VALUE!"},{"$error":"#VALUE!"},{"$error":"#VALUE!"},{"$error":"#VALUE!"},{"$error":"#VALUE!"},{"$error":"#VALUE!"},{"$error":"#VALUE!"},{"$error":"#VALUE!"},{"$error":"#VALUE!"},{"$error":"#VALUE!"},{"$error":"#VALUE!"},{"$error":"#VALUE!"},{"$error":"#VALUE!"},{"$error":"#VALUE!"},{"$error":"#VALUE!"},{"$error":"#VALUE!"},{"$error":"#VALUE!"}]
[null,null,null,null,"1% attaque","1% defense","1% cumulé","1% attaque","1% defense","1% cumulé","1% attaque","1% defense","1% cumulé","1% attaque","1% defense","1% cumulé",null,{"$f":"IF($AX$306,J13+VLOOKUP(Team!$Z19,Team!$E$30:$J$300,6,FALSE),J13+AH41+$D$21)+$D$19*$AG$10","v":{"$error":"#VALUE!"}},{"$error":"#VALUE!"},{"$error":"#VALUE!"},{"$error":"#VALUE!"},{"$error":"#VALUE!"},{"$error":"#VALUE!"},{"$error":"#VALUE!"},{"$error":"#VALUE!"},{"$error":"#VALUE!"},{"$error":"#VALUE!"},{"$error":"#VALUE!"},{"$error":"#VALUE!"},{"$error":"#VALUE!"},{"$error":"#VALUE!"},{"$error":"#VALUE!"},null,null,null,"",{"$f":"MIN((S192+$AJ$35*$D$19)/$AK$42,(S193+$AJ$35*$D$19)/$AL$42,(S194+$AJ$35*$D$19)/$AM$42,(S195+$AJ$35*$D$19)/$AN$42,(S196+$AJ$35*$D$19)/$AO$42)*$AP$42","v":{"$error":"#VALUE!"}},{"$error":"#VALUE!"},{"$error":"#VALUE!"},{"$error":"#VALUE!"},{"$error":"#VALUE!"},{"$error":"#VALUE!"},{"$error":"#VALUE!"},{"$error":"#VALUE!"},{"$error":"#VALUE!"},{"$error":"#VALUE!"},{"$error":"#VALUE!"},{"$error":"#VALUE!"},{"$error":"#VALUE!"},{"$error":"#VALUE!"},{"$error":"#VALUE!"},null,"",{"$f":"MIN((S192+$AK$35*$D$19)/$AK$43,(S193+$AK$35*$D$19)/$AL$43,(S194+$AK$35*$D$19)/$AM$43,(S195+$AK$35*$D$19)/$AN$43,(S196+$AK$35*$D$19)/$AO$43)*$AP$43","v":{"$error":"#VALUE!"}},{"$error":"#VALUE!"},{"$error":"#VALUE!"},{"$error":"#VALUE!"},{"$error":"#VALUE!"},{"$error":"#VALUE!"},{"$error":"#VALUE!"},{"$error":"#VALUE!"},{"$error":"#VALUE!"},{"$error":"#VALUE!"},{"$error":"#VALUE!"},{"$error":"#VALUE!"},{"$error":"#VALUE!"},{"$error":"#VALUE!"},{"$error":"#VALUE!"},null,null,{"$f":"IF(AV24=6,AI24,IF(AV25=6,AI25,IF(AV26=6,AI26,IF(AV27=6,AI27,IF(AV28=6,AI28,IF(AV29=6,AI29,IF(AV31=6,AI31,BS83)))))))","v":"attente"},{"$f":"IF(AV16=6,AI16,IF(AV17=6,AI17,IF(AV18=6,AI18,IF(AV19=6,AI19,IF(AV20=6,AI20,IF(AV21=6,AI21,IF(AV22=6,AI22,IF(AV23=6,AI23,BS75))))))))","v":"attente"},{"$f":"IF(AV24=6,BP126,IF(AV25=6,BP127,IF(AV26=6,BP128,IF(AV27=6,BP129,IF(AV28=6,BP130,IF(AV29=6,BP131,IF(AV31=6,BP132,0)))))))","v":0},{"$f":"IF(AV16=6,BP118,IF(AV17=6,BP119,IF(AV18=6,BP120,IF(AV19=6,BP121,IF(AV20=6,BP122,IF(AV21=6,BP123,IF(AV22=6,BP124,IF(AV23=6,BP125,BU75))))))))","v":0},{"$f":"IF(AV8=6,BP110,IF(AV9=6,BP111,IF(AV10=6,BP112,IF(AV11=6,BP113,IF(AV12=6,BP114,IF(AV13=6,BP115,IF(AV14=6,BP116,IF(AV15=6,BP117,BV75))))))))","v":{"$error":"#VALUE!"}},null,null,null,{"$f":"IF($CA$15=1,CG69,IF($CA$15=2,CP69,IF($CA$15=3,CY69,IF($CA$15=4,DH69,erreur))))","v":{"$error":"#VALUE!"}},{"$f":"IF($CA$15=1,CH69,IF($CA$15=2,CQ69,IF($CA$15=3,CZ69,IF($CA$15=4,DI69,erreur))))","v":{"$error":"#VALUE!"}},{"$f":"IF($CA$15=1,CJ69,IF($CA$15=2,CS69,IF($CA$15=3,DB69,IF($CA$15=4,DK69,erreur))))","v":{"$error":"#VALUE!"}},{"$f":"IF($CA$15=1,CK69,IF($CA$15=2,CT69,IF($CA$15=3,DC69,IF($CA$15=4,DL69,erreur))))","v":{"$error":"#VALUE!"}},{"$f":"IF($CA$15=1,CM69,IF($CA$15=2,CV69,IF($CA$15=3,DE69,IF($CA$15=4,DN69,erreur))))","v":{"$error":"#VALUE!"}},{"$f":"IF($CA$15=1,CN69,IF($CA$15=2,CW69,IF($CA$15=3,DF69,IF($CA$15=4,DO69,erreur))))","v":{"$error":"#VALUE!"}},null,"mon équipe",null,{"$f":"ROUND(CH92*(100+$BN$13)/100*(100+$BN$14)/100*(100+$BN$15)/100*(100+$BN$16)/100*($BN$17+100)/100*(100+$BN$18)/100,2)","v":{"$error":"#VALUE!"}},{"$error":"#VALUE!"},{"$error":"#VALUE!"},{"$error":"#VALUE!"},{"$error":"#VALUE!"},{"$error":"#VALUE!"},{"$error":"#VALUE!"},{"$error":"#VALUE!"},{"$error":"#VALUE!"},{"$error":"#VALUE!"},{"$error":"#VALUE!"},{"$error":"#VALUE!"},{"$error":"#VALUE!"},{"$error":"#VALUE!"},{"$error":"#VALUE!"},{"$error":"#VALUE!"},{"$error":"#VALUE!"},{"$error":"#VALUE!"},{"$error":"#VALUE!"},{"$error":"#VALUE!"},{"$error":"#VALUE!"},{"$error":"#VALUE!"},{"$error":"#VALUE!"},{"$error":"#VALUE!"},{"$error":"#VALUE!"},{"$error":"#VALUE!"},{"$error":"#VALUE!"},{"$error":"#VALUE!"},{"$error":"#VALUE!"},{"$error":"#VALUE!"},{"$error":"#VALUE!"},{"$error":"#VALUE!"},{"$error":"#VALUE!"},{"$error":"#VALUE!"},{"$error":"#VALUE!"},{"$error":"#VALUE!"}]
[null,null,null,null,5.4449999999999998E-2,2.6702499999999998,{"$f":"E76+F76","v":2.7246999999999999},0.16345000000000001,2.5613000000000001,{"$f":"H76+I76","v":2.7247500000000002},5.4449999999999998E-2,2.6702499999999998,{"$f":"K76+L76","v":2.7246999999999999},5.4449999999999998E-2,2.6702499999999998,{"$f":"N76+O76","v":2.7246999999999999},null,{"$f":"IF($AX$306,K13+VLOOKUP(Team!$AA19,Team!$E$30:$J$300,6,FALSE),K13+AH42+$D$21)+$D$19*$AG$10","v":{"$error":"#VALUE!"}},{"$error":"#VALUE!"},{"$error":"#VALUE!"},{"$error":"#VALUE!"},{"$error":"#VALUE!"},{"$error":"#VALUE!"},{"$error":"#VALUE!"},{"$error":"#VALUE!"},{"$error":"#VALUE!"},{"$error":"#VALUE!"},{"$error":"#VALUE!"},{"$error":"#VALUE!"},{"$error":"#VALUE!"},{"$error":"#VALUE!"},{"$error":"#VALUE!"},null,null,null,"",{"$f":"MIN((S199+$AJ$35*$D$19)/$AK$42,(S200+$AJ$35*$D$19)/$AL$42,(S201+$AJ$35*$D$19)/$AM$42,(S202+$AJ$35*$D$19)/$AN$42,(S203+$AJ$35*$D$19)/$AO$42)*$AP$42","v":{"$error":"#VALUE!"}},{"$error":"#VALUE!"},{"$error":"#VALUE!"},{"$error":"#VALUE!"},{"$error":"#VALUE!"},{"$error":"#VALUE!"},{"$error":"#VALUE!"},{"$error":"#VALUE!"},{"$error":"#VALUE!"},{"$error":"#VALUE!"},{"$error":"#VALUE!"},{"$error":"#VALUE!"},{"$error":"#VALUE!"},{"$error":"#VALUE!"},{"$error":"#VALUE!"},null,"",{"$f":"MIN((S199+$AK$35*$D$19)/$AK$43,(S200+$AK$35*$D$19)/$AL$43,(S201+$AK$35*$D$19)/$AM$43,(S202+$AK$35*$D$19)/$AN$43,(S203+$AK$35*$D$19)/$AO$43)*$AP$43","v":{"$error":"#VALUE!"}},{"$error":"#VALUE!"},{"$error":"#VALUE!"},{"$error":"#VALUE!"},{"$error":"#VALUE!"},{"$error":"#VALUE!"},{"$error":"#VALUE!"},{"$error":"#VALUE!"},{"$error":"#VALUE!"},{"$error":"#VALUE!"},{"$error":"#VALUE!"},{"$error":"#VALUE!"},{"$error":"#VALUE!"},{"$error":"#VALUE!"},{"$error":"#VALUE!"},null,null,{"$f":"IF(AV24=7,AI24,IF(AV25=7,AI25,IF(AV26=7,AI26,IF(AV27=7,AI27,IF(AV28=7,AI28,IF(AV29=7,AI29,IF(AV31=7,AI31,BS83)))))))","v":"attente"},{"$f":"IF(AV16=7,AI16,IF(AV17=7,AI17,IF(AV18=7,AI18,IF(AV19=7,AI19,IF(AV20=7,AI20,IF(AV21=7,AI21,IF(AV22=7,AI22,IF(AV23=7,AI23,BS76))))))))","v":"attente"},{"$f":"IF(AV24=7,AY153,IF(AV25=7,AY154,IF(AV26=7,AY155,IF(AV27=7,AY156,IF(AV28=7,AY157,IF(AV29=7,AY158,IF(AV31=7,AY159,0)))))))","v":0},{"$f":"IF(AV16=7,AY145,IF(AV17=7,AY146,IF(AV18=7,AY147,IF(AV19=7,AY148,IF(AV20=7,AY149,IF(AV21=7,AY150,IF(AV22=7,AY151,IF(AV23=7,AY152,BU76))))))))","v":0},{"$f":"IF(AV8=7,AY137,IF(AV9=7,AY138,IF(AV10=7,AY139,IF(AV11=7,AY140,IF(AV12=7,AY141,IF(AV13=7,AY142,IF(AV14=7,AY143,IF(AV15=7,AY144,BV76))))))))","v":{"$error":"#VALUE!"}}]
[null,null,null,null,0.40870000000000001,0.95365,{"$f":"E77+F77","v":1.3623499999999999},0.81740000000000002,0.54495000000000005,1.3623500000000002,1.1353,1.1353,{"$f":"K77+L77","v":2.2706},0.54495000000000005,0.81740000000000002,{"$f":"N77+O77","v":1.3623500000000002},null,{"$f":"IF($AX$306,L13+VLOOKUP(Team!$AB19,Team!$E$30:$J$300,6,FALSE),L13+AH43+$D$21)+$D$19*$AG$10","v":{"$error":"#VALUE!"}},{"$error":"#VALUE!"},{"$error":"#VALUE!"},{"$error":"#VALUE!"},{"$error":"#VALUE!"},{"$error":"#VALUE!"},{"$error":"#VALUE!"},{"$error":"#VALUE!"},{"$error":"#VALUE!"},{"$error":"#VALUE!"},{"$error":"#VALUE!"},{"$error":"#VALUE!"},{"$error":"#VALUE!"},{"$error":"#VALUE!"},{"$error":"#VALUE!"},null,null,null,{"$f":"AJ212","v":""},{"$f":"MIN((S206+$AJ$35*$D$19)/$AK$42,(S207+$AJ$35*$D$19)/$AL$42,(S208+$AJ$35*$D$19)/$AM$42,(S209+$AJ$35*$D$19)/$AN$42,(S210+$AJ$35*$D$19)/$AO$42)*$AP$42","v":{"$error":"#VALUE!"}},{"$error":"#VALUE!"},{"$error":"#VALUE!"},{"$error":"#VALUE!"},{"$error":"#VALUE!"},{"$error":"#VALUE!"},{"$error":"#VALUE!"},{"$error":"#VALUE!"},{"$error":"#VALUE!"},{"$error":"#VALUE!"},{"$error":"#VALUE!"},{"$error":"#VALUE!"},{"$error":"#VALUE!"},{"$error":"#VALUE!"},{"$error":"#VALUE!"},null,{"$f":"AJ212","v":""},{"$f":"MIN((S206+$AK$35*$D$19)/$AK$43,(S207+$AK$35*$D$19)/$AL$43,(S208+$AK$35*$D$19)/$AM$43,(S209+$AK$35*$D$19)/$AN$43,(S210+$AK$35*$D$19)/$AO$43)*$AP$43","v":{"$error":"#VALUE!"}},{"$error":"#VALUE!"},{"$error":"#VALUE!"},{"$error":"#VALUE!"},{"$error":"#VALUE!"},{"$error":"#VALUE!"},{"$error":"#VALUE!"},{"$error":"#VALUE!"},{"$error":"#VALUE!"},{"$error":"#VALUE!"},{"$error":"#VALUE!"},{"$error":"#VALUE!"},{"$error":"#VALUE!"},{"$error":"#VALUE!"},{"$error":"#VALUE!"},null,null,{"$f":"IF(AV24=8,AI24,IF(AV25=8,AI25,IF(AV26=8,AI26,IF(AV27=8,AI27,IF(AV28=8,AI28,IF(AV29=8,AI29,IF(AV31=8,AI31,BS83)))))))","v":"attente"},{"$f":"IF(AV16=8,AI16,IF(AV17=8,AI17,IF(AV18=8,AI18,IF(AV19=8,AI19,IF(AV20=8,AI20,IF(AV21=8,AI21,IF(AV22=8,AI22,IF(AV23=8,AI23,BS77))))))))","v":"attente"},{"$f":"IF(AV24=8,BP153,IF(AV25=8,BP154,IF(AV26=8,BP155,IF(AV27=8,BP156,IF(AV28=8,BP157,IF(AV29=8,BP158,IF(AV31=8,BP159,0)))))))","v":0},{"$f":"IF(AV16=8,BP145,IF(AV17=8,BP146,IF(AV18=8,BP147,IF(AV19=8,BP148,IF(AV20=8,BP149,IF(AV21=8,BP150,IF(AV22=8,BP151,IF(AV23=8,BP152,BU77))))))))","v":0},{"$f":"IF(AV8=8,BP137,IF(AV9=8,BP138,IF(AV10=8,BP139,IF(AV11=8,BP140,IF(AV12=8,BP141,IF(AV13=8,BP142,IF(AV14=8,BP143,IF(AV15=8,BP144,BV77))))))))","v":{"$error":"#VALUE!"}},null,null,null,null,null,null,null,null,null,"stats brutes joueurs mon equipe par position sans bonus match"]
[null,null,null,null,0.40870000000000001,0.95365,1.3623499999999999,0.81740000000000002,0.54495000000000005,1.3623500000000002,1.1353,1.1353,2.2706,0.54495000000000005,0.81740000000000002,1.3623500000000002,null,null,null,null,null,null,null,null,null,null,null,null,null,null,null,null,null,null,null,{"$f":"AJ213","v":0},{"$f":"MIN((S213+$AJ$35*$D$19)/$AK$42,(S214+$AJ$35*$D$19)/$AL$42,(S215+$AJ$35*$D$19)/$AM$42,(S216+$AJ$35*$D$19)/$AN$42,(S217+$AJ$35*$D$19)/$AO$42)*$AP$42","v":{"$error":"#VALUE!"}},{"$error":"#VALUE!"},{"$error":"#VALUE!"},{"$error":"#VALUE!"},{"$error":"#VALUE!"},{"$error":"#VALUE!"},{"$error":"#VALUE!"},{"$error":"#VALUE!"},{"$error":"#VALUE!"},{"$error":"#VALUE!"},{"$error":"#VALUE!"},{"$error":"#VALUE!"},{"$error":"#VALUE!"},{"$error":"#VALUE!"},{"$error":"#VALUE!"},null,{"$f":"AJ213","v":0},{"$f":"MIN((S213+$AK$35*$D$19)/$AK$43,(S214+$AK$35*$D$19)/$AL$43,(S215+$AK$35*$D$19)/$AM$43,(S216+$AK$35*$D$19)/$AN$43,(S217+$AK$35*$D$19)/$AO$43)*$AP$43","v":{"$error":"#VALUE!"}},{"$error":"#VALUE!"},{"$error":"#VALUE!"},{"$error":"#VALUE!"},{"$error":"#VALUE!"},{"$error":"#VALUE!"},{"$error":"#VALUE!"},{"$error":"#VALUE!"},{"$error":"#VALUE!"},{"$error":"#VALUE!"},{"$error":"#VALUE!"},{"$error":"#VALUE!"},{"$error":"#VALUE!"},{"$error":"#VALUE!"},{"$error":"#VALUE!"},null,null,{"$f":"IF(AV24=9,AI24,IF(AV25=9,AI25,IF(AV26=9,AI26,IF(AV27=9,AI27,IF(AV28=9,AI28,IF(AV29=9,AI29,IF(AV31=9,AI31,BS83)))))))","v":"attente"},{"$f":"IF(AV16=9,AI16,IF(AV17=9,AI17,IF(AV18=9,AI18,IF(AV19=9,AI19,IF(AV20=9,AI20,IF(AV21=9,AI21,IF(AV22=9,AI22,IF(AV23=9,AI23,BS78))))))))","v":""},{"$f":"IF(AV24=9,AY180,IF(AV25=9,AY181,IF(AV26=9,AY182,IF(AV27=9,AY183,IF(AV28=9,AY184,IF(AV29=9,AY185,IF(AV31=9,AY186,0)))))))","v":0},{"$f":"IF(AV16=9,AY172,IF(AV17=9,AY173,IF(AV18=9,AY174,IF(AV19=9,AY175,IF(AV20=9,AY176,IF(AV21=9,AY177,IF(AV22=9,AY178,IF(AV23=9,AY179,BU78))))))))","v":{"$error":"#VALUE!"}},{"$f":"IF(AV8=9,AY164,IF(AV9=9,AY165,IF(AV10=9,AY166,IF(AV11=9,AY167,IF(AV12=9,AY168,IF(AV13=9,AY169,IF(AV14=9,AY170,IF(AV15=9,AY171,BV78))))))))","v":{"$error":"#VALUE!"}},null,null,null,null,null,null,null,null,null,null,541,null,null,null,null,null,null,null,null,433,null,null,null,null,null,null,null,null,352,null,null,null,null,null,null,null,null,442]
[null,null,null,null,0.36330000000000001,1.4532,1.8165,0.27245000000000003,0.63575000000000004,0.90820000000000012,0.27245000000000003,0.63575000000000004,0.90820000000000012,0.54495000000000005,1.27155,1.8165,null,{"$f":"G14","v":""},{"$f":"S72","v":"kit 1"},{"$f":"T72","v":"kit 2/3"},0,"kit 4",0,"kit 5","kit 6/7",0,0,"kit 8","kit 9",0,{"$f":"AE72","v":"kit 10"},{"$f":"AF72","v":"kit 11"},null,null,null,{"$f":"AJ214","v":0},{"$f":"MIN((S220+$AJ$35*$D$19)/$AK$42,(S221+$AJ$35*$D$19)/$AL$42,(S222+$AJ$35*$D$19)/$AM$42,(S223+$AJ$35*$D$19)/$AN$42,(S224+$AJ$35*$D$19)/$AO$42)*$AP$42","v":{"$error":"#VALUE!"}},{"$error":"#VALUE!"},{"$error":"#VALUE!"},{"$error":"#VALUE!"},{"$error":"#VALUE!"},{"$error":"#VALUE!"},{"$error":"#VALUE!"},{"$error":"#VALUE!"},{"$error":"#VALUE!"},{"$error":"#VALUE!"},{"$error":"#VALUE!"},{"$error":"#VALUE!"},{"$error":"#VALUE!"},{"$error":"#VALUE!"},{"$error":"#VALUE!"},null,{"$f":"AJ214","v":0},{"$f":"MIN((S220+$AK$35*$D$19)/$AK$43,(S221+$AK$35*$D$19)/$AL$43,(S222+$AK$35*$D$19)/$AM$43,(S223+$AK$35*$D$19)/$AN$43,(S224+$AK$35*$D$19)/$AO$43)*$AP$43","v":{"$error":"#VALUE!"}},{"$error":"#VALUE!"},{"$error":"#VALUE!"},{"$error":"#VALUE!"},{"$error":"#VALUE!"},{"$error":"#VALUE!"},{"$error":"#VALUE!"},{"$error":"#VALUE!"},{"$error":"#VALUE!"},{"$error":"#VALUE!"},{"$error":"#VALUE!"},{"$error":"#VALUE!"},{"$error":"#VALUE!"},{"$error":"#VALUE!"},{"$error":"#VALUE!"},null,null,{"$f":"IF(AV24=10,AI24,IF(AV25=10,AI25,IF(AV26=10,AI26,IF(AV27=10,AI27,IF(AV28=10,AI28,IF(AV29=10,AI29,IF(AV31=10,AI31,BS83)))))))","v":"attente"},{"$f":"IF(AV16=10,AI16,IF(AV17=10,AI17,IF(AV18=10,AI18,IF(AV19=10,AI19,IF(AV20=10,AI20,IF(AV21=10,AI21,IF(AV22=10,AI22,IF(AV23=10,AI23,BS79))))))))","v":""},{"$f":"IF(AV24=10,BP180,IF(AV25=10,BP181,IF(AV26=10,BP182,IF(AV27=10,BP183,IF(AV28=10,BP184,IF(AV29=10,BP185,IF(AV31=10,BP186,0)))))))","v":0},{"$f":"IF(AV16=10,BP172,IF(AV17=10,BP173,IF(AV18=10,BP174,IF(AV19=10,BP175,IF(AV20=10,BP176,IF(AV21=10,BP177,IF(AV22=10,BP178,IF(AV23=10,BP179,BU79))))))))","v":{"$error":"#VALUE!"}},{"$f":"IF(AV8=10,BP164,IF(AV9=10,BP165,IF(AV10=10,BP166,IF(AV11=10,BP167,IF(AV12=10,BP168,IF(AV13=10,BP169,IF(AV14=10,BP170,IF(AV15=10,BP171,BV79))))))))","v":{"$error":"#VALUE!"}},null,null,"match nul",null,null,null,null,null,null,null,"defensif",null,null,"neutre",null,null,"offensif",null,null,"defensif",null,null,"neutre",null,null,"offensif",null,null,"defensif",null,null,"neutre",null,null,"offensif",null,null,"defensif",null,null,"neutre",null,null,"offensif"]
[null,null,null,null,0.36330000000000001,1.4532,1.8165,0.68115000000000003,0.68115000000000003,1.3623000000000001,0.36330000000000001,0.54495000000000005,0.90825,0.90825,0.90825,1.8165,null,{"$f":"IF($AX$306,H14+VLOOKUP(Team!$X$20,Team!$E$30:$J$300,6,FALSE),H14+AH39+$D$21)+$D$19*$AG$11","v":{"$error":"#VALUE!"}},{"$f":"IF($AX$306,$R80,$R80+Q10)","v":{"$error":"#VALUE!"}},{"$f":"IF($AX$306,$R80,$R80+R10)","v":{"$error":"#VALUE!"}},{"$error":"#VALUE!"},{"$error":"#VALUE!"},{"$error":"#VALUE!"},{"$error":"#VALUE!"},{"$error":"#VALUE!"},{"$error":"#VALUE!"},{"$error":"#VALUE!"},{"$error":"#VALUE!"},{"$error":"#VALUE!"},{"$error":"#VALUE!"},{"$error":"#VALUE!"},{"$error":"#VALUE!"},null,null,null,{"$f":"AJ215","v":0},{"$f":"MIN((S227+$AJ$35*$D$19)/$AK$42,(S228+$AJ$35*$D$19)/$AL$42,(S229+$AJ$35*$D$19)/$AM$42,(S229+$AJ$35*$D$19)/$AN$42,(S230+$AJ$35*$D$19)/$AO$42)*$AP$42","v":{"$error":"#VALUE!"}},{"$error":"#VALUE!"},{"$error":"#VALUE!"},{"$error":"#VALUE!"},{"$error":"#VALUE!"},{"$error":"#VALUE!"},{"$error":"#VALUE!"},{"$error":"#VALUE!"},{"$error":"#VALUE!"},{"$error":"#VALUE!"},{"$error":"#VALUE!"},{"$error":"#VALUE!"},{"$error":"#VALUE!"},{"$error":"#VALUE!"},{"$error":"#VALUE!"},null,{"$f":"AJ215","v":0},{"$f":"MIN((S227+$AK$35*$D$19)/$AK$43,(S228+$AK$35*$D$19)/$AL$43,(S229+$AK$35*$D$19)/$AM$43,(S230+$AK$35*$D$19)/$AN$43,(S231+$AK$35*$D$19)/$AO$43)*$AP$43","v":{"$error":"#VALUE!"}},{"$error":"#VALUE!"},{"$error":"#VALUE!"},{"$error":"#VALUE!"},{"$error":"#VALUE!"},{"$error":"#VALUE!"},{"$error":"#VALUE!"},{"$error":"#VALUE!"},{"$error":"#VALUE!"},{"$error":"#VALUE!"},{"$error":"#VALUE!"},{"$error":"#VALUE!"},{"$error":"#VALUE!"},{"$error":"#VALUE!"},{"$error":"#VALUE!"},null,null,{"$f":"IF(AV24=11,AI24,IF(AV25=11,AI25,IF(AV26=11,AI26,IF(AV27=11,AI27,IF(AV28=11,AI28,IF(AV29=11,AI29,IF(AV31=11,AI31,BS83)))))))","v":"attente"},{"$f":"IF(AV16=11,AI16,IF(AV17=11,AI17,IF(AV18=11,AI18,IF(AV19=11,AI19,IF(AV20=11,AI20,IF(AV21=11,AI21,IF(AV22=11,AI22,IF(AV23=11,AI23,BS80))))))))","v":""},{"$f":"IF(AV24=11,AY207,IF(AV25=11,AY208,IF(AV26=11,AY209,IF(AV27=11,AY210,IF(AV28=11,AY211,IF(AV29=11,AY212,IF(AV31=11,AY213,0)))))))","v":0},{"$f":"IF(AV16=11,AY199,IF(AV17=11,AY200,IF(AV18=11,AY201,IF(AV19=11,AY202,IF(AV20=11,AY203,IF(AV21=11,AY204,IF(AV22=11,AY205,IF(AV23=11,AY206,BU80))))))))","v":{"$error":"#VALUE!"}},{"$f":"IF(AV8=11,AY191,IF(AV9=11,AY192,IF(AV10=11,AY193,IF(AV11=11,AY194,IF(AV12=11,AY195,IF(AV13=11,AY196,IF(AV14=11,AY197,IF(AV15=11,AY198,BV80))))))))","v":{"$error":"#VALUE!"}},null,null,"défaite",null,null,null,null,null,null,null,"att","def","tot","att","def","tot","att","def","tot","att","def","tot","att","def","tot","att","def","tot","att","def","tot","att","def","tot","att","def","tot","att","def","tot","att","def","tot","att","def","tot"]
[null,null,null,null,0.68115000000000003,1.58945,2.2706,0.95365,0.40870000000000001,1.3623499999999999,0.90825,0.90825,1.8165,0.90825,0.90825,1.8165,null,{"$f":"IF($AX$306,I14+VLOOKUP(Team!$Y$20,Team!$E$30:$J$300,6,FALSE),I14+AH40+$D$21)+$D$19*$AG$11","v":{"$error":"#VALUE!"}},{"$f":"IF($AX$306,$R81,$R81+Q11)","v":{"$error":"#VALUE!"}},{"$error":"#VALUE!"},{"$error":"#VALUE!"},{"$error":"#VALUE!"},{"$error":"#VALUE!"},{"$error":"#VALUE!"},{"$error":"#VALUE!"},{"$error":"#VALUE!"},{"$error":"#VALUE!"},{"$error":"#VALUE!"},{"$error":"#VALUE!"},{"$error":"#VALUE!"},{"$error":"#VALUE!"},{"$error":"#VALUE!"},null,null,null,null,null,null,null,null,null,null,null,null,null,null,null,null,null,null,null,null,null,null,null,null,null,null,null,null,null,null,null,null,null,null,null,null,null,null,null,null,null,null,null,null,null,"victoire",null,null,null,null,null,{"$f":"BA10","v":""},null,{"$f":"BW70*E62","v":{"$error":"#VALUE!"}},{"$f":"BW70*F62","v":{"$error":"#VALUE!"}},{"$f":"BW70*G62","v":{"$error":"#VALUE!"}},{"$f":"BW70*E76","v":{"$error":"#VALUE!"}},{"$f":"BW70*F76","v":{"$error":"#VALUE!"}},{"$f":"BW70*G76","v":{"$error":"#VALUE!"}},{"$f":"BW70*E90","v":{"$error":"#VALUE!"}},{"$f":"BW70*F90","v":{"$error":"#VALUE!"}},{"$f":"BW70*G90","v":{"$error":"#VALUE!"}},{"$f":"BW70*H62","v":{"$error":"#VALUE!"}},{"$f":"BW70*I62","v":{"$error":"#VALUE!"}},{"$f":"BW70*J62","v":{"$error":"#VALUE!"}},{"$f":"BW70*H76","v":{"$error":"#VALUE!"}},{"$f":"BW70*I76","v":{"$error":"#VALUE!"}},{"$f":"BW70*J76","v":{"$error":"#VALUE!"}},{"$f":"BW70*H90","v":{"$error":"#VALUE!"}},{"$f":"BW70*I90","v":{"$error":"#VALUE!"}},{"$f":"BW70*J90","v":{"$error":"#VALUE!"}},{"$f":"BW70*K62","v":{"$error":"#VALUE!"}},{"$f":"BW70*L62","v":{"$error":"#VALUE!"}},{"$f":"BW70*M62","v":{"$error":"#VALUE!"}},{"$f":"BW70*K76","v":{"$error":"#VALUE!"}},{"$f":"BW70*L76","v":{"$error":"#VALUE!"}},{"$f":"BW70*M76","v":{"$error":"#VALUE!"}},{"$f":"BW70*K90","v":{"$error":"#VALUE!"}},{"$f":"BW70*L90","v":{"$error":"#VALUE!"}},{"$f":"BW70*M90","v":{"$error":"#VALUE!"}},{"$f":"BW70*N62","v":{"$error":"#VALUE!"}},{"$f":"BW70*O62","v":{"$error":"#VALUE!"}},{"$f":"BW70*P62","v":{"$error":"#VALUE!"}},{"$f":"BW70*N76","v":{"$error":"#VALUE!"}},{"$f":"BW70*O76","v":{"$error":"#VALUE!"}},{"$f":"BW70*P76","v":{"$error":"#VALUE!"}},{"$f":"BW70*N90","v":{"$error":"#VALUE!"}},{"$f":"BW70*O90","v":{"$error":"#VALUE!"}},{"$f":"BW70*P90","v":{"$error":"#VALUE!"}}]
[null,null,null,null,0.90825,0.90825,1.8165,0.94984999999999997,0.40705000000000002,1.3569,1.6348499999999999,1.0899000000000001,2.7247500000000002,0.81740000000000002,0.54495000000000005,1.3623500000000002,null,{"$f":"IF($AX$306,J14+VLOOKUP(Team!$Z$20,Team!$E$30:$J$300,6,FALSE),J14+AH41+$D$21)+$D$19*$AG$11","v":{"$error":"#VALUE!"}},{"$f":"IF($AX$306,$R82,$R82+Q12)","v":{"$error":"#VALUE!"}},{"$error":"#VALUE!"},{"$error":"#VALUE!"},{"$error":"#VALUE!"},{"$error":"#VALUE!"},{"$error":"#VALUE!"},{"$error":"#VALUE!"},{"$error":"#VALUE!"},{"$error":"#VALUE!"},{"$error":"#VALUE!"},{"$error":"#VALUE!"},{"$error":"#VALUE!"},{"$error":"#VALUE!"},{"$error":"#VALUE!"},null,null,null,3,{"$f":"Q9","v":"kit 1"},"kit 2/3",0,"kit 4",0,"kit 5","kit 6/7",0,0,"kit 8","kit 9",0,"kit 10","kit 11","MAX",null,4,{"$f":"Q9","v":"kit 1"},"kit 2/3",0,"kit 4",0,"kit 5","kit 6/7",0,0,"kit 8","kit 9",0,"kit 10","kit 11","MAX",null,null,null,null,null,null,null,null,null,null,null,null,null,null,null,"",null,{"$error":"#VALUE!"},{"$error":"#VALUE!"},{"$error":"#VALUE!"},{"$error":"#VALUE!"},{"$error":"#VALUE!"},{"$error":"#VALUE!"},{"$error":"#VALUE!"},{"$error":"#VALUE!"},{"$error":"#VALUE!"},{"$error":"#VALUE!"},{"$error":"#VALUE!"},{"$error":"#VALUE!"},{"$error":"#VALUE!"},{"$error":"#VALUE!"},{"$error":"#VALUE!"},{"$error":"#VALUE!"},{"$error":"#VALUE!"},{"$error":"#VALUE!"},{"$error":"#VALUE!"},{"$error":"#VALUE!"},{"$error":"#VALUE!"},{"$error":"#VALUE!"},{"$error":"#VALUE!"},{"$error":"#VALUE!"},{"$error":"#VALUE!"},{"$error":"#VALUE!"},{"$error":"#VALUE!"},{"$error":"#VALUE!"},{"$error":"#VALUE!"},{"$error":"#VALUE!"},{"$error":"#VALUE!"},{"$error":"#VALUE!"},{"$error":"#VALUE!"},{"$error":"#VALUE!"},{"$error":"#VALUE!"},{"$error":"#VALUE!"}]
[null,null,null,null,0.81740000000000002,0.54495000000000005,1.3623500000000002,1.9073500000000001,0.81740000000000002,2.7247500000000002,0.81740000000000002,0.54495000000000005,1.3623500000000002,0.81415000000000004,0.54274999999999995,1.3569,null,{"$f":"IF($AX$306,K14+VLOOKUP(Team!$AA$20,Team!$E$30:$J$300,6,FALSE),K14+AH42+$D$21)+$D$19*$AG$11","v":{"$error":"#VALUE!"}},{"$f":"IF($AX$306,$R83,$R83+Q13)","v":{"$error":"#VALUE!"}},{"$error":"#VALUE!"},{"$error":"#VALUE!"},{"$error":"#VALUE!"},{"$error":"#VALUE!"},{"$error":"#VALUE!"},{"$error":"#VALUE!"},{"$error":"#VALUE!"},{"$error":"#VALUE!"},{"$error":"#VALUE!"},{"$error":"#VALUE!"},{"$error":"#VALUE!"},{"$error":"#VALUE!"},{"$error":"#VALUE!"},null,null,null,{"$f":"AJ191","v":""},{"$f":"MIN((S59+AL35*D19)/AK44,(S60+AL35*D19)/AL44,(S61+AL35*D19)/AM44,(S62+AL35*D19)/AN44,(S63+AL35*D19)/AO44)*AP44","v":{"$error":"#VALUE!"}},{"$f":"MIN((T59+AL35*D19)/AK44,(T60+AL35*D19)/AL44,(T61+AL35*D19)/AM44,(T62+AL35*D19)/AN44,(T63+AL35*D19)/AO44)*AP44","v":{"$error":"#VALUE!"}},{"$f":"MIN((U59+AL35*D19)/AK44,(U60+AL35*D19)/AL44,(U61+AL35*D19)/AM44,(U62+AL35*D19)/AN44,(U63+AL35*D19)/AO44)*AP44","v":{"$error":"#VALUE!"}},{"$f":"MIN((V59+AL35*D19)/AK44,(V60+AL35*D19)/AL44,(V61+AL35*D19)/AM44,(V62+AL35*D19)/AN44,(V63+AL35*D19)/AO44)*AP44","v":{"$error":"#VALUE!"}},{"$f":"MIN((W59+AL35*D19)/AK44,(W60+AL35*D19)/AL44,(W61+AL35*D19)/AM44,(W62+AL35*D19)/AN44,(W63+AL35*D19)/AO44)*AP44","v":{"$error":"#VALUE!"}},{"$f":"MIN((X59+AL35*D19)/AK44,(X60+AL35*D19)/AL44,(X61+AL35*D19)/AM44,(X62+AL35*D19)/AN44,(X63+AL35*D19)/AO44)*AP44","v":{"$error":"#VALUE!"}},{"$f":"MIN((Y59+AL35*D19)/AK44,(Y60+AL35*D19)/AL44,(Y61+AL35*D19)/AM44,(Y62+AL35*D19)/AN44,(Y63+AL35*D19)/AO44)*AP44","v":{"$error":"#VALUE!"}},{"$f":"MIN((Z59+AL35*D19)/AK44,(Z60+AL35*D19)/AL44,(Z61+AL35*D19)/AM44,(Z62+AL35*D19)/AN44,(Z63+AL35*D19)/AO44)*AP44","v":{"$error":"#VALUE!"}},{"$f":"MIN((AA59+AL35*D19)/AK44,(AA60+AL35*D19)/AL44,(AA61+AL35*D19)/AM44,(AA62+AL35*D19)/AN44,(AA63+AL35*D19)/AO44)*AP44","v":{"$error":"#VALUE!"}},{"$f":"MIN((AB59+AL35*D19)/AK44,(AB60+AL35*D19)/AL44,(AB61+AL35*D19)/AM44,(AB62+AL35*D19)/AN44,(AB63+AL35*D19)/AO44)*AP44","v":{"$error":"#VALUE!"}},{"$f":"MIN((AC59+AL35*D19)/AK44,(AC60+AL35*D19)/AL44,(AC61+AL35*D19)/AM44,(AC62+AL35*D19)/AN44,(AC63+AL35*D19)/AO44)*AP44","v":{"$error":"#VALUE!"}},{"$f":"MIN((AD59+AL35*D19)/AK44,(AD60+AL35*D19)/AL44,(AD61+AL35*D19)/AM44,(AD62+AL35*D19)/AN44,(AD63+AL35*D19)/AO44)*AP44","v":{"$error":"#VALUE!"}},{"$f":"MIN((AE59+AL35*D19)/AK44,(AE60+AL35*D19)/AL44,(AE61+AL35*D19)/AM44,(AE62+AL35*D19)/AN44,(AE63+AL35*D19)/AO44)*AP44","v":{"$error":"#VALUE!"}},{"$f":"MIN((AF59+AL35*D19)/AK44,(AF60+AL35*D19)/AL44,(AF61+AL35*D19)/AM44,(AF62+AL35*D19)/AN44,(AF63+AL35*D19)/AO44)*AP44","v":{"$error":"#VALUE!"}},{"$f":"MAX(AK83:AX83)","v":{"$error":"#VALUE!"}},null,{"$f":"AJ191","v":""},{"$f":"MIN((S59+AM35*D19)/AK45,(S60+AM35*D19)/AL45,(S61+AM35*D19)/AM45,(S62+AM35*D19)/AN45,(S63+AM35*D19)/AO45)*AP45","v":{"$error":"#VALUE!"}},{"$f":"MIN((T59+AM35*D19)/AK45,(T60+AM35*D19)/AL45,(T61+AM35*D19)/AM45,(T62+AM35*D19)/AN45,(T63+AM35*D19)/AO45)*AP45","v":{"$error":"#VALUE!"}},{"$f":"MIN((U59+AM35*D19)/AK45,(U60+AM35*D19)/AL45,(U61+AM35*D19)/AM45,(U62+AM35*D19)/AN45,(U63+AM35*D19)/AO45)*AP45","v":{"$error":"#VALUE!"}},{"$f":"MIN((V59+AM35*D19)/AK45,(V60+AM35*D19)/AL45,(V61+AM35*D19)/AM45,(V62+AM35*D19)/AN45,(V63+AM35*D19)/AO45)*AP45","v":{"$error":"#VALUE!"}},{"$f":"MIN((W59+AM35*D19)/AK45,(W60+AM35*D19)/AL45,(W61+AM35*D19)/AM45,(W62+AM35*D19)/AN45,(W63+AM35*D19)/AO45)*AP45","v":{"$error":"#VALUE!"}},{"$f":"MIN((X59+AM35*D19)/AK45,(X60+AM35*D19)/AL45,(X61+AM35*D19)/AM45,(X62+AM35*D19)/AN45,(X63+AM35*D19)/AO45)*AP45","v":{"$error":"#VALUE!"}},{"$f":"MIN((Y59+AM35*D19)/AK45,(Y60+AM35*D19)/AL45,(Y61+AM35*D19)/AM45,(Y62+AM35*D19)/AN45,(Y63+AM35*D19)/AO45)*AP45","v":{"$error":"#VALUE!"}},{"$f":"MIN((Z59+AM35*D19)/AK45,(Z60+AM35*D19)/AL45,(Z61+AM35*D19)/AM45,(Z62+AM35*D19)/AN45,(Z63+AM35*D19)/AO45)*AP45","v":{"$error":"#VALUE!"}},{"$f":"MIN((AA59+AM35*D19)/AK45,(AA60+AM35*D19)/AL45,(AA61+AM35*D19)/AM45,(AA62+AM35*D19)/AN45,(AA63+AM35*D19)/AO45)*AP45","v":{"$error":"#VALUE!"}},{"$f":"MIN((AB59+AM35*D19)/AK45,(AB60+AM35*D19)/AL45,(AB61+AM35*D19)/AM45,(AB62+AM35*D19)/AN45,(AB63+AM35*D19)/AO45)*AP45","v":{"$error":"#VALUE!"}},{"$f":"MIN((AC59+AM35*D19)/AK45,(AC60+AM35*D19)/AL45,(AC61+AM35*D19)/AM45,(AC62+AM35*D19)/AN45,(AC63+AM35*D19)/AO45)*AP45","v":{"$error":"#VALUE!"}},{"$f":"MIN((AD59+AM35*D19)/AK45,(AD60+AM35*D19)/AL45,(AD61+AM35*D19)/AM45,(AD62+AM35*D19)/AN45,(AD63+AM35*D19)/AO45)*AP45","v":{"$error":"#VALUE!"}},{"$f":"MIN((AE59+AM35*D19)/AK45,(AE60+AM35*D19)/AL45,(AE61+AM35*D19)/AM45,(AE62+AM35*D19)/AN45,(AE63+AM35*D19)/AO45)*AP45","v":{"$error":"#VALUE!"}},{"$f":"MIN((AF59+AM35*D19)/AK45,(AF60+AM35*D19)/AL45,(AF61+AM35*D19)/AM45,(AF62+AM35*D19)/AN45,(AF63+AM35*D19)/AO45)*AP45","v":{"$error":"#VALUE!"}},{"$f":"MAX(BB83:BO83)","v":{"$error":"#VALUE!"}},null,null,"attente",null,null,null,null,null,null,null,null,null,null,null,null,"",null,{"$error":"#VALUE!"},{"$error":"#VALUE!"},{"$error":"#VALUE!"},{"$error":"#VALUE!"},{"$error":"#VALUE!"},{"$error":"#VALUE!"},{"$error":"#VALUE!"},{"$error":"#VALUE!"},{"$error":"#VALUE!"},{"$error":"#VALUE!"},{"$error":"#VALUE!"},{"$error":"#VALUE!"},{"$error":"#VALUE!"},{"$error":"#VALUE!"},{"$error":"#VALUE!"},{"$error":"#VALUE!"},{"$error":"#VALUE!"},{"$error":"#VALUE!"},{"$error":"#VALUE!"},{"$error":"#VALUE!"},{"$error":"#VALUE!"},{"$error":"#VALUE!"},{"$error":"#VALUE!"},{"$error":"#VALUE!"},{"$error":"#VALUE!"},{"$error":"#VALUE!"},{"$error":"#VALUE!"},{"$error":"#VALUE!"},{"$error":"#VALUE!"},{"$error":"#VALUE!"},{"$error":"#VALUE!"},{"$error":"#VALUE!"},{"$error":"#VALUE!"},{"$error":"#VALUE!"},{"$error":"#VALUE!"},{"$error":"#VALUE!"}]
[null,null,null,null,1.8165,0.4541,2.2706,2.0435500000000002,0.22705,2.2706000000000004,1.4532,0.36330000000000001,1.8165,1.6348499999999999,0.18165000000000001,1.8165,null,{"$f":"IF($AX$306,L14+VLOOKUP(Team!$AB$20,Team!$E$30:$J$300,6,FALSE),L14+AH43+$D$21)+$D$19*$AG$11","v":{"$error":"#VALUE!"}},{"$f":"IF($AX$306,$R84,$R84+Q14)","v":{"$error":"#VALUE!"}},{"$error":"#VALUE!"},{"$error":"#VALUE!"},{"$error":"#VALUE!"},{"$error":"#VALUE!"},{"$error":"#VALUE!"},{"$error":"#VALUE!"},{"$error":"#VALUE!"},{"$error":"#VALUE!"},{"$error":"#VALUE!"},{"$error":"#VALUE!"},{"$error":"#VALUE!"},{"$error":"#VALUE!"},{"$error":"#VALUE!"},null,null,null,"",{"$f":"MIN((S66+AL35*D19)/AK44,(S67+AL35*D19)/AL44,(S68+AL35*D19)/AM44,(S69+AL35*D19)/AN44,(S70+AL35*D19)/AO44)*AP44","v":{"$error":"#VALUE!"}},{"$f":"MIN((T66+AL35*D19)/AK44,(T67+AL35*D19)/AL44,(T68+AL35*D19)/AM44,(T69+AL35*D19)/AN44,(T70+AL35*D19)/AO44)*AP44","v":{"$error":"#VALUE!"}},{"$f":"MIN((U66+AL35*D19)/AK44,(U67+AL35*D19)/AL44,(U68+AL35*D19)/AM44,(U69+AL35*D19)/AN44,(U70+AL35*D19)/AO44)*AP44","v":{"$error":"#VALUE!"}},{"$f":"MIN((V66+AL35*D19)/AK44,(V67+AL35*D19)/AL44,(V68+AL35*D19)/AM44,(V69+AL35*D19)/AN44,(V70+AL35*D19)/AO44)*AP44","v":{"$error":"#VALUE!"}},{"$f":"MIN((W66+AL35*D19)/AK44,(W67+AL35*D19)/AL44,(W68+AL35*D19)/AM44,(W69+AL35*D19)/AN44,(W70+AL35*D19)/AO44)*AP44","v":{"$error":"#VALUE!"}},{"$f":"MIN((X66+AL35*D19)/AK44,(X67+AL35*D19)/AL44,(X68+AL35*D19)/AM44,(X69+AL35*D19)/AN44,(X70+AL35*D19)/AO44)*AP44","v":{"$error":"#VALUE!"}},{"$f":"MIN((Y66+AL35*D19)/AK44,(Y67+AL35*D19)/AL44,(Y68+AL35*D19)/AM44,(Y69+AL35*D19)/AN44,(Y70+AL35*D19)/AO44)*AP44","v":{"$error":"#VALUE!"}},{"$f":"MIN((Z66+AL35*D19)/AK44,(Z67+AL35*D19)/AL44,(Z68+AL35*D19)/AM44,(Z69+AL35*D19)/AN44,(Z70+AL35*D19)/AO44)*AP44","v":{"$error":"#VALUE!"}},{"$f":"MIN((AA66+AL35*D19)/AK44,(AA67+AL35*D19)/AL44,(AA68+AL35*D19)/AM44,(AA69+AL35*D19)/AN44,(AA70+AL35*D19)/AO44)*AP44","v":{"$error":"#VALUE!"}},{"$f":"MIN((AB66+AL35*D19)/AK44,(AB67+AL35*D19)/AL44,(AB68+AL35*D19)/AM44,(AB69+AL35*D19)/AN44,(AB70+AL35*D19)/AO44)*AP44","v":{"$error":"#VALUE!"}},{"$f":"MIN((AC66+AL35*D19)/AK44,(AC67+AL35*D19)/AL44,(AC68+AL35*D19)/AM44,(AC69+AL35*D19)/AN44,(AC70+AL35*D19)/AO44)*AP44","v":{"$error":"#VALUE!"}},{"$f":"MIN((AD66+AL35*D19)/AK44,(AD67+AL35*D19)/AL44,(AD68+AL35*D19)/AM44,(AD69+AL35*D19)/AN44,(AD70+AL35*D19)/AO44)*AP44","v":{"$error":"#VALUE!"}},{"$f":"MIN((AE66+AL35*D19)/AK44,(AE67+AL35*D19)/AL44,(AE68+AL35*D19)/AM44,(AE69+AL35*D19)/AN44,(AE70+AL35*D19)/AO44)*AP44","v":{"$error":"#VALUE!"}},{"$f":"MIN((AF66+AL35*D19)/AK44,(AF67+AL35*D19)/AL44,(AF68+AL35*D19)/AM44,(AF69+AL35*D19)/AN44,(AF70+AL35*D19)/AO44)*AP44","v":{"$error":"#VALUE!"}},{"$error":"#VALUE!"},null,"",{"$f":"MIN((S66+AM35*D19)/AK45,(S67+AM35*D19)/AL45,(S68+AM35*D19)/AM45,(S69+AM35*D19)/AN45,(S70+AM35*D19)/AO45)*AP45","v":{"$error":"#VALUE!"}},{"$f":"MIN((T66+AM35*D19)/AK45,(T67+AM35*D19)/AL45,(T68+AM35*D19)/AM45,(T69+AM35*D19)/AN45,(T70+AM35*D19)/AO45)*AP45","v":{"$error":"#VALUE!"}},{"$f":"MIN((U66+AM35*D19)/AK45,(U67+AM35*D19)/AL45,(U68+AM35*D19)/AM45,(U69+AM35*D19)/AN45,(U70+AM35*D19)/AO45)*AP45","v":{"$error":"#VALUE!"}},{"$f":"MIN((V66+AM35*D19)/AK45,(V67+AM35*D19)/AL45,(V68+AM35*D19)/AM45,(V69+AM35*D19)/AN45,(V70+AM35*D19)/AO45)*AP45","v":{"$error":"#VALUE!"}},{"$f":"MIN((W66+AM35*D19)/AK45,(W67+AM35*D19)/AL45,(W68+AM35*D19)/AM45,(W69+AM35*D19)/AN45,(W70+AM35*D19)/AO45)*AP45","v":{"$error":"#VALUE!"}},{"$f":"MIN((X66+AM35*D19)/AK45,(X67+AM35*D19)/AL45,(X68+AM35*D19)/AM45,(X69+AM35*D19)/AN45,(X70+AM35*D19)/AO45)*AP45","v":{"$error":"#VALUE!"}},{"$f":"MIN((Y66+AM35*D19)/AK45,(Y67+AM35*D19)/AL45,(Y68+AM35*D19)/AM45,(Y69+AM35*D19)/AN45,(Y70+AM35*D19)/AO45)*AP45","v":{"$error":"#VALUE!"}},{"$f":"MIN((Z66+AM35*D19)/AK45,(Z67+AM35*D19)/AL45,(Z68+AM35*D19)/AM45,(Z69+AM35*D19)/AN45,(Z70+AM35*D19)/AO45)*AP45","v":{"$error":"#VALUE!"}},{"$f":"MIN((AA66+AM35*D19)/AK45,(AA67+AM35*D19)/AL45,(AA68+AM35*D19)/AM45,(AA69+AM35*D19)/AN45,(AA70+AM35*D19)/AO45)*AP45","v":{"$error":"#VALUE!"}},{"$f":"MIN((AB66+AM35*D19)/AK45,(AB67+AM35*D19)/AL45,(AB68+AM35*D19)/AM45,(AB69+AM35*D19)/AN45,(AB70+AM35*D19)/AO45)*AP45","v":{"$error":"#VALUE!"}},{"$f":"MIN((AC66+AM35*D19)/AK45,(AC67+AM35*D19)/AL45,(AC68+AM35*D19)/AM45,(AC69+AM35*D19)/AN45,(AC70+AM35*D19)/AO45)*AP45","v":{"$error":"#VALUE!"}},{"$f":"MIN((AD66+AM35*D19)/AK45,(AD67+AM35*D19)/AL45,(AD68+AM35*D19)/AM45,(AD69+AM35*D19)/AN45,(AD70+AM35*D19)/AO45)*AP45","v":{"$error":"#VALUE!"}},{"$f":"MIN((AE66+AM35*D19)/AK45,(AE67+AM35*D19)/AL45,(AE68+AM35*D19)/AM45,(AE69+AM35*D19)/AN45,(AE70+AM35*D19)/AO45)*AP45","v":{"$error":"#VALUE!"}},{"$f":"MIN((AF66+AM35*D19)/AK45,(AF67+AM35*D19)/AL45,(AF68+AM35*D19)/AM45,(AF69+AM35*D19)/AN45,(AF70+AM35*D19)/AO45)*AP45","v":{"$error":"#VALUE!"}},{"$f":"MAX(BB84:BO84)","v":{"$error":"#VALUE!"}},null,null,null,null,null,null,null,null,null,null,null,null,null,null,null,"",null,{"$error":"#VALUE!"},{"$error":"#VALUE!"},{"$error":"#VALUE!"},{"$error":"#VALUE!"},{"$error":"#VALUE!"},{"$error":"#VALUE!"},{"$error":"#VALUE!"},{"$error":"#VALUE!"},{"$error":"#VALUE!"},{"$error":"#VALUE!"},{"$error":"#VALUE!"},{"$error":"#VALUE!"},{"$error":"#VALUE!"},{"$error":"#VALUE!"},{"$error":"#VALUE!"},{"$error":"#VALUE!"},{"$error":"#VALUE!"},{"$error":"#VALUE!"},{"$error":"#VALUE!"},{"$error":"#VALUE!"},{"$error":"#VALUE!"},{"$error":"#VALUE!"},{"$error":"#VALUE!"},{"$error":"#VALUE!"},{"$error":"#VALUE!"},{"$error":"#VALUE!"},{"$error":"#VALUE!"},{"$error":"#VALUE!"},{"$error":"#VALUE!"},{"$error":"#VALUE!"},{"$error":"#VALUE!"},{"$error":"#VALUE!"},{"$error":"#VALUE!"},{"$error":"#VALUE!"},{"$error":"#VALUE!"},{"$error":"#VALUE!"}]
[null,null,null,null,1.27155,0.54495000000000005,1.8165,1.4532,0.36330000000000001,1.8165,0.95365,0.40870000000000001,1.3623499999999999,1.9073500000000001,0.81740000000000002,2.7247500000000002,null,null,null,null,null,null,null,null,null,null,null,null,null,null,null,null,null,null,null,"",{"$f":"MIN((S73+AL35*D19)/AK44,(S74+AL35*D19)/AL44,(S75+AL35*D19)/AM44,(S76+AL35*D19)/AN44,(S77+AL35*D19)/AO44)*AP44","v":{"$error":"#VALUE!"}},{"$f":"MIN((T73+AL35*D19)/AK44,(T74+AL35*D19)/AL44,(T75+AL35*D19)/AM44,(T76+AL35*D19)/AN44,(T77+AL35*D19)/AO44)*AP44","v":{"$error":"#VALUE!"}},{"$f":"MIN((U73+AL35*D19)/AK44,(U74+AL35*D19)/AL44,(U75+AL35*D19)/AM44,(U76+AL35*D19)/AN44,(U77+AL35*D19)/AO44)*AP44","v":{"$error":"#VALUE!"}},{"$f":"MIN((V73+AL35*D19)/AK44,(V74+AL35*D19)/AL44,(V75+AL35*D19)/AM44,(V76+AL35*D19)/AN44,(V77+AL35*D19)/AO44)*AP44","v":{"$error":"#VALUE!"}},{"$f":"MIN((W73+AL35*D19)/AK44,(W74+AL35*D19)/AL44,(W75+AL35*D19)/AM44,(W76+AL35*D19)/AN44,(W77+AL35*D19)/AO44)*AP44","v":{"$error":"#VALUE!"}},{"$f":"MIN((X73+AL35*D19)/AK44,(X74+AL35*D19)/AL44,(X75+AL35*D19)/AM44,(X76+AL35*D19)/AN44,(X77+AL35*D19)/AO44)*AP44","v":{"$error":"#VALUE!"}},{"$f":"MIN((Y73+AL35*D19)/AK44,(Y74+AL35*D19)/AL44,(Y75+AL35*D19)/AM44,(Y76+AL35*D19)/AN44,(Y77+AL35*D19)/AO44)*AP44","v":{"$error":"#VALUE!"}},{"$f":"MIN((Z73+AL35*D19)/AK44,(Z74+AL35*D19)/AL44,(Z75+AL35*D19)/AM44,(Z76+AL35*D19)/AN44,(Z77+AL35*D19)/AO44)*AP44","v":{"$error":"#VALUE!"}},{"$f":"MIN((AA73+AL35*D19)/AK44,(AA74+AL35*D19)/AL44,(AA75+AL35*D19)/AM44,(AA76+AL35*D19)/AN44,(AA77+AL35*D19)/AO44)*AP44","v":{"$error":"#VALUE!"}},{"$f":"MIN((AB73+AL35*D19)/AK44,(AB74+AL35*D19)/AL44,(AB75+AL35*D19)/AM44,(AB76+AL35*D19)/AN44,(AB77+AL35*D19)/AO44)*AP44","v":{"$error":"#VALUE!"}},{"$f":"MIN((AC73+AL35*D19)/AK44,(AC74+AL35*D19)/AL44,(AC75+AL35*D19)/AM44,(AC76+AL35*D19)/AN44,(AC77+AL35*D19)/AO44)*AP44","v":{"$error":"#VALUE!"}},{"$f":"MIN((AD73+AL35*D19)/AK44,(AD74+AL35*D19)/AL44,(AD75+AL35*D19)/AM44,(AD76+AL35*D19)/AN44,(AD77+AL35*D19)/AO44)*AP44","v":{"$error":"#VALUE!"}},{"$f":"MIN((AE73+AL35*D19)/AK44,(AE74+AL35*D19)/AL44,(AE75+AL35*D19)/AM44,(AE76+AL35*D19)/AN44,(AE77+AL35*D19)/AO44)*AP44","v":{"$error":"#VALUE!"}},{"$f":"MIN((AF73+AL35*D19)/AK44,(AF74+AL35*D19)/AL44,(AF75+AL35*D19)/AM44,(AF76+AL35*D19)/AN44,(AF77+AL35*D19)/AO44)*AP44","v":{"$error":"#VALUE!"}},{"$error":"#VALUE!"},null,"",{"$f":"MIN((S73+AM35*D19)/AK45,(S74+AM35*D19)/AL45,(S75+AM35*D19)/AM45,(S76+AM35*D19)/AN45,(S77+AM35*D19)/AO45)*AP45","v":{"$error":"#VALUE!"}},{"$f":"MIN((T73+AM35*D19)/AK45,(T74+AM35*D19)/AL45,(T75+AM35*D19)/AM45,(T76+AM35*D19)/AN45,(T77+AM35*D19)/AO45)*AP45","v":{"$error":"#VALUE!"}},{"$f":"MIN((U73+AM35*D19)/AK45,(U74+AM35*D19)/AL45,(U75+AM35*D19)/AM45,(U76+AM35*D19)/AN45,(U77+AM35*D19)/AO45)*AP45","v":{"$error":"#VALUE!"}},{"$f":"MIN((V73+AM35*D19)/AK45,(V74+AM35*D19)/AL45,(V75+AM35*D19)/AM45,(V76+AM35*D19)/AN45,(V77+AM35*D19)/AO45)*AP45","v":{"$error":"#VALUE!"}},{"$f":"MIN((W73+AM35*D19)/AK45,(W74+AM35*D19)/AL45,(W75+AM35*D19)/AM45,(W76+AM35*D19)/AN45,(W77+AM35*D19)/AO45)*AP45","v":{"$error":"#VALUE!"}},{"$f":"MIN((X73+AM35*D19)/AK45,(X74+AM35*D19)/AL45,(X75+AM35*D19)/AM45,(X76+AM35*D19)/AN45,(X77+AM35*D19)/AO45)*AP45","v":{"$error":"#VALUE!"}},{"$f":"MIN((Y73+AM35*D19)/AK45,(Y74+AM35*D19)/AL45,(Y75+AM35*D19)/AM45,(Y76+AM35*D19)/AN45,(Y77+AM35*D19)/AO45)*AP45","v":{"$error":"#VALUE!"}},{"$f":"MIN((Z73+AM35*D19)/AK45,(Z74+AM35*D19)/AL45,(Z75+AM35*D19)/AM45,(Z76+AM35*D19)/AN45,(Z77+AM35*D19)/AO45)*AP45","v":{"$error":"#VALUE!"}},{"$f":"MIN((AA73+AM35*D19)/AK45,(AA74+AM35*D19)/AL45,(AA75+AM35*D19)/AM45,(AA76+AM35*D19)/AN45,(AA77+AM35*D19)/AO45)*AP45","v":{"$error":"#VALUE!"}},{"$f":"MIN((AB73+AM35*D19)/AK45,(AB74+AM35*D19)/AL45,(AB75+AM35*D19)/AM45,(AB76+AM35*D19)/AN45,(AB77+AM35*D19)/AO45)*AP45","v":{"$error":"#VALUE!"}},{"$f":"MIN((AC73+AM35*D19)/AK45,(AC74+AM35*D19)/AL45,(AC75+AM35*D19)/AM45,(AC76+AM35*D19)/AN45,(AC77+AM35*D19)/AO45)*AP45","v":{"$error":"#VALUE!"}},{"$f":"MIN((AD73+AM35*D19)/AK45,(AD74+AM35*D19)/AL45,(AD75+AM35*D19)/AM45,(AD76+AM35*D19)/AN45,(AD77+AM35*D19)/AO45)*AP45","v":{"$error":"#VALUE!"}},{"$f":"MIN((AE73+AM35*D19)/AK45,(AE74+AM35*D19)/AL45,(AE75+AM35*D19)/AM45,(AE76+AM35*D19)/AN45,(AE77+AM35*D19)/AO45)*AP45","v":{"$error":"#VALUE!"}},{"$f":"MIN((AF73+AM35*D19)/AK45,(AF74+AM35*D19)/AL45,(AF75+AM35*D19)/AM45,(AF76+AM35*D19)/AN45,(AF77+AM35*D19)/AO45)*AP45","v":{"$error":"#VALUE!"}},{"$error":"#VALUE!"},"constante kit",null,null,null,null,null,null,null,null,null,null,null,null,null,null,"",null,{"$error":"#VALUE!"},{"$error":"#VALUE!"},{"$error":"#VALUE!"},{"$error":"#VALUE!"},{"$error":"#VALUE!"},{"$error":"#VALUE!"},{"$error":"#VALUE!"},{"$error":"#VALUE!"},{"$error":"#VALUE!"},{"$error":"#VALUE!"},{"$error":"#VALUE!"},{"$error":"#VALUE!"},{"$error":"#VALUE!"},{"$error":"#VALUE!"},{"$error":"#VALUE!"},{"$error":"#VALUE!"},{"$error":"#VALUE!"},{"$error":"#VALUE!"},{"$error":"#VALUE!"},{"$error":"#VALUE!"},{"$error":"#VALUE!"},{"$error":"#VALUE!"},{"$error":"#VALUE!"},{"$error":"#VALUE!"},{"$error":"#VALUE!"},{"$error":"#VALUE!"},{"$error":"#VALUE!"},{"$error":"#VALUE!"},{"$error":"#VALUE!"},{"$error":"#VALUE!"},{"$error":"#VALUE!"},{"$error":"#VALUE!"},{"$error":"#VALUE!"},{"$error":"#VALUE!"},{"$error":"#VALUE!"},{"$error":"#VALUE!"}]
[null,null,null,null,0.95365,0.40870000000000001,1.3623499999999999,1.9073500000000001,0.81740000000000002,2.7247500000000002,1.27155,0.54495000000000005,1.8165,1.27155,0.54495000000000005,1.8165,null,{"$f":"G15","v":""},{"$f":"S79","v":"kit 1"},{"$f":"T79","v":"kit 2/3"},0,"kit 4",0,"kit 5","kit 6/7",0,0,"kit 8","kit 9",0,{"$f":"AE79","v":"kit 10"},{"$f":"AF79","v":"kit 11"},null,null,null,"",{"$f":"MIN((S80+AL35*D19)/AK44,(S81+AL35*D19)/AL44,(S82+AL35*D19)/AM44,(S83+AL35*D19)/AN44,(S84+AL35*D19)/AO44)*AP44","v":{"$error":"#VALUE!"}},{"$f":"MIN((T80+AL35*D19)/AK44,(T81+AL35*D19)/AL44,(T82+AL35*D19)/AM44,(T83+AL35*D19)/AN44,(T84+AL35*D19)/AO44)*AP44","v":{"$error":"#VALUE!"}},{"$f":"MIN((U80+AL35*D19)/AK44,(U81+AL35*D19)/AL44,(U82+AL35*D19)/AM44,(U83+AL35*D19)/AN44,(U84+AL35*D19)/AO44)*AP44","v":{"$error":"#VALUE!"}},{"$f":"MIN((V80+AL35*D19)/AK44,(V81+AL35*D19)/AL44,(V82+AL35*D19)/AM44,(V83+AL35*D19)/AN44,(V84+AL35*D19)/AO44)*AP44","v":{"$error":"#VALUE!"}},{"$f":"MIN((W80+AL35*D19)/AK44,(W81+AL35*D19)/AL44,(W82+AL35*D19)/AM44,(W83+AL35*D19)/AN44,(W84+AL35*D19)/AO44)*AP44","v":{"$error":"#VALUE!"}},{"$f":"MIN((X80+AL35*D19)/AK44,(X81+AL35*D19)/AL44,(X82+AL35*D19)/AM44,(X83+AL35*D19)/AN44,(X84+AL35*D19)/AO44)*AP44","v":{"$error":"#VALUE!"}},{"$f":"MIN((Y80+AL35*D19)/AK44,(Y81+AL35*D19)/AL44,(Y82+AL35*D19)/AM44,(Y83+AL35*D19)/AN44,(Y84+AL35*D19)/AO44)*AP44","v":{"$error":"#VALUE!"}},{"$f":"MIN((Z80+AL35*D19)/AK44,(Z81+AL35*D19)/AL44,(Z82+AL35*D19)/AM44,(Z83+AL35*D19)/AN44,(Z84+AL35*D19)/AO44)*AP44","v":{"$error":"#VALUE!"}},{"$f":"MIN((AA80+AL35*D19)/AK44,(AA81+AL35*D19)/AL44,(AA82+AL35*D19)/AM44,(AA83+AL35*D19)/AN44,(AA84+AL35*D19)/AO44)*AP44","v":{"$error":"#VALUE!"}},{"$f":"MIN((AB80+AL35*D19)/AK44,(AB81+AL35*D19)/AL44,(AB82+AL35*D19)/AM44,(AB83+AL35*D19)/AN44,(AB84+AL35*D19)/AO44)*AP44","v":{"$error":"#VALUE!"}},{"$f":"MIN((AC80+AL35*D19)/AK44,(AC81+AL35*D19)/AL44,(AC82+AL35*D19)/AM44,(AC83+AL35*D19)/AN44,(AC84+AL35*D19)/AO44)*AP44","v":{"$error":"#VALUE!"}},{"$f":"MIN((AD80+AL35*D19)/AK44,(AD81+AL35*D19)/AL44,(AD82+AL35*D19)/AM44,(AD83+AL35*D19)/AN44,(AD84+AL35*D19)/AO44)*AP44","v":{"$error":"#VALUE!"}},{"$f":"MIN((AE80+AL35*D19)/AK44,(AE81+AL35*D19)/AL44,(AE82+AL35*D19)/AM44,(AE83+AL35*D19)/AN44,(AE84+AL35*D19)/AO44)*AP44","v":{"$error":"#VALUE!"}},{"$f":"MIN((AF80+AL35*D19)/AK44,(AF81+AL35*D19)/AL44,(AF82+AL35*D19)/AM44,(AF83+AL35*D19)/AN44,(AF84+AL35*D19)/AO44)*AP44","v":{"$error":"#VALUE!"}},{"$error":"#VALUE!"},null,"",{"$f":"MIN((S80+AM35*D19)/AK45,(S81+AM35*D19)/AL45,(S82+AM35*D19)/AM45,(S83+AM35*D19)/AN45,(S84+AM35*D19)/AO45)*AP45","v":{"$error":"#VALUE!"}},{"$f":"MIN((T80+AM35*D19)/AK45,(T81+AM35*D19)/AL45,(T82+AM35*D19)/AM45,(T83+AM35*D19)/AN45,(T84+AM35*D19)/AO45)*AP45","v":{"$error":"#VALUE!"}},{"$f":"MIN((U80+AM35*D19)/AK45,(U81+AM35*D19)/AL45,(U82+AM35*D19)/AM45,(U83+AM35*D19)/AN45,(U84+AM35*D19)/AO45)*AP45","v":{"$error":"#VALUE!"}},{"$f":"MIN((V80+AM35*D19)/AK45,(V81+AM35*D19)/AL45,(V82+AM35*D19)/AM45,(V83+AM35*D19)/AN45,(V84+AM35*D19)/AO45)*AP45","v":{"$error":"#VALUE!"}},{"$f":"MIN((W80+AM35*D19)/AK45,(W81+AM35*D19)/AL45,(W82+AM35*D19)/AM45,(W83+AM35*D19)/AN45,(W84+AM35*D19)/AO45)*AP45","v":{"$error":"#VALUE!"}},{"$f":"MIN((X80+AM35*D19)/AK45,(X81+AM35*D19)/AL45,(X82+AM35*D19)/AM45,(X83+AM35*D19)/AN45,(X84+AM35*D19)/AO45)*AP45","v":{"$error":"#VALUE!"}},{"$f":"MIN((Y80+AM35*D19)/AK45,(Y81+AM35*D19)/AL45,(Y82+AM35*D19)/AM45,(Y83+AM35*D19)/AN45,(Y84+AM35*D19)/AO45)*AP45","v":{"$error":"#VALUE!"}},{"$f":"MIN((Z80+AM35*D19)/AK45,(Z81+AM35*D19)/AL45,(Z82+AM35*D19)/AM45,(Z83+AM35*D19)/AN45,(Z84+AM35*D19)/AO45)*AP45","v":{"$error":"#VALUE!"}},{"$f":"MIN((AA80+AM35*D19)/AK45,(AA81+AM35*D19)/AL45,(AA82+AM35*D19)/AM45,(AA83+AM35*D19)/AN45,(AA84+AM35*D19)/AO45)*AP45","v":{"$error":"#VALUE!"}},{"$f":"MIN((AB80+AM35*D19)/AK45,(AB81+AM35*D19)/AL45,(AB82+AM35*D19)/AM45,(AB83+AM35*D19)/AN45,(AB84+AM35*D19)/AO45)*AP45","v":{"$error":"#VALUE!"}},{"$f":"MIN((AC80+AM35*D19)/AK45,(AC81+AM35*D19)/AL45,(AC82+AM35*D19)/AM45,(AC83+AM35*D19)/AN45,(AC84+AM35*D19)/AO45)*AP45","v":{"$error":"#VALUE!"}},{"$f":"MIN((AD80+AM35*D19)/AK45,(AD81+AM35*D19)/AL45,(AD82+AM35*D19)/AM45,(AD83+AM35*D19)/AN45,(AD84+AM35*D19)/AO45)*AP45","v":{"$error":"#VALUE!"}},{"$f":"MIN((AE80+AM35*D19)/AK45,(AE81+AM35*D19)/AL45,(AE82+AM35*D19)/AM45,(AE83+AM35*D19)/AN45,(AE84+AM35*D19)/AO45)*AP45","v":{"$error":"#VALUE!"}},{"$f":"MIN((AF80+AM35*D19)/AK45,(AF81+AM35*D19)/AL45,(AF82+AM35*D19)/AM45,(AF83+AM35*D19)/AN45,(AF84+AM35*D19)/AO45)*AP45","v":{"$error":"#VALUE!"}},{"$error":"#VALUE!"},null,{"$f":"BB109","v":"kit 1"},"kit 2/3",0,"kit 4",0,"kit 5","kit 6/7",0,0,"kit 8","kit 9",0,"kit 10","kit 11",{"$f":"BA15","v":""},null,{"$error":"#VALUE!"},{"$error":"#VALUE!"},{"$error":"#VALUE!"},{"$error":"#VALUE!"},{"$error":"#VALUE!"},{"$error":"#VALUE!"},{"$error":"#VALUE!"},{"$error":"#VALUE!"},{"$error":"#VALUE!"},{"$error":"#VALUE!"},{"$error":"#VALUE!"},{"$error":"#VALUE!"},{"$error":"#VALUE!"},{"$error":"#VALUE!"},{"$error":"#VALUE!"},{"$error":"#VALUE!"},{"$error":"#VALUE!"},{"$error":"#VALUE!"},{"$error":"#VALUE!"},{"$error":"#VALUE!"},{"$error":"#VALUE!"},{"$error":"#VALUE!"},{"$error":"#VALUE!"},{"$error":"#VALUE!"},{"$error":"#VALUE!"},{"$error":"#VALUE!"},{"$error":"#VALUE!"},{"$error":"#VALUE!"},{"$error":"#VALUE!"},{"$error":"#VALUE!"},{"$error":"#VALUE!"},{"$error":"#VALUE!"},{"$error":"#VALUE!"},{"$error":"#VALUE!"},{"$error":"#VALUE!"},{"$error":"#VALUE!"}]
[null,null,null,"total :",{"$f":"SUM(E76:E86)","v":8.0469499999999989},{"$f":"SUM(F76:F86)","v":11.93435},{"$f":"SUM(G76:G86)","v":19.981300000000001},{"$f":"SUM(H76:H86)","v":11.966800000000003},8.0089999999999986,19.9758,9.9997000000000007,9.9815999999999985,19.981300000000005,9.9510999999999985,10.024799999999997,19.975899999999999,null,{"$f":"IF($AX$306,H15+VLOOKUP(Team!$X$21,Team!$E$30:$J$300,6,FALSE),H15+AH39+$D$21)+$D$19*$AG$12","v":{"$error":"#VALUE!"}},{"$f":"IF($AX$306,$R87,$R87+Q10)","v":{"$error":"#VALUE!"}},{"$f":"IF($AX$306,$R87,$R87+R10)","v":{"$error":"#VALUE!"}},{"$error":"#VALUE!"},{"$error":"#VALUE!"},{"$error":"#VALUE!"},{"$error":"#VALUE!"},{"$error":"#VALUE!"},{"$error":"#VALUE!"},{"$error":"#VALUE!"},{"$error":"#VALUE!"},{"$error":"#VALUE!"},{"$error":"#VALUE!"},{"$error":"#VALUE!"},{"$error":"#VALUE!"},null,null,null,"",{"$f":"MIN((S87+AL35*D19)/AK44,(S88+AL35*D19)/AL44,(S89+AL35*D19)/AM44,(S90+AL35*D19)/AN44,(S91+AL35*D19)/AO44)*AP44","v":{"$error":"#VALUE!"}},{"$f":"MIN((T87+AL35*D19)/AK44,(T88+AL35*D19)/AL44,(T89+AL35*D19)/AM44,(T90+AL35*D19)/AN44,(T91+AL35*D19)/AO44)*AP44","v":{"$error":"#VALUE!"}},{"$f":"MIN((U87+AL35*D19)/AK44,(U88+AL35*D19)/AL44,(U89+AL35*D19)/AM44,(U90+AL35*D19)/AN44,(U91+AL35*D19)/AO44)*AP44","v":{"$error":"#VALUE!"}},{"$f":"MIN((V87+AL35*D19)/AK44,(V88+AL35*D19)/AL44,(V89+AL35*D19)/AM44,(V90+AL35*D19)/AN44,(V91+AL35*D19)/AO44)*AP44","v":{"$error":"#VALUE!"}},{"$f":"MIN((W87+AL35*D19)/AK44,(W88+AL35*D19)/AL44,(W89+AL35*D19)/AM44,(W90+AL35*D19)/AN44,(W91+AL35*D19)/AO44)*AP44","v":{"$error":"#VALUE!"}},{"$f":"MIN((X87+AL35*D19)/AK44,(X88+AL35*D19)/AL44,(X89+AL35*D19)/AM44,(X90+AL35*D19)/AN44,(X91+AL35*D19)/AO44)*AP44","v":{"$error":"#VALUE!"}},{"$f":"MIN((Y87+AL35*D19)/AK44,(Y88+AL35*D19)/AL44,(Y89+AL35*D19)/AM44,(Y90+AL35*D19)/AN44,(Y91+AL35*D19)/AO44)*AP44","v":{"$error":"#VALUE!"}},{"$f":"MIN((Z87+AL35*D19)/AK44,(Z88+AL35*D19)/AL44,(Z89+AL35*D19)/AM44,(Z90+AL35*D19)/AN44,(Z91+AL35*D19)/AO44)*AP44","v":{"$error":"#VALUE!"}},{"$f":"MIN((AA87+AL35*D19)/AK44,(AA88+AL35*D19)/AL44,(AA89+AL35*D19)/AM44,(AA90+AL35*D19)/AN44,(AA91+AL35*D19)/AO44)*AP44","v":{"$error":"#VALUE!"}},{"$f":"MIN((AB87+AL35*D19)/AK44,(AB88+AL35*D19)/AL44,(AB89+AL35*D19)/AM44,(AB90+AL35*D19)/AN44,(AB91+AL35*D19)/AO44)*AP44","v":{"$error":"#VALUE!"}},{"$f":"MIN((AC87+AL35*D19)/AK44,(AC88+AL35*D19)/AL44,(AC89+AL35*D19)/AM44,(AC90+AL35*D19)/AN44,(AC91+AL35*D19)/AO44)*AP44","v":{"$error":"#VALUE!"}},{"$f":"MIN((AD87+AL35*D19)/AK44,(AD88+AL35*D19)/AL44,(AD89+AL35*D19)/AM44,(AD90+AL35*D19)/AN44,(AD91+AL35*D19)/AO44)*AP44","v":{"$error":"#VALUE!"}},{"$f":"MIN((AE87+AL35*D19)/AK44,(AE88+AL35*D19)/AL44,(AE89+AL35*D19)/AM44,(AE90+AL35*D19)/AN44,(AE91+AL35*D19)/AO44)*AP44","v":{"$error":"#VALUE!"}},{"$f":"MIN((AF87+AL35*D19)/AK44,(AF88+AL35*D19)/AL44,(AF89+AL35*D19)/AM44,(AF90+AL35*D19)/AN44,(AF91+AL35*D19)/AO44)*AP44","v":{"$error":"#VALUE!"}},{"$error":"#VALUE!"},null,"",{"$f":"MIN((S87+AM35*D19)/AK45,(S88+AM35*D19)/AL45,(S89+AM35*D19)/AM45,(S90+AM35*D19)/AN45,(S91+AM35*D19)/AO45)*AP45","v":{"$error":"#VALUE!"}},{"$f":"MIN((T87+AM35*D19)/AK45,(T88+AM35*D19)/AL45,(T89+AM35*D19)/AM45,(T90+AM35*D19)/AN45,(T91+AM35*D19)/AO45)*AP45","v":{"$error":"#VALUE!"}},{"$f":"MIN((U87+AM35*D19)/AK45,(U88+AM35*D19)/AL45,(U89+AM35*D19)/AM45,(U90+AM35*D19)/AN45,(U91+AM35*D19)/AO45)*AP45","v":{"$error":"#VALUE!"}},{"$f":"MIN((V87+AM35*D19)/AK45,(V88+AM35*D19)/AL45,(V89+AM35*D19)/AM45,(V90+AM35*D19)/AN45,(V91+AM35*D19)/AO45)*AP45","v":{"$error":"#VALUE!"}},{"$f":"MIN((W87+AM35*D19)/AK45,(W88+AM35*D19)/AL45,(W89+AM35*D19)/AM45,(W90+AM35*D19)/AN45,(W91+AM35*D19)/AO45)*AP45","v":{"$error":"#VALUE!"}},{"$f":"MIN((X87+AM35*D19)/AK45,(X88+AM35*D19)/AL45,(X89+AM35*D19)/AM45,(X90+AM35*D19)/AN45,(X91+AM35*D19)/AO45)*AP45","v":{"$error":"#VALUE!"}},{"$f":"MIN((Y87+AM35*D19)/AK45,(Y88+AM35*D19)/AL45,(Y89+AM35*D19)/AM45,(Y90+AM35*D19)/AN45,(Y91+AM35*D19)/AO45)*AP45","v":{"$error":"#VALUE!"}},{"$f":"MIN((Z87+AM35*D19)/AK45,(Z88+AM35*D19)/AL45,(Z89+AM35*D19)/AM45,(Z90+AM35*D19)/AN45,(Z91+AM35*D19)/AO45)*AP45","v":{"$error":"#VALUE!"}},{"$f":"MIN((AA87+AM35*D19)/AK45,(AA88+AM35*D19)/AL45,(AA89+AM35*D19)/AM45,(AA90+AM35*D19)/AN45,(AA91+AM35*D19)/AO45)*AP45","v":{"$error":"#VALUE!"}},{"$f":"MIN((AB87+AM35*D19)/AK45,(AB88+AM35*D19)/AL45,(AB89+AM35*D19)/AM45,(AB90+AM35*D19)/AN45,(AB91+AM35*D19)/AO45)*AP45","v":{"$error":"#VALUE!"}},{"$f":"MIN((AC87+AM35*D19)/AK45,(AC88+AM35*D19)/AL45,(AC89+AM35*D19)/AM45,(AC90+AM35*D19)/AN45,(AC91+AM35*D19)/AO45)*AP45","v":{"$error":"#VALUE!"}},{"$f":"MIN((AD87+AM35*D19)/AK45,(AD88+AM35*D19)/AL45,(AD89+AM35*D19)/AM45,(AD90+AM35*D19)/AN45,(AD91+AM35*D19)/AO45)*AP45","v":{"$error":"#VALUE!"}},{"$f":"MIN((AE87+AM35*D19)/AK45,(AE88+AM35*D19)/AL45,(AE89+AM35*D19)/AM45,(AE90+AM35*D19)/AN45,(AE91+AM35*D19)/AO45)*AP45","v":{"$error":"#VALUE!"}},{"$f":"MIN((AF87+AM35*D19)/AK45,(AF88+AM35*D19)/AL45,(AF89+AM35*D19)/AM45,(AF90+AM35*D19)/AN45,(AF91+AM35*D19)/AO45)*AP45","v":{"$error":"#VALUE!"}},{"$error":"#VALUE!"},null,{"$f":"BB109","v":"kit 1"},"kit 2/3",0,"kit 4",0,"kit 5","kit 6/7",0,0,"kit 8","kit 9",0,"kit 10","kit 11",{"$f":"BA16","v":""},null,{"$error":"#VALUE!"},{"$error":"#VALUE!"},{"$error":"#VALUE!"},{"$error":"#VALUE!"},{"$error":"#VALUE!"},{"$error":"#VALUE!"},{"$error":"#VALUE!"},{"$error":"#VALUE!"},{"$error":"#VALUE!"},{"$error":"#VALUE!"},{"$error":"#VALUE!"},{"$error":"#VALUE!"},{"$error":"#VALUE!"},{"$error":"#VALUE!"},{"$error":"#VALUE!"},{"$error":"#VALUE!"},{"$error":"#VALUE!"},{"$error":"#VALUE!"},{"$error":"#VALUE!"},{"$error":"#VALUE!"},{"$error":"#VALUE!"},{"$error":"#VALUE!"},{"$error":"#VALUE!"},{"$error":"#VALUE!"},{"$error":"#VALUE!"},{"$error":"#VALUE!"},{"$error":"#VALUE!"},{"$error":"#VALUE!"},{"$error":"#VALUE!"},{"$error":"#VALUE!"},{"$error":"#VALUE!"},{"$error":"#VALUE!"},{"$error":"#VALUE!"},{"$error":"#VALUE!"},{"$error":"#VALUE!"},{"$error":"#VALUE!"}]
[null,null,null,null,"541 offensif",null,null,"433 offensif",null,null,"352 offensif",null,null,"442 offensif",null,null,null,{"$f":"IF($AX$306,I15+VLOOKUP(Team!$Y$21,Team!$E$30:$J$300,6,FALSE),I15+AH40+$D$21)+$D$19*$AG$12","v":{"$error":"#VALUE!"}},{"$f":"IF($AX$306,$R88,$R88+Q11)","v":{"$error":"#VALUE!"}},{"$error":"#VALUE!"},{"$error":"#VALUE!"},{"$error":"#VALUE!"},{"$error":"#VALUE!"},{"$error":"#VALUE!"},{"$error":"#VALUE!"},{"$error":"#VALUE!"},{"$error":"#VALUE!"},{"$error":"#VALUE!"},{"$error":"#VALUE!"},{"$error":"#VALUE!"},{"$error":"#VALUE!"},{"$error":"#VALUE!"},null,null,null,"",{"$f":"MIN((S94+AL35*D19)/AK44,(S95+AL35*D19)/AL44,(S96+AL35*D19)/AM44,(S97+AL35*D19)/AN44,(S98+AL35*D19)/AO44)*AP44","v":{"$error":"#VALUE!"}},{"$f":"MIN((T94+AL35*D19)/AK44,(T95+AL35*D19)/AL44,(T96+AL35*D19)/AM44,(T97+AL35*D19)/AN44,(T98+AL35*D19)/AO44)*AP44","v":{"$error":"#VALUE!"}},{"$f":"MIN((U94+AL35*D19)/AK44,(U95+AL35*D19)/AL44,(U96+AL35*D19)/AM44,(U97+AL35*D19)/AN44,(U98+AL35*D19)/AO44)*AP44","v":{"$error":"#VALUE!"}},{"$f":"MIN((V94+AL35*D19)/AK44,(V95+AL35*D19)/AL44,(V96+AL35*D19)/AM44,(V97+AL35*D19)/AN44,(V98+AL35*D19)/AO44)*AP44","v":{"$error":"#VALUE!"}},{"$f":"MIN((W94+AL35*D19)/AK44,(W95+AL35*D19)/AL44,(W96+AL35*D19)/AM44,(W97+AL35*D19)/AN44,(W98+AL35*D19)/AO44)*AP44","v":{"$error":"#VALUE!"}},{"$f":"MIN((X94+AL35*D19)/AK44,(X95+AL35*D19)/AL44,(X96+AL35*D19)/AM44,(X97+AL35*D19)/AN44,(X98+AL35*D19)/AO44)*AP44","v":{"$error":"#VALUE!"}},{"$f":"MIN((Y94+AL35*D19)/AK44,(Y95+AL35*D19)/AL44,(Y96+AL35*D19)/AM44,(Y97+AL35*D19)/AN44,(Y98+AL35*D19)/AO44)*AP44","v":{"$error":"#VALUE!"}},{"$f":"MIN((Z94+AL35*D19)/AK44,(Z95+AL35*D19)/AL44,(Z96+AL35*D19)/AM44,(Z97+AL35*D19)/AN44,(Z98+AL35*D19)/AO44)*AP44","v":{"$error":"#VALUE!"}},{"$f":"MIN((AA94+AL35*D19)/AK44,(AA95+AL35*D19)/AL44,(AA96+AL35*D19)/AM44,(AA97+AL35*D19)/AN44,(AA98+AL35*D19)/AO44)*AP44","v":{"$error":"#VALUE!"}},{"$f":"MIN((AB94+AL35*D19)/AK44,(AB95+AL35*D19)/AL44,(AB96+AL35*D19)/AM44,(AB97+AL35*D19)/AN44,(AB98+AL35*D19)/AO44)*AP44","v":{"$error":"#VALUE!"}},{"$f":"MIN((AC94+AL35*D19)/AK44,(AC95+AL35*D19)/AL44,(AC96+AL35*D19)/AM44,(AC97+AL35*D19)/AN44,(AC98+AL35*D19)/AO44)*AP44","v":{"$error":"#VALUE!"}},{"$f":"MIN((AD94+AL35*D19)/AK44,(AD95+AL35*D19)/AL44,(AD96+AL35*D19)/AM44,(AD97+AL35*D19)/AN44,(AD98+AL35*D19)/AO44)*AP44","v":{"$error":"#VALUE!"}},{"$f":"MIN((AE94+AL35*D19)/AK44,(AE95+AL35*D19)/AL44,(AE96+AL35*D19)/AM44,(AE97+AL35*D19)/AN44,(AE98+AL35*D19)/AO44)*AP44","v":{"$error":"#VALUE!"}},{"$f":"MIN((AF94+AL35*D19)/AK44,(AF95+AL35*D19)/AL44,(AF96+AL35*D19)/AM44,(AF97+AL35*D19)/AN44,(AF98+AL35*D19)/AO44)*AP44","v":{"$error":"#VALUE!"}},{"$error":"#VALUE!"},null,"",{"$f":"MIN((S94+AM35*D19)/AK45,(S95+AM35*D19)/AL45,(S96+AM35*D19)/AM45,(S97+AM35*D19)/AN45,(S98+AM35*D19)/AO45)*AP45","v":{"$error":"#VALUE!"}},{"$f":"MIN((T94+AM35*D19)/AK45,(T95+AM35*D19)/AL45,(T96+AM35*D19)/AM45,(T97+AM35*D19)/AN45,(T98+AM35*D19)/AO45)*AP45","v":{"$error":"#VALUE!"}},{"$f":"MIN((U94+AM35*D19)/AK45,(U95+AM35*D19)/AL45,(U96+AM35*D19)/AM45,(U97+AM35*D19)/AN45,(U98+AM35*D19)/AO45)*AP45","v":{"$error":"#VALUE!"}},{"$f":"MIN((V94+AM35*D19)/AK45,(V95+AM35*D19)/AL45,(V96+AM35*D19)/AM45,(V97+AM35*D19)/AN45,(V98+AM35*D19)/AO45)*AP45","v":{"$error":"#VALUE!"}},{"$f":"MIN((W94+AM35*D19)/AK45,(W95+AM35*D19)/AL45,(W96+AM35*D19)/AM45,(W97+AM35*D19)/AN45,(W98+AM35*D19)/AO45)*AP45","v":{"$error":"#VALUE!"}},{"$f":"MIN((X94+AM35*D19)/AK45,(X95+AM35*D19)/AL45,(X96+AM35*D19)/AM45,(X97+AM35*D19)/AN45,(X98+AM35*D19)/AO45)*AP45","v":{"$error":"#VALUE!"}},{"$f":"MIN((Y94+AM35*D19)/AK45,(Y95+AM35*D19)/AL45,(Y96+AM35*D19)/AM45,(Y97+AM35*D19)/AN45,(Y98+AM35*D19)/AO45)*AP45","v":{"$error":"#VALUE!"}},{"$f":"MIN((Z94+AM35*D19)/AK45,(Z95+AM35*D19)/AL45,(Z96+AM35*D19)/AM45,(Z97+AM35*D19)/AN45,(Z98+AM35*D19)/AO45)*AP45","v":{"$error":"#VALUE!"}},{"$f":"MIN((AA94+AM35*D19)/AK45,(AA95+AM35*D19)/AL45,(AA96+AM35*D19)/AM45,(AA97+AM35*D19)/AN45,(AA98+AM35*D19)/AO45)*AP45","v":{"$error":"#VALUE!"}},{"$f":"MIN((AB94+AM35*D19)/AK45,(AB95+AM35*D19)/AL45,(AB96+AM35*D19)/AM45,(AB97+AM35*D19)/AN45,(AB98+AM35*D19)/AO45)*AP45","v":{"$error":"#VALUE!"}},{"$f":"MIN((AC94+AM35*D19)/AK45,(AC95+AM35*D19)/AL45,(AC96+AM35*D19)/AM45,(AC97+AM35*D19)/AN45,(AC98+AM35*D19)/AO45)*AP45","v":{"$error":"#VALUE!"}},{"$f":"MIN((AD94+AM35*D19)/AK45,(AD95+AM35*D19)/AL45,(AD96+AM35*D19)/AM45,(AD97+AM35*D19)/AN45,(AD98+AM35*D19)/AO45)*AP45","v":{"$error":"#VALUE!"}},{"$f":"MIN((AE94+AM35*D19)/AK45,(AE95+AM35*D19)/AL45,(AE96+AM35*D19)/AM45,(AE97+AM35*D19)/AN45,(AE98+AM35*D19)/AO45)*AP45","v":{"$error":"#VALUE!"}},{"$f":"MIN((AF94+AM35*D19)/AK45,(AF95+AM35*D19)/AL45,(AF96+AM35*D19)/AM45,(AF97+AM35*D19)/AN45,(AF98+AM35*D19)/AO45)*AP45","v":{"$error":"#VALUE!"}},{"$error":"#VALUE!"},null,{"$f":"BB109","v":"kit 1"},"kit 2/3",0,"kit 4",0,"kit 5","kit 6/7",0,0,"kit 8","kit 9",0,"kit 10","kit 11",{"$f":"BA17","v":""},null,{"$error":"#VALUE!"},{"$error":"#VALUE!"},{"$error":"#VALUE!"},{"$error":"#VALUE!"},{"$error":"#VALUE!"},{"$error":"#VALUE!"},{"$error":"#VALUE!"},{"$error":"#VALUE!"},{"$error":"#VALUE!"},{"$error":"#VALUE!"},{"$error":"#VALUE!"},{"$error":"#VALUE!"},{"$error":"#VALUE!"},{"$error":"#VALUE!"},{"$error":"#VALUE!"},{"$error":"#VALUE!"},{"$error":"#VALUE!"},{"$error":"#VALUE!"},{"$error":"#VALUE!"},{"$error":"#VALUE!"},{"$error":"#VALUE!"},{"$error":"#VALUE!"},{"$error":"#VALUE!"},{"$error":"#VALUE!"},{"$error":"#VALUE!"},{"$error":"#VALUE!"},{"$error":"#VALUE!"},{"$error":"#VALUE!"},{"$error":"#VALUE!"},{"$error":"#VALUE!"},{"$error":"#VALUE!"},{"$error":"#VALUE!"},{"$error":"#VALUE!"},{"$error":"#VALUE!"},{"$error":"#VALUE!"},{"$error":"#VALUE!"}]
[null,null,null,null,"1% attaque","1% defense","1% cumulé","1% attaque","1% defense","1% cumulé","1% attaque","1% defense","1% cumulé","1% attaque","1% defense","1% cumulé",null,{"$f":"IF($AX$306,J15+VLOOKUP(Team!$Z$21,Team!$E$30:$J$300,6,FALSE),J15+AH41+$D$21)+$D$19*$AG$12","v":{"$error":"#VALUE!"}},{"$f":"IF($AX$306,$R89,$R89+Q12)","v":{"$error":"#VALUE!"}},{"$error":"#VALUE!"},{"$error":"#VALUE!"},{"$error":"#VALUE!"},{"$error":"#VALUE!"},{"$error":"#VALUE!"},{"$error":"#VALUE!"},{"$error":"#VALUE!"},{"$error":"#VALUE!"},{"$error":"#VALUE!"},{"$error":"#VALUE!"},{"$error":"#VALUE!"},{"$error":"#VALUE!"},{"$error":"#VALUE!"},null,null,null,"",{"$f":"MIN((S101+AL35*D19)/AK44,(S102+AL35*D19)/AL44,(S103+AL35*D19)/AM44,(S104+AL35*D19)/AN44,(S105+AL35*D19)/AO44)*AP44","v":{"$error":"#VALUE!"}},{"$f":"MIN((T101+AL35*D19)/AK44,(T102+AL35*D19)/AL44,(T103+AL35*D19)/AM44,(T104+AL35*D19)/AN44,(T105+AL35*D19)/AO44)*AP44","v":{"$error":"#VALUE!"}},{"$f":"MIN((U101+AL35*D19)/AK44,(U102+AL35*D19)/AL44,(U103+AL35*D19)/AM44,(U104+AL35*D19)/AN44,(U105+AL35*D19)/AO44)*AP44","v":{"$error":"#VALUE!"}},{"$f":"MIN((V101+AL35*D19)/AK44,(V102+AL35*D19)/AL44,(V103+AL35*D19)/AM44,(V104+AL35*D19)/AN44,(V105+AL35*D19)/AO44)*AP44","v":{"$error":"#VALUE!"}},{"$f":"MIN((W101+AL35*D19)/AK44,(W102+AL35*D19)/AL44,(W103+AL35*D19)/AM44,(W104+AL35*D19)/AN44,(W105+AL35*D19)/AO44)*AP44","v":{"$error":"#VALUE!"}},{"$f":"MIN((X101+AL35*D19)/AK44,(X102+AL35*D19)/AL44,(X103+AL35*D19)/AM44,(X104+AL35*D19)/AN44,(X105+AL35*D19)/AO44)*AP44","v":{"$error":"#VALUE!"}},{"$f":"MIN((Y101+AL35*D19)/AK44,(Y102+AL35*D19)/AL44,(Y103+AL35*D19)/AM44,(Y104+AL35*D19)/AN44,(Y105+AL35*D19)/AO44)*AP44","v":{"$error":"#VALUE!"}},{"$f":"MIN((Z101+AL35*D19)/AK44,(Z102+AL35*D19)/AL44,(Z103+AL35*D19)/AM44,(Z104+AL35*D19)/AN44,(Z105+AL35*D19)/AO44)*AP44","v":{"$error":"#VALUE!"}},{"$f":"MIN((AA101+AL35*D19)/AK44,(AA102+AL35*D19)/AL44,(AA103+AL35*D19)/AM44,(AA104+AL35*D19)/AN44,(AA105+AL35*D19)/AO44)*AP44","v":{"$error":"#VALUE!"}},{"$f":"MIN((AB101+AL35*D19)/AK44,(AB102+AL35*D19)/AL44,(AB103+AL35*D19)/AM44,(AB104+AL35*D19)/AN44,(AB105+AL35*D19)/AO44)*AP44","v":{"$error":"#VALUE!"}},{"$f":"MIN((AC101+AL35*D19)/AK44,(AC102+AL35*D19)/AL44,(AC103+AL35*D19)/AM44,(AC104+AL35*D19)/AN44,(AC105+AL35*D19)/AO44)*AP44","v":{"$error":"#VALUE!"}},{"$f":"MIN((AD101+AL35*D19)/AK44,(AD102+AL35*D19)/AL44,(AD103+AL35*D19)/AM44,(AD104+AL35*D19)/AN44,(AD105+AL35*D19)/AO44)*AP44","v":{"$error":"#VALUE!"}},{"$f":"MIN((AE101+AL35*D19)/AK44,(AE102+AL35*D19)/AL44,(AE103+AL35*D19)/AM44,(AE104+AL35*D19)/AN44,(AE105+AL35*D19)/AO44)*AP44","v":{"$error":"#VALUE!"}},{"$f":"MIN((AF101+AL35*D19)/AK44,(AF102+AL35*D19)/AL44,(AF103+AL35*D19)/AM44,(AF104+AL35*D19)/AN44,(AF105+AL35*D19)/AO44)*AP44","v":{"$error":"#VALUE!"}},{"$error":"#VALUE!"},null,"",{"$f":"MIN((S101+AM35*D19)/AK45,(S102+AM35*D19)/AL45,(S103+AM35*D19)/AM45,(S104+AM35*D19)/AN45,(S105+AM35*D19)/AO45)*AP45","v":{"$error":"#VALUE!"}},{"$f":"MIN((T101+AM35*D19)/AK45,(T102+AM35*D19)/AL45,(T103+AM35*D19)/AM45,(T104+AM35*D19)/AN45,(T105+AM35*D19)/AO45)*AP45","v":{"$error":"#VALUE!"}},{"$f":"MIN((U101+AM35*D19)/AK45,(U102+AM35*D19)/AL45,(U103+AM35*D19)/AM45,(U104+AM35*D19)/AN45,(U105+AM35*D19)/AO45)*AP45","v":{"$error":"#VALUE!"}},{"$f":"MIN((V101+AM35*D19)/AK45,(V102+AM35*D19)/AL45,(V103+AM35*D19)/AM45,(V104+AM35*D19)/AN45,(V105+AM35*D19)/AO45)*AP45","v":{"$error":"#VALUE!"}},{"$f":"MIN((W101+AM35*D19)/AK45,(W102+AM35*D19)/AL45,(W103+AM35*D19)/AM45,(W104+AM35*D19)/AN45,(W105+AM35*D19)/AO45)*AP45","v":{"$error":"#VALUE!"}},{"$f":"MIN((X101+AM35*D19)/AK45,(X102+AM35*D19)/AL45,(X103+AM35*D19)/AM45,(X104+AM35*D19)/AN45,(X105+AM35*D19)/AO45)*AP45","v":{"$error":"#VALUE!"}},{"$f":"MIN((Y101+AM35*D19)/AK45,(Y102+AM35*D19)/AL45,(Y103+AM35*D19)/AM45,(Y104+AM35*D19)/AN45,(Y105+AM35*D19)/AO45)*AP45","v":{"$error":"#VALUE!"}},{"$f":"MIN((Z101+AM35*D19)/AK45,(Z102+AM35*D19)/AL45,(Z103+AM35*D19)/AM45,(Z104+AM35*D19)/AN45,(Z105+AM35*D19)/AO45)*AP45","v":{"$error":"#VALUE!"}},{"$f":"MIN((AA101+AM35*D19)/AK45,(AA102+AM35*D19)/AL45,(AA103+AM35*D19)/AM45,(AA104+AM35*D19)/AN45,(AA105+AM35*D19)/AO45)*AP45","v":{"$error":"#VALUE!"}},{"$f":"MIN((AB101+AM35*D19)/AK45,(AB102+AM35*D19)/AL45,(AB103+AM35*D19)/AM45,(AB104+AM35*D19)/AN45,(AB105+AM35*D19)/AO45)*AP45","v":{"$error":"#VALUE!"}},{"$f":"MIN((AC101+AM35*D19)/AK45,(AC102+AM35*D19)/AL45,(AC103+AM35*D19)/AM45,(AC104+AM35*D19)/AN45,(AC105+AM35*D19)/AO45)*AP45","v":{"$error":"#VALUE!"}},{"$f":"MIN((AD101+AM35*D19)/AK45,(AD102+AM35*D19)/AL45,(AD103+AM35*D19)/AM45,(AD104+AM35*D19)/AN45,(AD105+AM35*D19)/AO45)*AP45","v":{"$error":"#VALUE!"}},{"$f":"MIN((AE101+AM35*D19)/AK45,(AE102+AM35*D19)/AL45,(AE103+AM35*D19)/AM45,(AE104+AM35*D19)/AN45,(AE105+AM35*D19)/AO45)*AP45","v":{"$error":"#VALUE!"}},{"$f":"MIN((AF101+AM35*D19)/AK45,(AF102+AM35*D19)/AL45,(AF103+AM35*D19)/AM45,(AF104+AM35*D19)/AN45,(AF105+AM35*D19)/AO45)*AP45","v":{"$error":"#VALUE!"}},{"$error":"#VALUE!"},null,{"$f":"BB109","v":"kit 1"},"kit 2/3",0,"kit 4",0,"kit 5","kit 6/7",0,0,"kit 8","kit 9",0,"kit 10","kit 11",{"$f":"BA18","v":""},null,{"$error":"#VALUE!"},{"$error":"#VALUE!"},{"$error":"#VALUE!"},{"$error":"#VALUE!"},{"$error":"#VALUE!"},{"$error":"#VALUE!"},{"$error":"#VALUE!"},{"$error":"#VALUE!"},{"$error":"#VALUE!"},{"$error":"#VALUE!"},{"$error":"#VALUE!"},{"$error":"#VALUE!"},{"$error":"#VALUE!"},{"$error":"#VALUE!"},{"$error":"#VALUE!"},{"$error":"#VALUE!"},{"$error":"#VALUE!"},{"$error":"#VALUE!"},{"$error":"#VALUE!"},{"$error":"#VALUE!"},{"$error":"#VALUE!"},{"$error":"#VALUE!"},{"$error":"#VALUE!"},{"$error":"#VALUE!"},{"$error":"#VALUE!"},{"$error":"#VALUE!"},{"$error":"#VALUE!"},{"$error":"#VALUE!"},{"$error":"#VALUE!"},{"$error":"#VALUE!"},{"$error":"#VALUE!"},{"$error":"#VALUE!"},{"$error":"#VALUE!"},{"$error":"#VALUE!"},{"$error":"#VALUE!"},{"$error":"#VALUE!"}]
[null,null,null,null,5.4449999999999998E-2,2.6702499999999998,{"$f":"E90+F90","v":2.7246999999999999},0.27245000000000003,2.4523000000000001,{"$f":"H90+I90","v":2.7247500000000002},5.4449999999999998E-2,2.6702499999999998,{"$f":"K90+L90","v":2.7246999999999999},5.4449999999999998E-2,2.6702499999999998,{"$f":"N90+O90","v":2.7246999999999999},null,{"$f":"IF($AX$306,K15+VLOOKUP(Team!$AA$21,Team!$E$30:$J$300,6,FALSE),K15+AH42+$D$21)+$D$19*$AG$12","v":{"$error":"#VALUE!"}},{"$f":"IF($AX$306,$R90,$R90+Q13)","v":{"$error":"#VALUE!"}},{"$error":"#VALUE!"},{"$error":"#VALUE!"},{"$error":"#VALUE!"},{"$error":"#VALUE!"},{"$error":"#VALUE!"},{"$error":"#VALUE!"},{"$error":"#VALUE!"},{"$error":"#VALUE!"},{"$error":"#VALUE!"},{"$error":"#VALUE!"},{"$error":"#VALUE!"},{"$error":"#VALUE!"},{"$error":"#VALUE!"},null,null,null,"",{"$f":"MIN((S108+AL35*D19)/AK44,(S109+AL35*D19)/AL44,(S110+AL35*D19)/AM44,(S111+AL35*D19)/AN44,(S112+AL35*D19)/AO44)*AP44","v":{"$error":"#VALUE!"}},{"$f":"MIN((T108+AL35*D19)/AK44,(T109+AL35*D19)/AL44,(T110+AL35*D19)/AM44,(T111+AL35*D19)/AN44,(T112+AL35*D19)/AO44)*AP44","v":{"$error":"#VALUE!"}},{"$f":"MIN((U108+AL35*D19)/AK44,(U109+AL35*D19)/AL44,(U110+AL35*D19)/AM44,(U111+AL35*D19)/AN44,(U112+AL35*D19)/AO44)*AP44","v":{"$error":"#VALUE!"}},{"$f":"MIN((V108+AL35*D19)/AK44,(V109+AL35*D19)/AL44,(V110+AL35*D19)/AM44,(V111+AL35*D19)/AN44,(V112+AL35*D19)/AO44)*AP44","v":{"$error":"#VALUE!"}},{"$f":"MIN((W108+AL35*D19)/AK44,(W109+AL35*D19)/AL44,(W110+AL35*D19)/AM44,(W111+AL35*D19)/AN44,(W112+AL35*D19)/AO44)*AP44","v":{"$error":"#VALUE!"}},{"$f":"MIN((X108+AL35*D19)/AK44,(X109+AL35*D19)/AL44,(X110+AL35*D19)/AM44,(X111+AL35*D19)/AN44,(X112+AL35*D19)/AO44)*AP44","v":{"$error":"#VALUE!"}},{"$f":"MIN((Y108+AL35*D19)/AK44,(Y109+AL35*D19)/AL44,(Y110+AL35*D19)/AM44,(Y111+AL35*D19)/AN44,(Y112+AL35*D19)/AO44)*AP44","v":{"$error":"#VALUE!"}},{"$f":"MIN((Z108+AL35*D19)/AK44,(Z109+AL35*D19)/AL44,(Z110+AL35*D19)/AM44,(Z111+AL35*D19)/AN44,(Z112+AL35*D19)/AO44)*AP44","v":{"$error":"#VALUE!"}},{"$f":"MIN((AA108+AL35*D19)/AK44,(AA109+AL35*D19)/AL44,(AA110+AL35*D19)/AM44,(AA111+AL35*D19)/AN44,(AA112+AL35*D19)/AO44)*AP44","v":{"$error":"#VALUE!"}},{"$f":"MIN((AB108+AL35*D19)/AK44,(AB109+AL35*D19)/AL44,(AB110+AL35*D19)/AM44,(AB111+AL35*D19)/AN44,(AB112+AL35*D19)/AO44)*AP44","v":{"$error":"#VALUE!"}},{"$f":"MIN((AC108+AL35*D19)/AK44,(AC109+AL35*D19)/AL44,(AC110+AL35*D19)/AM44,(AC111+AL35*D19)/AN44,(AC112+AL35*D19)/AO44)*AP44","v":{"$error":"#VALUE!"}},{"$f":"MIN((AD108+AL35*D19)/AK44,(AD109+AL35*D19)/AL44,(AD110+AL35*D19)/AM44,(AD111+AL35*D19)/AN44,(AD112+AL35*D19)/AO44)*AP44","v":{"$error":"#VALUE!"}},{"$f":"MIN((AE108+AL35*D19)/AK44,(AE109+AL35*D19)/AL44,(AE110+AL35*D19)/AM44,(AE111+AL35*D19)/AN44,(AE112+AL35*D19)/AO44)*AP44","v":{"$error":"#VALUE!"}},{"$f":"MIN((AF108+AL35*D19)/AK44,(AF109+AL35*D19)/AL44,(AF110+AL35*D19)/AM44,(AF111+AL35*D19)/AN44,(AF112+AL35*D19)/AO44)*AP44","v":{"$error":"#VALUE!"}},{"$error":"#VALUE!"},null,"",{"$f":"MIN((S108+AM35*D19)/AK45,(S109+AM35*D19)/AL45,(S110+AM35*D19)/AM45,(S111+AM35*D19)/AN45,(S112+AM35*D19)/AO45)*AP45","v":{"$error":"#VALUE!"}},{"$f":"MIN((T108+AM35*D19)/AK45,(T109+AM35*D19)/AL45,(T110+AM35*D19)/AM45,(T111+AM35*D19)/AN45,(T112+AM35*D19)/AO45)*AP45","v":{"$error":"#VALUE!"}},{"$f":"MIN((U108+AM35*D19)/AK45,(U109+AM35*D19)/AL45,(U110+AM35*D19)/AM45,(U111+AM35*D19)/AN45,(U112+AM35*D19)/AO45)*AP45","v":{"$error":"#VALUE!"}},{"$f":"MIN((V108+AM35*D19)/AK45,(V109+AM35*D19)/AL45,(V110+AM35*D19)/AM45,(V111+AM35*D19)/AN45,(V112+AM35*D19)/AO45)*AP45","v":{"$error":"#VALUE!"}},{"$f":"MIN((W108+AM35*D19)/AK45,(W109+AM35*D19)/AL45,(W110+AM35*D19)/AM45,(W111+AM35*D19)/AN45,(W112+AM35*D19)/AO45)*AP45","v":{"$error":"#VALUE!"}},{"$f":"MIN((X108+AM35*D19)/AK45,(X109+AM35*D19)/AL45,(X110+AM35*D19)/AM45,(X111+AM35*D19)/AN45,(X112+AM35*D19)/AO45)*AP45","v":{"$error":"#VALUE!"}},{"$f":"MIN((Y108+AM35*D19)/AK45,(Y109+AM35*D19)/AL45,(Y110+AM35*D19)/AM45,(Y111+AM35*D19)/AN45,(Y112+AM35*D19)/AO45)*AP45","v":{"$error":"#VALUE!"}},{"$f":"MIN((Z108+AM35*D19)/AK45,(Z109+AM35*D19)/AL45,(Z110+AM35*D19)/AM45,(Z111+AM35*D19)/AN45,(Z112+AM35*D19)/AO45)*AP45","v":{"$error":"#VALUE!"}},{"$f":"MIN((AA108+AM35*D19)/AK45,(AA109+AM35*D19)/AL45,(AA110+AM35*D19)/AM45,(AA111+AM35*D19)/AN45,(AA112+AM35*D19)/AO45)*AP45","v":{"$error":"#VALUE!"}},{"$f":"MIN((AB108+AM35*D19)/AK45,(AB109+AM35*D19)/AL45,(AB110+AM35*D19)/AM45,(AB111+AM35*D19)/AN45,(AB112+AM35*D19)/AO45)*AP45","v":{"$error":"#VALUE!"}},{"$f":"MIN((AC108+AM35*D19)/AK45,(AC109+AM35*D19)/AL45,(AC110+AM35*D19)/AM45,(AC111+AM35*D19)/AN45,(AC112+AM35*D19)/AO45)*AP45","v":{"$error":"#VALUE!"}},{"$f":"MIN((AD108+AM35*D19)/AK45,(AD109+AM35*D19)/AL45,(AD110+AM35*D19)/AM45,(AD111+AM35*D19)/AN45,(AD112+AM35*D19)/AO45)*AP45","v":{"$error":"#VALUE!"}},{"$f":"MIN((AE108+AM35*D19)/AK45,(AE109+AM35*D19)/AL45,(AE110+AM35*D19)/AM45,(AE111+AM35*D19)/AN45,(AE112+AM35*D19)/AO45)*AP45","v":{"$error":"#VALUE!"}},{"$f":"MIN((AF108+AM35*D19)/AK45,(AF109+AM35*D19)/AL45,(AF110+AM35*D19)/AM45,(AF111+AM35*D19)/AN45,(AF112+AM35*D19)/AO45)*AP45","v":{"$error":"#VALUE!"}},{"$error":"#VALUE!"},null,{"$f":"BB109","v":"kit 1"},"kit 2/3",0,"kit 4",0,"kit 5","kit 6/7",0,0,"kit 8","kit 9",0,"kit 10","kit 11","",null,{"$error":"#VALUE!"},{"$error":"#VALUE!"},{"$error":"#VALUE!"},{"$error":"#VALUE!"},{"$error":"#VALUE!"},{"$error":"#VALUE!"},{"$error":"#VALUE!"},{"$error":"#VALUE!"},{"$error":"#VALUE!"},{"$error":"#VALUE!"},{"$error":"#VALUE!"},{"$error":"#VALUE!"},{"$error":"#VALUE!"},{"$error":"#VALUE!"},{"$error":"#VALUE!"},{"$error":"#VALUE!"},{"$error":"#VALUE!"},{"$error":"#VALUE!"},{"$error":"#VALUE!"},{"$error":"#VALUE!"},{"$error":"#VALUE!"},{"$error":"#VALUE!"},{"$error":"#VALUE!"},{"$error":"#VALUE!"},{"$error":"#VALUE!"},{"$error":"#VALUE!"},{"$error":"#VALUE!"},{"$error":"#VALUE!"},{"$error":"#VALUE!"},{"$error":"#VALUE!"},{"$error":"#VALUE!"},{"$error":"#VALUE!"},{"$error":"#VALUE!"},{"$error":"#VALUE!"},{"$error":"#VALUE!"},{"$error":"#VALUE!"}]
[null,null,null,null,0.40870000000000001,0.95365,{"$f":"E91+F91","v":1.3623499999999999},0.95365,0.40870000000000001,1.3623499999999999,1.3623499999999999,0.90825,{"$f":"K91+L91","v":2.2706},0.81740000000000002,0.54495000000000005,{"$f":"N91+O91","v":1.3623500000000002},null,{"$f":"IF($AX$306,L15+VLOOKUP(Team!$AB$21,Team!$E$30:$J$300,6,FALSE),L15+AH43+$D$21)+$D$19*$AG$12","v":{"$error":"#VALUE!"}},{"$f":"IF($AX$306,$R91,$R91+Q14)","v":{"$error":"#VALUE!"}},{"$error":"#VALUE!"},{"$error":"#VALUE!"},{"$error":"#VALUE!"},{"$error":"#VALUE!"},{"$error":"#VALUE!"},{"$error":"#VALUE!"},{"$error":"#VALUE!"},{"$error":"#VALUE!"},{"$error":"#VALUE!"},{"$error":"#VALUE!"},{"$error":"#VALUE!"},{"$error":"#VALUE!"},{"$error":"#VALUE!"},null,null,null,"",{"$f":"MIN((S115+AL35*D19)/AK44,(S116+AL35*D19)/AL44,(S117+AL35*D19)/AM44,(S118+AL35*D19)/AN44,(S119+AL35*D19)/AO44)*AP44","v":{"$error":"#VALUE!"}},{"$f":"MIN((T115+AL35*D19)/AK44,(T116+AL35*D19)/AL44,(T117+AL35*D19)/AM44,(T118+AL35*D19)/AN44,(T119+AL35*D19)/AO44)*AP44","v":{"$error":"#VALUE!"}},{"$f":"MIN((U115+AL35*D19)/AK44,(U116+AL35*D19)/AL44,(U117+AL35*D19)/AM44,(U118+AL35*D19)/AN44,(U119+AL35*D19)/AO44)*AP44","v":{"$error":"#VALUE!"}},{"$f":"MIN((V115+AL35*D19)/AK44,(V116+AL35*D19)/AL44,(V117+AL35*D19)/AM44,(V118+AL35*D19)/AN44,(V119+AL35*D19)/AO44)*AP44","v":{"$error":"#VALUE!"}},{"$f":"MIN((W115+AL35*D19)/AK44,(W116+AL35*D19)/AL44,(W117+AL35*D19)/AM44,(W118+AL35*D19)/AN44,(W119+AL35*D19)/AO44)*AP44","v":{"$error":"#VALUE!"}},{"$f":"MIN((X115+AL35*D19)/AK44,(X116+AL35*D19)/AL44,(X117+AL35*D19)/AM44,(X118+AL35*D19)/AN44,(X119+AL35*D19)/AO44)*AP44","v":{"$error":"#VALUE!"}},{"$f":"MIN((Y115+AL35*D19)/AK44,(Y116+AL35*D19)/AL44,(Y117+AL35*D19)/AM44,(Y118+AL35*D19)/AN44,(Y119+AL35*D19)/AO44)*AP44","v":{"$error":"#VALUE!"}},{"$f":"MIN((Z115+AL35*D19)/AK44,(Z116+AL35*D19)/AL44,(Z117+AL35*D19)/AM44,(Z118+AL35*D19)/AN44,(Z119+AL35*D19)/AO44)*AP44","v":{"$error":"#VALUE!"}},{"$f":"MIN((AA115+AL35*D19)/AK44,(AA116+AL35*D19)/AL44,(AA117+AL35*D19)/AM44,(AA118+AL35*D19)/AN44,(AA119+AL35*D19)/AO44)*AP44","v":{"$error":"#VALUE!"}},{"$f":"MIN((AB115+AL35*D19)/AK44,(AB116+AL35*D19)/AL44,(AB117+AL35*D19)/AM44,(AB118+AL35*D19)/AN44,(AB119+AL35*D19)/AO44)*AP44","v":{"$error":"#VALUE!"}},{"$f":"MIN((AC115+AL35*D19)/AK44,(AC116+AL35*D19)/AL44,(AC117+AL35*D19)/AM44,(AC118+AL35*D19)/AN44,(AC119+AL35*D19)/AO44)*AP44","v":{"$error":"#VALUE!"}},{"$f":"MIN((AD115+AL35*D19)/AK44,(AD116+AL35*D19)/AL44,(AD117+AL35*D19)/AM44,(AD118+AL35*D19)/AN44,(AD119+AL35*D19)/AO44)*AP44","v":{"$error":"#VALUE!"}},{"$f":"MIN((AE115+AL35*D19)/AK44,(AE116+AL35*D19)/AL44,(AE117+AL35*D19)/AM44,(AE118+AL35*D19)/AN44,(AE119+AL35*D19)/AO44)*AP44","v":{"$error":"#VALUE!"}},{"$f":"MIN((AF115+AL35*D19)/AK44,(AF116+AL35*D19)/AL44,(AF117+AL35*D19)/AM44,(AF118+AL35*D19)/AN44,(AF119+AL35*D19)/AO44)*AP44","v":{"$error":"#VALUE!"}},{"$error":"#VALUE!"},null,"",{"$f":"MIN((S115+AM35*D19)/AK45,(S116+AM35*D19)/AL45,(S117+AM35*D19)/AM45,(S118+AM35*D19)/AN45,(S119+AM35*D19)/AO45)*AP45","v":{"$error":"#VALUE!"}},{"$f":"MIN((T115+AM35*D19)/AK45,(T116+AM35*D19)/AL45,(T117+AM35*D19)/AM45,(T118+AM35*D19)/AN45,(T119+AM35*D19)/AO45)*AP45","v":{"$error":"#VALUE!"}},{"$f":"MIN((U115+AM35*D19)/AK45,(U116+AM35*D19)/AL45,(U117+AM35*D19)/AM45,(U118+AM35*D19)/AN45,(U119+AM35*D19)/AO45)*AP45","v":{"$error":"#VALUE!"}},{"$f":"MIN((V115+AM35*D19)/AK45,(V116+AM35*D19)/AL45,(V117+AM35*D19)/AM45,(V118+AM35*D19)/AN45,(V119+AM35*D19)/AO45)*AP45","v":{"$error":"#VALUE!"}},{"$f":"MIN((W115+AM35*D19)/AK45,(W116+AM35*D19)/AL45,(W117+AM35*D19)/AM45,(W118+AM35*D19)/AN45,(W119+AM35*D19)/AO45)*AP45","v":{"$error":"#VALUE!"}},{"$f":"MIN((X115+AM35*D19)/AK45,(X116+AM35*D19)/AL45,(X117+AM35*D19)/AM45,(X118+AM35*D19)/AN45,(X119+AM35*D19)/AO45)*AP45","v":{"$error":"#VALUE!"}},{"$f":"MIN((Y115+AM35*D19)/AK45,(Y116+AM35*D19)/AL45,(Y117+AM35*D19)/AM45,(Y118+AM35*D19)/AN45,(Y119+AM35*D19)/AO45)*AP45","v":{"$error":"#VALUE!"}},{"$f":"MIN((Z115+AM35*D19)/AK45,(Z116+AM35*D19)/AL45,(Z117+AM35*D19)/AM45,(Z118+AM35*D19)/AN45,(Z119+AM35*D19)/AO45)*AP45","v":{"$error":"#VALUE!"}},{"$f":"MIN((AA115+AM35*D19)/AK45,(AA116+AM35*D19)/AL45,(AA117+AM35*D19)/AM45,(AA118+AM35*D19)/AN45,(AA119+AM35*D19)/AO45)*AP45","v":{"$error":"#VALUE!"}},{"$f":"MIN((AB115+AM35*D19)/AK45,(AB116+AM35*D19)/AL45,(AB117+AM35*D19)/AM45,(AB118+AM35*D19)/AN45,(AB119+AM35*D19)/AO45)*AP45","v":{"$error":"#VALUE!"}},{"$f":"MIN((AC115+AM35*D19)/AK45,(AC116+AM35*D19)/AL45,(AC117+AM35*D19)/AM45,(AC118+AM35*D19)/AN45,(AC119+AM35*D19)/AO45)*AP45","v":{"$error":"#VALUE!"}},{"$f":"MIN((AD115+AM35*D19)/AK45,(AD116+AM35*D19)/AL45,(AD117+AM35*D19)/AM45,(AD118+AM35*D19)/AN45,(AD119+AM35*D19)/AO45)*AP45","v":{"$error":"#VALUE!"}},{"$f":"MIN((AE115+AM35*D19)/AK45,(AE116+AM35*D19)/AL45,(AE117+AM35*D19)/AM45,(AE118+AM35*D19)/AN45,(AE119+AM35*D19)/AO45)*AP45","v":{"$error":"#VALUE!"}},{"$f":"MIN((AF115+AM35*D19)/AK45,(AF116+AM35*D19)/AL45,(AF117+AM35*D19)/AM45,(AF118+AM35*D19)/AN45,(AF119+AM35*D19)/AO45)*AP45","v":{"$error":"#VALUE!"}},{"$error":"#VALUE!"},null,{"$f":"BB109","v":"kit 1"},"kit 2/3",0,"kit 4",0,"kit 5","kit 6/7",0,0,"kit 8","kit 9",0,"kit 10","kit 11",{"$f":"BA20","v":""},null,{"$error":"#VALUE!"},{"$error":"#VALUE!"},{"$error":"#VALUE!"},{"$error":"#VALUE!"},{"$error":"#VALUE!"},{"$error":"#VALUE!"},{"$error":"#VALUE!"},{"$error":"#VALUE!"},{"$error":"#VALUE!"},{"$error":"#VALUE!"},{"$error":"#VALUE!"},{"$error":"#VALUE!"},{"$error":"#VALUE!"},{"$error":"#VALUE!"},{"$error":"#VALUE!"},{"$error":"#VALUE!"},{"$error":"#VALUE!"},{"$error":"#VALUE!"},{"$error":"#VALUE!"},{"$error":"#VALUE!"},{"$error":"#VALUE!"},{"$error":"#VALUE!"},{"$error":"#VALUE!"},{"$error":"#VALUE!"},{"$error":"#VALUE!"},{"$error":"#VALUE!"},{"$error":"#VALUE!"},{"$error":"#VALUE!"},{"$error":"#VALUE!"},{"$error":"#VALUE!"},{"$error":"#VALUE!"},{"$error":"#VALUE!"},{"$error":"#VALUE!"},{"$error":"#VALUE!"},{"$error":"#VALUE!"},{"$error":"#VALUE!"}]
[null,null,null,null,0.40870000000000001,0.95365,1.3623499999999999,0.95365,0.40870000000000001,1.3623499999999999,1.3623499999999999,0.90825,2.2706,0.81740000000000002,0.54495000000000005,1.3623500000000002,null,null,null,null,null,null,null,null,null,null,null,null,null,null,null,null,null,null,null,"",{"$f":"MIN((S122+AL35*D19)/AK44,(S123+AL35*D19)/AL44,(S124+AL35*D19)/AM44,(S125+AL35*D19)/AN44,(S126+AL35*D19)/AO44)*AP44","v":{"$error":"#VALUE!"}},{"$f":"MIN((T122+AL35*D19)/AK44,(T123+AL35*D19)/AL44,(T124+AL35*D19)/AM44,(T125+AL35*D19)/AN44,(T126+AL35*D19)/AO44)*AP44","v":{"$error":"#VALUE!"}},{"$f":"MIN((U122+AL35*D19)/AK44,(U123+AL35*D19)/AL44,(U124+AL35*D19)/AM44,(U125+AL35*D19)/AN44,(U126+AL35*D19)/AO44)*AP44","v":{"$error":"#VALUE!"}},{"$f":"MIN((V122+AL35*D19)/AK44,(V123+AL35*D19)/AL44,(V124+AL35*D19)/AM44,(V125+AL35*D19)/AN44,(V126+AL35*D19)/AO44)*AP44","v":{"$error":"#VALUE!"}},{"$f":"MIN((W122+AL35*D19)/AK44,(W123+AL35*D19)/AL44,(W124+AL35*D19)/AM44,(W125+AL35*D19)/AN44,(W126+AL35*D19)/AO44)*AP44","v":{"$error":"#VALUE!"}},{"$f":"MIN((X122+AL35*D19)/AK44,(X123+AL35*D19)/AL44,(X124+AL35*D19)/AM44,(X125+AL35*D19)/AN44,(X126+AL35*D19)/AO44)*AP44","v":{"$error":"#VALUE!"}},{"$f":"MIN((Y122+AL35*D19)/AK44,(Y123+AL35*D19)/AL44,(Y124+AL35*D19)/AM44,(Y125+AL35*D19)/AN44,(Y126+AL35*D19)/AO44)*AP44","v":{"$error":"#VALUE!"}},{"$f":"MIN((Z122+AL35*D19)/AK44,(Z123+AL35*D19)/AL44,(Z124+AL35*D19)/AM44,(Z125+AL35*D19)/AN44,(Z126+AL35*D19)/AO44)*AP44","v":{"$error":"#VALUE!"}},{"$f":"MIN((AA122+AL35*D19)/AK44,(AA123+AL35*D19)/AL44,(AA124+AL35*D19)/AM44,(AA125+AL35*D19)/AN44,(AA126+AL35*D19)/AO44)*AP44","v":{"$error":"#VALUE!"}},{"$f":"MIN((AB122+AL35*D19)/AK44,(AB123+AL35*D19)/AL44,(AB124+AL35*D19)/AM44,(AB125+AL35*D19)/AN44,(AB126+AL35*D19)/AO44)*AP44","v":{"$error":"#VALUE!"}},{"$f":"MIN((AC122+AL35*D19)/AK44,(AC123+AL35*D19)/AL44,(AC124+AL35*D19)/AM44,(AC125+AL35*D19)/AN44,(AC126+AL35*D19)/AO44)*AP44","v":{"$error":"#VALUE!"}},{"$f":"MIN((AD122+AL35*D19)/AK44,(AD123+AL35*D19)/AL44,(AD124+AL35*D19)/AM44,(AD125+AL35*D19)/AN44,(AD126+AL35*D19)/AO44)*AP44","v":{"$error":"#VALUE!"}},{"$f":"MIN((AE122+AL35*D19)/AK44,(AE123+AL35*D19)/AL44,(AE124+AL35*D19)/AM44,(AE125+AL35*D19)/AN44,(AE126+AL35*D19)/AO44)*AP44","v":{"$error":"#VALUE!"}},{"$f":"MIN((AF122+AL35*D19)/AK44,(AF123+AL35*D19)/AL44,(AF124+AL35*D19)/AM44,(AF125+AL35*D19)/AN44,(AF126+AL35*D19)/AO44)*AP44","v":{"$error":"#VALUE!"}},{"$error":"#VALUE!"},null,"",{"$f":"MIN((S122+AM35*D19)/AK45,(S123+AM35*D19)/AL45,(S124+AM35*D19)/AM45,(S125+AM35*D19)/AN45,(S126+AM35*D19)/AO45)*AP45","v":{"$error":"#VALUE!"}},{"$f":"MIN((T122+AM35*D19)/AK45,(T123+AM35*D19)/AL45,(T124+AM35*D19)/AM45,(T125+AM35*D19)/AN45,(T126+AM35*D19)/AO45)*AP45","v":{"$error":"#VALUE!"}},{"$f":"MIN((U122+AM35*D19)/AK45,(U123+AM35*D19)/AL45,(U124+AM35*D19)/AM45,(U125+AM35*D19)/AN45,(U126+AM35*D19)/AO45)*AP45","v":{"$error":"#VALUE!"}},{"$f":"MIN((V122+AM35*D19)/AK45,(V123+AM35*D19)/AL45,(V124+AM35*D19)/AM45,(V125+AM35*D19)/AN45,(V126+AM35*D19)/AO45)*AP45","v":{"$error":"#VALUE!"}},{"$f":"MIN((W122+AM35*D19)/AK45,(W123+AM35*D19)/AL45,(W124+AM35*D19)/AM45,(W125+AM35*D19)/AN45,(W126+AM35*D19)/AO45)*AP45","v":{"$error":"#VALUE!"}},{"$f":"MIN((X122+AM35*D19)/AK45,(X123+AM35*D19)/AL45,(X124+AM35*D19)/AM45,(X125+AM35*D19)/AN45,(X126+AM35*D19)/AO45)*AP45","v":{"$error":"#VALUE!"}},{"$f":"MIN((Y122+AM35*D19)/AK45,(Y123+AM35*D19)/AL45,(Y124+AM35*D19)/AM45,(Y125+AM35*D19)/AN45,(Y126+AM35*D19)/AO45)*AP45","v":{"$error":"#VALUE!"}},{"$f":"MIN((Z122+AM35*D19)/AK45,(Z123+AM35*D19)/AL45,(Z124+AM35*D19)/AM45,(Z125+AM35*D19)/AN45,(Z126+AM35*D19)/AO45)*AP45","v":{"$error":"#VALUE!"}},{"$f":"MIN((AA122+AM35*D19)/AK45,(AA123+AM35*D19)/AL45,(AA124+AM35*D19)/AM45,(AA125+AM35*D19)/AN45,(AA126+AM35*D19)/AO45)*AP45","v":{"$error":"#VALUE!"}},{"$f":"MIN((AB122+AM35*D19)/AK45,(AB123+AM35*D19)/AL45,(AB124+AM35*D19)/AM45,(AB125+AM35*D19)/AN45,(AB126+AM35*D19)/AO45)*AP45","v":{"$error":"#VALUE!"}},{"$f":"MIN((AC122+AM35*D19)/AK45,(AC123+AM35*D19)/AL45,(AC124+AM35*D19)/AM45,(AC125+AM35*D19)/AN45,(AC126+AM35*D19)/AO45)*AP45","v":{"$error":"#VALUE!"}},{"$f":"MIN((AD122+AM35*D19)/AK45,(AD123+AM35*D19)/AL45,(AD124+AM35*D19)/AM45,(AD125+AM35*D19)/AN45,(AD126+AM35*D19)/AO45)*AP45","v":{"$error":"#VALUE!"}},{"$f":"MIN((AE122+AM35*D19)/AK45,(AE123+AM35*D19)/AL45,(AE124+AM35*D19)/AM45,(AE125+AM35*D19)/AN45,(AE126+AM35*D19)/AO45)*AP45","v":{"$error":"#VALUE!"}},{"$f":"MIN((AF122+AM35*D19)/AK45,(AF123+AM35*D19)/AL45,(AF124+AM35*D19)/AM45,(AF125+AM35*D19)/AN45,(AF126+AM35*D19)/AO45)*AP45","v":{"$error":"#VALUE!"}},{"$error":"#VALUE!"},null,{"$f":"BB109","v":"kit 1"},"kit 2/3",0,"kit 4",0,"kit 5","kit 6/7",0,0,"kit 8","kit 9",0,"kit 10","kit 11","total",null,{"$f":"SUM(CH81:CH91)","v":{"$error":"#VALUE!"}},{"$error":"#VALUE!"},{"$error":"#VALUE!"},{"$error":"#VALUE!"},{"$error":"#VALUE!"},{"$error":"#VALUE!"},{"$error":"#VALUE!"},{"$error":"#VALUE!"},{"$error":"#VALUE!"},{"$error":"#VALUE!"},{"$error":"#VALUE!"},{"$error":"#VALUE!"},{"$error":"#VALUE!"},{"$error":"#VALUE!"},{"$error":"#VALUE!"},{"$error":"#VALUE!"},{"$error":"#VALUE!"},{"$error":"#VALUE!"},{"$error":"#VALUE!"},{"$error":"#VALUE!"},{"$error":"#VALUE!"},{"$error":"#VALUE!"},{"$error":"#VALUE!"},{"$error":"#VALUE!"},{"$error":"#VALUE!"},{"$error":"#VALUE!"},{"$error":"#VALUE!"},{"$error":"#VALUE!"},{"$error":"#VALUE!"},{"$error":"#VALUE!"},{"$error":"#VALUE!"},{"$error":"#VALUE!"},{"$error":"#VALUE!"},{"$error":"#VALUE!"},{"$error":"#VALUE!"},{"$error":"#VALUE!"}]
[null,null,null,null,0.72660000000000002,1.0899000000000001,1.8165,0.36330000000000001,0.54495000000000005,0.90825,0.4541,0.4541,0.90820000000000001,0.90825,0.90825,1.8165,null,{"$f":"G16","v":""},{"$f":"S86","v":"kit 1"},{"$f":"T86","v":"kit 2/3"},0,"kit 4",0,"kit 5","kit 6/7",0,0,"kit 8","kit 9",0,{"$f":"AE86","v":"kit 10"},{"$f":"AF86","v":"kit 11"},null,null,null,"",{"$f":"MIN((S129+AL35*D19)/AK44,(S130+AL35*D19)/AL44,(S131+AL35*D19)/AM44,(S132+AL35*D19)/AN44,(S133+AL35*D19)/AO44)*AP44","v":{"$error":"#VALUE!"}},{"$f":"MIN((T129+AL35*D19)/AK44,(T130+AL35*D19)/AL44,(T131+AL35*D19)/AM44,(T132+AL35*D19)/AN44,(T133+AL35*D19)/AO44)*AP44","v":{"$error":"#VALUE!"}},{"$f":"MIN((U129+AL35*D19)/AK44,(U130+AL35*D19)/AL44,(U131+AL35*D19)/AM44,(U132+AL35*D19)/AN44,(U133+AL35*D19)/AO44)*AP44","v":{"$error":"#VALUE!"}},{"$f":"MIN((V129+AL35*D19)/AK44,(V130+AL35*D19)/AL44,(V131+AL35*D19)/AM44,(V132+AL35*D19)/AN44,(V133+AL35*D19)/AO44)*AP44","v":{"$error":"#VALUE!"}},{"$f":"MIN((W129+AL35*D19)/AK44,(W130+AL35*D19)/AL44,(W131+AL35*D19)/AM44,(W132+AL35*D19)/AN44,(W133+AL35*D19)/AO44)*AP44","v":{"$error":"#VALUE!"}},{"$f":"MIN((X129+AL35*D19)/AK44,(X130+AL35*D19)/AL44,(X131+AL35*D19)/AM44,(X132+AL35*D19)/AN44,(X133+AL35*D19)/AO44)*AP44","v":{"$error":"#VALUE!"}},{"$f":"MIN((Y129+AL35*D19)/AK44,(Y130+AL35*D19)/AL44,(Y131+AL35*D19)/AM44,(Y132+AL35*D19)/AN44,(Y133+AL35*D19)/AO44)*AP44","v":{"$error":"#VALUE!"}},{"$f":"MIN((Z129+AL35*D19)/AK44,(Z130+AL35*D19)/AL44,(Z131+AL35*D19)/AM44,(Z132+AL35*D19)/AN44,(Z133+AL35*D19)/AO44)*AP44","v":{"$error":"#VALUE!"}},{"$f":"MIN((AA129+AL35*D19)/AK44,(AA130+AL35*D19)/AL44,(AA131+AL35*D19)/AM44,(AA132+AL35*D19)/AN44,(AA133+AL35*D19)/AO44)*AP44","v":{"$error":"#VALUE!"}},{"$f":"MIN((AB129+AL35*D19)/AK44,(AB130+AL35*D19)/AL44,(AB131+AL35*D19)/AM44,(AB132+AL35*D19)/AN44,(AB133+AL35*D19)/AO44)*AP44","v":{"$error":"#VALUE!"}},{"$f":"MIN((AC129+AL35*D19)/AK44,(AC130+AL35*D19)/AL44,(AC131+AL35*D19)/AM44,(AC132+AL35*D19)/AN44,(AC133+AL35*D19)/AO44)*AP44","v":{"$error":"#VALUE!"}},{"$f":"MIN((AD129+AL35*D19)/AK44,(AD130+AL35*D19)/AL44,(AD131+AL35*D19)/AM44,(AD132+AL35*D19)/AN44,(AD133+AL35*D19)/AO44)*AP44","v":{"$error":"#VALUE!"}},{"$f":"MIN((AE129+AL35*D19)/AK44,(AE130+AL35*D19)/AL44,(AE131+AL35*D19)/AM44,(AE132+AL35*D19)/AN44,(AE133+AL35*D19)/AO44)*AP44","v":{"$error":"#VALUE!"}},{"$f":"MIN((AF129+AL35*D19)/AK44,(AF130+AL35*D19)/AL44,(AF131+AL35*D19)/AM44,(AF132+AL35*D19)/AN44,(AF133+AL35*D19)/AO44)*AP44","v":{"$error":"#VALUE!"}},{"$error":"#VALUE!"},null,"",{"$f":"MIN((S129+AM35*D19)/AK45,(S130+AM35*D19)/AL45,(S131+AM35*D19)/AM45,(S132+AM35*D19)/AN45,(S133+AM35*D19)/AO45)*AP45","v":{"$error":"#VALUE!"}},{"$f":"MIN((T129+AM35*D19)/AK45,(T130+AM35*D19)/AL45,(T131+AM35*D19)/AM45,(T132+AM35*D19)/AN45,(T133+AM35*D19)/AO45)*AP45","v":{"$error":"#VALUE!"}},{"$f":"MIN((U129+AM35*D19)/AK45,(U130+AM35*D19)/AL45,(U131+AM35*D19)/AM45,(U132+AM35*D19)/AN45,(U133+AM35*D19)/AO45)*AP45","v":{"$error":"#VALUE!"}},{"$f":"MIN((V129+AM35*D19)/AK45,(V130+AM35*D19)/AL45,(V131+AM35*D19)/AM45,(V132+AM35*D19)/AN45,(V133+AM35*D19)/AO45)*AP45","v":{"$error":"#VALUE!"}},{"$f":"MIN((W129+AM35*D19)/AK45,(W130+AM35*D19)/AL45,(W131+AM35*D19)/AM45,(W132+AM35*D19)/AN45,(W133+AM35*D19)/AO45)*AP45","v":{"$error":"#VALUE!"}},{"$f":"MIN((X129+AM35*D19)/AK45,(X130+AM35*D19)/AL45,(X131+AM35*D19)/AM45,(X132+AM35*D19)/AN45,(X133+AM35*D19)/AO45)*AP45","v":{"$error":"#VALUE!"}},{"$f":"MIN((Y129+AM35*D19)/AK45,(Y130+AM35*D19)/AL45,(Y131+AM35*D19)/AM45,(Y132+AM35*D19)/AN45,(Y133+AM35*D19)/AO45)*AP45","v":{"$error":"#VALUE!"}},{"$f":"MIN((Z129+AM35*D19)/AK45,(Z130+AM35*D19)/AL45,(Z131+AM35*D19)/AM45,(Z132+AM35*D19)/AN45,(Z133+AM35*D19)/AO45)*AP45","v":{"$error":"#VALUE!"}},{"$f":"MIN((AA129+AM35*D19)/AK45,(AA130+AM35*D19)/AL45,(AA131+AM35*D19)/AM45,(AA132+AM35*D19)/AN45,(AA133+AM35*D19)/AO45)*AP45","v":{"$error":"#VALUE!"}},{"$f":"MIN((AB129+AM35*D19)/AK45,(AB130+AM35*D19)/AL45,(AB131+AM35*D19)/AM45,(AB132+AM35*D19)/AN45,(AB133+AM35*D19)/AO45)*AP45","v":{"$error":"#VALUE!"}},{"$f":"MIN((AC129+AM35*D19)/AK45,(AC130+AM35*D19)/AL45,(AC131+AM35*D19)/AM45,(AC132+AM35*D19)/AN45,(AC133+AM35*D19)/AO45)*AP45","v":{"$error":"#VALUE!"}},{"$f":"MIN((AD129+AM35*D19)/AK45,(AD130+AM35*D19)/AL45,(AD131+AM35*D19)/AM45,(AD132+AM35*D19)/AN45,(AD133+AM35*D19)/AO45)*AP45","v":{"$error":"#VALUE!"}},{"$f":"MIN((AE129+AM35*D19)/AK45,(AE130+AM35*D19)/AL45,(AE131+AM35*D19)/AM45,(AE132+AM35*D19)/AN45,(AE133+AM35*D19)/AO45)*AP45","v":{"$error":"#VALUE!"}},{"$f":"MIN((AF129+AM35*D19)/AK45,(AF130+AM35*D19)/AL45,(AF131+AM35*D19)/AM45,(AF132+AM35*D19)/AN45,(AF133+AM35*D19)/AO45)*AP45","v":{"$error":"#VALUE!"}},{"$error":"#VALUE!"},null,{"$f":"BB109","v":"kit 1"},"kit 2/3",0,"kit 4",0,"kit 5","kit 6/7",0,0,"kit 8","kit 9",0,"kit 10","kit 11","rapport atttaque adversaire defense mon équipe et inversement avec bonus stratégie"]
[null,null,null,null,0.72660000000000002,1.0899000000000001,1.8165,0.95365,0.40870000000000001,1.3623499999999999,0.4541,0.4541,0.90820000000000001,1.0899000000000001,0.72660000000000002,1.8165,null,{"$f":"IF($AX$306,H16+VLOOKUP(Team!$X22,Team!$E$30:$J$300,6,FALSE),H16+AH39+$D$21)+$D$19*$AG$13","v":{"$error":"#VALUE!"}},{"$f":"IF($AX$306,$R94,$R94+Q10)","v":{"$error":"#VALUE!"}},{"$f":"IF($AX$306,$R94,$R94+R10)","v":{"$error":"#VALUE!"}},{"$error":"#VALUE!"},{"$error":"#VALUE!"},{"$error":"#VALUE!"},{"$error":"#VALUE!"},{"$error":"#VALUE!"},{"$error":"#VALUE!"},{"$error":"#VALUE!"},{"$error":"#VALUE!"},{"$error":"#VALUE!"},{"$error":"#VALUE!"},{"$error":"#VALUE!"},{"$error":"#VALUE!"},null,null,null,"",{"$f":"MIN((S136+AL35*D19)/AK44,(S137+AL35*D19)/AL44,(S138+AL35*D19)/AM44,(S139+AL35*D19)/AN44,(S140+AL35*D19)/AO44)*AP44","v":{"$error":"#VALUE!"}},{"$f":"MIN((T136+AL35*D19)/AK44,(T137+AL35*D19)/AL44,(T138+AL35*D19)/AM44,(T139+AL35*D19)/AN44,(T140+AL35*D19)/AO44)*AP44","v":{"$error":"#VALUE!"}},{"$f":"MIN((U136+AL35*D19)/AK44,(U137+AL35*D19)/AL44,(U138+AL35*D19)/AM44,(U139+AL35*D19)/AN44,(U140+AL35*D19)/AO44)*AP44","v":{"$error":"#VALUE!"}},{"$f":"MIN((V136+AL35*D19)/AK44,(V137+AL35*D19)/AL44,(V138+AL35*D19)/AM44,(V139+AL35*D19)/AN44,(V140+AL35*D19)/AO44)*AP44","v":{"$error":"#VALUE!"}},{"$f":"MIN((W136+AL35*D19)/AK44,(W137+AL35*D19)/AL44,(W138+AL35*D19)/AM44,(W139+AL35*D19)/AN44,(W140+AL35*D19)/AO44)*AP44","v":{"$error":"#VALUE!"}},{"$f":"MIN((X136+AL35*D19)/AK44,(X137+AL35*D19)/AL44,(X138+AL35*D19)/AM44,(X139+AL35*D19)/AN44,(X140+AL35*D19)/AO44)*AP44","v":{"$error":"#VALUE!"}},{"$f":"MIN((Y136+AL35*D19)/AK44,(Y137+AL35*D19)/AL44,(Y138+AL35*D19)/AM44,(Y139+AL35*D19)/AN44,(Y140+AL35*D19)/AO44)*AP44","v":{"$error":"#VALUE!"}},{"$f":"MIN((Z136+AL35*D19)/AK44,(Z137+AL35*D19)/AL44,(Z138+AL35*D19)/AM44,(Z139+AL35*D19)/AN44,(Z140+AL35*D19)/AO44)*AP44","v":{"$error":"#VALUE!"}},{"$f":"MIN((AA136+AL35*D19)/AK44,(AA137+AL35*D19)/AL44,(AA138+AL35*D19)/AM44,(AA139+AL35*D19)/AN44,(AA140+AL35*D19)/AO44)*AP44","v":{"$error":"#VALUE!"}},{"$f":"MIN((AB136+AL35*D19)/AK44,(AB137+AL35*D19)/AL44,(AB138+AL35*D19)/AM44,(AB139+AL35*D19)/AN44,(AB140+AL35*D19)/AO44)*AP44","v":{"$error":"#VALUE!"}},{"$f":"MIN((AC136+AL35*D19)/AK44,(AC137+AL35*D19)/AL44,(AC138+AL35*D19)/AM44,(AC139+AL35*D19)/AN44,(AC140+AL35*D19)/AO44)*AP44","v":{"$error":"#VALUE!"}},{"$f":"MIN((AD136+AL35*D19)/AK44,(AD137+AL35*D19)/AL44,(AD138+AL35*D19)/AM44,(AD139+AL35*D19)/AN44,(AD140+AL35*D19)/AO44)*AP44","v":{"$error":"#VALUE!"}},{"$f":"MIN((AE136+AL35*D19)/AK44,(AE137+AL35*D19)/AL44,(AE138+AL35*D19)/AM44,(AE139+AL35*D19)/AN44,(AE140+AL35*D19)/AO44)*AP44","v":{"$error":"#VALUE!"}},{"$f":"MIN((AF136+AL35*D19)/AK44,(AF137+AL35*D19)/AL44,(AF138+AL35*D19)/AM44,(AF139+AL35*D19)/AN44,(AF140+AL35*D19)/AO44)*AP44","v":{"$error":"#VALUE!"}},{"$error":"#VALUE!"},null,"",{"$f":"MIN((S136+AM35*D19)/AK45,(S137+AM35*D19)/AL45,(S138+AM35*D19)/AM45,(S139+AM35*D19)/AN45,(S140+AM35*D19)/AO45)*AP45","v":{"$error":"#VALUE!"}},{"$f":"MIN((T136+AM35*D19)/AK45,(T137+AM35*D19)/AL45,(T138+AM35*D19)/AM45,(T139+AM35*D19)/AN45,(T140+AM35*D19)/AO45)*AP45","v":{"$error":"#VALUE!"}},{"$f":"MIN((U136+AM35*D19)/AK45,(U137+AM35*D19)/AL45,(U138+AM35*D19)/AM45,(U139+AM35*D19)/AN45,(U140+AM35*D19)/AO45)*AP45","v":{"$error":"#VALUE!"}},{"$f":"MIN((V136+AM35*D19)/AK45,(V137+AM35*D19)/AL45,(V138+AM35*D19)/AM45,(V139+AM35*D19)/AN45,(V140+AM35*D19)/AO45)*AP45","v":{"$error":"#VALUE!"}},{"$f":"MIN((W136+AM35*D19)/AK45,(W137+AM35*D19)/AL45,(W138+AM35*D19)/AM45,(W139+AM35*D19)/AN45,(W140+AM35*D19)/AO45)*AP45","v":{"$error":"#VALUE!"}},{"$f":"MIN((X136+AM35*D19)/AK45,(X137+AM35*D19)/AL45,(X138+AM35*D19)/AM45,(X139+AM35*D19)/AN45,(X140+AM35*D19)/AO45)*AP45","v":{"$error":"#VALUE!"}},{"$f":"MIN((Y136+AM35*D19)/AK45,(Y137+AM35*D19)/AL45,(Y138+AM35*D19)/AM45,(Y139+AM35*D19)/AN45,(Y140+AM35*D19)/AO45)*AP45","v":{"$error":"#VALUE!"}},{"$f":"MIN((Z136+AM35*D19)/AK45,(Z137+AM35*D19)/AL45,(Z138+AM35*D19)/AM45,(Z139+AM35*D19)/AN45,(Z140+AM35*D19)/AO45)*AP45","v":{"$error":"#VALUE!"}},{"$f":"MIN((AA136+AM35*D19)/AK45,(AA137+AM35*D19)/AL45,(AA138+AM35*D19)/AM45,(AA139+AM35*D19)/AN45,(AA140+AM35*D19)/AO45)*AP45","v":{"$error":"#VALUE!"}},{"$f":"MIN((AB136+AM35*D19)/AK45,(AB137+AM35*D19)/AL45,(AB138+AM35*D19)/AM45,(AB139+AM35*D19)/AN45,(AB140+AM35*D19)/AO45)*AP45","v":{"$error":"#VALUE!"}},{"$f":"MIN((AC136+AM35*D19)/AK45,(AC137+AM35*D19)/AL45,(AC138+AM35*D19)/AM45,(AC139+AM35*D19)/AN45,(AC140+AM35*D19)/AO45)*AP45","v":{"$error":"#VALUE!"}},{"$f":"MIN((AD136+AM35*D19)/AK45,(AD137+AM35*D19)/AL45,(AD138+AM35*D19)/AM45,(AD139+AM35*D19)/AN45,(AD140+AM35*D19)/AO45)*AP45","v":{"$error":"#VALUE!"}},{"$f":"MIN((AE136+AM35*D19)/AK45,(AE137+AM35*D19)/AL45,(AE138+AM35*D19)/AM45,(AE139+AM35*D19)/AN45,(AE140+AM35*D19)/AO45)*AP45","v":{"$error":"#VALUE!"}},{"$f":"MIN((AF136+AM35*D19)/AK45,(AF137+AM35*D19)/AL45,(AF138+AM35*D19)/AM45,(AF139+AM35*D19)/AN45,(AF140+AM35*D19)/AO45)*AP45","v":{"$error":"#VALUE!"}},{"$error":"#VALUE!"},null,{"$f":"BB109","v":"kit 1"},"kit 2/3",0,"kit 4",0,"kit 5","kit 6/7",0,0,"kit 8","kit 9",0,"kit 10","kit 11"]
[null,null,null,null,0.90825,1.3623499999999999,2.2706,0.95365,0.40870000000000001,1.3623499999999999,1.0899000000000001,0.72660000000000002,1.8165,1.0899000000000001,0.72660000000000002,1.8165,null,{"$f":"IF($AX$306,I16+VLOOKUP(Team!$Y22,Team!$E$30:$J$300,6,FALSE),I16+AH40+$D$21)+$D$19*$AG$13","v":{"$error":"#VALUE!"}},{"$f":"IF($AX$306,$R95,$R95+Q11)","v":{"$error":"#VALUE!"}},{"$error":"#VALUE!"},{"$error":"#VALUE!"},{"$error":"#VALUE!"},{"$error":"#VALUE!"},{"$error":"#VALUE!"},{"$error":"#VALUE!"},{"$error":"#VALUE!"},{"$error":"#VALUE!"},{"$error":"#VALUE!"},{"$error":"#VALUE!"},{"$error":"#VALUE!"},{"$error":"#VALUE!"},{"$error":"#VALUE!"},null,null,null,"",{"$f":"MIN((S143+AL35*D19)/AK44,(S144+AL35*D19)/AL44,(S145+AL35*D19)/AM44,(S146+AL35*D19)/AN44,(S147+AL35*D19)/AO44)*AP44","v":{"$error":"#VALUE!"}},{"$f":"MIN((T143+AL35*D19)/AK44,(T144+AL35*D19)/AL44,(T145+AL35*D19)/AM44,(T146+AL35*D19)/AN44,(T147+AL35*D19)/AO44)*AP44","v":{"$error":"#VALUE!"}},{"$f":"MIN((U143+AL35*D19)/AK44,(U144+AL35*D19)/AL44,(U145+AL35*D19)/AM44,(U146+AL35*D19)/AN44,(U147+AL35*D19)/AO44)*AP44","v":{"$error":"#VALUE!"}},{"$f":"MIN((V143+AL35*D19)/AK44,(V144+AL35*D19)/AL44,(V145+AL35*D19)/AM44,(V146+AL35*D19)/AN44,(V147+AL35*D19)/AO44)*AP44","v":{"$error":"#VALUE!"}},{"$f":"MIN((W143+AL35*D19)/AK44,(W144+AL35*D19)/AL44,(W145+AL35*D19)/AM44,(W146+AL35*D19)/AN44,(W147+AL35*D19)/AO44)*AP44","v":{"$error":"#VALUE!"}},{"$f":"MIN((X143+AL35*D19)/AK44,(X144+AL35*D19)/AL44,(X145+AL35*D19)/AM44,(X146+AL35*D19)/AN44,(X147+AL35*D19)/AO44)*AP44","v":{"$error":"#VALUE!"}},{"$f":"MIN((Y143+AL35*D19)/AK44,(Y144+AL35*D19)/AL44,(Y145+AL35*D19)/AM44,(Y146+AL35*D19)/AN44,(Y147+AL35*D19)/AO44)*AP44","v":{"$error":"#VALUE!"}},{"$f":"MIN((Z143+AL35*D19)/AK44,(Z144+AL35*D19)/AL44,(Z145+AL35*D19)/AM44,(Z146+AL35*D19)/AN44,(Z147+AL35*D19)/AO44)*AP44","v":{"$error":"#VALUE!"}},{"$f":"MIN((AA143+AL35*D19)/AK44,(AA144+AL35*D19)/AL44,(AA145+AL35*D19)/AM44,(AA146+AL35*D19)/AN44,(AA147+AL35*D19)/AO44)*AP44","v":{"$error":"#VALUE!"}},{"$f":"MIN((AB143+AL35*D19)/AK44,(AB144+AL35*D19)/AL44,(AB145+AL35*D19)/AM44,(AB146+AL35*D19)/AN44,(AB147+AL35*D19)/AO44)*AP44","v":{"$error":"#VALUE!"}},{"$f":"MIN((AC143+AL35*D19)/AK44,(AC144+AL35*D19)/AL44,(AC145+AL35*D19)/AM44,(AC146+AL35*D19)/AN44,(AC147+AL35*D19)/AO44)*AP44","v":{"$error":"#VALUE!"}},{"$f":"MIN((AD143+AL35*D19)/AK44,(AD144+AL35*D19)/AL44,(AD145+AL35*D19)/AM44,(AD146+AL35*D19)/AN44,(AD147+AL35*D19)/AO44)*AP44","v":{"$error":"#VALUE!"}},{"$f":"MIN((AE143+AL35*D19)/AK44,(AE144+AL35*D19)/AL44,(AE145+AL35*D19)/AM44,(AE146+AL35*D19)/AN44,(AE147+AL35*D19)/AO44)*AP44","v":{"$error":"#VALUE!"}},{"$f":"MIN((AF143+AL35*D19)/AK44,(AF144+AL35*D19)/AL44,(AF145+AL35*D19)/AM44,(AF146+AL35*D19)/AN44,(AF147+AL35*D19)/AO44)*AP44","v":{"$error":"#VALUE!"}},{"$error":"#VALUE!"},null,"",{"$f":"MIN((S143+AM35*D19)/AK45,(S144+AM35*D19)/AL45,(S145+AM35*D19)/AM45,(S146+AM35*D19)/AN45,(S147+AM35*D19)/AO45)*AP45","v":{"$error":"#VALUE!"}},{"$f":"MIN((T143+AM35*D19)/AK45,(T144+AM35*D19)/AL45,(T145+AM35*D19)/AM45,(T146+AM35*D19)/AN45,(T147+AM35*D19)/AO45)*AP45","v":{"$error":"#VALUE!"}},{"$f":"MIN((U143+AM35*D19)/AK45,(U144+AM35*D19)/AL45,(U145+AM35*D19)/AM45,(U146+AM35*D19)/AN45,(U147+AM35*D19)/AO45)*AP45","v":{"$error":"#VALUE!"}},{"$f":"MIN((V143+AM35*D19)/AK45,(V144+AM35*D19)/AL45,(V145+AM35*D19)/AM45,(V146+AM35*D19)/AN45,(V147+AM35*D19)/AO45)*AP45","v":{"$error":"#VALUE!"}},{"$f":"MIN((W143+AM35*D19)/AK45,(W144+AM35*D19)/AL45,(W145+AM35*D19)/AM45,(W146+AM35*D19)/AN45,(W147+AM35*D19)/AO45)*AP45","v":{"$error":"#VALUE!"}},{"$f":"MIN((X143+AM35*D19)/AK45,(X144+AM35*D19)/AL45,(X145+AM35*D19)/AM45,(X146+AM35*D19)/AN45,(X147+AM35*D19)/AO45)*AP45","v":{"$error":"#VALUE!"}},{"$f":"MIN((Y143+AM35*D19)/AK45,(Y144+AM35*D19)/AL45,(Y145+AM35*D19)/AM45,(Y146+AM35*D19)/AN45,(Y147+AM35*D19)/AO45)*AP45","v":{"$error":"#VALUE!"}},{"$f":"MIN((Z143+AM35*D19)/AK45,(Z144+AM35*D19)/AL45,(Z145+AM35*D19)/AM45,(Z146+AM35*D19)/AN45,(Z147+AM35*D19)/AO45)*AP45","v":{"$error":"#VALUE!"}},{"$f":"MIN((AA143+AM35*D19)/AK45,(AA144+AM35*D19)/AL45,(AA145+AM35*D19)/AM45,(AA146+AM35*D19)/AN45,(AA147+AM35*D19)/AO45)*AP45","v":{"$error":"#VALUE!"}},{"$f":"MIN((AB143+AM35*D19)/AK45,(AB144+AM35*D19)/AL45,(AB145+AM35*D19)/AM45,(AB146+AM35*D19)/AN45,(AB147+AM35*D19)/AO45)*AP45","v":{"$error":"#VALUE!"}},{"$f":"MIN((AC143+AM35*D19)/AK45,(AC144+AM35*D19)/AL45,(AC145+AM35*D19)/AM45,(AC146+AM35*D19)/AN45,(AC147+AM35*D19)/AO45)*AP45","v":{"$error":"#VALUE!"}},{"$f":"MIN((AD143+AM35*D19)/AK45,(AD144+AM35*D19)/AL45,(AD145+AM35*D19)/AM45,(AD146+AM35*D19)/AN45,(AD147+AM35*D19)/AO45)*AP45","v":{"$error":"#VALUE!"}},{"$f":"MIN((AE143+AM35*D19)/AK45,(AE144+AM35*D19)/AL45,(AE145+AM35*D19)/AM45,(AE146+AM35*D19)/AN45,(AE147+AM35*D19)/AO45)*AP45","v":{"$error":"#VALUE!"}},{"$f":"MIN((AF143+AM35*D19)/AK45,(AF144+AM35*D19)/AL45,(AF145+AM35*D19)/AM45,(AF146+AM35*D19)/AN45,(AF147+AM35*D19)/AO45)*AP45","v":{"$error":"#VALUE!"}},{"$error":"#VALUE!"},null,{"$f":"BB109","v":"kit 1"},"kit 2/3",0,"kit 4",0,"kit 5","kit 6/7",0,0,"kit 8","kit 9",0,"kit 10","kit 11",null,"tactique adversaire",null,null,541,null,null,null,null,null,null,null,null,433,null,null,null,null,null,null,null,null,352,null,null,null,null,null,null,null,null,442]
[null,null,null,null,1.0899000000000001,0.72660000000000002,1.8165,0.94984999999999997,0.40705000000000002,1.3569,1.9073500000000001,0.81740000000000002,2.7247500000000002,1.0899000000000001,0.27245000000000003,1.3623500000000002,null,{"$f":"IF($AX$306,J16+VLOOKUP(Team!$Z22,Team!$E$30:$J$300,6,FALSE),J16+AH41+$D$21)+$D$19*$AG$13","v":{"$error":"#VALUE!"}},{"$f":"IF($AX$306,$R96,$R96+Q12)","v":{"$error":"#VALUE!"}},{"$error":"#VALUE!"},{"$error":"#VALUE!"},{"$error":"#VALUE!"},{"$error":"#VALUE!"},{"$error":"#VALUE!"},{"$error":"#VALUE!"},{"$error":"#VALUE!"},{"$error":"#VALUE!"},{"$error":"#VALUE!"},{"$error":"#VALUE!"},{"$error":"#VALUE!"},{"$error":"#VALUE!"},{"$error":"#VALUE!"},null,null,null,"",{"$f":"MIN((S150+AL35*D19)/AK44,(S151+AL35*D19)/AL44,(S152+AL35*D19)/AM44,(S153+AL35*D19)/AN44,(S154+AL35*D19)/AO44)*AP44","v":{"$error":"#VALUE!"}},{"$f":"MIN((T150+AL35*D19)/AK44,(T151+AL35*D19)/AL44,(T152+AL35*D19)/AM44,(T153+AL35*D19)/AN44,(T154+AL35*D19)/AO44)*AP44","v":{"$error":"#VALUE!"}},{"$f":"MIN((U150+AL35*D19)/AK44,(U151+AL35*D19)/AL44,(U152+AL35*D19)/AM44,(U153+AL35*D19)/AN44,(U154+AL35*D19)/AO44)*AP44","v":{"$error":"#VALUE!"}},{"$f":"MIN((V150+AL35*D19)/AK44,(V151+AL35*D19)/AL44,(V152+AL35*D19)/AM44,(V153+AL35*D19)/AN44,(V154+AL35*D19)/AO44)*AP44","v":{"$error":"#VALUE!"}},{"$f":"MIN((W150+AL35*D19)/AK44,(W151+AL35*D19)/AL44,(W152+AL35*D19)/AM44,(W153+AL35*D19)/AN44,(W154+AL35*D19)/AO44)*AP44","v":{"$error":"#VALUE!"}},{"$f":"MIN((X150+AL35*D19)/AK44,(X151+AL35*D19)/AL44,(X152+AL35*D19)/AM44,(X153+AL35*D19)/AN44,(X154+AL35*D19)/AO44)*AP44","v":{"$error":"#VALUE!"}},{"$f":"MIN((Y150+AL35*D19)/AK44,(Y151+AL35*D19)/AL44,(Y152+AL35*D19)/AM44,(Y153+AL35*D19)/AN44,(Y154+AL35*D19)/AO44)*AP44","v":{"$error":"#VALUE!"}},{"$f":"MIN((Z150+AL35*D19)/AK44,(Z151+AL35*D19)/AL44,(Z152+AL35*D19)/AM44,(Z153+AL35*D19)/AN44,(Z154+AL35*D19)/AO44)*AP44","v":{"$error":"#VALUE!"}},{"$f":"MIN((AA150+AL35*D19)/AK44,(AA151+AL35*D19)/AL44,(AA152+AL35*D19)/AM44,(AA153+AL35*D19)/AN44,(AA154+AL35*D19)/AO44)*AP44","v":{"$error":"#VALUE!"}},{"$f":"MIN((AB150+AL35*D19)/AK44,(AB151+AL35*D19)/AL44,(AB152+AL35*D19)/AM44,(AB153+AL35*D19)/AN44,(AB154+AL35*D19)/AO44)*AP44","v":{"$error":"#VALUE!"}},{"$f":"MIN((AC150+AL35*D19)/AK44,(AC151+AL35*D19)/AL44,(AC152+AL35*D19)/AM44,(AC153+AL35*D19)/AN44,(AC154+AL35*D19)/AO44)*AP44","v":{"$error":"#VALUE!"}},{"$f":"MIN((AD150+AL35*D19)/AK44,(AD151+AL35*D19)/AL44,(AD152+AL35*D19)/AM44,(AD153+AL35*D19)/AN44,(AD154+AL35*D19)/AO44)*AP44","v":{"$error":"#VALUE!"}},{"$f":"MIN((AE150+AL35*D19)/AK44,(AE151+AL35*D19)/AL44,(AE152+AL35*D19)/AM44,(AE153+AL35*D19)/AN44,(AE154+AL35*D19)/AO44)*AP44","v":{"$error":"#VALUE!"}},{"$f":"MIN((AF150+AL35*D19)/AK44,(AF151+AL35*D19)/AL44,(AF152+AL35*D19)/AM44,(AF153+AL35*D19)/AN44,(AF154+AL35*D19)/AO44)*AP44","v":{"$error":"#VALUE!"}},{"$error":"#VALUE!"},null,"",{"$f":"MIN((S150+AM35*D19)/AK45,(S151+AM35*D19)/AL45,(S152+AM35*D19)/AM45,(S153+AM35*D19)/AN45,(S154+AM35*D19)/AO45)*AP45","v":{"$error":"#VALUE!"}},{"$f":"MIN((T150+AM35*D19)/AK45,(T151+AM35*D19)/AL45,(T152+AM35*D19)/AM45,(T153+AM35*D19)/AN45,(T154+AM35*D19)/AO45)*AP45","v":{"$error":"#VALUE!"}},{"$f":"MIN((U150+AM35*D19)/AK45,(U151+AM35*D19)/AL45,(U152+AM35*D19)/AM45,(U153+AM35*D19)/AN45,(U154+AM35*D19)/AO45)*AP45","v":{"$error":"#VALUE!"}},{"$f":"MIN((V150+AM35*D19)/AK45,(V151+AM35*D19)/AL45,(V152+AM35*D19)/AM45,(V153+AM35*D19)/AN45,(V154+AM35*D19)/AO45)*AP45","v":{"$error":"#VALUE!"}},{"$f":"MIN((W150+AM35*D19)/AK45,(W151+AM35*D19)/AL45,(W152+AM35*D19)/AM45,(W153+AM35*D19)/AN45,(W154+AM35*D19)/AO45)*AP45","v":{"$error":"#VALUE!"}},{"$f":"MIN((X150+AM35*D19)/AK45,(X151+AM35*D19)/AL45,(X152+AM35*D19)/AM45,(X153+AM35*D19)/AN45,(X154+AM35*D19)/AO45)*AP45","v":{"$error":"#VALUE!"}},{"$f":"MIN((Y150+AM35*D19)/AK45,(Y151+AM35*D19)/AL45,(Y152+AM35*D19)/AM45,(Y153+AM35*D19)/AN45,(Y154+AM35*D19)/AO45)*AP45","v":{"$error":"#VALUE!"}},{"$f":"MIN((Z150+AM35*D19)/AK45,(Z151+AM35*D19)/AL45,(Z152+AM35*D19)/AM45,(Z153+AM35*D19)/AN45,(Z154+AM35*D19)/AO45)*AP45","v":{"$error":"#VALUE!"}},{"$f":"MIN((AA150+AM35*D19)/AK45,(AA151+AM35*D19)/AL45,(AA152+AM35*D19)/AM45,(AA153+AM35*D19)/AN45,(AA154+AM35*D19)/AO45)*AP45","v":{"$error":"#VALUE!"}},{"$f":"MIN((AB150+AM35*D19)/AK45,(AB151+AM35*D19)/AL45,(AB152+AM35*D19)/AM45,(AB153+AM35*D19)/AN45,(AB154+AM35*D19)/AO45)*AP45","v":{"$error":"#VALUE!"}},{"$f":"MIN((AC150+AM35*D19)/AK45,(AC151+AM35*D19)/AL45,(AC152+AM35*D19)/AM45,(AC153+AM35*D19)/AN45,(AC154+AM35*D19)/AO45)*AP45","v":{"$error":"#VALUE!"}},{"$f":"MIN((AD150+AM35*D19)/AK45,(AD151+AM35*D19)/AL45,(AD152+AM35*D19)/AM45,(AD153+AM35*D19)/AN45,(AD154+AM35*D19)/AO45)*AP45","v":{"$error":"#VALUE!"}},{"$f":"MIN((AE150+AM35*D19)/AK45,(AE151+AM35*D19)/AL45,(AE152+AM35*D19)/AM45,(AE153+AM35*D19)/AN45,(AE154+AM35*D19)/AO45)*AP45","v":{"$error":"#VALUE!"}},{"$f":"MIN((AF150+AM35*D19)/AK45,(AF151+AM35*D19)/AL45,(AF152+AM35*D19)/AM45,(AF153+AM35*D19)/AN45,(AF154+AM35*D19)/AO45)*AP45","v":{"$error":"#VALUE!"}},{"$error":"#VALUE!"},null,{"$f":"BB109","v":"kit 1"},"kit 2/3",0,"kit 4",0,"kit 5","kit 6/7",0,0,"kit 8","kit 9",0,"kit 10","kit 11",null,null,null,null,"defensif",null,null,"neutre",null,null,"offensif",null,null,"defensif",null,null,"neutre",null,null,"offensif",null,null,"defensif",null,null,"neutre",null,null,"offensif",null,null,"defensif",null,null,"neutre",null,null,"offensif"]
[null,null,null,null,0.95365,0.40870000000000001,1.3623499999999999,2.4523000000000001,0.27245000000000003,2.7247500000000002,1.0899000000000001,0.27245000000000003,1.3623500000000002,1.0899000000000001,0.27245000000000003,1.3623500000000002,null,{"$f":"IF($AX$306,K16+VLOOKUP(Team!$AA22,Team!$E$30:$J$300,6,FALSE),K16+AH42+$D$21)+$D$19*$AG$13","v":{"$error":"#VALUE!"}},{"$f":"IF($AX$306,$R97,$R97+Q13)","v":{"$error":"#VALUE!"}},{"$error":"#VALUE!"},{"$error":"#VALUE!"},{"$error":"#VALUE!"},{"$error":"#VALUE!"},{"$error":"#VALUE!"},{"$error":"#VALUE!"},{"$error":"#VALUE!"},{"$error":"#VALUE!"},{"$error":"#VALUE!"},{"$error":"#VALUE!"},{"$error":"#VALUE!"},{"$error":"#VALUE!"},{"$error":"#VALUE!"},null,null,null,"",{"$f":"MIN((S157+AL35*D19)/AK44,(S158+AL35*D19)/AL44,(S159+AL35*D19)/AM44,(S160+AL35*D19)/AN44,(S161+AL35*D19)/AO44)*AP44","v":{"$error":"#VALUE!"}},{"$f":"MIN((T157+AL35*D19)/AK44,(T158+AL35*D19)/AL44,(T159+AL35*D19)/AM44,(T160+AL35*D19)/AN44,(T161+AL35*D19)/AO44)*AP44","v":{"$error":"#VALUE!"}},{"$f":"MIN((U157+AL35*D19)/AK44,(U158+AL35*D19)/AL44,(U159+AL35*D19)/AM44,(U160+AL35*D19)/AN44,(U161+AL35*D19)/AO44)*AP44","v":{"$error":"#VALUE!"}},{"$f":"MIN((V157+AL35*D19)/AK44,(V158+AL35*D19)/AL44,(V159+AL35*D19)/AM44,(V160+AL35*D19)/AN44,(V161+AL35*D19)/AO44)*AP44","v":{"$error":"#VALUE!"}},{"$f":"MIN((W157+AL35*D19)/AK44,(W158+AL35*D19)/AL44,(W159+AL35*D19)/AM44,(W160+AL35*D19)/AN44,(W161+AL35*D19)/AO44)*AP44","v":{"$error":"#VALUE!"}},{"$f":"MIN((X157+AL35*D19)/AK44,(X158+AL35*D19)/AL44,(X159+AL35*D19)/AM44,(X160+AL35*D19)/AN44,(X161+AL35*D19)/AO44)*AP44","v":{"$error":"#VALUE!"}},{"$f":"MIN((Y157+AL35*D19)/AK44,(Y158+AL35*D19)/AL44,(Y159+AL35*D19)/AM44,(Y160+AL35*D19)/AN44,(Y161+AL35*D19)/AO44)*AP44","v":{"$error":"#VALUE!"}},{"$f":"MIN((Z157+AL35*D19)/AK44,(Z158+AL35*D19)/AL44,(Z159+AL35*D19)/AM44,(Z160+AL35*D19)/AN44,(Z161+AL35*D19)/AO44)*AP44","v":{"$error":"#VALUE!"}},{"$f":"MIN((AA157+AL35*D19)/AK44,(AA158+AL35*D19)/AL44,(AA159+AL35*D19)/AM44,(AA160+AL35*D19)/AN44,(AA161+AL35*D19)/AO44)*AP44","v":{"$error":"#VALUE!"}},{"$f":"MIN((AB157+AL35*D19)/AK44,(AB158+AL35*D19)/AL44,(AB159+AL35*D19)/AM44,(AB160+AL35*D19)/AN44,(AB161+AL35*D19)/AO44)*AP44","v":{"$error":"#VALUE!"}},{"$f":"MIN((AC157+AL35*D19)/AK44,(AC158+AL35*D19)/AL44,(AC159+AL35*D19)/AM44,(AC160+AL35*D19)/AN44,(AC161+AL35*D19)/AO44)*AP44","v":{"$error":"#VALUE!"}},{"$f":"MIN((AD157+AL35*D19)/AK44,(AD158+AL35*D19)/AL44,(AD159+AL35*D19)/AM44,(AD160+AL35*D19)/AN44,(AD161+AL35*D19)/AO44)*AP44","v":{"$error":"#VALUE!"}},{"$f":"MIN((AE157+AL35*D19)/AK44,(AE158+AL35*D19)/AL44,(AE159+AL35*D19)/AM44,(AE160+AL35*D19)/AN44,(AE161+AL35*D19)/AO44)*AP44","v":{"$error":"#VALUE!"}},{"$f":"MIN((AF157+AL35*D19)/AK44,(AF158+AL35*D19)/AL44,(AF159+AL35*D19)/AM44,(AF160+AL35*D19)/AN44,(AF161+AL35*D19)/AO44)*AP44","v":{"$error":"#VALUE!"}},{"$error":"#VALUE!"},null,"",{"$f":"MIN((S157+AM35*D19)/AK45,(S158+AM35*D19)/AL45,(S159+AM35*D19)/AM45,(S160+AM35*D19)/AN45,(S161+AM35*D19)/AO45)*AP45","v":{"$error":"#VALUE!"}},{"$f":"MIN((T157+AM35*D19)/AK45,(T158+AM35*D19)/AL45,(T159+AM35*D19)/AM45,(T160+AM35*D19)/AN45,(T161+AM35*D19)/AO45)*AP45","v":{"$error":"#VALUE!"}},{"$f":"MIN((U157+AM35*D19)/AK45,(U158+AM35*D19)/AL45,(U159+AM35*D19)/AM45,(U160+AM35*D19)/AN45,(U161+AM35*D19)/AO45)*AP45","v":{"$error":"#VALUE!"}},{"$f":"MIN((V157+AM35*D19)/AK45,(V158+AM35*D19)/AL45,(V159+AM35*D19)/AM45,(V160+AM35*D19)/AN45,(V161+AM35*D19)/AO45)*AP45","v":{"$error":"#VALUE!"}},{"$f":"MIN((W157+AM35*D19)/AK45,(W158+AM35*D19)/AL45,(W159+AM35*D19)/AM45,(W160+AM35*D19)/AN45,(W161+AM35*D19)/AO45)*AP45","v":{"$error":"#VALUE!"}},{"$f":"MIN((X157+AM35*D19)/AK45,(X158+AM35*D19)/AL45,(X159+AM35*D19)/AM45,(X160+AM35*D19)/AN45,(X161+AM35*D19)/AO45)*AP45","v":{"$error":"#VALUE!"}},{"$f":"MIN((Y157+AM35*D19)/AK45,(Y158+AM35*D19)/AL45,(Y159+AM35*D19)/AM45,(Y160+AM35*D19)/AN45,(Y161+AM35*D19)/AO45)*AP45","v":{"$error":"#VALUE!"}},{"$f":"MIN((Z157+AM35*D19)/AK45,(Z158+AM35*D19)/AL45,(Z159+AM35*D19)/AM45,(Z160+AM35*D19)/AN45,(Z161+AM35*D19)/AO45)*AP45","v":{"$error":"#VALUE!"}},{"$f":"MIN((AA157+AM35*D19)/AK45,(AA158+AM35*D19)/AL45,(AA159+AM35*D19)/AM45,(AA160+AM35*D19)/AN45,(AA161+AM35*D19)/AO45)*AP45","v":{"$error":"#VALUE!"}},{"$f":"MIN((AB157+AM35*D19)/AK45,(AB158+AM35*D19)/AL45,(AB159+AM35*D19)/AM45,(AB160+AM35*D19)/AN45,(AB161+AM35*D19)/AO45)*AP45","v":{"$error":"#VALUE!"}},{"$f":"MIN((AC157+AM35*D19)/AK45,(AC158+AM35*D19)/AL45,(AC159+AM35*D19)/AM45,(AC160+AM35*D19)/AN45,(AC161+AM35*D19)/AO45)*AP45","v":{"$error":"#VALUE!"}},{"$f":"MIN((AD157+AM35*D19)/AK45,(AD158+AM35*D19)/AL45,(AD159+AM35*D19)/AM45,(AD160+AM35*D19)/AN45,(AD161+AM35*D19)/AO45)*AP45","v":{"$error":"#VALUE!"}},{"$f":"MIN((AE157+AM35*D19)/AK45,(AE158+AM35*D19)/AL45,(AE159+AM35*D19)/AM45,(AE160+AM35*D19)/AN45,(AE161+AM35*D19)/AO45)*AP45","v":{"$error":"#VALUE!"}},{"$f":"MIN((AF157+AM35*D19)/AK45,(AF158+AM35*D19)/AL45,(AF159+AM35*D19)/AM45,(AF160+AM35*D19)/AN45,(AF161+AM35*D19)/AO45)*AP45","v":{"$error":"#VALUE!"}},{"$error":"#VALUE!"},null,{"$f":"BB109","v":"kit 1"},"kit 2/3",0,"kit 4",0,"kit 5","kit 6/7",0,0,"kit 8","kit 9",0,"kit 10","kit 11",null,"rapport et ",null,null,"att A ","att ME","compa","att A ","att ME","compa","att A ","att ME","compa","att A ","att ME","compa","att A ","att ME","compa","att A ","att ME","compa","att A ","att ME","compa","att A ","att ME","compa","att A ","att ME","compa","att A ","att ME","compa","att A ","att ME","compa","att A ","att ME","compa"]
[null,null,null,null,2.2479499999999999,2.2700000000000001E-2,2.2706499999999998,2.0435500000000002,0.22705,2.2706000000000004,1.6348499999999999,0.18165000000000001,1.8165,1.6348499999999999,0.18165000000000001,1.8165,null,{"$f":"IF($AX$306,L16+VLOOKUP(Team!$AB22,Team!$E$30:$J$300,6,FALSE),L16+AH43+$D$21)+$D$19*$AG$13","v":{"$error":"#VALUE!"}},{"$f":"IF($AX$306,$R98,$R98+Q14)","v":{"$error":"#VALUE!"}},{"$error":"#VALUE!"},{"$error":"#VALUE!"},{"$error":"#VALUE!"},{"$error":"#VALUE!"},{"$error":"#VALUE!"},{"$error":"#VALUE!"},{"$error":"#VALUE!"},{"$error":"#VALUE!"},{"$error":"#VALUE!"},{"$error":"#VALUE!"},{"$error":"#VALUE!"},{"$error":"#VALUE!"},{"$error":"#VALUE!"},null,null,null,"",{"$f":"MIN((S164+AL35*D19)/AK44,(S165+AL35*D19)/AL44,(S166+AL35*D19)/AM44,(S167+AL35*D19)/AN44,(S168+AL35*D19)/AO44)*AP44","v":{"$error":"#VALUE!"}},{"$f":"MIN((T164+AL35*D19)/AK44,(T165+AL35*D19)/AL44,(T166+AL35*D19)/AM44,(T167+AL35*D19)/AN44,(T168+AL35*D19)/AO44)*AP44","v":{"$error":"#VALUE!"}},{"$f":"MIN((U164+AL35*D19)/AK44,(U165+AL35*D19)/AL44,(U166+AL35*D19)/AM44,(U167+AL35*D19)/AN44,(U168+AL35*D19)/AO44)*AP44","v":{"$error":"#VALUE!"}},{"$f":"MIN((V164+AL35*D19)/AK44,(V165+AL35*D19)/AL44,(V166+AL35*D19)/AM44,(V167+AL35*D19)/AN44,(V168+AL35*D19)/AO44)*AP44","v":{"$error":"#VALUE!"}},{"$f":"MIN((W164+AL35*D19)/AK44,(W165+AL35*D19)/AL44,(W166+AL35*D19)/AM44,(W167+AL35*D19)/AN44,(W168+AL35*D19)/AO44)*AP44","v":{"$error":"#VALUE!"}},{"$f":"MIN((X164+AL35*D19)/AK44,(X165+AL35*D19)/AL44,(X166+AL35*D19)/AM44,(X167+AL35*D19)/AN44,(X168+AL35*D19)/AO44)*AP44","v":{"$error":"#VALUE!"}},{"$f":"MIN((Y164+AL35*D19)/AK44,(Y165+AL35*D19)/AL44,(Y166+AL35*D19)/AM44,(Y167+AL35*D19)/AN44,(Y168+AL35*D19)/AO44)*AP44","v":{"$error":"#VALUE!"}},{"$f":"MIN((Z164+AL35*D19)/AK44,(Z165+AL35*D19)/AL44,(Z166+AL35*D19)/AM44,(Z167+AL35*D19)/AN44,(Z168+AL35*D19)/AO44)*AP44","v":{"$error":"#VALUE!"}},{"$f":"MIN((AA164+AL35*D19)/AK44,(AA165+AL35*D19)/AL44,(AA166+AL35*D19)/AM44,(AA167+AL35*D19)/AN44,(AA168+AL35*D19)/AO44)*AP44","v":{"$error":"#VALUE!"}},{"$f":"MIN((AB164+AL35*D19)/AK44,(AB165+AL35*D19)/AL44,(AB166+AL35*D19)/AM44,(AB167+AL35*D19)/AN44,(AB168+AL35*D19)/AO44)*AP44","v":{"$error":"#VALUE!"}},{"$f":"MIN((AC164+AL35*D19)/AK44,(AC165+AL35*D19)/AL44,(AC166+AL35*D19)/AM44,(AC167+AL35*D19)/AN44,(AC168+AL35*D19)/AO44)*AP44","v":{"$error":"#VALUE!"}},{"$f":"MIN((AD164+AL35*D19)/AK44,(AD165+AL35*D19)/AL44,(AD166+AL35*D19)/AM44,(AD167+AL35*D19)/AN44,(AD168+AL35*D19)/AO44)*AP44","v":{"$error":"#VALUE!"}},{"$f":"MIN((AE164+AL35*D19)/AK44,(AE165+AL35*D19)/AL44,(AE166+AL35*D19)/AM44,(AE167+AL35*D19)/AN44,(AE168+AL35*D19)/AO44)*AP44","v":{"$error":"#VALUE!"}},{"$f":"MIN((AF164+AL35*D19)/AK44,(AF165+AL35*D19)/AL44,(AF166+AL35*D19)/AM44,(AF167+AL35*D19)/AN44,(AF168+AL35*D19)/AO44)*AP44","v":{"$error":"#VALUE!"}},{"$error":"#VALUE!"},null,"",{"$f":"MIN((S164+AM35*D19)/AK45,(S165+AM35*D19)/AL45,(S166+AM35*D19)/AM45,(S167+AM35*D19)/AN45,(S168+AM35*D19)/AO45)*AP45","v":{"$error":"#VALUE!"}},{"$f":"MIN((T164+AM35*D19)/AK45,(T165+AM35*D19)/AL45,(T166+AM35*D19)/AM45,(T167+AM35*D19)/AN45,(T168+AM35*D19)/AO45)*AP45","v":{"$error":"#VALUE!"}},{"$f":"MIN((U164+AM35*D19)/AK45,(U165+AM35*D19)/AL45,(U166+AM35*D19)/AM45,(U167+AM35*D19)/AN45,(U168+AM35*D19)/AO45)*AP45","v":{"$error":"#VALUE!"}},{"$f":"MIN((V164+AM35*D19)/AK45,(V165+AM35*D19)/AL45,(V166+AM35*D19)/AM45,(V167+AM35*D19)/AN45,(V168+AM35*D19)/AO45)*AP45","v":{"$error":"#VALUE!"}},{"$f":"MIN((W164+AM35*D19)/AK45,(W165+AM35*D19)/AL45,(W166+AM35*D19)/AM45,(W167+AM35*D19)/AN45,(W168+AM35*D19)/AO45)*AP45","v":{"$error":"#VALUE!"}},{"$f":"MIN((X164+AM35*D19)/AK45,(X165+AM35*D19)/AL45,(X166+AM35*D19)/AM45,(X167+AM35*D19)/AN45,(X168+AM35*D19)/AO45)*AP45","v":{"$error":"#VALUE!"}},{"$f":"MIN((Y164+AM35*D19)/AK45,(Y165+AM35*D19)/AL45,(Y166+AM35*D19)/AM45,(Y167+AM35*D19)/AN45,(Y168+AM35*D19)/AO45)*AP45","v":{"$error":"#VALUE!"}},{"$f":"MIN((Z164+AM35*D19)/AK45,(Z165+AM35*D19)/AL45,(Z166+AM35*D19)/AM45,(Z167+AM35*D19)/AN45,(Z168+AM35*D19)/AO45)*AP45","v":{"$error":"#VALUE!"}},{"$f":"MIN((AA164+AM35*D19)/AK45,(AA165+AM35*D19)/AL45,(AA166+AM35*D19)/AM45,(AA167+AM35*D19)/AN45,(AA168+AM35*D19)/AO45)*AP45","v":{"$error":"#VALUE!"}},{"$f":"MIN((AB164+AM35*D19)/AK45,(AB165+AM35*D19)/AL45,(AB166+AM35*D19)/AM45,(AB167+AM35*D19)/AN45,(AB168+AM35*D19)/AO45)*AP45","v":{"$error":"#VALUE!"}},{"$f":"MIN((AC164+AM35*D19)/AK45,(AC165+AM35*D19)/AL45,(AC166+AM35*D19)/AM45,(AC167+AM35*D19)/AN45,(AC168+AM35*D19)/AO45)*AP45","v":{"$error":"#VALUE!"}},{"$f":"MIN((AD164+AM35*D19)/AK45,(AD165+AM35*D19)/AL45,(AD166+AM35*D19)/AM45,(AD167+AM35*D19)/AN45,(AD168+AM35*D19)/AO45)*AP45","v":{"$error":"#VALUE!"}},{"$f":"MIN((AE164+AM35*D19)/AK45,(AE165+AM35*D19)/AL45,(AE166+AM35*D19)/AM45,(AE167+AM35*D19)/AN45,(AE168+AM35*D19)/AO45)*AP45","v":{"$error":"#VALUE!"}},{"$f":"MIN((AF164+AM35*D19)/AK45,(AF165+AM35*D19)/AL45,(AF166+AM35*D19)/AM45,(AF167+AM35*D19)/AN45,(AF168+AM35*D19)/AO45)*AP45","v":{"$error":"#VALUE!"}},{"$error":"#VALUE!"},null,{"$f":"BB109","v":"kit 1"},"kit 2/3",0,"kit 4",0,"kit 5","kit 6/7",0,0,"kit 8","kit 9",0,"kit 10","kit 11",null,"comparaison",null,null,"def ME","def A","raison","def ME","def A","raison","def ME","def A","raison","def ME","def A","raison","def ME","def A","raison","def ME","def A","raison","def ME","def A","raison","def ME","def A","raison","def ME","def A","raison","def ME","def A","raison","def ME","def A","raison","def ME","def A","raison"]
[null,null,null,null,1.4532,0.36330000000000001,1.8165,1.6348499999999999,0.18165000000000001,1.8165,1.0899000000000001,0.27245000000000003,1.3623500000000002,1.9073500000000001,0.81740000000000002,2.7247500000000002,null,null,null,null,null,null,null,null,null,null,null,null,null,null,null,null,null,null,null,"",{"$f":"MIN((S171+AL35*D19)/AK44,(S172+AL35*D19)/AL44,(S173+AL35*D19)/AM44,(S174+AL35*D19)/AN44,(S175+AL35*D19)/AO44)*AP44","v":{"$error":"#VALUE!"}},{"$f":"MIN((T171+AL35*D19)/AK44,(T172+AL35*D19)/AL44,(T173+AL35*D19)/AM44,(T174+AL35*D19)/AN44,(T175+AL35*D19)/AO44)*AP44","v":{"$error":"#VALUE!"}},{"$f":"MIN((U171+AL35*D19)/AK44,(U172+AL35*D19)/AL44,(U173+AL35*D19)/AM44,(U174+AL35*D19)/AN44,(U175+AL35*D19)/AO44)*AP44","v":{"$error":"#VALUE!"}},{"$f":"MIN((V171+AL35*D19)/AK44,(V172+AL35*D19)/AL44,(V173+AL35*D19)/AM44,(V174+AL35*D19)/AN44,(V175+AL35*D19)/AO44)*AP44","v":{"$error":"#VALUE!"}},{"$f":"MIN((W171+AL35*D19)/AK44,(W172+AL35*D19)/AL44,(W173+AL35*D19)/AM44,(W174+AL35*D19)/AN44,(W175+AL35*D19)/AO44)*AP44","v":{"$error":"#VALUE!"}},{"$f":"MIN((X171+AL35*D19)/AK44,(X172+AL35*D19)/AL44,(X173+AL35*D19)/AM44,(X174+AL35*D19)/AN44,(X175+AL35*D19)/AO44)*AP44","v":{"$error":"#VALUE!"}},{"$f":"MIN((Y171+AL35*D19)/AK44,(Y172+AL35*D19)/AL44,(Y173+AL35*D19)/AM44,(Y174+AL35*D19)/AN44,(Y175+AL35*D19)/AO44)*AP44","v":{"$error":"#VALUE!"}},{"$f":"MIN((Z171+AL35*D19)/AK44,(Z172+AL35*D19)/AL44,(Z173+AL35*D19)/AM44,(Z174+AL35*D19)/AN44,(Z175+AL35*D19)/AO44)*AP44","v":{"$error":"#VALUE!"}},{"$f":"MIN((AA171+AL35*D19)/AK44,(AA172+AL35*D19)/AL44,(AA173+AL35*D19)/AM44,(AA174+AL35*D19)/AN44,(AA175+AL35*D19)/AO44)*AP44","v":{"$error":"#VALUE!"}},{"$f":"MIN((AB171+AL35*D19)/AK44,(AB172+AL35*D19)/AL44,(AB173+AL35*D19)/AM44,(AB174+AL35*D19)/AN44,(AB175+AL35*D19)/AO44)*AP44","v":{"$error":"#VALUE!"}},{"$f":"MIN((AC171+AL35*D19)/AK44,(AC172+AL35*D19)/AL44,(AC173+AL35*D19)/AM44,(AC174+AL35*D19)/AN44,(AC175+AL35*D19)/AO44)*AP44","v":{"$error":"#VALUE!"}},{"$f":"MIN((AD171+AL35*D19)/AK44,(AD172+AL35*D19)/AL44,(AD173+AL35*D19)/AM44,(AD174+AL35*D19)/AN44,(AD175+AL35*D19)/AO44)*AP44","v":{"$error":"#VALUE!"}},{"$f":"MIN((AE171+AL35*D19)/AK44,(AE172+AL35*D19)/AL44,(AE173+AL35*D19)/AM44,(AE174+AL35*D19)/AN44,(AE175+AL35*D19)/AO44)*AP44","v":{"$error":"#VALUE!"}},{"$f":"MIN((AF171+AL35*D19)/AK44,(AF172+AL35*D19)/AL44,(AF173+AL35*D19)/AM44,(AF174+AL35*D19)/AN44,(AF175+AL35*D19)/AO44)*AP44","v":{"$error":"#VALUE!"}},{"$error":"#VALUE!"},null,"",{"$f":"MIN((S171+AM35*D19)/AK45,(S172+AM35*D19)/AL45,(S173+AM35*D19)/AM45,(S174+AM35*D19)/AN45,(S175+AM35*D19)/AO45)*AP45","v":{"$error":"#VALUE!"}},{"$f":"MIN((T171+AM35*D19)/AK45,(T172+AM35*D19)/AL45,(T173+AM35*D19)/AM45,(T174+AM35*D19)/AN45,(T175+AM35*D19)/AO45)*AP45","v":{"$error":"#VALUE!"}},{"$f":"MIN((U171+AM35*D19)/AK45,(U172+AM35*D19)/AL45,(U173+AM35*D19)/AM45,(U174+AM35*D19)/AN45,(U175+AM35*D19)/AO45)*AP45","v":{"$error":"#VALUE!"}},{"$f":"MIN((V171+AM35*D19)/AK45,(V172+AM35*D19)/AL45,(V173+AM35*D19)/AM45,(V174+AM35*D19)/AN45,(V175+AM35*D19)/AO45)*AP45","v":{"$error":"#VALUE!"}},{"$f":"MIN((W171+AM35*D19)/AK45,(W172+AM35*D19)/AL45,(W173+AM35*D19)/AM45,(W174+AM35*D19)/AN45,(W175+AM35*D19)/AO45)*AP45","v":{"$error":"#VALUE!"}},{"$f":"MIN((X171+AM35*D19)/AK45,(X172+AM35*D19)/AL45,(X173+AM35*D19)/AM45,(X174+AM35*D19)/AN45,(X175+AM35*D19)/AO45)*AP45","v":{"$error":"#VALUE!"}},{"$f":"MIN((Y171+AM35*D19)/AK45,(Y172+AM35*D19)/AL45,(Y173+AM35*D19)/AM45,(Y174+AM35*D19)/AN45,(Y175+AM35*D19)/AO45)*AP45","v":{"$error":"#VALUE!"}},{"$f":"MIN((Z171+AM35*D19)/AK45,(Z172+AM35*D19)/AL45,(Z173+AM35*D19)/AM45,(Z174+AM35*D19)/AN45,(Z175+AM35*D19)/AO45)*AP45","v":{"$error":"#VALUE!"}},{"$f":"MIN((AA171+AM35*D19)/AK45,(AA172+AM35*D19)/AL45,(AA173+AM35*D19)/AM45,(AA174+AM35*D19)/AN45,(AA175+AM35*D19)/AO45)*AP45","v":{"$error":"#VALUE!"}},{"$f":"MIN((AB171+AM35*D19)/AK45,(AB172+AM35*D19)/AL45,(AB173+AM35*D19)/AM45,(AB174+AM35*D19)/AN45,(AB175+AM35*D19)/AO45)*AP45","v":{"$error":"#VALUE!"}},{"$f":"MIN((AC171+AM35*D19)/AK45,(AC172+AM35*D19)/AL45,(AC173+AM35*D19)/AM45,(AC174+AM35*D19)/AN45,(AC175+AM35*D19)/AO45)*AP45","v":{"$error":"#VALUE!"}},{"$f":"MIN((AD171+AM35*D19)/AK45,(AD172+AM35*D19)/AL45,(AD173+AM35*D19)/AM45,(AD174+AM35*D19)/AN45,(AD175+AM35*D19)/AO45)*AP45","v":{"$error":"#VALUE!"}},{"$f":"MIN((AE171+AM35*D19)/AK45,(AE172+AM35*D19)/AL45,(AE173+AM35*D19)/AM45,(AE174+AM35*D19)/AN45,(AE175+AM35*D19)/AO45)*AP45","v":{"$error":"#VALUE!"}},{"$f":"MIN((AF171+AM35*D19)/AK45,(AF172+AM35*D19)/AL45,(AF173+AM35*D19)/AM45,(AF174+AM35*D19)/AN45,(AF175+AM35*D19)/AO45)*AP45","v":{"$error":"#VALUE!"}},{"$error":"#VALUE!"},null,{"$f":"BB109","v":"kit 1"},"kit 2/3",0,"kit 4",0,"kit 5","kit 6/7",0,0,"kit 8","kit 9",0,"kit 10","kit 11",null,"mon équipe",541,"def",{"$f":"$CJ$74/CK75","v":{"$error":"#VALUE!"}},{"$f":"CJ75/$CK$74","v":{"$error":"#VALUE!"}},{"$f":"$CL$74-CL75","v":{"$error":"#VALUE!"}},{"$f":"$CM$74/CK75","v":{"$error":"#VALUE!"}},{"$f":"CJ75/$CN$74","v":{"$error":"#VALUE!"}},{"$f":"$CO$74-$CL$75","v":{"$error":"#VALUE!"}},{"$f":"$CP$74/CK75","v":{"$error":"#VALUE!"}},{"$f":"CJ75/$CQ$74","v":{"$error":"#VALUE!"}},{"$f":"$CR$74-CL75","v":{"$error":"#VALUE!"}},{"$f":"1.15*$CS$74/CK75","v":{"$error":"#VALUE!"}},{"$f":"CJ75/(1.15*$CT$74)","v":{"$error":"#VALUE!"}},{"$f":"1.15*$CU$74-CL75","v":{"$error":"#VALUE!"}},{"$f":"1.15*$CV$74/CK75","v":{"$error":"#VALUE!"}},{"$f":"CJ75/(1.15*$CW$74)","v":{"$error":"#VALUE!"}},{"$f":"1.15*$CX$74-CL75","v":{"$error":"#VALUE!"}},{"$f":"1.15*$CY$74/CK75","v":{"$error":"#VALUE!"}},{"$f":"CJ75/(1.15*$CZ$74)","v":{"$error":"#VALUE!"}},{"$f":"1.15*$DA$74-CL75","v":{"$error":"#VALUE!"}},{"$f":"$DB$74/(1.15*CK75)","v":{"$error":"#VALUE!"}},{"$f":"1.15*CJ75/$DC$74","v":{"$error":"#VALUE!"}},{"$f":"$DD$74-1.15*CL75","v":{"$error":"#VALUE!"}},{"$f":"$DE$74/(1.15*CK75)","v":{"$error":"#VALUE!"}},{"$f":"1.15*CJ75/$DF$74","v":{"$error":"#VALUE!"}},{"$f":"$DD$74-1.15*CL75","v":{"$error":"#VALUE!"}},{"$f":"$DH$74/(1.15*CK75)","v":{"$error":"#VALUE!"}},{"$f":"1.15*CJ75/$DI$74","v":{"$error":"#VALUE!"}},{"$f":"$DJ$74-1.15*CL75","v":{"$error":"#VALUE!"}},{"$f":"$DK$74/CK75","v":{"$error":"#VALUE!"}},{"$f":"CJ75/$DL$74","v":{"$error":"#VALUE!"}},{"$f":"$DM$74-CL75","v":{"$error":"#VALUE!"}},{"$f":"$DN$74/CK75","v":{"$error":"#VALUE!"}},{"$f":"CJ75/$DO$74","v":{"$error":"#VALUE!"}},{"$f":"$DP$74-CL75","v":{"$error":"#VALUE!"}},{"$f":"$DQ$74/CK75","v":{"$error":"#VALUE!"}},{"$f":"CJ75/$DR$74","v":{"$error":"#VALUE!"}},{"$f":"$DS$74-CL75","v":{"$error":"#VALUE!"}}]
[null,null,null,null,0.95365,0.40870000000000001,1.3623499999999999,2.4523000000000001,0.27245000000000003,2.7247500000000002,1.4532,0.36330000000000001,1.8165,1.4532,0.36330000000000001,1.8165,null,{"$f":"G17","v":""},{"$f":"S93","v":"kit 1"},{"$f":"T93","v":"kit 2/3"},0,"kit 4",0,"kit 5","kit 6/7",0,0,"kit 8","kit 9",0,{"$f":"AE93","v":"kit 10"},{"$f":"AF93","v":"kit 11"},null,null,null,"",{"$f":"MIN((S178+$AL$35*$D$19)/$AK$44,(S179+$AL$35*$D$19)/$AL$44,(S180+$AL$35*$D$19)/$AM$44,(S181+$AL$35*$D$19)/$AN$44,(S182+$AL$35*$D$19)/$AO$44)*$AP$44","v":{"$error":"#VALUE!"}},{"$error":"#VALUE!"},{"$error":"#VALUE!"},{"$error":"#VALUE!"},{"$error":"#VALUE!"},{"$error":"#VALUE!"},{"$error":"#VALUE!"},{"$error":"#VALUE!"},{"$error":"#VALUE!"},{"$error":"#VALUE!"},{"$error":"#VALUE!"},{"$error":"#VALUE!"},{"$error":"#VALUE!"},{"$error":"#VALUE!"},{"$error":"#VALUE!"},null,"",{"$f":"MIN((S178+$AM$35*$D$19)/$AK$45,(S179+$AM$35*$D$19)/$AL$45,(S180+$AM$35*$D$19)/$AM$45,(S181+$AM$35*$D$19)/$AN$45,(S182+$AM$35*$D$19)/$AO$45)*$AP$45","v":{"$error":"#VALUE!"}},{"$f":"MIN((T178+AM35*D19)/AK45,(T179+AM35*D19)/AL45,(T180+AM35*D19)/AM45,(T181+AM35*D19)/AN45,(T182+AM35*D19)/AO45)*AP45","v":{"$error":"#VALUE!"}},{"$f":"MIN((U178+AM35*D19)/AK45,(U179+AM35*D19)/AL45,(U180+AM35*D19)/AM45,(U181+AM35*D19)/AN45,(U182+AM35*D19)/AO45)*AP45","v":{"$error":"#VALUE!"}},{"$f":"MIN((V178+AM35*D19)/AK45,(V179+AM35*D19)/AL45,(V180+AM35*D19)/AM45,(V181+AM35*D19)/AN45,(V182+AM35*D19)/AO45)*AP45","v":{"$error":"#VALUE!"}},{"$f":"MIN((W178+AM35*D19)/AK45,(W179+AM35*D19)/AL45,(W180+AM35*D19)/AM45,(W181+AM35*D19)/AN45,(W182+AM35*D19)/AO45)*AP45","v":{"$error":"#VALUE!"}},{"$f":"MIN((X178+AM35*D19)/AK45,(X179+AM35*D19)/AL45,(X180+AM35*D19)/AM45,(X181+AM35*D19)/AN45,(X182+AM35*D19)/AO45)*AP45","v":{"$error":"#VALUE!"}},{"$f":"MIN((Y178+AM35*D19)/AK45,(Y179+AM35*D19)/AL45,(Y180+AM35*D19)/AM45,(Y181+AM35*D19)/AN45,(Y182+AM35*D19)/AO45)*AP45","v":{"$error":"#VALUE!"}},{"$f":"MIN((Z178+AM35*D19)/AK45,(Z179+AM35*D19)/AL45,(Z180+AM35*D19)/AM45,(Z181+AM35*D19)/AN45,(Z182+AM35*D19)/AO45)*AP45","v":{"$error":"#VALUE!"}},{"$f":"MIN((AA178+AM35*D19)/AK45,(AA179+AM35*D19)/AL45,(AA180+AM35*D19)/AM45,(AA181+AM35*D19)/AN45,(AA182+AM35*D19)/AO45)*AP45","v":{"$error":"#VALUE!"}},{"$f":"MIN((AB178+AM35*D19)/AK45,(AB179+AM35*D19)/AL45,(AB180+AM35*D19)/AM45,(AB181+AM35*D19)/AN45,(AB182+AM35*D19)/AO45)*AP45","v":{"$error":"#VALUE!"}},{"$f":"MIN((AC178+AM35*D19)/AK45,(AC179+AM35*D19)/AL45,(AC180+AM35*D19)/AM45,(AC181+AM35*D19)/AN45,(AC182+AM35*D19)/AO45)*AP45","v":{"$error":"#VALUE!"}},{"$f":"MIN((AD178+AM35*D19)/AK45,(AD179+AM35*D19)/AL45,(AD180+AM35*D19)/AM45,(AD181+AM35*D19)/AN45,(AD182+AM35*D19)/AO45)*AP45","v":{"$error":"#VALUE!"}},{"$f":"MIN((AE178+AM35*D19)/AK45,(AE179+AM35*D19)/AL45,(AE180+AM35*D19)/AM45,(AE181+AM35*D19)/AN45,(AE182+AM35*D19)/AO45)*AP45","v":{"$error":"#VALUE!"}},{"$f":"MIN((AF178+AM35*D19)/AK45,(AF179+AM35*D19)/AL45,(AF180+AM35*D19)/AM45,(AF181+AM35*D19)/AN45,(AF182+AM35*D19)/AO45)*AP45","v":{"$error":"#VALUE!"}},{"$error":"#VALUE!"},null,{"$f":"BB109","v":"kit 1"},"kit 2/3",0,"kit 4",0,"kit 5","kit 6/7",0,0,"kit 8","kit 9",0,"kit 10","kit 11",null,null,null,"neutre",{"$f":"$CJ$74/CN75","v":{"$error":"#VALUE!"}},{"$f":"CM75/$CK$74","v":{"$error":"#VALUE!"}},{"$f":"$CL$74-CO75","v":{"$error":"#VALUE!"}},{"$f":"$CM$74/CN75","v":{"$error":"#VALUE!"}},{"$f":"CM75/$CN$74","v":{"$error":"#VALUE!"}},{"$f":"$CO$74-CO75","v":{"$error":"#VALUE!"}},{"$f":"$CP$74/CN75","v":{"$error":"#VALUE!"}},{"$f":"CM75/$CQ$74","v":{"$error":"#VALUE!"}},{"$f":"$CR$74-CO75","v":{"$error":"#VALUE!"}},{"$f":"1.15*$CS$74/CN75","v":{"$error":"#VALUE!"}},{"$f":"CM75/(1.15*$CT$74)","v":{"$error":"#VALUE!"}},{"$f":"1.15*$CU$74-CO75","v":{"$error":"#VALUE!"}},{"$f":"1.15*$CV$74/CN75","v":{"$error":"#VALUE!"}},{"$f":"CM75/(1.15*$CW$74)","v":{"$error":"#VALUE!"}},{"$f":"1.15*CX74-CO75","v":{"$error":"#VALUE!"}},{"$f":"1.15*$CY$74/CN75","v":{"$error":"#VALUE!"}},{"$f":"CM75/(1.15*$CZ$74)","v":{"$error":"#VALUE!"}},{"$f":"1.15*$DA$74-CO75","v":{"$error":"#VALUE!"}},{"$f":"$DB$74/(1.15*CN75)","v":{"$error":"#VALUE!"}},{"$f":"1.15*CM75/$DC$74","v":{"$error":"#VALUE!"}},{"$f":"$DD$74-1.15*CO75","v":{"$error":"#VALUE!"}},{"$f":"$DE$74/(1.15*CN75)","v":{"$error":"#VALUE!"}},{"$f":"1.15*CM75/$DF$74","v":{"$error":"#VALUE!"}},{"$f":"$DD$74-1.15*CO75","v":{"$error":"#VALUE!"}},{"$f":"$DH$74/(1.15*CN75)","v":{"$error":"#VALUE!"}},{"$f":"1.15*CM75/$DI$74","v":{"$error":"#VALUE!"}},{"$f":"$DJ$74-1.15*CO75","v":{"$error":"#VALUE!"}},{"$f":"$DK$74/CN75","v":{"$error":"#VALUE!"}},{"$f":"CM75/$DL$74","v":{"$error":"#VALUE!"}},{"$f":"$DM$74-CO75","v":{"$error":"#VALUE!"}},{"$f":"$DN$74/CN75","v":{"$error":"#VALUE!"}},{"$f":"CM75/$DO$74","v":{"$error":"#VALUE!"}},{"$f":"$DP$74-CO75","v":{"$error":"#VALUE!"}},{"$f":"$DQ$74/CN75","v":{"$error":"#VALUE!"}},{"$f":"CM75/$DR$74","v":{"$error":"#VALUE!"}},{"$f":"$DS$74-CO75","v":{"$error":"#VALUE!"}}]
[null,null,null,"total :",{"$f":"SUM(E90:E100)","v":9.9316499999999994},{"$f":"SUM(F90:F100)","v":10.0497},{"$f":"SUM(G90:G100)","v":19.981349999999999},{"$f":"SUM(H90:H100)","v":13.9832},5.9927000000000001,19.975899999999999,11.952450000000001,8.0288000000000022,19.981250000000003,11.952500000000002,8.028850000000002,19.981350000000003,null,{"$f":"IF($AX$306,H17+VLOOKUP(Team!$X23,Team!$E$30:$J$300,6,FALSE),H17+AH39+$D$21)+$D$19*$AG$14","v":{"$error":"#VALUE!"}},{"$f":"IF($AX$306,$R101,$R101+Q10)","v":{"$error":"#VALUE!"}},{"$f":"IF($AX$306,$R101,$R101+R10)","v":{"$error":"#VALUE!"}},{"$error":"#VALUE!"},{"$error":"#VALUE!"},{"$error":"#VALUE!"},{"$error":"#VALUE!"},{"$error":"#VALUE!"},{"$error":"#VALUE!"},{"$error":"#VALUE!"},{"$error":"#VALUE!"},{"$error":"#VALUE!"},{"$error":"#VALUE!"},{"$error":"#VALUE!"},{"$error":"#VALUE!"},null,null,null,"",{"$f":"MIN((S185+$AL$35*$D$19)/$AK$44,(S186+$AL$35*$D$19)/$AL$44,(S187+$AL$35*$D$19)/$AM$44,(S188+$AL$35*$D$19)/$AN$44,(S189+$AL$35*$D$19)/$AO$44)*$AP$44","v":{"$error":"#VALUE!"}},{"$error":"#VALUE!"},{"$error":"#VALUE!"},{"$error":"#VALUE!"},{"$error":"#VALUE!"},{"$error":"#VALUE!"},{"$error":"#VALUE!"},{"$error":"#VALUE!"},{"$error":"#VALUE!"},{"$error":"#VALUE!"},{"$error":"#VALUE!"},{"$error":"#VALUE!"},{"$error":"#VALUE!"},{"$error":"#VALUE!"},{"$error":"#VALUE!"},null,"",{"$f":"MIN((S185+$AM$35*$D$19)/$AK$45,(S186+$AM$35*$D$19)/$AL$45,(S187+$AM$35*$D$19)/$AM$45,(S188+$AM$35*$D$19)/$AN$45,(S189+$AM$35*$D$19)/$AO$45)*$AP$45","v":{"$error":"#VALUE!"}},{"$error":"#VALUE!"},{"$error":"#VALUE!"},{"$error":"#VALUE!"},{"$error":"#VALUE!"},{"$error":"#VALUE!"},{"$error":"#VALUE!"},{"$error":"#VALUE!"},{"$error":"#VALUE!"},{"$error":"#VALUE!"},{"$error":"#VALUE!"},{"$error":"#VALUE!"},{"$error":"#VALUE!"},{"$error":"#VALUE!"},{"$error":"#VALUE!"},null,{"$f":"BB109","v":"kit 1"},"kit 2/3",0,"kit 4",0,"kit 5","kit 6/7",0,0,"kit 8","kit 9",0,"kit 10","kit 11",null,null,null,"off",{"$f":"$CJ$74/CQ75","v":{"$error":"#VALUE!"}},{"$f":"CP75/$CK$74","v":{"$error":"#VALUE!"}},{"$f":"$CL$74-CR75","v":{"$error":"#VALUE!"}},{"$f":"$CM$74/CQ75","v":{"$error":"#VALUE!"}},{"$f":"CP75/$CN$74","v":{"$error":"#VALUE!"}},{"$f":"$CO$74-CR75","v":{"$error":"#VALUE!"}},{"$f":"$CP$74/CQ75","v":{"$error":"#VALUE!"}},{"$f":"CP75/$CQ$74","v":{"$error":"#VALUE!"}},{"$f":"$CR$74-CR75","v":{"$error":"#VALUE!"}},{"$f":"1.15*$CS$74/CQ75","v":{"$error":"#VALUE!"}},{"$f":"CP75/(1.15*$CT$74)","v":{"$error":"#VALUE!"}},{"$f":"1.15*$CU$74-CR75","v":{"$error":"#VALUE!"}},{"$f":"1.15*$CV$74/CQ75","v":{"$error":"#VALUE!"}},{"$f":"CP75/(1.15*$CW$74)","v":{"$error":"#VALUE!"}},{"$f":"1.15*$CX$74-CR75","v":{"$error":"#VALUE!"}},{"$f":"1.15*$CY$74/CQ75","v":{"$error":"#VALUE!"}},{"$f":"CP75/(1.15*$CZ$74)","v":{"$error":"#VALUE!"}},{"$f":"1.15*$DA$74-CR75","v":{"$error":"#VALUE!"}},{"$f":"$DB$74/(1.15*CQ75)","v":{"$error":"#VALUE!"}},{"$f":"1.15*CP75/$DC$74","v":{"$error":"#VALUE!"}},{"$f":"$DD$74-1.15*CR75","v":{"$error":"#VALUE!"}},{"$f":"$DE$74/(1.15*CQ75)","v":{"$error":"#VALUE!"}},{"$f":"1.15*CP75/$DF$74","v":{"$error":"#VALUE!"}},{"$f":"$DD$74-1.15*CR75","v":{"$error":"#VALUE!"}},{"$f":"$DH$74/(1.15*CQ75)","v":{"$error":"#VALUE!"}},{"$f":"1.15*CP75/$DI$74","v":{"$error":"#VALUE!"}},{"$f":"$DJ$74-1.15*CR75","v":{"$error":"#VALUE!"}},{"$f":"$DK$74/CQ75","v":{"$error":"#VALUE!"}},{"$f":"CP75/$DL$74","v":{"$error":"#VALUE!"}},{"$f":"$DM$74-CR75","v":{"$error":"#VALUE!"}},{"$f":"$DN$74/CQ75","v":{"$error":"#VALUE!"}},{"$f":"CP75/$DO$74","v":{"$error":"#VALUE!"}},{"$f":"$DP$74-CR75","v":{"$error":"#VALUE!"}},{"$f":"$DQ$74/CQ75","v":{"$error":"#VALUE!"}},{"$f":"CP75/$DR$74","v":{"$error":"#VALUE!"}},{"$f":"$DS$74-CR75","v":{"$error":"#VALUE!"}}]
[null,null,null,null,null,null,null,null,null,null,null,null,null,null,null,null,null,{"$f":"IF($AX$306,I17+VLOOKUP(Team!$Y23,Team!$E$30:$J$300,6,FALSE),I17+AH40+$D$21)+$D$19*$AG$14","v":{"$error":"#VALUE!"}},{"$f":"IF($AX$306,$R102,$R102+Q11)","v":{"$error":"#VALUE!"}},{"$error":"#VALUE!"},{"$error":"#VALUE!"},{"$error":"#VALUE!"},{"$error":"#VALUE!"},{"$error":"#VALUE!"},{"$error":"#VALUE!"},{"$error":"#VALUE!"},{"$error":"#VALUE!"},{"$error":"#VALUE!"},{"$error":"#VALUE!"},{"$error":"#VALUE!"},{"$error":"#VALUE!"},{"$error":"#VALUE!"},null,null,null,"",{"$f":"MIN((S192+$AL$35*$D$19)/$AK$44,(S193+$AL$35*$D$19)/$AL$44,(S194+$AL$35*$D$19)/$AM$44,(S195+$AL$35*$D$19)/$AN$44,(S196+$AL$35*$D$19)/$AO$44)*$AP$44","v":{"$error":"#VALUE!"}},{"$error":"#VALUE!"},{"$error":"#VALUE!"},{"$error":"#VALUE!"},{"$error":"#VALUE!"},{"$error":"#VALUE!"},{"$error":"#VALUE!"},{"$error":"#VALUE!"},{"$error":"#VALUE!"},{"$error":"#VALUE!"},{"$error":"#VALUE!"},{"$error":"#VALUE!"},{"$error":"#VALUE!"},{"$error":"#VALUE!"},{"$error":"#VALUE!"},null,"",{"$f":"MIN((S192+$AM$35*$D$19)/$AK$45,(S193+$AM$35*$D$19)/$AL$45,(S194+$AM$35*$D$19)/$AM$45,(S195+$AM$35*$D$19)/$AN$45,(S196+$AM$35*$D$19)/$AO$45)*$AP$45","v":{"$error":"#VALUE!"}},{"$error":"#VALUE!"},{"$error":"#VALUE!"},{"$error":"#VALUE!"},{"$error":"#VALUE!"},{"$error":"#VALUE!"},{"$error":"#VALUE!"},{"$error":"#VALUE!"},{"$error":"#VALUE!"},{"$error":"#VALUE!"},{"$error":"#VALUE!"},{"$error":"#VALUE!"},{"$error":"#VALUE!"},{"$error":"#VALUE!"},{"$error":"#VALUE!"},null,{"$f":"BB109","v":"kit 1"},"kit 2/3",0,"kit 4",0,"kit 5","kit 6/7",0,0,"kit 8","kit 9",0,"kit 10","kit 11",null,null,433,"def",{"$f":"$CJ$74/(CT75*1.15)","v":{"$error":"#VALUE!"}},{"$f":"CS75*1.15/$CK$74","v":{"$error":"#VALUE!"}},{"$f":"$CL$74-1.15*CU75","v":{"$error":"#VALUE!"}},{"$f":"$CM$74/(1.15*CT75)","v":{"$error":"#VALUE!"}},{"$f":"1.15*CS75/$CN$74","v":{"$error":"#VALUE!"}},{"$f":"$CO$74-1.15*CU75","v":{"$error":"#VALUE!"}},{"$f":"$CP$74/(1.15*CT75)","v":{"$error":"#VALUE!"}},{"$f":"1.15*CS75/$CQ$74","v":{"$error":"#VALUE!"}},{"$f":"$CR$74-1.15*CU75","v":{"$error":"#VALUE!"}},{"$f":"$CS$74/CT75","v":{"$error":"#VALUE!"}},{"$f":"CS75/$CT$74","v":{"$error":"#VALUE!"}},{"$f":"$CU$74-CU75","v":{"$error":"#VALUE!"}},{"$f":"$CV$74/CT75","v":{"$error":"#VALUE!"}},{"$f":"CS75/$CW$74","v":{"$error":"#VALUE!"}},{"$f":"$CX$74-CU75","v":{"$error":"#VALUE!"}},{"$f":"$CY$74/CT75","v":{"$error":"#VALUE!"}},{"$f":"CS75/$CZ$74","v":{"$error":"#VALUE!"}},{"$f":"$DA$74-CU75","v":{"$error":"#VALUE!"}},{"$f":"$DB$74/CT75","v":{"$error":"#VALUE!"}},{"$f":"CS75/$DC$74","v":{"$error":"#VALUE!"}},{"$f":"$DD$74-CU75","v":{"$error":"#VALUE!"}},{"$f":"$DE$74/CT75","v":{"$error":"#VALUE!"}},{"$f":"CS75/$DF$74","v":{"$error":"#VALUE!"}},{"$f":"$DD$74-CU75","v":{"$error":"#VALUE!"}},{"$f":"$DH$74/CT75","v":{"$error":"#VALUE!"}},{"$f":"CS75/$DI$74","v":{"$error":"#VALUE!"}},{"$f":"$DJ$74-CU75","v":{"$error":"#VALUE!"}},{"$f":"1.15*$DK$74/CT75","v":{"$error":"#VALUE!"}},{"$f":"CS75/(1.15*$DL$74)","v":{"$error":"#VALUE!"}},{"$f":"1.15*$DM$74-CU75","v":{"$error":"#VALUE!"}},{"$f":"1.15*$DN$74/CT75","v":{"$error":"#VALUE!"}},{"$f":"CS75/(1.15*$DO$74)","v":{"$error":"#VALUE!"}},{"$f":"1.15*$DP$74-CU75","v":{"$error":"#VALUE!"}},{"$f":"1.15*$DQ$74/CT75","v":{"$error":"#VALUE!"}},{"$f":"CS75/(1.15*$DR$74)","v":{"$error":"#VALUE!"}},{"$f":"1.15*$DS$74-CU75","v":{"$error":"#VALUE!"}}]
[null,null,null,"Calcul du capitaine",null,null,"ss kit ss vitamine","kit ss vit","kit + vit",null,null,null,null,null,null,null,null,{"$f":"IF($AX$306,J17+VLOOKUP(Team!$Z23,Team!$E$30:$J$300,6,FALSE),J17+AH41+$D$21)+$D$19*$AG$14","v":{"$error":"#VALUE!"}},{"$f":"IF($AX$306,$R103,$R103+Q12)","v":{"$error":"#VALUE!"}},{"$error":"#VALUE!"},{"$error":"#VALUE!"},{"$error":"#VALUE!"},{"$error":"#VALUE!"},{"$error":"#VALUE!"},{"$error":"#VALUE!"},{"$error":"#VALUE!"},{"$error":"#VALUE!"},{"$error":"#VALUE!"},{"$error":"#VALUE!"},{"$error":"#VALUE!"},{"$error":"#VALUE!"},{"$error":"#VALUE!"},null,null,null,"",{"$f":"MIN((S199+$AL$35*$D$19)/$AK$44,(S200+$AL$35*$D$19)/$AL$44,(S201+$AL$35*$D$19)/$AM$44,(S202+$AL$35*$D$19)/$AN$44,(S203+$AL$35*$D$19)/$AO$44)*$AP$44","v":{"$error":"#VALUE!"}},{"$error":"#VALUE!"},{"$error":"#VALUE!"},{"$error":"#VALUE!"},{"$error":"#VALUE!"},{"$error":"#VALUE!"},{"$error":"#VALUE!"},{"$error":"#VALUE!"},{"$error":"#VALUE!"},{"$error":"#VALUE!"},{"$error":"#VALUE!"},{"$error":"#VALUE!"},{"$error":"#VALUE!"},{"$error":"#VALUE!"},{"$error":"#VALUE!"},null,"",{"$f":"MIN((S199+$AM$35*$D$19)/$AK$45,(S200+$AM$35*$D$19)/$AL$45,(S201+$AM$35*$D$19)/$AM$45,(S202+$AM$35*$D$19)/$AN$45,(S203+$AM$35*$D$19)/$AO$45)*$AP$45","v":{"$error":"#VALUE!"}},{"$error":"#VALUE!"},{"$error":"#VALUE!"},{"$error":"#VALUE!"},{"$error":"#VALUE!"},{"$error":"#VALUE!"},{"$error":"#VALUE!"},{"$error":"#VALUE!"},{"$error":"#VALUE!"},{"$error":"#VALUE!"},{"$error":"#VALUE!"},{"$error":"#VALUE!"},{"$error":"#VALUE!"},{"$error":"#VALUE!"},{"$error":"#VALUE!"},null,{"$f":"BB109","v":"kit 1"},{"$f":"$BC$109","v":"kit 2/3"},{"$f":"$BD$109","v":0},{"$f":"$BE$109","v":"kit 4"},{"$f":"$BF$109","v":0},{"$f":"$BG$109","v":"kit 5"},{"$f":"$BH$109","v":"kit 6/7"},{"$f":"$BI$109","v":0},{"$f":"$BJ$109","v":0},{"$f":"$BK$109","v":"kit 8"},{"$f":"$BL$109","v":"kit 9"},{"$f":"$BM$109","v":0},{"$f":"$BN$109","v":"kit 10"},{"$f":"$BO$109","v":"kit 11"},null,null,null,"neutre",{"$f":"$CJ$74/(CW75*1.15)","v":{"$error":"#VALUE!"}},{"$f":"CV75*1.15/$CK$74","v":{"$error":"#VALUE!"}},{"$f":"$CL$74-1.15*CX75","v":{"$error":"#VALUE!"}},{"$f":"$CM$74/(1.15*CW75)","v":{"$error":"#VALUE!"}},{"$f":"1.15*CV75/$CN$74","v":{"$error":"#VALUE!"}},{"$f":"$CO$74-1.15*CX75","v":{"$error":"#VALUE!"}},{"$f":"$CP$74/(1.15*CW75)","v":{"$error":"#VALUE!"}},{"$f":"1.15*CV75/$CQ$74","v":{"$error":"#VALUE!"}},{"$f":"$CR$74-1.15*CX75","v":{"$error":"#VALUE!"}},{"$f":"$CS$74/CW75","v":{"$error":"#VALUE!"}},{"$f":"CV75/$CT$74","v":{"$error":"#VALUE!"}},{"$f":"$CU$74-CX75","v":{"$error":"#VALUE!"}},{"$f":"$CV$74/CW75","v":{"$error":"#VALUE!"}},{"$f":"CV75/$CW$74","v":{"$error":"#VALUE!"}},{"$f":"$CX$74-CX75","v":{"$error":"#VALUE!"}},{"$f":"$CY$74/CW75","v":{"$error":"#VALUE!"}},{"$f":"CV75/$CZ$74","v":{"$error":"#VALUE!"}},{"$f":"$DA$74-CX75","v":{"$error":"#VALUE!"}},{"$f":"$DB$74/CW75","v":{"$error":"#VALUE!"}},{"$f":"CV75/$DC$74","v":{"$error":"#VALUE!"}},{"$f":"$DD$74-CX75","v":{"$error":"#VALUE!"}},{"$f":"$DE$74/CW75","v":{"$error":"#VALUE!"}},{"$f":"CV75/$DF$74","v":{"$error":"#VALUE!"}},{"$f":"$DD$74-CX75","v":{"$error":"#VALUE!"}},{"$f":"$DH$74/CW75","v":{"$error":"#VALUE!"}},{"$f":"CV75/$DI$74","v":{"$error":"#VALUE!"}},{"$f":"$DJ$74-CX75","v":{"$error":"#VALUE!"}},{"$f":"1.15*$DK$74/CW75","v":{"$error":"#VALUE!"}},{"$f":"CV75/(1.15*$DL$74)","v":{"$error":"#VALUE!"}},{"$f":"1.15*$DM$74-CX75","v":{"$error":"#VALUE!"}},{"$f":"1.15*$DN$74/CW75","v":{"$error":"#VALUE!"}},{"$f":"CV75/(1.15*$DO$74)","v":{"$error":"#VALUE!"}},{"$f":"1.15*$DP$74-CX75","v":{"$error":"#VALUE!"}},{"$f":"1.15*$DQ$74/CW75","v":{"$error":"#VALUE!"}},{"$f":"CV75/(1.15*$DR$74)","v":{"$error":"#VALUE!"}},{"$f":"1.15*$DS$74-CX75","v":{"$error":"#VALUE!"}}]
[null,null,null,{"$f":"IF(SUM(I104:I125)=0,IF(MAX($F$104:$F$128)=F104,\"CAP\",\"\"),IF(MAX($I$104:$I$128)=I104,\"CAP\",\"\"))","v":"CAP"},{"$f":"IF(G11<>\"\",G11,\"\")","v":""},{"$f":"IF(VLOOKUP(E104,$AI$8:$AV$33,14,FALSE)=0,IF(N11<>\"\",N11*100,0),VLOOKUP(E104,$AI$8:$AV$33,14,FALSE))","v":1},{"$f":"IF(G11<>\"\",(L11/100+MIN(5000,M11)/500)/100,\"\")","v":""},{"$f":"IF(G11<>\"\",IF(ISNA(IF(VLOOKUP(G11,$AI$8:$AV$33,14,FALSE)=\"\",\"\",(HLOOKUP(VLOOKUP(G11,$BA$10:$BB$20,2,FALSE),S58:AF63,6,FALSE)/100+MIN(5000,M11)/500)/100)),G104,IF(VLOOKUP(G11,$AI$8:$AV$33,14,FALSE)=\"\",\"\",(HLOOKUP(VLOOKUP(G11,$BA$10:$BB$20,2,FALSE),S58:AF63,6,FALSE)/100+MIN(5000,M11)/500)/100)),\"\")","v":""},{"$f":"IF(G11<>\"\",IF(ISNA(IF(VLOOKUP(G11,$AI$8:$AV$29,14,FALSE)=\"\",\"\",((HLOOKUP(VLOOKUP(G11,$BA$10:$BB$20,2,FALSE),$S$58:$AF$63,6,FALSE)+IF(HLOOKUP(F104,$AJ$7:$AT$35,29,FALSE)=1,D19,0))/100+MIN(5000,M11)/500)/100)),H104,IF(VLOOKUP(G11,$AI$8:$AV$29,14,FALSE)=\"\",\"\",((HLOOKUP(VLOOKUP(G11,$BA$10:$BB$20,2,FALSE),$S$58:$AF$63,6,FALSE)+IF(HLOOKUP(F104,$AJ$7:$AT$35,29,FALSE)=1,D19,0))/100+MIN(5000,M11)/500)/100)),\"\")","v":""},null,null,null,null,null,null,null,null,{"$f":"IF($AX$306,K17+VLOOKUP(Team!$AA23,Team!$E$30:$J$300,6,FALSE),K17+AH42+$D$21)+$D$19*$AG$14","v":{"$error":"#VALUE!"}},{"$f":"IF($AX$306,$R104,$R104+Q13)","v":{"$error":"#VALUE!"}},{"$error":"#VALUE!"},{"$error":"#VALUE!"},{"$error":"#VALUE!"},{"$error":"#VALUE!"},{"$error":"#VALUE!"},{"$error":"#VALUE!"},{"$error":"#VALUE!"},{"$error":"#VALUE!"},{"$error":"#VALUE!"},{"$error":"#VALUE!"},{"$error":"#VALUE!"},{"$error":"#VALUE!"},{"$error":"#VALUE!"},null,null,null,{"$f":"AJ212","v":""},{"$f":"MIN((S206+$AL$35*$D$19)/$AK$44,(S207+$AL$35*$D$19)/$AL$44,(S208+$AL$35*$D$19)/$AM$44,(S209+$AL$35*$D$19)/$AN$44,(S210+$AL$35*$D$19)/$AO$44)*$AP$44","v":{"$error":"#VALUE!"}},{"$error":"#VALUE!"},{"$error":"#VALUE!"},{"$error":"#VALUE!"},{"$error":"#VALUE!"},{"$error":"#VALUE!"},{"$error":"#VALUE!"},{"$error":"#VALUE!"},{"$error":"#VALUE!"},{"$error":"#VALUE!"},{"$error":"#VALUE!"},{"$error":"#VALUE!"},{"$error":"#VALUE!"},{"$error":"#VALUE!"},{"$error":"#VALUE!"},null,{"$f":"AJ212","v":""},{"$f":"MIN((S206+$AM$35*$D$19)/$AK$45,(S207+$AM$35*$D$19)/$AL$45,(S208+$AM$35*$D$19)/$AM$45,(S209+$AM$35*$D$19)/$AN$45,(S210+$AM$35*$D$19)/$AO$45)*$AP$45","v":{"$error":"#VALUE!"}},{"$error":"#VALUE!"},{"$error":"#VALUE!"},{"$error":"#VALUE!"},{"$error":"#VALUE!"},{"$error":"#VALUE!"},{"$error":"#VALUE!"},{"$error":"#VALUE!"},{"$error":"#VALUE!"},{"$error":"#VALUE!"},{"$error":"#VALUE!"},{"$error":"#VALUE!"},{"$error":"#VALUE!"},{"$error":"#VALUE!"},{"$error":"#VALUE!"},null,{"$f":"BB109","v":"kit 1"},{"$f":"$BC$109","v":"kit 2/3"},{"$f":"$BD$109","v":0},{"$f":"$BE$109","v":"kit 4"},{"$f":"$BF$109","v":0},{"$f":"$BG$109","v":"kit 5"},{"$f":"$BH$109","v":"kit 6/7"},{"$f":"$BI$109","v":0},{"$f":"$BJ$109","v":0},{"$f":"$BK$109","v":"kit 8"},{"$f":"$BL$109","v":"kit 9"},{"$f":"$BM$109","v":0},{"$f":"$BN$109","v":"kit 10"},{"$f":"$BO$109","v":"kit 11"},null,null,null,"off",{"$f":"$CJ$74/(CZ75*1.15)","v":{"$error":"#VALUE!"}},{"$f":"CY75*1.15/$CK$74","v":{"$error":"#VALUE!"}},{"$f":"$CL$74-1.15*DA75","v":{"$error":"#VALUE!"}},{"$f":"$CM$74/(1.15*CZ75)","v":{"$error":"#VALUE!"}},{"$f":"1.15*CY75/$CN$74","v":{"$error":"#VALUE!"}},{"$f":"$CO$74-1.15*DA75","v":{"$error":"#VALUE!"}},{"$f":"$CP$74/(1.15*CZ75)","v":{"$error":"#VALUE!"}},{"$f":"1.15*CY75/$CQ$74","v":{"$error":"#VALUE!"}},{"$f":"$CR$74-1.15*DA75","v":{"$error":"#VALUE!"}},{"$f":"$CS$74/CZ75","v":{"$error":"#VALUE!"}},{"$f":"CY75/$CT$74","v":{"$error":"#VALUE!"}},{"$f":"$CU$74-DA75","v":{"$error":"#VALUE!"}},{"$f":"$CV$74/CZ75","v":{"$error":"#VALUE!"}},{"$f":"CY75/$CW$74","v":{"$error":"#VALUE!"}},{"$f":"$CX$74-DA75","v":{"$error":"#VALUE!"}},{"$f":"$CY$74/CZ75","v":{"$error":"#VALUE!"}},{"$f":"CY75/$CZ$74","v":{"$error":"#VALUE!"}},{"$f":"$DA$74-DA75","v":{"$error":"#VALUE!"}},{"$f":"$DB$74/CZ75","v":{"$error":"#VALUE!"}},{"$f":"CY75/$DC$74","v":{"$error":"#VALUE!"}},{"$f":"$DD$74-DA75","v":{"$error":"#VALUE!"}},{"$f":"$DE$74/CZ75","v":{"$error":"#VALUE!"}},{"$f":"CY75/$DF$74","v":{"$error":"#VALUE!"}},{"$f":"$DD$74-DA75","v":{"$error":"#VALUE!"}},{"$f":"$DH$74/CZ75","v":{"$error":"#VALUE!"}},{"$f":"CY75/$DI$74","v":{"$error":"#VALUE!"}},{"$f":"$DJ$74-DA75","v":{"$error":"#VALUE!"}},{"$f":"1.15*$DK$74/CZ75","v":{"$error":"#VALUE!"}},{"$f":"CY75/(1.15*$DL$74)","v":{"$error":"#VALUE!"}},{"$f":"1.15*$DM$74-DA75","v":{"$error":"#VALUE!"}},{"$f":"1.15*$DN$74/CZ75","v":{"$error":"#VALUE!"}},{"$f":"CY75/(1.15*$DO$74)","v":{"$error":"#VALUE!"}},{"$f":"1.15*$DP$74-DA75","v":{"$error":"#VALUE!"}},{"$f":"1.15*$DQ$74/CZ75","v":{"$error":"#VALUE!"}},{"$f":"CY75/(1.15*$DR$74)","v":{"$error":"#VALUE!"}},{"$f":"1.15*$DS$74-DA75","v":{"$error":"#VALUE!"}}]
[null,null,null,{"$f":"IF(SUM(I105:I126)=0,IF(MAX($F$104:$F$128)=F105,\"CAP\",\"\"),IF(MAX($I$104:$I$128)=I105,\"CAP\",\"\"))","v":"CAP"},{"$f":"IF(G12<>\"\",G12,\"\")","v":""},{"$f":"IF(VLOOKUP(E105,$AI$8:$AV$33,14,FALSE)=0,IF(N12<>\"\",N12*100,0),VLOOKUP(E105,$AI$8:$AV$33,14,FALSE))","v":1},{"$f":"IF(G12<>\"\",(L12/100+MIN(5000,M12)/500)/100,\"\")","v":""},{"$f":"IF(G12<>\"\",IF(ISNA(IF(VLOOKUP(G12,$AI$8:$AV$33,14,FALSE)=\"\",\"\",(HLOOKUP(VLOOKUP(G12,$BA$10:$BB$20,2,FALSE),S65:AF70,6,FALSE)/100+MIN(5000,M12)/500)/100)),G105,IF(VLOOKUP(G12,$AI$8:$AV$33,14,FALSE)=\"\",\"\",(HLOOKUP(VLOOKUP(G12,$BA$10:$BB$20,2,FALSE),S65:AF70,6,FALSE)/100+MIN(5000,M12)/500)/100)),\"\")","v":""},{"$f":"IF(G12<>\"\",IF(ISNA(IF(VLOOKUP(G12,$AI$8:$AV$29,14,FALSE)=\"\",\"\",((HLOOKUP(VLOOKUP(G12,$BA$10:$BB$20,2,FALSE),$S$65:$AF$70,6,FALSE)+IF(HLOOKUP(F105,$AJ$7:$AT$35,29,FALSE)=1,D19,0))/100+MIN(5000,M12)/500)/100)),H105,IF(VLOOKUP(G12,$AI$8:$AV$29,14,FALSE)=\"\",\"\",((HLOOKUP(VLOOKUP(G12,$BA$10:$BB$20,2,FALSE),$S$65:$AF$70,6,FALSE)+IF(HLOOKUP(F105,$AJ$7:$AT$35,29,FALSE)=1,D19,0))/100+MIN(5000,M12)/500)/100)),\"\")","v":""},null,null,null,null,null,null,null,null,{"$f":"IF($AX$306,L17+VLOOKUP(Team!$AB23,Team!$E$30:$J$300,6,FALSE),L17+AH43+$D$21)+$D$19*$AG$14","v":{"$error":"#VALUE!"}},{"$f":"IF($AX$306,$R105,$R105+Q14)","v":{"$error":"#VALUE!"}},{"$error":"#VALUE!"},{"$error":"#VALUE!"},{"$error":"#VALUE!"},{"$error":"#VALUE!"},{"$error":"#VALUE!"},{"$error":"#VALUE!"},{"$error":"#VALUE!"},{"$error":"#VALUE!"},{"$error":"#VALUE!"},{"$error":"#VALUE!"},{"$error":"#VALUE!"},{"$error":"#VALUE!"},{"$error":"#VALUE!"},null,null,null,{"$f":"AJ213","v":0},{"$f":"MIN((S213+$AL$35*$D$19)/$AK$44,(S214+$AL$35*$D$19)/$AL$44,(S215+$AL$35*$D$19)/$AM$44,(S216+$AL$35*$D$19)/$AN$44,(S217+$AL$35*$D$19)/$AO$44)*$AP$44","v":{"$error":"#VALUE!"}},{"$error":"#VALUE!"},{"$error":"#VALUE!"},{"$error":"#VALUE!"},{"$error":"#VALUE!"},{"$error":"#VALUE!"},{"$error":"#VALUE!"},{"$error":"#VALUE!"},{"$error":"#VALUE!"},{"$error":"#VALUE!"},{"$error":"#VALUE!"},{"$error":"#VALUE!"},{"$error":"#VALUE!"},{"$error":"#VALUE!"},{"$error":"#VALUE!"},null,{"$f":"AJ213","v":0},{"$f":"MIN((S213+$AM$35*$D$19)/$AK$45,(S214+$AM$35*$D$19)/$AL$45,(S215+$AM$35*$D$19)/$AM$45,(S216+$AM$35*$D$19)/$AN$45,(S217+$AM$35*$D$19)/$AO$45)*$AP$45","v":{"$error":"#VALUE!"}},{"$error":"#VALUE!"},{"$error":"#VALUE!"},{"$error":"#VALUE!"},{"$error":"#VALUE!"},{"$error":"#VALUE!"},{"$error":"#VALUE!"},{"$error":"#VALUE!"},{"$error":"#VALUE!"},{"$error":"#VALUE!"},{"$error":"#VALUE!"},{"$error":"#VALUE!"},{"$error":"#VALUE!"},{"$error":"#VALUE!"},{"$error":"#VALUE!"},null,{"$f":"BB109","v":"kit 1"},"kit 2/3",0,"kit 4",0,"kit 5","kit 6/7",0,0,"kit 8","kit 9",0,"kit 10","kit 11",null,null,352,"def",{"$f":"$CJ$74*1.15/DC75","v":{"$error":"#VALUE!"}},{"$f":"DB75/(1.15*$CK$74)","v":{"$error":"#VALUE!"}},{"$f":"1.15*$CL$74-DD75","v":{"$error":"#VALUE!"}},{"$f":"1.15*$CM$74/DC75","v":{"$error":"#VALUE!"}},{"$f":"DB75/(1.15*$CN$74)","v":{"$error":"#VALUE!"}},{"$f":"1.15*$CO$74-DD75","v":{"$error":"#VALUE!"}},{"$f":"1.15*$CP$74/DC75","v":{"$error":"#VALUE!"}},{"$f":"DB75/(1.15*$CQ$74)","v":{"$error":"#VALUE!"}},{"$f":"1.15*$CR$74-DD75","v":{"$error":"#VALUE!"}},{"$f":"$CS$74/DC75","v":{"$error":"#VALUE!"}},{"$f":"DB75/$CT$74","v":{"$error":"#VALUE!"}},{"$f":"$CU$74-DD75","v":{"$error":"#VALUE!"}},{"$f":"$CV$74/DC75","v":{"$error":"#VALUE!"}},{"$f":"DB75/$CW$74","v":{"$error":"#VALUE!"}},{"$f":"$CX$74-DD75","v":{"$error":"#VALUE!"}},{"$f":"$CY$74/DC75","v":{"$error":"#VALUE!"}},{"$f":"DB75/$CZ$74","v":{"$error":"#VALUE!"}},{"$f":"$DA$74-DD75","v":{"$error":"#VALUE!"}},{"$f":"$DB$74/DC75","v":{"$error":"#VALUE!"}},{"$f":"DB75/$DC$74","v":{"$error":"#VALUE!"}},{"$f":"$DD$74-DD75","v":{"$error":"#VALUE!"}},{"$f":"$DE$74/DC75","v":{"$error":"#VALUE!"}},{"$f":"DB75/$DF$74","v":{"$error":"#VALUE!"}},{"$f":"$DD$74-DD75","v":{"$error":"#VALUE!"}},{"$f":"$DH$74/DC75","v":{"$error":"#VALUE!"}},{"$f":"DB75/$DI$74","v":{"$error":"#VALUE!"}},{"$f":"$DJ$74-DD75","v":{"$error":"#VALUE!"}},{"$f":"$DK$74/(1.15*DC75)","v":{"$error":"#VALUE!"}},{"$f":"1.15*DB75/$DL$74","v":{"$error":"#VALUE!"}},{"$f":"$DM$74-1.15*DD75","v":{"$error":"#VALUE!"}},{"$f":"$DN$74/(1.15*DC75)","v":{"$error":"#VALUE!"}},{"$f":"1.15*DB75/$DO$74","v":{"$error":"#VALUE!"}},{"$f":"$DP$74-1.15*DD75","v":{"$error":"#VALUE!"}},{"$f":"$DQ$74/(1.15*DC75)","v":{"$error":"#VALUE!"}},{"$f":"1.15*DB75/$DR$74","v":{"$error":"#VALUE!"}},{"$f":"$DS$74-1.15*DD75","v":{"$error":"#VALUE!"}}]
[null,null,null,"CAP","",1,"",{"$f":"IF(G13<>\"\",IF(ISNA(IF(VLOOKUP(G13,$AI$8:$AV$33,14,FALSE)=\"\",\"\",(HLOOKUP(VLOOKUP(G13,$BA$10:$BB$20,2,FALSE),S72:AF77,6,FALSE)/100+MIN(5000,M13)/500)/100)),G106,IF(VLOOKUP(G13,$AI$8:$AV$33,14,FALSE)=\"\",\"\",(HLOOKUP(VLOOKUP(G13,$BA$10:$BB$20,2,FALSE),S72:AF77,6,FALSE)/100+MIN(5000,M13)/500)/100)),\"\")","v":""},{"$f":"IF(G13<>\"\",IF(ISNA(IF(VLOOKUP(G13,$AI$8:$AV$29,14,FALSE)=\"\",\"\",((HLOOKUP(VLOOKUP(G13,$BA$10:$BB$20,2,FALSE),$S$72:$AF$77,6,FALSE)+IF(HLOOKUP(F106,$AJ$7:$AT$35,29,FALSE)=1,D19,0))/100+MIN(5000,M13)/500)/100)),H106,IF(VLOOKUP(G13,$AI$8:$AV$29,14,FALSE)=\"\",\"\",((HLOOKUP(VLOOKUP(G13,$BA$10:$BB$20,2,FALSE),$S$72:$AF$77,6,FALSE)+IF(HLOOKUP(F106,$AJ$7:$AT$35,29,FALSE)=1,D19,0))/100+MIN(5000,M13)/500)/100)),\"\")","v":""},null,null,null,null,null,null,null,null,null,null,null,null,null,null,null,null,null,null,null,null,null,null,null,null,null,null,{"$f":"AJ214","v":0},{"$f":"MIN((S220+$AL$35*$D$19)/$AK$44,(S221+$AL$35*$D$19)/$AL$44,(S222+$AL$35*$D$19)/$AM$44,(S223+$AL$35*$D$19)/$AN$44,(S224+$AL$35*$D$19)/$AO$44)*$AP$44","v":{"$error":"#VALUE!"}},{"$error":"#VALUE!"},{"$error":"#VALUE!"},{"$error":"#VALUE!"},{"$error":"#VALUE!"},{"$error":"#VALUE!"},{"$error":"#VALUE!"},{"$error":"#VALUE!"},{"$error":"#VALUE!"},{"$error":"#VALUE!"},{"$error":"#VALUE!"},{"$error":"#VALUE!"},{"$error":"#VALUE!"},{"$error":"#VALUE!"},{"$error":"#VALUE!"},null,{"$f":"AJ214","v":0},{"$f":"MIN((S220+$AM$35*$D$19)/$AK$45,(S221+$AM$35*$D$19)/$AL$45,(S222+$AM$35*$D$19)/$AM$45,(S223+$AM$35*$D$19)/$AN$45,(S224+$AM$35*$D$19)/$AO$45)*$AP$45","v":{"$error":"#VALUE!"}},{"$error":"#VALUE!"},{"$error":"#VALUE!"},{"$error":"#VALUE!"},{"$error":"#VALUE!"},{"$error":"#VALUE!"},{"$error":"#VALUE!"},{"$error":"#VALUE!"},{"$error":"#VALUE!"},{"$error":"#VALUE!"},{"$error":"#VALUE!"},{"$error":"#VALUE!"},{"$error":"#VALUE!"},{"$error":"#VALUE!"},{"$error":"#VALUE!"},null,{"$f":"BB109","v":"kit 1"},"kit 2/3",0,"kit 4",0,"kit 5","kit 6/7",0,0,"kit 8","kit 9",0,"kit 10","kit 11",null,null,null,"neutre",{"$f":"$CJ$74*1.15/DF75","v":{"$error":"#VALUE!"}},{"$f":"DE75/($CK$74*1.15)","v":{"$error":"#VALUE!"}},{"$f":"1.15*$CL$74-DG75","v":{"$error":"#VALUE!"}},{"$f":"1.15*$CM$74/DF75","v":{"$error":"#VALUE!"}},{"$f":"DE75/(1.105*$CN$74)","v":{"$error":"#VALUE!"}},{"$f":"1.15*$CO$74-DG75","v":{"$error":"#VALUE!"}},{"$f":"1.15*$CP$74/DF75","v":{"$error":"#VALUE!"}},{"$f":"DE75/(1.15*$CQ$74)","v":{"$error":"#VALUE!"}},{"$f":"1.15*$CR$74-DG75","v":{"$error":"#VALUE!"}},{"$f":"$CS$74/DF75","v":{"$error":"#VALUE!"}},{"$f":"DE75/$CT$74","v":{"$error":"#VALUE!"}},{"$f":"$CU$74-DG75","v":{"$error":"#VALUE!"}},{"$f":"$CV$74/DF75","v":{"$error":"#VALUE!"}},{"$f":"DE75/$CW$74","v":{"$error":"#VALUE!"}},{"$f":"$CX$74-DG75","v":{"$error":"#VALUE!"}},{"$f":"$CY$74/DF75","v":{"$error":"#VALUE!"}},{"$f":"DE75/$CZ$74","v":{"$error":"#VALUE!"}},{"$f":"$DA$74-DG75","v":{"$error":"#VALUE!"}},{"$f":"$DB$74/DF75","v":{"$error":"#VALUE!"}},{"$f":"DE75/$DC$74","v":{"$error":"#VALUE!"}},{"$f":"$DD$74-DG75","v":{"$error":"#VALUE!"}},{"$f":"$DE$74/DF75","v":{"$error":"#VALUE!"}},{"$f":"DE75/$DF$74","v":{"$error":"#VALUE!"}},{"$f":"$DD$74-DG75","v":{"$error":"#VALUE!"}},{"$f":"$DH$74/DF75","v":{"$error":"#VALUE!"}},{"$f":"DE75/$DI$74","v":{"$error":"#VALUE!"}},{"$f":"$DJ$74-DG75","v":{"$error":"#VALUE!"}},{"$f":"$DK$74/(1.15*DF75)","v":{"$error":"#VALUE!"}},{"$f":"1.15*DE75/$DL$74","v":{"$error":"#VALUE!"}},{"$f":"$DM$74-1.15*DG75","v":{"$error":"#VALUE!"}},{"$f":"$DN$74/(1.15*DF75)","v":{"$error":"#VALUE!"}},{"$f":"1.15*DE75/$DO$74","v":{"$error":"#VALUE!"}},{"$f":"$DP$74-1.15*DG75","v":{"$error":"#VALUE!"}},{"$f":"$DQ$74/(1.15*DF75)","v":{"$error":"#VALUE!"}},{"$f":"1.15*DE75/$DR$74","v":{"$error":"#VALUE!"}},{"$f":"$DS$74-1.15*DG75","v":{"$error":"#VALUE!"}}]
[null,null,null,"CAP","",1,"",{"$f":"IF(G14<>\"\",IF(ISNA(IF(VLOOKUP(G14,$AI$8:$AV$33,14,FALSE)=\"\",\"\",(HLOOKUP(VLOOKUP(G14,$BA$10:$BB$20,2,FALSE),S79:AF84,6,FALSE)/100+MIN(5000,M14)/500)/100)),G107,IF(VLOOKUP(G14,$AI$8:$AV$33,14,FALSE)=\"\",\"\",(HLOOKUP(VLOOKUP(G14,$BA$10:$BB$20,2,FALSE),S79:AF84,6,FALSE)/100+MIN(5000,M14)/500)/100)),\"\")","v":""},{"$f":"IF(G14<>\"\",IF(ISNA(IF(VLOOKUP(G14,$AI$8:$AV$29,14,FALSE)=\"\",\"\",((HLOOKUP(VLOOKUP(G14,$BA$10:$BB$20,2,FALSE),$S$79:$AF$84,6,FALSE)+IF(HLOOKUP(F107,$AJ$7:$AT$35,29,FALSE)=1,D19,0))/100+MIN(5000,M14)/500)/100)),H107,IF(VLOOKUP(G14,$AI$8:$AV$29,14,FALSE)=\"\",\"\",((HLOOKUP(VLOOKUP(G14,$BA$10:$BB$20,2,FALSE),$S$79:$AF$84,6,FALSE)+IF(HLOOKUP(F107,$AJ$7:$AT$35,29,FALSE)=1,D19,0))/100+MIN(5000,M14)/500)/100)),\"\")","v":""},null,null,null,null,null,null,null,null,{"$f":"G18","v":""},{"$f":"S100","v":"kit 1"},{"$f":"T100","v":"kit 2/3"},0,"kit 4",0,"kit 5","kit 6/7",0,0,"kit 8","kit 9",0,{"$f":"AE100","v":"kit 10"},{"$f":"AF100","v":"kit 11"},null,null,null,{"$f":"AJ215","v":0},{"$f":"MIN((S227+$AL$35*$D$19)/$AK$44,(S228+$AL$35*$D$19)/$AL$44,(S229+$AL$35*$D$19)/$AM$44,(S230+$AL$35*$D$19)/$AN$44,(S231+$AL$35*$D$19)/$AO$44)*$AP$44","v":{"$error":"#VALUE!"}},{"$error":"#VALUE!"},{"$error":"#VALUE!"},{"$error":"#VALUE!"},{"$error":"#VALUE!"},{"$error":"#VALUE!"},{"$error":"#VALUE!"},{"$error":"#VALUE!"},{"$error":"#VALUE!"},{"$error":"#VALUE!"},{"$error":"#VALUE!"},{"$error":"#VALUE!"},{"$error":"#VALUE!"},{"$error":"#VALUE!"},{"$error":"#VALUE!"},null,{"$f":"AJ215","v":0},{"$f":"MIN((S227+$AM$35*$D$19)/$AK$45,(S228+$AM$35*$D$19)/$AL$45,(S229+$AM$35*$D$19)/$AM$45,(S230+$AM$35*$D$19)/$AN$45,(S231+$AM$35*$D$19)/$AO$45)*$AP$45","v":{"$error":"#VALUE!"}},{"$error":"#VALUE!"},{"$error":"#VALUE!"},{"$error":"#VALUE!"},{"$error":"#VALUE!"},{"$error":"#VALUE!"},{"$error":"#VALUE!"},{"$error":"#VALUE!"},{"$error":"#VALUE!"},{"$error":"#VALUE!"},{"$error":"#VALUE!"},{"$error":"#VALUE!"},{"$error":"#VALUE!"},{"$error":"#VALUE!"},{"$error":"#VALUE!"},null,{"$f":"BB109","v":"kit 1"},"kit 2/3",0,"kit 4",0,"kit 5","kit 6/7",0,0,"kit 8","kit 9",0,"kit 10","kit 11",null,null,null,"off",{"$f":"$CJ$74*1.15/DI75","v":{"$error":"#VALUE!"}},{"$f":"DH75/(1.15*$CK$74)","v":{"$error":"#VALUE!"}},{"$f":"1.15*$CL$74-DJ75","v":{"$error":"#VALUE!"}},{"$f":"1.15*$CM$74/DI75","v":{"$error":"#VALUE!"}},{"$f":"DH75/(1.15*$CN$74)","v":{"$error":"#VALUE!"}},{"$f":"1.15*$CO$74-DJ75","v":{"$error":"#VALUE!"}},{"$f":"1.15*$CP$74/DI75","v":{"$error":"#VALUE!"}},{"$f":"DH75/(1.15*$CQ$74)","v":{"$error":"#VALUE!"}},{"$f":"1.15*$CR$74-DJ75","v":{"$error":"#VALUE!"}},{"$f":"$CS$74/DI75","v":{"$error":"#VALUE!"}},{"$f":"DH75/$CT$74","v":{"$error":"#VALUE!"}},{"$f":"$CU$74-DJ75","v":{"$error":"#VALUE!"}},{"$f":"$CV$74/DI75","v":{"$error":"#VALUE!"}},{"$f":"DH75/$CW$74","v":{"$error":"#VALUE!"}},{"$f":"$CX$74-DJ75","v":{"$error":"#VALUE!"}},{"$f":"$CY$74/DI75","v":{"$error":"#VALUE!"}},{"$f":"DH75/$CZ$74","v":{"$error":"#VALUE!"}},{"$f":"$DA$74-DJ75","v":{"$error":"#VALUE!"}},{"$f":"$DB$74/DI75","v":{"$error":"#VALUE!"}},{"$f":"DH75/$DC$74","v":{"$error":"#VALUE!"}},{"$f":"$DD$74-DJ75","v":{"$error":"#VALUE!"}},{"$f":"$DE$74/DI75","v":{"$error":"#VALUE!"}},{"$f":"DH75/$DF$74","v":{"$error":"#VALUE!"}},{"$f":"$DD$74-DJ75","v":{"$error":"#VALUE!"}},{"$f":"$DH$74/DI75","v":{"$error":"#VALUE!"}},{"$f":"DH75/$DI$74","v":{"$error":"#VALUE!"}},{"$f":"$DJ$74-DJ75","v":{"$error":"#VALUE!"}},{"$f":"$DK$74/(1.15*DI75)","v":{"$error":"#VALUE!"}},{"$f":"1.15*DH75/$DL$74","v":{"$error":"#VALUE!"}},{"$f":"$DM$74-1.15*DJ75","v":{"$error":"#VALUE!"}},{"$f":"$DN$74/(1.15*DI75)","v":{"$error":"#VALUE!"}},{"$f":"1.15*DH75/$DO$74","v":{"$error":"#VALUE!"}},{"$f":"$DP$74-1.15*DJ75","v":{"$error":"#VALUE!"}},{"$f":"$DQ$74/(1.15*DI75)","v":{"$error":"#VALUE!"}},{"$f":"1.15*DH75/$DR$74","v":{"$error":"#VALUE!"}},{"$f":"$DS$74-1.15*DJ75","v":{"$error":"#VALUE!"}}]
[null,null,null,"CAP",{"$f":"IF(G15<>\"\",G15,\"\")","v":""},{"$f":"IF(VLOOKUP(E108,$AI$8:$AV$33,14,FALSE)=0,IF(N15<>\"\",N15*100,0),VLOOKUP(E108,$AI$8:$AV$33,14,FALSE))","v":1},{"$f":"IF(G15<>\"\",(L15/100+MIN(5000,M15)/500)/100,\"\")","v":""},{"$f":"IF(G15<>\"\",IF(ISNA(IF(VLOOKUP(G15,$AI$8:$AV$33,14,FALSE)=\"\",\"\",(HLOOKUP(VLOOKUP(G15,$BA$10:$BB$20,2,FALSE),S86:AF91,6,FALSE)/100+MIN(5000,M15)/500)/100)),G108,IF(VLOOKUP(G15,$AI$8:$AV$33,14,FALSE)=\"\",\"\",(HLOOKUP(VLOOKUP(G15,$BA$10:$BB$20,2,FALSE),S86:AF91,6,FALSE)/100+MIN(5000,M15)/500)/100)),\"\")","v":""},{"$f":"IF(G15<>\"\",IF(ISNA(IF(VLOOKUP(G15,$AI$8:$AV$29,14,FALSE)=\"\",\"\",((HLOOKUP(VLOOKUP(G15,$BA$10:$BB$20,2,FALSE),$S$86:$AF$91,6,FALSE)+IF(HLOOKUP(F108,$AJ$7:$AT$35,29,FALSE)=1,D19,0))/100+MIN(5000,M15)/500)/100)),H108,IF(VLOOKUP(G15,$AI$8:$AV$29,14,FALSE)=\"\",\"\",((HLOOKUP(VLOOKUP(G15,$BA$10:$BB$20,2,FALSE),$S$86:$AF$91,6,FALSE)+IF(HLOOKUP(F108,$AJ$7:$AT$35,29,FALSE)=1,D19,0))/100+MIN(5000,M15)/500)/100)),\"\")","v":""},null,null,null,null,null,null,null,null,{"$f":"IF($AX$306,H18+VLOOKUP(Team!$X24,Team!$E$30:$J$300,6,FALSE),H18+AH39+$D$21)+$D$19*$AG$15","v":{"$error":"#VALUE!"}},{"$f":"IF($AX$306,$R108,$R108+Q10)","v":{"$error":"#VALUE!"}},{"$f":"IF($AX$306,$R108,$R108+R10)","v":{"$error":"#VALUE!"}},{"$error":"#VALUE!"},{"$error":"#VALUE!"},{"$error":"#VALUE!"},{"$error":"#VALUE!"},{"$error":"#VALUE!"},{"$error":"#VALUE!"},{"$error":"#VALUE!"},{"$error":"#VALUE!"},{"$error":"#VALUE!"},{"$error":"#VALUE!"},{"$error":"#VALUE!"},{"$error":"#VALUE!"},null,null,null,null,null,null,null,null,null,null,null,null,null,null,null,null,null,null,null,null,null,null,null,null,null,null,null,null,null,null,null,null,null,null,null,null,null,{"$f":"BB109","v":"kit 1"},"kit 2/3",0,"kit 4",0,"kit 5","kit 6/7",0,0,"kit 8","kit 9",0,"kit 10","kit 11",null,null,442,"def",{"$f":"$CJ$74/DL75","v":{"$error":"#VALUE!"}},{"$f":"DK75/$CK$74","v":{"$error":"#VALUE!"}},{"$f":"$CL$74-DM75","v":{"$error":"#VALUE!"}},{"$f":"$CM$74/DL75","v":{"$error":"#VALUE!"}},{"$f":"DK75/$CN$74","v":{"$error":"#VALUE!"}},{"$f":"$CO$74-DM75","v":{"$error":"#VALUE!"}},{"$f":"$CP$74/DL75","v":{"$error":"#VALUE!"}},{"$f":"DK75/$CQ$74","v":{"$error":"#VALUE!"}},{"$f":"$CR$74-DM75","v":{"$error":"#VALUE!"}},{"$f":"$CS$74/(1.15*DL75)","v":{"$error":"#VALUE!"}},{"$f":"1.15*DK75/$CT$74","v":{"$error":"#VALUE!"}},{"$f":"$CU$74-1.15*DM75","v":{"$error":"#VALUE!"}},{"$f":"$CV$74/(1.15*DL75)","v":{"$error":"#VALUE!"}},{"$f":"1.15*DK75/$CW$74","v":{"$error":"#VALUE!"}},{"$f":"$CX$74-1.15*DM75","v":{"$error":"#VALUE!"}},{"$f":"$CY$74/(1.15*DL75)","v":{"$error":"#VALUE!"}},{"$f":"1.15*DK75/$CZ$74","v":{"$error":"#VALUE!"}},{"$f":"$DA$74-1.15*DM75","v":{"$error":"#VALUE!"}},{"$f":"1.15*$DB$74/DL75","v":{"$error":"#VALUE!"}},{"$f":"DK75/(1.15*$DC$74)","v":{"$error":"#VALUE!"}},{"$f":"1.15*$DD$74-DM75","v":{"$error":"#VALUE!"}},{"$f":"1.15*$DE$74/DL75","v":{"$error":"#VALUE!"}},{"$f":"DK75/(1.15*$DF$74)","v":{"$error":"#VALUE!"}},{"$f":"1.15*$DD$74-DM75","v":{"$error":"#VALUE!"}},{"$f":"1.15*$DH$74/DL75","v":{"$error":"#VALUE!"}},{"$f":"DK75/(1.15*$DI$74)","v":{"$error":"#VALUE!"}},{"$f":"1.15*$DJ$74-DM75","v":{"$error":"#VALUE!"}},{"$f":"$DK$74/DL75","v":{"$error":"#VALUE!"}},{"$f":"DK75/$DL$74","v":{"$error":"#VALUE!"}},{"$f":"$DM$74-DM75","v":{"$error":"#VALUE!"}},{"$f":"$DN$74/DL75","v":{"$error":"#VALUE!"}},{"$f":"DK75/$DO$74","v":{"$error":"#VALUE!"}},{"$f":"$DP$74-DM75","v":{"$error":"#VALUE!"}},{"$f":"$DQ$74/DL75","v":{"$error":"#VALUE!"}},{"$f":"DK75/$DR$74","v":{"$error":"#VALUE!"}},{"$f":"$DS$74-DM75","v":{"$error":"#VALUE!"}}]
[null,null,null,"CAP",{"$f":"IF(G16<>\"\",G16,\"\")","v":""},{"$f":"IF(VLOOKUP(E109,$AI$8:$AV$33,14,FALSE)=0,IF(N16<>\"\",N16*100,0),VLOOKUP(E109,$AI$8:$AV$33,14,FALSE))","v":1},{"$f":"IF(G16<>\"\",(L16/100+MIN(5000,M16)/500)/100,\"\")","v":""},{"$f":"IF(G16<>\"\",IF(ISNA(IF(VLOOKUP(G16,$AI$8:$AV$33,14,FALSE)=\"\",\"\",(HLOOKUP(VLOOKUP(G16,$BA$10:$BB$20,2,FALSE),S93:AF98,6,FALSE)/100+MIN(5000,M16)/500)/100)),G109,IF(VLOOKUP(G16,$AI$8:$AV$33,14,FALSE)=\"\",\"\",(HLOOKUP(VLOOKUP(G16,$BA$10:$BB$20,2,FALSE),S93:AF98,6,FALSE)/100+MIN(5000,M16)/500)/100)),\"\")","v":""},{"$f":"IF(G16<>\"\",IF(ISNA(IF(VLOOKUP(G16,$AI$8:$AV$29,14,FALSE)=\"\",\"\",((HLOOKUP(VLOOKUP(G16,$BA$10:$BB$20,2,FALSE),$S$93:$AF$98,6,FALSE)+IF(HLOOKUP(F109,$AJ$7:$AT$35,29,FALSE)=1,D19,0))/100+MIN(5000,M16)/500)/100)),H109,IF(VLOOKUP(G16,$AI$8:$AV$29,14,FALSE)=\"\",\"\",((HLOOKUP(VLOOKUP(G16,$BA$10:$BB$20,2,FALSE),$S$93:$AF$98,6,FALSE)+IF(HLOOKUP(F109,$AJ$7:$AT$35,29,FALSE)=1,D19,0))/100+MIN(5000,M16)/500)/100)),\"\")","v":""},null,null,null,null,null,null,null,null,{"$f":"IF($AX$306,I18+VLOOKUP(Team!$Y24,Team!$E$30:$J$300,6,FALSE),I18+AH40+$D$21)+$D$19*$AG$15","v":{"$error":"#VALUE!"}},{"$f":"IF($AX$306,$R109,$R109+Q11)","v":{"$error":"#VALUE!"}},{"$error":"#VALUE!"},{"$error":"#VALUE!"},{"$error":"#VALUE!"},{"$error":"#VALUE!"},{"$error":"#VALUE!"},{"$error":"#VALUE!"},{"$error":"#VALUE!"},{"$error":"#VALUE!"},{"$error":"#VALUE!"},{"$error":"#VALUE!"},{"$error":"#VALUE!"},{"$error":"#VALUE!"},{"$error":"#VALUE!"},null,null,null,5,{"$f":"Q9","v":"kit 1"},"kit 2/3",0,"kit 4",0,"kit 5","kit 6/7",0,0,"kit 8","kit 9",0,"kit 10","kit 11","MAX",null,6,{"$f":"Q9","v":"kit 1"},"kit 2/3",0,"kit 4",0,"kit 5","kit 6/7",0,0,"kit 8","kit 9",0,"kit 10","kit 11","MAX",null,{"$f":"BB109","v":"kit 1"},"kit 2/3",0,"kit 4",0,"kit 5","kit 6/7",0,0,"kit 8","kit 9",0,"kit 10","kit 11",null,null,null,"neutre",{"$f":"$CJ$74/DO75","v":{"$error":"#VALUE!"}},{"$f":"DN75/$CK$74","v":{"$error":"#VALUE!"}},{"$f":"$CL$74-DP75","v":{"$error":"#VALUE!"}},{"$f":"$CM$74/DO75","v":{"$error":"#VALUE!"}},{"$f":"DN75/$CN$74","v":{"$error":"#VALUE!"}},{"$f":"$CO$74-DP75","v":{"$error":"#VALUE!"}},{"$f":"$CP$74/DO75","v":{"$error":"#VALUE!"}},{"$f":"DN75/$CQ$74","v":{"$error":"#VALUE!"}},{"$f":"$CR$74-DP75","v":{"$error":"#VALUE!"}},{"$f":"$CS$74/(1.15*DO75)","v":{"$error":"#VALUE!"}},{"$f":"1.15*DN75/$CT$74","v":{"$error":"#VALUE!"}},{"$f":"$CU$74-1.15*DP75","v":{"$error":"#VALUE!"}},{"$f":"$CV$74/(1.15*DO75)","v":{"$error":"#VALUE!"}},{"$f":"1.15*DN75/$CW$74","v":{"$error":"#VALUE!"}},{"$f":"$CX$74-1.15*DP75","v":{"$error":"#VALUE!"}},{"$f":"$CY$74/(1.15*DO75)","v":{"$error":"#VALUE!"}},{"$f":"1.15*DN75/$CZ$74","v":{"$error":"#VALUE!"}},{"$f":"$DA$74-1.15*DP75","v":{"$error":"#VALUE!"}},{"$f":"1.15*$DB$74/DO75","v":{"$error":"#VALUE!"}},{"$f":"DN75/(1.15*$DC$74)","v":{"$error":"#VALUE!"}},{"$f":"1.15*$DD$74-DP75","v":{"$error":"#VALUE!"}},{"$f":"1.15*$DE$74/DO75","v":{"$error":"#VALUE!"}},{"$f":"DN75/(1.15*$DF$74)","v":{"$error":"#VALUE!"}},{"$f":"1.15*$DD$74-DP75","v":{"$error":"#VALUE!"}},{"$f":"1.15*$DH$74/DO75","v":{"$error":"#VALUE!"}},{"$f":"DN75/(1.15*$DI$74)","v":{"$error":"#VALUE!"}},{"$f":"1.15*$DJ$74-DP75","v":{"$error":"#VALUE!"}},{"$f":"$DK$74/DO75","v":{"$error":"#VALUE!"}},{"$f":"DN75/$DL$74","v":{"$error":"#VALUE!"}},{"$f":"$DM$74-DP75","v":{"$error":"#VALUE!"}},{"$f":"$DN$74/DO75","v":{"$error":"#VALUE!"}},{"$f":"DN75/$DO$74","v":{"$error":"#VALUE!"}},{"$f":"$DP$74-DP75","v":{"$error":"#VALUE!"}},{"$f":"$DQ$74/DO75","v":{"$error":"#VALUE!"}},{"$f":"DN75/$DR$74","v":{"$error":"#VALUE!"}},{"$f":"$DS$74-DP75","v":{"$error":"#VALUE!"}}]
[null,null,null,"CAP",{"$f":"IF(G17<>\"\",G17,\"\")","v":""},{"$f":"IF(VLOOKUP(E110,$AI$8:$AV$33,14,FALSE)=0,IF(N17<>\"\",N17*100,0),VLOOKUP(E110,$AI$8:$AV$33,14,FALSE))","v":1},{"$f":"IF(G17<>\"\",(L17/100+MIN(5000,M17)/500)/100,\"\")","v":""},{"$f":"IF(G17<>\"\",IF(ISNA(IF(VLOOKUP(G17,$AI$8:$AV$33,14,FALSE)=\"\",\"\",(HLOOKUP(VLOOKUP(G17,$BA$10:$BB$20,2,FALSE),S100:AF105,6,FALSE)/100+MIN(5000,M17)/500)/100)),G110,IF(VLOOKUP(G17,$AI$8:$AV$33,14,FALSE)=\"\",\"\",(HLOOKUP(VLOOKUP(G17,$BA$10:$BB$20,2,FALSE),S100:AF105,6,FALSE)/100+MIN(5000,M17)/500)/100)),\"\")","v":""},{"$f":"IF(G17<>\"\",IF(ISNA(IF(VLOOKUP(G17,$AI$8:$AV$29,14,FALSE)=\"\",\"\",((HLOOKUP(VLOOKUP(G17,$BA$10:$BB$20,2,FALSE),$S$100:$AF$105,6,FALSE)+IF(HLOOKUP(F110,$AJ$7:$AT$35,29,FALSE)=1,D19,0))/100+MIN(5000,M17)/500)/100)),H110,IF(VLOOKUP(G17,$AI$8:$AV$29,14,FALSE)=\"\",\"\",((HLOOKUP(VLOOKUP(G17,$BA$10:$BB$20,2,FALSE),$S$100:$AF$105,6,FALSE)+IF(HLOOKUP(F110,$AJ$7:$AT$35,29,FALSE)=1,D19,0))/100+MIN(5000,M17)/500)/100)),\"\")","v":""},null,null,null,null,null,null,null,null,{"$f":"IF($AX$306,J18+VLOOKUP(Team!$Z24,Team!$E$30:$J$300,6,FALSE),J18+AH41+$D$21)+$D$19*$AG$15","v":{"$error":"#VALUE!"}},{"$f":"IF($AX$306,$R110,$R110+Q12)","v":{"$error":"#VALUE!"}},{"$error":"#VALUE!"},{"$error":"#VALUE!"},{"$error":"#VALUE!"},{"$error":"#VALUE!"},{"$error":"#VALUE!"},{"$error":"#VALUE!"},{"$error":"#VALUE!"},{"$error":"#VALUE!"},{"$error":"#VALUE!"},{"$error":"#VALUE!"},{"$error":"#VALUE!"},{"$error":"#VALUE!"},{"$error":"#VALUE!"},null,null,null,{"$f":"AJ191","v":""},{"$f":"MIN((S59+AN35*D19)/AK46,(S60+AN35*D19)/AL46,(S61+AN35*D19)/AM46,(S62+AN35*D19)/AN46,(S63+AN35*D19)/AO46)*AP46","v":{"$error":"#VALUE!"}},{"$f":"MIN((T59+AN35*D19)/AK46,(T60+AN35*D19)/AL46,(T61+AN35*D19)/AM46,(T62+AN35*D19)/AN46,(T63+AN35*D19)/AO46)*AP46","v":{"$error":"#VALUE!"}},{"$f":"MIN((U59+AN35*D19)/AK46,(U60+AN35*D19)/AL46,(U61+AN35*D19)/AM46,(U62+AN35*D19)/AN46,(U63+AN35*D19)/AO46)*AP46","v":{"$error":"#VALUE!"}},{"$f":"MIN((V59+AN35*D19)/AK46,(V60+AN35*D19)/AL46,(V61+AN35*D19)/AM46,(V62+AN35*D19)/AN46,(V63+AN35*D19)/AO46)*AP46","v":{"$error":"#VALUE!"}},{"$f":"MIN((W59+AN35*D19)/AK46,(W60+AN35*D19)/AL46,(W61+AN35*D19)/AM46,(W62+AN35*D19)/AN46,(W63+AN35*D19)/AO46)*AP46","v":{"$error":"#VALUE!"}},{"$f":"MIN((X59+AN35*D19)/AK46,(X60+AN35*D19)/AL46,(X61+AN35*D19)/AM46,(X62+AN35*D19)/AN46,(X63+AN35*D19)/AO46)*AP46","v":{"$error":"#VALUE!"}},{"$f":"MIN((Y59+AN35*D19)/AK46,(Y60+AN35*D19)/AL46,(Y61+AN35*D19)/AM46,(Y62+AN35*D19)/AN46,(Y63+AN35*D19)/AO46)*AP46","v":{"$error":"#VALUE!"}},{"$f":"MIN((Z59+AN35*D19)/AK46,(Z60+AN35*D19)/AL46,(Z61+AN35*D19)/AM46,(Z62+AN35*D19)/AN46,(Z63+AN35*D19)/AO46)*AP46","v":{"$error":"#VALUE!"}},{"$f":"MIN((AA59+AN35*D19)/AK46,(AA60+AN35*D19)/AL46,(AA61+AN35*D19)/AM46,(AA62+AN35*D19)/AN46,(AA63+AN35*D19)/AO46)*AP46","v":{"$error":"#VALUE!"}},{"$f":"MIN((AB59+AN35*D19)/AK46,(AB60+AN35*D19)/AL46,(AB61+AN35*D19)/AM46,(AB62+AN35*D19)/AN46,(AB63+AN35*D19)/AO46)*AP46","v":{"$error":"#VALUE!"}},{"$f":"MIN((AC59+AN35*D19)/AK46,(AC60+AN35*D19)/AL46,(AC61+AN35*D19)/AM46,(AC62+AN35*D19)/AN46,(AC63+AN35*D19)/AO46)*AP46","v":{"$error":"#VALUE!"}},{"$f":"MIN((AD59+$AN$35*$D$19)/$AK$46,(AD60+$AN$35*$D$19)/AL45,(AD61+$AN$35*$D$19)/AM45,($AD$62+$AN$35*$D$19)/$AN$46,(AD63+$AN$35*$D$19)/$AO$46)*$AP$46","v":{"$error":"#VALUE!"}},{"$f":"MIN((AE59+AN35*D19)/AK46,(AE60+AN35*D19)/AL46,(AE61+AN35*D19)/AM46,(AE62+AN35*D19)/AN46,(AE63+AN35*D19)/AO46)*AP46","v":{"$error":"#VALUE!"}},{"$f":"MIN((AF59+AN35*D19)/AK46,(AF60+AN35*D19)/AL46,(AF61+AN35*D19)/AM46,(AF62+AN35*D19)/AN46,(AF63+AN35*D19)/AO46)*AP46","v":{"$error":"#VALUE!"}},{"$f":"MAX(AK110:AX110)","v":{"$error":"#VALUE!"}},null,{"$f":"AJ191","v":""},{"$f":"MIN((S59+AO35*D19)/AK47,(S60+AO35*D19)/AL47,(S61+AO35*D19)/AM47,(S62+AO35*D19)/AN47,(S63+AO35*D19)/AO47)*AP47","v":{"$error":"#VALUE!"}},{"$f":"MIN((T59+AO35*D19)/AK47,(T60+AO35*D19)/AL47,(T61+AO35*D19)/AM47,(T62+AO35*D19)/AN47,(T63+AO35*D19)/AO47)*AP47","v":{"$error":"#VALUE!"}},{"$f":"MIN((U59+AO35*D19)/AK47,(U60+AO35*D19)/AL47,(U61+AO35*D19)/AM47,(U62+AO35*D19)/AN47,(U63+AO35*D19)/AO47)*AP47","v":{"$error":"#VALUE!"}},{"$f":"MIN((V59+AO35*D19)/AK47,(V60+AO35*D19)/AL47,(V61+AO35*D19)/AM47,(V62+AO35*D19)/AN47,(V63+AO35*D19)/AO47)*AP47","v":{"$error":"#VALUE!"}},{"$f":"MIN((W59+AO35*D19)/AK47,(W60+AO35*D19)/AL47,(W61+AO35*D19)/AM47,(W62+AO35*D19)/AN47,(W63+AO35*D19)/AO47)*AP47","v":{"$error":"#VALUE!"}},{"$f":"MIN((X59+AO35*D19)/AK47,(X60+AO35*D19)/AL47,(X61+AO35*D19)/AM47,(X62+AO35*D19)/AN47,(X63+AO35*D19)/AO47)*AP47","v":{"$error":"#VALUE!"}},{"$f":"MIN((Y59+AO35*D19)/AK47,(Y60+AO35*D19)/AL47,(Y61+AO35*D19)/AM47,(Y62+AO35*D19)/AN47,(Y63+AO35*D19)/AO47)*AP47","v":{"$error":"#VALUE!"}},{"$f":"MIN((Z59+AO35*D19)/AK47,(Z60+AO35*D19)/AL47,(Z61+AO35*D19)/AM47,(Z62+AO35*D19)/AN47,(Z63+AO35*D19)/AO47)*AP47","v":{"$error":"#VALUE!"}},{"$f":"MIN((AA59+AO35*D19)/AK47,(AA60+AO35*D19)/AL47,(AA61+AO35*D19)/AM47,(AA62+AO35*D19)/AN47,(AA63+AO35*D19)/AO47)*AP47","v":{"$error":"#VALUE!"}},{"$f":"MIN((AB59+AO35*D19)/AK47,(AB60+AO35*D19)/AL47,(AB61+AO35*D19)/AM47,(AB62+AO35*D19)/AN47,(AB63+AO35*D19)/AO47)*AP47","v":{"$error":"#VALUE!"}},{"$f":"MIN((AC59+AO35*D19)/AK47,(AC60+AO35*D19)/AL47,(AC61+AO35*D19)/AM47,(AC62+AO35*D19)/AN47,(AC63+AO35*D19)/AO47)*AP47","v":{"$error":"#VALUE!"}},{"$f":"MIN((AD59+AO35*D19)/AK47,(AD60+AO35*D19)/AL47,(AD61+AO35*D19)/AM47,(AD62+AO35*D19)/AN47,(AD63+AO35*D19)/AO47)*AP47","v":{"$error":"#VALUE!"}},{"$f":"MIN((AE59+AO35*D19)/AK47,(AE60+AO35*D19)/AL47,(AE61+AO35*D19)/AM47,(AE62+AO35*D19)/AN47,(AE63+AO35*D19)/AO47)*AP47","v":{"$error":"#VALUE!"}},{"$f":"MIN((AF59+AO35*D19)/AK47,(AF60+AO35*D19)/AL47,(AF61+AO35*D19)/AM47,(AF62+AO35*D19)/AN47,(AF63+AO35*D19)/AO47)*AP47","v":{"$error":"#VALUE!"}},{"$f":"MAX(BB110:BO110)","v":{"$error":"#VALUE!"}},null,{"$f":"BB109","v":"kit 1"},"kit 2/3",0,"kit 4",0,"kit 5","kit 6/7",0,0,"kit 8","kit 9",0,"kit 10","kit 11",null,null,null,"off",{"$f":"$CJ$74/DR75","v":{"$error":"#VALUE!"}},{"$f":"DQ75/$CK$74","v":{"$error":"#VALUE!"}},{"$f":"$CL$74-DS75","v":{"$error":"#VALUE!"}},{"$f":"$CM$74/DR75","v":{"$error":"#VALUE!"}},{"$f":"DQ75/$CN$74","v":{"$error":"#VALUE!"}},{"$f":"$CO$74-DS75","v":{"$error":"#VALUE!"}},{"$f":"$CP$74/DR75","v":{"$error":"#VALUE!"}},{"$f":"DQ75/$CQ$74","v":{"$error":"#VALUE!"}},{"$f":"$CR$74-DS75","v":{"$error":"#VALUE!"}},{"$f":"$CS$74/(1.15*DR75)","v":{"$error":"#VALUE!"}},{"$f":"1.15*DQ75/$CT$74","v":{"$error":"#VALUE!"}},{"$f":"$CU$74-1.15*DS75","v":{"$error":"#VALUE!"}},{"$f":"$CV$74/(1.15*DR75)","v":{"$error":"#VALUE!"}},{"$f":"1.15*DQ75/$CW$74","v":{"$error":"#VALUE!"}},{"$f":"$CX$74-1.15*DS75","v":{"$error":"#VALUE!"}},{"$f":"$CY$74/(1.15*DR75)","v":{"$error":"#VALUE!"}},{"$f":"1.15*DQ75/$CZ$74","v":{"$error":"#VALUE!"}},{"$f":"$DA$74-1.15*DS75","v":{"$error":"#VALUE!"}},{"$f":"1.15*$DB$74/DR75","v":{"$error":"#VALUE!"}},{"$f":"DQ75/(1.15*$DC$74)","v":{"$error":"#VALUE!"}},{"$f":"1.15*$DD$74-DS75","v":{"$error":"#VALUE!"}},{"$f":"1.15*$DE$74/DR75","v":{"$error":"#VALUE!"}},{"$f":"DQ75/(1.15*$DF$74)","v":{"$error":"#VALUE!"}},{"$f":"1.15*$DD$74-DS75","v":{"$error":"#VALUE!"}},{"$f":"1.15*$DH$74/DR75","v":{"$error":"#VALUE!"}},{"$f":"DQ75/(1.15*$DI$74)","v":{"$error":"#VALUE!"}},{"$f":"1.15*$DJ$74-DS75","v":{"$error":"#VALUE!"}},{"$f":"$DK$74/DR75","v":{"$error":"#VALUE!"}},{"$f":"DQ75/$DL$74","v":{"$error":"#VALUE!"}},{"$f":"$DM$74-DS75","v":{"$error":"#VALUE!"}},{"$f":"$DN$74/DR75","v":{"$error":"#VALUE!"}},{"$f":"DQ75/$DO$74","v":{"$error":"#VALUE!"}},{"$f":"$DP$74-DS75","v":{"$error":"#VALUE!"}},{"$f":"$DQ$74/DR75","v":{"$error":"#VALUE!"}},{"$f":"DQ75/$DR$74","v":{"$error":"#VALUE!"}},{"$f":"$DS$74-DS75","v":{"$error":"#VALUE!"}}]
[null,null,null,"CAP",{"$f":"IF(G18<>\"\",G18,\"\")","v":""},{"$f":"IF(VLOOKUP(E111,$AI$8:$AV$33,14,FALSE)=0,IF(N18<>\"\",N18*100,0),VLOOKUP(E111,$AI$8:$AV$33,14,FALSE))","v":1},{"$f":"IF(G18<>\"\",(L18/100+MIN(5000,M18)/500)/100,\"\")","v":""},{"$f":"IF(G18<>\"\",IF(ISNA(IF(VLOOKUP(G18,$AI$8:$AV$33,14,FALSE)=\"\",\"\",(HLOOKUP(VLOOKUP(G18,$BA$10:$BB$20,2,FALSE),S107:AF112,6,FALSE)/100+MIN(5000,M18)/500)/100)),G111,IF(VLOOKUP(G18,$AI$8:$AV$33,14,FALSE)=\"\",\"\",(HLOOKUP(VLOOKUP(G18,$BA$10:$BB$20,2,FALSE),S107:AF112,6,FALSE)/100+MIN(5000,M18)/500)/100)),\"\")","v":""},{"$f":"IF(G18<>\"\",IF(ISNA(IF(VLOOKUP(G18,$AI$8:$AV$29,14,FALSE)=\"\",\"\",((HLOOKUP(VLOOKUP(G18,$BA$10:$BB$20,2,FALSE),$S$107:$AF$112,6,FALSE)+IF(HLOOKUP(F111,$AJ$7:$AT$35,29,FALSE)=1,D19,0))/100+MIN(5000,M18)/500)/100)),H111,IF(VLOOKUP(G18,$AI$8:$AV$29,14,FALSE)=\"\",\"\",((HLOOKUP(VLOOKUP(G18,$BA$10:$BB$20,2,FALSE),$S$107:$AF$112,6,FALSE)+IF(HLOOKUP(F111,$AJ$7:$AT$35,29,FALSE)=1,D19,0))/100+MIN(5000,M18)/500)/100)),\"\")","v":""},null,null,null,null,null,null,null,null,{"$f":"IF($AX$306,K18+VLOOKUP(Team!$AA24,Team!$E$30:$J$300,6,FALSE),K18+AH42+$D$21)+$D$19*$AG$15","v":{"$error":"#VALUE!"}},{"$f":"IF($AX$306,$R111,$R111+Q13)","v":{"$error":"#VALUE!"}},{"$error":"#VALUE!"},{"$error":"#VALUE!"},{"$error":"#VALUE!"},{"$error":"#VALUE!"},{"$error":"#VALUE!"},{"$error":"#VALUE!"},{"$error":"#VALUE!"},{"$error":"#VALUE!"},{"$error":"#VALUE!"},{"$error":"#VALUE!"},{"$error":"#VALUE!"},{"$error":"#VALUE!"},{"$error":"#VALUE!"},null,null,null,"",{"$f":"MIN((S66+AN35*D19)/AK46,(S67+AN35*D19)/AL46,(S68+AN35*D19)/AM46,(S69+AN35*D19)/AN46,(S70+AN35*D19)/AO46)*AP46","v":{"$error":"#VALUE!"}},{"$f":"MIN((T66+AN35*D19)/AK46,(T67+AN35*D19)/AL46,(T68+AN35*D19)/AM46,(T69+AN35*D19)/AN46,(T70+AN35*D19)/AO46)*AP46","v":{"$error":"#VALUE!"}},{"$f":"MIN((U66+AN35*D19)/AK46,(U67+AN35*D19)/AL46,(U68+AN35*D19)/AM46,(U69+AN35*D19)/AN46,(U70+AN35*D19)/AO46)*AP46","v":{"$error":"#VALUE!"}},{"$f":"MIN((V66+AN35*D19)/AK46,(V67+AN35*D19)/AL46,(V68+AN35*D19)/AM46,(V69+AN35*D19)/AN46,(V70+AN35*D19)/AO46)*AP46","v":{"$error":"#VALUE!"}},{"$f":"MIN((W66+AN35*D19)/AK46,(W67+AN35*D19)/AL46,(W68+AN35*D19)/AM46,(W69+AN35*D19)/AN46,(W70+AN35*D19)/AO46)*AP46","v":{"$error":"#VALUE!"}},{"$f":"MIN((X66+AN35*D19)/AK46,(X67+AN35*D19)/AL46,(X68+AN35*D19)/AM46,(X69+AN35*D19)/AN46,(X70+AN35*D19)/AO46)*AP46","v":{"$error":"#VALUE!"}},{"$f":"MIN((Y66+AN35*D19)/AK46,(Y67+AN35*D19)/AL46,(Y68+AN35*D19)/AM46,(Y69+AN35*D19)/AN46,(Y70+AN35*D19)/AO46)*AP46","v":{"$error":"#VALUE!"}},{"$f":"MIN((Z66+AN35*D19)/AK46,(Z67+AN35*D19)/AL46,(Z68+AN35*D19)/AM46,(Z69+AN35*D19)/AN46,(Z70+AN35*D19)/AO46)*AP46","v":{"$error":"#VALUE!"}},{"$f":"MIN((AA66+AN35*D19)/AK46,(AA67+AN35*D19)/AL46,(AA68+AN35*D19)/AM46,(AA69+AN35*D19)/AN46,(AA70+AN35*D19)/AO46)*AP46","v":{"$error":"#VALUE!"}},{"$f":"MIN((AB66+AN35*D19)/AK46,(AB67+AN35*D19)/AL46,(AB68+AN35*D19)/AM46,(AB69+AN35*D19)/AN46,(AB70+AN35*D19)/AO46)*AP46","v":{"$error":"#VALUE!"}},{"$f":"MIN((AC66+AN35*D19)/AK46,(AC67+AN35*D19)/AL46,(AC68+AN35*D19)/AM46,(AC69+AN35*D19)/AN46,(AC70+AN35*D19)/AO46)*AP46","v":{"$error":"#VALUE!"}},{"$f":"MIN((AD66+$AN$35*$D$19)/$AK$46,(AD67+$AN$35*$D$19)/AL46,(AD68+$AN$35*$D$19)/AM46,($AD$69+$AN$35*$D$19)/$AN$46,(AD70+$AN$35*$D$19)/$AO$46)*$AP$46","v":{"$error":"#VALUE!"}},{"$f":"MIN((AE66+AN35*D19)/AK46,(AE67+AN35*D19)/AL46,(AE68+AN35*D19)/AM46,(AE69+AN35*D19)/AN46,(AE70+AN35*D19)/AO46)*AP46","v":{"$error":"#VALUE!"}},{"$f":"MIN((AF66+AN35*D19)/AK46,(AF67+AN35*D19)/AL46,(AF68+AN35*D19)/AM46,(AF69+AN35*D19)/AN46,(AF70+AN35*D19)/AO46)*AP46","v":{"$error":"#VALUE!"}},{"$error":"#VALUE!"},null,"",{"$f":"MIN((S66+AO35*D19)/AK47,(S67+AO35*D19)/AL47,(S68+AO35*D19)/AM47,(S69+AO35*D19)/AN47,(S70+AO35*D19)/AO47)*AP47","v":{"$error":"#VALUE!"}},{"$f":"MIN((T66+AO35*D19)/AK47,(T67+AO35*D19)/AL47,(T68+AO35*D19)/AM47,(T69+AO35*D19)/AN47,(T70+AO35*D19)/AO47)*AP47","v":{"$error":"#VALUE!"}},{"$f":"MIN((U66+AO35*D19)/AK47,(U67+AO35*D19)/AL47,(U68+AO35*D19)/AM47,(U69+AO35*D19)/AN47,(U70+AO35*D19)/AO47)*AP47","v":{"$error":"#VALUE!"}},{"$f":"MIN((V66+AO35*D19)/AK47,(V67+AO35*D19)/AL47,(V68+AO35*D19)/AM47,(V69+AO35*D19)/AN47,(V70+AO35*D19)/AO47)*AP47","v":{"$error":"#VALUE!"}},{"$f":"MIN((W66+AO35*D19)/AK47,(W67+AO35*D19)/AL47,(W68+AO35*D19)/AM47,(W69+AO35*D19)/AN47,(W70+AO35*D19)/AO47)*AP47","v":{"$error":"#VALUE!"}},{"$f":"MIN((X66+AO35*D19)/AK47,(X67+AO35*D19)/AL47,(X68+AO35*D19)/AM47,(X69+AO35*D19)/AN47,(X70+AO35*D19)/AO47)*AP47","v":{"$error":"#VALUE!"}},{"$f":"MIN((Y66+AO35*D19)/AK47,(Y67+AO35*D19)/AL47,(Y68+AO35*D19)/AM47,(Y69+AO35*D19)/AN47,(Y70+AO35*D19)/AO47)*AP47","v":{"$error":"#VALUE!"}},{"$f":"MIN((Z66+AO35*D19)/AK47,(Z67+AO35*D19)/AL47,(Z68+AO35*D19)/AM47,(Z69+AO35*D19)/AN47,(Z70+AO35*D19)/AO47)*AP47","v":{"$error":"#VALUE!"}},{"$f":"MIN((AA66+AO35*D19)/AK47,(AA67+AO35*D19)/AL47,(AA68+AO35*D19)/AM47,(AA69+AO35*D19)/AN47,(AA70+AO35*D19)/AO47)*AP47","v":{"$error":"#VALUE!"}},{"$f":"MIN((AB66+AO35*D19)/AK47,(AB67+AO35*D19)/AL47,(AB68+AO35*D19)/AM47,(AB69+AO35*D19)/AN47,(AB70+AO35*D19)/AO47)*AP47","v":{"$error":"#VALUE!"}},{"$f":"MIN((AC66+AO35*D19)/AK47,(AC67+AO35*D19)/AL47,(AC68+AO35*D19)/AM47,(AC69+AO35*D19)/AN47,(AC70+AO35*D19)/AO47)*AP47","v":{"$error":"#VALUE!"}},{"$f":"MIN((AD66+AO35*D19)/AK47,(AD67+AO35*D19)/AL47,(AD68+AO35*D19)/AM47,(AD69+AO35*D19)/AN47,(AD70+AO35*D19)/AO47)*AP47","v":{"$error":"#VALUE!"}},{"$f":"MIN((AE66+AO35*D19)/AK47,(AE67+AO35*D19)/AL47,(AE68+AO35*D19)/AM47,(AE69+AO35*D19)/AN47,(AE70+AO35*D19)/AO47)*AP47","v":{"$error":"#VALUE!"}},{"$f":"MIN((AF66+AO35*D19)/AK47,(AF67+AO35*D19)/AL47,(AF68+AO35*D19)/AM47,(AF69+AO35*D19)/AN47,(AF70+AO35*D19)/AO47)*AP47","v":{"$error":"#VALUE!"}},{"$f":"MAX(BB111:BO111)","v":{"$error":"#VALUE!"}},"meilleur kit par poste / joueur"]
[null,null,null,"CAP","",1,"",{"$f":"IF(G19<>\"\",IF(ISNA(IF(VLOOKUP(G19,$AI$8:$AV$33,14,FALSE)=\"\",\"\",(HLOOKUP(VLOOKUP(G19,$BA$10:$BB$20,2,FALSE),S114:AF119,6,FALSE)/100+MIN(5000,M19)/500)/100)),G112,IF(VLOOKUP(G19,$AI$8:$AV$33,14,FALSE)=\"\",\"\",(HLOOKUP(VLOOKUP(G19,$BA$10:$BB$20,2,FALSE),S114:AF119,6,FALSE)/100+MIN(5000,M19)/500)/100)),\"\")","v":""},{"$f":"IF(G19<>\"\",IF(ISNA(IF(VLOOKUP(G19,$AI$8:$AV$29,14,FALSE)=\"\",\"\",((HLOOKUP(VLOOKUP(G19,$BA$10:$BB$20,2,FALSE),$S$114:$AF$119,6,FALSE)+IF(HLOOKUP(F112,$AJ$7:$AT$35,29,FALSE)=1,D19,0))/100+MIN(5000,M19)/500)/100)),H112,IF(VLOOKUP(G19,$AI$8:$AV$29,14,FALSE)=\"\",\"\",((HLOOKUP(VLOOKUP(G19,$BA$10:$BB$20,2,FALSE),$S$114:$AF$119,6,FALSE)+IF(HLOOKUP(F112,$AJ$7:$AT$35,29,FALSE)=1,D19,0))/100+MIN(5000,M19)/500)/100)),\"\")","v":""},null,null,null,null,null,null,null,null,{"$f":"IF($AX$306,L18+VLOOKUP(Team!$AB24,Team!$E$30:$J$300,6,FALSE),L18+AH43+$D$21)+$D$19*$AG$15","v":{"$error":"#VALUE!"}},{"$f":"IF($AX$306,$R112,$R112+Q14)","v":{"$error":"#VALUE!"}},{"$error":"#VALUE!"},{"$error":"#VALUE!"},{"$error":"#VALUE!"},{"$error":"#VALUE!"},{"$error":"#VALUE!"},{"$error":"#VALUE!"},{"$error":"#VALUE!"},{"$error":"#VALUE!"},{"$error":"#VALUE!"},{"$error":"#VALUE!"},{"$error":"#VALUE!"},{"$error":"#VALUE!"},{"$error":"#VALUE!"},null,null,null,"",{"$f":"MIN((S73+AN35*D19)/AK46,(S74+AN35*D19)/AL46,(S75+AN35*D19)/AM46,(S76+AN35*D19)/AN46,(S77+AN35*D19)/AO46)*AP46","v":{"$error":"#VALUE!"}},{"$f":"MIN((T73+AN35*D19)/AK46,(T74+AN35*D19)/AL46,(T75+AN35*D19)/AM46,(T76+AN35*D19)/AN46,(T77+AN35*D19)/AO46)*AP46","v":{"$error":"#VALUE!"}},{"$f":"MIN((U73+AN35*D19)/AK46,(U74+AN35*D19)/AL46,(U75+AN35*D19)/AM46,(U76+AN35*D19)/AN46,(U77+AN35*D19)/AO46)*AP46","v":{"$error":"#VALUE!"}},{"$f":"MIN((V73+AN35*D19)/AK46,(V74+AN35*D19)/AL46,(V75+AN35*D19)/AM46,(V76+AN35*D19)/AN46,(V77+AN35*D19)/AO46)*AP46","v":{"$error":"#VALUE!"}},{"$f":"MIN((W73+AN35*D19)/AK46,(W74+AN35*D19)/AL46,(W75+AN35*D19)/AM46,(W76+AN35*D19)/AN46,(W77+AN35*D19)/AO46)*AP46","v":{"$error":"#VALUE!"}},{"$f":"MIN((X73+AN35*D19)/AK46,(X74+AN35*D19)/AL46,(X75+AN35*D19)/AM46,(X76+AN35*D19)/AN46,(X77+AN35*D19)/AO46)*AP46","v":{"$error":"#VALUE!"}},{"$f":"MIN((Y73+AN35*D19)/AK46,(Y74+AN35*D19)/AL46,(Y75+AN35*D19)/AM46,(Y76+AN35*D19)/AN46,(Y77+AN35*D19)/AO46)*AP46","v":{"$error":"#VALUE!"}},{"$f":"MIN((Z73+AN35*D19)/AK46,(Z74+AN35*D19)/AL46,(Z75+AN35*D19)/AM46,(Z76+AN35*D19)/AN46,(Z77+AN35*D19)/AO46)*AP46","v":{"$error":"#VALUE!"}},{"$f":"MIN((AA73+AN35*D19)/AK46,(AA74+AN35*D19)/AL46,(AA75+AN35*D19)/AM46,(AA76+AN35*D19)/AN46,(AA77+AN35*D19)/AO46)*AP46","v":{"$error":"#VALUE!"}},{"$f":"MIN((AB73+AN35*D19)/AK46,(AB74+AN35*D19)/AL46,(AB75+AN35*D19)/AM46,(AB76+AN35*D19)/AN46,(AB77+AN35*D19)/AO46)*AP46","v":{"$error":"#VALUE!"}},{"$f":"MIN((AC73+AN35*D19)/AK46,(AC74+AN35*D19)/AL46,(AC75+AN35*D19)/AM46,(AC76+AN35*D19)/AN46,(AC77+AN35*D19)/AO46)*AP46","v":{"$error":"#VALUE!"}},{"$f":"MIN((AD73+AN35*D19)/AK46,(AD74+AN35*D19)/AL46,(AD75+AN35*D19)/AM46,(AD76+AN35*D19)/AN46,(AD77+AN35*D19)/AO46)*AP46","v":{"$error":"#VALUE!"}},{"$f":"MIN((AE73+AN35*D19)/AK46,(AE74+AN35*D19)/AL46,(AE75+AN35*D19)/AM46,(AE76+AN35*D19)/AN46,(AE77+AN35*D19)/AO46)*AP46","v":{"$error":"#VALUE!"}},{"$f":"MIN((AF73+AN35*D19)/AK46,(AF74+AN35*D19)/AL46,(AF75+AN35*D19)/AM46,(AF76+AN35*D19)/AN46,(AF77+AN35*D19)/AO46)*AP46","v":{"$error":"#VALUE!"}},{"$error":"#VALUE!"},null,"",{"$f":"MIN((S73+AO35*D19)/AK47,(S74+AO35*D19)/AL47,(S75+AO35*D19)/AM47,(S76+AO35*D19)/AN47,(S77+AO35*D19)/AO47)*AP47","v":{"$error":"#VALUE!"}},{"$f":"MIN((T73+AO35*D19)/AK47,(T74+AO35*D19)/AL47,(T75+AO35*D19)/AM47,(T76+AO35*D19)/AN47,(T77+AO35*D19)/AO47)*AP47","v":{"$error":"#VALUE!"}},{"$f":"MIN((U73+AO35*D19)/AK47,(U74+AO35*D19)/AL47,(U75+AO35*D19)/AM47,(U76+AO35*D19)/AN47,(U77+AO35*D19)/AO47)*AP47","v":{"$error":"#VALUE!"}},{"$f":"MIN((V73+AO35*D19)/AK47,(V74+AO35*D19)/AL47,(V75+AO35*D19)/AM47,(V76+AO35*D19)/AN47,(V77+AO35*D19)/AO47)*AP47","v":{"$error":"#VALUE!"}},{"$f":"MIN((W73+AO35*D19)/AK47,(W74+AO35*D19)/AL47,(W75+AO35*D19)/AM47,(W76+AO35*D19)/AN47,(W77+AO35*D19)/AO47)*AP47","v":{"$error":"#VALUE!"}},{"$f":"MIN((X73+AO35*D19)/AK47,(X74+AO35*D19)/AL47,(X75+AO35*D19)/AM47,(X76+AO35*D19)/AN47,(X77+AO35*D19)/AO47)*AP47","v":{"$error":"#VALUE!"}},{"$f":"MIN((Y73+AO35*D19)/AK47,(Y74+AO35*D19)/AL47,(Y75+AO35*D19)/AM47,(Y76+AO35*D19)/AN47,(Y77+AO35*D19)/AO47)*AP47","v":{"$error":"#VALUE!"}},{"$f":"MIN((Z73+AO35*D19)/AK47,(Z74+AO35*D19)/AL47,(Z75+AO35*D19)/AM47,(Z76+AO35*D19)/AN47,(Z77+AO35*D19)/AO47)*AP47","v":{"$error":"#VALUE!"}},{"$f":"MIN((AA73+AO35*D19)/AK47,(AA74+AO35*D19)/AL47,(AA75+AO35*D19)/AM47,(AA76+AO35*D19)/AN47,(AA77+AO35*D19)/AO47)*AP47","v":{"$error":"#VALUE!"}},{"$f":"MIN((AB73+AO35*D19)/AK47,(AB74+AO35*D19)/AL47,(AB75+AO35*D19)/AM47,(AB76+AO35*D19)/AN47,(AB77+AO35*D19)/AO47)*AP47","v":{"$error":"#VALUE!"}},{"$f":"MIN((AC73+AO35*D19)/AK47,(AC74+AO35*D19)/AL47,(AC75+AO35*D19)/AM47,(AC76+AO35*D19)/AN47,(AC77+AO35*D19)/AO47)*AP47","v":{"$error":"#VALUE!"}},{"$f":"MIN((AD73+AO35*D19)/AK47,(AD74+AO35*D19)/AL47,(AD75+AO35*D19)/AM47,(AD76+AO35*D19)/AN47,(AD77+AO35*D19)/AO47)*AP47","v":{"$error":"#VALUE!"}},{"$f":"MIN((AE73+AO35*D19)/AK47,(AE74+AO35*D19)/AL47,(AE75+AO35*D19)/AM47,(AE76+AO35*D19)/AN47,(AE77+AO35*D19)/AO47)*AP47","v":{"$error":"#VALUE!"}},{"$f":"MIN((AF73+AO35*D19)/AK47,(AF74+AO35*D19)/AL47,(AF75+AO35*D19)/AM47,(AF76+AO35*D19)/AN47,(AF77+AO35*D19)/AO47)*AP47","v":{"$error":"#VALUE!"}},{"$error":"#VALUE!"},null,null,1,null,2,null,3,null,4,null,5,null,6,null,7,null,8,null,9,null,10,null,11,null,null,"resultat match selon stratégie"]
[null,null,null,"CAP",{"$f":"IF(G20<>\"\",G20,\"\")","v":""},{"$f":"IF(VLOOKUP(E113,$AI$8:$AV$33,14,FALSE)=0,IF(N20<>\"\",N20*100,0),VLOOKUP(E113,$AI$8:$AV$33,14,FALSE))","v":1},{"$f":"IF(G20<>\"\",(L20/100+MIN(5000,M20)/500)/100,\"\")","v":""},{"$f":"IF(G20<>\"\",IF(ISNA(IF(VLOOKUP(G20,$AI$8:$AV$33,14,FALSE)=\"\",\"\",(HLOOKUP(VLOOKUP(G20,$BA$10:$BB$20,2,FALSE),S121:AF126,6,FALSE)/100+MIN(5000,M20)/500)/100)),G113,IF(VLOOKUP(G20,$AI$8:$AV$33,14,FALSE)=\"\",\"\",(HLOOKUP(VLOOKUP(G20,$BA$10:$BB$20,2,FALSE),S121:AF126,6,FALSE)/100+MIN(5000,M20)/500)/100)),\"\")","v":""},{"$f":"IF(G20<>\"\",IF(ISNA(IF(VLOOKUP(G20,$AI$8:$AV$29,14,FALSE)=\"\",\"\",((HLOOKUP(VLOOKUP(G20,$BA$10:$BB$20,2,FALSE),$S$121:$AF$126,6,FALSE)+IF(HLOOKUP(F113,$AJ$7:$AT$35,29,FALSE)=1,D19,0))/100+MIN(5000,M20)/500)/100)),H113,IF(VLOOKUP(G20,$AI$8:$AV$29,14,FALSE)=\"\",\"\",((HLOOKUP(VLOOKUP(G20,$BA$10:$BB$20,2,FALSE),$S$121:$AF$126,6,FALSE)+IF(HLOOKUP(F113,$AJ$7:$AT$35,29,FALSE)=1,D19,0))/100+MIN(5000,M20)/500)/100)),\"\")","v":""},null,null,null,null,null,null,null,null,null,null,null,null,null,null,null,null,null,null,null,null,null,null,null,null,null,null,"",{"$f":"MIN((S80+AN35*D19)/AK46,(S81+AN35*D19)/AL46,(S82+AN35*D19)/AM46,(S83+AN35*D19)/AN46,(S84+AN35*D19)/AO46)*AP46","v":{"$error":"#VALUE!"}},{"$f":"MIN((T80+AN35*D19)/AK46,(T81+AN35*D19)/AL46,(T82+AN35*D19)/AM46,(T83+AN35*D19)/AN46,(T84+AN35*D19)/AO46)*AP46","v":{"$error":"#VALUE!"}},{"$f":"MIN((U80+AN35*D19)/AK46,(U81+AN35*D19)/AL46,(U82+AN35*D19)/AM46,(U83+AN35*D19)/AN46,(U84+AN35*D19)/AO46)*AP46","v":{"$error":"#VALUE!"}},{"$f":"MIN((V80+AN35*D19)/AK46,(V81+AN35*D19)/AL46,(V82+AN35*D19)/AM46,(V83+AN35*D19)/AN46,(V84+AN35*D19)/AO46)*AP46","v":{"$error":"#VALUE!"}},{"$f":"MIN((W80+AN35*D19)/AK46,(W81+AN35*D19)/AL46,(W82+AN35*D19)/AM46,(W83+AN35*D19)/AN46,(W84+AN35*D19)/AO46)*AP46","v":{"$error":"#VALUE!"}},{"$f":"MIN((X80+AN35*D19)/AK46,(X81+AN35*D19)/AL46,(X82+AN35*D19)/AM46,(X83+AN35*D19)/AN46,(X84+AN35*D19)/AO46)*AP46","v":{"$error":"#VALUE!"}},{"$f":"MIN((Y80+AN35*D19)/AK46,(Y81+AN35*D19)/AL46,(Y82+AN35*D19)/AM46,(Y83+AN35*D19)/AN46,(Y84+AN35*D19)/AO46)*AP46","v":{"$error":"#VALUE!"}},{"$f":"MIN((Z80+AN35*D19)/AK46,(Z81+AN35*D19)/AL46,(Z82+AN35*D19)/AM46,(Z83+AN35*D19)/AN46,(Z84+AN35*D19)/AO46)*AP46","v":{"$error":"#VALUE!"}},{"$f":"MIN((AA80+AN35*D19)/AK46,(AA81+AN35*D19)/AL46,(AA82+AN35*D19)/AM46,(AA83+AN35*D19)/AN46,(AA84+AN35*D19)/AO46)*AP46","v":{"$error":"#VALUE!"}},{"$f":"MIN((AB80+AN35*D19)/AK46,(AB81+AN35*D19)/AL46,(AB82+AN35*D19)/AM46,(AB83+AN35*D19)/AN46,(AB84+AN35*D19)/AO46)*AP46","v":{"$error":"#VALUE!"}},{"$f":"MIN((AC80+AN35*D19)/AK46,(AC81+AN35*D19)/AL46,(AC82+AN35*D19)/AM46,(AC83+AN35*D19)/AN46,(AC84+AN35*D19)/AO46)*AP46","v":{"$error":"#VALUE!"}},{"$f":"MIN((AD80+AN35*D19)/AK46,(AD81+AN35*D19)/AL46,(AD82+AN35*D19)/AM46,(AD83+AN35*D19)/AN46,(AD84+AN35*D19)/AO46)*AP46","v":{"$error":"#VALUE!"}},{"$f":"MIN((AE80+AN35*D19)/AK46,(AE81+AN35*D19)/AL46,(AE82+AN35*D19)/AM46,(AE83+AN35*D19)/AN46,(AE84+AN35*D19)/AO46)*AP46","v":{"$error":"#VALUE!"}},{"$f":"MIN((AF80+AN35*D19)/AK46,(AF81+AN35*D19)/AL46,(AF82+AN35*D19)/AM46,(AF83+AN35*D19)/AN46,(AF84+AN35*D19)/AO46)*AP46","v":{"$error":"#VALUE!"}},{"$error":"#VALUE!"},null,"",{"$f":"MIN((S80+AO35*D19)/AK47,(S81+AO35*D19)/AL47,(S82+AO35*D19)/AM47,(S83+AO35*D19)/AN47,(S84+AO35*D19)/AO47)*AP47","v":{"$error":"#VALUE!"}},{"$f":"MIN((T80+AO35*D19)/AK47,(T81+AO35*D19)/AL47,(T82+AO35*D19)/AM47,(T83+AO35*D19)/AN47,(T84+AO35*D19)/AO47)*AP47","v":{"$error":"#VALUE!"}},{"$f":"MIN((U80+AO35*D19)/AK47,(U81+AO35*D19)/AL47,(U82+AO35*D19)/AM47,(U83+AO35*D19)/AN47,(U84+AO35*D19)/AO47)*AP47","v":{"$error":"#VALUE!"}},{"$f":"MIN((V80+AO35*D19)/AK47,(V81+AO35*D19)/AL47,(V82+AO35*D19)/AM47,(V83+AO35*D19)/AN47,(V84+AO35*D19)/AO47)*AP47","v":{"$error":"#VALUE!"}},{"$f":"MIN((W80+AO35*D19)/AK47,(W81+AO35*D19)/AL47,(W82+AO35*D19)/AM47,(W83+AO35*D19)/AN47,(W84+AO35*D19)/AO47)*AP47","v":{"$error":"#VALUE!"}},{"$f":"MIN((X80+AO35*D19)/AK47,(X81+AO35*D19)/AL47,(X82+AO35*D19)/AM47,(X83+AO35*D19)/AN47,(X84+AO35*D19)/AO47)*AP47","v":{"$error":"#VALUE!"}},{"$f":"MIN((Y80+AO35*D19)/AK47,(Y81+AO35*D19)/AL47,(Y82+AO35*D19)/AM47,(Y83+AO35*D19)/AN47,(Y84+AO35*D19)/AO47)*AP47","v":{"$error":"#VALUE!"}},{"$f":"MIN((Z80+AO35*D19)/AK47,(Z81+AO35*D19)/AL47,(Z82+AO35*D19)/AM47,(Z83+AO35*D19)/AN47,(Z84+AO35*D19)/AO47)*AP47","v":{"$error":"#VALUE!"}},{"$f":"MIN((AA80+AO35*D19)/AK47,(AA81+AO35*D19)/AL47,(AA82+AO35*D19)/AM47,(AA83+AO35*D19)/AN47,(AA84+AO35*D19)/AO47)*AP47","v":{"$error":"#VALUE!"}},{"$f":"MIN((AB80+AO35*D19)/AK47,(AB81+AO35*D19)/AL47,(AB82+AO35*D19)/AM47,(AB83+AO35*D19)/AN47,(AB84+AO35*D19)/AO47)*AP47","v":{"$error":"#VALUE!"}},{"$f":"MIN((AC80+AO35*D19)/AK47,(AC81+AO35*D19)/AL47,(AC82+AO35*D19)/AM47,(AC83+AO35*D19)/AN47,(AC84+AO35*D19)/AO47)*AP47","v":{"$error":"#VALUE!"}},{"$f":"MIN((AD80+AO35*D19)/AK47,(AD81+AO35*D19)/AL47,(AD82+AO35*D19)/AM47,(AD83+AO35*D19)/AN47,(AD84+AO35*D19)/AO47)*AP47","v":{"$error":"#VALUE!"}},{"$f":"MIN((AE80+AO35*D19)/AK47,(AE81+AO35*D19)/AL47,(AE82+AO35*D19)/AM47,(AE83+AO35*D19)/AN47,(AE84+AO35*D19)/AO47)*AP47","v":{"$error":"#VALUE!"}},{"$f":"MIN((AF80+AO35*D19)/AK47,(AF81+AO35*D19)/AL47,(AF82+AO35*D19)/AM47,(AF83+AO35*D19)/AN47,(AF84+AO35*D19)/AO47)*AP47","v":{"$error":"#VALUE!"}},{"$error":"#VALUE!"},null,{"$f":"BA110","v":""},{"$f":"IF(AY56=AK56,BR86,IF(AY56=AL56,BS86,IF(AY56=AM56,BT86,IF(AY56=AN56,BU86,IF(AY56=AO56,BV86,IF(AY56=AP56,BW86,IF(AY56=AQ56,BX86,IF(AY56=AR56,BY86,BT113))))))))","v":{"$error":"#VALUE!"}},{"$f":"IF(AY56=AS56,BZ86,IF(AY56=AT56,CA86,IF(AY56=AU56,CB86,IF(AY56=AV56,CC86,IF(AY56=AW56,CD86,IF(AY56=AX56,CE86,CO113))))))","v":{"$error":"#VALUE!"}},{"$f":"IF(BP56=BB56,BR86,IF(BP56=BC56,BS86,IF(BP56=BD56,BT86,IF(BP56=BE56,BU86,IF(BP56=BF56,BV86,IF(BP56=BG56,BW86,IF(BP56=BH56,BX86,IF(BP56=BI56,BY86,BV113))))))))","v":{"$error":"#VALUE!"}},{"$f":"IF(BP56=BJ56,BZ86,IF(BP56=BK56,CA86,IF(BP56=BL56,CB86,IF(BP56=BM56,CC86,IF(BP56=BN56,CD86,IF(BP56=BO56,CE86,CO113))))))","v":{"$error":"#VALUE!"}},{"$f":"IF(AY83=AK83,BR86,IF(AY83=AL83,BS86,IF(AY83=AM83,BT86,IF(AY83=AN83,BU86,IF(AY83=AO83,BV86,IF(AY83=AP83,BW86,IF(AY83=AQ83,BX86,IF(AY83=AR83,BY86,BX113))))))))","v":{"$error":"#VALUE!"}},{"$f":"IF(AY83=AS83,BZ86,IF(AY83=AT83,CA86,IF(AY83=AU83,CB86,IF(AY83=AV83,CC86,IF(AY83=AW83,CD86,IF(AY83=AX83,CE86,CO113))))))","v":{"$error":"#VALUE!"}},{"$f":"IF(BP83=BB83,BR86,IF(BP83=BC83,BS86,IF(BP83=BD83,BT86,IF(BP83=BE83,BU86,IF(BP83=BF83,BV86,IF(BP83=BG83,BW86,IF(BP83=BH83,BX86,IF(BP83=BI83,BY86,BZ113))))))))","v":{"$error":"#VALUE!"}},{"$f":"IF(BP83=BJ83,BZ86,IF(BP83=BK83,CA86,IF(BP83=BL83,CB86,IF(BP83=BM83,CC86,IF(BP83=BN83,CD86,IF(BP83=BO83,CE86,CO113))))))","v":{"$error":"#VALUE!"}},{"$f":"IF(AY110=AK110,BR86,IF(AY110=AL110,BS86,IF(AY110=AM110,BT86,IF(AY110=AN110,BU86,IF(AY110=AO110,BV86,IF(AY110=AP110,BW86,IF(AY110=AQ110,BX86,IF(AY110=AR110,BY86,CB113))))))))","v":{"$error":"#VALUE!"}},{"$f":"IF(AY110=AS110,BZ86,IF(AY110=AT110,CA86,IF(AY110=AU110,CB86,IF(AY110=AV110,CC86,IF(AY110=AW110,CD86,IF(AY110=AX110,CE86,CO113))))))","v":{"$error":"#VALUE!"}},{"$f":"IF(BP110=BB110,BR86,IF(BP110=BC110,BS86,IF(BP110=BD110,BT86,IF(BP110=BE110,BU86,IF(BP110=BF110,BV86,IF(BP110=BG110,BW86,IF(BP110=BH110,BX86,IF(BP110=BI110,BY86,CD113))))))))","v":{"$error":"#VALUE!"}},{"$f":"IF(BP110=BJ110,BZ86,IF(BP110=BK110,CA86,IF(BP110=BL110,CB86,IF(BP110=BM110,CC86,IF(BP110=BN110,CD86,IF(BP110=BO110,CE86,CO113))))))","v":{"$error":"#VALUE!"}},{"$f":"IF(AY137=AK137,BR86,IF(AY137=AL137,BS86,IF(AY137=AM137,BT86,IF(AY137=AN137,BU86,IF(AY137=AO137,BV86,IF(AY137=AP137,BW86,IF(AY137=AQ137,BX86,IF(AY137=AR137,BY86,CF113))))))))","v":{"$error":"#VALUE!"}},{"$f":"IF(AY137=AS137,BZ86,IF(AY137=AT137,CA86,IF(AY137=AU137,CB86,IF(AY137=AV137,CC86,IF(AY137=AW137,CD86,IF(AY137=AX137,CE86,CO113))))))","v":{"$error":"#VALUE!"}},{"$f":"IF(BP137=BB137,BR86,IF(BP137=BC137,BS86,IF(BP137=BD137,BT86,IF(BP137=BE137,BU86,IF(BP137=BF137,BV86,IF(BP137=BG137,BW86,IF(BP137=BH137,BX86,IF(BP137=BI137,BY86,CH113))))))))","v":{"$error":"#VALUE!"}},{"$f":"IF(BP137=BJ137,BZ86,IF(BP137=BK137,CA86,IF(BP137=BL137,CB86,IF(BP137=BM137,CC86,IF(BP137=BN137,CD86,IF(BP137=BO137,CE86,CO113))))))","v":{"$error":"#VALUE!"}},{"$f":"IF(AY164=AK164,BR86,IF(AY164=AL164,BS86,IF(AY164=AM164,BT86,IF(AY164=AN164,BU86,IF(AY164=AO164,BV86,IF(AY164=AP164,BW86,IF(AY164=AQ164,BX86,IF(AY164=AR164,BY86,CJ113))))))))","v":{"$error":"#VALUE!"}},{"$f":"IF(AY164=AS164,BZ86,IF(AY164=AT164,CA86,IF(AY164=AU164,CB86,IF(AY164=AV164,CC86,IF(AY164=AW164,CD86,IF(AY164=AX164,CE86,CO113))))))","v":{"$error":"#VALUE!"}},{"$f":"IF(BP164=BB164,BR86,IF(BP164=BC164,BS86,IF(BP164=BD164,BT86,IF(BP164=BE164,BU86,IF(BP164=BF164,BV86,IF(BP164=BG164,BW86,IF(BP164=BH164,BX86,IF(BP164=BI164,BY86,CL113))))))))","v":{"$error":"#VALUE!"}},{"$f":"IF(BP164=BJ164,BZ86,IF(BP164=BK164,CA86,IF(BP164=BL164,CB86,IF(BP164=BM164,CC86,IF(BP164=BN164,CD86,IF(BP164=BO164,CE86,CO113))))))","v":{"$error":"#VALUE!"}},{"$f":"IF(AY191=AK191,BR86,IF(AY191=AL191,BS86,IF(AY191=AM191,BT86,IF(AY191=AN191,BU86,IF(AY191=AO191,BV86,IF(AY191=AP191,BW86,IF(AY191=AQ191,BX86,IF(AY191=AR191,BY86,CN113))))))))","v":{"$error":"#VALUE!"}},{"$f":"IF(AY191=AS191,BZ86,IF(AY191=AT191,CA86,IF(AY191=AU191,CB86,IF(AY191=AV191,CC86,IF(AY191=AW191,CD86,IF(AY191=AX191,CE86,CO113))))))","v":{"$error":"#VALUE!"}},"-"]
[null,null,null,"CAP",{"$f":"IF(G21<>\"\",G21,\"\")","v":""},{"$f":"IF(VLOOKUP(E114,$AI$8:$AV$33,14,FALSE)=0,IF(N21<>\"\",N21*100,0),VLOOKUP(E114,$AI$8:$AV$33,14,FALSE))","v":1},{"$f":"IF(G21<>\"\",(L21/100+MIN(5000,M21)/500)/100,\"\")","v":""},{"$f":"IF(G21<>\"\",IF(ISNA(IF(VLOOKUP(G21,$AI$8:$AV$33,14,FALSE)=\"\",\"\",(HLOOKUP(VLOOKUP(G21,$BA$10:$BB$20,2,FALSE),S128:AF133,6,FALSE)/100+MIN(5000,M21)/500)/100)),G114,IF(VLOOKUP(G21,$AI$8:$AV$33,14,FALSE)=\"\",\"\",(HLOOKUP(VLOOKUP(G21,$BA$10:$BB$20,2,FALSE),S128:AF133,6,FALSE)/100+MIN(5000,M21)/500)/100)),\"\")","v":""},{"$f":"IF(G21<>\"\",IF(ISNA(IF(VLOOKUP(G21,$AI$8:$AV$29,14,FALSE)=\"\",\"\",((HLOOKUP(VLOOKUP(G21,$BA$10:$BB$20,2,FALSE),$S$128:$AF$133,6,FALSE)+IF(HLOOKUP(F114,$AJ$7:$AT$35,29,FALSE)=1,D19,0))/100+MIN(5000,M21)/500)/100)),H114,IF(VLOOKUP(G21,$AI$8:$AV$29,14,FALSE)=\"\",\"\",((HLOOKUP(VLOOKUP(G21,$BA$10:$BB$20,2,FALSE),$S$128:$AF$133,6,FALSE)+IF(HLOOKUP(F114,$AJ$7:$AT$35,29,FALSE)=1,D19,0))/100+MIN(5000,M21)/500)/100)),\"\")","v":""},null,null,null,null,null,null,null,null,{"$f":"G19","v":""},{"$f":"S107","v":"kit 1"},{"$f":"T107","v":"kit 2/3"},0,"kit 4",0,"kit 5","kit 6/7",0,0,"kit 8","kit 9",0,{"$f":"AE107","v":"kit 10"},{"$f":"AF107","v":"kit 11"},null,null,null,"",{"$f":"MIN((S87+AN35*D19)/AK46,(S88+AN35*D19)/AL46,(S89+AN35*D19)/AM46,(S90+AN35*D19)/AN46,(S91+AN35*D19)/AO46)*AP46","v":{"$error":"#VALUE!"}},{"$f":"MIN((T87+AN35*D19)/AK46,(T88+AN35*D19)/AL46,(T89+AN35*D19)/AM46,(T90+AN35*D19)/AN46,(T91+AN35*D19)/AO46)*AP46","v":{"$error":"#VALUE!"}},{"$f":"MIN((U87+AN35*D19)/AK46,(U88+AN35*D19)/AL46,(U89+AN35*D19)/AM46,(U90+AN35*D19)/AN46,(U91+AN35*D19)/AO46)*AP46","v":{"$error":"#VALUE!"}},{"$f":"MIN((V87+AN35*D19)/AK46,(V88+AN35*D19)/AL46,(V89+AN35*D19)/AM46,(V90+AN35*D19)/AN46,(V91+AN35*D19)/AO46)*AP46","v":{"$error":"#VALUE!"}},{"$f":"MIN((W87+AN35*D19)/AK46,(W88+AN35*D19)/AL46,(W89+AN35*D19)/AM46,(W90+AN35*D19)/AN46,(W91+AN35*D19)/AO46)*AP46","v":{"$error":"#VALUE!"}},{"$f":"MIN((X87+AN35*D19)/AK46,(X88+AN35*D19)/AL46,(X89+AN35*D19)/AM46,(X90+AN35*D19)/AN46,(X91+AN35*D19)/AO46)*AP46","v":{"$error":"#VALUE!"}},{"$f":"MIN((Y87+AN35*D19)/AK46,(Y88+AN35*D19)/AL46,(Y89+AN35*D19)/AM46,(Y90+AN35*D19)/AN46,(Y91+AN35*D19)/AO46)*AP46","v":{"$error":"#VALUE!"}},{"$f":"MIN((Z87+AN35*D19)/AK46,(Z88+AN35*D19)/AL46,(Z89+AN35*D19)/AM46,(Z90+AN35*D19)/AN46,(Z91+AN35*D19)/AO46)*AP46","v":{"$error":"#VALUE!"}},{"$f":"MIN((AA87+AN35*D19)/AK46,(AA88+AN35*D19)/AL46,(AA89+AN35*D19)/AM46,(AA90+AN35*D19)/AN46,(AA91+AN35*D19)/AO46)*AP46","v":{"$error":"#VALUE!"}},{"$f":"MIN((AB87+AN35*D19)/AK46,(AB88+AN35*D19)/AL46,(AB89+AN35*D19)/AM46,(AB90+AN35*D19)/AN46,(AB91+AN35*D19)/AO46)*AP46","v":{"$error":"#VALUE!"}},{"$f":"MIN((AC87+AN35*D19)/AK46,(AC88+AN35*D19)/AL46,(AC89+AN35*D19)/AM46,(AC90+AN35*D19)/AN46,(AC91+AN35*D19)/AO46)*AP46","v":{"$error":"#VALUE!"}},{"$f":"MIN((AD87+AN35*D19)/AK46,(AD88+AN35*D19)/AL46,(AD89+AN35*D19)/AM46,(AD90+AN35*D19)/AN46,(AD91+AN35*D19)/AO46)*AP46","v":{"$error":"#VALUE!"}},{"$f":"MIN((AE87+AN35*D19)/AK46,(AE88+AN35*D19)/AL46,(AE89+AN35*D19)/AM46,(AE90+AN35*D19)/AN46,(AE91+AN35*D19)/AO46)*AP46","v":{"$error":"#VALUE!"}},{"$f":"MIN((AF87+AN35*D19)/AK46,(AF88+AN35*D19)/AL46,(AF89+AN35*D19)/AM46,(AF90+AN35*D19)/AN46,(AF91+AN35*D19)/AO46)*AP46","v":{"$error":"#VALUE!"}},{"$error":"#VALUE!"},null,"",{"$f":"MIN((S87+AO35*D19)/AK47,(S88+AO35*D19)/AL47,(S89+AO35*D19)/AM47,(S90+AO35*D19)/AN47,(S91+AO35*D19)/AO47)*AP47","v":{"$error":"#VALUE!"}},{"$f":"MIN((T87+AO35*D19)/AK47,(T88+AO35*D19)/AL47,(T89+AO35*D19)/AM47,(T90+AO35*D19)/AN47,(T91+AO35*D19)/AO47)*AP47","v":{"$error":"#VALUE!"}},{"$f":"MIN((U87+AO35*D19)/AK47,(U88+AO35*D19)/AL47,(U89+AO35*D19)/AM47,(U90+AO35*D19)/AN47,(U91+AO35*D19)/AO47)*AP47","v":{"$error":"#VALUE!"}},{"$f":"MIN((V87+AO35*D19)/AK47,(V88+AO35*D19)/AL47,(V89+AO35*D19)/AM47,(V90+AO35*D19)/AN47,(V91+AO35*D19)/AO47)*AP47","v":{"$error":"#VALUE!"}},{"$f":"MIN((W87+AO35*D19)/AK47,(W88+AO35*D19)/AL47,(W89+AO35*D19)/AM47,(W90+AO35*D19)/AN47,(W91+AO35*D19)/AO47)*AP47","v":{"$error":"#VALUE!"}},{"$f":"MIN((X87+AO35*D19)/AK47,(X88+AO35*D19)/AL47,(X89+AO35*D19)/AM47,(X90+AO35*D19)/AN47,(X91+AO35*D19)/AO47)*AP47","v":{"$error":"#VALUE!"}},{"$f":"MIN((Y87+AO35*D19)/AK47,(Y88+AO35*D19)/AL47,(Y89+AO35*D19)/AM47,(Y90+AO35*D19)/AN47,(Y91+AO35*D19)/AO47)*AP47","v":{"$error":"#VALUE!"}},{"$f":"MIN((Z87+AO35*D19)/AK47,(Z88+AO35*D19)/AL47,(Z89+AO35*D19)/AM47,(Z90+AO35*D19)/AN47,(Z91+AO35*D19)/AO47)*AP47","v":{"$error":"#VALUE!"}},{"$f":"MIN((AA87+AO35*D19)/AK47,(AA88+AO35*D19)/AL47,(AA89+AO35*D19)/AM47,(AA90+AO35*D19)/AN47,(AA91+AO35*D19)/AO47)*AP47","v":{"$error":"#VALUE!"}},{"$f":"MIN((AB87+AO35*D19)/AK47,(AB88+AO35*D19)/AL47,(AB89+AO35*D19)/AM47,(AB90+AO35*D19)/AN47,(AB91+AO35*D19)/AO47)*AP47","v":{"$error":"#VALUE!"}},{"$f":"MIN((AC87+AO35*D19)/AK47,(AC88+AO35*D19)/AL47,(AC89+AO35*D19)/AM47,(AC90+AO35*D19)/AN47,(AC91+AO35*D19)/AO47)*AP47","v":{"$error":"#VALUE!"}},{"$f":"MIN((AD87+AO35*D19)/AK47,(AD88+AO35*D19)/AL47,(AD89+AO35*D19)/AM47,(AD90+AO35*D19)/AN47,(AD91+AO35*D19)/AO47)*AP47","v":{"$error":"#VALUE!"}},{"$f":"MIN((AE87+AO35*D19)/AK47,(AE88+AO35*D19)/AL47,(AE89+AO35*D19)/AM47,(AE90+AO35*D19)/AN47,(AE91+AO35*D19)/AO47)*AP47","v":{"$error":"#VALUE!"}},{"$f":"MIN((AF87+AO35*D19)/AK47,(AF88+AO35*D19)/AL47,(AF89+AO35*D19)/AM47,(AF90+AO35*D19)/AN47,(AF91+AO35*D19)/AO47)*AP47","v":{"$error":"#VALUE!"}},{"$error":"#VALUE!"},null,"",{"$error":"#VALUE!"},{"$error":"#VALUE!"},{"$error":"#VALUE!"},{"$error":"#VALUE!"},{"$error":"#VALUE!"},{"$error":"#VALUE!"},{"$error":"#VALUE!"},{"$error":"#VALUE!"},{"$error":"#VALUE!"},{"$error":"#VALUE!"},{"$error":"#VALUE!"},{"$error":"#VALUE!"},{"$error":"#VALUE!"},{"$error":"#VALUE!"},{"$error":"#VALUE!"},{"$error":"#VALUE!"},{"$error":"#VALUE!"},{"$error":"#VALUE!"},{"$error":"#VALUE!"},{"$error":"#VALUE!"},{"$error":"#VALUE!"},{"$error":"#VALUE!"},"-",null,null,null,null,"adversaire"]
[null,null,null,"CAP","",1,"",{"$f":"IF(G22<>\"\",IF(ISNA(IF(VLOOKUP(G22,$AI$8:$AV$33,14,FALSE)=\"\",\"\",(HLOOKUP(VLOOKUP(G22,$BA$10:$BB$20,2,FALSE),S135:AF140,6,FALSE)/100+MIN(5000,M22)/500)/100)),G115,IF(VLOOKUP(G22,$AI$8:$AV$33,14,FALSE)=\"\",\"\",(HLOOKUP(VLOOKUP(G22,$BA$10:$BB$20,2,FALSE),S135:AF140,6,FALSE)/100+MIN(5000,M22)/500)/100)),\"\")","v":""},{"$f":"IF(G22<>\"\",IF(ISNA(IF(VLOOKUP(G22,$AI$8:$AV$29,14,FALSE)=\"\",\"\",((HLOOKUP(VLOOKUP(G22,$BA$10:$BB$20,2,FALSE),$S$135:$AF$140,6,FALSE)+IF(HLOOKUP(F115,$AJ$7:$AT$35,29,FALSE)=1,D19,0))/100+MIN(5000,M22)/500)/100)),H115,IF(VLOOKUP(G22,$AI$8:$AV$29,14,FALSE)=\"\",\"\",((HLOOKUP(VLOOKUP(G22,$BA$10:$BB$20,2,FALSE),$S$135:$AF$140,6,FALSE)+IF(HLOOKUP(F115,$AJ$7:$AT$35,29,FALSE)=1,D19,0))/100+MIN(5000,M22)/500)/100)),\"\")","v":""},null,null,null,null,null,null,null,null,{"$f":"IF($AX$306,H19+VLOOKUP(Team!$X25,Team!$E$30:$J$300,6,FALSE),H19+AH39+$D$21)+$D$19*$AG$16","v":{"$error":"#VALUE!"}},{"$f":"IF($AX$306,$R115,$R115+Q10)","v":{"$error":"#VALUE!"}},{"$f":"IF($AX$306,$R115,$R115+R10)","v":{"$error":"#VALUE!"}},{"$error":"#VALUE!"},{"$error":"#VALUE!"},{"$error":"#VALUE!"},{"$error":"#VALUE!"},{"$error":"#VALUE!"},{"$error":"#VALUE!"},{"$error":"#VALUE!"},{"$error":"#VALUE!"},{"$error":"#VALUE!"},{"$error":"#VALUE!"},{"$error":"#VALUE!"},{"$error":"#VALUE!"},null,null,null,"",{"$f":"MIN((S94+AN35*D19)/AK46,(S95+AN35*D19)/AL46,(S96+AN35*D19)/AM46,(S97+AN35*D19)/AN46,(S98+AN35*D19)/AO46)*AP46","v":{"$error":"#VALUE!"}},{"$f":"MIN((T94+AN35*D19)/AK46,(T95+AN35*D19)/AL46,(T96+AN35*D19)/AM46,(T97+AN35*D19)/AN46,(T98+AN35*D19)/AO46)*AP46","v":{"$error":"#VALUE!"}},{"$f":"MIN((U94+AN35*D19)/AK46,(U95+AN35*D19)/AL46,(U96+AN35*D19)/AM46,(U97+AN35*D19)/AN46,(U98+AN35*D19)/AO46)*AP46","v":{"$error":"#VALUE!"}},{"$f":"MIN((V94+AN35*D19)/AK46,(V95+AN35*D19)/AL46,(V96+AN35*D19)/AM46,(V97+AN35*D19)/AN46,(V98+AN35*D19)/AO46)*AP46","v":{"$error":"#VALUE!"}},{"$f":"MIN((W94+AN35*D19)/AK46,(W95+AN35*D19)/AL46,(W96+AN35*D19)/AM46,(W97+AN35*D19)/AN46,(W98+AN35*D19)/AO46)*AP46","v":{"$error":"#VALUE!"}},{"$f":"MIN((X94+AN35*D19)/AK46,(X95+AN35*D19)/AL46,(X96+AN35*D19)/AM46,(X97+AN35*D19)/AN46,(X98+AN35*D19)/AO46)*AP46","v":{"$error":"#VALUE!"}},{"$f":"MIN((Y94+AN35*D19)/AK46,(Y95+AN35*D19)/AL46,(Y96+AN35*D19)/AM46,(Y97+AN35*D19)/AN46,(Y98+AN35*D19)/AO46)*AP46","v":{"$error":"#VALUE!"}},{"$f":"MIN((Z94+AN35*D19)/AK46,(Z95+AN35*D19)/AL46,(Z96+AN35*D19)/AM46,(Z97+AN35*D19)/AN46,(Z98+AN35*D19)/AO46)*AP46","v":{"$error":"#VALUE!"}},{"$f":"MIN((AA94+AN35*D19)/AK46,(AA95+AN35*D19)/AL46,(AA96+AN35*D19)/AM46,(AA97+AN35*D19)/AN46,(AA98+AN35*D19)/AO46)*AP46","v":{"$error":"#VALUE!"}},{"$f":"MIN((AB94+AN35*D19)/AK46,(AB95+AN35*D19)/AL46,(AB96+AN35*D19)/AM46,(AB97+AN35*D19)/AN46,(AB98+AN35*D19)/AO46)*AP46","v":{"$error":"#VALUE!"}},{"$f":"MIN((AC94+AN35*D19)/AK46,(AC95+AN35*D19)/AL46,(AC96+AN35*D19)/AM46,(AC97+AN35*D19)/AN46,(AC98+AN35*D19)/AO46)*AP46","v":{"$error":"#VALUE!"}},{"$f":"MIN((AD94+AN35*D19)/AK46,(AD95+AN35*D19)/AL46,(AD96+AN35*D19)/AM46,(AD97+AN35*D19)/AN46,(AD98+AN35*D19)/AO46)*AP46","v":{"$error":"#VALUE!"}},{"$f":"MIN((AE94+AN35*D19)/AK46,(AE95+AN35*D19)/AL46,(AE96+AN35*D19)/AM46,(AE97+AN35*D19)/AN46,(AE98+AN35*D19)/AO46)*AP46","v":{"$error":"#VALUE!"}},{"$f":"MIN((AF94+AN35*D19)/AK46,(AF95+AN35*D19)/AL46,(AF96+AN35*D19)/AM46,(AF97+AN35*D19)/AN46,(AF98+AN35*D19)/AO46)*AP46","v":{"$error":"#VALUE!"}},{"$error":"#VALUE!"},null,"",{"$f":"MIN((S94+AO35*D19)/AK47,(S95+AO35*D19)/AL47,(S96+AO35*D19)/AM47,(S97+AO35*D19)/AN47,(S98+AO35*D19)/AO47)*AP47","v":{"$error":"#VALUE!"}},{"$f":"MIN((T94+AO35*D19)/AK47,(T95+AO35*D19)/AL47,(T96+AO35*D19)/AM47,(T97+AO35*D19)/AN47,(T98+AO35*D19)/AO47)*AP47","v":{"$error":"#VALUE!"}},{"$f":"MIN((U94+AO35*D19)/AK47,(U95+AO35*D19)/AL47,(U96+AO35*D19)/AM47,(U97+AO35*D19)/AN47,(U98+AO35*D19)/AO47)*AP47","v":{"$error":"#VALUE!"}},{"$f":"MIN((V94+AO35*D19)/AK47,(V95+AO35*D19)/AL47,(V96+AO35*D19)/AM47,(V97+AO35*D19)/AN47,(V98+AO35*D19)/AO47)*AP47","v":{"$error":"#VALUE!"}},{"$f":"MIN((W94+AO35*D19)/AK47,(W95+AO35*D19)/AL47,(W96+AO35*D19)/AM47,(W97+AO35*D19)/AN47,(W98+AO35*D19)/AO47)*AP47","v":{"$error":"#VALUE!"}},{"$f":"MIN((X94+AO35*D19)/AK47,(X95+AO35*D19)/AL47,(X96+AO35*D19)/AM47,(X97+AO35*D19)/AN47,(X98+AO35*D19)/AO47)*AP47","v":{"$error":"#VALUE!"}},{"$f":"MIN((Y94+AO35*D19)/AK47,(Y95+AO35*D19)/AL47,(Y96+AO35*D19)/AM47,(Y97+AO35*D19)/AN47,(Y98+AO35*D19)/AO47)*AP47","v":{"$error":"#VALUE!"}},{"$f":"MIN((Z94+AO35*D19)/AK47,(Z95+AO35*D19)/AL47,(Z96+AO35*D19)/AM47,(Z97+AO35*D19)/AN47,(Z98+AO35*D19)/AO47)*AP47","v":{"$error":"#VALUE!"}},{"$f":"MIN((AA94+AO35*D19)/AK47,(AA95+AO35*D19)/AL47,(AA96+AO35*D19)/AM47,(AA97+AO35*D19)/AN47,(AA98+AO35*D19)/AO47)*AP47","v":{"$error":"#VALUE!"}},{"$f":"MIN((AB94+AO35*D19)/AK47,(AB95+AO35*D19)/AL47,(AB96+AO35*D19)/AM47,(AB97+AO35*D19)/AN47,(AB98+AO35*D19)/AO47)*AP47","v":{"$error":"#VALUE!"}},{"$f":"MIN((AC94+AO35*D19)/AK47,(AC95+AO35*D19)/AL47,(AC96+AO35*D19)/AM47,(AC97+AO35*D19)/AN47,(AC98+AO35*D19)/AO47)*AP47","v":{"$error":"#VALUE!"}},{"$f":"MIN((AD94+AO35*D19)/AK47,(AD95+AO35*D19)/AL47,(AD96+AO35*D19)/AM47,(AD97+AO35*D19)/AN47,(AD98+AO35*D19)/AO47)*AP47","v":{"$error":"#VALUE!"}},{"$f":"MIN((AE94+AO35*D19)/AK47,(AE95+AO35*D19)/AL47,(AE96+AO35*D19)/AM47,(AE97+AO35*D19)/AN47,(AE98+AO35*D19)/AO47)*AP47","v":{"$error":"#VALUE!"}},{"$f":"MIN((AF94+AO35*D19)/AK47,(AF95+AO35*D19)/AL47,(AF96+AO35*D19)/AM47,(AF97+AO35*D19)/AN47,(AF98+AO35*D19)/AO47)*AP47","v":{"$error":"#VALUE!"}},{"$error":"#VALUE!"},null,"",{"$error":"#VALUE!"},{"$error":"#VALUE!"},{"$error":"#VALUE!"},{"$error":"#VALUE!"},{"$error":"#VALUE!"},{"$error":"#VALUE!"},{"$error":"#VALUE!"},{"$error":"#VALUE!"},{"$error":"#VALUE!"},{"$error":"#VALUE!"},{"$error":"#VALUE!"},{"$error":"#VALUE!"},{"$error":"#VALUE!"},{"$error":"#VALUE!"},{"$error":"#VALUE!"},{"$error":"#VALUE!"},{"$error":"#VALUE!"},{"$error":"#VALUE!"},{"$error":"#VALUE!"},{"$error":"#VALUE!"},{"$error":"#VALUE!"},{"$error":"#VALUE!"},"-",null,null,null,null,541,null,null,null,null,null,null,null,null,null,null,null,433,null,null,null,null,null,null,null,null,null,null,null,352,null,null,null,null,null,null,null,null,null,null,null,442]
[null,null,null,"CAP","",1,"",{"$f":"IF(G23<>\"\",IF(ISNA(IF(VLOOKUP(G23,$AI$8:$AV$33,14,FALSE)=\"\",\"\",(HLOOKUP(VLOOKUP(G23,$BA$10:$BB$20,2,FALSE),S142:AF147,6,FALSE)/100+MIN(5000,M23)/500)/100)),G116,IF(VLOOKUP(G23,$AI$8:$AV$33,14,FALSE)=\"\",\"\",(HLOOKUP(VLOOKUP(G23,$BA$10:$BB$20,2,FALSE),S142:AF147,6,FALSE)/100+MIN(5000,M23)/500)/100)),\"\")","v":""},{"$f":"IF(G23<>\"\",IF(ISNA(IF(VLOOKUP(G23,$AI$8:$AV$29,14,FALSE)=\"\",\"\",((HLOOKUP(VLOOKUP(G23,$BA$10:$BB$20,2,FALSE),$S$142:$AF$147,6,FALSE)+IF(HLOOKUP(F116,$AJ$7:$AT$35,29,FALSE)=1,D19,0))/100+MIN(5000,M23)/500)/100)),H116,IF(VLOOKUP(G23,$AI$8:$AV$29,14,FALSE)=\"\",\"\",((HLOOKUP(VLOOKUP(G23,$BA$10:$BB$20,2,FALSE),$S$142:$AF$147,6,FALSE)+IF(HLOOKUP(F116,$AJ$7:$AT$35,29,FALSE)=1,D19,0))/100+MIN(5000,M23)/500)/100)),\"\")","v":""},null,null,null,null,null,null,null,null,{"$f":"IF($AX$306,I19+VLOOKUP(Team!$Y25,Team!$E$30:$J$300,6,FALSE),I19+AH40+$D$21)+$D$19*$AG$16","v":{"$error":"#VALUE!"}},{"$f":"IF($AX$306,$R116,$R116+Q11)","v":{"$error":"#VALUE!"}},{"$error":"#VALUE!"},{"$error":"#VALUE!"},{"$error":"#VALUE!"},{"$error":"#VALUE!"},{"$error":"#VALUE!"},{"$error":"#VALUE!"},{"$error":"#VALUE!"},{"$error":"#VALUE!"},{"$error":"#VALUE!"},{"$error":"#VALUE!"},{"$error":"#VALUE!"},{"$error":"#VALUE!"},{"$error":"#VALUE!"},null,null,null,"",{"$f":"MIN((S101+AN35*D19)/AK46,(S102+AN35*D19)/AL46,(S103+AN35*D19)/AM46,(S104+AN35*D19)/AN46,(S105+AN35*D19)/AO46)*AP46","v":{"$error":"#VALUE!"}},{"$f":"MIN((T101+AN35*D19)/AK46,(T102+AN35*D19)/AL46,(T103+AN35*D19)/AM46,(T104+AN35*D19)/AN46,(T105+AN35*D19)/AO46)*AP46","v":{"$error":"#VALUE!"}},{"$f":"MIN((U101+AN35*D19)/AK46,(U102+AN35*D19)/AL46,(U103+AN35*D19)/AM46,(U104+AN35*D19)/AN46,(U105+AN35*D19)/AO46)*AP46","v":{"$error":"#VALUE!"}},{"$f":"MIN((V101+AN35*D19)/AK46,(V102+AN35*D19)/AL46,(V103+AN35*D19)/AM46,(V104+AN35*D19)/AN46,(V105+AN35*D19)/AO46)*AP46","v":{"$error":"#VALUE!"}},{"$f":"MIN((W101+AN35*D19)/AK46,(W102+AN35*D19)/AL46,(W103+AN35*D19)/AM46,(W104+AN35*D19)/AN46,(W105+AN35*D19)/AO46)*AP46","v":{"$error":"#VALUE!"}},{"$f":"MIN((X101+AN35*D19)/AK46,(X102+AN35*D19)/AL46,(X103+AN35*D19)/AM46,(X104+AN35*D19)/AN46,(X105+AN35*D19)/AO46)*AP46","v":{"$error":"#VALUE!"}},{"$f":"MIN((Y101+AN35*D19)/AK46,(Y102+AN35*D19)/AL46,(Y103+AN35*D19)/AM46,(Y104+AN35*D19)/AN46,(Y105+AN35*D19)/AO46)*AP46","v":{"$error":"#VALUE!"}},{"$f":"MIN((Z101+AN35*D19)/AK46,(Z102+AN35*D19)/AL46,(Z103+AN35*D19)/AM46,(Z104+AN35*D19)/AN46,(Z105+AN35*D19)/AO46)*AP46","v":{"$error":"#VALUE!"}},{"$f":"MIN((AA101+AN35*D19)/AK46,(AA102+AN35*D19)/AL46,(AA103+AN35*D19)/AM46,(AA104+AN35*D19)/AN46,(AA105+AN35*D19)/AO46)*AP46","v":{"$error":"#VALUE!"}},{"$f":"MIN((AB101+AN35*D19)/AK46,(AB102+AN35*D19)/AL46,(AB103+AN35*D19)/AM46,(AB104+AN35*D19)/AN46,(AB105+AN35*D19)/AO46)*AP46","v":{"$error":"#VALUE!"}},{"$f":"MIN((AC101+AN35*D19)/AK46,(AC102+AN35*D19)/AL46,(AC103+AN35*D19)/AM46,(AC104+AN35*D19)/AN46,(AC105+AN35*D19)/AO46)*AP46","v":{"$error":"#VALUE!"}},{"$f":"MIN((AD101+AN35*D19)/AK46,(AD102+AN35*D19)/AL46,(AD103+AN35*D19)/AM46,(AD104+AN35*D19)/AN46,(AD105+AN35*D19)/AO46)*AP46","v":{"$error":"#VALUE!"}},{"$f":"MIN((AE101+AN35*D19)/AK46,(AE102+AN35*D19)/AL46,(AE103+AN35*D19)/AM46,(AE104+AN35*D19)/AN46,(AE105+AN35*D19)/AO46)*AP46","v":{"$error":"#VALUE!"}},{"$f":"MIN((AF101+AN35*D19)/AK46,(AF102+AN35*D19)/AL46,(AF103+AN35*D19)/AM46,(AF104+AN35*D19)/AN46,(AF105+AN35*D19)/AO46)*AP46","v":{"$error":"#VALUE!"}},{"$error":"#VALUE!"},null,"",{"$f":"MIN((S101+AO35*D19)/AK47,(S102+AO35*D19)/AL47,(S103+AO35*D19)/AM47,(S104+AO35*D19)/AN47,(S105+AO35*D19)/AO47)*AP47","v":{"$error":"#VALUE!"}},{"$f":"MIN((T101+AO35*D19)/AK47,(T102+AO35*D19)/AL47,(T103+AO35*D19)/AM47,(T104+AO35*D19)/AN47,(T105+AO35*D19)/AO47)*AP47","v":{"$error":"#VALUE!"}},{"$f":"MIN((U101+AO35*D19)/AK47,(U102+AO35*D19)/AL47,(U103+AO35*D19)/AM47,(U104+AO35*D19)/AN47,(U105+AO35*D19)/AO47)*AP47","v":{"$error":"#VALUE!"}},{"$f":"MIN((V101+AO35*D19)/AK47,(V102+AO35*D19)/AL47,(V103+AO35*D19)/AM47,(V104+AO35*D19)/AN47,(V105+AO35*D19)/AO47)*AP47","v":{"$error":"#VALUE!"}},{"$f":"MIN((W101+AO35*D19)/AK47,(W102+AO35*D19)/AL47,(W103+AO35*D19)/AM47,(W104+AO35*D19)/AN47,(W105+AO35*D19)/AO47)*AP47","v":{"$error":"#VALUE!"}},{"$f":"MIN((X101+AO35*D19)/AK47,(X102+AO35*D19)/AL47,(X103+AO35*D19)/AM47,(X104+AO35*D19)/AN47,(X105+AO35*D19)/AO47)*AP47","v":{"$error":"#VALUE!"}},{"$f":"MIN((Y101+AO35*D19)/AK47,(Y102+AO35*D19)/AL47,(Y103+AO35*D19)/AM47,(Y104+AO35*D19)/AN47,(Y105+AO35*D19)/AO47)*AP47","v":{"$error":"#VALUE!"}},{"$f":"MIN((Z101+AO35*D19)/AK47,(Z102+AO35*D19)/AL47,(Z103+AO35*D19)/AM47,(Z104+AO35*D19)/AN47,(Z105+AO35*D19)/AO47)*AP47","v":{"$error":"#VALUE!"}},{"$f":"MIN((AA101+AO35*D19)/AK47,(AA102+AO35*D19)/AL47,(AA103+AO35*D19)/AM47,(AA104+AO35*D19)/AN47,(AA105+AO35*D19)/AO47)*AP47","v":{"$error":"#VALUE!"}},{"$f":"MIN((AB101+AO35*D19)/AK47,(AB102+AO35*D19)/AL47,(AB103+AO35*D19)/AM47,(AB104+AO35*D19)/AN47,(AB105+AO35*D19)/AO47)*AP47","v":{"$error":"#VALUE!"}},{"$f":"MIN((AC101+AO35*D19)/AK47,(AC102+AO35*D19)/AL47,(AC103+AO35*D19)/AM47,(AC104+AO35*D19)/AN47,(AC105+AO35*D19)/AO47)*AP47","v":{"$error":"#VALUE!"}},{"$f":"MIN((AD101+AO35*D19)/AK47,(AD102+AO35*D19)/AL47,(AD103+AO35*D19)/AM47,(AD104+AO35*D19)/AN47,(AD105+AO35*D19)/AO47)*AP47","v":{"$error":"#VALUE!"}},{"$f":"MIN((AE101+AO35*D19)/AK47,(AE102+AO35*D19)/AL47,(AE103+AO35*D19)/AM47,(AE104+AO35*D19)/AN47,(AE105+AO35*D19)/AO47)*AP47","v":{"$error":"#VALUE!"}},{"$f":"MIN((AF101+AO35*D19)/AK47,(AF102+AO35*D19)/AL47,(AF103+AO35*D19)/AM47,(AF104+AO35*D19)/AN47,(AF105+AO35*D19)/AO47)*AP47","v":{"$error":"#VALUE!"}},{"$error":"#VALUE!"},null,"",{"$error":"#VALUE!"},{"$error":"#VALUE!"},{"$error":"#VALUE!"},{"$error":"#VALUE!"},{"$error":"#VALUE!"},{"$error":"#VALUE!"},{"$error":"#VALUE!"},{"$error":"#VALUE!"},{"$error":"#VALUE!"},{"$error":"#VALUE!"},{"$error":"#VALUE!"},{"$error":"#VALUE!"},{"$error":"#VALUE!"},{"$error":"#VALUE!"},{"$error":"#VALUE!"},{"$error":"#VALUE!"},{"$error":"#VALUE!"},{"$error":"#VALUE!"},{"$error":"#VALUE!"},{"$error":"#VALUE!"},{"$error":"#VALUE!"},{"$error":"#VALUE!"},"-",null,null,null,null,"def",null,null,null,"neutre",null,null,null,"off",null,null,null,"def",null,null,null,"neutre",null,null,null,"off",null,null,null,"def",null,null,null,"neutre",null,null,null,"off",null,null,null,"def",null,null,null,"neutre",null,null,null,"off"]
[null,null,null,"CAP","",1,"",{"$f":"IF(G24<>\"\",IF(ISNA(IF(VLOOKUP(G24,$AI$8:$AV$33,14,FALSE)=\"\",\"\",(HLOOKUP(VLOOKUP(G24,$BA$10:$BB$20,2,FALSE),S149:AF154,6,FALSE)/100+MIN(5000,M24)/500)/100)),G117,IF(VLOOKUP(G24,$AI$8:$AV$33,14,FALSE)=\"\",\"\",(HLOOKUP(VLOOKUP(G24,$BA$10:$BB$20,2,FALSE),S149:AF154,6,FALSE)/100+MIN(5000,M24)/500)/100)),\"\")","v":""},{"$f":"IF(G24<>\"\",IF(ISNA(IF(VLOOKUP(G24,$AI$8:$AV$29,14,FALSE)=\"\",\"\",((HLOOKUP(VLOOKUP(G24,$BA$10:$BB$20,2,FALSE),$S$149:$AF$154,6,FALSE)+IF(HLOOKUP(F117,$AJ$7:$AT$35,29,FALSE)=1,D19,0))/100+MIN(5000,M24)/500)/100)),H117,IF(VLOOKUP(G24,$AI$8:$AV$29,14,FALSE)=\"\",\"\",((HLOOKUP(VLOOKUP(G24,$BA$10:$BB$20,2,FALSE),$S$149:$AF$154,6,FALSE)+IF(HLOOKUP(F117,$AJ$7:$AT$35,29,FALSE)=1,D19,0))/100+MIN(5000,M24)/500)/100)),\"\")","v":""},null,null,null,null,null,null,null,null,{"$f":"IF($AX$306,J19+VLOOKUP(Team!$Z25,Team!$E$30:$J$300,6,FALSE),J19+AH41+$D$21)+$D$19*$AG$16","v":{"$error":"#VALUE!"}},{"$f":"IF($AX$306,$R117,$R117+Q12)","v":{"$error":"#VALUE!"}},{"$error":"#VALUE!"},{"$error":"#VALUE!"},{"$error":"#VALUE!"},{"$error":"#VALUE!"},{"$error":"#VALUE!"},{"$error":"#VALUE!"},{"$error":"#VALUE!"},{"$error":"#VALUE!"},{"$error":"#VALUE!"},{"$error":"#VALUE!"},{"$error":"#VALUE!"},{"$error":"#VALUE!"},{"$error":"#VALUE!"},null,null,null,"",{"$f":"MIN((S108+AN35*D19)/AK46,(S109+AN35*D19)/AL46,(S110+AN35*D19)/AM46,(S111+AN35*D19)/AN46,(S112+AN35*D19)/AO46)*AP46","v":{"$error":"#VALUE!"}},{"$f":"MIN((T108+AN35*D19)/AK46,(T109+AN35*D19)/AL46,(T110+AN35*D19)/AM46,(T111+AN35*D19)/AN46,(T112+AN35*D19)/AO46)*AP46","v":{"$error":"#VALUE!"}},{"$f":"MIN((U108+AN35*D19)/AK46,(U109+AN35*D19)/AL46,(U110+AN35*D19)/AM46,(U111+AN35*D19)/AN46,(U112+AN35*D19)/AO46)*AP46","v":{"$error":"#VALUE!"}},{"$f":"MIN((V108+AN35*D19)/AK46,(V109+AN35*D19)/AL46,(V110+AN35*D19)/AM46,(V111+AN35*D19)/AN46,(V112+AN35*D19)/AO46)*AP46","v":{"$error":"#VALUE!"}},{"$f":"MIN((W108+AN35*D19)/AK46,(W109+AN35*D19)/AL46,(W110+AN35*D19)/AM46,(W111+AN35*D19)/AN46,(W112+AN35*D19)/AO46)*AP46","v":{"$error":"#VALUE!"}},{"$f":"MIN((X108+AN35*D19)/AK46,(X109+AN35*D19)/AL46,(X110+AN35*D19)/AM46,(X111+AN35*D19)/AN46,(X112+AN35*D19)/AO46)*AP46","v":{"$error":"#VALUE!"}},{"$f":"MIN((Y108+AN35*D19)/AK46,(Y109+AN35*D19)/AL46,(Y110+AN35*D19)/AM46,(Y111+AN35*D19)/AN46,(Y112+AN35*D19)/AO46)*AP46","v":{"$error":"#VALUE!"}},{"$f":"MIN((Z108+AN35*D19)/AK46,(Z109+AN35*D19)/AL46,(Z110+AN35*D19)/AM46,(Z111+AN35*D19)/AN46,(Z112+AN35*D19)/AO46)*AP46","v":{"$error":"#VALUE!"}},{"$f":"MIN((AA108+AN35*D19)/AK46,(AA109+AN35*D19)/AL46,(AA110+AN35*D19)/AM46,(AA111+AN35*D19)/AN46,(AA112+AN35*D19)/AO46)*AP46","v":{"$error":"#VALUE!"}},{"$f":"MIN((AB108+AN35*D19)/AK46,(AB109+AN35*D19)/AL46,(AB110+AN35*D19)/AM46,(AB111+AN35*D19)/AN46,(AB112+AN35*D19)/AO46)*AP46","v":{"$error":"#VALUE!"}},{"$f":"MIN((AC108+AN35*D19)/AK46,(AC109+AN35*D19)/AL46,(AC110+AN35*D19)/AM46,(AC111+AN35*D19)/AN46,(AC112+AN35*D19)/AO46)*AP46","v":{"$error":"#VALUE!"}},{"$f":"MIN((AD108+AN35*D19)/AK46,(AD109+AN35*D19)/AL46,(AD110+AN35*D19)/AM46,(AD111+AN35*D19)/AN46,(AD112+AN35*D19)/AO46)*AP46","v":{"$error":"#VALUE!"}},{"$f":"MIN((AE108+AN35*D19)/AK46,(AE109+AN35*D19)/AL46,(AE110+AN35*D19)/AM46,(AE111+AN35*D19)/AN46,(AE112+AN35*D19)/AO46)*AP46","v":{"$error":"#VALUE!"}},{"$f":"MIN((AF108+AN35*D19)/AK46,(AF109+AN35*D19)/AL46,(AF110+AN35*D19)/AM46,(AF111+AN35*D19)/AN46,(AF112+AN35*D19)/AO46)*AP46","v":{"$error":"#VALUE!"}},{"$error":"#VALUE!"},null,"",{"$f":"MIN((S108+AO35*D19)/AK47,(S109+AO35*D19)/AL47,(S110+AO35*D19)/AM47,(S111+AO35*D19)/AN47,(S112+AO35*D19)/AO47)*AP47","v":{"$error":"#VALUE!"}},{"$f":"MIN((T108+AO35*D19)/AK47,(T109+AO35*D19)/AL47,(T110+AO35*D19)/AM47,(T111+AO35*D19)/AN47,(T112+AO35*D19)/AO47)*AP47","v":{"$error":"#VALUE!"}},{"$f":"MIN((U108+AO35*D19)/AK47,(U109+AO35*D19)/AL47,(U110+AO35*D19)/AM47,(U111+AO35*D19)/AN47,(U112+AO35*D19)/AO47)*AP47","v":{"$error":"#VALUE!"}},{"$f":"MIN((V108+AO35*D19)/AK47,(V109+AO35*D19)/AL47,(V110+AO35*D19)/AM47,(V111+AO35*D19)/AN47,(V112+AO35*D19)/AO47)*AP47","v":{"$error":"#VALUE!"}},{"$f":"MIN((W108+AO35*D19)/AK47,(W109+AO35*D19)/AL47,(W110+AO35*D19)/AM47,(W111+AO35*D19)/AN47,(W112+AO35*D19)/AO47)*AP47","v":{"$error":"#VALUE!"}},{"$f":"MIN((X108+AO35*D19)/AK47,(X109+AO35*D19)/AL47,(X110+AO35*D19)/AM47,(X111+AO35*D19)/AN47,(X112+AO35*D19)/AO47)*AP47","v":{"$error":"#VALUE!"}},{"$f":"MIN((Y108+AO35*D19)/AK47,(Y109+AO35*D19)/AL47,(Y110+AO35*D19)/AM47,(Y111+AO35*D19)/AN47,(Y112+AO35*D19)/AO47)*AP47","v":{"$error":"#VALUE!"}},{"$f":"MIN((Z108+AO35*D19)/AK47,(Z109+AO35*D19)/AL47,(Z110+AO35*D19)/AM47,(Z111+AO35*D19)/AN47,(Z112+AO35*D19)/AO47)*AP47","v":{"$error":"#VALUE!"}},{"$f":"MIN((AA108+AO35*D19)/AK47,(AA109+AO35*D19)/AL47,(AA110+AO35*D19)/AM47,(AA111+AO35*D19)/AN47,(AA112+AO35*D19)/AO47)*AP47","v":{"$error":"#VALUE!"}},{"$f":"MIN((AB108+AO35*D19)/AK47,(AB109+AO35*D19)/AL47,(AB110+AO35*D19)/AM47,(AB111+AO35*D19)/AN47,(AB112+AO35*D19)/AO47)*AP47","v":{"$error":"#VALUE!"}},{"$f":"MIN((AC108+AO35*D19)/AK47,(AC109+AO35*D19)/AL47,(AC110+AO35*D19)/AM47,(AC111+AO35*D19)/AN47,(AC112+AO35*D19)/AO47)*AP47","v":{"$error":"#VALUE!"}},{"$f":"MIN((AD108+AO35*D19)/AK47,(AD109+AO35*D19)/AL47,(AD110+AO35*D19)/AM47,(AD111+AO35*D19)/AN47,(AD112+AO35*D19)/AO47)*AP47","v":{"$error":"#VALUE!"}},{"$f":"MIN((AE108+AO35*D19)/AK47,(AE109+AO35*D19)/AL47,(AE110+AO35*D19)/AM47,(AE111+AO35*D19)/AN47,(AE112+AO35*D19)/AO47)*AP47","v":{"$error":"#VALUE!"}},{"$f":"MIN((AF108+AO35*D19)/AK47,(AF109+AO35*D19)/AL47,(AF110+AO35*D19)/AM47,(AF111+AO35*D19)/AN47,(AF112+AO35*D19)/AO47)*AP47","v":{"$error":"#VALUE!"}},{"$error":"#VALUE!"},null,"",{"$error":"#VALUE!"},{"$error":"#VALUE!"},{"$error":"#VALUE!"},{"$error":"#VALUE!"},{"$error":"#VALUE!"},{"$error":"#VALUE!"},{"$error":"#VALUE!"},{"$error":"#VALUE!"},{"$error":"#VALUE!"},{"$error":"#VALUE!"},{"$error":"#VALUE!"},{"$error":"#VALUE!"},{"$error":"#VALUE!"},{"$error":"#VALUE!"},{"$error":"#VALUE!"},{"$error":"#VALUE!"},{"$error":"#VALUE!"},{"$error":"#VALUE!"},{"$error":"#VALUE!"},{"$error":"#VALUE!"},{"$error":"#VALUE!"},{"$error":"#VALUE!"},"-",null,"Mon équipe",541,"def",{"$f":"IF(CJ99>1,CU117,CW117)","v":{"$error":"#VALUE!"}},{"$f":"IF(CK99<1,$BZ$80,CV117)","v":{"$error":"#VALUE!"}},{"$f":"IF(CL99>0,$BZ$80,$BZ$81)","v":{"$error":"#VALUE!"}},{"$f":"IF(CK99>1,$BZ$81,$BZ$79)","v":{"$error":"#VALUE!"}},{"$f":"IF(CM99>1,CY117,DA117)","v":{"$error":"#VALUE!"}},{"$f":"IF(CN99<1,$BZ$80,CZ117)","v":{"$error":"#VALUE!"}},{"$f":"IF(CO99>0,$BZ$80,$BZ$81)","v":{"$error":"#VALUE!"}},{"$f":"IF(CN99>1,$BZ$81,$BZ$79)","v":{"$error":"#VALUE!"}},{"$f":"IF(CP99>1,DC117,DE117)","v":{"$error":"#VALUE!"}},{"$f":"IF(CQ99<1,$BZ$80,DD117)","v":{"$error":"#VALUE!"}},{"$f":"IF(CR99>0,$BZ$80,$BZ$81)","v":{"$error":"#VALUE!"}},{"$f":"IF(CQ99>1,$BZ$81,$BZ$79)","v":{"$error":"#VALUE!"}},{"$f":"IF(CS99>1,DG117,DI117)","v":{"$error":"#VALUE!"}},{"$f":"IF(CT99<1,$BZ$80,DH117)","v":{"$error":"#VALUE!"}},{"$f":"IF(CU99>0,$BZ$80,$BZ$81)","v":{"$error":"#VALUE!"}},{"$f":"IF(CT99>1,$BZ$81,$BZ$79)","v":{"$error":"#VALUE!"}},{"$f":"IF(CV99>1,DK117,DM117)","v":{"$error":"#VALUE!"}},{"$f":"IF(CW99<1,$BZ$80,DL117)","v":{"$error":"#VALUE!"}},{"$f":"IF(CX99>0,$BZ$80,$BZ$81)","v":{"$error":"#VALUE!"}},{"$f":"IF(CW99>1,$BZ$81,$BZ$79)","v":{"$error":"#VALUE!"}},{"$f":"IF(CY99>1,DO117,DQ117)","v":{"$error":"#VALUE!"}},{"$f":"IF(CZ99<1,$BZ$80,DP117)","v":{"$error":"#VALUE!"}},{"$f":"IF(DA99>0,$BZ$80,$BZ$81)","v":{"$error":"#VALUE!"}},{"$f":"IF(CZ99>1,$BZ$81,$BZ$79)","v":{"$error":"#VALUE!"}},{"$f":"IF(DB99>1,DS117,DU117)","v":{"$error":"#VALUE!"}},{"$f":"IF(DC99<1,$BZ$80,DT117)","v":{"$error":"#VALUE!"}},{"$f":"IF(DD99>0,$BZ$80,$BZ$81)","v":{"$error":"#VALUE!"}},{"$f":"IF(DC99>1,$BZ$81,$BZ$79)","v":{"$error":"#VALUE!"}},{"$f":"IF(DE99>1,DW117,DY117)","v":{"$error":"#VALUE!"}},{"$f":"IF(DF99<1,$BZ$80,DX117)","v":{"$error":"#VALUE!"}},{"$f":"IF(DG99>0,$BZ$80,$BZ$81)","v":{"$error":"#VALUE!"}},{"$f":"IF(DF99>1,$BZ$81,$BZ$79)","v":{"$error":"#VALUE!"}},{"$f":"IF(DH99>1,EA117,EC117)","v":{"$error":"#VALUE!"}},{"$f":"IF(DI99<1,$BZ$80,EB117)","v":{"$error":"#VALUE!"}},{"$f":"IF(DJ99>0,$BZ$80,$BZ$81)","v":{"$error":"#VALUE!"}},{"$f":"IF(DI99>1,$BZ$81,$BZ$79)","v":{"$error":"#VALUE!"}},{"$f":"IF(DK99>1,EE117,EG117)","v":{"$error":"#VALUE!"}},{"$f":"IF(DL99<1,$BZ$80,EF117)","v":{"$error":"#VALUE!"}},{"$f":"IF(DM99>0,$BZ$80,$BZ$81)","v":{"$error":"#VALUE!"}},{"$f":"IF(DL99>1,$BZ$81,$BZ$79)","v":{"$error":"#VALUE!"}},{"$f":"IF(DN99>1,EI117,EK117)","v":{"$error":"#VALUE!"}},{"$f":"IF(DO99<1,$BZ$80,EJ117)","v":{"$error":"#VALUE!"}},{"$f":"IF(DP99>0,$BZ$80,$BZ$81)","v":{"$error":"#VALUE!"}},{"$f":"IF(DO99>1,$BZ$81,$BZ$79)","v":{"$error":"#VALUE!"}},{"$f":"IF(DQ99>1,EM117,EO117)","v":{"$error":"#VALUE!"}},{"$f":"IF(DR99<1,$BZ$80,EN117)","v":{"$error":"#VALUE!"}},{"$f":"IF(DS99>0,$BZ$80,$BZ$81)","v":{"$error":"#VALUE!"}},{"$f":"IF(DR99>1,$BZ$81,$BZ$79)","v":{"$error":"#VALUE!"}}]
[null,null,null,"CAP","",1,"",{"$f":"IF(G25<>\"\",IF(ISNA(IF(VLOOKUP(G25,$AI$8:$AV$33,14,FALSE)=\"\",\"\",(HLOOKUP(VLOOKUP(G25,$BA$10:$BB$20,2,FALSE),S156:AF161,6,FALSE)/100+MIN(5000,M25)/500)/100)),G118,IF(VLOOKUP(G25,$AI$8:$AV$33,14,FALSE)=\"\",\"\",(HLOOKUP(VLOOKUP(G25,$BA$10:$BB$20,2,FALSE),S156:AF161,6,FALSE)/100+MIN(5000,M25)/500)/100)),\"\")","v":""},{"$f":"IF(G25<>\"\",IF(ISNA(IF(VLOOKUP(G25,$AI$8:$AV$29,14,FALSE)=\"\",\"\",((HLOOKUP(VLOOKUP(G25,$BA$10:$BB$20,2,FALSE),$S$156:$AF$161,6,FALSE)+IF(HLOOKUP(F118,$AJ$7:$AT$35,29,FALSE)=1,D19,0))/100+MIN(5000,M25)/500)/100)),H118,IF(VLOOKUP(G25,$AI$8:$AV$29,14,FALSE)=\"\",\"\",((HLOOKUP(VLOOKUP(G25,$BA$10:$BB$20,2,FALSE),$S$156:$AF$161,6,FALSE)+IF(HLOOKUP(F118,$AJ$7:$AT$35,29,FALSE)=1,D19,0))/100+MIN(5000,M25)/500)/100)),\"\")","v":""},null,null,null,null,null,null,null,null,{"$f":"IF($AX$306,K19+VLOOKUP(Team!$AA25,Team!$E$30:$J$300,6,FALSE),K19+AH42+$D$21)+$D$19*$AG$16","v":{"$error":"#VALUE!"}},{"$f":"IF($AX$306,$R118,$R118+Q13)","v":{"$error":"#VALUE!"}},{"$error":"#VALUE!"},{"$error":"#VALUE!"},{"$error":"#VALUE!"},{"$error":"#VALUE!"},{"$error":"#VALUE!"},{"$error":"#VALUE!"},{"$error":"#VALUE!"},{"$error":"#VALUE!"},{"$error":"#VALUE!"},{"$error":"#VALUE!"},{"$error":"#VALUE!"},{"$error":"#VALUE!"},{"$error":"#VALUE!"},null,null,null,"",{"$f":"MIN((S115+AN35*D19)/AK46,(S116+AN35*D19)/AL46,(S117+AN35*D19)/AM46,(S118+AN35*D19)/AN46,(S119+AN35*D19)/AO46)*AP46","v":{"$error":"#VALUE!"}},{"$f":"MIN((T115+AN35*D19)/AK46,(T116+AN35*D19)/AL46,(T117+AN35*D19)/AM46,(T118+AN35*D19)/AN46,(T119+AN35*D19)/AO46)*AP46","v":{"$error":"#VALUE!"}},{"$f":"MIN((U115+AN35*D19)/AK46,(U116+AN35*D19)/AL46,(U117+AN35*D19)/AM46,(U118+AN35*D19)/AN46,(U119+AN35*D19)/AO46)*AP46","v":{"$error":"#VALUE!"}},{"$f":"MIN((V115+AN35*D19)/AK46,(V116+AN35*D19)/AL46,(V117+AN35*D19)/AM46,(V118+AN35*D19)/AN46,(V119+AN35*D19)/AO46)*AP46","v":{"$error":"#VALUE!"}},{"$f":"MIN((W115+AN35*D19)/AK46,(W116+AN35*D19)/AL46,(W117+AN35*D19)/AM46,(W118+AN35*D19)/AN46,(W119+AN35*D19)/AO46)*AP46","v":{"$error":"#VALUE!"}},{"$f":"MIN((X115+AN35*D19)/AK46,(X116+AN35*D19)/AL46,(X117+AN35*D19)/AM46,(X118+AN35*D19)/AN46,(X119+AN35*D19)/AO46)*AP46","v":{"$error":"#VALUE!"}},{"$f":"MIN((Y115+AN35*D19)/AK46,(Y116+AN35*D19)/AL46,(Y117+AN35*D19)/AM46,(Y118+AN35*D19)/AN46,(Y119+AN35*D19)/AO46)*AP46","v":{"$error":"#VALUE!"}},{"$f":"MIN((Z115+AN35*D19)/AK46,(Z116+AN35*D19)/AL46,(Z117+AN35*D19)/AM46,(Z118+AN35*D19)/AN46,(Z119+AN35*D19)/AO46)*AP46","v":{"$error":"#VALUE!"}},{"$f":"MIN((AA115+AN35*D19)/AK46,(AA116+AN35*D19)/AL46,(AA117+AN35*D19)/AM46,(AA118+AN35*D19)/AN46,(AA119+AN35*D19)/AO46)*AP46","v":{"$error":"#VALUE!"}},{"$f":"MIN((AB115+AN35*D19)/AK46,(AB116+AN35*D19)/AL46,(AB117+AN35*D19)/AM46,(AB118+AN35*D19)/AN46,(AB119+AN35*D19)/AO46)*AP46","v":{"$error":"#VALUE!"}},{"$f":"MIN((AC115+AN35*D19)/AK46,(AC116+AN35*D19)/AL46,(AC117+AN35*D19)/AM46,(AC118+AN35*D19)/AN46,(AC119+AN35*D19)/AO46)*AP46","v":{"$error":"#VALUE!"}},{"$f":"MIN((AD115+AN35*D19)/AK46,(AD116+AN35*D19)/AL46,(AD117+AN35*D19)/AM46,(AD118+AN35*D19)/AN46,(AD119+AN35*D19)/AO46)*AP46","v":{"$error":"#VALUE!"}},{"$f":"MIN((AE115+AN35*D19)/AK46,(AE116+AN35*D19)/AL46,(AE117+AN35*D19)/AM46,(AE118+AN35*D19)/AN46,(AE119+AN35*D19)/AO46)*AP46","v":{"$error":"#VALUE!"}},{"$f":"MIN((AF115+AN35*D19)/AK46,(AF116+AN35*D19)/AL46,(AF117+AN35*D19)/AM46,(AF118+AN35*D19)/AN46,(AF119+AN35*D19)/AO46)*AP46","v":{"$error":"#VALUE!"}},{"$error":"#VALUE!"},null,"",{"$f":"MIN((S115+AO35*D19)/AK47,(S116+AO35*D19)/AL47,(S117+AO35*D19)/AM47,(S118+AO35*D19)/AN47,(S119+AO35*D19)/AO47)*AP47","v":{"$error":"#VALUE!"}},{"$f":"MIN((T115+AO35*D19)/AK47,(T116+AO35*D19)/AL47,(T117+AO35*D19)/AM47,(T118+AO35*D19)/AN47,(T119+AO35*D19)/AO47)*AP47","v":{"$error":"#VALUE!"}},{"$f":"MIN((U115+AO35*D19)/AK47,(U116+AO35*D19)/AL47,(U117+AO35*D19)/AM47,(U118+AO35*D19)/AN47,(U119+AO35*D19)/AO47)*AP47","v":{"$error":"#VALUE!"}},{"$f":"MIN((V115+AO35*D19)/AK47,(V116+AO35*D19)/AL47,(V117+AO35*D19)/AM47,(V118+AO35*D19)/AN47,(V119+AO35*D19)/AO47)*AP47","v":{"$error":"#VALUE!"}},{"$f":"MIN((W115+AO35*D19)/AK47,(W116+AO35*D19)/AL47,(W117+AO35*D19)/AM47,(W118+AO35*D19)/AN47,(W119+AO35*D19)/AO47)*AP47","v":{"$error":"#VALUE!"}},{"$f":"MIN((X115+AO35*D19)/AK47,(X116+AO35*D19)/AL47,(X117+AO35*D19)/AM47,(X118+AO35*D19)/AN47,(X119+AO35*D19)/AO47)*AP47","v":{"$error":"#VALUE!"}},{"$f":"MIN((Y115+AO35*D19)/AK47,(Y116+AO35*D19)/AL47,(Y117+AO35*D19)/AM47,(Y118+AO35*D19)/AN47,(Y119+AO35*D19)/AO47)*AP47","v":{"$error":"#VALUE!"}},{"$f":"MIN((Z115+AO35*D19)/AK47,(Z116+AO35*D19)/AL47,(Z117+AO35*D19)/AM47,(Z118+AO35*D19)/AN47,(Z119+AO35*D19)/AO47)*AP47","v":{"$error":"#VALUE!"}},{"$f":"MIN((AA115+AO35*D19)/AK47,(AA116+AO35*D19)/AL47,(AA117+AO35*D19)/AM47,(AA118+AO35*D19)/AN47,(AA119+AO35*D19)/AO47)*AP47","v":{"$error":"#VALUE!"}},{"$f":"MIN((AB115+AO35*D19)/AK47,(AB116+AO35*D19)/AL47,(AB117+AO35*D19)/AM47,(AB118+AO35*D19)/AN47,(AB119+AO35*D19)/AO47)*AP47","v":{"$error":"#VALUE!"}},{"$f":"MIN((AC115+AO35*D19)/AK47,(AC116+AO35*D19)/AL47,(AC117+AO35*D19)/AM47,(AC118+AO35*D19)/AN47,(AC119+AO35*D19)/AO47)*AP47","v":{"$error":"#VALUE!"}},{"$f":"MIN((AD115+AO35*D19)/AK47,(AD116+AO35*D19)/AL47,(AD117+AO35*D19)/AM47,(AD118+AO35*D19)/AN47,(AD119+AO35*D19)/AO47)*AP47","v":{"$error":"#VALUE!"}},{"$f":"MIN((AE115+AO35*D19)/AK47,(AE116+AO35*D19)/AL47,(AE117+AO35*D19)/AM47,(AE118+AO35*D19)/AN47,(AE119+AO35*D19)/AO47)*AP47","v":{"$error":"#VALUE!"}},{"$f":"MIN((AF115+AO35*D19)/AK47,(AF116+AO35*D19)/AL47,(AF117+AO35*D19)/AM47,(AF118+AO35*D19)/AN47,(AF119+AO35*D19)/AO47)*AP47","v":{"$error":"#VALUE!"}},{"$error":"#VALUE!"},null,"",{"$error":"#VALUE!"},{"$error":"#VALUE!"},{"$error":"#VALUE!"},{"$error":"#VALUE!"},{"$error":"#VALUE!"},{"$error":"#VALUE!"},{"$error":"#VALUE!"},{"$error":"#VALUE!"},{"$error":"#VALUE!"},{"$error":"#VALUE!"},{"$error":"#VALUE!"},{"$error":"#VALUE!"},{"$error":"#VALUE!"},{"$error":"#VALUE!"},{"$error":"#VALUE!"},{"$error":"#VALUE!"},{"$error":"#VALUE!"},{"$error":"#VALUE!"},{"$error":"#VALUE!"},{"$error":"#VALUE!"},{"$error":"#VALUE!"},{"$error":"#VALUE!"},"-",null,null,null,"neutre",{"$f":"IF(CJ100>1,CU118,CW118)","v":{"$error":"#VALUE!"}},{"$f":"IF(CK100<1,$BZ$80,CV118)","v":{"$error":"#VALUE!"}},{"$f":"IF(CL100>0,$BZ$80,$BZ$81)","v":{"$error":"#VALUE!"}},{"$f":"IF(CK100>1,$BZ$81,$BZ$79)","v":{"$error":"#VALUE!"}},{"$f":"IF(CM100>1,CY118,DA118)","v":{"$error":"#VALUE!"}},{"$f":"IF(CN100<1,$BZ$80,CZ118)","v":{"$error":"#VALUE!"}},{"$error":"#VALUE!"},{"$f":"IF(CN100>1,$BZ$81,$BZ$79)","v":{"$error":"#VALUE!"}},{"$f":"IF(CP100>1,DC118,DE118)","v":{"$error":"#VALUE!"}},{"$f":"IF(CQ100<1,$BZ$80,DD118)","v":{"$error":"#VALUE!"}},{"$error":"#VALUE!"},{"$error":"#VALUE!"},{"$error":"#VALUE!"},{"$f":"IF(CT100<1,$BZ$80,DH118)","v":{"$error":"#VALUE!"}},{"$error":"#VALUE!"},{"$error":"#VALUE!"},{"$error":"#VALUE!"},{"$f":"IF(CW100<1,$BZ$80,DL118)","v":{"$error":"#VALUE!"}},{"$error":"#VALUE!"},{"$error":"#VALUE!"},{"$error":"#VALUE!"},{"$f":"IF(CZ100<1,$BZ$80,DP118)","v":{"$error":"#VALUE!"}},{"$error":"#VALUE!"},{"$error":"#VALUE!"},{"$error":"#VALUE!"},{"$f":"IF(DC100<1,$BZ$80,DT118)","v":{"$error":"#VALUE!"}},{"$error":"#VALUE!"},{"$error":"#VALUE!"},{"$error":"#VALUE!"},{"$error":"#VALUE!"},{"$error":"#VALUE!"},{"$error":"#VALUE!"},{"$error":"#VALUE!"},{"$f":"IF(DI100<1,$BZ$80,EB118)","v":{"$error":"#VALUE!"}},{"$error":"#VALUE!"},{"$error":"#VALUE!"},{"$error":"#VALUE!"},{"$f":"IF(DL100<1,$BZ$80,EF118)","v":{"$error":"#VALUE!"}},{"$error":"#VALUE!"},{"$error":"#VALUE!"},{"$error":"#VALUE!"},{"$f":"IF(DO100<1,$BZ$80,EJ118)","v":{"$error":"#VALUE!"}},{"$error":"#VALUE!"},{"$error":"#VALUE!"},{"$error":"#VALUE!"},{"$f":"IF(DR100<1,$BZ$80,EN118)","v":{"$error":"#VALUE!"}},{"$error":"#VALUE!"},{"$error":"#VALUE!"}]
[null,null,null,"CAP","",1,"",{"$f":"IF(G26<>\"\",IF(ISNA(IF(VLOOKUP(G26,$AI$8:$AV$33,14,FALSE)=\"\",\"\",(HLOOKUP(VLOOKUP(G26,$BA$10:$BB$20,2,FALSE),S163:AF168,6,FALSE)/100+MIN(5000,M26)/500)/100)),G119,IF(VLOOKUP(G26,$AI$8:$AV$33,14,FALSE)=\"\",\"\",(HLOOKUP(VLOOKUP(G26,$BA$10:$BB$20,2,FALSE),S163:AF168,6,FALSE)/100+MIN(5000,M26)/500)/100)),\"\")","v":""},{"$f":"IF(G26<>\"\",IF(ISNA(IF(VLOOKUP(G26,$AI$8:$AV$29,14,FALSE)=\"\",\"\",((HLOOKUP(VLOOKUP(G26,$BA$10:$BB$20,2,FALSE),$S$163:$AF$168,6,FALSE)+IF(HLOOKUP(F119,$AJ$7:$AT$35,29,FALSE)=1,D19,0))/100+MIN(5000,M26)/500)/100)),H119,IF(VLOOKUP(G26,$AI$8:$AV$29,14,FALSE)=\"\",\"\",((HLOOKUP(VLOOKUP(G26,$BA$10:$BB$20,2,FALSE),$S$163:$AF$168,6,FALSE)+IF(HLOOKUP(F119,$AJ$7:$AT$35,29,FALSE)=1,D19,0))/100+MIN(5000,M26)/500)/100)),\"\")","v":""},null,null,null,null,null,null,null,null,{"$f":"IF($AX$306,L19+VLOOKUP(Team!$AB25,Team!$E$30:$J$300,6,FALSE),L19+AH43+$D$21)+$D$19*$AG$16","v":{"$error":"#VALUE!"}},{"$f":"IF($AX$306,$R119,$R119+Q14)","v":{"$error":"#VALUE!"}},{"$error":"#VALUE!"},{"$error":"#VALUE!"},{"$error":"#VALUE!"},{"$error":"#VALUE!"},{"$error":"#VALUE!"},{"$error":"#VALUE!"},{"$error":"#VALUE!"},{"$error":"#VALUE!"},{"$error":"#VALUE!"},{"$error":"#VALUE!"},{"$error":"#VALUE!"},{"$error":"#VALUE!"},{"$error":"#VALUE!"},null,null,null,"",{"$f":"MIN((S122+AN35*D19)/AK46,(S123+AN35*D19)/AL46,(S124+AN35*D19)/AM46,(S125+AN35*D19)/AN46,(S126+AN35*D19)/AO46)*AP46","v":{"$error":"#VALUE!"}},{"$f":"MIN((T122+AN35*D19)/AK46,(T123+AN35*D19)/AL46,(T124+AN35*D19)/AM46,(T125+AN35*D19)/AN46,(T126+AN35*D19)/AO46)*AP46","v":{"$error":"#VALUE!"}},{"$f":"MIN((U122+AN35*D19)/AK46,(U123+AN35*D19)/AL46,(U124+AN35*D19)/AM46,(U125+AN35*D19)/AN46,(U126+AN35*D19)/AO46)*AP46","v":{"$error":"#VALUE!"}},{"$f":"MIN((V122+AN35*D19)/AK46,(V123+AN35*D19)/AL46,(V124+AN35*D19)/AM46,(V125+AN35*D19)/AN46,(V126+AN35*D19)/AO46)*AP46","v":{"$error":"#VALUE!"}},{"$f":"MIN((W122+AN35*D19)/AK46,(W123+AN35*D19)/AL46,(W124+AN35*D19)/AM46,(W125+AN35*D19)/AN46,(W126+AN35*D19)/AO46)*AP46","v":{"$error":"#VALUE!"}},{"$f":"MIN((X122+AN35*D19)/AK46,(X123+AN35*D19)/AL46,(X124+AN35*D19)/AM46,(X125+AN35*D19)/AN46,(X126+AN35*D19)/AO46)*AP46","v":{"$error":"#VALUE!"}},{"$f":"MIN((Y122+AN35*D19)/AK46,(Y123+AN35*D19)/AL46,(Y124+AN35*D19)/AM46,(Y125+AN35*D19)/AN46,(Y126+AN35*D19)/AO46)*AP46","v":{"$error":"#VALUE!"}},{"$f":"MIN((Z122+AN35*D19)/AK46,(Z123+AN35*D19)/AL46,(Z124+AN35*D19)/AM46,(Z125+AN35*D19)/AN46,(Z126+AN35*D19)/AO46)*AP46","v":{"$error":"#VALUE!"}},{"$f":"MIN((AA122+AN35*D19)/AK46,(AA123+AN35*D19)/AL46,(AA124+AN35*D19)/AM46,(AA125+AN35*D19)/AN46,(AA126+AN35*D19)/AO46)*AP46","v":{"$error":"#VALUE!"}},{"$f":"MIN((AB122+AN35*D19)/AK46,(AB123+AN35*D19)/AL46,(AB124+AN35*D19)/AM46,(AB125+AN35*D19)/AN46,(AB126+AN35*D19)/AO46)*AP46","v":{"$error":"#VALUE!"}},{"$f":"MIN((AC122+AN35*D19)/AK46,(AC123+AN35*D19)/AL46,(AC124+AN35*D19)/AM46,(AC125+AN35*D19)/AN46,(AC126+AN35*D19)/AO46)*AP46","v":{"$error":"#VALUE!"}},{"$f":"MIN((AD122+AN35*D19)/AK46,(AD123+AN35*D19)/AL46,(AD124+AN35*D19)/AM46,(AD125+AN35*D19)/AN46,(AD126+AN35*D19)/AO46)*AP46","v":{"$error":"#VALUE!"}},{"$f":"MIN((AE122+AN35*D19)/AK46,(AE123+AN35*D19)/AL46,(AE124+AN35*D19)/AM46,(AE125+AN35*D19)/AN46,(AE126+AN35*D19)/AO46)*AP46","v":{"$error":"#VALUE!"}},{"$f":"MIN((AF122+AN35*D19)/AK46,(AF123+AN35*D19)/AL46,(AF124+AN35*D19)/AM46,(AF125+AN35*D19)/AN46,(AF126+AN35*D19)/AO46)*AP46","v":{"$error":"#VALUE!"}},{"$error":"#VALUE!"},null,"",{"$f":"MIN((S122+AO35*D19)/AK47,(S123+AO35*D19)/AL47,(S124+AO35*D19)/AM47,(S125+AO35*D19)/AN47,(S126+AO35*D19)/AO47)*AP47","v":{"$error":"#VALUE!"}},{"$f":"MIN((T122+AO35*D19)/AK47,(T123+AO35*D19)/AL47,(T124+AO35*D19)/AM47,(T125+AO35*D19)/AN47,(T126+AO35*D19)/AO47)*AP47","v":{"$error":"#VALUE!"}},{"$f":"MIN((U122+AO35*D19)/AK47,(U123+AO35*D19)/AL47,(U124+AO35*D19)/AM47,(U125+AO35*D19)/AN47,(U126+AO35*D19)/AO47)*AP47","v":{"$error":"#VALUE!"}},{"$f":"MIN((V122+AO35*D19)/AK47,(V123+AO35*D19)/AL47,(V124+AO35*D19)/AM47,(V125+AO35*D19)/AN47,(V126+AO35*D19)/AO47)*AP47","v":{"$error":"#VALUE!"}},{"$f":"MIN((W122+AO35*D19)/AK47,(W123+AO35*D19)/AL47,(W124+AO35*D19)/AM47,(W125+AO35*D19)/AN47,(W126+AO35*D19)/AO47)*AP47","v":{"$error":"#VALUE!"}},{"$f":"MIN((X122+AO35*D19)/AK47,(X123+AO35*D19)/AL47,(X124+AO35*D19)/AM47,(X125+AO35*D19)/AN47,(X126+AO35*D19)/AO47)*AP47","v":{"$error":"#VALUE!"}},{"$f":"MIN((Y122+AO35*D19)/AK47,(Y123+AO35*D19)/AL47,(Y124+AO35*D19)/AM47,(Y125+AO35*D19)/AN47,(Y126+AO35*D19)/AO47)*AP47","v":{"$error":"#VALUE!"}},{"$f":"MIN((Z122+AO35*D19)/AK47,(Z123+AO35*D19)/AL47,(Z124+AO35*D19)/AM47,(Z125+AO35*D19)/AN47,(Z126+AO35*D19)/AO47)*AP47","v":{"$error":"#VALUE!"}},{"$f":"MIN((AA122+AO35*D19)/AK47,(AA123+AO35*D19)/AL47,(AA124+AO35*D19)/AM47,(AA125+AO35*D19)/AN47,(AA126+AO35*D19)/AO47)*AP47","v":{"$error":"#VALUE!"}},{"$f":"MIN((AB122+AO35*D19)/AK47,(AB123+AO35*D19)/AL47,(AB124+AO35*D19)/AM47,(AB125+AO35*D19)/AN47,(AB126+AO35*D19)/AO47)*AP47","v":{"$error":"#VALUE!"}},{"$f":"MIN((AC122+AO35*D19)/AK47,(AC123+AO35*D19)/AL47,(AC124+AO35*D19)/AM47,(AC125+AO35*D19)/AN47,(AC126+AO35*D19)/AO47)*AP47","v":{"$error":"#VALUE!"}},{"$f":"MIN((AD122+AO35*D19)/AK47,(AD123+AO35*D19)/AL47,(AD124+AO35*D19)/AM47,(AD125+AO35*D19)/AN47,(AD126+AO35*D19)/AO47)*AP47","v":{"$error":"#VALUE!"}},{"$f":"MIN((AE122+AO35*D19)/AK47,(AE123+AO35*D19)/AL47,(AE124+AO35*D19)/AM47,(AE125+AO35*D19)/AN47,(AE126+AO35*D19)/AO47)*AP47","v":{"$error":"#VALUE!"}},{"$f":"MIN((AF122+AO35*D19)/AK47,(AF123+AO35*D19)/AL47,(AF124+AO35*D19)/AM47,(AF125+AO35*D19)/AN47,(AF126+AO35*D19)/AO47)*AP47","v":{"$error":"#VALUE!"}},{"$error":"#VALUE!"},null,"",{"$error":"#VALUE!"},{"$error":"#VALUE!"},{"$error":"#VALUE!"},{"$error":"#VALUE!"},{"$error":"#VALUE!"},{"$error":"#VALUE!"},{"$error":"#VALUE!"},{"$error":"#VALUE!"},{"$error":"#VALUE!"},{"$error":"#VALUE!"},{"$error":"#VALUE!"},{"$error":"#VALUE!"},{"$error":"#VALUE!"},{"$error":"#VALUE!"},{"$error":"#VALUE!"},{"$error":"#VALUE!"},{"$error":"#VALUE!"},{"$error":"#VALUE!"},{"$error":"#VALUE!"},{"$error":"#VALUE!"},{"$error":"#VALUE!"},{"$error":"#VALUE!"},"-",null,null,null,"off",{"$error":"#VALUE!"},{"$error":"#VALUE!"},{"$error":"#VALUE!"},{"$error":"#VALUE!"},{"$error":"#VALUE!"},{"$error":"#VALUE!"},{"$error":"#VALUE!"},{"$error":"#VALUE!"},{"$error":"#VALUE!"},{"$error":"#VALUE!"},{"$error":"#VALUE!"},{"$error":"#VALUE!"},{"$error":"#VALUE!"},{"$error":"#VALUE!"},{"$error":"#VALUE!"},{"$error":"#VALUE!"},{"$error":"#VALUE!"},{"$error":"#VALUE!"},{"$error":"#VALUE!"},{"$error":"#VALUE!"},{"$error":"#VALUE!"},{"$error":"#VALUE!"},{"$error":"#VALUE!"},{"$error":"#VALUE!"},{"$error":"#VALUE!"},{"$error":"#VALUE!"},{"$error":"#VALUE!"},{"$error":"#VALUE!"},{"$error":"#VALUE!"},{"$error":"#VALUE!"},{"$error":"#VALUE!"},{"$error":"#VALUE!"},{"$error":"#VALUE!"},{"$error":"#VALUE!"},{"$error":"#VALUE!"},{"$error":"#VALUE!"},{"$error":"#VALUE!"},{"$error":"#VALUE!"},{"$error":"#VALUE!"},{"$error":"#VALUE!"},{"$error":"#VALUE!"},{"$error":"#VALUE!"},{"$error":"#VALUE!"},{"$error":"#VALUE!"},{"$error":"#VALUE!"},{"$error":"#VALUE!"},{"$error":"#VALUE!"},{"$error":"#VALUE!"}]
[null,null,null,"CAP","",1,"",{"$f":"IF(G27<>\"\",IF(ISNA(IF(VLOOKUP(G27,$AI$8:$AV$33,14,FALSE)=\"\",\"\",(HLOOKUP(VLOOKUP(G27,$BA$10:$BB$20,2,FALSE),S170:AF175,6,FALSE)/100+MIN(5000,M27)/500)/100)),G120,IF(VLOOKUP(G27,$AI$8:$AV$33,14,FALSE)=\"\",\"\",(HLOOKUP(VLOOKUP(G27,$BA$10:$BB$20,2,FALSE),S170:AF175,6,FALSE)/100+MIN(5000,M27)/500)/100)),\"\")","v":""},{"$f":"IF(G27<>\"\",IF(ISNA(IF(VLOOKUP(G27,$AI$8:$AV$29,14,FALSE)=\"\",\"\",((HLOOKUP(VLOOKUP(G27,$BA$10:$BB$20,2,FALSE),$S$170:$AF$175,6,FALSE)+IF(HLOOKUP(F120,$AJ$7:$AT$35,29,FALSE)=1,D19,0))/100+MIN(5000,M27)/500)/100)),H120,IF(VLOOKUP(G27,$AI$8:$AV$29,14,FALSE)=\"\",\"\",((HLOOKUP(VLOOKUP(G27,$BA$10:$BB$20,2,FALSE),$S$170:$AF$175,6,FALSE)+IF(HLOOKUP(F120,$AJ$7:$AT$35,29,FALSE)=1,D19,0))/100+MIN(5000,M27)/500)/100)),\"\")","v":""},null,null,null,null,null,null,null,null,null,null,null,null,null,null,null,null,null,null,null,null,null,null,null,null,null,null,"",{"$f":"MIN((S129+AN35*D19)/AK46,(S130+AN35*D19)/AL46,(S131+AN35*D19)/AM46,(S132+AN35*D19)/AN46,(S133+AN35*D19)/AO46)*AP46","v":{"$error":"#VALUE!"}},{"$f":"MIN((T129+AN35*D19)/AK46,(T130+AN35*D19)/AL46,(T131+AN35*D19)/AM46,(T132+AN35*D19)/AN46,(T133+AN35*D19)/AO46)*AP46","v":{"$error":"#VALUE!"}},{"$f":"MIN((U129+AN35*D19)/AK46,(U130+AN35*D19)/AL46,(U131+AN35*D19)/AM46,(U132+AN35*D19)/AN46,(U133+AN35*D19)/AO46)*AP46","v":{"$error":"#VALUE!"}},{"$f":"MIN((V129+AN35*D19)/AK46,(V130+AN35*D19)/AL46,(V131+AN35*D19)/AM46,(V132+AN35*D19)/AN46,(V133+AN35*D19)/AO46)*AP46","v":{"$error":"#VALUE!"}},{"$f":"MIN((W129+AN35*D19)/AK46,(W130+AN35*D19)/AL46,(W131+AN35*D19)/AM46,(W132+AN35*D19)/AN46,(W133+AN35*D19)/AO46)*AP46","v":{"$error":"#VALUE!"}},{"$f":"MIN((X129+AN35*D19)/AK46,(X130+AN35*D19)/AL46,(X131+AN35*D19)/AM46,(X132+AN35*D19)/AN46,(X133+AN35*D19)/AO46)*AP46","v":{"$error":"#VALUE!"}},{"$f":"MIN((Y129+AN35*D19)/AK46,(Y130+AN35*D19)/AL46,(Y131+AN35*D19)/AM46,(Y132+AN35*D19)/AN46,(Y133+AN35*D19)/AO46)*AP46","v":{"$error":"#VALUE!"}},{"$f":"MIN((Z129+AN35*D19)/AK46,(Z130+AN35*D19)/AL46,(Z131+AN35*D19)/AM46,(Z132+AN35*D19)/AN46,(Z133+AN35*D19)/AO46)*AP46","v":{"$error":"#VALUE!"}},{"$f":"MIN((AA129+AN35*D19)/AK46,(AA130+AN35*D19)/AL46,(AA131+AN35*D19)/AM46,(AA132+AN35*D19)/AN46,(AA133+AN35*D19)/AO46)*AP46","v":{"$error":"#VALUE!"}},{"$f":"MIN((AB129+AN35*D19)/AK46,(AB130+AN35*D19)/AL46,(AB131+AN35*D19)/AM46,(AB132+AN35*D19)/AN46,(AB133+AN35*D19)/AO46)*AP46","v":{"$error":"#VALUE!"}},{"$f":"MIN((AC129+AN35*D19)/AK46,(AC130+AN35*D19)/AL46,(AC131+AN35*D19)/AM46,(AC132+AN35*D19)/AN46,(AC133+AN35*D19)/AO46)*AP46","v":{"$error":"#VALUE!"}},{"$f":"MIN((AD129+AN35*D19)/AK46,(AD130+AN35*D19)/AL46,(AD131+AN35*D19)/AM46,(AD132+AN35*D19)/AN46,(AD133+AN35*D19)/AO46)*AP46","v":{"$error":"#VALUE!"}},{"$f":"MIN((AE129+AN35*D19)/AK46,(AE130+AN35*D19)/AL46,(AE131+AN35*D19)/AM46,(AE132+AN35*D19)/AN46,(AE133+AN35*D19)/AO46)*AP46","v":{"$error":"#VALUE!"}},{"$f":"MIN((AF129+AN35*D19)/AK46,(AF130+AN35*D19)/AL46,(AF131+AN35*D19)/AM46,(AF132+AN35*D19)/AN46,(AF133+AN35*D19)/AO46)*AP46","v":{"$error":"#VALUE!"}},{"$error":"#VALUE!"},null,"",{"$f":"MIN((S129+AO35*D19)/AK47,(S130+AO35*D19)/AL47,(S131+AO35*D19)/AM47,(S132+AO35*D19)/AN47,(S133+AO35*D19)/AO47)*AP47","v":{"$error":"#VALUE!"}},{"$f":"MIN((T129+AO35*D19)/AK47,(T130+AO35*D19)/AL47,(T131+AO35*D19)/AM47,(T132+AO35*D19)/AN47,(T133+AO35*D19)/AO47)*AP47","v":{"$error":"#VALUE!"}},{"$f":"MIN((U129+AO35*D19)/AK47,(U130+AO35*D19)/AL47,(U131+AO35*D19)/AM47,(U132+AO35*D19)/AN47,(U133+AO35*D19)/AO47)*AP47","v":{"$error":"#VALUE!"}},{"$f":"MIN((V129+AO35*D19)/AK47,(V130+AO35*D19)/AL47,(V131+AO35*D19)/AM47,(V132+AO35*D19)/AN47,(V133+AO35*D19)/AO47)*AP47","v":{"$error":"#VALUE!"}},{"$f":"MIN((W129+AO35*D19)/AK47,(W130+AO35*D19)/AL47,(W131+AO35*D19)/AM47,(W132+AO35*D19)/AN47,(W133+AO35*D19)/AO47)*AP47","v":{"$error":"#VALUE!"}},{"$f":"MIN((X129+AO35*D19)/AK47,(X130+AO35*D19)/AL47,(X131+AO35*D19)/AM47,(X132+AO35*D19)/AN47,(X133+AO35*D19)/AO47)*AP47","v":{"$error":"#VALUE!"}},{"$f":"MIN((Y129+AO35*D19)/AK47,(Y130+AO35*D19)/AL47,(Y131+AO35*D19)/AM47,(Y132+AO35*D19)/AN47,(Y133+AO35*D19)/AO47)*AP47","v":{"$error":"#VALUE!"}},{"$f":"MIN((Z129+AO35*D19)/AK47,(Z130+AO35*D19)/AL47,(Z131+AO35*D19)/AM47,(Z132+AO35*D19)/AN47,(Z133+AO35*D19)/AO47)*AP47","v":{"$error":"#VALUE!"}},{"$f":"MIN((AA129+AO35*D19)/AK47,(AA130+AO35*D19)/AL47,(AA131+AO35*D19)/AM47,(AA132+AO35*D19)/AN47,(AA133+AO35*D19)/AO47)*AP47","v":{"$error":"#VALUE!"}},{"$f":"MIN((AB129+AO35*D19)/AK47,(AB130+AO35*D19)/AL47,(AB131+AO35*D19)/AM47,(AB132+AO35*D19)/AN47,(AB133+AO35*D19)/AO47)*AP47","v":{"$error":"#VALUE!"}},{"$f":"MIN((AC129+AO35*D19)/AK47,(AC130+AO35*D19)/AL47,(AC131+AO35*D19)/AM47,(AC132+AO35*D19)/AN47,(AC133+AO35*D19)/AO47)*AP47","v":{"$error":"#VALUE!"}},{"$f":"MIN((AD129+AO35*D19)/AK47,(AD130+AO35*D19)/AL47,(AD131+AO35*D19)/AM47,(AD132+AO35*D19)/AN47,(AD133+AO35*D19)/AO47)*AP47","v":{"$error":"#VALUE!"}},{"$f":"MIN((AE129+AO35*D19)/AK47,(AE130+AO35*D19)/AL47,(AE131+AO35*D19)/AM47,(AE132+AO35*D19)/AN47,(AE133+AO35*D19)/AO47)*AP47","v":{"$error":"#VALUE!"}},{"$f":"MIN((AF129+AO35*D19)/AK47,(AF130+AO35*D19)/AL47,(AF131+AO35*D19)/AM47,(AF132+AO35*D19)/AN47,(AF133+AO35*D19)/AO47)*AP47","v":{"$error":"#VALUE!"}},{"$error":"#VALUE!"},null,"",{"$error":"#VALUE!"},{"$error":"#VALUE!"},{"$error":"#VALUE!"},{"$error":"#VALUE!"},{"$error":"#VALUE!"},{"$error":"#VALUE!"},{"$error":"#VALUE!"},{"$error":"#VALUE!"},{"$error":"#VALUE!"},{"$error":"#VALUE!"},{"$error":"#VALUE!"},{"$error":"#VALUE!"},{"$error":"#VALUE!"},{"$error":"#VALUE!"},{"$error":"#VALUE!"},{"$error":"#VALUE!"},{"$error":"#VALUE!"},{"$error":"#VALUE!"},{"$error":"#VALUE!"},{"$error":"#VALUE!"},{"$error":"#VALUE!"},{"$error":"#VALUE!"},"-",null,null,433,"def",{"$error":"#VALUE!"},{"$error":"#VALUE!"},{"$error":"#VALUE!"},{"$error":"#VALUE!"},{"$error":"#VALUE!"},{"$error":"#VALUE!"},{"$error":"#VALUE!"},{"$error":"#VALUE!"},{"$error":"#VALUE!"},{"$error":"#VALUE!"},{"$error":"#VALUE!"},{"$error":"#VALUE!"},{"$error":"#VALUE!"},{"$error":"#VALUE!"},{"$error":"#VALUE!"},{"$error":"#VALUE!"},{"$error":"#VALUE!"},{"$error":"#VALUE!"},{"$error":"#VALUE!"},{"$error":"#VALUE!"},{"$error":"#VALUE!"},{"$error":"#VALUE!"},{"$error":"#VALUE!"},{"$error":"#VALUE!"},{"$error":"#VALUE!"},{"$error":"#VALUE!"},{"$error":"#VALUE!"},{"$error":"#VALUE!"},{"$error":"#VALUE!"},{"$error":"#VALUE!"},{"$error":"#VALUE!"},{"$error":"#VALUE!"},{"$error":"#VALUE!"},{"$error":"#VALUE!"},{"$error":"#VALUE!"},{"$error":"#VALUE!"},{"$error":"#VALUE!"},{"$error":"#VALUE!"},{"$error":"#VALUE!"},{"$error":"#VALUE!"},{"$error":"#VALUE!"},{"$error":"#VALUE!"},{"$error":"#VALUE!"},{"$error":"#VALUE!"},{"$error":"#VALUE!"},{"$error":"#VALUE!"},{"$error":"#VALUE!"},{"$error":"#VALUE!"}]
[null,null,null,"CAP",{"$f":"IF(G28<>\"\",G28,\"\")","v":""},1,"",{"$f":"IF(G28<>\"\",IF(ISNA(IF(VLOOKUP(G28,$AI$8:$AV$33,14,FALSE)=\"\",\"\",(HLOOKUP(VLOOKUP(G28,$BA$10:$BB$20,2,FALSE),S177:AF182,6,FALSE)/100+MIN(5000,M28)/500)/100)),G121,IF(VLOOKUP(G28,$AI$8:$AV$33,14,FALSE)=\"\",\"\",(HLOOKUP(VLOOKUP(G28,$BA$10:$BB$20,2,FALSE),S177:AF182,6,FALSE)/100+MIN(5000,M28)/500)/100)),\"\")","v":""},{"$f":"IF(G28<>\"\",IF(ISNA(IF(VLOOKUP(G28,$AI$8:$AV$29,14,FALSE)=\"\",\"\",((HLOOKUP(VLOOKUP(G28,$BA$10:$BB$20,2,FALSE),$S$177:$AF$182,6,FALSE)+IF(HLOOKUP(F121,$AJ$7:$AT$35,29,FALSE)=1,D19,0))/100+MIN(5000,M28)/500)/100)),H121,IF(VLOOKUP(G28,$AI$8:$AV$29,14,FALSE)=\"\",\"\",((HLOOKUP(VLOOKUP(G28,$BA$10:$BB$20,2,FALSE),$S$177:$AF$182,6,FALSE)+IF(HLOOKUP(F121,$AJ$7:$AT$35,29,FALSE)=1,D19,0))/100+MIN(5000,M28)/500)/100)),\"\")","v":""},null,null,null,null,null,null,null,null,{"$f":"G20","v":""},{"$f":"S114","v":"kit 1"},{"$f":"T114","v":"kit 2/3"},0,"kit 4",0,"kit 5","kit 6/7",0,0,"kit 8","kit 9",0,{"$f":"AE114","v":"kit 10"},{"$f":"AF114","v":"kit 11"},null,null,null,"",{"$f":"MIN((S136+AN35*D19)/AK46,(S137+AN35*D19)/AL46,(S138+AN35*D19)/AM46,(S139+AN35*D19)/AN46,(S140+AN35*D19)/AO46)*AP46","v":{"$error":"#VALUE!"}},{"$f":"MIN((T136+AN35*D19)/AK46,(T137+AN35*D19)/AL46,(T138+AN35*D19)/AM46,(T139+AN35*D19)/AN46,(T140+AN35*D19)/AO46)*AP46","v":{"$error":"#VALUE!"}},{"$f":"MIN((U136+AN35*D19)/AK46,(U137+AN35*D19)/AL46,(U138+AN35*D19)/AM46,(U139+AN35*D19)/AN46,(U140+AN35*D19)/AO46)*AP46","v":{"$error":"#VALUE!"}},{"$f":"MIN((V136+AN35*D19)/AK46,(V137+AN35*D19)/AL46,(V138+AN35*D19)/AM46,(V139+AN35*D19)/AN46,(V140+AN35*D19)/AO46)*AP46","v":{"$error":"#VALUE!"}},{"$f":"MIN((W136+AN35*D19)/AK46,(W137+AN35*D19)/AL46,(W138+AN35*D19)/AM46,(W139+AN35*D19)/AN46,(W140+AN35*D19)/AO46)*AP46","v":{"$error":"#VALUE!"}},{"$f":"MIN((X136+AN35*D19)/AK46,(X137+AN35*D19)/AL46,(X138+AN35*D19)/AM46,(X139+AN35*D19)/AN46,(X140+AN35*D19)/AO46)*AP46","v":{"$error":"#VALUE!"}},{"$f":"MIN((Y136+AN35*D19)/AK46,(Y137+AN35*D19)/AL46,(Y138+AN35*D19)/AM46,(Y139+AN35*D19)/AN46,(Y140+AN35*D19)/AO46)*AP46","v":{"$error":"#VALUE!"}},{"$f":"MIN((Z136+AN35*D19)/AK46,(Z137+AN35*D19)/AL46,(Z138+AN35*D19)/AM46,(Z139+AN35*D19)/AN46,(Z140+AN35*D19)/AO46)*AP46","v":{"$error":"#VALUE!"}},{"$f":"MIN((AA136+AN35*D19)/AK46,(AA137+AN35*D19)/AL46,(AA138+AN35*D19)/AM46,(AA139+AN35*D19)/AN46,(AA140+AN35*D19)/AO46)*AP46","v":{"$error":"#VALUE!"}},{"$f":"MIN((AB136+AN35*D19)/AK46,(AB137+AN35*D19)/AL46,(AB138+AN35*D19)/AM46,(AB139+AN35*D19)/AN46,(AB140+AN35*D19)/AO46)*AP46","v":{"$error":"#VALUE!"}},{"$f":"MIN((AC136+AN35*D19)/AK46,(AC137+AN35*D19)/AL46,(AC138+AN35*D19)/AM46,(AC139+AN35*D19)/AN46,(AC140+AN35*D19)/AO46)*AP46","v":{"$error":"#VALUE!"}},{"$f":"MIN((AD136+AN35*D19)/AK46,(AD137+AN35*D19)/AL46,(AD138+AN35*D19)/AM46,(AD139+AN35*D19)/AN46,(AD140+AN35*D19)/AO46)*AP46","v":{"$error":"#VALUE!"}},{"$f":"MIN((AE136+AN35*D19)/AK46,(AE137+AN35*D19)/AL46,(AE138+AN35*D19)/AM46,(AE139+AN35*D19)/AN46,(AE140+AN35*D19)/AO46)*AP46","v":{"$error":"#VALUE!"}},{"$f":"MIN((AF136+AN35*D19)/AK46,(AF137+AN35*D19)/AL46,(AF138+AN35*D19)/AM46,(AF139+AN35*D19)/AN46,(AF140+AN35*D19)/AO46)*AP46","v":{"$error":"#VALUE!"}},{"$error":"#VALUE!"},null,"",{"$f":"MIN((S136+AO35*D19)/AK47,(S137+AO35*D19)/AL47,(S138+AO35*D19)/AM47,(S139+AO35*D19)/AN47,(S140+AO35*D19)/AO47)*AP47","v":{"$error":"#VALUE!"}},{"$f":"MIN((T136+AO35*D19)/AK47,(T137+AO35*D19)/AL47,(T138+AO35*D19)/AM47,(T139+AO35*D19)/AN47,(T140+AO35*D19)/AO47)*AP47","v":{"$error":"#VALUE!"}},{"$f":"MIN((U136+AO35*D19)/AK47,(U137+AO35*D19)/AL47,(U138+AO35*D19)/AM47,(U139+AO35*D19)/AN47,(U140+AO35*D19)/AO47)*AP47","v":{"$error":"#VALUE!"}},{"$f":"MIN((V136+AO35*D19)/AK47,(V137+AO35*D19)/AL47,(V138+AO35*D19)/AM47,(V139+AO35*D19)/AN47,(V140+AO35*D19)/AO47)*AP47","v":{"$error":"#VALUE!"}},{"$f":"MIN((W136+AO35*D19)/AK47,(W137+AO35*D19)/AL47,(W138+AO35*D19)/AM47,(W139+AO35*D19)/AN47,(W140+AO35*D19)/AO47)*AP47","v":{"$error":"#VALUE!"}},{"$f":"MIN((X136+AO35*D19)/AK47,(X137+AO35*D19)/AL47,(X138+AO35*D19)/AM47,(X139+AO35*D19)/AN47,(X140+AO35*D19)/AO47)*AP47","v":{"$error":"#VALUE!"}},{"$f":"MIN((Y136+AO35*D19)/AK47,(Y137+AO35*D19)/AL47,(Y138+AO35*D19)/AM47,(Y139+AO35*D19)/AN47,(Y140+AO35*D19)/AO47)*AP47","v":{"$error":"#VALUE!"}},{"$f":"MIN((Z136+AO35*D19)/AK47,(Z137+AO35*D19)/AL47,(Z138+AO35*D19)/AM47,(Z139+AO35*D19)/AN47,(Z140+AO35*D19)/AO47)*AP47","v":{"$error":"#VALUE!"}},{"$f":"MIN((AA136+AO35*D19)/AK47,(AA137+AO35*D19)/AL47,(AA138+AO35*D19)/AM47,(AA139+AO35*D19)/AN47,(AA140+AO35*D19)/AO47)*AP47","v":{"$error":"#VALUE!"}},{"$f":"MIN((AB136+AO35*D19)/AK47,(AB137+AO35*D19)/AL47,(AB138+AO35*D19)/AM47,(AB139+AO35*D19)/AN47,(AB140+AO35*D19)/AO47)*AP47","v":{"$error":"#VALUE!"}},{"$f":"MIN((AC136+AO35*D19)/AK47,(AC137+AO35*D19)/AL47,(AC138+AO35*D19)/AM47,(AC139+AO35*D19)/AN47,(AC140+AO35*D19)/AO47)*AP47","v":{"$error":"#VALUE!"}},{"$f":"MIN((AD136+AO35*D19)/AK47,(AD137+AO35*D19)/AL47,(AD138+AO35*D19)/AM47,(AD139+AO35*D19)/AN47,(AD140+AO35*D19)/AO47)*AP47","v":{"$error":"#VALUE!"}},{"$f":"MIN((AE136+AO35*D19)/AK47,(AE137+AO35*D19)/AL47,(AE138+AO35*D19)/AM47,(AE139+AO35*D19)/AN47,(AE140+AO35*D19)/AO47)*AP47","v":{"$error":"#VALUE!"}},{"$f":"MIN((AF136+AO35*D19)/AK47,(AF137+AO35*D19)/AL47,(AF138+AO35*D19)/AM47,(AF139+AO35*D19)/AN47,(AF140+AO35*D19)/AO47)*AP47","v":{"$error":"#VALUE!"}},{"$error":"#VALUE!"},null,"",{"$error":"#VALUE!"},{"$error":"#VALUE!"},{"$error":"#VALUE!"},{"$error":"#VALUE!"},{"$error":"#VALUE!"},{"$error":"#VALUE!"},{"$error":"#VALUE!"},{"$error":"#VALUE!"},{"$error":"#VALUE!"},{"$error":"#VALUE!"},{"$error":"#VALUE!"},{"$error":"#VALUE!"},{"$error":"#VALUE!"},{"$error":"#VALUE!"},{"$error":"#VALUE!"},{"$error":"#VALUE!"},{"$error":"#VALUE!"},{"$error":"#VALUE!"},{"$error":"#VALUE!"},{"$error":"#VALUE!"},{"$error":"#VALUE!"},{"$error":"#VALUE!"},"-",null,null,null,"neutre",{"$error":"#VALUE!"},{"$error":"#VALUE!"},{"$error":"#VALUE!"},{"$error":"#VALUE!"},{"$error":"#VALUE!"},{"$error":"#VALUE!"},{"$error":"#VALUE!"},{"$error":"#VALUE!"},{"$error":"#VALUE!"},{"$error":"#VALUE!"},{"$error":"#VALUE!"},{"$error":"#VALUE!"},{"$error":"#VALUE!"},{"$error":"#VALUE!"},{"$error":"#VALUE!"},{"$error":"#VALUE!"},{"$error":"#VALUE!"},{"$error":"#VALUE!"},{"$error":"#VALUE!"},{"$error":"#VALUE!"},{"$error":"#VALUE!"},{"$error":"#VALUE!"},{"$error":"#VALUE!"},{"$error":"#VALUE!"},{"$error":"#VALUE!"},{"$error":"#VALUE!"},{"$error":"#VALUE!"},{"$error":"#VALUE!"},{"$error":"#VALUE!"},{"$error":"#VALUE!"},{"$error":"#VALUE!"},{"$error":"#VALUE!"},{"$error":"#VALUE!"},{"$error":"#VALUE!"},{"$error":"#VALUE!"},{"$error":"#VALUE!"},{"$error":"#VALUE!"},{"$error":"#VALUE!"},{"$error":"#VALUE!"},{"$error":"#VALUE!"},{"$error":"#VALUE!"},{"$error":"#VALUE!"},{"$error":"#VALUE!"},{"$error":"#VALUE!"},{"$error":"#VALUE!"},{"$error":"#VALUE!"},{"$error":"#VALUE!"},{"$error":"#VALUE!"}]
[null,null,null,"CAP",{"$f":"IF(G29<>\"\",G29,\"\")","v":""},1,"",{"$f":"IF(G29<>\"\",IF(ISNA(IF(VLOOKUP(G29,$AI$8:$AV$33,14,FALSE)=\"\",\"\",(HLOOKUP(VLOOKUP(G29,$BA$10:$BB$20,2,FALSE),S184:AF189,6,FALSE)/100+MIN(5000,M29)/500)/100)),G122,IF(VLOOKUP(G29,$AI$8:$AV$33,14,FALSE)=\"\",\"\",(HLOOKUP(VLOOKUP(G29,$BA$10:$BB$20,2,FALSE),S184:AF189,6,FALSE)/100+MIN(5000,M29)/500)/100)),\"\")","v":""},{"$f":"IF(G29<>\"\",IF(ISNA(IF(VLOOKUP(G29,$AI$8:$AV$29,14,FALSE)=\"\",\"\",((HLOOKUP(VLOOKUP(G29,$BA$10:$BB$20,2,FALSE),$S$184:$AF$189,6,FALSE)+IF(HLOOKUP(F122,$AJ$7:$AT$35,29,FALSE)=1,D19,0))/100+MIN(5000,M29)/500)/100)),H122,IF(VLOOKUP(G29,$AI$8:$AV$29,14,FALSE)=\"\",\"\",((HLOOKUP(VLOOKUP(G29,$BA$10:$BB$20,2,FALSE),$S$184:$AF$189,6,FALSE)+IF(HLOOKUP(F122,$AJ$7:$AT$35,29,FALSE)=1,D19,0))/100+MIN(5000,M29)/500)/100)),\"\")","v":""},null,null,null,null,null,null,null,null,{"$f":"IF($AX$306,H20+VLOOKUP(Team!$X26,Team!$E$30:$J$300,6,FALSE),H20+AH39+$D$21)+$D$19*$AG$17","v":{"$error":"#VALUE!"}},{"$f":"IF($AX$306,$R122,$R122+Q10)","v":{"$error":"#VALUE!"}},{"$f":"IF($AX$306,$R122,$R122+R10)","v":{"$error":"#VALUE!"}},{"$error":"#VALUE!"},{"$error":"#VALUE!"},{"$error":"#VALUE!"},{"$error":"#VALUE!"},{"$error":"#VALUE!"},{"$error":"#VALUE!"},{"$error":"#VALUE!"},{"$error":"#VALUE!"},{"$error":"#VALUE!"},{"$error":"#VALUE!"},{"$error":"#VALUE!"},{"$error":"#VALUE!"},null,null,null,"",{"$f":"MIN((S143+AN35*D19)/AK46,(S144+AN35*D19)/AL46,(S145+AN35*D19)/AM46,(S146+AN35*D19)/AN46,(S147+AN35*D19)/AO46)*AP46","v":{"$error":"#VALUE!"}},{"$f":"MIN((T143+AN35*D19)/AK46,(T144+AN35*D19)/AL46,(T145+AN35*D19)/AM46,(T146+AN35*D19)/AN46,(T147+AN35*D19)/AO46)*AP46","v":{"$error":"#VALUE!"}},{"$f":"MIN((U143+AN35*D19)/AK46,(U144+AN35*D19)/AL46,(U145+AN35*D19)/AM46,(U146+AN35*D19)/AN46,(U147+AN35*D19)/AO46)*AP46","v":{"$error":"#VALUE!"}},{"$f":"MIN((V143+AN35*D19)/AK46,(V144+AN35*D19)/AL46,(V145+AN35*D19)/AM46,(V146+AN35*D19)/AN46,(V147+AN35*D19)/AO46)*AP46","v":{"$error":"#VALUE!"}},{"$f":"MIN((W143+AN35*D19)/AK46,(W144+AN35*D19)/AL46,(W145+AN35*D19)/AM46,(W146+AN35*D19)/AN46,(W147+AN35*D19)/AO46)*AP46","v":{"$error":"#VALUE!"}},{"$f":"MIN((X143+AN35*D19)/AK46,(X144+AN35*D19)/AL46,(X145+AN35*D19)/AM46,(X146+AN35*D19)/AN46,(X147+AN35*D19)/AO46)*AP46","v":{"$error":"#VALUE!"}},{"$f":"MIN((Y143+AN35*D19)/AK46,(Y144+AN35*D19)/AL46,(Y145+AN35*D19)/AM46,(Y146+AN35*D19)/AN46,(Y147+AN35*D19)/AO46)*AP46","v":{"$error":"#VALUE!"}},{"$f":"MIN((Z143+AN35*D19)/AK46,(Z144+AN35*D19)/AL46,(Z145+AN35*D19)/AM46,(Z146+AN35*D19)/AN46,(Z147+AN35*D19)/AO46)*AP46","v":{"$error":"#VALUE!"}},{"$f":"MIN((AA143+AN35*D19)/AK46,(AA144+AN35*D19)/AL46,(AA145+AN35*D19)/AM46,(AA146+AN35*D19)/AN46,(AA147+AN35*D19)/AO46)*AP46","v":{"$error":"#VALUE!"}},{"$f":"MIN((AB143+AN35*D19)/AK46,(AB144+AN35*D19)/AL46,(AB145+AN35*D19)/AM46,(AB146+AN35*D19)/AN46,(AB147+AN35*D19)/AO46)*AP46","v":{"$error":"#VALUE!"}},{"$f":"MIN((AC143+AN35*D19)/AK46,(AC144+AN35*D19)/AL46,(AC145+AN35*D19)/AM46,(AC146+AN35*D19)/AN46,(AC147+AN35*D19)/AO46)*AP46","v":{"$error":"#VALUE!"}},{"$f":"MIN((AD143+AN35*D19)/AK46,(AD144+AN35*D19)/AL46,(AD145+AN35*D19)/AM46,(AD146+AN35*D19)/AN46,(AD147+AN35*D19)/AO46)*AP46","v":{"$error":"#VALUE!"}},{"$f":"MIN((AE143+AN35*D19)/AK46,(AE144+AN35*D19)/AL46,(AE145+AN35*D19)/AM46,(AE146+AN35*D19)/AN46,(AE147+AN35*D19)/AO46)*AP46","v":{"$error":"#VALUE!"}},{"$f":"MIN((AF143+AN35*D19)/AK46,(AF144+AN35*D19)/AL46,(AF145+AN35*D19)/AM46,(AF146+AN35*D19)/AN46,(AF147+AN35*D19)/AO46)*AP46","v":{"$error":"#VALUE!"}},{"$error":"#VALUE!"},null,"",{"$f":"MIN((S143+AO35*D19)/AK47,(S144+AO35*D19)/AL47,(S145+AO35*D19)/AM47,(S146+AO35*D19)/AN47,(S147+AO35*D19)/AO47)*AP47","v":{"$error":"#VALUE!"}},{"$f":"MIN((T143+AO35*D19)/AK47,(T144+AO35*D19)/AL47,(T145+AO35*D19)/AM47,(T146+AO35*D19)/AN47,(T147+AO35*D19)/AO47)*AP47","v":{"$error":"#VALUE!"}},{"$f":"MIN((U143+AO35*D19)/AK47,(U144+AO35*D19)/AL47,(U145+AO35*D19)/AM47,(U146+AO35*D19)/AN47,(U147+AO35*D19)/AO47)*AP47","v":{"$error":"#VALUE!"}},{"$f":"MIN((V143+AO35*D19)/AK47,(V144+AO35*D19)/AL47,(V145+AO35*D19)/AM47,(V146+AO35*D19)/AN47,(V147+AO35*D19)/AO47)*AP47","v":{"$error":"#VALUE!"}},{"$f":"MIN((W143+AO35*D19)/AK47,(W144+AO35*D19)/AL47,(W145+AO35*D19)/AM47,(W146+AO35*D19)/AN47,(W147+AO35*D19)/AO47)*AP47","v":{"$error":"#VALUE!"}},{"$f":"MIN((X143+AO35*D19)/AK47,(X144+AO35*D19)/AL47,(X145+AO35*D19)/AM47,(X146+AO35*D19)/AN47,(X147+AO35*D19)/AO47)*AP47","v":{"$error":"#VALUE!"}},{"$f":"MIN((Y143+AO35*D19)/AK47,(Y144+AO35*D19)/AL47,(Y145+AO35*D19)/AM47,(Y146+AO35*D19)/AN47,(Y147+AO35*D19)/AO47)*AP47","v":{"$error":"#VALUE!"}},{"$f":"MIN((Z143+AO35*D19)/AK47,(Z144+AO35*D19)/AL47,(Z145+AO35*D19)/AM47,(Z146+AO35*D19)/AN47,(Z147+AO35*D19)/AO47)*AP47","v":{"$error":"#VALUE!"}},{"$f":"MIN((AA143+AO35*D19)/AK47,(AA144+AO35*D19)/AL47,(AA145+AO35*D19)/AM47,(AA146+AO35*D19)/AN47,(AA147+AO35*D19)/AO47)*AP47","v":{"$error":"#VALUE!"}},{"$f":"MIN((AB143+AO35*D19)/AK47,(AB144+AO35*D19)/AL47,(AB145+AO35*D19)/AM47,(AB146+AO35*D19)/AN47,(AB147+AO35*D19)/AO47)*AP47","v":{"$error":"#VALUE!"}},{"$f":"MIN((AC143+AO35*D19)/AK47,(AC144+AO35*D19)/AL47,(AC145+AO35*D19)/AM47,(AC146+AO35*D19)/AN47,(AC147+AO35*D19)/AO47)*AP47","v":{"$error":"#VALUE!"}},{"$f":"MIN((AD143+AO35*D19)/AK47,(AD144+AO35*D19)/AL47,(AD145+AO35*D19)/AM47,(AD146+AO35*D19)/AN47,(AD147+AO35*D19)/AO47)*AP47","v":{"$error":"#VALUE!"}},{"$f":"MIN((AE143+AO35*D19)/AK47,(AE144+AO35*D19)/AL47,(AE145+AO35*D19)/AM47,(AE146+AO35*D19)/AN47,(AE147+AO35*D19)/AO47)*AP47","v":{"$error":"#VALUE!"}},{"$f":"MIN((AF143+AO35*D19)/AK47,(AF144+AO35*D19)/AL47,(AF145+AO35*D19)/AM47,(AF146+AO35*D19)/AN47,(AF147+AO35*D19)/AO47)*AP47","v":{"$error":"#VALUE!"}},{"$error":"#VALUE!"},null,"",{"$error":"#VALUE!"},{"$error":"#VALUE!"},{"$error":"#VALUE!"},{"$error":"#VALUE!"},{"$error":"#VALUE!"},{"$error":"#VALUE!"},{"$error":"#VALUE!"},{"$error":"#VALUE!"},{"$error":"#VALUE!"},{"$error":"#VALUE!"},{"$error":"#VALUE!"},{"$error":"#VALUE!"},{"$error":"#VALUE!"},{"$error":"#VALUE!"},{"$error":"#VALUE!"},{"$error":"#VALUE!"},{"$error":"#VALUE!"},{"$error":"#VALUE!"},{"$error":"#VALUE!"},{"$error":"#VALUE!"},{"$error":"#VALUE!"},{"$error":"#VALUE!"},"-",null,null,null,"off",{"$error":"#VALUE!"},{"$error":"#VALUE!"},{"$error":"#VALUE!"},{"$error":"#VALUE!"},{"$error":"#VALUE!"},{"$error":"#VALUE!"},{"$error":"#VALUE!"},{"$error":"#VALUE!"},{"$error":"#VALUE!"},{"$error":"#VALUE!"},{"$error":"#VALUE!"},{"$error":"#VALUE!"},{"$error":"#VALUE!"},{"$error":"#VALUE!"},{"$error":"#VALUE!"},{"$error":"#VALUE!"},{"$error":"#VALUE!"},{"$error":"#VALUE!"},{"$error":"#VALUE!"},{"$error":"#VALUE!"},{"$error":"#VALUE!"},{"$error":"#VALUE!"},{"$error":"#VALUE!"},{"$error":"#VALUE!"},{"$error":"#VALUE!"},{"$error":"#VALUE!"},{"$error":"#VALUE!"},{"$error":"#VALUE!"},{"$error":"#VALUE!"},{"$error":"#VALUE!"},{"$error":"#VALUE!"},{"$error":"#VALUE!"},{"$error":"#VALUE!"},{"$error":"#VALUE!"},{"$error":"#VALUE!"},{"$error":"#VALUE!"},{"$error":"#VALUE!"},{"$error":"#VALUE!"},{"$error":"#VALUE!"},{"$error":"#VALUE!"},{"$error":"#VALUE!"},{"$error":"#VALUE!"},{"$error":"#VALUE!"},{"$error":"#VALUE!"},{"$error":"#VALUE!"},{"$error":"#VALUE!"},{"$error":"#VALUE!"},{"$error":"#VALUE!"}]
[null,null,null,"CAP",{"$f":"IF(G30<>\"\",G30,\"\")","v":""},1,"",{"$f":"IF(G30<>\"\",IF(ISNA(IF(VLOOKUP(G30,$AI$8:$AV$33,14,FALSE)=\"\",\"\",(HLOOKUP(VLOOKUP(G30,$BA$10:$BB$20,2,FALSE),S191:AF196,6,FALSE)/100+MIN(5000,M30)/500)/100)),G123,IF(VLOOKUP(G30,$AI$8:$AV$33,14,FALSE)=\"\",\"\",(HLOOKUP(VLOOKUP(G30,$BA$10:$BB$20,2,FALSE),S191:AF196,6,FALSE)/100+MIN(5000,M30)/500)/100)),\"\")","v":""},{"$f":"IF(G30<>\"\",IF(ISNA(IF(VLOOKUP(G30,$AI$8:$AV$29,14,FALSE)=\"\",\"\",((HLOOKUP(VLOOKUP(G30,$BA$10:$BB$20,2,FALSE),$S$191:$AF$196,6,FALSE)+IF(HLOOKUP(F123,$AJ$7:$AT$35,29,FALSE)=1,D19,0))/100+MIN(5000,M30)/500)/100)),H123,IF(VLOOKUP(G30,$AI$8:$AV$29,14,FALSE)=\"\",\"\",((HLOOKUP(VLOOKUP(G30,$BA$10:$BB$20,2,FALSE),$S$191:$AF$196,6,FALSE)+IF(HLOOKUP(F123,$AJ$7:$AT$35,29,FALSE)=1,D19,0))/100+MIN(5000,M30)/500)/100)),\"\")","v":""},null,null,null,null,null,null,null,null,{"$f":"IF($AX$306,I20+VLOOKUP(Team!$Y26,Team!$E$30:$J$300,6,FALSE),I20+AH40+$D$21)+$D$19*$AG$17","v":{"$error":"#VALUE!"}},{"$f":"IF($AX$306,$R123,$R123+Q11)","v":{"$error":"#VALUE!"}},{"$error":"#VALUE!"},{"$error":"#VALUE!"},{"$error":"#VALUE!"},{"$error":"#VALUE!"},{"$error":"#VALUE!"},{"$error":"#VALUE!"},{"$error":"#VALUE!"},{"$error":"#VALUE!"},{"$error":"#VALUE!"},{"$error":"#VALUE!"},{"$error":"#VALUE!"},{"$error":"#VALUE!"},{"$error":"#VALUE!"},null,null,null,"",{"$f":"MIN((S150+AN35*D19)/AK46,(S151+AN35*D19)/AL46,(S152+AN35*D19)/AM46,(S153+AN35*D19)/AN46,(S154+AN35*D19)/AO46)*AP46","v":{"$error":"#VALUE!"}},{"$f":"MIN((T150+AN35*D19)/AK46,(T151+AN35*D19)/AL46,(T152+AN35*D19)/AM46,(T153+AN35*D19)/AN46,(T154+AN35*D19)/AO46)*AP46","v":{"$error":"#VALUE!"}},{"$f":"MIN((U150+AN35*D19)/AK46,(U151+AN35*D19)/AL46,(U152+AN35*D19)/AM46,(U153+AN35*D19)/AN46,(U154+AN35*D19)/AO46)*AP46","v":{"$error":"#VALUE!"}},{"$f":"MIN((V150+AN35*D19)/AK46,(V151+AN35*D19)/AL46,(V152+AN35*D19)/AM46,(V153+AN35*D19)/AN46,(V154+AN35*D19)/AO46)*AP46","v":{"$error":"#VALUE!"}},{"$f":"MIN((W150+AN35*D19)/AK46,(W151+AN35*D19)/AL46,(W152+AN35*D19)/AM46,(W153+AN35*D19)/AN46,(W154+AN35*D19)/AO46)*AP46","v":{"$error":"#VALUE!"}},{"$f":"MIN((X150+AN35*D19)/AK46,(X151+AN35*D19)/AL46,(X152+AN35*D19)/AM46,(X153+AN35*D19)/AN46,(X154+AN35*D19)/AO46)*AP46","v":{"$error":"#VALUE!"}},{"$f":"MIN((Y150+AN35*D19)/AK46,(Y151+AN35*D19)/AL46,(Y152+AN35*D19)/AM46,(Y153+AN35*D19)/AN46,(Y154+AN35*D19)/AO46)*AP46","v":{"$error":"#VALUE!"}},{"$f":"MIN((Z150+AN35*D19)/AK46,(Z151+AN35*D19)/AL46,(Z152+AN35*D19)/AM46,(Z153+AN35*D19)/AN46,(Z154+AN35*D19)/AO46)*AP46","v":{"$error":"#VALUE!"}},{"$f":"MIN((AA150+AN35*D19)/AK46,(AA151+AN35*D19)/AL46,(AA152+AN35*D19)/AM46,(AA153+AN35*D19)/AN46,(AA154+AN35*D19)/AO46)*AP46","v":{"$error":"#VALUE!"}},{"$f":"MIN((AB150+AN35*D19)/AK46,(AB151+AN35*D19)/AL46,(AB152+AN35*D19)/AM46,(AB153+AN35*D19)/AN46,(AB154+AN35*D19)/AO46)*AP46","v":{"$error":"#VALUE!"}},{"$f":"MIN((AC150+AN35*D19)/AK46,(AC151+AN35*D19)/AL46,(AC152+AN35*D19)/AM46,(AC153+AN35*D19)/AN46,(AC154+AN35*D19)/AO46)*AP46","v":{"$error":"#VALUE!"}},{"$f":"MIN((AD150+AN35*D19)/AK46,(AD151+AN35*D19)/AL46,(AD152+AN35*D19)/AM46,(AD153+AN35*D19)/AN46,(AD154+AN35*D19)/AO46)*AP46","v":{"$error":"#VALUE!"}},{"$f":"MIN((AE150+AN35*D19)/AK46,(AE151+AN35*D19)/AL46,(AE152+AN35*D19)/AM46,(AE153+AN35*D19)/AN46,(AE154+AN35*D19)/AO46)*AP46","v":{"$error":"#VALUE!"}},{"$f":"MIN((AF150+AN35*D19)/AK46,(AF151+AN35*D19)/AL46,(AF152+AN35*D19)/AM46,(AF153+AN35*D19)/AN46,(AF154+AN35*D19)/AO46)*AP46","v":{"$error":"#VALUE!"}},{"$error":"#VALUE!"},null,"",{"$f":"MIN((S150+AO35*D19)/AK47,(S151+AO35*D19)/AL47,(S152+AO35*D19)/AM47,(S153+AO35*D19)/AN47,(S154+AO35*D19)/AO47)*AP47","v":{"$error":"#VALUE!"}},{"$f":"MIN((T150+AO35*D19)/AK47,(T151+AO35*D19)/AL47,(T152+AO35*D19)/AM47,(T153+AO35*D19)/AN47,(T154+AO35*D19)/AO47)*AP47","v":{"$error":"#VALUE!"}},{"$f":"MIN((U150+AO35*D19)/AK47,(U151+AO35*D19)/AL47,(U152+AO35*D19)/AM47,(U153+AO35*D19)/AN47,(U154+AO35*D19)/AO47)*AP47","v":{"$error":"#VALUE!"}},{"$f":"MIN((V150+AO35*D19)/AK47,(V151+AO35*D19)/AL47,(V152+AO35*D19)/AM47,(V153+AO35*D19)/AN47,(V154+AO35*D19)/AO47)*AP47","v":{"$error":"#VALUE!"}},{"$f":"MIN((W150+AO35*D19)/AK47,(W151+AO35*D19)/AL47,(W152+AO35*D19)/AM47,(W153+AO35*D19)/AN47,(W154+AO35*D19)/AO47)*AP47","v":{"$error":"#VALUE!"}},{"$f":"MIN((X150+AO35*D19)/AK47,(X151+AO35*D19)/AL47,(X152+AO35*D19)/AM47,(X153+AO35*D19)/AN47,(X154+AO35*D19)/AO47)*AP47","v":{"$error":"#VALUE!"}},{"$f":"MIN((Y150+AO35*D19)/AK47,(Y151+AO35*D19)/AL47,(Y152+AO35*D19)/AM47,(Y153+AO35*D19)/AN47,(Y154+AO35*D19)/AO47)*AP47","v":{"$error":"#VALUE!"}},{"$f":"MIN((Z150+AO35*D19)/AK47,(Z151+AO35*D19)/AL47,(Z152+AO35*D19)/AM47,(Z153+AO35*D19)/AN47,(Z154+AO35*D19)/AO47)*AP47","v":{"$error":"#VALUE!"}},{"$f":"MIN((AA150+AO35*D19)/AK47,(AA151+AO35*D19)/AL47,(AA152+AO35*D19)/AM47,(AA153+AO35*D19)/AN47,(AA154+AO35*D19)/AO47)*AP47","v":{"$error":"#VALUE!"}},{"$f":"MIN((AB150+AO35*D19)/AK47,(AB151+AO35*D19)/AL47,(AB152+AO35*D19)/AM47,(AB153+AO35*D19)/AN47,(AB154+AO35*D19)/AO47)*AP47","v":{"$error":"#VALUE!"}},{"$f":"MIN((AC150+AO35*D19)/AK47,(AC151+AO35*D19)/AL47,(AC152+AO35*D19)/AM47,(AC153+AO35*D19)/AN47,(AC154+AO35*D19)/AO47)*AP47","v":{"$error":"#VALUE!"}},{"$f":"MIN((AD150+AO35*D19)/AK47,(AD151+AO35*D19)/AL47,(AD152+AO35*D19)/AM47,(AD153+AO35*D19)/AN47,(AD154+AO35*D19)/AO47)*AP47","v":{"$error":"#VALUE!"}},{"$f":"MIN((AE150+AO35*D19)/AK47,(AE151+AO35*D19)/AL47,(AE152+AO35*D19)/AM47,(AE153+AO35*D19)/AN47,(AE154+AO35*D19)/AO47)*AP47","v":{"$error":"#VALUE!"}},{"$f":"MIN((AF150+AO35*D19)/AK47,(AF151+AO35*D19)/AL47,(AF152+AO35*D19)/AM47,(AF153+AO35*D19)/AN47,(AF154+AO35*D19)/AO47)*AP47","v":{"$error":"#VALUE!"}},{"$error":"#VALUE!"},null,"",{"$error":"#VALUE!"},{"$error":"#VALUE!"},{"$error":"#VALUE!"},{"$error":"#VALUE!"},{"$error":"#VALUE!"},{"$error":"#VALUE!"},{"$error":"#VALUE!"},{"$error":"#VALUE!"},{"$error":"#VALUE!"},{"$error":"#VALUE!"},{"$error":"#VALUE!"},{"$error":"#VALUE!"},{"$error":"#VALUE!"},{"$error":"#VALUE!"},{"$error":"#VALUE!"},{"$error":"#VALUE!"},{"$error":"#VALUE!"},{"$error":"#VALUE!"},{"$error":"#VALUE!"},{"$error":"#VALUE!"},{"$error":"#VALUE!"},{"$error":"#VALUE!"},"-",null,null,352,"def",{"$error":"#VALUE!"},{"$error":"#VALUE!"},{"$error":"#VALUE!"},{"$error":"#VALUE!"},{"$error":"#VALUE!"},{"$error":"#VALUE!"},{"$error":"#VALUE!"},{"$error":"#VALUE!"},{"$error":"#VALUE!"},{"$error":"#VALUE!"},{"$error":"#VALUE!"},{"$error":"#VALUE!"},{"$error":"#VALUE!"},{"$error":"#VALUE!"},{"$error":"#VALUE!"},{"$error":"#VALUE!"},{"$error":"#VALUE!"},{"$error":"#VALUE!"},{"$error":"#VALUE!"},{"$error":"#VALUE!"},{"$error":"#VALUE!"},{"$error":"#VALUE!"},{"$error":"#VALUE!"},{"$error":"#VALUE!"},{"$error":"#VALUE!"},{"$error":"#VALUE!"},{"$error":"#VALUE!"},{"$error":"#VALUE!"},{"$error":"#VALUE!"},{"$error":"#VALUE!"},{"$error":"#VALUE!"},{"$error":"#VALUE!"},{"$error":"#VALUE!"},{"$error":"#VALUE!"},{"$error":"#VALUE!"},{"$error":"#VALUE!"},{"$error":"#VALUE!"},{"$error":"#VALUE!"},{"$error":"#VALUE!"},{"$error":"#VALUE!"},{"$error":"#VALUE!"},{"$error":"#VALUE!"},{"$error":"#VALUE!"},{"$error":"#VALUE!"},{"$error":"#VALUE!"},{"$error":"#VALUE!"},{"$error":"#VALUE!"},{"$error":"#VALUE!"}]
[null,null,null,"CAP",{"$f":"IF(G31<>\"\",G31,\"\")","v":""},1,"",{"$f":"IF(G31<>\"\",IF(ISNA(IF(VLOOKUP(G31,$AI$8:$AV$33,14,FALSE)=\"\",\"\",(HLOOKUP(VLOOKUP(G31,$BA$10:$BB$20,2,FALSE),S198:AF203,6,FALSE)/100+MIN(5000,M31)/500)/100)),G124,IF(VLOOKUP(G31,$AI$8:$AV$33,14,FALSE)=\"\",\"\",(HLOOKUP(VLOOKUP(G31,$BA$10:$BB$20,2,FALSE),S198:AF203,6,FALSE)/100+MIN(5000,M31)/500)/100)),\"\")","v":""},{"$f":"IF(G31<>\"\",IF(ISNA(IF(VLOOKUP(G31,$AI$8:$AV$29,14,FALSE)=\"\",\"\",((HLOOKUP(VLOOKUP(G31,$BA$10:$BB$20,2,FALSE),$S$198:$AF$203,6,FALSE)+IF(HLOOKUP(F124,$AJ$7:$AT$35,29,FALSE)=1,D19,0))/100+MIN(5000,M31)/500)/100)),H124,IF(VLOOKUP(G31,$AI$8:$AV$29,14,FALSE)=\"\",\"\",((HLOOKUP(VLOOKUP(G31,$BA$10:$BB$20,2,FALSE),$S$198:$AF$203,6,FALSE)+IF(HLOOKUP(F124,$AJ$7:$AT$35,29,FALSE)=1,D19,0))/100+MIN(5000,M31)/500)/100)),\"\")","v":""},null,null,null,null,null,null,null,null,{"$f":"IF($AX$306,J20+VLOOKUP(Team!$Z26,Team!$E$30:$J$300,6,FALSE),J20+AH41+$D$21)+$D$19*$AG$17","v":{"$error":"#VALUE!"}},{"$f":"IF($AX$306,$R124,$R124+Q12)","v":{"$error":"#VALUE!"}},{"$error":"#VALUE!"},{"$error":"#VALUE!"},{"$error":"#VALUE!"},{"$error":"#VALUE!"},{"$error":"#VALUE!"},{"$error":"#VALUE!"},{"$error":"#VALUE!"},{"$error":"#VALUE!"},{"$error":"#VALUE!"},{"$error":"#VALUE!"},{"$error":"#VALUE!"},{"$error":"#VALUE!"},{"$error":"#VALUE!"},null,null,null,"",{"$f":"MIN((S157+AN35*D19)/AK46,(S158+AN35*D19)/AL46,(S159+AN35*D19)/AM46,(S160+AN35*D19)/AN46,(S161+AN35*D19)/AO46)*AP46","v":{"$error":"#VALUE!"}},{"$f":"MIN((T157+AN35*D19)/AK46,(T158+AN35*D19)/AL46,(T159+AN35*D19)/AM46,(T160+AN35*D19)/AN46,(T161+AN35*D19)/AO46)*AP46","v":{"$error":"#VALUE!"}},{"$f":"MIN((U157+AN35*D19)/AK46,(U158+AN35*D19)/AL46,(U159+AN35*D19)/AM46,(U160+AN35*D19)/AN46,(U161+AN35*D19)/AO46)*AP46","v":{"$error":"#VALUE!"}},{"$f":"MIN((V157+AN35*D19)/AK46,(V158+AN35*D19)/AL46,(V159+AN35*D19)/AM46,(V160+AN35*D19)/AN46,(V161+AN35*D19)/AO46)*AP46","v":{"$error":"#VALUE!"}},{"$f":"MIN((W157+AN35*D19)/AK46,(W158+AN35*D19)/AL46,(W159+AN35*D19)/AM46,(W160+AN35*D19)/AN46,(W161+AN35*D19)/AO46)*AP46","v":{"$error":"#VALUE!"}},{"$f":"MIN((X157+AN35*D19)/AK46,(X158+AN35*D19)/AL46,(X159+AN35*D19)/AM46,(X160+AN35*D19)/AN46,(X161+AN35*D19)/AO46)*AP46","v":{"$error":"#VALUE!"}},{"$f":"MIN((Y157+AN35*D19)/AK46,(Y158+AN35*D19)/AL46,(Y159+AN35*D19)/AM46,(Y160+AN35*D19)/AN46,(Y161+AN35*D19)/AO46)*AP46","v":{"$error":"#VALUE!"}},{"$f":"MIN((Z157+AN35*D19)/AK46,(Z158+AN35*D19)/AL46,(Z159+AN35*D19)/AM46,(Z160+AN35*D19)/AN46,(Z161+AN35*D19)/AO46)*AP46","v":{"$error":"#VALUE!"}},{"$f":"MIN((AA157+AN35*D19)/AK46,(AA158+AN35*D19)/AL46,(AA159+AN35*D19)/AM46,(AA160+AN35*D19)/AN46,(AA161+AN35*D19)/AO46)*AP46","v":{"$error":"#VALUE!"}},{"$f":"MIN((AB157+AN35*D19)/AK46,(AB158+AN35*D19)/AL46,(AB159+AN35*D19)/AM46,(AB160+AN35*D19)/AN46,(AB161+AN35*D19)/AO46)*AP46","v":{"$error":"#VALUE!"}},{"$f":"MIN((AC157+AN35*D19)/AK46,(AC158+AN35*D19)/AL46,(AC159+AN35*D19)/AM46,(AC160+AN35*D19)/AN46,(AC161+AN35*D19)/AO46)*AP46","v":{"$error":"#VALUE!"}},{"$f":"MIN((AD157+AN35*D19)/AK46,(AD158+AN35*D19)/AL46,(AD159+AN35*D19)/AM46,(AD160+AN35*D19)/AN46,(AD161+AN35*D19)/AO46)*AP46","v":{"$error":"#VALUE!"}},{"$f":"MIN((AE157+AN35*D19)/AK46,(AE158+AN35*D19)/AL46,(AE159+AN35*D19)/AM46,(AE160+AN35*D19)/AN46,(AE161+AN35*D19)/AO46)*AP46","v":{"$error":"#VALUE!"}},{"$f":"MIN((AF157+AN35*D19)/AK46,(AF158+AN35*D19)/AL46,(AF159+AN35*D19)/AM46,(AF160+AN35*D19)/AN46,(AF161+AN35*D19)/AO46)*AP46","v":{"$error":"#VALUE!"}},{"$error":"#VALUE!"},null,"",{"$f":"MIN((S157+AO35*D19)/AK47,(S158+AO35*D19)/AL47,(S159+AO35*D19)/AM47,(S160+AO35*D19)/AN47,(S161+AO35*D19)/AO47)*AP47","v":{"$error":"#VALUE!"}},{"$f":"MIN((T157+AO35*D19)/AK47,(T158+AO35*D19)/AL47,(T159+AO35*D19)/AM47,(T160+AO35*D19)/AN47,(T161+AO35*D19)/AO47)*AP47","v":{"$error":"#VALUE!"}},{"$f":"MIN((U157+AO35*D19)/AK47,(U158+AO35*D19)/AL47,(U159+AO35*D19)/AM47,(U160+AO35*D19)/AN47,(U161+AO35*D19)/AO47)*AP47","v":{"$error":"#VALUE!"}},{"$f":"MIN((V157+AO35*D19)/AK47,(V158+AO35*D19)/AL47,(V159+AO35*D19)/AM47,(V160+AO35*D19)/AN47,(V161+AO35*D19)/AO47)*AP47","v":{"$error":"#VALUE!"}},{"$f":"MIN((W157+AO35*D19)/AK47,(W158+AO35*D19)/AL47,(W159+AO35*D19)/AM47,(W160+AO35*D19)/AN47,(W161+AO35*D19)/AO47)*AP47","v":{"$error":"#VALUE!"}},{"$f":"MIN((X157+AO35*D19)/AK47,(X158+AO35*D19)/AL47,(X159+AO35*D19)/AM47,(X160+AO35*D19)/AN47,(X161+AO35*D19)/AO47)*AP47","v":{"$error":"#VALUE!"}},{"$f":"MIN((Y157+AO35*D19)/AK47,(Y158+AO35*D19)/AL47,(Y159+AO35*D19)/AM47,(Y160+AO35*D19)/AN47,(Y161+AO35*D19)/AO47)*AP47","v":{"$error":"#VALUE!"}},{"$f":"MIN((Z157+AO35*D19)/AK47,(Z158+AO35*D19)/AL47,(Z159+AO35*D19)/AM47,(Z160+AO35*D19)/AN47,(Z161+AO35*D19)/AO47)*AP47","v":{"$error":"#VALUE!"}},{"$f":"MIN((AA157+AO35*D19)/AK47,(AA158+AO35*D19)/AL47,(AA159+AO35*D19)/AM47,(AA160+AO35*D19)/AN47,(AA161+AO35*D19)/AO47)*AP47","v":{"$error":"#VALUE!"}},{"$f":"MIN((AB157+AO35*D19)/AK47,(AB158+AO35*D19)/AL47,(AB159+AO35*D19)/AM47,(AB160+AO35*D19)/AN47,(AB161+AO35*D19)/AO47)*AP47","v":{"$error":"#VALUE!"}},{"$f":"MIN((AC157+AO35*D19)/AK47,(AC158+AO35*D19)/AL47,(AC159+AO35*D19)/AM47,(AC160+AO35*D19)/AN47,(AC161+AO35*D19)/AO47)*AP47","v":{"$error":"#VALUE!"}},{"$f":"MIN((AD157+AO35*D19)/AK47,(AD158+AO35*D19)/AL47,(AD159+AO35*D19)/AM47,(AD160+AO35*D19)/AN47,(AD161+AO35*D19)/AO47)*AP47","v":{"$error":"#VALUE!"}},{"$f":"MIN((AE157+AO35*D19)/AK47,(AE158+AO35*D19)/AL47,(AE159+AO35*D19)/AM47,(AE160+AO35*D19)/AN47,(AE161+AO35*D19)/AO47)*AP47","v":{"$error":"#VALUE!"}},{"$f":"MIN((AF157+AO35*D19)/AK47,(AF158+AO35*D19)/AL47,(AF159+AO35*D19)/AM47,(AF160+AO35*D19)/AN47,(AF161+AO35*D19)/AO47)*AP47","v":{"$error":"#VALUE!"}},{"$error":"#VALUE!"},null,"",{"$error":"#VALUE!"},{"$error":"#VALUE!"},{"$error":"#VALUE!"},{"$error":"#VALUE!"},{"$error":"#VALUE!"},{"$error":"#VALUE!"},{"$error":"#VALUE!"},{"$error":"#VALUE!"},{"$error":"#VALUE!"},{"$error":"#VALUE!"},{"$error":"#VALUE!"},{"$error":"#VALUE!"},{"$error":"#VALUE!"},{"$error":"#VALUE!"},{"$error":"#VALUE!"},{"$error":"#VALUE!"},{"$error":"#VALUE!"},{"$error":"#VALUE!"},{"$error":"#VALUE!"},{"$error":"#VALUE!"},{"$error":"#VALUE!"},{"$error":"#VALUE!"},"-",null,null,null,"neutre",{"$error":"#VALUE!"},{"$error":"#VALUE!"},{"$error":"#VALUE!"},{"$error":"#VALUE!"},{"$error":"#VALUE!"},{"$error":"#VALUE!"},{"$error":"#VALUE!"},{"$error":"#VALUE!"},{"$error":"#VALUE!"},{"$error":"#VALUE!"},{"$error":"#VALUE!"},{"$error":"#VALUE!"},{"$error":"#VALUE!"},{"$error":"#VALUE!"},{"$error":"#VALUE!"},{"$error":"#VALUE!"},{"$error":"#VALUE!"},{"$error":"#VALUE!"},{"$error":"#VALUE!"},{"$error":"#VALUE!"},{"$error":"#VALUE!"},{"$error":"#VALUE!"},{"$error":"#VALUE!"},{"$error":"#VALUE!"},{"$error":"#VALUE!"},{"$error":"#VALUE!"},{"$error":"#VALUE!"},{"$error":"#VALUE!"},{"$error":"#VALUE!"},{"$error":"#VALUE!"},{"$error":"#VALUE!"},{"$error":"#VALUE!"},{"$error":"#VALUE!"},{"$error":"#VALUE!"},{"$error":"#VALUE!"},{"$error":"#VALUE!"},{"$error":"#VALUE!"},{"$error":"#VALUE!"},{"$error":"#VALUE!"},{"$error":"#VALUE!"},{"$error":"#VALUE!"},{"$error":"#VALUE!"},{"$error":"#VALUE!"},{"$error":"#VALUE!"},{"$error":"#VALUE!"},{"$error":"#VALUE!"},{"$error":"#VALUE!"},{"$error":"#VALUE!"}]
[null,null,null,"CAP",{"$f":"IF(G32<>\"\",G32,\"\")","v":""},1,{"$f":"IF(G32<>\"\",(L32/100+MIN(5000,M32)/500)/100,\"\")","v":""},{"$f":"IF(G32<>\"\",IF(ISNA(IF(VLOOKUP(G32,$AI$8:$AV$33,14,FALSE)=\"\",\"\",(HLOOKUP(VLOOKUP(G32,$BA$10:$BB$20,2,FALSE),S205:AF210,6,FALSE)/100+MIN(5000,M32)/500)/100)),G125,IF(VLOOKUP(G32,$AI$8:$AV$33,14,FALSE)=\"\",\"\",(HLOOKUP(VLOOKUP(G32,$BA$10:$BB$20,2,FALSE),S205:AF210,6,FALSE)/100+MIN(5000,M32)/500)/100)),\"\")","v":""},{"$f":"IF(G32<>\"\",IF(ISNA(IF(VLOOKUP(G32,$AI$8:$AV$29,14,FALSE)=\"\",\"\",((HLOOKUP(VLOOKUP(G32,$BA$10:$BB$20,2,FALSE),$S$205:$AF$210,6,FALSE)+IF(HLOOKUP(F125,$AJ$7:$AT$35,29,FALSE)=1,D19,0))/100+MIN(5000,M32)/500)/100)),H125,IF(VLOOKUP(G32,$AI$8:$AV$29,14,FALSE)=\"\",\"\",((HLOOKUP(VLOOKUP(G32,$BA$10:$BB$20,2,FALSE),$S$205:$AF$210,6,FALSE)+IF(HLOOKUP(F125,$AJ$7:$AT$35,29,FALSE)=1,D19,0))/100+MIN(5000,M32)/500)/100)),\"\")","v":""},null,null,null,null,null,null,null,null,{"$f":"IF($AX$306,K20+VLOOKUP(Team!$AA26,Team!$E$30:$J$300,6,FALSE),K20+AH42+$D$21)+$D$19*$AG$17","v":{"$error":"#VALUE!"}},{"$f":"IF($AX$306,$R125,$R125+Q13)","v":{"$error":"#VALUE!"}},{"$error":"#VALUE!"},{"$error":"#VALUE!"},{"$error":"#VALUE!"},{"$error":"#VALUE!"},{"$error":"#VALUE!"},{"$error":"#VALUE!"},{"$error":"#VALUE!"},{"$error":"#VALUE!"},{"$error":"#VALUE!"},{"$error":"#VALUE!"},{"$error":"#VALUE!"},{"$error":"#VALUE!"},{"$error":"#VALUE!"},null,null,null,"",{"$f":"MIN((S164+AN35*D19)/AK46,(S165+AN35*D19)/AL46,(S166+AN35*D19)/AM46,(S167+AN35*D19)/AN46,(S168+AN35*D19)/AO46)*AP46","v":{"$error":"#VALUE!"}},{"$f":"MIN((T164+AN35*D19)/AK46,(T165+AN35*D19)/AL46,(T166+AN35*D19)/AM46,(T167+AN35*D19)/AN46,(T168+AN35*D19)/AO46)*AP46","v":{"$error":"#VALUE!"}},{"$f":"MIN((U164+AN35*D19)/AK46,(U165+AN35*D19)/AL46,(U166+AN35*D19)/AM46,(U167+AN35*D19)/AN46,(U168+AN35*D19)/AO46)*AP46","v":{"$error":"#VALUE!"}},{"$f":"MIN((V164+AN35*D19)/AK46,(V165+AN35*D19)/AL46,(V166+AN35*D19)/AM46,(V167+AN35*D19)/AN46,(V168+AN35*D19)/AO46)*AP46","v":{"$error":"#VALUE!"}},{"$f":"MIN((W164+AN35*D19)/AK46,(W165+AN35*D19)/AL46,(W166+AN35*D19)/AM46,(W167+AN35*D19)/AN46,(W168+AN35*D19)/AO46)*AP46","v":{"$error":"#VALUE!"}},{"$f":"MIN((X164+AN35*D19)/AK46,(X165+AN35*D19)/AL46,(X166+AN35*D19)/AM46,(X167+AN35*D19)/AN46,(X168+AN35*D19)/AO46)*AP46","v":{"$error":"#VALUE!"}},{"$f":"MIN((Y164+AN35*D19)/AK46,(Y165+AN35*D19)/AL46,(Y166+AN35*D19)/AM46,(Y167+AN35*D19)/AN46,(Y168+AN35*D19)/AO46)*AP46","v":{"$error":"#VALUE!"}},{"$f":"MIN((Z164+AN35*D19)/AK46,(Z165+AN35*D19)/AL46,(Z166+AN35*D19)/AM46,(Z167+AN35*D19)/AN46,(Z168+AN35*D19)/AO46)*AP46","v":{"$error":"#VALUE!"}},{"$f":"MIN((AA164+AN35*D19)/AK46,(AA165+AN35*D19)/AL46,(AA166+AN35*D19)/AM46,(AA167+AN35*D19)/AN46,(AA168+AN35*D19)/AO46)*AP46","v":{"$error":"#VALUE!"}},{"$f":"MIN((AB164+AN35*D19)/AK46,(AB165+AN35*D19)/AL46,(AB166+AN35*D19)/AM46,(AB167+AN35*D19)/AN46,(AB168+AN35*D19)/AO46)*AP46","v":{"$error":"#VALUE!"}},{"$f":"MIN((AC164+AN35*D19)/AK46,(AC165+AN35*D19)/AL46,(AC166+AN35*D19)/AM46,(AC167+AN35*D19)/AN46,(AC168+AN35*D19)/AO46)*AP46","v":{"$error":"#VALUE!"}},{"$f":"MIN((AD164+AN35*D19)/AK46,(AD165+AN35*D19)/AL46,(AD166+AN35*D19)/AM46,(AD167+AN35*D19)/AN46,(AD168+AN35*D19)/AO46)*AP46","v":{"$error":"#VALUE!"}},{"$f":"MIN((AE164+AN35*D19)/AK46,(AE165+AN35*D19)/AL46,(AE166+AN35*D19)/AM46,(AE167+AN35*D19)/AN46,(AE168+AN35*D19)/AO46)*AP46","v":{"$error":"#VALUE!"}},{"$f":"MIN((AF164+AN35*D19)/AK46,(AF165+AN35*D19)/AL46,(AF166+AN35*D19)/AM46,(AF167+AN35*D19)/AN46,(AF168+AN35*D19)/AO46)*AP46","v":{"$error":"#VALUE!"}},{"$error":"#VALUE!"},null,"",{"$f":"MIN((S164+AO35*D19)/AK47,(S165+AO35*D19)/AL47,(S166+AO35*D19)/AM47,(S167+AO35*D19)/AN47,(S168+AO35*D19)/AO47)*AP47","v":{"$error":"#VALUE!"}},{"$f":"MIN((T164+AO35*D19)/AK47,(T165+AO35*D19)/AL47,(T166+AO35*D19)/AM47,(T167+AO35*D19)/AN47,(T168+AO35*D19)/AO47)*AP47","v":{"$error":"#VALUE!"}},{"$f":"MIN((U164+AO35*D19)/AK47,(U165+AO35*D19)/AL47,(U166+AO35*D19)/AM47,(U167+AO35*D19)/AN47,(U168+AO35*D19)/AO47)*AP47","v":{"$error":"#VALUE!"}},{"$f":"MIN((V164+AO35*D19)/AK47,(V165+AO35*D19)/AL47,(V166+AO35*D19)/AM47,(V167+AO35*D19)/AN47,(V168+AO35*D19)/AO47)*AP47","v":{"$error":"#VALUE!"}},{"$f":"MIN((W164+AO35*D19)/AK47,(W165+AO35*D19)/AL47,(W166+AO35*D19)/AM47,(W167+AO35*D19)/AN47,(W168+AO35*D19)/AO47)*AP47","v":{"$error":"#VALUE!"}},{"$f":"MIN((X164+AO35*D19)/AK47,(X165+AO35*D19)/AL47,(X166+AO35*D19)/AM47,(X167+AO35*D19)/AN47,(X168+AO35*D19)/AO47)*AP47","v":{"$error":"#VALUE!"}},{"$f":"MIN((Y164+AO35*D19)/AK47,(Y165+AO35*D19)/AL47,(Y166+AO35*D19)/AM47,(Y167+AO35*D19)/AN47,(Y168+AO35*D19)/AO47)*AP47","v":{"$error":"#VALUE!"}},{"$f":"MIN((Z164+AO35*D19)/AK47,(Z165+AO35*D19)/AL47,(Z166+AO35*D19)/AM47,(Z167+AO35*D19)/AN47,(Z168+AO35*D19)/AO47)*AP47","v":{"$error":"#VALUE!"}},{"$f":"MIN((AA164+AO35*D19)/AK47,(AA165+AO35*D19)/AL47,(AA166+AO35*D19)/AM47,(AA167+AO35*D19)/AN47,(AA168+AO35*D19)/AO47)*AP47","v":{"$error":"#VALUE!"}},{"$f":"MIN((AB164+AO35*D19)/AK47,(AB165+AO35*D19)/AL47,(AB166+AO35*D19)/AM47,(AB167+AO35*D19)/AN47,(AB168+AO35*D19)/AO47)*AP47","v":{"$error":"#VALUE!"}},{"$f":"MIN((AC164+AO35*D19)/AK47,(AC165+AO35*D19)/AL47,(AC166+AO35*D19)/AM47,(AC167+AO35*D19)/AN47,(AC168+AO35*D19)/AO47)*AP47","v":{"$error":"#VALUE!"}},{"$f":"MIN((AD164+AO35*D19)/AK47,(AD165+AO35*D19)/AL47,(AD166+AO35*D19)/AM47,(AD167+AO35*D19)/AN47,(AD168+AO35*D19)/AO47)*AP47","v":{"$error":"#VALUE!"}},{"$f":"MIN((AE164+AO35*D19)/AK47,(AE165+AO35*D19)/AL47,(AE166+AO35*D19)/AM47,(AE167+AO35*D19)/AN47,(AE168+AO35*D19)/AO47)*AP47","v":{"$error":"#VALUE!"}},{"$f":"MIN((AF164+AO35*D19)/AK47,(AF165+AO35*D19)/AL47,(AF166+AO35*D19)/AM47,(AF167+AO35*D19)/AN47,(AF168+AO35*D19)/AO47)*AP47","v":{"$error":"#VALUE!"}},{"$error":"#VALUE!"},null,"",{"$error":"#VALUE!"},{"$error":"#VALUE!"},{"$error":"#VALUE!"},{"$error":"#VALUE!"},{"$error":"#VALUE!"},{"$error":"#VALUE!"},{"$error":"#VALUE!"},{"$error":"#VALUE!"},{"$error":"#VALUE!"},{"$error":"#VALUE!"},{"$error":"#VALUE!"},{"$error":"#VALUE!"},{"$error":"#VALUE!"},{"$error":"#VALUE!"},{"$error":"#VALUE!"},{"$error":"#VALUE!"},{"$error":"#VALUE!"},{"$error":"#VALUE!"},{"$error":"#VALUE!"},{"$error":"#VALUE!"},{"$error":"#VALUE!"},{"$error":"#VALUE!"},"-",null,null,null,"off",{"$error":"#VALUE!"},{"$error":"#VALUE!"},{"$error":"#VALUE!"},{"$error":"#VALUE!"},{"$error":"#VALUE!"},{"$error":"#VALUE!"},{"$error":"#VALUE!"},{"$error":"#VALUE!"},{"$error":"#VALUE!"},{"$error":"#VALUE!"},{"$error":"#VALUE!"},{"$error":"#VALUE!"},{"$error":"#VALUE!"},{"$error":"#VALUE!"},{"$error":"#VALUE!"},{"$error":"#VALUE!"},{"$error":"#VALUE!"},{"$error":"#VALUE!"},{"$error":"#VALUE!"},{"$error":"#VALUE!"},{"$error":"#VALUE!"},{"$error":"#VALUE!"},{"$error":"#VALUE!"},{"$error":"#VALUE!"},{"$error":"#VALUE!"},{"$error":"#VALUE!"},{"$error":"#VALUE!"},{"$error":"#VALUE!"},{"$error":"#VALUE!"},{"$error":"#VALUE!"},{"$error":"#VALUE!"},{"$error":"#VALUE!"},{"$error":"#VALUE!"},{"$error":"#VALUE!"},{"$error":"#VALUE!"},{"$error":"#VALUE!"},{"$error":"#VALUE!"},{"$error":"#VALUE!"},{"$error":"#VALUE!"},{"$error":"#VALUE!"},{"$error":"#VALUE!"},{"$error":"#VALUE!"},{"$error":"#VALUE!"},{"$error":"#VALUE!"},{"$error":"#VALUE!"},{"$error":"#VALUE!"},{"$error":"#VALUE!"},{"$error":"#VALUE!"}]
[null,null,null,{"$f":"IF(MAX($I$104:$I$128)=I126,\"CAP\",\"\")","v":""},{"$f":"IF(G34<>\"\",G34,\"\")","v":""},null,{"$f":"IF(G34<>\"\",(L34/100+MIN(5000,M34)/500)/100,\"\")","v":""},{"$f":"IF(G34<>\"\",IF(ISNA(IF(VLOOKUP(G34,$AI$8:$AV$33,14,FALSE)=\"\",\"\",(HLOOKUP(VLOOKUP(G34,$BA$10:$BB$20,2,FALSE),S212:AF217,6,FALSE)/100+MIN(5000,M34)/500)/100)),G126,IF(VLOOKUP(G34,$AI$8:$AV$33,14,FALSE)=\"\",\"\",(HLOOKUP(VLOOKUP(G34,$BA$10:$BB$20,2,FALSE),S212:AF217,6,FALSE)/100+MIN(5000,M34)/500)/100)),\"\")","v":""},{"$f":"IF(G34<>\"\",IF(ISNA(IF(VLOOKUP(G34,$AI$8:$AV$29,14,FALSE)=\"\",\"\",((HLOOKUP(VLOOKUP(G34,$BA$10:$BB$20,2,FALSE),$S$212:$AF$217,6,FALSE)+IF(HLOOKUP(F126,$AJ$7:$AT$35,29,FALSE)=1,D19,0))/100+MIN(5000,M34)/500)/100)),H126,IF(VLOOKUP(G34,$AI$8:$AV$29,14,FALSE)=\"\",\"\",((HLOOKUP(VLOOKUP(G34,$BA$10:$BB$20,2,FALSE),$S$212:$AF$217,6,FALSE)+IF(HLOOKUP(F126,$AJ$7:$AT$35,29,FALSE)=1,D19,0))/100+MIN(5000,M34)/500)/100)),\"\")","v":""},null,null,null,null,null,null,null,null,{"$f":"IF($AX$306,L20+VLOOKUP(Team!$AB26,Team!$E$30:$J$300,6,FALSE),L20+AH43+$D$21)+$D$19*$AG$17","v":{"$error":"#VALUE!"}},{"$f":"IF($AX$306,$R126,$R126+Q14)","v":{"$error":"#VALUE!"}},{"$error":"#VALUE!"},{"$error":"#VALUE!"},{"$error":"#VALUE!"},{"$error":"#VALUE!"},{"$error":"#VALUE!"},{"$error":"#VALUE!"},{"$error":"#VALUE!"},{"$error":"#VALUE!"},{"$error":"#VALUE!"},{"$error":"#VALUE!"},{"$error":"#VALUE!"},{"$error":"#VALUE!"},{"$error":"#VALUE!"},null,null,null,"",{"$f":"MIN((S171+AN35*D19)/AK46,(S172+AN35*D19)/AL46,(S173+AN35*D19)/AM46,(S174+AN35*D19)/AN46,(S175+AN35*D19)/AO46)*AP46","v":{"$error":"#VALUE!"}},{"$f":"MIN((T171+AN35*D19)/AK46,(T172+AN35*D19)/AL46,(T173+AN35*D19)/AM46,(T174+AN35*D19)/AN46,(T175+AN35*D19)/AO46)*AP46","v":{"$error":"#VALUE!"}},{"$f":"MIN((U171+AN35*D19)/AK46,(U172+AN35*D19)/AL46,(U173+AN35*D19)/AM46,(U174+AN35*D19)/AN46,(U175+AN35*D19)/AO46)*AP46","v":{"$error":"#VALUE!"}},{"$f":"MIN((V171+AN35*D19)/AK46,(V172+AN35*D19)/AL46,(V173+AN35*D19)/AM46,(V174+AN35*D19)/AN46,(V175+AN35*D19)/AO46)*AP46","v":{"$error":"#VALUE!"}},{"$f":"MIN((W171+AN35*D19)/AK46,(W172+AN35*D19)/AL46,(W173+AN35*D19)/AM46,(W174+AN35*D19)/AN46,(W175+AN35*D19)/AO46)*AP46","v":{"$error":"#VALUE!"}},{"$f":"MIN((X171+AN35*D19)/AK46,(X172+AN35*D19)/AL46,(X173+AN35*D19)/AM46,(X174+AN35*D19)/AN46,(X175+AN35*D19)/AO46)*AP46","v":{"$error":"#VALUE!"}},{"$f":"MIN((Y171+AN35*D19)/AK46,(Y172+AN35*D19)/AL46,(Y173+AN35*D19)/AM46,(Y174+AN35*D19)/AN46,(Y175+AN35*D19)/AO46)*AP46","v":{"$error":"#VALUE!"}},{"$f":"MIN((Z171+AN35*D19)/AK46,(Z172+AN35*D19)/AL46,(Z173+AN35*D19)/AM46,(Z174+AN35*D19)/AN46,(Z175+AN35*D19)/AO46)*AP46","v":{"$error":"#VALUE!"}},{"$f":"MIN((AA171+AN35*D19)/AK46,(AA172+AN35*D19)/AL46,(AA173+AN35*D19)/AM46,(AA174+AN35*D19)/AN46,(AA175+AN35*D19)/AO46)*AP46","v":{"$error":"#VALUE!"}},{"$f":"MIN((AB171+AN35*D19)/AK46,(AB172+AN35*D19)/AL46,(AB173+AN35*D19)/AM46,(AB174+AN35*D19)/AN46,(AB175+AN35*D19)/AO46)*AP46","v":{"$error":"#VALUE!"}},{"$f":"MIN((AC171+AN35*D19)/AK46,(AC172+AN35*D19)/AL46,(AC173+AN35*D19)/AM46,(AC174+AN35*D19)/AN46,(AC175+AN35*D19)/AO46)*AP46","v":{"$error":"#VALUE!"}},{"$f":"MIN((AD171+AN35*D19)/AK46,(AD172+AN35*D19)/AL46,(AD173+AN35*D19)/AM46,(AD174+AN35*D19)/AN46,(AD175+AN35*D19)/AO46)*AP46","v":{"$error":"#VALUE!"}},{"$f":"MIN((AE171+AN35*D19)/AK46,(AE172+AN35*D19)/AL46,(AE173+AN35*D19)/AM46,(AE174+AN35*D19)/AN46,(AE175+AN35*D19)/AO46)*AP46","v":{"$error":"#VALUE!"}},{"$f":"MIN((AF171+AN35*D19)/AK46,(AF172+AN35*D19)/AL46,(AF173+AN35*D19)/AM46,(AF174+AN35*D19)/AN46,(AF175+AN35*D19)/AO46)*AP46","v":{"$error":"#VALUE!"}},{"$error":"#VALUE!"},null,"",{"$f":"MIN((S171+AO35*D19)/AK47,(S172+AO35*D19)/AL47,(S173+AO35*D19)/AM47,(S174+AO35*D19)/AN47,(S175+AO35*D19)/AO47)*AP47","v":{"$error":"#VALUE!"}},{"$f":"MIN((T171+AO35*D19)/AK47,(T172+AO35*D19)/AL47,(T173+AO35*D19)/AM47,(T174+AO35*D19)/AN47,(T175+AO35*D19)/AO47)*AP47","v":{"$error":"#VALUE!"}},{"$f":"MIN((U171+AO35*D19)/AK47,(U172+AO35*D19)/AL47,(U173+AO35*D19)/AM47,(U174+AO35*D19)/AN47,(U175+AO35*D19)/AO47)*AP47","v":{"$error":"#VALUE!"}},{"$f":"MIN((V171+AO35*D19)/AK47,(V172+AO35*D19)/AL47,(V173+AO35*D19)/AM47,(V174+AO35*D19)/AN47,(V175+AO35*D19)/AO47)*AP47","v":{"$error":"#VALUE!"}},{"$f":"MIN((W171+AO35*D19)/AK47,(W172+AO35*D19)/AL47,(W173+AO35*D19)/AM47,(W174+AO35*D19)/AN47,(W175+AO35*D19)/AO47)*AP47","v":{"$error":"#VALUE!"}},{"$f":"MIN((X171+AO35*D19)/AK47,(X172+AO35*D19)/AL47,(X173+AO35*D19)/AM47,(X174+AO35*D19)/AN47,(X175+AO35*D19)/AO47)*AP47","v":{"$error":"#VALUE!"}},{"$f":"MIN((Y171+AO35*D19)/AK47,(Y172+AO35*D19)/AL47,(Y173+AO35*D19)/AM47,(Y174+AO35*D19)/AN47,(Y175+AO35*D19)/AO47)*AP47","v":{"$error":"#VALUE!"}},{"$f":"MIN((Z171+AO35*D19)/AK47,(Z172+AO35*D19)/AL47,(Z173+AO35*D19)/AM47,(Z174+AO35*D19)/AN47,(Z175+AO35*D19)/AO47)*AP47","v":{"$error":"#VALUE!"}},{"$f":"MIN((AA171+AO35*D19)/AK47,(AA172+AO35*D19)/AL47,(AA173+AO35*D19)/AM47,(AA174+AO35*D19)/AN47,(AA175+AO35*D19)/AO47)*AP47","v":{"$error":"#VALUE!"}},{"$f":"MIN((AB171+AO35*D19)/AK47,(AB172+AO35*D19)/AL47,(AB173+AO35*D19)/AM47,(AB174+AO35*D19)/AN47,(AB175+AO35*D19)/AO47)*AP47","v":{"$error":"#VALUE!"}},{"$f":"MIN((AC171+AO35*D19)/AK47,(AC172+AO35*D19)/AL47,(AC173+AO35*D19)/AM47,(AC174+AO35*D19)/AN47,(AC175+AO35*D19)/AO47)*AP47","v":{"$error":"#VALUE!"}},{"$f":"MIN((AD171+AO35*D19)/AK47,(AD172+AO35*D19)/AL47,(AD173+AO35*D19)/AM47,(AD174+AO35*D19)/AN47,(AD175+AO35*D19)/AO47)*AP47","v":{"$error":"#VALUE!"}},{"$f":"MIN((AE171+AO35*D19)/AK47,(AE172+AO35*D19)/AL47,(AE173+AO35*D19)/AM47,(AE174+AO35*D19)/AN47,(AE175+AO35*D19)/AO47)*AP47","v":{"$error":"#VALUE!"}},{"$f":"MIN((AF171+AO35*D19)/AK47,(AF172+AO35*D19)/AL47,(AF173+AO35*D19)/AM47,(AF174+AO35*D19)/AN47,(AF175+AO35*D19)/AO47)*AP47","v":{"$error":"#VALUE!"}},{"$error":"#VALUE!"},null,"",{"$error":"#VALUE!"},{"$error":"#VALUE!"},{"$error":"#VALUE!"},{"$error":"#VALUE!"},{"$error":"#VALUE!"},{"$error":"#VALUE!"},{"$error":"#VALUE!"},{"$error":"#VALUE!"},{"$error":"#VALUE!"},{"$error":"#VALUE!"},{"$error":"#VALUE!"},{"$error":"#VALUE!"},{"$error":"#VALUE!"},{"$error":"#VALUE!"},{"$error":"#VALUE!"},{"$error":"#VALUE!"},{"$error":"#VALUE!"},{"$error":"#VALUE!"},{"$error":"#VALUE!"},{"$error":"#VALUE!"},{"$error":"#VALUE!"},{"$error":"#VALUE!"},"-",null,null,442,"def",{"$error":"#VALUE!"},{"$error":"#VALUE!"},{"$error":"#VALUE!"},{"$error":"#VALUE!"},{"$error":"#VALUE!"},{"$error":"#VALUE!"},{"$error":"#VALUE!"},{"$error":"#VALUE!"},{"$error":"#VALUE!"},{"$error":"#VALUE!"},{"$error":"#VALUE!"},{"$error":"#VALUE!"},{"$error":"#VALUE!"},{"$error":"#VALUE!"},{"$error":"#VALUE!"},{"$error":"#VALUE!"},{"$error":"#VALUE!"},{"$error":"#VALUE!"},{"$error":"#VALUE!"},{"$error":"#VALUE!"},{"$error":"#VALUE!"},{"$error":"#VALUE!"},{"$error":"#VALUE!"},{"$error":"#VALUE!"},{"$error":"#VALUE!"},{"$error":"#VALUE!"},{"$error":"#VALUE!"},{"$error":"#VALUE!"},{"$error":"#VALUE!"},{"$error":"#VALUE!"},{"$error":"#VALUE!"},{"$error":"#VALUE!"},{"$error":"#VALUE!"},{"$error":"#VALUE!"},{"$error":"#VALUE!"},{"$error":"#VALUE!"},{"$error":"#VALUE!"},{"$error":"#VALUE!"},{"$error":"#VALUE!"},{"$error":"#VALUE!"},{"$error":"#VALUE!"},{"$error":"#VALUE!"},{"$error":"#VALUE!"},{"$error":"#VALUE!"},{"$error":"#VALUE!"},{"$error":"#VALUE!"},{"$error":"#VALUE!"},{"$error":"#VALUE!"}]
[null,null,null,{"$f":"IF(MAX($I$104:$I$128)=I127,\"CAP\",\"\")","v":""},{"$f":"IF(G35<>\"\",G35,\"\")","v":""},null,{"$f":"IF(G35<>\"\",(L35/100+MIN(5000,M35)/500)/100,\"\")","v":""},{"$f":"IF(G35<>\"\",IF(ISNA(IF(VLOOKUP(G35,$AI$8:$AV$33,14,FALSE)=\"\",\"\",(HLOOKUP(VLOOKUP(G35,$BA$10:$BB$20,2,FALSE),S219:AF224,6,FALSE)/100+MIN(5000,M35)/500)/100)),G127,IF(VLOOKUP(G35,$AI$8:$AV$33,14,FALSE)=\"\",\"\",(HLOOKUP(VLOOKUP(G35,$BA$10:$BB$20,2,FALSE),S219:AF224,6,FALSE)/100+MIN(5000,M35)/500)/100)),\"\")","v":""},{"$f":"IF(G35<>\"\",IF(ISNA(IF(VLOOKUP(G35,$AI$8:$AV$29,14,FALSE)=\"\",\"\",((HLOOKUP(VLOOKUP(G35,$BA$10:$BB$20,2,FALSE),$S$219:$AF$224,6,FALSE)+IF(HLOOKUP(F127,$AJ$7:$AT$35,29,FALSE)=1,D19,0))/100+MIN(5000,M35)/500)/100)),H127,IF(VLOOKUP(G35,$AI$8:$AV$29,14,FALSE)=\"\",\"\",((HLOOKUP(VLOOKUP(G35,$BA$10:$BB$20,2,FALSE),$S$219:$AF$224,6,FALSE)+IF(HLOOKUP(F127,$AJ$7:$AT$35,29,FALSE)=1,D19,0))/100+MIN(5000,M35)/500)/100)),\"\")","v":""},null,null,null,null,null,null,null,null,null,null,null,null,null,null,null,null,null,null,null,null,null,null,null,null,null,null,"",{"$f":"MIN((S178+$AN$35*$D$19)/$AK$46,(S179+$AN$35*$D$19)/$AL$46,(S180+$AN$35*$D$19)/$AM$46,(S181+$AN$35*$D$19)/$AN$46,(S182+$AN$35*$D$19)/$AO$46)*$AP$46","v":{"$error":"#VALUE!"}},{"$error":"#VALUE!"},{"$error":"#VALUE!"},{"$error":"#VALUE!"},{"$error":"#VALUE!"},{"$error":"#VALUE!"},{"$error":"#VALUE!"},{"$error":"#VALUE!"},{"$error":"#VALUE!"},{"$error":"#VALUE!"},{"$error":"#VALUE!"},{"$error":"#VALUE!"},{"$error":"#VALUE!"},{"$error":"#VALUE!"},{"$error":"#VALUE!"},null,"",{"$f":"MIN((S178+$AO$35*$D$19)/$AK$47,(S179+$AO$35*$D$19)/$AL$47,(S180+$AO$35*$D$19)/$AM$47,(S181+$AO$35*$D$19)/$AN$47,(S182+$AO$35*$D$19)/$AO$47)*$AP$47","v":{"$error":"#VALUE!"}},{"$f":"MIN((T178+AO35*D19)/AK47,(T179+AO35*D19)/AL47,(T180+AO35*D19)/AM47,(T181+AO35*D19)/AN47,(T182+AO35*D19)/AO47)*AP47","v":{"$error":"#VALUE!"}},{"$f":"MIN((U178+AO35*D19)/AK47,(U179+AO35*D19)/AL47,(U180+AO35*D19)/AM47,(U181+AO35*D19)/AN47,(U182+AO35*D19)/AO47)*AP47","v":{"$error":"#VALUE!"}},{"$f":"MIN((V178+AO35*D19)/AK47,(V179+AO35*D19)/AL47,(V180+AO35*D19)/AM47,(V181+AO35*D19)/AN47,(V182+AO35*D19)/AO47)*AP47","v":{"$error":"#VALUE!"}},{"$f":"MIN((W178+AO35*D19)/AK47,(W179+AO35*D19)/AL47,(W180+AO35*D19)/AM47,(W181+AO35*D19)/AN47,(W182+AO35*D19)/AO47)*AP47","v":{"$error":"#VALUE!"}},{"$f":"MIN((X178+AO35*D19)/AK47,(X179+AO35*D19)/AL47,(X180+AO35*D19)/AM47,(X181+AO35*D19)/AN47,(X182+AO35*D19)/AO47)*AP47","v":{"$error":"#VALUE!"}},{"$f":"MIN((Y178+AO35*D19)/AK47,(Y179+AO35*D19)/AL47,(Y180+AO35*D19)/AM47,(Y181+AO35*D19)/AN47,(Y182+AO35*D19)/AO47)*AP47","v":{"$error":"#VALUE!"}},{"$f":"MIN((Z178+AO35*D19)/AK47,(Z179+AO35*D19)/AL47,(Z180+AO35*D19)/AM47,(Z181+AO35*D19)/AN47,(Z182+AO35*D19)/AO47)*AP47","v":{"$error":"#VALUE!"}},{"$f":"MIN((AA178+AO35*D19)/AK47,(AA179+AO35*D19)/AL47,(AA180+AO35*D19)/AM47,(AA181+AO35*D19)/AN47,(AA182+AO35*D19)/AO47)*AP47","v":{"$error":"#VALUE!"}},{"$f":"MIN((AB178+AO35*D19)/AK47,(AB179+AO35*D19)/AL47,(AB180+AO35*D19)/AM47,(AB181+AO35*D19)/AN47,(AB182+AO35*D19)/AO47)*AP47","v":{"$error":"#VALUE!"}},{"$f":"MIN((AC178+AO35*D19)/AK47,(AC179+AO35*D19)/AL47,(AC180+AO35*D19)/AM47,(AC181+AO35*D19)/AN47,(AC182+AO35*D19)/AO47)*AP47","v":{"$error":"#VALUE!"}},{"$f":"MIN((AD178+AO35*D19)/AK47,(AD179+AO35*D19)/AL47,(AD180+AO35*D19)/AM47,(AD181+AO35*D19)/AN47,(AD182+AO35*D19)/AO47)*AP47","v":{"$error":"#VALUE!"}},{"$f":"MIN((AE178+AO35*D19)/AK47,(AE179+AO35*D19)/AL47,(AE180+AO35*D19)/AM47,(AE181+AO35*D19)/AN47,(AE182+AO35*D19)/AO47)*AP47","v":{"$error":"#VALUE!"}},{"$f":"MIN((AF178+AO35*D19)/AK47,(AF179+AO35*D19)/AL47,(AF180+AO35*D19)/AM47,(AF181+AO35*D19)/AN47,(AF182+AO35*D19)/AO47)*AP47","v":{"$error":"#VALUE!"}},{"$error":"#VALUE!"},null,"",{"$error":"#VALUE!"},{"$error":"#VALUE!"},{"$error":"#VALUE!"},{"$error":"#VALUE!"},{"$error":"#VALUE!"},{"$error":"#VALUE!"},{"$error":"#VALUE!"},{"$error":"#VALUE!"},{"$error":"#VALUE!"},{"$error":"#VALUE!"},{"$error":"#VALUE!"},{"$error":"#VALUE!"},{"$error":"#VALUE!"},{"$error":"#VALUE!"},{"$error":"#VALUE!"},{"$error":"#VALUE!"},{"$error":"#VALUE!"},{"$error":"#VALUE!"},{"$error":"#VALUE!"},{"$error":"#VALUE!"},{"$error":"#VALUE!"},{"$error":"#VALUE!"},"-",null,null,null,"neutre",{"$error":"#VALUE!"},{"$error":"#VALUE!"},{"$error":"#VALUE!"},{"$error":"#VALUE!"},{"$error":"#VALUE!"},{"$error":"#VALUE!"},{"$error":"#VALUE!"},{"$error":"#VALUE!"},{"$error":"#VALUE!"},{"$error":"#VALUE!"},{"$error":"#VALUE!"},{"$error":"#VALUE!"},{"$error":"#VALUE!"},{"$error":"#VALUE!"},{"$error":"#VALUE!"},{"$error":"#VALUE!"},{"$error":"#VALUE!"},{"$error":"#VALUE!"},{"$error":"#VALUE!"},{"$error":"#VALUE!"},{"$error":"#VALUE!"},{"$error":"#VALUE!"},{"$error":"#VALUE!"},{"$error":"#VALUE!"},{"$error":"#VALUE!"},{"$error":"#VALUE!"},{"$error":"#VALUE!"},{"$error":"#VALUE!"},{"$error":"#VALUE!"},{"$error":"#VALUE!"},{"$error":"#VALUE!"},{"$error":"#VALUE!"},{"$error":"#VALUE!"},{"$error":"#VALUE!"},{"$error":"#VALUE!"},{"$error":"#VALUE!"},{"$error":"#VALUE!"},{"$error":"#VALUE!"},{"$error":"#VALUE!"},{"$error":"#VALUE!"},{"$error":"#VALUE!"},{"$error":"#VALUE!"},{"$error":"#VALUE!"},{"$error":"#VALUE!"},{"$error":"#VALUE!"},{"$error":"#VALUE!"},{"$error":"#VALUE!"},{"$error":"#VALUE!"}]
[null,null,null,{"$f":"IF(MAX($I$104:$I$128)=I128,\"CAP\",\"\")","v":""},{"$f":"IF(G36<>\"\",G36,\"\")","v":""},null,{"$f":"IF(G36<>\"\",(L36/100+MIN(5000,M36)/500)/100,\"\")","v":""},{"$f":"IF(G36<>\"\",IF(ISNA(IF(VLOOKUP(G36,$AI$8:$AV$33,14,FALSE)=\"\",\"\",(HLOOKUP(VLOOKUP(G36,$BA$10:$BB$20,2,FALSE),S226:AF231,6,FALSE)/100+MIN(5000,M36)/500)/100)),G128,IF(VLOOKUP(G36,$AI$8:$AV$33,14,FALSE)=\"\",\"\",(HLOOKUP(VLOOKUP(G36,$BA$10:$BB$20,2,FALSE),S226:AF231,6,FALSE)/100+MIN(5000,M36)/500)/100)),\"\")","v":""},{"$f":"IF(G36<>\"\",IF(ISNA(IF(VLOOKUP(G36,$AI$8:$AV$29,14,FALSE)=\"\",\"\",((HLOOKUP(VLOOKUP(G36,$BA$10:$BB$20,2,FALSE),$S$226:$AF$231,6,FALSE)+IF(HLOOKUP(F128,$AJ$7:$AT$35,29,FALSE)=1,D19,0))/100+MIN(5000,M36)/500)/100)),H128,IF(VLOOKUP(G36,$AI$8:$AV$29,14,FALSE)=\"\",\"\",((HLOOKUP(VLOOKUP(G36,$BA$10:$BB$20,2,FALSE),$S$226:$AF$231,6,FALSE)+IF(HLOOKUP(F128,$AJ$7:$AT$35,29,FALSE)=1,D19,0))/100+MIN(5000,M36)/500)/100)),\"\")","v":""},null,null,null,null,null,null,null,null,{"$f":"G21","v":""},{"$f":"S121","v":"kit 1"},"kit 2/3",0,"kit 4",0,"kit 5","kit 6/7",0,0,"kit 8","kit 9",0,"kit 10","kit 11",null,null,null,"",{"$f":"MIN((S185+$AN$35*$D$19)/$AK$46,(S186+$AN$35*$D$19)/$AL$46,(S187+$AN$35*$D$19)/$AM$46,(S188+$AN$35*$D$19)/$AN$46,(S189+$AN$35*$D$19)/$AO$46)*$AP$46","v":{"$error":"#VALUE!"}},{"$error":"#VALUE!"},{"$error":"#VALUE!"},{"$error":"#VALUE!"},{"$error":"#VALUE!"},{"$error":"#VALUE!"},{"$error":"#VALUE!"},{"$error":"#VALUE!"},{"$error":"#VALUE!"},{"$error":"#VALUE!"},{"$error":"#VALUE!"},{"$error":"#VALUE!"},{"$error":"#VALUE!"},{"$error":"#VALUE!"},{"$error":"#VALUE!"},null,"",{"$f":"MIN((S185+$AO$35*$D$19)/$AK$47,(S186+$AO$35*$D$19)/$AL$47,(S187+$AO$35*$D$19)/$AM$47,(S188+$AO$35*$D$19)/$AN$47,(S189+$AO$35*$D$19)/$AO$47)*$AP$47","v":{"$error":"#VALUE!"}},{"$error":"#VALUE!"},{"$error":"#VALUE!"},{"$error":"#VALUE!"},{"$error":"#VALUE!"},{"$error":"#VALUE!"},{"$error":"#VALUE!"},{"$error":"#VALUE!"},{"$error":"#VALUE!"},{"$error":"#VALUE!"},{"$error":"#VALUE!"},{"$error":"#VALUE!"},{"$error":"#VALUE!"},{"$error":"#VALUE!"},{"$error":"#VALUE!"},null,"",{"$error":"#VALUE!"},{"$error":"#VALUE!"},{"$error":"#VALUE!"},{"$error":"#VALUE!"},{"$error":"#VALUE!"},{"$error":"#VALUE!"},{"$error":"#VALUE!"},{"$error":"#VALUE!"},{"$error":"#VALUE!"},{"$error":"#VALUE!"},{"$error":"#VALUE!"},{"$error":"#VALUE!"},{"$error":"#VALUE!"},{"$error":"#VALUE!"},{"$error":"#VALUE!"},{"$error":"#VALUE!"},{"$error":"#VALUE!"},{"$error":"#VALUE!"},{"$error":"#VALUE!"},{"$error":"#VALUE!"},{"$error":"#VALUE!"},{"$error":"#VALUE!"},"-",null,null,null,"off",{"$error":"#VALUE!"},{"$error":"#VALUE!"},{"$error":"#VALUE!"},{"$error":"#VALUE!"},{"$error":"#VALUE!"},{"$error":"#VALUE!"},{"$error":"#VALUE!"},{"$error":"#VALUE!"},{"$error":"#VALUE!"},{"$error":"#VALUE!"},{"$error":"#VALUE!"},{"$error":"#VALUE!"},{"$error":"#VALUE!"},{"$error":"#VALUE!"},{"$error":"#VALUE!"},{"$error":"#VALUE!"},{"$error":"#VALUE!"},{"$error":"#VALUE!"},{"$error":"#VALUE!"},{"$error":"#VALUE!"},{"$error":"#VALUE!"},{"$error":"#VALUE!"},{"$error":"#VALUE!"},{"$error":"#VALUE!"},{"$error":"#VALUE!"},{"$error":"#VALUE!"},{"$error":"#VALUE!"},{"$error":"#VALUE!"},{"$error":"#VALUE!"},{"$error":"#VALUE!"},{"$error":"#VALUE!"},{"$error":"#VALUE!"},{"$error":"#VALUE!"},{"$error":"#VALUE!"},{"$error":"#VALUE!"},{"$error":"#VALUE!"},{"$error":"#VALUE!"},{"$error":"#VALUE!"},{"$error":"#VALUE!"},{"$error":"#VALUE!"},{"$error":"#VALUE!"},{"$error":"#VALUE!"},{"$error":"#VALUE!"},{"$error":"#VALUE!"},{"$error":"#VALUE!"},{"$error":"#VALUE!"},{"$error":"#VALUE!"},{"$error":"#VALUE!"}]
[null,null,null,null,null,null,null,null,null,null,null,null,null,null,null,null,null,{"$f":"IF($AX$306,H21+VLOOKUP(Team!$X27,Team!$E$30:$J$300,6,FALSE),H21+AH39+$D$21)+$D$19*$AG$18","v":{"$error":"#VALUE!"}},{"$f":"IF($AX$306,$R129,$R129+Q10)","v":{"$error":"#VALUE!"}},{"$f":"IF($AX$306,$R129,$R129+R10)","v":{"$error":"#VALUE!"}},{"$error":"#VALUE!"},{"$error":"#VALUE!"},{"$error":"#VALUE!"},{"$error":"#VALUE!"},{"$error":"#VALUE!"},{"$error":"#VALUE!"},{"$error":"#VALUE!"},{"$error":"#VALUE!"},{"$error":"#VALUE!"},{"$error":"#VALUE!"},{"$error":"#VALUE!"},{"$error":"#VALUE!"},null,null,null,"",{"$f":"MIN((S192+$AN$35*$D$19)/$AK$46,(S193+$AN$35*$D$19)/$AL$46,(S194+$AN$35*$D$19)/$AM$46,(S195+$AN$35*$D$19)/$AN$46,(S196+$AN$35*$D$19)/$AO$46)*$AP$46","v":{"$error":"#VALUE!"}},{"$error":"#VALUE!"},{"$error":"#VALUE!"},{"$error":"#VALUE!"},{"$error":"#VALUE!"},{"$error":"#VALUE!"},{"$error":"#VALUE!"},{"$error":"#VALUE!"},{"$error":"#VALUE!"},{"$error":"#VALUE!"},{"$error":"#VALUE!"},{"$error":"#VALUE!"},{"$error":"#VALUE!"},{"$error":"#VALUE!"},{"$error":"#VALUE!"},null,"",{"$f":"MIN((S192+$AO$35*$D$19)/$AK$47,(S193+$AO$35*$D$19)/$AL$47,(S194+$AO$35*$D$19)/$AM$47,(S195+$AO$35*$D$19)/$AN$47,(S196+$AO$35*$D$19)/$AO$47)*$AP$47","v":{"$error":"#VALUE!"}},{"$error":"#VALUE!"},{"$error":"#VALUE!"},{"$error":"#VALUE!"},{"$error":"#VALUE!"},{"$error":"#VALUE!"},{"$error":"#VALUE!"},{"$error":"#VALUE!"},{"$error":"#VALUE!"},{"$error":"#VALUE!"},{"$error":"#VALUE!"},{"$error":"#VALUE!"},{"$error":"#VALUE!"},{"$error":"#VALUE!"},{"$error":"#VALUE!"},null,"",{"$error":"#VALUE!"},{"$error":"#VALUE!"},{"$error":"#VALUE!"},{"$error":"#VALUE!"},{"$error":"#VALUE!"},{"$error":"#VALUE!"},{"$error":"#VALUE!"},{"$error":"#VALUE!"},{"$error":"#VALUE!"},{"$error":"#VALUE!"},{"$error":"#VALUE!"},{"$error":"#VALUE!"},{"$error":"#VALUE!"},{"$error":"#VALUE!"},{"$error":"#VALUE!"},{"$error":"#VALUE!"},{"$error":"#VALUE!"},{"$error":"#VALUE!"},{"$error":"#VALUE!"},{"$error":"#VALUE!"},{"$error":"#VALUE!"},{"$error":"#VALUE!"},"-"]
[null,null,null,null,null,null,null,null,null,null,null,null,null,null,null,null,null,{"$f":"IF($AX$306,I21+VLOOKUP(Team!$Y27,Team!$E$30:$J$300,6,FALSE),I21+AH40+$D$21)+$D$19*$AG$18","v":{"$error":"#VALUE!"}},{"$f":"IF($AX$306,$R130,$R130+Q11)","v":{"$error":"#VALUE!"}},{"$error":"#VALUE!"},{"$error":"#VALUE!"},{"$error":"#VALUE!"},{"$error":"#VALUE!"},{"$error":"#VALUE!"},{"$error":"#VALUE!"},{"$error":"#VALUE!"},{"$error":"#VALUE!"},{"$error":"#VALUE!"},{"$error":"#VALUE!"},{"$error":"#VALUE!"},{"$error":"#VALUE!"},{"$error":"#VALUE!"},null,null,null,"",{"$f":"MIN((S199+$AN$35*$D$19)/$AK$46,(S200+$AN$35*$D$19)/$AL$46,(S201+$AN$35*$D$19)/$AM$46,(S202+$AN$35*$D$19)/$AN$46,(S203+$AN$35*$D$19)/$AO$46)*$AP$46","v":{"$error":"#VALUE!"}},{"$error":"#VALUE!"},{"$error":"#VALUE!"},{"$error":"#VALUE!"},{"$error":"#VALUE!"},{"$error":"#VALUE!"},{"$error":"#VALUE!"},{"$error":"#VALUE!"},{"$error":"#VALUE!"},{"$error":"#VALUE!"},{"$error":"#VALUE!"},{"$error":"#VALUE!"},{"$error":"#VALUE!"},{"$error":"#VALUE!"},{"$error":"#VALUE!"},null,"",{"$f":"MIN((S199+$AO$35*$D$19)/$AK$47,(S200+$AO$35*$D$19)/$AL$47,(S201+$AO$35*$D$19)/$AM$47,(S202+$AO$35*$D$19)/$AN$47,(S203+$AO$35*$D$19)/$AO$47)*$AP$47","v":{"$error":"#VALUE!"}},{"$error":"#VALUE!"},{"$error":"#VALUE!"},{"$error":"#VALUE!"},{"$error":"#VALUE!"},{"$error":"#VALUE!"},{"$error":"#VALUE!"},{"$error":"#VALUE!"},{"$error":"#VALUE!"},{"$error":"#VALUE!"},{"$error":"#VALUE!"},{"$error":"#VALUE!"},{"$error":"#VALUE!"},{"$error":"#VALUE!"},{"$error":"#VALUE!"},null,"",{"$error":"#VALUE!"},{"$error":"#VALUE!"},{"$error":"#VALUE!"},{"$error":"#VALUE!"},{"$error":"#VALUE!"},{"$error":"#VALUE!"},{"$error":"#VALUE!"},{"$error":"#VALUE!"},{"$error":"#VALUE!"},{"$error":"#VALUE!"},{"$error":"#VALUE!"},{"$error":"#VALUE!"},{"$error":"#VALUE!"},{"$error":"#VALUE!"},{"$error":"#VALUE!"},{"$error":"#VALUE!"},{"$error":"#VALUE!"},{"$error":"#VALUE!"},{"$error":"#VALUE!"},{"$error":"#VALUE!"},{"$error":"#VALUE!"},{"$error":"#VALUE!"},"-"]
[null,null,null,null,null,null,null,null,null,null,null,null,null,null,null,null,null,{"$f":"IF($AX$306,J21+VLOOKUP(Team!$Z27,Team!$E$30:$J$300,6,FALSE),J21+AH41+$D$21)+$D$19*$AG$18","v":{"$error":"#VALUE!"}},{"$f":"IF($AX$306,$R131,$R131+Q12)","v":{"$error":"#VALUE!"}},{"$error":"#VALUE!"},{"$error":"#VALUE!"},{"$error":"#VALUE!"},{"$error":"#VALUE!"},{"$error":"#VALUE!"},{"$error":"#VALUE!"},{"$error":"#VALUE!"},{"$error":"#VALUE!"},{"$error":"#VALUE!"},{"$error":"#VALUE!"},{"$error":"#VALUE!"},{"$error":"#VALUE!"},{"$error":"#VALUE!"},null,null,null,"",{"$f":"MIN((S206+$AN$35*$D$19)/$AK$46,(S207+$AN$35*$D$19)/$AL$46,(S208+$AN$35*$D$19)/$AM$46,(S209+$AN$35*$D$19)/$AN$46,(S210+$AN$35*$D$19)/$AO$46)*$AP$46","v":{"$error":"#VALUE!"}},{"$error":"#VALUE!"},{"$error":"#VALUE!"},{"$error":"#VALUE!"},{"$error":"#VALUE!"},{"$error":"#VALUE!"},{"$error":"#VALUE!"},{"$error":"#VALUE!"},{"$error":"#VALUE!"},{"$error":"#VALUE!"},{"$error":"#VALUE!"},{"$error":"#VALUE!"},{"$error":"#VALUE!"},{"$error":"#VALUE!"},{"$error":"#VALUE!"},null,{"$f":"AJ212","v":""},{"$f":"MIN((S206+$AO$35*$D$19)/$AK$47,(S207+$AO$35*$D$19)/$AL$47,(S208+$AO$35*$D$19)/$AM$47,(S209+$AO$35*$D$19)/$AN$47,(S210+$AO$35*$D$19)/$AO$47)*$AP$47","v":{"$error":"#VALUE!"}},{"$error":"#VALUE!"},{"$error":"#VALUE!"},{"$error":"#VALUE!"},{"$error":"#VALUE!"},{"$error":"#VALUE!"},{"$error":"#VALUE!"},{"$error":"#VALUE!"},{"$error":"#VALUE!"},{"$error":"#VALUE!"},{"$error":"#VALUE!"},{"$error":"#VALUE!"},{"$error":"#VALUE!"},{"$error":"#VALUE!"},{"$error":"#VALUE!"},null,"",{"$error":"#VALUE!"},{"$error":"#VALUE!"},{"$error":"#VALUE!"},{"$error":"#VALUE!"},{"$error":"#VALUE!"},{"$error":"#VALUE!"},{"$error":"#VALUE!"},{"$error":"#VALUE!"},{"$error":"#VALUE!"},{"$error":"#VALUE!"},{"$error":"#VALUE!"},{"$error":"#VALUE!"},{"$error":"#VALUE!"},{"$error":"#VALUE!"},{"$error":"#VALUE!"},{"$error":"#VALUE!"},{"$error":"#VALUE!"},{"$error":"#VALUE!"},{"$error":"#VALUE!"},{"$error":"#VALUE!"},{"$error":"#VALUE!"},{"$error":"#VALUE!"},"-"]
[null,null,null,null,null,null,null,null,null,null,null,null,null,null,null,null,null,{"$f":"IF($AX$306,K21+VLOOKUP(Team!$AA27,Team!$E$30:$J$300,6,FALSE),K21+AH42+$D$21)+$D$19*$AG$18","v":{"$error":"#VALUE!"}},{"$f":"IF($AX$306,$R132,$R132+Q13)","v":{"$error":"#VALUE!"}},{"$error":"#VALUE!"},{"$error":"#VALUE!"},{"$error":"#VALUE!"},{"$error":"#VALUE!"},{"$error":"#VALUE!"},{"$error":"#VALUE!"},{"$error":"#VALUE!"},{"$error":"#VALUE!"},{"$error":"#VALUE!"},{"$error":"#VALUE!"},{"$error":"#VALUE!"},{"$error":"#VALUE!"},{"$error":"#VALUE!"},null,null,null,0,{"$f":"MIN((S213+$AN$35*$D$19)/$AK$46,(S214+$AN$35*$D$19)/$AL$46,(S215+$AN$35*$D$19)/$AM$46,(S216+$AN$35*$D$19)/$AN$46,(S217+$AN$35*$D$19)/$AO$46)*$AP$46","v":{"$error":"#VALUE!"}},{"$error":"#VALUE!"},{"$error":"#VALUE!"},{"$error":"#VALUE!"},{"$error":"#VALUE!"},{"$error":"#VALUE!"},{"$error":"#VALUE!"},{"$error":"#VALUE!"},{"$error":"#VALUE!"},{"$error":"#VALUE!"},{"$error":"#VALUE!"},{"$error":"#VALUE!"},{"$error":"#VALUE!"},{"$error":"#VALUE!"},{"$error":"#VALUE!"},null,{"$f":"AJ213","v":0},{"$f":"MIN((S213+$AO$35*$D$19)/$AK$47,(S214+$AO$35*$D$19)/$AL$47,(S215+$AO$35*$D$19)/$AM$47,(S216+$AO$35*$D$19)/$AN$47,(S217+$AO$35*$D$19)/$AO$47)*$AP$47","v":{"$error":"#VALUE!"}},{"$error":"#VALUE!"},{"$error":"#VALUE!"},{"$error":"#VALUE!"},{"$error":"#VALUE!"},{"$error":"#VALUE!"},{"$error":"#VALUE!"},{"$error":"#VALUE!"},{"$error":"#VALUE!"},{"$error":"#VALUE!"},{"$error":"#VALUE!"},{"$error":"#VALUE!"},{"$error":"#VALUE!"},{"$error":"#VALUE!"},{"$error":"#VALUE!"},null,"",{"$error":"#VALUE!"},{"$error":"#VALUE!"},{"$error":"#VALUE!"},{"$error":"#VALUE!"},{"$error":"#VALUE!"},{"$error":"#VALUE!"},{"$error":"#VALUE!"},{"$error":"#VALUE!"},{"$error":"#VALUE!"},{"$error":"#VALUE!"},{"$error":"#VALUE!"},{"$error":"#VALUE!"},{"$error":"#VALUE!"},{"$error":"#VALUE!"},{"$error":"#VALUE!"},{"$error":"#VALUE!"},{"$error":"#VALUE!"},{"$error":"#VALUE!"},{"$error":"#VALUE!"},{"$error":"#VALUE!"},{"$error":"#VALUE!"},{"$error":"#VALUE!"},"-"]
[null,null,null,null,null,null,null,null,null,null,null,null,null,null,null,null,null,{"$f":"IF($AX$306,L21+VLOOKUP(Team!$AB27,Team!$E$30:$J$300,6,FALSE),L21+AH43+$D$21)+$D$19*$AG$18","v":{"$error":"#VALUE!"}},{"$f":"IF($AX$306,$R133,$R133+Q14)","v":{"$error":"#VALUE!"}},{"$error":"#VALUE!"},{"$error":"#VALUE!"},{"$error":"#VALUE!"},{"$error":"#VALUE!"},{"$error":"#VALUE!"},{"$error":"#VALUE!"},{"$error":"#VALUE!"},{"$error":"#VALUE!"},{"$error":"#VALUE!"},{"$error":"#VALUE!"},{"$error":"#VALUE!"},{"$error":"#VALUE!"},{"$error":"#VALUE!"},null,null,null,0,{"$f":"MIN((S220+$AN$35*$D$19)/$AK$46,(S221+$AN$35*$D$19)/$AL$46,(S222+$AN$35*$D$19)/$AM$46,(S223+$AN$35*$D$19)/$AN$46,(S224+$AN$35*$D$19)/$AO$46)*$AP$46","v":{"$error":"#VALUE!"}},{"$error":"#VALUE!"},{"$error":"#VALUE!"},{"$error":"#VALUE!"},{"$error":"#VALUE!"},{"$error":"#VALUE!"},{"$error":"#VALUE!"},{"$error":"#VALUE!"},{"$error":"#VALUE!"},{"$error":"#VALUE!"},{"$error":"#VALUE!"},{"$error":"#VALUE!"},{"$error":"#VALUE!"},{"$error":"#VALUE!"},{"$error":"#VALUE!"},null,{"$f":"AJ214","v":0},{"$f":"MIN((S220+$AO$35*$D$19)/$AK$47,(S221+$AO$35*$D$19)/$AL$47,(S222+$AO$35*$D$19)/$AM$47,(S223+$AO$35*$D$19)/$AN$47,(S224+$AO$35*$D$19)/$AO$47)*$AP$47","v":{"$error":"#VALUE!"}},{"$error":"#VALUE!"},{"$error":"#VALUE!"},{"$error":"#VALUE!"},{"$error":"#VALUE!"},{"$error":"#VALUE!"},{"$error":"#VALUE!"},{"$error":"#VALUE!"},{"$error":"#VALUE!"},{"$error":"#VALUE!"},{"$error":"#VALUE!"},{"$error":"#VALUE!"},{"$error":"#VALUE!"},{"$error":"#VALUE!"},{"$error":"#VALUE!"},null,"",{"$error":"#VALUE!"},{"$error":"#VALUE!"},{"$error":"#VALUE!"},{"$error":"#VALUE!"},{"$error":"#VALUE!"},{"$error":"#VALUE!"},{"$error":"#VALUE!"},{"$error":"#VALUE!"},{"$error":"#VALUE!"},{"$error":"#VALUE!"},{"$error":"#VALUE!"},{"$error":"#VALUE!"},{"$error":"#VALUE!"},{"$error":"#VALUE!"},{"$error":"#VALUE!"},{"$error":"#VALUE!"},{"$error":"#VALUE!"},{"$error":"#VALUE!"},{"$error":"#VALUE!"},{"$error":"#VALUE!"},{"$error":"#VALUE!"},{"$error":"#VALUE!"},"-"]
[null,null,null,null,null,null,null,null,null,null,null,null,null,null,null,null,null,null,null,null,null,null,null,null,null,null,null,null,null,null,null,null,null,null,null,0,{"$f":"MIN((S227+$AN$35*$D$19)/$AK$46,(S228+$AN$35*$D$19)/$AL$46,(S229+$AN$35*$D$19)/$AM$46,(S230+$AN$35*$D$19)/$AN$46,(S231+$AN$35*$D$19)/$AO$46)*$AP$46","v":{"$error":"#VALUE!"}},{"$error":"#VALUE!"},{"$error":"#VALUE!"},{"$error":"#VALUE!"},{"$error":"#VALUE!"},{"$error":"#VALUE!"},{"$error":"#VALUE!"},{"$error":"#VALUE!"},{"$error":"#VALUE!"},{"$error":"#VALUE!"},{"$error":"#VALUE!"},{"$error":"#VALUE!"},{"$error":"#VALUE!"},{"$error":"#VALUE!"},{"$error":"#VALUE!"},null,{"$f":"AJ215","v":0},{"$f":"MIN((S227+$AO$35*$D$19)/$AK$47,(S228+$AO$35*$D$19)/$AL$47,(S229+$AO$35*$D$19)/$AM$47,(S230+$AO$35*$D$19)/$AN$47,(S231+$AO$35*$D$19)/$AO$47)*$AP$47","v":{"$error":"#VALUE!"}},{"$error":"#VALUE!"},{"$error":"#VALUE!"},{"$error":"#VALUE!"},{"$error":"#VALUE!"},{"$error":"#VALUE!"},{"$error":"#VALUE!"},{"$error":"#VALUE!"},{"$error":"#VALUE!"},{"$error":"#VALUE!"},{"$error":"#VALUE!"},{"$error":"#VALUE!"},{"$error":"#VALUE!"},{"$error":"#VALUE!"},{"$error":"#VALUE!"},null,"",{"$error":"#VALUE!"},{"$error":"#VALUE!"},{"$error":"#VALUE!"},{"$error":"#VALUE!"},{"$error":"#VALUE!"},{"$error":"#VALUE!"},{"$error":"#VALUE!"},{"$error":"#VALUE!"},{"$error":"#VALUE!"},{"$error":"#VALUE!"},{"$error":"#VALUE!"},{"$error":"#VALUE!"},{"$error":"#VALUE!"},{"$error":"#VALUE!"},{"$error":"#VALUE!"},{"$error":"#VALUE!"},{"$error":"#VALUE!"},{"$error":"#VALUE!"},{"$error":"#VALUE!"},{"$error":"#VALUE!"},{"$error":"#VALUE!"},{"$error":"#VALUE!"},"-"]
[null,null,null,null,null,null,null,null,null,null,null,null,null,null,null,null,null,{"$f":"G22","v":""},{"$f":"S128","v":"kit 1"},{"$f":"T128","v":"kit 2/3"},0,"kit 4",0,"kit 5","kit 6/7",0,0,"kit 8","kit 9",0,{"$f":"AE128","v":"kit 10"},{"$f":"AF128","v":"kit 11"},null,null,null,null,null,null,null,null,null,null,null,null,null,null,null,null,null,null,null,null,null,null,null,null,null,null,null,null,null,null,null,null,null,null,null,null,null,{"$f":"BA132","v":0},{"$f":"IF(AY78=AK78,BR108,IF(AY78=AL78,BS108,IF(AY78=AM78,BT108,IF(AY78=AN78,BU108,IF(AY78=AO78,BV108,IF(AY78=AP78,BW108,IF(AY78=AQ78,BX108,IF(AY78=AR78,BY108,BT135))))))))","v":{"$error":"#VALUE!"}},{"$f":"IF(AY78=AS78,BZ108,IF(AY78=AT78,CA108,IF(AY78=AU78,CB108,IF(AY78=AV78,CC108,IF(AY78=AW78,CD108,IF(AY78=AX78,CE108,CO135))))))","v":{"$error":"#VALUE!"}},{"$f":"IF(BP78=BB78,BR108,IF(BP78=BC78,BS108,IF(BP78=BD78,BT108,IF(BP78=BE78,BU108,IF(BP78=BF78,BV108,IF(BP78=BG78,BW108,IF(BP78=BH78,BX108,IF(BP78=BI78,BY108,BV135))))))))","v":{"$error":"#VALUE!"}},{"$f":"IF(BP78=BJ78,BZ108,IF(BP78=BK78,CA108,IF(BP78=BL78,CB108,IF(BP78=BM78,CC108,IF(BP78=BN78,CD108,IF(BP78=BO78,CE108,CO135))))))","v":{"$error":"#VALUE!"}},{"$f":"IF(AY105=AK105,BR108,IF(AY105=AL105,BS108,IF(AY105=AM105,BT108,IF(AY105=AN105,BU108,IF(AY105=AO105,BV108,IF(AY105=AP105,BW108,IF(AY105=AQ105,BX108,IF(AY105=AR105,BY108,BX135))))))))","v":{"$error":"#VALUE!"}},{"$f":"IF(AY105=AS105,BZ108,IF(AY105=AT105,CA108,IF(AY105=AU105,CB108,IF(AY105=AV105,CC108,IF(AY105=AW105,CD108,IF(AY105=AX105,CE108,CO135))))))","v":{"$error":"#VALUE!"}},{"$f":"IF(BP105=BB105,BR108,IF(BP105=BC105,BS108,IF(BP105=BD105,BT108,IF(BP105=BE105,BU108,IF(BP105=BF105,BV108,IF(BP105=BG105,BW108,IF(BP105=BH105,BX108,IF(BP105=BI105,BY108,BZ135))))))))","v":{"$error":"#VALUE!"}},{"$f":"IF(BP105=BJ105,BZ108,IF(BP105=BK105,CA108,IF(BP105=BL105,CB108,IF(BP105=BM105,CC108,IF(BP105=BN105,CD108,IF(BP105=BO105,CE108,CO135))))))","v":{"$error":"#VALUE!"}},{"$f":"IF(AY132=AK132,BR108,IF(AY132=AL132,BS108,IF(AY132=AM132,BT108,IF(AY132=AN132,BU108,IF(AY132=AO132,BV108,IF(AY132=AP132,BW108,IF(AY132=AQ132,BX108,IF(AY132=AR132,BY108,CB135))))))))","v":{"$error":"#VALUE!"}},{"$f":"IF(AY132=AS132,BZ108,IF(AY132=AT132,CA108,IF(AY132=AU132,CB108,IF(AY132=AV132,CC108,IF(AY132=AW132,CD108,IF(AY132=AX132,CE108,CO135))))))","v":{"$error":"#VALUE!"}},{"$f":"IF(BP132=BB132,BR108,IF(BP132=BC132,BS108,IF(BP132=BD132,BT108,IF(BP132=BE132,BU108,IF(BP132=BF132,BV108,IF(BP132=BG132,BW108,IF(BP132=BH132,BX108,IF(BP132=BI132,BY108,CD135))))))))","v":{"$error":"#VALUE!"}},{"$f":"IF(BP132=BJ132,BZ108,IF(BP132=BK132,CA108,IF(BP132=BL132,CB108,IF(BP132=BM132,CC108,IF(BP132=BN132,CD108,IF(BP132=BO132,CE108,CO135))))))","v":{"$error":"#VALUE!"}},{"$f":"IF(AY159=AK159,BR108,IF(AY159=AL159,BS108,IF(AY159=AM159,BT108,IF(AY159=AN159,BU108,IF(AY159=AO159,BV108,IF(AY159=AP159,BW108,IF(AY159=AQ159,BX108,IF(AY159=AR159,BY108,CF135))))))))","v":{"$error":"#VALUE!"}},{"$f":"IF(AY159=AS159,BZ108,IF(AY159=AT159,CA108,IF(AY159=AU159,CB108,IF(AY159=AV159,CC108,IF(AY159=AW159,CD108,IF(AY159=AX159,CE108,CO135))))))","v":{"$error":"#VALUE!"}},{"$f":"IF(BP159=BB159,BR108,IF(BP159=BC159,BS108,IF(BP159=BD159,BT108,IF(BP159=BE159,BU108,IF(BP159=BF159,BV108,IF(BP159=BG159,BW108,IF(BP159=BH159,BX108,IF(BP159=BI159,BY108,CH135))))))))","v":{"$error":"#VALUE!"}},{"$f":"IF(BP159=BJ159,BZ108,IF(BP159=BK159,CA108,IF(BP159=BL159,CB108,IF(BP159=BM159,CC108,IF(BP159=BN159,CD108,IF(BP159=BO159,CE108,CO135))))))","v":{"$error":"#VALUE!"}},{"$f":"IF(AY186=AK186,BR108,IF(AY186=AL186,BS108,IF(AY186=AM186,BT108,IF(AY186=AN186,BU108,IF(AY186=AO186,BV108,IF(AY186=AP186,BW108,IF(AY186=AQ186,BX108,IF(AY186=AR186,BY108,CJ135))))))))","v":{"$error":"#VALUE!"}},{"$f":"IF(AY186=AS186,BZ108,IF(AY186=AT186,CA108,IF(AY186=AU186,CB108,IF(AY186=AV186,CC108,IF(AY186=AW186,CD108,IF(AY186=AX186,CE108,CO135))))))","v":{"$error":"#VALUE!"}},{"$f":"IF(BP186=BB186,BR108,IF(BP186=BC186,BS108,IF(BP186=BD186,BT108,IF(BP186=BE186,BU108,IF(BP186=BF186,BV108,IF(BP186=BG186,BW108,IF(BP186=BH186,BX108,IF(BP186=BI186,BY108,CL135))))))))","v":{"$error":"#VALUE!"}},{"$f":"IF(BP186=BJ186,BZ108,IF(BP186=BK186,CA108,IF(BP186=BL186,CB108,IF(BP186=BM186,CC108,IF(BP186=BN186,CD108,IF(BP186=BO186,CE108,CO135))))))","v":{"$error":"#VALUE!"}},{"$f":"IF(AY213=AK213,BR108,IF(AY213=AL213,BS108,IF(AY213=AM213,BT108,IF(AY213=AN213,BU108,IF(AY213=AO213,BV108,IF(AY213=AP213,BW108,IF(AY213=AQ213,BX108,IF(AY213=AR213,BY108,CN135))))))))","v":{"$error":"#VALUE!"}},{"$f":"IF(AY213=AS213,BZ108,IF(AY213=AT213,CA108,IF(AY213=AU213,CB108,IF(AY213=AV213,CC108,IF(AY213=AW213,CD108,IF(AY213=AX213,CE108,CO135))))))","v":{"$error":"#VALUE!"}},"-"]
[null,null,null,null,null,null,null,null,null,null,null,null,null,null,null,null,null,{"$f":"IF($AX$306,H22+VLOOKUP(Team!$X28,Team!$E$30:$J$300,6,FALSE),H22+AH39+$D$21)+$D$19*$AG$19","v":{"$error":"#VALUE!"}},{"$f":"IF($AX$306,$R136,$R136+Q10)","v":{"$error":"#VALUE!"}},{"$f":"IF($AX$306,$R136,$R136+R10)","v":{"$error":"#VALUE!"}},{"$error":"#VALUE!"},{"$error":"#VALUE!"},{"$error":"#VALUE!"},{"$error":"#VALUE!"},{"$error":"#VALUE!"},{"$error":"#VALUE!"},{"$error":"#VALUE!"},{"$error":"#VALUE!"},{"$error":"#VALUE!"},{"$error":"#VALUE!"},{"$error":"#VALUE!"},{"$error":"#VALUE!"},null,null,null,7,{"$f":"Q9","v":"kit 1"},"kit 2/3",0,"kit 4",0,"kit 5","kit 6/7",0,0,"kit 8","kit 9",0,"kit 10","kit 11","MAX",null,8,{"$f":"Q9","v":"kit 1"},"kit 2/3",0,"kit 4",0,"kit 5","kit 6/7",0,0,"kit 8","kit 9",0,"kit 10","kit 11","MAX",null,{"$f":"BA133","v":0},{"$f":"IF(AY79=AK79,BR109,IF(AY79=AL79,BS109,IF(AY79=AM79,BT109,IF(AY79=AN79,BU109,IF(AY79=AO79,BV109,IF(AY79=AP79,BW109,IF(AY79=AQ79,BX109,IF(AY79=AR79,BY109,BT136))))))))","v":{"$error":"#VALUE!"}},{"$f":"IF(AY79=AS79,BZ109,IF(AY79=AT79,CA109,IF(AY79=AU79,CB109,IF(AY79=AV79,CC109,IF(AY79=AW79,CD109,IF(AY79=AX79,CE109,CO136))))))","v":{"$error":"#VALUE!"}},{"$f":"IF(BP79=BB79,BR109,IF(BP79=BC79,BS109,IF(BP79=BD79,BT109,IF(BP79=BE79,BU109,IF(BP79=BF79,BV109,IF(BP79=BG79,BW109,IF(BP79=BH79,BX109,IF(BP79=BI79,BY109,BV136))))))))","v":{"$error":"#VALUE!"}},{"$f":"IF(BP79=BJ79,BZ109,IF(BP79=BK79,CA109,IF(BP79=BL79,CB109,IF(BP79=BM79,CC109,IF(BP79=BN79,CD109,IF(BP79=BO79,CE109,CO136))))))","v":{"$error":"#VALUE!"}},{"$f":"IF(AY106=AK106,BR109,IF(AY106=AL106,BS109,IF(AY106=AM106,BT109,IF(AY106=AN106,BU109,IF(AY106=AO106,BV109,IF(AY106=AP106,BW109,IF(AY106=AQ106,BX109,IF(AY106=AR106,BY109,BX136))))))))","v":{"$error":"#VALUE!"}},{"$f":"IF(AY106=AS106,BZ109,IF(AY106=AT106,CA109,IF(AY106=AU106,CB109,IF(AY106=AV106,CC109,IF(AY106=AW106,CD109,IF(AY106=AX106,CE109,CO136))))))","v":{"$error":"#VALUE!"}},{"$f":"IF(BP106=BB106,BR109,IF(BP106=BC106,BS109,IF(BP106=BD106,BT109,IF(BP106=BE106,BU109,IF(BP106=BF106,BV109,IF(BP106=BG106,BW109,IF(BP106=BH106,BX109,IF(BP106=BI106,BY109,BZ136))))))))","v":{"$error":"#VALUE!"}},{"$f":"IF(BP106=BJ106,BZ109,IF(BP106=BK106,CA109,IF(BP106=BL106,CB109,IF(BP106=BM106,CC109,IF(BP106=BN106,CD109,IF(BP106=BO106,CE109,CO136))))))","v":{"$error":"#VALUE!"}},{"$f":"IF(AY133=AK133,BR109,IF(AY133=AL133,BS109,IF(AY133=AM133,BT109,IF(AY133=AN133,BU109,IF(AY133=AO133,BV109,IF(AY133=AP133,BW109,IF(AY133=AQ133,BX109,IF(AY133=AR133,BY109,CB136))))))))","v":{"$error":"#VALUE!"}},{"$f":"IF(AY133=AS133,BZ109,IF(AY133=AT133,CA109,IF(AY133=AU133,CB109,IF(AY133=AV133,CC109,IF(AY133=AW133,CD109,IF(AY133=AX133,CE109,CO136))))))","v":{"$error":"#VALUE!"}},{"$f":"IF(BP133=BB133,BR109,IF(BP133=BC133,BS109,IF(BP133=BD133,BT109,IF(BP133=BE133,BU109,IF(BP133=BF133,BV109,IF(BP133=BG133,BW109,IF(BP133=BH133,BX109,IF(BP133=BI133,BY109,CD136))))))))","v":{"$error":"#VALUE!"}},{"$f":"IF(BP133=BJ133,BZ109,IF(BP133=BK133,CA109,IF(BP133=BL133,CB109,IF(BP133=BM133,CC109,IF(BP133=BN133,CD109,IF(BP133=BO133,CE109,CO136))))))","v":{"$error":"#VALUE!"}},{"$f":"IF(AY160=AK160,BR109,IF(AY160=AL160,BS109,IF(AY160=AM160,BT109,IF(AY160=AN160,BU109,IF(AY160=AO160,BV109,IF(AY160=AP160,BW109,IF(AY160=AQ160,BX109,IF(AY160=AR160,BY109,CF136))))))))","v":{"$error":"#VALUE!"}},{"$f":"IF(AY160=AS160,BZ109,IF(AY160=AT160,CA109,IF(AY160=AU160,CB109,IF(AY160=AV160,CC109,IF(AY160=AW160,CD109,IF(AY160=AX160,CE109,CO136))))))","v":{"$error":"#VALUE!"}},{"$f":"IF(BP160=BB160,BR109,IF(BP160=BC160,BS109,IF(BP160=BD160,BT109,IF(BP160=BE160,BU109,IF(BP160=BF160,BV109,IF(BP160=BG160,BW109,IF(BP160=BH160,BX109,IF(BP160=BI160,BY109,CH136))))))))","v":{"$error":"#VALUE!"}},{"$f":"IF(BP160=BJ160,BZ109,IF(BP160=BK160,CA109,IF(BP160=BL160,CB109,IF(BP160=BM160,CC109,IF(BP160=BN160,CD109,IF(BP160=BO160,CE109,CO136))))))","v":{"$error":"#VALUE!"}},{"$f":"IF(AY187=AK187,BR109,IF(AY187=AL187,BS109,IF(AY187=AM187,BT109,IF(AY187=AN187,BU109,IF(AY187=AO187,BV109,IF(AY187=AP187,BW109,IF(AY187=AQ187,BX109,IF(AY187=AR187,BY109,CJ136))))))))","v":{"$error":"#VALUE!"}},{"$f":"IF(AY187=AS187,BZ109,IF(AY187=AT187,CA109,IF(AY187=AU187,CB109,IF(AY187=AV187,CC109,IF(AY187=AW187,CD109,IF(AY187=AX187,CE109,CO136))))))","v":{"$error":"#VALUE!"}},{"$f":"IF(BP187=BB187,BR109,IF(BP187=BC187,BS109,IF(BP187=BD187,BT109,IF(BP187=BE187,BU109,IF(BP187=BF187,BV109,IF(BP187=BG187,BW109,IF(BP187=BH187,BX109,IF(BP187=BI187,BY109,CL136))))))))","v":{"$error":"#VALUE!"}},{"$f":"IF(BP187=BJ187,BZ109,IF(BP187=BK187,CA109,IF(BP187=BL187,CB109,IF(BP187=BM187,CC109,IF(BP187=BN187,CD109,IF(BP187=BO187,CE109,CO136))))))","v":{"$error":"#VALUE!"}},{"$f":"IF(AY214=AK214,BR109,IF(AY214=AL214,BS109,IF(AY214=AM214,BT109,IF(AY214=AN214,BU109,IF(AY214=AO214,BV109,IF(AY214=AP214,BW109,IF(AY214=AQ214,BX109,IF(AY214=AR214,BY109,CN136))))))))","v":{"$error":"#VALUE!"}},{"$f":"IF(AY214=AS214,BZ109,IF(AY214=AT214,CA109,IF(AY214=AU214,CB109,IF(AY214=AV214,CC109,IF(AY214=AW214,CD109,IF(AY214=AX214,CE109,CO136))))))","v":{"$error":"#VALUE!"}},"-"]
[null,null,null,null,null,null,null,null,null,null,null,null,null,null,null,null,null,{"$f":"IF($AX$306,I22+VLOOKUP(Team!$Y28,Team!$E$30:$J$300,6,FALSE),I22+AH40+$D$21)+$D$19*$AG$19","v":{"$error":"#VALUE!"}},{"$f":"IF($AX$306,$R137,$R137+Q11)","v":{"$error":"#VALUE!"}},{"$error":"#VALUE!"},{"$error":"#VALUE!"},{"$error":"#VALUE!"},{"$error":"#VALUE!"},{"$error":"#VALUE!"},{"$error":"#VALUE!"},{"$error":"#VALUE!"},{"$error":"#VALUE!"},{"$error":"#VALUE!"},{"$error":"#VALUE!"},{"$error":"#VALUE!"},{"$error":"#VALUE!"},{"$error":"#VALUE!"},null,null,null,{"$f":"AJ191","v":""},{"$f":"MIN((S59+AP35*D19)/AK48,(S60+AP35*D19)/AL48,(S61+AP35*D19)/AM48,(S62+AP35*D19)/AN48,(S63+AP35*D19)/AO48)*AP48","v":{"$error":"#VALUE!"}},{"$f":"MIN((T59+AP35*D19)/AK48,(T60+AP35*D19)/AL48,(T61+AP35*D19)/AM48,(T62+AP35*D19)/AN48,(T63+AP35*D19)/AO48)*AP48","v":{"$error":"#VALUE!"}},{"$f":"MIN((U59+AP35*D19)/AK48,(U60+AP35*D19)/AL48,(U61+AP35*D19)/AM48,(U62+AP35*D19)/AN48,(U63+AP35*D19)/AO48)*AP48","v":{"$error":"#VALUE!"}},{"$f":"MIN((V59+AP35*D19)/AK48,(V60+AP35*D19)/AL48,(V61+AP35*D19)/AM48,(V62+AP35*D19)/AN48,(V63+AP35*D19)/AO48)*AP48","v":{"$error":"#VALUE!"}},{"$f":"MIN((W59+AP35*D19)/AK48,(W60+AP35*D19)/AL48,(W61+AP35*D19)/AM48,(W62+AP35*D19)/AN48,(W63+AP35*D19)/AO48)*AP48","v":{"$error":"#VALUE!"}},{"$f":"MIN((X59+AP35*D19)/AK48,(X60+AP35*D19)/AL48,(X61+AP35*D19)/AM48,(X62+AP35*D19)/AN48,(X63+AP35*D19)/AO48)*AP48","v":{"$error":"#VALUE!"}},{"$f":"MIN((Y59+AP35*D19)/AK48,(Y60+AP35*D19)/AL48,(Y61+AP35*D19)/AM48,(Y62+AP35*D19)/AN48,(Y63+AP35*D19)/AO48)*AP48","v":{"$error":"#VALUE!"}},{"$f":"MIN((Z59+AP35*D19)/AK48,(Z60+AP35*D19)/AL48,(Z61+AP35*D19)/AM48,(Z62+AP35*D19)/AN48,(Z63+AP35*D19)/AO48)*AP48","v":{"$error":"#VALUE!"}},{"$f":"MIN((AA59+AP35*D19)/AK48,(AA60+AP35*D19)/AL48,(AA61+AP35*D19)/AM48,(AA62+AP35*D19)/AN48,(AA63+AP35*D19)/AO48)*AP48","v":{"$error":"#VALUE!"}},{"$f":"MIN((AB59+AP35*D19)/AK48,(AB60+AP35*D19)/AL48,(AB61+AP35*D19)/AM48,(AB62+AP35*D19)/AN48,(AB63+AP35*D19)/AO48)*AP48","v":{"$error":"#VALUE!"}},{"$f":"MIN((AC59+AP35*D19)/AK48,(AC60+AP35*D19)/AL48,(AC61+AP35*D19)/AM48,(AC62+AP35*D19)/AN48,(AC63+AP35*D19)/AO48)*AP48","v":{"$error":"#VALUE!"}},{"$f":"MIN((AD59+AP35*D19)/AK48,(AD60+AP35*D19)/AL48,(AD61+AP35*D19)/AM48,(AD62+AP35*D19)/AN48,(AD63+AP35*D19)/AO48)*AP48","v":{"$error":"#VALUE!"}},{"$f":"MIN((AE59+AP35*D19)/AK48,(AE60+AP35*D19)/AL48,(AE61+AP35*D19)/AM48,(AE62+AP35*D19)/AN48,(AE63+AP35*D19)/AO48)*AP48","v":{"$error":"#VALUE!"}},{"$f":"MIN((AF59+AP35*D19)/AK48,(AF60+AP35*D19)/AL48,(AF61+AP35*D19)/AM48,(AF62+AP35*D19)/AN48,(AF63+AP35*D19)/AO48)*AP48","v":{"$error":"#VALUE!"}},{"$f":"MAX(AK137:AX137)","v":{"$error":"#VALUE!"}},null,{"$f":"AJ191","v":""},{"$f":"MIN((S59+AQ35*D19)/AK49,(S60+AQ35*D19)/AL49,(S61+AQ35*D19)/AM49,(S62+AQ35*D19)/AN49,(S63+AQ35*D19)/AO49)*AP49","v":{"$error":"#VALUE!"}},{"$f":"MIN((T59+AQ35*D19)/AK49,(T60+AQ35*D19)/AL49,(T61+AQ35*D19)/AM49,(T62+AQ35*D19)/AN49,(T63+AQ35*D19)/AO49)*AP49","v":{"$error":"#VALUE!"}},{"$f":"MIN((U59+AQ35*D19)/AK49,(U60+AQ35*D19)/AL49,(U61+AQ35*D19)/AM49,(U62+AQ35*D19)/AN49,(U63+AQ35*D19)/AO49)*AP49","v":{"$error":"#VALUE!"}},{"$f":"MIN((V59+AQ35*D19)/AK49,(V60+AQ35*D19)/AL49,(V61+AQ35*D19)/AM49,(V62+AQ35*D19)/AN49,(V63+AQ35*D19)/AO49)*AP49","v":{"$error":"#VALUE!"}},{"$f":"MIN((W59+AQ35*D19)/AK49,(W60+AQ35*D19)/AL49,(W61+AQ35*D19)/AM49,(W62+AQ35*D19)/AN49,(W63+AQ35*D19)/AO49)*AP49","v":{"$error":"#VALUE!"}},{"$f":"MIN((X59+AQ35*D19)/AK49,(X60+AQ35*D19)/AL49,(X61+AQ35*D19)/AM49,(X62+AQ35*D19)/AN49,(X63+AQ35*D19)/AO49)*AP49","v":{"$error":"#VALUE!"}},{"$f":"MIN((Y59+AQ35*D19)/AK49,(Y60+AQ35*D19)/AL49,(Y61+AQ35*D19)/AM49,(Y62+AQ35*D19)/AN49,(Y63+AQ35*D19)/AO49)*AP49","v":{"$error":"#VALUE!"}},{"$f":"MIN((Z59+AQ35*D19)/AK49,(Z60+AQ35*D19)/AL49,(Z61+AQ35*D19)/AM49,(Z62+AQ35*D19)/AN49,(Z63+AQ35*D19)/AO49)*AP49","v":{"$error":"#VALUE!"}},{"$f":"MIN((AA59+AQ35*D19)/AK49,(AA60+AQ35*D19)/AL49,(AA61+AQ35*D19)/AM49,(AA62+AQ35*D19)/AN49,(AA63+AQ35*D19)/AO49)*AP49","v":{"$error":"#VALUE!"}},{"$f":"MIN((AB59+AQ35*D19)/AK49,(AB60+AQ35*D19)/AL49,(AB61+AQ35*D19)/AM49,(AB62+AQ35*D19)/AN49,(AB63+AQ35*D19)/AO49)*AP49","v":{"$error":"#VALUE!"}},{"$f":"MIN((AC59+AQ35*D19)/AK49,(AC60+AQ35*D19)/AL49,(AC61+AQ35*D19)/AM49,(AC62+AQ35*D19)/AN49,(AC63+AQ35*D19)/AO49)*AP49","v":{"$error":"#VALUE!"}},{"$f":"MIN((AD59+AQ35*D19)/AK49,(AD60+AQ35*D19)/AL49,(AD61+AQ35*D19)/AM49,(AD62+AQ35*D19)/AN49,(AD63+AQ35*D19)/AO49)*AP49","v":{"$error":"#VALUE!"}},{"$f":"MIN((AE59+AQ35*D19)/AK49,(AE60+AQ35*D19)/AL49,(AE61+AQ35*D19)/AM49,(AE62+AQ35*D19)/AN49,(AE63+AQ35*D19)/AO49)*AP49","v":{"$error":"#VALUE!"}},{"$f":"MIN((AF59+AQ35*D19)/AK49,(AF60+AQ35*D19)/AL49,(AF61+AQ35*D19)/AM49,(AF62+AQ35*D19)/AN49,(AF63+AQ35*D19)/AO49)*AP49","v":{"$error":"#VALUE!"}},{"$f":"MAX(BB137:BO137)","v":{"$error":"#VALUE!"}},null,{"$f":"BA134","v":0},{"$f":"IF(AY80=AK80,BR110,IF(AY80=AL80,BS110,IF(AY80=AM80,BT110,IF(AY80=AN80,BU110,IF(AY80=AO80,BV110,IF(AY80=AP80,BW110,IF(AY80=AQ80,BX110,IF(AY80=AR80,BY110,BT137))))))))","v":{"$error":"#VALUE!"}},{"$f":"IF(AY80=AS80,BZ110,IF(AY80=AT80,CA110,IF(AY80=AU80,CB110,IF(AY80=AV80,CC110,IF(AY80=AW80,CD110,IF(AY80=AX80,CE110,CO137))))))","v":{"$error":"#VALUE!"}},{"$f":"IF(BP80=BB80,BR110,IF(BP80=BC80,BS110,IF(BP80=BD80,BT110,IF(BP80=BE80,BU110,IF(BP80=BF80,BV110,IF(BP80=BG80,BW110,IF(BP80=BH80,BX110,IF(BP80=BI80,BY110,BV137))))))))","v":{"$error":"#VALUE!"}},{"$f":"IF(BP80=BJ80,BZ110,IF(BP80=BK80,CA110,IF(BP80=BL80,CB110,IF(BP80=BM80,CC110,IF(BP80=BN80,CD110,IF(BP80=BO80,CE110,CO137))))))","v":{"$error":"#VALUE!"}},{"$f":"IF(AY107=AK107,BR110,IF(AY107=AL107,BS110,IF(AY107=AM107,BT110,IF(AY107=AN107,BU110,IF(AY107=AO107,BV110,IF(AY107=AP107,BW110,IF(AY107=AQ107,BX110,IF(AY107=AR107,BY110,BX137))))))))","v":{"$error":"#VALUE!"}},{"$f":"IF(AY107=AS107,BZ110,IF(AY107=AT107,CA110,IF(AY107=AU107,CB110,IF(AY107=AV107,CC110,IF(AY107=AW107,CD110,IF(AY107=AX107,CE110,CO137))))))","v":{"$error":"#VALUE!"}},{"$f":"IF(BP107=BB107,BR110,IF(BP107=BC107,BS110,IF(BP107=BD107,BT110,IF(BP107=BE107,BU110,IF(BP107=BF107,BV110,IF(BP107=BG107,BW110,IF(BP107=BH107,BX110,IF(BP107=BI107,BY110,BZ137))))))))","v":{"$error":"#VALUE!"}},{"$f":"IF(BP107=BJ107,BZ110,IF(BP107=BK107,CA110,IF(BP107=BL107,CB110,IF(BP107=BM107,CC110,IF(BP107=BN107,CD110,IF(BP107=BO107,CE110,CO137))))))","v":{"$error":"#VALUE!"}},{"$f":"IF(AY134=AK134,BR110,IF(AY134=AL134,BS110,IF(AY134=AM134,BT110,IF(AY134=AN134,BU110,IF(AY134=AO134,BV110,IF(AY134=AP134,BW110,IF(AY134=AQ134,BX110,IF(AY134=AR134,BY110,CB137))))))))","v":{"$error":"#VALUE!"}},{"$f":"IF(AY134=AS134,BZ110,IF(AY134=AT134,CA110,IF(AY134=AU134,CB110,IF(AY134=AV134,CC110,IF(AY134=AW134,CD110,IF(AY134=AX134,CE110,CO137))))))","v":{"$error":"#VALUE!"}},{"$f":"IF(BP134=BB134,BR110,IF(BP134=BC134,BS110,IF(BP134=BD134,BT110,IF(BP134=BE134,BU110,IF(BP134=BF134,BV110,IF(BP134=BG134,BW110,IF(BP134=BH134,BX110,IF(BP134=BI134,BY110,CD137))))))))","v":{"$error":"#VALUE!"}},{"$f":"IF(BP134=BJ134,BZ110,IF(BP134=BK134,CA110,IF(BP134=BL134,CB110,IF(BP134=BM134,CC110,IF(BP134=BN134,CD110,IF(BP134=BO134,CE110,CO137))))))","v":{"$error":"#VALUE!"}},{"$f":"IF(AY161=AK161,BR110,IF(AY161=AL161,BS110,IF(AY161=AM161,BT110,IF(AY161=AN161,BU110,IF(AY161=AO161,BV110,IF(AY161=AP161,BW110,IF(AY161=AQ161,BX110,IF(AY161=AR161,BY110,CF137))))))))","v":{"$error":"#VALUE!"}},{"$f":"IF(AY161=AS161,BZ110,IF(AY161=AT161,CA110,IF(AY161=AU161,CB110,IF(AY161=AV161,CC110,IF(AY161=AW161,CD110,IF(AY161=AX161,CE110,CO137))))))","v":{"$error":"#VALUE!"}},{"$f":"IF(BP161=BB161,BR110,IF(BP161=BC161,BS110,IF(BP161=BD161,BT110,IF(BP161=BE161,BU110,IF(BP161=BF161,BV110,IF(BP161=BG161,BW110,IF(BP161=BH161,BX110,IF(BP161=BI161,BY110,CH137))))))))","v":{"$error":"#VALUE!"}},{"$f":"IF(BP161=BJ161,BZ110,IF(BP161=BK161,CA110,IF(BP161=BL161,CB110,IF(BP161=BM161,CC110,IF(BP161=BN161,CD110,IF(BP161=BO161,CE110,CO137))))))","v":{"$error":"#VALUE!"}},{"$f":"IF(AY188=AK188,BR110,IF(AY188=AL188,BS110,IF(AY188=AM188,BT110,IF(AY188=AN188,BU110,IF(AY188=AO188,BV110,IF(AY188=AP188,BW110,IF(AY188=AQ188,BX110,IF(AY188=AR188,BY110,CJ137))))))))","v":{"$error":"#VALUE!"}},{"$f":"IF(AY188=AS188,BZ110,IF(AY188=AT188,CA110,IF(AY188=AU188,CB110,IF(AY188=AV188,CC110,IF(AY188=AW188,CD110,IF(AY188=AX188,CE110,CO137))))))","v":{"$error":"#VALUE!"}},{"$f":"IF(BP188=BB188,BR110,IF(BP188=BC188,BS110,IF(BP188=BD188,BT110,IF(BP188=BE188,BU110,IF(BP188=BF188,BV110,IF(BP188=BG188,BW110,IF(BP188=BH188,BX110,IF(BP188=BI188,BY110,CL137))))))))","v":{"$error":"#VALUE!"}},{"$f":"IF(BP188=BJ188,BZ110,IF(BP188=BK188,CA110,IF(BP188=BL188,CB110,IF(BP188=BM188,CC110,IF(BP188=BN188,CD110,IF(BP188=BO188,CE110,CO137))))))","v":{"$error":"#VALUE!"}},{"$f":"IF(AY215=AK215,BR110,IF(AY215=AL215,BS110,IF(AY215=AM215,BT110,IF(AY215=AN215,BU110,IF(AY215=AO215,BV110,IF(AY215=AP215,BW110,IF(AY215=AQ215,BX110,IF(AY215=AR215,BY110,CN137))))))))","v":{"$error":"#VALUE!"}},{"$f":"IF(AY215=AS215,BZ110,IF(AY215=AT215,CA110,IF(AY215=AU215,CB110,IF(AY215=AV215,CC110,IF(AY215=AW215,CD110,IF(AY215=AX215,CE110,CO137))))))","v":{"$error":"#VALUE!"}},"-"]
[null,null,null,null,null,null,null,null,null,null,null,null,null,null,null,null,null,{"$f":"IF($AX$306,J22+VLOOKUP(Team!$Z28,Team!$E$30:$J$300,6,FALSE),J22+AH41+$D$21)+$D$19*$AG$19","v":{"$error":"#VALUE!"}},{"$f":"IF($AX$306,$R138,$R138+Q12)","v":{"$error":"#VALUE!"}},{"$error":"#VALUE!"},{"$error":"#VALUE!"},{"$error":"#VALUE!"},{"$error":"#VALUE!"},{"$error":"#VALUE!"},{"$error":"#VALUE!"},{"$error":"#VALUE!"},{"$error":"#VALUE!"},{"$error":"#VALUE!"},{"$error":"#VALUE!"},{"$error":"#VALUE!"},{"$error":"#VALUE!"},{"$error":"#VALUE!"},null,null,null,{"$f":"AJ192","v":""},{"$f":"MIN((S66+AP35*D19)/AK48,(S67+AP35*D19)/AL48,(S68+AP35*D19)/AM48,(S69+AP35*D19)/AN48,(S70+AP35*D19)/AO48)*AP48","v":{"$error":"#VALUE!"}},{"$f":"MIN((T66+AP35*D19)/AK48,(T67+AP35*D19)/AL48,(T68+AP35*D19)/AM48,(T69+AP35*D19)/AN48,(T70+AP35*D19)/AO48)*AP48","v":{"$error":"#VALUE!"}},{"$f":"MIN((U66+AP35*D19)/AK48,(U67+AP35*D19)/AL48,(U68+AP35*D19)/AM48,(U69+AP35*D19)/AN48,(U70+AP35*D19)/AO48)*AP48","v":{"$error":"#VALUE!"}},{"$f":"MIN((V66+AP35*D19)/AK48,(V67+AP35*D19)/AL48,(V68+AP35*D19)/AM48,(V69+AP35*D19)/AN48,(V70+AP35*D19)/AO48)*AP48","v":{"$error":"#VALUE!"}},{"$f":"MIN((W66+AP35*D19)/AK48,(W67+AP35*D19)/AL48,(W68+AP35*D19)/AM48,(W69+AP35*D19)/AN48,(W70+AP35*D19)/AO48)*AP48","v":{"$error":"#VALUE!"}},{"$f":"MIN((X66+AP35*D19)/AK48,(X67+AP35*D19)/AL48,(X68+AP35*D19)/AM48,(X69+AP35*D19)/AN48,(X70+AP35*D19)/AO48)*AP48","v":{"$error":"#VALUE!"}},{"$f":"MIN((Y66+AP35*D19)/AK48,(Y67+AP35*D19)/AL48,(Y68+AP35*D19)/AM48,(Y69+AP35*D19)/AN48,(Y70+AP35*D19)/AO48)*AP48","v":{"$error":"#VALUE!"}},{"$f":"MIN((Z66+AP35*D19)/AK48,(Z67+AP35*D19)/AL48,(Z68+AP35*D19)/AM48,(Z69+AP35*D19)/AN48,(Z70+AP35*D19)/AO48)*AP48","v":{"$error":"#VALUE!"}},{"$f":"MIN((AA66+AP35*D19)/AK48,(AA67+AP35*D19)/AL48,(AA68+AP35*D19)/AM48,(AA69+AP35*D19)/AN48,(AA70+AP35*D19)/AO48)*AP48","v":{"$error":"#VALUE!"}},{"$f":"MIN((AB66+AP35*D19)/AK48,(AB67+AP35*D19)/AL48,(AB68+AP35*D19)/AM48,(AB69+AP35*D19)/AN48,(AB70+AP35*D19)/AO48)*AP48","v":{"$error":"#VALUE!"}},{"$f":"MIN((AC66+AP35*D19)/AK48,(AC67+AP35*D19)/AL48,(AC68+AP35*D19)/AM48,(AC69+AP35*D19)/AN48,(AC70+AP35*D19)/AO48)*AP48","v":{"$error":"#VALUE!"}},{"$f":"MIN((AD66+AP35*D19)/AK48,(AD67+AP35*D19)/AL48,(AD68+AP35*D19)/AM48,(AD69+AP35*D19)/AN48,(AD70+AP35*D19)/AO48)*AP48","v":{"$error":"#VALUE!"}},{"$f":"MIN((AE66+AP35*D19)/AK48,(AE67+AP35*D19)/AL48,(AE68+AP35*D19)/AM48,(AE69+AP35*D19)/AN48,(AE70+AP35*D19)/AO48)*AP48","v":{"$error":"#VALUE!"}},{"$f":"MIN((AF66+AP35*D19)/AK48,(AF67+AP35*D19)/AL48,(AF68+AP35*D19)/AM48,(AF69+AP35*D19)/AN48,(AF70+AP35*D19)/AO48)*AP48","v":{"$error":"#VALUE!"}},{"$error":"#VALUE!"},null,"",{"$f":"MIN((S66+AQ35*D19)/AK49,(S67+AQ35*D19)/AL49,(S68+AQ35*D19)/AM49,(S69+AQ35*D19)/AN49,(S70+AQ35*D19)/AO49)*AP49","v":{"$error":"#VALUE!"}},{"$f":"MIN((T66+AQ35*D19)/AK49,(T67+AQ35*D19)/AL49,(T68+AQ35*D19)/AM49,(T69+AQ35*D19)/AN49,(T70+AQ35*D19)/AO49)*AP49","v":{"$error":"#VALUE!"}},{"$f":"MIN((U66+AQ35*D19)/AK49,(U67+AQ35*D19)/AL49,(U68+AQ35*D19)/AM49,(U69+AQ35*D19)/AN49,(U70+AQ35*D19)/AO49)*AP49","v":{"$error":"#VALUE!"}},{"$f":"MIN((V66+AQ35*D19)/AK49,(V67+AQ35*D19)/AL49,(V68+AQ35*D19)/AM49,(V69+AQ35*D19)/AN49,(V70+AQ35*D19)/AO49)*AP49","v":{"$error":"#VALUE!"}},{"$f":"MIN((W66+AQ35*D19)/AK49,(W67+AQ35*D19)/AL49,(W68+AQ35*D19)/AM49,(W69+AQ35*D19)/AN49,(W70+AQ35*D19)/AO49)*AP49","v":{"$error":"#VALUE!"}},{"$f":"MIN((X66+AQ35*D19)/AK49,(X67+AQ35*D19)/AL49,(X68+AQ35*D19)/AM49,(X69+AQ35*D19)/AN49,(X70+AQ35*D19)/AO49)*AP49","v":{"$error":"#VALUE!"}},{"$f":"MIN((Y66+AQ35*D19)/AK49,(Y67+AQ35*D19)/AL49,(Y68+AQ35*D19)/AM49,(Y69+AQ35*D19)/AN49,(Y70+AQ35*D19)/AO49)*AP49","v":{"$error":"#VALUE!"}},{"$f":"MIN((Z66+AQ35*D19)/AK49,(Z67+AQ35*D19)/AL49,(Z68+AQ35*D19)/AM49,(Z69+AQ35*D19)/AN49,(Z70+AQ35*D19)/AO49)*AP49","v":{"$error":"#VALUE!"}},{"$f":"MIN((AA66+AQ35*D19)/AK49,(AA67+AQ35*D19)/AL49,(AA68+AQ35*D19)/AM49,(AA69+AQ35*D19)/AN49,(AA70+AQ35*D19)/AO49)*AP49","v":{"$error":"#VALUE!"}},{"$f":"MIN((AB66+AQ35*D19)/AK49,(AB67+AQ35*D19)/AL49,(AB68+AQ35*D19)/AM49,(AB69+AQ35*D19)/AN49,(AB70+AQ35*D19)/AO49)*AP49","v":{"$error":"#VALUE!"}},{"$f":"MIN((AC66+AQ35*D19)/AK49,(AC67+AQ35*D19)/AL49,(AC68+AQ35*D19)/AM49,(AC69+AQ35*D19)/AN49,(AC70+AQ35*D19)/AO49)*AP49","v":{"$error":"#VALUE!"}},{"$f":"MIN((AD66+AQ35*D19)/AK49,(AD67+AQ35*D19)/AL49,(AD68+AQ35*D19)/AM49,(AD69+AQ35*D19)/AN49,(AD70+AQ35*D19)/AO49)*AP49","v":{"$error":"#VALUE!"}},{"$f":"MIN((AE66+AQ35*D19)/AK49,(AE67+AQ35*D19)/AL49,(AE68+AQ35*D19)/AM49,(AE69+AQ35*D19)/AN49,(AE70+AQ35*D19)/AO49)*AP49","v":{"$error":"#VALUE!"}},{"$f":"MIN((AF66+AQ35*D19)/AK49,(AF67+AQ35*D19)/AL49,(AF68+AQ35*D19)/AM49,(AF69+AQ35*D19)/AN49,(AF70+AQ35*D19)/AO49)*AP49","v":{"$error":"#VALUE!"}},{"$error":"#VALUE!"},null,"formule meilleur kit par poste /joueur"]
[null,null,null,null,null,null,null,null,null,null,null,null,null,null,null,null,null,{"$f":"IF($AX$306,K22+VLOOKUP(Team!$AA28,Team!$E$30:$J$300,6,FALSE),K22+AH42+$D$21)+$D$19*$AG$19","v":{"$error":"#VALUE!"}},{"$f":"IF($AX$306,$R139,$R139+Q13)","v":{"$error":"#VALUE!"}},{"$error":"#VALUE!"},{"$error":"#VALUE!"},{"$error":"#VALUE!"},{"$error":"#VALUE!"},{"$error":"#VALUE!"},{"$error":"#VALUE!"},{"$error":"#VALUE!"},{"$error":"#VALUE!"},{"$error":"#VALUE!"},{"$error":"#VALUE!"},{"$error":"#VALUE!"},{"$error":"#VALUE!"},{"$error":"#VALUE!"},null,null,null,"",{"$f":"MIN((S73+AP35*D19)/AK48,(S74+AP35*D19)/AL48,(S75+AP35*D19)/AM48,(S76+AP35*D19)/AN48,(S77+AP35*D19)/AO48)*AP48","v":{"$error":"#VALUE!"}},{"$f":"MIN((T73+AP35*D19)/AK48,(T74+AP35*D19)/AL48,(T75+AP35*D19)/AM48,(T76+AP35*D19)/AN48,(T77+AP35*D19)/AO48)*AP48","v":{"$error":"#VALUE!"}},{"$f":"MIN((U73+AP35*D19)/AK48,(U74+AP35*D19)/AL48,(U75+AP35*D19)/AM48,(U76+AP35*D19)/AN48,(U77+AP35*D19)/AO48)*AP48","v":{"$error":"#VALUE!"}},{"$f":"MIN((V73+AP35*D19)/AK48,(V74+AP35*D19)/AL48,(V75+AP35*D19)/AM48,(V76+AP35*D19)/AN48,(V77+AP35*D19)/AO48)*AP48","v":{"$error":"#VALUE!"}},{"$f":"MIN((W73+AP35*D19)/AK48,(W74+AP35*D19)/AL48,(W75+AP35*D19)/AM48,(W76+AP35*D19)/AN48,(W77+AP35*D19)/AO48)*AP48","v":{"$error":"#VALUE!"}},{"$f":"MIN((X73+AP35*D19)/AK48,(X74+AP35*D19)/AL48,(X75+AP35*D19)/AM48,(X76+AP35*D19)/AN48,(X77+AP35*D19)/AO48)*AP48","v":{"$error":"#VALUE!"}},{"$f":"MIN((Y73+AP35*D19)/AK48,(Y74+AP35*D19)/AL48,(Y75+AP35*D19)/AM48,(Y76+AP35*D19)/AN48,(Y77+AP35*D19)/AO48)*AP48","v":{"$error":"#VALUE!"}},{"$f":"MIN((Z73+AP35*D19)/AK48,(Z74+AP35*D19)/AL48,(Z75+AP35*D19)/AM48,(Z76+AP35*D19)/AN48,(Z77+AP35*D19)/AO48)*AP48","v":{"$error":"#VALUE!"}},{"$f":"MIN((AA73+AP35*D19)/AK48,(AA74+AP35*D19)/AL48,(AA75+AP35*D19)/AM48,(AA76+AP35*D19)/AN48,(AA77+AP35*D19)/AO48)*AP48","v":{"$error":"#VALUE!"}},{"$f":"MIN((AB73+AP35*D19)/AK48,(AB74+AP35*D19)/AL48,(AB75+AP35*D19)/AM48,(AB76+AP35*D19)/AN48,(AB77+AP35*D19)/AO48)*AP48","v":{"$error":"#VALUE!"}},{"$f":"MIN((AC73+AP35*D19)/AK48,(AC74+AP35*D19)/AL48,(AC75+AP35*D19)/AM48,(AC76+AP35*D19)/AN48,(AC77+AP35*D19)/AO48)*AP48","v":{"$error":"#VALUE!"}},{"$f":"MIN((AD73+AP35*D19)/AK48,(AD74+AP35*D19)/AL48,(AD75+AP35*D19)/AM48,(AD76+AP35*D19)/AN48,(AD77+AP35*D19)/AO48)*AP48","v":{"$error":"#VALUE!"}},{"$f":"MIN((AE73+AP35*D19)/AK48,(AE74+AP35*D19)/AL48,(AE75+AP35*D19)/AM48,(AE76+AP35*D19)/AN48,(AE77+AP35*D19)/AO48)*AP48","v":{"$error":"#VALUE!"}},{"$f":"MIN((AF73+AP35*D19)/AK48,(AF74+AP35*D19)/AL48,(AF75+AP35*D19)/AM48,(AF76+AP35*D19)/AN48,(AF77+AP35*D19)/AO48)*AP48","v":{"$error":"#VALUE!"}},{"$error":"#VALUE!"},null,"",{"$f":"MIN((S73+AQ35*D19)/AK49,(S74+AQ35*D19)/AL49,(S75+AQ35*D19)/AM49,(S76+AQ35*D19)/AN49,(S77+AQ35*D19)/AO49)*AP49","v":{"$error":"#VALUE!"}},{"$f":"MIN((T73+AQ35*D19)/AK49,(T74+AQ35*D19)/AL49,(T75+AQ35*D19)/AM49,(T76+AQ35*D19)/AN49,(T77+AQ35*D19)/AO49)*AP49","v":{"$error":"#VALUE!"}},{"$f":"MIN((U73+AQ35*D19)/AK49,(U74+AQ35*D19)/AL49,(U75+AQ35*D19)/AM49,(U76+AQ35*D19)/AN49,(U77+AQ35*D19)/AO49)*AP49","v":{"$error":"#VALUE!"}},{"$f":"MIN((V73+AQ35*D19)/AK49,(V74+AQ35*D19)/AL49,(V75+AQ35*D19)/AM49,(V76+AQ35*D19)/AN49,(V77+AQ35*D19)/AO49)*AP49","v":{"$error":"#VALUE!"}},{"$f":"MIN((W73+AQ35*D19)/AK49,(W74+AQ35*D19)/AL49,(W75+AQ35*D19)/AM49,(W76+AQ35*D19)/AN49,(W77+AQ35*D19)/AO49)*AP49","v":{"$error":"#VALUE!"}},{"$f":"MIN((X73+AQ35*D19)/AK49,(X74+AQ35*D19)/AL49,(X75+AQ35*D19)/AM49,(X76+AQ35*D19)/AN49,(X77+AQ35*D19)/AO49)*AP49","v":{"$error":"#VALUE!"}},{"$f":"MIN((Y73+AQ35*D19)/AK49,(Y74+AQ35*D19)/AL49,(Y75+AQ35*D19)/AM49,(Y76+AQ35*D19)/AN49,(Y77+AQ35*D19)/AO49)*AP49","v":{"$error":"#VALUE!"}},{"$f":"MIN((Z73+AQ35*D19)/AK49,(Z74+AQ35*D19)/AL49,(Z75+AQ35*D19)/AM49,(Z76+AQ35*D19)/AN49,(Z77+AQ35*D19)/AO49)*AP49","v":{"$error":"#VALUE!"}},{"$f":"MIN((AA73+AQ35*D19)/AK49,(AA74+AQ35*D19)/AL49,(AA75+AQ35*D19)/AM49,(AA76+AQ35*D19)/AN49,(AA77+AQ35*D19)/AO49)*AP49","v":{"$error":"#VALUE!"}},{"$f":"MIN((AB73+AQ35*D19)/AK49,(AB74+AQ35*D19)/AL49,(AB75+AQ35*D19)/AM49,(AB76+AQ35*D19)/AN49,(AB77+AQ35*D19)/AO49)*AP49","v":{"$error":"#VALUE!"}},{"$f":"MIN((AC73+AQ35*D19)/AK49,(AC74+AQ35*D19)/AL49,(AC75+AQ35*D19)/AM49,(AC76+AQ35*D19)/AN49,(AC77+AQ35*D19)/AO49)*AP49","v":{"$error":"#VALUE!"}},{"$f":"MIN((AD73+AQ35*D19)/AK49,(AD74+AQ35*D19)/AL49,(AD75+AQ35*D19)/AM49,(AD76+AQ35*D19)/AN49,(AD77+AQ35*D19)/AO49)*AP49","v":{"$error":"#VALUE!"}},{"$f":"MIN((AE73+AQ35*D19)/AK49,(AE74+AQ35*D19)/AL49,(AE75+AQ35*D19)/AM49,(AE76+AQ35*D19)/AN49,(AE77+AQ35*D19)/AO49)*AP49","v":{"$error":"#VALUE!"}},{"$f":"MIN((AF73+AQ35*D19)/AK49,(AF74+AQ35*D19)/AL49,(AF75+AQ35*D19)/AM49,(AF76+AQ35*D19)/AN49,(AF77+AQ35*D19)/AO49)*AP49","v":{"$error":"#VALUE!"}},{"$error":"#VALUE!"},null,null,null,null,null,null,null,null,null,null,null,null,null,null,null,null,null,null,null,null,"match nul"]
[null,null,null,null,null,null,null,null,null,null,null,null,null,null,null,null,null,{"$f":"IF($AX$306,L22+VLOOKUP(Team!$AB28,Team!$E$30:$J$300,6,FALSE),L22+AH43+$D$21)+$D$19*$AG$19","v":{"$error":"#VALUE!"}},{"$f":"IF($AX$306,$R140,$R140+Q14)","v":{"$error":"#VALUE!"}},{"$error":"#VALUE!"},{"$error":"#VALUE!"},{"$error":"#VALUE!"},{"$error":"#VALUE!"},{"$error":"#VALUE!"},{"$error":"#VALUE!"},{"$error":"#VALUE!"},{"$error":"#VALUE!"},{"$error":"#VALUE!"},{"$error":"#VALUE!"},{"$error":"#VALUE!"},{"$error":"#VALUE!"},{"$error":"#VALUE!"},null,null,null,"",{"$f":"MIN((S80+AP35*D19)/AK48,(S81+AP35*D19)/AL48,(S82+AP35*D19)/AM48,(S83+AP35*D19)/AN48,(S84+AP35*D19)/AO48)*AP48","v":{"$error":"#VALUE!"}},{"$f":"MIN((T80+AP35*D19)/AK48,(T81+AP35*D19)/AL48,(T82+AP35*D19)/AM48,(T83+AP35*D19)/AN48,(T84+AP35*D19)/AO48)*AP48","v":{"$error":"#VALUE!"}},{"$f":"MIN((U80+AP35*D19)/AK48,(U81+AP35*D19)/AL48,(U82+AP35*D19)/AM48,(U83+AP35*D19)/AN48,(U84+AP35*D19)/AO48)*AP48","v":{"$error":"#VALUE!"}},{"$f":"MIN((V80+AP35*D19)/AK48,(V81+AP35*D19)/AL48,(V82+AP35*D19)/AM48,(V83+AP35*D19)/AN48,(V84+AP35*D19)/AO48)*AP48","v":{"$error":"#VALUE!"}},{"$f":"MIN((W80+AP35*D19)/AK48,(W81+AP35*D19)/AL48,(W82+AP35*D19)/AM48,(W83+AP35*D19)/AN48,(W84+AP35*D19)/AO48)*AP48","v":{"$error":"#VALUE!"}},{"$f":"MIN((X80+AP35*D19)/AK48,(X81+AP35*D19)/AL48,(X82+AP35*D19)/AM48,(X83+AP35*D19)/AN48,(X84+AP35*D19)/AO48)*AP48","v":{"$error":"#VALUE!"}},{"$f":"MIN((Y80+AP35*D19)/AK48,(Y81+AP35*D19)/AL48,(Y82+AP35*D19)/AM48,(Y83+AP35*D19)/AN48,(Y84+AP35*D19)/AO48)*AP48","v":{"$error":"#VALUE!"}},{"$f":"MIN((Z80+AP35*D19)/AK48,(Z81+AP35*D19)/AL48,(Z82+AP35*D19)/AM48,(Z83+AP35*D19)/AN48,(Z84+AP35*D19)/AO48)*AP48","v":{"$error":"#VALUE!"}},{"$f":"MIN((AA80+AP35*D19)/AK48,(AA81+AP35*D19)/AL48,(AA82+AP35*D19)/AM48,(AA83+AP35*D19)/AN48,(AA84+AP35*D19)/AO48)*AP48","v":{"$error":"#VALUE!"}},{"$f":"MIN((AB80+AP35*D19)/AK48,(AB81+AP35*D19)/AL48,(AB82+AP35*D19)/AM48,(AB83+AP35*D19)/AN48,(AB84+AP35*D19)/AO48)*AP48","v":{"$error":"#VALUE!"}},{"$f":"MIN((AC80+AP35*D19)/AK48,(AC81+AP35*D19)/AL48,(AC82+AP35*D19)/AM48,(AC83+AP35*D19)/AN48,(AC84+AP35*D19)/AO48)*AP48","v":{"$error":"#VALUE!"}},{"$f":"MIN((AD80+AP35*D19)/AK48,(AD81+AP35*D19)/AL48,(AD82+AP35*D19)/AM48,(AD83+AP35*D19)/AN48,(AD84+AP35*D19)/AO48)*AP48","v":{"$error":"#VALUE!"}},{"$f":"MIN((AE80+AP35*D19)/AK48,(AE81+AP35*D19)/AL48,(AE82+AP35*D19)/AM48,(AE83+AP35*D19)/AN48,(AE84+AP35*D19)/AO48)*AP48","v":{"$error":"#VALUE!"}},{"$f":"MIN((AF80+AP35*D19)/AK48,(AF81+AP35*D19)/AL48,(AF82+AP35*D19)/AM48,(AF83+AP35*D19)/AN48,(AF84+AP35*D19)/AO48)*AP48","v":{"$error":"#VALUE!"}},{"$error":"#VALUE!"},null,"",{"$f":"MIN((S80+AQ35*D19)/AK49,(S81+AQ35*D19)/AL49,(S82+AQ35*D19)/AM49,(S83+AQ35*D19)/AN49,(S84+AQ35*D19)/AO49)*AP49","v":{"$error":"#VALUE!"}},{"$f":"MIN((T80+AQ35*D19)/AK49,(T81+AQ35*D19)/AL49,(T82+AQ35*D19)/AM49,(T83+AQ35*D19)/AN49,(T84+AQ35*D19)/AO49)*AP49","v":{"$error":"#VALUE!"}},{"$f":"MIN((U80+AQ35*D19)/AK49,(U81+AQ35*D19)/AL49,(U82+AQ35*D19)/AM49,(U83+AQ35*D19)/AN49,(U84+AQ35*D19)/AO49)*AP49","v":{"$error":"#VALUE!"}},{"$f":"MIN((V80+AQ35*D19)/AK49,(V81+AQ35*D19)/AL49,(V82+AQ35*D19)/AM49,(V83+AQ35*D19)/AN49,(V84+AQ35*D19)/AO49)*AP49","v":{"$error":"#VALUE!"}},{"$f":"MIN((W80+AQ35*D19)/AK49,(W81+AQ35*D19)/AL49,(W82+AQ35*D19)/AM49,(W83+AQ35*D19)/AN49,(W84+AQ35*D19)/AO49)*AP49","v":{"$error":"#VALUE!"}},{"$f":"MIN((X80+AQ35*D19)/AK49,(X81+AQ35*D19)/AL49,(X82+AQ35*D19)/AM49,(X83+AQ35*D19)/AN49,(X84+AQ35*D19)/AO49)*AP49","v":{"$error":"#VALUE!"}},{"$f":"MIN((Y80+AQ35*D19)/AK49,(Y81+AQ35*D19)/AL49,(Y82+AQ35*D19)/AM49,(Y83+AQ35*D19)/AN49,(Y84+AQ35*D19)/AO49)*AP49","v":{"$error":"#VALUE!"}},{"$f":"MIN((Z80+AQ35*D19)/AK49,(Z81+AQ35*D19)/AL49,(Z82+AQ35*D19)/AM49,(Z83+AQ35*D19)/AN49,(Z84+AQ35*D19)/AO49)*AP49","v":{"$error":"#VALUE!"}},{"$f":"MIN((AA80+AQ35*D19)/AK49,(AA81+AQ35*D19)/AL49,(AA82+AQ35*D19)/AM49,(AA83+AQ35*D19)/AN49,(AA84+AQ35*D19)/AO49)*AP49","v":{"$error":"#VALUE!"}},{"$f":"MIN((AB80+AQ35*D19)/AK49,(AB81+AQ35*D19)/AL49,(AB82+AQ35*D19)/AM49,(AB83+AQ35*D19)/AN49,(AB84+AQ35*D19)/AO49)*AP49","v":{"$error":"#VALUE!"}},{"$f":"MIN((AC80+AQ35*D19)/AK49,(AC81+AQ35*D19)/AL49,(AC82+AQ35*D19)/AM49,(AC83+AQ35*D19)/AN49,(AC84+AQ35*D19)/AO49)*AP49","v":{"$error":"#VALUE!"}},{"$f":"MIN((AD80+AQ35*D19)/AK49,(AD81+AQ35*D19)/AL49,(AD82+AQ35*D19)/AM49,(AD83+AQ35*D19)/AN49,(AD84+AQ35*D19)/AO49)*AP49","v":{"$error":"#VALUE!"}},{"$f":"MIN((AE80+AQ35*D19)/AK49,(AE81+AQ35*D19)/AL49,(AE82+AQ35*D19)/AM49,(AE83+AQ35*D19)/AN49,(AE84+AQ35*D19)/AO49)*AP49","v":{"$error":"#VALUE!"}},{"$f":"MIN((AF80+AQ35*D19)/AK49,(AF81+AQ35*D19)/AL49,(AF82+AQ35*D19)/AM49,(AF83+AQ35*D19)/AN49,(AF84+AQ35*D19)/AO49)*AP49","v":{"$error":"#VALUE!"}},{"$error":"#VALUE!"},null,null,{"$f":"IF(AV24=1,BS129,IF(AV25=1,BS130,IF(AV26=1,BS131,IF(AV27=1,BS132,IF(AV28=1,BS133,IF(AV29=1,BS134,IF(AV31=1,BS135,BS83)))))))","v":"attente"},{"$f":"IF(AV16=1,BS121,IF(AV17=1,BS122,IF(AV18=1,BS123,IF(AV19=1,BS124,IF(AV20=1,BS125,IF(AV21=1,BS126,IF(AV22=1,BS127,IF(AV23=1,BS128,BS140))))))))","v":"attente"},null,null,null,null,null,null,null,null,null,null,null,null,null,null,null,null,"victoire de l'adversaire"]
[null,null,null,null,null,null,null,null,null,null,null,null,null,null,null,null,null,null,null,null,null,null,null,null,null,null,null,null,null,null,null,null,null,null,null,"",{"$f":"MIN((S87+AP35*D19)/AK48,(S88+AP35*D19)/AL48,(S89+AP35*D19)/AM48,(S90+AP35*D19)/AN48,(S91+AP35*D19)/AO48)*AP48","v":{"$error":"#VALUE!"}},{"$f":"MIN((T87+AP35*D19)/AK48,(T88+AP35*D19)/AL48,(T89+AP35*D19)/AM48,(T90+AP35*D19)/AN48,(T91+AP35*D19)/AO48)*AP48","v":{"$error":"#VALUE!"}},{"$f":"MIN((U87+AP35*D19)/AK48,(U88+AP35*D19)/AL48,(U89+AP35*D19)/AM48,(U90+AP35*D19)/AN48,(U91+AP35*D19)/AO48)*AP48","v":{"$error":"#VALUE!"}},{"$f":"MIN((V87+AP35*D19)/AK48,(V88+AP35*D19)/AL48,(V89+AP35*D19)/AM48,(V90+AP35*D19)/AN48,(V91+AP35*D19)/AO48)*AP48","v":{"$error":"#VALUE!"}},{"$f":"MIN((W87+AP35*D19)/AK48,(W88+AP35*D19)/AL48,(W89+AP35*D19)/AM48,(W90+AP35*D19)/AN48,(W91+AP35*D19)/AO48)*AP48","v":{"$error":"#VALUE!"}},{"$f":"MIN((X87+AP35*D19)/AK48,(X88+AP35*D19)/AL48,(X89+AP35*D19)/AM48,(X90+AP35*D19)/AN48,(X91+AP35*D19)/AO48)*AP48","v":{"$error":"#VALUE!"}},{"$f":"MIN((Y87+AP35*D19)/AK48,(Y88+AP35*D19)/AL48,(Y89+AP35*D19)/AM48,(Y90+AP35*D19)/AN48,(Y91+AP35*D19)/AO48)*AP48","v":{"$error":"#VALUE!"}},{"$f":"MIN((Z87+AP35*D19)/AK48,(Z88+AP35*D19)/AL48,(Z89+AP35*D19)/AM48,(Z90+AP35*D19)/AN48,(Z91+AP35*D19)/AO48)*AP48","v":{"$error":"#VALUE!"}},{"$f":"MIN((AA87+AP35*D19)/AK48,(AA88+AP35*D19)/AL48,(AA89+AP35*D19)/AM48,(AA90+AP35*D19)/AN48,(AA91+AP35*D19)/AO48)*AP48","v":{"$error":"#VALUE!"}},{"$f":"MIN((AB87+AP35*D19)/AK48,(AB88+AP35*D19)/AL48,(AB89+AP35*D19)/AM48,(AB90+AP35*D19)/AN48,(AB91+AP35*D19)/AO48)*AP48","v":{"$error":"#VALUE!"}},{"$f":"MIN((AC87+AP35*D19)/AK48,(AC88+AP35*D19)/AL48,(AC89+AP35*D19)/AM48,(AC90+AP35*D19)/AN48,(AC91+AP35*D19)/AO48)*AP48","v":{"$error":"#VALUE!"}},{"$f":"MIN((AD87+AP35*D19)/AK48,(AD88+AP35*D19)/AL48,(AD89+AP35*D19)/AM48,(AD90+AP35*D19)/AN48,(AD91+AP35*D19)/AO48)*AP48","v":{"$error":"#VALUE!"}},{"$f":"MIN((AE87+AP35*D19)/AK48,(AE88+AP35*D19)/AL48,(AE89+AP35*D19)/AM48,(AE90+AP35*D19)/AN48,(AE91+AP35*D19)/AO48)*AP48","v":{"$error":"#VALUE!"}},{"$f":"MIN((AF87+AP35*D19)/AK48,(AF88+AP35*D19)/AL48,(AF89+AP35*D19)/AM48,(AF90+AP35*D19)/AN48,(AF91+AP35*D19)/AO48)*AP48","v":{"$error":"#VALUE!"}},{"$error":"#VALUE!"},null,"",{"$f":"MIN((S87+AQ35*D19)/AK49,(S88+AQ35*D19)/AL49,(S89+AQ35*D19)/AM49,(S90+AQ35*D19)/AN49,(S91+AQ35*D19)/AO49)*AP49","v":{"$error":"#VALUE!"}},{"$f":"MIN((T87+AQ35*D19)/AK49,(T88+AQ35*D19)/AL49,(T89+AQ35*D19)/AM49,(T90+AQ35*D19)/AN49,(T91+AQ35*D19)/AO49)*AP49","v":{"$error":"#VALUE!"}},{"$f":"MIN((U87+AQ35*D19)/AK49,(U88+AQ35*D19)/AL49,(U89+AQ35*D19)/AM49,(U90+AQ35*D19)/AN49,(U91+AQ35*D19)/AO49)*AP49","v":{"$error":"#VALUE!"}},{"$f":"MIN((V87+AQ35*D19)/AK49,(V88+AQ35*D19)/AL49,(V89+AQ35*D19)/AM49,(V90+AQ35*D19)/AN49,(V91+AQ35*D19)/AO49)*AP49","v":{"$error":"#VALUE!"}},{"$f":"MIN((W87+AQ35*D19)/AK49,(W88+AQ35*D19)/AL49,(W89+AQ35*D19)/AM49,(W90+AQ35*D19)/AN49,(W91+AQ35*D19)/AO49)*AP49","v":{"$error":"#VALUE!"}},{"$f":"MIN((X87+AQ35*D19)/AK49,(X88+AQ35*D19)/AL49,(X89+AQ35*D19)/AM49,(X90+AQ35*D19)/AN49,(X91+AQ35*D19)/AO49)*AP49","v":{"$error":"#VALUE!"}},{"$f":"MIN((Y87+AQ35*D19)/AK49,(Y88+AQ35*D19)/AL49,(Y89+AQ35*D19)/AM49,(Y90+AQ35*D19)/AN49,(Y91+AQ35*D19)/AO49)*AP49","v":{"$error":"#VALUE!"}},{"$f":"MIN((Z87+AQ35*D19)/AK49,(Z88+AQ35*D19)/AL49,(Z89+AQ35*D19)/AM49,(Z90+AQ35*D19)/AN49,(Z91+AQ35*D19)/AO49)*AP49","v":{"$error":"#VALUE!"}},{"$f":"MIN((AA87+AQ35*D19)/AK49,(AA88+AQ35*D19)/AL49,(AA89+AQ35*D19)/AM49,(AA90+AQ35*D19)/AN49,(AA91+AQ35*D19)/AO49)*AP49","v":{"$error":"#VALUE!"}},{"$f":"MIN((AB87+AQ35*D19)/AK49,(AB88+AQ35*D19)/AL49,(AB89+AQ35*D19)/AM49,(AB90+AQ35*D19)/AN49,(AB91+AQ35*D19)/AO49)*AP49","v":{"$error":"#VALUE!"}},{"$f":"MIN((AC87+AQ35*D19)/AK49,(AC88+AQ35*D19)/AL49,(AC89+AQ35*D19)/AM49,(AC90+AQ35*D19)/AN49,(AC91+AQ35*D19)/AO49)*AP49","v":{"$error":"#VALUE!"}},{"$f":"MIN((AD87+AQ35*D19)/AK49,(AD88+AQ35*D19)/AL49,(AD89+AQ35*D19)/AM49,(AD90+AQ35*D19)/AN49,(AD91+AQ35*D19)/AO49)*AP49","v":{"$error":"#VALUE!"}},{"$f":"MIN((AE87+AQ35*D19)/AK49,(AE88+AQ35*D19)/AL49,(AE89+AQ35*D19)/AM49,(AE90+AQ35*D19)/AN49,(AE91+AQ35*D19)/AO49)*AP49","v":{"$error":"#VALUE!"}},{"$f":"MIN((AF87+AQ35*D19)/AK49,(AF88+AQ35*D19)/AL49,(AF89+AQ35*D19)/AM49,(AF90+AQ35*D19)/AN49,(AF91+AQ35*D19)/AO49)*AP49","v":{"$error":"#VALUE!"}},{"$error":"#VALUE!"},null,null,{"$f":"IF(AV24=2,BU129,IF(AV25=2,BU130,IF(AV26=2,BU131,IF(AV27=2,BU132,IF(AV28=2,BU133,IF(AV29=2,BU134,IF(AV31=2,BU135,BS83)))))))","v":"attente"},{"$f":"IF(AV16=2,BU121,IF(AV17=2,BU122,IF(AV18=2,BU123,IF(AV19=2,BU124,IF(AV20=2,BU125,IF(AV21=2,BU126,IF(AV22=2,BU127,IF(AV23=2,BU128,BS141))))))))","v":"attente"},null,null,null,null,null,null,null,null,null,null,null,null,null,null,null,null,"victoire de mon équipe"]
[null,null,null,null,null,null,null,null,null,null,null,null,null,null,null,null,null,{"$f":"G23","v":""},{"$f":"S135","v":"kit 1"},{"$f":"T135","v":"kit 2/3"},0,"kit 4",0,"kit 5","kit 6/7",0,0,"kit 8","kit 9",0,{"$f":"AE135","v":"kit 10"},{"$f":"AF135","v":"kit 11"},null,null,null,"",{"$f":"MIN((S94+AP35*D19)/AK48,(S95+AP35*D19)/AL48,(S96+AP35*D19)/AM48,(S97+AP35*D19)/AN48,(S98+AP35*D19)/AO48)*AP48","v":{"$error":"#VALUE!"}},{"$f":"MIN((T94+AP35*D19)/AK48,(T95+AP35*D19)/AL48,(T96+AP35*D19)/AM48,(T97+AP35*D19)/AN48,(T98+AP35*D19)/AO48)*AP48","v":{"$error":"#VALUE!"}},{"$f":"MIN((U94+AP35*D19)/AK48,(U95+AP35*D19)/AL48,(U96+AP35*D19)/AM48,(U97+AP35*D19)/AN48,(U98+AP35*D19)/AO48)*AP48","v":{"$error":"#VALUE!"}},{"$f":"MIN((V94+AP35*D19)/AK48,(V95+AP35*D19)/AL48,(V96+AP35*D19)/AM48,(V97+AP35*D19)/AN48,(V98+AP35*D19)/AO48)*AP48","v":{"$error":"#VALUE!"}},{"$f":"MIN((W94+AP35*D19)/AK48,(W95+AP35*D19)/AL48,(W96+AP35*D19)/AM48,(W97+AP35*D19)/AN48,(W98+AP35*D19)/AO48)*AP48","v":{"$error":"#VALUE!"}},{"$f":"MIN((X94+AP35*D19)/AK48,(X95+AP35*D19)/AL48,(X96+AP35*D19)/AM48,(X97+AP35*D19)/AN48,(X98+AP35*D19)/AO48)*AP48","v":{"$error":"#VALUE!"}},{"$f":"MIN((Y94+AP35*D19)/AK48,(Y95+AP35*D19)/AL48,(Y96+AP35*D19)/AM48,(Y97+AP35*D19)/AN48,(Y98+AP35*D19)/AO48)*AP48","v":{"$error":"#VALUE!"}},{"$f":"MIN((Z94+AP35*D19)/AK48,(Z95+AP35*D19)/AL48,(Z96+AP35*D19)/AM48,(Z97+AP35*D19)/AN48,(Z98+AP35*D19)/AO48)*AP48","v":{"$error":"#VALUE!"}},{"$f":"MIN((AA94+AP35*D19)/AK48,(AA95+AP35*D19)/AL48,(AA96+AP35*D19)/AM48,(AA97+AP35*D19)/AN48,(AA98+AP35*D19)/AO48)*AP48","v":{"$error":"#VALUE!"}},{"$f":"MIN((AB94+AP35*D19)/AK48,(AB95+AP35*D19)/AL48,(AB96+AP35*D19)/AM48,(AB97+AP35*D19)/AN48,(AB98+AP35*D19)/AO48)*AP48","v":{"$error":"#VALUE!"}},{"$f":"MIN((AC94+AP35*D19)/AK48,(AC95+AP35*D19)/AL48,(AC96+AP35*D19)/AM48,(AC97+AP35*D19)/AN48,(AC98+AP35*D19)/AO48)*AP48","v":{"$error":"#VALUE!"}},{"$f":"MIN((AD94+AP35*D19)/AK48,(AD95+AP35*D19)/AL48,(AD96+AP35*D19)/AM48,(AD97+AP35*D19)/AN48,(AD98+AP35*D19)/AO48)*AP48","v":{"$error":"#VALUE!"}},{"$f":"MIN((AE94+AP35*D19)/AK48,(AE95+AP35*D19)/AL48,(AE96+AP35*D19)/AM48,(AE97+AP35*D19)/AN48,(AE98+AP35*D19)/AO48)*AP48","v":{"$error":"#VALUE!"}},{"$f":"MIN((AF94+AP35*D19)/AK48,(AF95+AP35*D19)/AL48,(AF96+AP35*D19)/AM48,(AF97+AP35*D19)/AN48,(AF98+AP35*D19)/AO48)*AP48","v":{"$error":"#VALUE!"}},{"$error":"#VALUE!"},null,"",{"$f":"MIN((S94+AQ35*D19)/AK49,(S95+AQ35*D19)/AL49,(S96+AQ35*D19)/AM49,(S97+AQ35*D19)/AN49,(S98+AQ35*D19)/AO49)*AP49","v":{"$error":"#VALUE!"}},{"$f":"MIN((T94+AQ35*D19)/AK49,(T95+AQ35*D19)/AL49,(T96+AQ35*D19)/AM49,(T97+AQ35*D19)/AN49,(T98+AQ35*D19)/AO49)*AP49","v":{"$error":"#VALUE!"}},{"$f":"MIN((U94+AQ35*D19)/AK49,(U95+AQ35*D19)/AL49,(U96+AQ35*D19)/AM49,(U97+AQ35*D19)/AN49,(U98+AQ35*D19)/AO49)*AP49","v":{"$error":"#VALUE!"}},{"$f":"MIN((V94+AQ35*D19)/AK49,(V95+AQ35*D19)/AL49,(V96+AQ35*D19)/AM49,(V97+AQ35*D19)/AN49,(V98+AQ35*D19)/AO49)*AP49","v":{"$error":"#VALUE!"}},{"$f":"MIN((W94+AQ35*D19)/AK49,(W95+AQ35*D19)/AL49,(W96+AQ35*D19)/AM49,(W97+AQ35*D19)/AN49,(W98+AQ35*D19)/AO49)*AP49","v":{"$error":"#VALUE!"}},{"$f":"MIN((X94+AQ35*D19)/AK49,(X95+AQ35*D19)/AL49,(X96+AQ35*D19)/AM49,(X97+AQ35*D19)/AN49,(X98+AQ35*D19)/AO49)*AP49","v":{"$error":"#VALUE!"}},{"$f":"MIN((Y94+AQ35*D19)/AK49,(Y95+AQ35*D19)/AL49,(Y96+AQ35*D19)/AM49,(Y97+AQ35*D19)/AN49,(Y98+AQ35*D19)/AO49)*AP49","v":{"$error":"#VALUE!"}},{"$f":"MIN((Z94+AQ35*D19)/AK49,(Z95+AQ35*D19)/AL49,(Z96+AQ35*D19)/AM49,(Z97+AQ35*D19)/AN49,(Z98+AQ35*D19)/AO49)*AP49","v":{"$error":"#VALUE!"}},{"$f":"MIN((AA94+AQ35*D19)/AK49,(AA95+AQ35*D19)/AL49,(AA96+AQ35*D19)/AM49,(AA97+AQ35*D19)/AN49,(AA98+AQ35*D19)/AO49)*AP49","v":{"$error":"#VALUE!"}},{"$f":"MIN((AB94+AQ35*D19)/AK49,(AB95+AQ35*D19)/AL49,(AB96+AQ35*D19)/AM49,(AB97+AQ35*D19)/AN49,(AB98+AQ35*D19)/AO49)*AP49","v":{"$error":"#VALUE!"}},{"$f":"MIN((AC94+AQ35*D19)/AK49,(AC95+AQ35*D19)/AL49,(AC96+AQ35*D19)/AM49,(AC97+AQ35*D19)/AN49,(AC98+AQ35*D19)/AO49)*AP49","v":{"$error":"#VALUE!"}},{"$f":"MIN((AD94+AQ35*D19)/AK49,(AD95+AQ35*D19)/AL49,(AD96+AQ35*D19)/AM49,(AD97+AQ35*D19)/AN49,(AD98+AQ35*D19)/AO49)*AP49","v":{"$error":"#VALUE!"}},{"$f":"MIN((AE94+AQ35*D19)/AK49,(AE95+AQ35*D19)/AL49,(AE96+AQ35*D19)/AM49,(AE97+AQ35*D19)/AN49,(AE98+AQ35*D19)/AO49)*AP49","v":{"$error":"#VALUE!"}},{"$f":"MIN((AF94+AQ35*D19)/AK49,(AF95+AQ35*D19)/AL49,(AF96+AQ35*D19)/AM49,(AF97+AQ35*D19)/AN49,(AF98+AQ35*D19)/AO49)*AP49","v":{"$error":"#VALUE!"}},{"$error":"#VALUE!"},null,null,{"$f":"IF(AV24=3,BW129,IF(AV25=3,BW130,IF(AV26=3,BW131,IF(AV27=3,BW132,IF(AV28=3,BW133,IF(AV29=3,BW134,IF(AV31=3,BW135,BS83)))))))","v":"attente"},{"$f":"IF(AV16=3,BW121,IF(AV17=3,BW122,IF(AV18=3,BW123,IF(AV19=3,BW124,IF(AV20=3,BW125,IF(AV21=3,BW126,IF(AV22=3,BW127,IF(AV23=3,BW128,BS142))))))))","v":"attente"}]
[null,null,null,null,null,null,null,null,null,null,null,null,null,null,null,null,null,{"$f":"IF($AX$306,H23+VLOOKUP(Team!$X29,Team!$E$30:$J$300,6,FALSE),H23+AH39+$D$21)+$D$19*$AG$20","v":{"$error":"#VALUE!"}},{"$f":"IF($AX$306,$R143,$R143+Q10)","v":{"$error":"#VALUE!"}},{"$f":"IF($AX$306,$R143,$R143+R10)","v":{"$error":"#VALUE!"}},{"$error":"#VALUE!"},{"$error":"#VALUE!"},{"$error":"#VALUE!"},{"$error":"#VALUE!"},{"$error":"#VALUE!"},{"$error":"#VALUE!"},{"$error":"#VALUE!"},{"$error":"#VALUE!"},{"$error":"#VALUE!"},{"$error":"#VALUE!"},{"$error":"#VALUE!"},{"$error":"#VALUE!"},null,null,null,"",{"$f":"MIN((S101+AP35*D19)/AK48,(S102+AP35*D19)/AL48,(S103+AP35*D19)/AM48,(S104+AP35*D19)/AN48,(S105+AP35*D19)/AO48)*AP48","v":{"$error":"#VALUE!"}},{"$f":"MIN((T101+AP35*D19)/AK48,(T102+AP35*D19)/AL48,(T103+AP35*D19)/AM48,(T104+AP35*D19)/AN48,(T105+AP35*D19)/AO48)*AP48","v":{"$error":"#VALUE!"}},{"$f":"MIN((U101+AP35*D19)/AK48,(U102+AP35*D19)/AL48,(U103+AP35*D19)/AM48,(U104+AP35*D19)/AN48,(U105+AP35*D19)/AO48)*AP48","v":{"$error":"#VALUE!"}},{"$f":"MIN((V101+AP35*D19)/AK48,(V102+AP35*D19)/AL48,(V103+AP35*D19)/AM48,(V104+AP35*D19)/AN48,(V105+AP35*D19)/AO48)*AP48","v":{"$error":"#VALUE!"}},{"$f":"MIN((W101+AP35*D19)/AK48,(W102+AP35*D19)/AL48,(W103+AP35*D19)/AM48,(W104+AP35*D19)/AN48,(W105+AP35*D19)/AO48)*AP48","v":{"$error":"#VALUE!"}},{"$f":"MIN((X101+AP35*D19)/AK48,(X102+AP35*D19)/AL48,(X103+AP35*D19)/AM48,(X104+AP35*D19)/AN48,(X105+AP35*D19)/AO48)*AP48","v":{"$error":"#VALUE!"}},{"$f":"MIN((Y101+AP35*D19)/AK48,(Y102+AP35*D19)/AL48,(Y103+AP35*D19)/AM48,(Y104+AP35*D19)/AN48,(Y105+AP35*D19)/AO48)*AP48","v":{"$error":"#VALUE!"}},{"$f":"MIN((Z101+AP35*D19)/AK48,(Z102+AP35*D19)/AL48,(Z103+AP35*D19)/AM48,(Z104+AP35*D19)/AN48,(Z105+AP35*D19)/AO48)*AP48","v":{"$error":"#VALUE!"}},{"$f":"MIN((AA101+AP35*D19)/AK48,(AA102+AP35*D19)/AL48,(AA103+AP35*D19)/AM48,(AA104+AP35*D19)/AN48,(AA105+AP35*D19)/AO48)*AP48","v":{"$error":"#VALUE!"}},{"$f":"MIN((AB101+AP35*D19)/AK48,(AB102+AP35*D19)/AL48,(AB103+AP35*D19)/AM48,(AB104+AP35*D19)/AN48,(AB105+AP35*D19)/AO48)*AP48","v":{"$error":"#VALUE!"}},{"$f":"MIN((AC101+AP35*D19)/AK48,(AC102+AP35*D19)/AL48,(AC103+AP35*D19)/AM48,(AC104+AP35*D19)/AN48,(AC105+AP35*D19)/AO48)*AP48","v":{"$error":"#VALUE!"}},{"$f":"MIN((AD101+AP35*D19)/AK48,(AD102+AP35*D19)/AL48,(AD103+AP35*D19)/AM48,(AD104+AP35*D19)/AN48,(AD105+AP35*D19)/AO48)*AP48","v":{"$error":"#VALUE!"}},{"$f":"MIN((AE101+AP35*D19)/AK48,(AE102+AP35*D19)/AL48,(AE103+AP35*D19)/AM48,(AE104+AP35*D19)/AN48,(AE105+AP35*D19)/AO48)*AP48","v":{"$error":"#VALUE!"}},{"$f":"MIN((AF101+AP35*D19)/AK48,(AF102+AP35*D19)/AL48,(AF103+AP35*D19)/AM48,(AF104+AP35*D19)/AN48,(AF105+AP35*D19)/AO48)*AP48","v":{"$error":"#VALUE!"}},{"$error":"#VALUE!"},null,"",{"$f":"MIN((S101+AQ35*D19)/AK49,(S102+AQ35*D19)/AL49,(S103+AQ35*D19)/AM49,(S104+AQ35*D19)/AN49,(S105+AQ35*D19)/AO49)*AP49","v":{"$error":"#VALUE!"}},{"$f":"MIN((T101+AQ35*D19)/AK49,(T102+AQ35*D19)/AL49,(T103+AQ35*D19)/AM49,(T104+AQ35*D19)/AN49,(T105+AQ35*D19)/AO49)*AP49","v":{"$error":"#VALUE!"}},{"$f":"MIN((U101+AQ35*D19)/AK49,(U102+AQ35*D19)/AL49,(U103+AQ35*D19)/AM49,(U104+AQ35*D19)/AN49,(U105+AQ35*D19)/AO49)*AP49","v":{"$error":"#VALUE!"}},{"$f":"MIN((V101+AQ35*D19)/AK49,(V102+AQ35*D19)/AL49,(V103+AQ35*D19)/AM49,(V104+AQ35*D19)/AN49,(V105+AQ35*D19)/AO49)*AP49","v":{"$error":"#VALUE!"}},{"$f":"MIN((W101+AQ35*D19)/AK49,(W102+AQ35*D19)/AL49,(W103+AQ35*D19)/AM49,(W104+AQ35*D19)/AN49,(W105+AQ35*D19)/AO49)*AP49","v":{"$error":"#VALUE!"}},{"$f":"MIN((X101+AQ35*D19)/AK49,(X102+AQ35*D19)/AL49,(X103+AQ35*D19)/AM49,(X104+AQ35*D19)/AN49,(X105+AQ35*D19)/AO49)*AP49","v":{"$error":"#VALUE!"}},{"$f":"MIN((Y101+AQ35*D19)/AK49,(Y102+AQ35*D19)/AL49,(Y103+AQ35*D19)/AM49,(Y104+AQ35*D19)/AN49,(Y105+AQ35*D19)/AO49)*AP49","v":{"$error":"#VALUE!"}},{"$f":"MIN((Z101+AQ35*D19)/AK49,(Z102+AQ35*D19)/AL49,(Z103+AQ35*D19)/AM49,(Z104+AQ35*D19)/AN49,(Z105+AQ35*D19)/AO49)*AP49","v":{"$error":"#VALUE!"}},{"$f":"MIN((AA101+AQ35*D19)/AK49,(AA102+AQ35*D19)/AL49,(AA103+AQ35*D19)/AM49,(AA104+AQ35*D19)/AN49,(AA105+AQ35*D19)/AO49)*AP49","v":{"$error":"#VALUE!"}},{"$f":"MIN((AB101+AQ35*D19)/AK49,(AB102+AQ35*D19)/AL49,(AB103+AQ35*D19)/AM49,(AB104+AQ35*D19)/AN49,(AB105+AQ35*D19)/AO49)*AP49","v":{"$error":"#VALUE!"}},{"$f":"MIN((AC101+AQ35*D19)/AK49,(AC102+AQ35*D19)/AL49,(AC103+AQ35*D19)/AM49,(AC104+AQ35*D19)/AN49,(AC105+AQ35*D19)/AO49)*AP49","v":{"$error":"#VALUE!"}},{"$f":"MIN((AD101+AQ35*D19)/AK49,(AD102+AQ35*D19)/AL49,(AD103+AQ35*D19)/AM49,(AD104+AQ35*D19)/AN49,(AD105+AQ35*D19)/AO49)*AP49","v":{"$error":"#VALUE!"}},{"$f":"MIN((AE101+AQ35*D19)/AK49,(AE102+AQ35*D19)/AL49,(AE103+AQ35*D19)/AM49,(AE104+AQ35*D19)/AN49,(AE105+AQ35*D19)/AO49)*AP49","v":{"$error":"#VALUE!"}},{"$f":"MIN((AF101+AQ35*D19)/AK49,(AF102+AQ35*D19)/AL49,(AF103+AQ35*D19)/AM49,(AF104+AQ35*D19)/AN49,(AF105+AQ35*D19)/AO49)*AP49","v":{"$error":"#VALUE!"}},{"$error":"#VALUE!"},null,null,{"$f":"IF(AV24=4,BY129,IF(AV25=4,BY130,IF(AV26=4,BY131,IF(AV27=4,BY132,IF(AV28=4,BY133,IF(AV29=4,BY134,IF(AV31=4,BY135,BS83)))))))","v":"attente"},{"$f":"IF(AV16=4,BY121,IF(AV17=4,BY122,IF(AV18=4,BY123,IF(AV19=4,BY124,IF(AV20=4,BY125,IF(AV21=4,BY126,IF(AV22=4,BY127,IF(AV23=4,BY128,BS143))))))))","v":"attente"}]
[null,null,null,null,null,null,null,null,null,null,null,null,null,null,null,null,null,{"$f":"IF($AX$306,I23+VLOOKUP(Team!$Y29,Team!$E$30:$J$300,6,FALSE),I23+AH40+$D$21)+$D$19*$AG$20","v":{"$error":"#VALUE!"}},{"$f":"IF($AX$306,$R144,$R144+Q11)","v":{"$error":"#VALUE!"}},{"$error":"#VALUE!"},{"$error":"#VALUE!"},{"$error":"#VALUE!"},{"$error":"#VALUE!"},{"$error":"#VALUE!"},{"$error":"#VALUE!"},{"$error":"#VALUE!"},{"$error":"#VALUE!"},{"$error":"#VALUE!"},{"$error":"#VALUE!"},{"$error":"#VALUE!"},{"$error":"#VALUE!"},{"$error":"#VALUE!"},null,null,null,"",{"$f":"MIN((S108+AP35*D19)/AK48,(S109+AP35*D19)/AL48,(S110+AP35*D19)/AM48,(S111+AP35*D19)/AN48,(S112+AP35*D19)/AO48)*AP48","v":{"$error":"#VALUE!"}},{"$f":"MIN((T108+AP35*D19)/AK48,(T109+AP35*D19)/AL48,(T110+AP35*D19)/AM48,(T111+AP35*D19)/AN48,(T112+AP35*D19)/AO48)*AP48","v":{"$error":"#VALUE!"}},{"$f":"MIN((U108+AP35*D19)/AK48,(U109+AP35*D19)/AL48,(U110+AP35*D19)/AM48,(U111+AP35*D19)/AN48,(U112+AP35*D19)/AO48)*AP48","v":{"$error":"#VALUE!"}},{"$f":"MIN((V108+AP35*D19)/AK48,(V109+AP35*D19)/AL48,(V110+AP35*D19)/AM48,(V111+AP35*D19)/AN48,(V112+AP35*D19)/AO48)*AP48","v":{"$error":"#VALUE!"}},{"$f":"MIN((W108+AP35*D19)/AK48,(W109+AP35*D19)/AL48,(W110+AP35*D19)/AM48,(W111+AP35*D19)/AN48,(W112+AP35*D19)/AO48)*AP48","v":{"$error":"#VALUE!"}},{"$f":"MIN((X108+AP35*D19)/AK48,(X109+AP35*D19)/AL48,(X110+AP35*D19)/AM48,(X111+AP35*D19)/AN48,(X112+AP35*D19)/AO48)*AP48","v":{"$error":"#VALUE!"}},{"$f":"MIN((Y108+AP35*D19)/AK48,(Y109+AP35*D19)/AL48,(Y110+AP35*D19)/AM48,(Y111+AP35*D19)/AN48,(Y112+AP35*D19)/AO48)*AP48","v":{"$error":"#VALUE!"}},{"$f":"MIN((Z108+AP35*D19)/AK48,(Z109+AP35*D19)/AL48,(Z110+AP35*D19)/AM48,(Z111+AP35*D19)/AN48,(Z112+AP35*D19)/AO48)*AP48","v":{"$error":"#VALUE!"}},{"$f":"MIN((AA108+AP35*D19)/AK48,(AA109+AP35*D19)/AL48,(AA110+AP35*D19)/AM48,(AA111+AP35*D19)/AN48,(AA112+AP35*D19)/AO48)*AP48","v":{"$error":"#VALUE!"}},{"$f":"MIN((AB108+AP35*D19)/AK48,(AB109+AP35*D19)/AL48,(AB110+AP35*D19)/AM48,(AB111+AP35*D19)/AN48,(AB112+AP35*D19)/AO48)*AP48","v":{"$error":"#VALUE!"}},{"$f":"MIN((AC108+AP35*D19)/AK48,(AC109+AP35*D19)/AL48,(AC110+AP35*D19)/AM48,(AC111+AP35*D19)/AN48,(AC112+AP35*D19)/AO48)*AP48","v":{"$error":"#VALUE!"}},{"$f":"MIN((AD108+AP35*D19)/AK48,(AD109+AP35*D19)/AL48,(AD110+AP35*D19)/AM48,(AD111+AP35*D19)/AN48,(AD112+AP35*D19)/AO48)*AP48","v":{"$error":"#VALUE!"}},{"$f":"MIN((AE108+AP35*D19)/AK48,(AE109+AP35*D19)/AL48,(AE110+AP35*D19)/AM48,(AE111+AP35*D19)/AN48,(AE112+AP35*D19)/AO48)*AP48","v":{"$error":"#VALUE!"}},{"$f":"MIN((AF108+AP35*D19)/AK48,(AF109+AP35*D19)/AL48,(AF110+AP35*D19)/AM48,(AF111+AP35*D19)/AN48,(AF112+AP35*D19)/AO48)*AP48","v":{"$error":"#VALUE!"}},{"$error":"#VALUE!"},null,"",{"$f":"MIN((S108+AQ35*D19)/AK49,(S109+AQ35*D19)/AL49,(S110+AQ35*D19)/AM49,(S111+AQ35*D19)/AN49,(S112+AQ35*D19)/AO49)*AP49","v":{"$error":"#VALUE!"}},{"$f":"MIN((T108+AQ35*D19)/AK49,(T109+AQ35*D19)/AL49,(T110+AQ35*D19)/AM49,(T111+AQ35*D19)/AN49,(T112+AQ35*D19)/AO49)*AP49","v":{"$error":"#VALUE!"}},{"$f":"MIN((U108+AQ35*D19)/AK49,(U109+AQ35*D19)/AL49,(U110+AQ35*D19)/AM49,(U111+AQ35*D19)/AN49,(U112+AQ35*D19)/AO49)*AP49","v":{"$error":"#VALUE!"}},{"$f":"MIN((V108+AQ35*D19)/AK49,(V109+AQ35*D19)/AL49,(V110+AQ35*D19)/AM49,(V111+AQ35*D19)/AN49,(V112+AQ35*D19)/AO49)*AP49","v":{"$error":"#VALUE!"}},{"$f":"MIN((W108+AQ35*D19)/AK49,(W109+AQ35*D19)/AL49,(W110+AQ35*D19)/AM49,(W111+AQ35*D19)/AN49,(W112+AQ35*D19)/AO49)*AP49","v":{"$error":"#VALUE!"}},{"$f":"MIN((X108+AQ35*D19)/AK49,(X109+AQ35*D19)/AL49,(X110+AQ35*D19)/AM49,(X111+AQ35*D19)/AN49,(X112+AQ35*D19)/AO49)*AP49","v":{"$error":"#VALUE!"}},{"$f":"MIN((Y108+AQ35*D19)/AK49,(Y109+AQ35*D19)/AL49,(Y110+AQ35*D19)/AM49,(Y111+AQ35*D19)/AN49,(Y112+AQ35*D19)/AO49)*AP49","v":{"$error":"#VALUE!"}},{"$f":"MIN((Z108+AQ35*D19)/AK49,(Z109+AQ35*D19)/AL49,(Z110+AQ35*D19)/AM49,(Z111+AQ35*D19)/AN49,(Z112+AQ35*D19)/AO49)*AP49","v":{"$error":"#VALUE!"}},{"$f":"MIN((AA108+AQ35*D19)/AK49,(AA109+AQ35*D19)/AL49,(AA110+AQ35*D19)/AM49,(AA111+AQ35*D19)/AN49,(AA112+AQ35*D19)/AO49)*AP49","v":{"$error":"#VALUE!"}},{"$f":"MIN((AB108+AQ35*D19)/AK49,(AB109+AQ35*D19)/AL49,(AB110+AQ35*D19)/AM49,(AB111+AQ35*D19)/AN49,(AB112+AQ35*D19)/AO49)*AP49","v":{"$error":"#VALUE!"}},{"$f":"MIN((AC108+AQ35*D19)/AK49,(AC109+AQ35*D19)/AL49,(AC110+AQ35*D19)/AM49,(AC111+AQ35*D19)/AN49,(AC112+AQ35*D19)/AO49)*AP49","v":{"$error":"#VALUE!"}},{"$f":"MIN((AD108+AQ35*D19)/AK49,(AD109+AQ35*D19)/AL49,(AD110+AQ35*D19)/AM49,(AD111+AQ35*D19)/AN49,(AD112+AQ35*D19)/AO49)*AP49","v":{"$error":"#VALUE!"}},{"$f":"MIN((AE108+AQ35*D19)/AK49,(AE109+AQ35*D19)/AL49,(AE110+AQ35*D19)/AM49,(AE111+AQ35*D19)/AN49,(AE112+AQ35*D19)/AO49)*AP49","v":{"$error":"#VALUE!"}},{"$f":"MIN((AF108+AQ35*D19)/AK49,(AF109+AQ35*D19)/AL49,(AF110+AQ35*D19)/AM49,(AF111+AQ35*D19)/AN49,(AF112+AQ35*D19)/AO49)*AP49","v":{"$error":"#VALUE!"}},{"$error":"#VALUE!"},null,null,{"$f":"IF(AV24=5,CA129,IF(AV25=5,CA130,IF(AV26=5,CA131,IF(AV27=5,CA132,IF(AV28=5,CA133,IF(AV29=5,CA134,IF(AV31=5,CA135,BS83)))))))","v":"attente"},{"$f":"IF(AV16=5,CA121,IF(AV17=5,CA122,IF(AV18=5,CA123,IF(AV19=5,CA124,IF(AV20=5,CA125,IF(AV21=5,CA126,IF(AV22=5,CA127,IF(AV23=5,CA128,BS144))))))))","v":"attente"}]
[null,null,null,null,null,null,null,null,null,null,null,null,null,null,null,null,null,{"$f":"IF($AX$306,J23+VLOOKUP(Team!$Z29,Team!$E$30:$J$300,6,FALSE),J23+AH41+$D$21)+$D$19*$AG$20","v":{"$error":"#VALUE!"}},{"$f":"IF($AX$306,$R145,$R145+Q12)","v":{"$error":"#VALUE!"}},{"$error":"#VALUE!"},{"$error":"#VALUE!"},{"$error":"#VALUE!"},{"$error":"#VALUE!"},{"$error":"#VALUE!"},{"$error":"#VALUE!"},{"$error":"#VALUE!"},{"$error":"#VALUE!"},{"$error":"#VALUE!"},{"$error":"#VALUE!"},{"$error":"#VALUE!"},{"$error":"#VALUE!"},{"$error":"#VALUE!"},null,null,null,"",{"$f":"MIN((S115+AP35*D19)/AK48,(S116+AP35*D19)/AL48,(S117+AP35*D19)/AM48,(S118+AP35*D19)/AN48,(S119+AP35*D19)/AO48)*AP48","v":{"$error":"#VALUE!"}},{"$f":"MIN((T115+AP35*D19)/AK48,(T116+AP35*D19)/AL48,(T117+AP35*D19)/AM48,(T118+AP35*D19)/AN48,(T119+AP35*D19)/AO48)*AP48","v":{"$error":"#VALUE!"}},{"$f":"MIN((U115+AP35*D19)/AK48,(U116+AP35*D19)/AL48,(U117+AP35*D19)/AM48,(U118+AP35*D19)/AN48,(U119+AP35*D19)/AO48)*AP48","v":{"$error":"#VALUE!"}},{"$f":"MIN((V115+AP35*D19)/AK48,(V116+AP35*D19)/AL48,(V117+AP35*D19)/AM48,(V118+AP35*D19)/AN48,(V119+AP35*D19)/AO48)*AP48","v":{"$error":"#VALUE!"}},{"$f":"MIN((W115+AP35*D19)/AK48,(W116+AP35*D19)/AL48,(W117+AP35*D19)/AM48,(W118+AP35*D19)/AN48,(W119+AP35*D19)/AO48)*AP48","v":{"$error":"#VALUE!"}},{"$f":"MIN((X115+AP35*D19)/AK48,(X116+AP35*D19)/AL48,(X117+AP35*D19)/AM48,(X118+AP35*D19)/AN48,(X119+AP35*D19)/AO48)*AP48","v":{"$error":"#VALUE!"}},{"$f":"MIN((Y115+AP35*D19)/AK48,(Y116+AP35*D19)/AL48,(Y117+AP35*D19)/AM48,(Y118+AP35*D19)/AN48,(Y119+AP35*D19)/AO48)*AP48","v":{"$error":"#VALUE!"}},{"$f":"MIN((Z115+AP35*D19)/AK48,(Z116+AP35*D19)/AL48,(Z117+AP35*D19)/AM48,(Z118+AP35*D19)/AN48,(Z119+AP35*D19)/AO48)*AP48","v":{"$error":"#VALUE!"}},{"$f":"MIN((AA115+AP35*D19)/AK48,(AA116+AP35*D19)/AL48,(AA117+AP35*D19)/AM48,(AA118+AP35*D19)/AN48,(AA119+AP35*D19)/AO48)*AP48","v":{"$error":"#VALUE!"}},{"$f":"MIN((AB115+AP35*D19)/AK48,(AB116+AP35*D19)/AL48,(AB117+AP35*D19)/AM48,(AB118+AP35*D19)/AN48,(AB119+AP35*D19)/AO48)*AP48","v":{"$error":"#VALUE!"}},{"$f":"MIN((AC115+AP35*D19)/AK48,(AC116+AP35*D19)/AL48,(AC117+AP35*D19)/AM48,(AC118+AP35*D19)/AN48,(AC119+AP35*D19)/AO48)*AP48","v":{"$error":"#VALUE!"}},{"$f":"MIN((AD115+AP35*D19)/AK48,(AD116+AP35*D19)/AL48,(AD117+AP35*D19)/AM48,(AD118+AP35*D19)/AN48,(AD119+AP35*D19)/AO48)*AP48","v":{"$error":"#VALUE!"}},{"$f":"MIN((AE115+AP35*D19)/AK48,(AE116+AP35*D19)/AL48,(AE117+AP35*D19)/AM48,(AE118+AP35*D19)/AN48,(AE119+AP35*D19)/AO48)*AP48","v":{"$error":"#VALUE!"}},{"$f":"MIN((AF115+AP35*D19)/AK48,(AF116+AP35*D19)/AL48,(AF117+AP35*D19)/AM48,(AF118+AP35*D19)/AN48,(AF119+AP35*D19)/AO48)*AP48","v":{"$error":"#VALUE!"}},{"$error":"#VALUE!"},null,"",{"$f":"MIN((S115+AQ35*D19)/AK49,(S116+AQ35*D19)/AL49,(S117+AQ35*D19)/AM49,(S118+AQ35*D19)/AN49,(S119+AQ35*D19)/AO49)*AP49","v":{"$error":"#VALUE!"}},{"$f":"MIN((T115+AQ35*D19)/AK49,(T116+AQ35*D19)/AL49,(T117+AQ35*D19)/AM49,(T118+AQ35*D19)/AN49,(T119+AQ35*D19)/AO49)*AP49","v":{"$error":"#VALUE!"}},{"$f":"MIN((U115+AQ35*D19)/AK49,(U116+AQ35*D19)/AL49,(U117+AQ35*D19)/AM49,(U118+AQ35*D19)/AN49,(U119+AQ35*D19)/AO49)*AP49","v":{"$error":"#VALUE!"}},{"$f":"MIN((V115+AQ35*D19)/AK49,(V116+AQ35*D19)/AL49,(V117+AQ35*D19)/AM49,(V118+AQ35*D19)/AN49,(V119+AQ35*D19)/AO49)*AP49","v":{"$error":"#VALUE!"}},{"$f":"MIN((W115+AQ35*D19)/AK49,(W116+AQ35*D19)/AL49,(W117+AQ35*D19)/AM49,(W118+AQ35*D19)/AN49,(W119+AQ35*D19)/AO49)*AP49","v":{"$error":"#VALUE!"}},{"$f":"MIN((X115+AQ35*D19)/AK49,(X116+AQ35*D19)/AL49,(X117+AQ35*D19)/AM49,(X118+AQ35*D19)/AN49,(X119+AQ35*D19)/AO49)*AP49","v":{"$error":"#VALUE!"}},{"$f":"MIN((Y115+AQ35*D19)/AK49,(Y116+AQ35*D19)/AL49,(Y117+AQ35*D19)/AM49,(Y118+AQ35*D19)/AN49,(Y119+AQ35*D19)/AO49)*AP49","v":{"$error":"#VALUE!"}},{"$f":"MIN((Z115+AQ35*D19)/AK49,(Z116+AQ35*D19)/AL49,(Z117+AQ35*D19)/AM49,(Z118+AQ35*D19)/AN49,(Z119+AQ35*D19)/AO49)*AP49","v":{"$error":"#VALUE!"}},{"$f":"MIN((AA115+AQ35*D19)/AK49,(AA116+AQ35*D19)/AL49,(AA117+AQ35*D19)/AM49,(AA118+AQ35*D19)/AN49,(AA119+AQ35*D19)/AO49)*AP49","v":{"$error":"#VALUE!"}},{"$f":"MIN((AB115+AQ35*D19)/AK49,(AB116+AQ35*D19)/AL49,(AB117+AQ35*D19)/AM49,(AB118+AQ35*D19)/AN49,(AB119+AQ35*D19)/AO49)*AP49","v":{"$error":"#VALUE!"}},{"$f":"MIN((AC115+AQ35*D19)/AK49,(AC116+AQ35*D19)/AL49,(AC117+AQ35*D19)/AM49,(AC118+AQ35*D19)/AN49,(AC119+AQ35*D19)/AO49)*AP49","v":{"$error":"#VALUE!"}},{"$f":"MIN((AD115+AQ35*D19)/AK49,(AD116+AQ35*D19)/AL49,(AD117+AQ35*D19)/AM49,(AD118+AQ35*D19)/AN49,(AD119+AQ35*D19)/AO49)*AP49","v":{"$error":"#VALUE!"}},{"$f":"MIN((AE115+AQ35*D19)/AK49,(AE116+AQ35*D19)/AL49,(AE117+AQ35*D19)/AM49,(AE118+AQ35*D19)/AN49,(AE119+AQ35*D19)/AO49)*AP49","v":{"$error":"#VALUE!"}},{"$f":"MIN((AF115+AQ35*D19)/AK49,(AF116+AQ35*D19)/AL49,(AF117+AQ35*D19)/AM49,(AF118+AQ35*D19)/AN49,(AF119+AQ35*D19)/AO49)*AP49","v":{"$error":"#VALUE!"}},{"$error":"#VALUE!"},null,null,{"$f":"IF(AV24=6,CC129,IF(AV25=6,CC130,IF(AV26=6,CC131,IF(AV27=6,CC132,IF(AV28=6,CC133,IF(AV29=6,CC134,IF(AV31=6,CC135,BS83)))))))","v":"attente"},{"$f":"IF(AV16=6,CC121,IF(AV17=6,CC122,IF(AV18=6,CC123,IF(AV19=6,CC124,IF(AV20=6,CC125,IF(AV21=6,CC126,IF(AV22=6,CC127,IF(AV23=6,CC128,BS145))))))))","v":"attente"}]
[null,null,null,null,null,null,null,null,null,null,null,null,null,null,null,null,null,{"$f":"IF($AX$306,K23+VLOOKUP(Team!$AA29,Team!$E$30:$J$300,6,FALSE),K23+AH42+$D$21)+$D$19*$AG$20","v":{"$error":"#VALUE!"}},{"$f":"IF($AX$306,$R146,$R146+Q13)","v":{"$error":"#VALUE!"}},{"$error":"#VALUE!"},{"$error":"#VALUE!"},{"$error":"#VALUE!"},{"$error":"#VALUE!"},{"$error":"#VALUE!"},{"$error":"#VALUE!"},{"$error":"#VALUE!"},{"$error":"#VALUE!"},{"$error":"#VALUE!"},{"$error":"#VALUE!"},{"$error":"#VALUE!"},{"$error":"#VALUE!"},{"$error":"#VALUE!"},null,null,null,"",{"$f":"MIN((S122+AP35*D19)/AK48,(S123+AP35*D19)/AL48,(S124+AP35*D19)/AM48,(S125+AP35*D19)/AN48,(S126+AP35*D19)/AO48)*AP48","v":{"$error":"#VALUE!"}},{"$f":"MIN((T122+AP35*D19)/AK48,(T123+AP35*D19)/AL48,(T124+AP35*D19)/AM48,(T125+AP35*D19)/AN48,(T126+AP35*D19)/AO48)*AP48","v":{"$error":"#VALUE!"}},{"$f":"MIN((U122+AP35*D19)/AK48,(U123+AP35*D19)/AL48,(U124+AP35*D19)/AM48,(U125+AP35*D19)/AN48,(U126+AP35*D19)/AO48)*AP48","v":{"$error":"#VALUE!"}},{"$f":"MIN((V122+AP35*D19)/AK48,(V123+AP35*D19)/AL48,(V124+AP35*D19)/AM48,(V125+AP35*D19)/AN48,(V126+AP35*D19)/AO48)*AP48","v":{"$error":"#VALUE!"}},{"$f":"MIN((W122+AP35*D19)/AK48,(W123+AP35*D19)/AL48,(W124+AP35*D19)/AM48,(W125+AP35*D19)/AN48,(W126+AP35*D19)/AO48)*AP48","v":{"$error":"#VALUE!"}},{"$f":"MIN((X122+AP35*D19)/AK48,(X123+AP35*D19)/AL48,(X124+AP35*D19)/AM48,(X125+AP35*D19)/AN48,(X126+AP35*D19)/AO48)*AP48","v":{"$error":"#VALUE!"}},{"$f":"MIN((Y122+AP35*D19)/AK48,(Y123+AP35*D19)/AL48,(Y124+AP35*D19)/AM48,(Y125+AP35*D19)/AN48,(Y126+AP35*D19)/AO48)*AP48","v":{"$error":"#VALUE!"}},{"$f":"MIN((Z122+AP35*D19)/AK48,(Z123+AP35*D19)/AL48,(Z124+AP35*D19)/AM48,(Z125+AP35*D19)/AN48,(Z126+AP35*D19)/AO48)*AP48","v":{"$error":"#VALUE!"}},{"$f":"MIN((AA122+AP35*D19)/AK48,(AA123+AP35*D19)/AL48,(AA124+AP35*D19)/AM48,(AA125+AP35*D19)/AN48,(AA126+AP35*D19)/AO48)*AP48","v":{"$error":"#VALUE!"}},{"$f":"MIN((AB122+AP35*D19)/AK48,(AB123+AP35*D19)/AL48,(AB124+AP35*D19)/AM48,(AB125+AP35*D19)/AN48,(AB126+AP35*D19)/AO48)*AP48","v":{"$error":"#VALUE!"}},{"$f":"MIN((AC122+AP35*D19)/AK48,(AC123+AP35*D19)/AL48,(AC124+AP35*D19)/AM48,(AC125+AP35*D19)/AN48,(AC126+AP35*D19)/AO48)*AP48","v":{"$error":"#VALUE!"}},{"$f":"MIN((AD122+AP35*D19)/AK48,(AD123+AP35*D19)/AL48,(AD124+AP35*D19)/AM48,(AD125+AP35*D19)/AN48,(AD126+AP35*D19)/AO48)*AP48","v":{"$error":"#VALUE!"}},{"$f":"MIN((AE122+AP35*D19)/AK48,(AE123+AP35*D19)/AL48,(AE124+AP35*D19)/AM48,(AE125+AP35*D19)/AN48,(AE126+AP35*D19)/AO48)*AP48","v":{"$error":"#VALUE!"}},{"$f":"MIN((AF122+AP35*D19)/AK48,(AF123+AP35*D19)/AL48,(AF124+AP35*D19)/AM48,(AF125+AP35*D19)/AN48,(AF126+AP35*D19)/AO48)*AP48","v":{"$error":"#VALUE!"}},{"$error":"#VALUE!"},null,"",{"$f":"MIN((S122+AQ35*D19)/AK49,(S123+AQ35*D19)/AL49,(S124+AQ35*D19)/AM49,(S125+AQ35*D19)/AN49,(S126+AQ35*D19)/AO49)*AP49","v":{"$error":"#VALUE!"}},{"$f":"MIN((T122+AQ35*D19)/AK49,(T123+AQ35*D19)/AL49,(T124+AQ35*D19)/AM49,(T125+AQ35*D19)/AN49,(T126+AQ35*D19)/AO49)*AP49","v":{"$error":"#VALUE!"}},{"$f":"MIN((U122+AQ35*D19)/AK49,(U123+AQ35*D19)/AL49,(U124+AQ35*D19)/AM49,(U125+AQ35*D19)/AN49,(U126+AQ35*D19)/AO49)*AP49","v":{"$error":"#VALUE!"}},{"$f":"MIN((V122+AQ35*D19)/AK49,(V123+AQ35*D19)/AL49,(V124+AQ35*D19)/AM49,(V125+AQ35*D19)/AN49,(V126+AQ35*D19)/AO49)*AP49","v":{"$error":"#VALUE!"}},{"$f":"MIN((W122+AQ35*D19)/AK49,(W123+AQ35*D19)/AL49,(W124+AQ35*D19)/AM49,(W125+AQ35*D19)/AN49,(W126+AQ35*D19)/AO49)*AP49","v":{"$error":"#VALUE!"}},{"$f":"MIN((X122+AQ35*D19)/AK49,(X123+AQ35*D19)/AL49,(X124+AQ35*D19)/AM49,(X125+AQ35*D19)/AN49,(X126+AQ35*D19)/AO49)*AP49","v":{"$error":"#VALUE!"}},{"$f":"MIN((Y122+AQ35*D19)/AK49,(Y123+AQ35*D19)/AL49,(Y124+AQ35*D19)/AM49,(Y125+AQ35*D19)/AN49,(Y126+AQ35*D19)/AO49)*AP49","v":{"$error":"#VALUE!"}},{"$f":"MIN((Z122+AQ35*D19)/AK49,(Z123+AQ35*D19)/AL49,(Z124+AQ35*D19)/AM49,(Z125+AQ35*D19)/AN49,(Z126+AQ35*D19)/AO49)*AP49","v":{"$error":"#VALUE!"}},{"$f":"MIN((AA122+AQ35*D19)/AK49,(AA123+AQ35*D19)/AL49,(AA124+AQ35*D19)/AM49,(AA125+AQ35*D19)/AN49,(AA126+AQ35*D19)/AO49)*AP49","v":{"$error":"#VALUE!"}},{"$f":"MIN((AB122+AQ35*D19)/AK49,(AB123+AQ35*D19)/AL49,(AB124+AQ35*D19)/AM49,(AB125+AQ35*D19)/AN49,(AB126+AQ35*D19)/AO49)*AP49","v":{"$error":"#VALUE!"}},{"$f":"MIN((AC122+AQ35*D19)/AK49,(AC123+AQ35*D19)/AL49,(AC124+AQ35*D19)/AM49,(AC125+AQ35*D19)/AN49,(AC126+AQ35*D19)/AO49)*AP49","v":{"$error":"#VALUE!"}},{"$f":"MIN((AD122+AQ35*D19)/AK49,(AD123+AQ35*D19)/AL49,(AD124+AQ35*D19)/AM49,(AD125+AQ35*D19)/AN49,(AD126+AQ35*D19)/AO49)*AP49","v":{"$error":"#VALUE!"}},{"$f":"MIN((AE122+AQ35*D19)/AK49,(AE123+AQ35*D19)/AL49,(AE124+AQ35*D19)/AM49,(AE125+AQ35*D19)/AN49,(AE126+AQ35*D19)/AO49)*AP49","v":{"$error":"#VALUE!"}},{"$f":"MIN((AF122+AQ35*D19)/AK49,(AF123+AQ35*D19)/AL49,(AF124+AQ35*D19)/AM49,(AF125+AQ35*D19)/AN49,(AF126+AQ35*D19)/AO49)*AP49","v":{"$error":"#VALUE!"}},{"$error":"#VALUE!"},null,null,{"$f":"IF(AV24=7,CE129,IF(AV25=7,CE130,IF(AV26=7,CE131,IF(AV27=7,CE132,IF(AV28=7,CE133,IF(AV29=7,CE134,IF(AV31=7,CE135,BS83)))))))","v":"attente"},{"$f":"IF(AV16=7,CE121,IF(AV17=7,CE122,IF(AV18=7,CE123,IF(AV19=7,CE124,IF(AV20=7,CE125,IF(AV21=7,CE126,IF(AV22=7,CE127,IF(AV23=7,CE128,BS146))))))))","v":"attente"}]
[null,null,null,null,null,null,null,null,null,null,null,null,null,null,null,null,null,{"$f":"IF($AX$306,L23+VLOOKUP(Team!$AB29,Team!$E$30:$J$300,6,FALSE),L23+AH43+$D$21)+$D$19*$AG$20","v":{"$error":"#VALUE!"}},{"$f":"IF($AX$306,$R147,$R147+Q14)","v":{"$error":"#VALUE!"}},{"$error":"#VALUE!"},{"$error":"#VALUE!"},{"$error":"#VALUE!"},{"$error":"#VALUE!"},{"$error":"#VALUE!"},{"$error":"#VALUE!"},{"$error":"#VALUE!"},{"$error":"#VALUE!"},{"$error":"#VALUE!"},{"$error":"#VALUE!"},{"$error":"#VALUE!"},{"$error":"#VALUE!"},{"$error":"#VALUE!"},null,null,null,"",{"$f":"MIN((S129+AP35*D19)/AK48,(S130+AP35*D19)/AL48,(S131+AP35*D19)/AM48,(S132+AP35*D19)/AN48,(S133+AP35*D19)/AO48)*AP48","v":{"$error":"#VALUE!"}},{"$f":"MIN((T129+AP35*D19)/AK48,(T130+AP35*D19)/AL48,(T131+AP35*D19)/AM48,(T132+AP35*D19)/AN48,(T133+AP35*D19)/AO48)*AP48","v":{"$error":"#VALUE!"}},{"$f":"MIN((U129+AP35*D19)/AK48,(U130+AP35*D19)/AL48,(U131+AP35*D19)/AM48,(U132+AP35*D19)/AN48,(U133+AP35*D19)/AO48)*AP48","v":{"$error":"#VALUE!"}},{"$f":"MIN((V129+AP35*D19)/AK48,(V130+AP35*D19)/AL48,(V131+AP35*D19)/AM48,(V132+AP35*D19)/AN48,(V133+AP35*D19)/AO48)*AP48","v":{"$error":"#VALUE!"}},{"$f":"MIN((W129+AP35*D19)/AK48,(W130+AP35*D19)/AL48,(W131+AP35*D19)/AM48,(W132+AP35*D19)/AN48,(W133+AP35*D19)/AO48)*AP48","v":{"$error":"#VALUE!"}},{"$f":"MIN((X129+AP35*D19)/AK48,(X130+AP35*D19)/AL48,(X131+AP35*D19)/AM48,(X132+AP35*D19)/AN48,(X133+AP35*D19)/AO48)*AP48","v":{"$error":"#VALUE!"}},{"$f":"MIN((Y129+AP35*D19)/AK48,(Y130+AP35*D19)/AL48,(Y131+AP35*D19)/AM48,(Y132+AP35*D19)/AN48,(Y133+AP35*D19)/AO48)*AP48","v":{"$error":"#VALUE!"}},{"$f":"MIN((Z129+AP35*D19)/AK48,(Z130+AP35*D19)/AL48,(Z131+AP35*D19)/AM48,(Z132+AP35*D19)/AN48,(Z133+AP35*D19)/AO48)*AP48","v":{"$error":"#VALUE!"}},{"$f":"MIN((AA129+AP35*D19)/AK48,(AA130+AP35*D19)/AL48,(AA131+AP35*D19)/AM48,(AA132+AP35*D19)/AN48,(AA133+AP35*D19)/AO48)*AP48","v":{"$error":"#VALUE!"}},{"$f":"MIN((AB129+AP35*D19)/AK48,(AB130+AP35*D19)/AL48,(AB131+AP35*D19)/AM48,(AB132+AP35*D19)/AN48,(AB133+AP35*D19)/AO48)*AP48","v":{"$error":"#VALUE!"}},{"$f":"MIN((AC129+AP35*D19)/AK48,(AC130+AP35*D19)/AL48,(AC131+AP35*D19)/AM48,(AC132+AP35*D19)/AN48,(AC133+AP35*D19)/AO48)*AP48","v":{"$error":"#VALUE!"}},{"$f":"MIN((AD129+AP35*D19)/AK48,(AD130+AP35*D19)/AL48,(AD131+AP35*D19)/AM48,(AD132+AP35*D19)/AN48,(AD133+AP35*D19)/AO48)*AP48","v":{"$error":"#VALUE!"}},{"$f":"MIN((AE129+AP35*D19)/AK48,(AE130+AP35*D19)/AL48,(AE131+AP35*D19)/AM48,(AE132+AP35*D19)/AN48,(AE133+AP35*D19)/AO48)*AP48","v":{"$error":"#VALUE!"}},{"$f":"MIN((AF129+AP35*D19)/AK48,(AF130+AP35*D19)/AL48,(AF131+AP35*D19)/AM48,(AF132+AP35*D19)/AN48,(AF133+AP35*D19)/AO48)*AP48","v":{"$error":"#VALUE!"}},{"$error":"#VALUE!"},null,"",{"$f":"MIN((S129+AQ35*D19)/AK49,(S130+AQ35*D19)/AL49,(S131+AQ35*D19)/AM49,(S132+AQ35*D19)/AN49,(S133+AQ35*D19)/AO49)*AP49","v":{"$error":"#VALUE!"}},{"$f":"MIN((T129+AQ35*D19)/AK49,(T130+AQ35*D19)/AL49,(T131+AQ35*D19)/AM49,(T132+AQ35*D19)/AN49,(T133+AQ35*D19)/AO49)*AP49","v":{"$error":"#VALUE!"}},{"$f":"MIN((U129+AQ35*D19)/AK49,(U130+AQ35*D19)/AL49,(U131+AQ35*D19)/AM49,(U132+AQ35*D19)/AN49,(U133+AQ35*D19)/AO49)*AP49","v":{"$error":"#VALUE!"}},{"$f":"MIN((V129+AQ35*D19)/AK49,(V130+AQ35*D19)/AL49,(V131+AQ35*D19)/AM49,(V132+AQ35*D19)/AN49,(V133+AQ35*D19)/AO49)*AP49","v":{"$error":"#VALUE!"}},{"$f":"MIN((W129+AQ35*D19)/AK49,(W130+AQ35*D19)/AL49,(W131+AQ35*D19)/AM49,(W132+AQ35*D19)/AN49,(W133+AQ35*D19)/AO49)*AP49","v":{"$error":"#VALUE!"}},{"$f":"MIN((X129+AQ35*D19)/AK49,(X130+AQ35*D19)/AL49,(X131+AQ35*D19)/AM49,(X132+AQ35*D19)/AN49,(X133+AQ35*D19)/AO49)*AP49","v":{"$error":"#VALUE!"}},{"$f":"MIN((Y129+AQ35*D19)/AK49,(Y130+AQ35*D19)/AL49,(Y131+AQ35*D19)/AM49,(Y132+AQ35*D19)/AN49,(Y133+AQ35*D19)/AO49)*AP49","v":{"$error":"#VALUE!"}},{"$f":"MIN((Z129+AQ35*D19)/AK49,(Z130+AQ35*D19)/AL49,(Z131+AQ35*D19)/AM49,(Z132+AQ35*D19)/AN49,(Z133+AQ35*D19)/AO49)*AP49","v":{"$error":"#VALUE!"}},{"$f":"MIN((AA129+AQ35*D19)/AK49,(AA130+AQ35*D19)/AL49,(AA131+AQ35*D19)/AM49,(AA132+AQ35*D19)/AN49,(AA133+AQ35*D19)/AO49)*AP49","v":{"$error":"#VALUE!"}},{"$f":"MIN((AB129+AQ35*D19)/AK49,(AB130+AQ35*D19)/AL49,(AB131+AQ35*D19)/AM49,(AB132+AQ35*D19)/AN49,(AB133+AQ35*D19)/AO49)*AP49","v":{"$error":"#VALUE!"}},{"$f":"MIN((AC129+AQ35*D19)/AK49,(AC130+AQ35*D19)/AL49,(AC131+AQ35*D19)/AM49,(AC132+AQ35*D19)/AN49,(AC133+AQ35*D19)/AO49)*AP49","v":{"$error":"#VALUE!"}},{"$f":"MIN((AD129+AQ35*D19)/AK49,(AD130+AQ35*D19)/AL49,(AD131+AQ35*D19)/AM49,(AD132+AQ35*D19)/AN49,(AD133+AQ35*D19)/AO49)*AP49","v":{"$error":"#VALUE!"}},{"$f":"MIN((AE129+AQ35*D19)/AK49,(AE130+AQ35*D19)/AL49,(AE131+AQ35*D19)/AM49,(AE132+AQ35*D19)/AN49,(AE133+AQ35*D19)/AO49)*AP49","v":{"$error":"#VALUE!"}},{"$f":"MIN((AF129+AQ35*D19)/AK49,(AF130+AQ35*D19)/AL49,(AF131+AQ35*D19)/AM49,(AF132+AQ35*D19)/AN49,(AF133+AQ35*D19)/AO49)*AP49","v":{"$error":"#VALUE!"}},{"$error":"#VALUE!"},null,null,{"$f":"IF(AV24=8,CG129,IF(AV25=8,CG130,IF(AV26=8,CG131,IF(AV27=8,CG132,IF(AV28=8,CG133,IF(AV29=8,CG134,IF(AV31=8,CG135,BS83)))))))","v":"attente"},{"$f":"IF(AV16=8,CG121,IF(AV17=8,CG122,IF(AV18=8,CG123,IF(AV19=8,CG124,IF(AV20=8,CG125,IF(AV21=8,CG126,IF(AV22=8,CG127,IF(AV23=8,CG128,BS147))))))))","v":"attente"}]
[null,null,null,null,null,null,null,null,null,null,null,null,null,null,null,null,null,null,null,null,null,null,null,null,null,null,null,null,null,null,null,null,null,null,null,"",{"$f":"MIN((S136+AP35*D19)/AK48,(S137+AP35*D19)/AL48,(S138+AP35*D19)/AM48,(S139+AP35*D19)/AN48,(S140+AP35*D19)/AO48)*AP48","v":{"$error":"#VALUE!"}},{"$f":"MIN((T136+AP35*D19)/AK48,(T137+AP35*D19)/AL48,(T138+AP35*D19)/AM48,(T139+AP35*D19)/AN48,(T140+AP35*D19)/AO48)*AP48","v":{"$error":"#VALUE!"}},{"$f":"MIN((U136+AP35*D19)/AK48,(U137+AP35*D19)/AL48,(U138+AP35*D19)/AM48,(U139+AP35*D19)/AN48,(U140+AP35*D19)/AO48)*AP48","v":{"$error":"#VALUE!"}},{"$f":"MIN((V136+AP35*D19)/AK48,(V137+AP35*D19)/AL48,(V138+AP35*D19)/AM48,(V139+AP35*D19)/AN48,(V140+AP35*D19)/AO48)*AP48","v":{"$error":"#VALUE!"}},{"$f":"MIN((W136+AP35*D19)/AK48,(W137+AP35*D19)/AL48,(W138+AP35*D19)/AM48,(W139+AP35*D19)/AN48,(W140+AP35*D19)/AO48)*AP48","v":{"$error":"#VALUE!"}},{"$f":"MIN((X136+AP35*D19)/AK48,(X137+AP35*D19)/AL48,(X138+AP35*D19)/AM48,(X139+AP35*D19)/AN48,(X140+AP35*D19)/AO48)*AP48","v":{"$error":"#VALUE!"}},{"$f":"MIN((Y136+AP35*D19)/AK48,(Y137+AP35*D19)/AL48,(Y138+AP35*D19)/AM48,(Y139+AP35*D19)/AN48,(Y140+AP35*D19)/AO48)*AP48","v":{"$error":"#VALUE!"}},{"$f":"MIN((Z136+AP35*D19)/AK48,(Z137+AP35*D19)/AL48,(Z138+AP35*D19)/AM48,(Z139+AP35*D19)/AN48,(Z140+AP35*D19)/AO48)*AP48","v":{"$error":"#VALUE!"}},{"$f":"MIN((AA136+AP35*D19)/AK48,(AA137+AP35*D19)/AL48,(AA138+AP35*D19)/AM48,(AA139+AP35*D19)/AN48,(AA140+AP35*D19)/AO48)*AP48","v":{"$error":"#VALUE!"}},{"$f":"MIN((AB136+AP35*D19)/AK48,(AB137+AP35*D19)/AL48,(AB138+AP35*D19)/AM48,(AB139+AP35*D19)/AN48,(AB140+AP35*D19)/AO48)*AP48","v":{"$error":"#VALUE!"}},{"$f":"MIN((AC136+AP35*D19)/AK48,(AC137+AP35*D19)/AL48,(AC138+AP35*D19)/AM48,(AC139+AP35*D19)/AN48,(AC140+AP35*D19)/AO48)*AP48","v":{"$error":"#VALUE!"}},{"$f":"MIN((AD136+AP35*D19)/AK48,(AD137+AP35*D19)/AL48,(AD138+AP35*D19)/AM48,(AD139+AP35*D19)/AN48,(AD140+AP35*D19)/AO48)*AP48","v":{"$error":"#VALUE!"}},{"$f":"MIN((AE136+AP35*D19)/AK48,(AE137+AP35*D19)/AL48,(AE138+AP35*D19)/AM48,(AE139+AP35*D19)/AN48,(AE140+AP35*D19)/AO48)*AP48","v":{"$error":"#VALUE!"}},{"$f":"MIN((AF136+AP35*D19)/AK48,(AF137+AP35*D19)/AL48,(AF138+AP35*D19)/AM48,(AF139+AP35*D19)/AN48,(AF140+AP35*D19)/AO48)*AP48","v":{"$error":"#VALUE!"}},{"$error":"#VALUE!"},null,"",{"$f":"MIN((S136+AQ35*D19)/AK49,(S137+AQ35*D19)/AL49,(S138+AQ35*D19)/AM49,(S139+AQ35*D19)/AN49,(S140+AQ35*D19)/AO49)*AP49","v":{"$error":"#VALUE!"}},{"$f":"MIN((T136+AQ35*D19)/AK49,(T137+AQ35*D19)/AL49,(T138+AQ35*D19)/AM49,(T139+AQ35*D19)/AN49,(T140+AQ35*D19)/AO49)*AP49","v":{"$error":"#VALUE!"}},{"$f":"MIN((U136+AQ35*D19)/AK49,(U137+AQ35*D19)/AL49,(U138+AQ35*D19)/AM49,(U139+AQ35*D19)/AN49,(U140+AQ35*D19)/AO49)*AP49","v":{"$error":"#VALUE!"}},{"$f":"MIN((V136+AQ35*D19)/AK49,(V137+AQ35*D19)/AL49,(V138+AQ35*D19)/AM49,(V139+AQ35*D19)/AN49,(V140+AQ35*D19)/AO49)*AP49","v":{"$error":"#VALUE!"}},{"$f":"MIN((W136+AQ35*D19)/AK49,(W137+AQ35*D19)/AL49,(W138+AQ35*D19)/AM49,(W139+AQ35*D19)/AN49,(W140+AQ35*D19)/AO49)*AP49","v":{"$error":"#VALUE!"}},{"$f":"MIN((X136+AQ35*D19)/AK49,(X137+AQ35*D19)/AL49,(X138+AQ35*D19)/AM49,(X139+AQ35*D19)/AN49,(X140+AQ35*D19)/AO49)*AP49","v":{"$error":"#VALUE!"}},{"$f":"MIN((Y136+AQ35*D19)/AK49,(Y137+AQ35*D19)/AL49,(Y138+AQ35*D19)/AM49,(Y139+AQ35*D19)/AN49,(Y140+AQ35*D19)/AO49)*AP49","v":{"$error":"#VALUE!"}},{"$f":"MIN((Z136+AQ35*D19)/AK49,(Z137+AQ35*D19)/AL49,(Z138+AQ35*D19)/AM49,(Z139+AQ35*D19)/AN49,(Z140+AQ35*D19)/AO49)*AP49","v":{"$error":"#VALUE!"}},{"$f":"MIN((AA136+AQ35*D19)/AK49,(AA137+AQ35*D19)/AL49,(AA138+AQ35*D19)/AM49,(AA139+AQ35*D19)/AN49,(AA140+AQ35*D19)/AO49)*AP49","v":{"$error":"#VALUE!"}},{"$f":"MIN((AB136+AQ35*D19)/AK49,(AB137+AQ35*D19)/AL49,(AB138+AQ35*D19)/AM49,(AB139+AQ35*D19)/AN49,(AB140+AQ35*D19)/AO49)*AP49","v":{"$error":"#VALUE!"}},{"$f":"MIN((AC136+AQ35*D19)/AK49,(AC137+AQ35*D19)/AL49,(AC138+AQ35*D19)/AM49,(AC139+AQ35*D19)/AN49,(AC140+AQ35*D19)/AO49)*AP49","v":{"$error":"#VALUE!"}},{"$f":"MIN((AD136+AQ35*D19)/AK49,(AD137+AQ35*D19)/AL49,(AD138+AQ35*D19)/AM49,(AD139+AQ35*D19)/AN49,(AD140+AQ35*D19)/AO49)*AP49","v":{"$error":"#VALUE!"}},{"$f":"MIN((AE136+AQ35*D19)/AK49,(AE137+AQ35*D19)/AL49,(AE138+AQ35*D19)/AM49,(AE139+AQ35*D19)/AN49,(AE140+AQ35*D19)/AO49)*AP49","v":{"$error":"#VALUE!"}},{"$f":"MIN((AF136+AQ35*D19)/AK49,(AF137+AQ35*D19)/AL49,(AF138+AQ35*D19)/AM49,(AF139+AQ35*D19)/AN49,(AF140+AQ35*D19)/AO49)*AP49","v":{"$error":"#VALUE!"}},{"$error":"#VALUE!"},null,null,{"$f":"IF(AV24=9,CI129,IF(AV25=9,CI130,IF(AV26=9,CI131,IF(AV27=9,CI132,IF(AV28=9,CI133,IF(AV29=9,CI134,IF(AV31=9,CI135,BS83)))))))","v":"attente"},{"$f":"IF(AV16=9,CI121,IF(AV17=9,CI122,IF(AV18=9,CI123,IF(AV19=9,CI124,IF(AV20=9,CI125,IF(AV21=9,CI126,IF(AV22=9,CI127,IF(AV23=9,CI128,BS148))))))))","v":{"$error":"#VALUE!"}}]
[null,null,null,null,null,null,null,null,null,null,null,null,null,null,null,null,null,{"$f":"G24","v":""},{"$f":"S142","v":"kit 1"},{"$f":"T142","v":"kit 2/3"},0,"kit 4",0,"kit 5","kit 6/7",0,0,"kit 8","kit 9",0,{"$f":"AE142","v":"kit 10"},{"$f":"AF142","v":"kit 11"},null,null,null,"",{"$f":"MIN((S143+AP35*D19)/AK48,(S144+AP35*D19)/AL48,(S145+AP35*D19)/AM48,(S146+AP35*D19)/AN48,(S147+AP35*D19)/AO48)*AP48","v":{"$error":"#VALUE!"}},{"$f":"MIN((T143+AP35*D19)/AK48,(T144+AP35*D19)/AL48,(T145+AP35*D19)/AM48,(T146+AP35*D19)/AN48,(T147+AP35*D19)/AO48)*AP48","v":{"$error":"#VALUE!"}},{"$f":"MIN((U143+AP35*D19)/AK48,(U144+AP35*D19)/AL48,(U145+AP35*D19)/AM48,(U146+AP35*D19)/AN48,(U147+AP35*D19)/AO48)*AP48","v":{"$error":"#VALUE!"}},{"$f":"MIN((V143+AP35*D19)/AK48,(V144+AP35*D19)/AL48,(V145+AP35*D19)/AM48,(V146+AP35*D19)/AN48,(V147+AP35*D19)/AO48)*AP48","v":{"$error":"#VALUE!"}},{"$f":"MIN((W143+AP35*D19)/AK48,(W144+AP35*D19)/AL48,(W145+AP35*D19)/AM48,(W146+AP35*D19)/AN48,(W147+AP35*D19)/AO48)*AP48","v":{"$error":"#VALUE!"}},{"$f":"MIN((X143+AP35*D19)/AK48,(X144+AP35*D19)/AL48,(X145+AP35*D19)/AM48,(X146+AP35*D19)/AN48,(X147+AP35*D19)/AO48)*AP48","v":{"$error":"#VALUE!"}},{"$f":"MIN((Y143+AP35*D19)/AK48,(Y144+AP35*D19)/AL48,(Y145+AP35*D19)/AM48,(Y146+AP35*D19)/AN48,(Y147+AP35*D19)/AO48)*AP48","v":{"$error":"#VALUE!"}},{"$f":"MIN((Z143+AP35*D19)/AK48,(Z144+AP35*D19)/AL48,(Z145+AP35*D19)/AM48,(Z146+AP35*D19)/AN48,(Z147+AP35*D19)/AO48)*AP48","v":{"$error":"#VALUE!"}},{"$f":"MIN((AA143+AP35*D19)/AK48,(AA144+AP35*D19)/AL48,(AA145+AP35*D19)/AM48,(AA146+AP35*D19)/AN48,(AA147+AP35*D19)/AO48)*AP48","v":{"$error":"#VALUE!"}},{"$f":"MIN((AB143+AP35*D19)/AK48,(AB144+AP35*D19)/AL48,(AB145+AP35*D19)/AM48,(AB146+AP35*D19)/AN48,(AB147+AP35*D19)/AO48)*AP48","v":{"$error":"#VALUE!"}},{"$f":"MIN((AC143+AP35*D19)/AK48,(AC144+AP35*D19)/AL48,(AC145+AP35*D19)/AM48,(AC146+AP35*D19)/AN48,(AC147+AP35*D19)/AO48)*AP48","v":{"$error":"#VALUE!"}},{"$f":"MIN((AD143+AP35*D19)/AK48,(AD144+AP35*D19)/AL48,(AD145+AP35*D19)/AM48,(AD146+AP35*D19)/AN48,(AD147+AP35*D19)/AO48)*AP48","v":{"$error":"#VALUE!"}},{"$f":"MIN((AE143+AP35*D19)/AK48,(AE144+AP35*D19)/AL48,(AE145+AP35*D19)/AM48,(AE146+AP35*D19)/AN48,(AE147+AP35*D19)/AO48)*AP48","v":{"$error":"#VALUE!"}},{"$f":"MIN((AF143+AP35*D19)/AK48,(AF144+AP35*D19)/AL48,(AF145+AP35*D19)/AM48,(AF146+AP35*D19)/AN48,(AF147+AP35*D19)/AO48)*AP48","v":{"$error":"#VALUE!"}},{"$error":"#VALUE!"},null,"",{"$f":"MIN((S143+AQ35*D19)/AK49,(S144+AQ35*D19)/AL49,(S145+AQ35*D19)/AM49,(S146+AQ35*D19)/AN49,(S147+AQ35*D19)/AO49)*AP49","v":{"$error":"#VALUE!"}},{"$f":"MIN((T143+AQ35*D19)/AK49,(T144+AQ35*D19)/AL49,(T145+AQ35*D19)/AM49,(T146+AQ35*D19)/AN49,(T147+AQ35*D19)/AO49)*AP49","v":{"$error":"#VALUE!"}},{"$f":"MIN((U143+AQ35*D19)/AK49,(U144+AQ35*D19)/AL49,(U145+AQ35*D19)/AM49,(U146+AQ35*D19)/AN49,(U147+AQ35*D19)/AO49)*AP49","v":{"$error":"#VALUE!"}},{"$f":"MIN((V143+AQ35*D19)/AK49,(V144+AQ35*D19)/AL49,(V145+AQ35*D19)/AM49,(V146+AQ35*D19)/AN49,(V147+AQ35*D19)/AO49)*AP49","v":{"$error":"#VALUE!"}},{"$f":"MIN((W143+AQ35*D19)/AK49,(W144+AQ35*D19)/AL49,(W145+AQ35*D19)/AM49,(W146+AQ35*D19)/AN49,(W147+AQ35*D19)/AO49)*AP49","v":{"$error":"#VALUE!"}},{"$f":"MIN((X143+AQ35*D19)/AK49,(X144+AQ35*D19)/AL49,(X145+AQ35*D19)/AM49,(X146+AQ35*D19)/AN49,(X147+AQ35*D19)/AO49)*AP49","v":{"$error":"#VALUE!"}},{"$f":"MIN((Y143+AQ35*D19)/AK49,(Y144+AQ35*D19)/AL49,(Y145+AQ35*D19)/AM49,(Y146+AQ35*D19)/AN49,(Y147+AQ35*D19)/AO49)*AP49","v":{"$error":"#VALUE!"}},{"$f":"MIN((Z143+AQ35*D19)/AK49,(Z144+AQ35*D19)/AL49,(Z145+AQ35*D19)/AM49,(Z146+AQ35*D19)/AN49,(Z147+AQ35*D19)/AO49)*AP49","v":{"$error":"#VALUE!"}},{"$f":"MIN((AA143+AQ35*D19)/AK49,(AA144+AQ35*D19)/AL49,(AA145+AQ35*D19)/AM49,(AA146+AQ35*D19)/AN49,(AA147+AQ35*D19)/AO49)*AP49","v":{"$error":"#VALUE!"}},{"$f":"MIN((AB143+AQ35*D19)/AK49,(AB144+AQ35*D19)/AL49,(AB145+AQ35*D19)/AM49,(AB146+AQ35*D19)/AN49,(AB147+AQ35*D19)/AO49)*AP49","v":{"$error":"#VALUE!"}},{"$f":"MIN((AC143+AQ35*D19)/AK49,(AC144+AQ35*D19)/AL49,(AC145+AQ35*D19)/AM49,(AC146+AQ35*D19)/AN49,(AC147+AQ35*D19)/AO49)*AP49","v":{"$error":"#VALUE!"}},{"$f":"MIN((AD143+AQ35*D19)/AK49,(AD144+AQ35*D19)/AL49,(AD145+AQ35*D19)/AM49,(AD146+AQ35*D19)/AN49,(AD147+AQ35*D19)/AO49)*AP49","v":{"$error":"#VALUE!"}},{"$f":"MIN((AE143+AQ35*D19)/AK49,(AE144+AQ35*D19)/AL49,(AE145+AQ35*D19)/AM49,(AE146+AQ35*D19)/AN49,(AE147+AQ35*D19)/AO49)*AP49","v":{"$error":"#VALUE!"}},{"$f":"MIN((AF143+AQ35*D19)/AK49,(AF144+AQ35*D19)/AL49,(AF145+AQ35*D19)/AM49,(AF146+AQ35*D19)/AN49,(AF147+AQ35*D19)/AO49)*AP49","v":{"$error":"#VALUE!"}},{"$error":"#VALUE!"},null,null,{"$f":"IF(AV24=10,CK129,IF(AV25=10,CK130,IF(AV26=10,CK131,IF(AV27=10,CK132,IF(AV28=10,CK133,IF(AV29=10,CK134,IF(AV31=10,CK135,BS83)))))))","v":"attente"},{"$f":"IF(AV16=10,CK121,IF(AV17=10,CK122,IF(AV18=10,CK123,IF(AV19=10,CK124,IF(AV20=10,CK125,IF(AV21=10,CK126,IF(AV22=10,CK127,IF(AV23=10,CK128,BS149))))))))","v":{"$error":"#VALUE!"}}]
[null,null,null,null,null,null,null,null,null,null,null,null,null,null,null,null,null,{"$f":"IF($AX$306,H24+VLOOKUP(Team!$X30,Team!$E$30:$J$300,6,FALSE),H24+AH39+$D$21)+$D$19*$AG$21","v":{"$error":"#VALUE!"}},{"$f":"IF($AX$306,$R150,$R150+Q10)","v":{"$error":"#VALUE!"}},{"$f":"IF($AX$306,$R150,$R150+R10)","v":{"$error":"#VALUE!"}},{"$error":"#VALUE!"},{"$error":"#VALUE!"},{"$error":"#VALUE!"},{"$error":"#VALUE!"},{"$error":"#VALUE!"},{"$error":"#VALUE!"},{"$error":"#VALUE!"},{"$error":"#VALUE!"},{"$error":"#VALUE!"},{"$error":"#VALUE!"},{"$error":"#VALUE!"},{"$error":"#VALUE!"},null,null,null,"",{"$f":"MIN((S150+AP35*D19)/AK48,(S151+AP35*D19)/AL48,(S152+AP35*D19)/AM48,(S153+AP35*D19)/AN48,(S154+AP35*D19)/AO48)*AP48","v":{"$error":"#VALUE!"}},{"$f":"MIN((T150+AP35*D19)/AK48,(T151+AP35*D19)/AL48,(T152+AP35*D19)/AM48,(T153+AP35*D19)/AN48,(T154+AP35*D19)/AO48)*AP48","v":{"$error":"#VALUE!"}},{"$f":"MIN((U150+AP35*D19)/AK48,(U151+AP35*D19)/AL48,(U152+AP35*D19)/AM48,(U153+AP35*D19)/AN48,(U154+AP35*D19)/AO48)*AP48","v":{"$error":"#VALUE!"}},{"$f":"MIN((V150+AP35*D19)/AK48,(V151+AP35*D19)/AL48,(V152+AP35*D19)/AM48,(V153+AP35*D19)/AN48,(V154+AP35*D19)/AO48)*AP48","v":{"$error":"#VALUE!"}},{"$f":"MIN((W150+AP35*D19)/AK48,(W151+AP35*D19)/AL48,(W152+AP35*D19)/AM48,(W153+AP35*D19)/AN48,(W154+AP35*D19)/AO48)*AP48","v":{"$error":"#VALUE!"}},{"$f":"MIN((X150+AP35*D19)/AK48,(X151+AP35*D19)/AL48,(X152+AP35*D19)/AM48,(X153+AP35*D19)/AN48,(X154+AP35*D19)/AO48)*AP48","v":{"$error":"#VALUE!"}},{"$f":"MIN((Y150+AP35*D19)/AK48,(Y151+AP35*D19)/AL48,(Y152+AP35*D19)/AM48,(Y153+AP35*D19)/AN48,(Y154+AP35*D19)/AO48)*AP48","v":{"$error":"#VALUE!"}},{"$f":"MIN((Z150+AP35*D19)/AK48,(Z151+AP35*D19)/AL48,(Z152+AP35*D19)/AM48,(Z153+AP35*D19)/AN48,(Z154+AP35*D19)/AO48)*AP48","v":{"$error":"#VALUE!"}},{"$f":"MIN((AA150+AP35*D19)/AK48,(AA151+AP35*D19)/AL48,(AA152+AP35*D19)/AM48,(AA153+AP35*D19)/AN48,(AA154+AP35*D19)/AO48)*AP48","v":{"$error":"#VALUE!"}},{"$f":"MIN((AB150+AP35*D19)/AK48,(AB151+AP35*D19)/AL48,(AB152+AP35*D19)/AM48,(AB153+AP35*D19)/AN48,(AB154+AP35*D19)/AO48)*AP48","v":{"$error":"#VALUE!"}},{"$f":"MIN((AC150+AP35*D19)/AK48,(AC151+AP35*D19)/AL48,(AC152+AP35*D19)/AM48,(AC153+AP35*D19)/AN48,(AC154+AP35*D19)/AO48)*AP48","v":{"$error":"#VALUE!"}},{"$f":"MIN((AD150+AP35*D19)/AK48,(AD151+AP35*D19)/AL48,(AD152+AP35*D19)/AM48,(AD153+AP35*D19)/AN48,(AD154+AP35*D19)/AO48)*AP48","v":{"$error":"#VALUE!"}},{"$f":"MIN((AE150+AP35*D19)/AK48,(AE151+AP35*D19)/AL48,(AE152+AP35*D19)/AM48,(AE153+AP35*D19)/AN48,(AE154+AP35*D19)/AO48)*AP48","v":{"$error":"#VALUE!"}},{"$f":"MIN((AF150+AP35*D19)/AK48,(AF151+AP35*D19)/AL48,(AF152+AP35*D19)/AM48,(AF153+AP35*D19)/AN48,(AF154+AP35*D19)/AO48)*AP48","v":{"$error":"#VALUE!"}},{"$error":"#VALUE!"},null,"",{"$f":"MIN((S150+AQ35*D19)/AK49,(S151+AQ35*D19)/AL49,(S152+AQ35*D19)/AM49,(S153+AQ35*D19)/AN49,(S154+AQ35*D19)/AO49)*AP49","v":{"$error":"#VALUE!"}},{"$f":"MIN((T150+AQ35*D19)/AK49,(T151+AQ35*D19)/AL49,(T152+AQ35*D19)/AM49,(T153+AQ35*D19)/AN49,(T154+AQ35*D19)/AO49)*AP49","v":{"$error":"#VALUE!"}},{"$f":"MIN((U150+AQ35*D19)/AK49,(U151+AQ35*D19)/AL49,(U152+AQ35*D19)/AM49,(U153+AQ35*D19)/AN49,(U154+AQ35*D19)/AO49)*AP49","v":{"$error":"#VALUE!"}},{"$f":"MIN((V150+AQ35*D19)/AK49,(V151+AQ35*D19)/AL49,(V152+AQ35*D19)/AM49,(V153+AQ35*D19)/AN49,(V154+AQ35*D19)/AO49)*AP49","v":{"$error":"#VALUE!"}},{"$f":"MIN((W150+AQ35*D19)/AK49,(W151+AQ35*D19)/AL49,(W152+AQ35*D19)/AM49,(W153+AQ35*D19)/AN49,(W154+AQ35*D19)/AO49)*AP49","v":{"$error":"#VALUE!"}},{"$f":"MIN((X150+AQ35*D19)/AK49,(X151+AQ35*D19)/AL49,(X152+AQ35*D19)/AM49,(X153+AQ35*D19)/AN49,(X154+AQ35*D19)/AO49)*AP49","v":{"$error":"#VALUE!"}},{"$f":"MIN((Y150+AQ35*D19)/AK49,(Y151+AQ35*D19)/AL49,(Y152+AQ35*D19)/AM49,(Y153+AQ35*D19)/AN49,(Y154+AQ35*D19)/AO49)*AP49","v":{"$error":"#VALUE!"}},{"$f":"MIN((Z150+AQ35*D19)/AK49,(Z151+AQ35*D19)/AL49,(Z152+AQ35*D19)/AM49,(Z153+AQ35*D19)/AN49,(Z154+AQ35*D19)/AO49)*AP49","v":{"$error":"#VALUE!"}},{"$f":"MIN((AA150+AQ35*D19)/AK49,(AA151+AQ35*D19)/AL49,(AA152+AQ35*D19)/AM49,(AA153+AQ35*D19)/AN49,(AA154+AQ35*D19)/AO49)*AP49","v":{"$error":"#VALUE!"}},{"$f":"MIN((AB150+AQ35*D19)/AK49,(AB151+AQ35*D19)/AL49,(AB152+AQ35*D19)/AM49,(AB153+AQ35*D19)/AN49,(AB154+AQ35*D19)/AO49)*AP49","v":{"$error":"#VALUE!"}},{"$f":"MIN((AC150+AQ35*D19)/AK49,(AC151+AQ35*D19)/AL49,(AC152+AQ35*D19)/AM49,(AC153+AQ35*D19)/AN49,(AC154+AQ35*D19)/AO49)*AP49","v":{"$error":"#VALUE!"}},{"$f":"MIN((AD150+AQ35*D19)/AK49,(AD151+AQ35*D19)/AL49,(AD152+AQ35*D19)/AM49,(AD153+AQ35*D19)/AN49,(AD154+AQ35*D19)/AO49)*AP49","v":{"$error":"#VALUE!"}},{"$f":"MIN((AE150+AQ35*D19)/AK49,(AE151+AQ35*D19)/AL49,(AE152+AQ35*D19)/AM49,(AE153+AQ35*D19)/AN49,(AE154+AQ35*D19)/AO49)*AP49","v":{"$error":"#VALUE!"}},{"$f":"MIN((AF150+AQ35*D19)/AK49,(AF151+AQ35*D19)/AL49,(AF152+AQ35*D19)/AM49,(AF153+AQ35*D19)/AN49,(AF154+AQ35*D19)/AO49)*AP49","v":{"$error":"#VALUE!"}},{"$error":"#VALUE!"},null,null,{"$f":"IF(AV24=11,CM129,IF(AV25=10,CM130,IF(AV26=11,CM131,IF(AV27=11,CM132,IF(AV28=11,CM133,IF(AV29=11,CM134,IF(AV31=11,CM135,BS83)))))))","v":"attente"},{"$f":"IF(AV16=11,CM121,IF(AV17=11,CM122,IF(AV18=11,CM123,IF(AV19=11,CM124,IF(AV20=11,CM125,IF(AV21=11,CM126,IF(AV22=11,CM127,IF(AV23=11,CM128,BS150))))))))","v":{"$error":"#VALUE!"}}]
[null,null,null,null,null,null,null,null,null,null,null,null,null,null,null,null,null,{"$f":"IF($AX$306,I24+VLOOKUP(Team!$Y30,Team!$E$30:$J$300,6,FALSE),I24+AH40+$D$21)+$D$19*$AG$21","v":{"$error":"#VALUE!"}},{"$f":"IF($AX$306,$R151,$R151+Q11)","v":{"$error":"#VALUE!"}},{"$error":"#VALUE!"},{"$error":"#VALUE!"},{"$error":"#VALUE!"},{"$error":"#VALUE!"},{"$error":"#VALUE!"},{"$error":"#VALUE!"},{"$error":"#VALUE!"},{"$error":"#VALUE!"},{"$error":"#VALUE!"},{"$error":"#VALUE!"},{"$error":"#VALUE!"},{"$error":"#VALUE!"},{"$error":"#VALUE!"},null,null,null,"",{"$f":"MIN((S157+AP35*D19)/AK48,(S158+AP35*D19)/AL48,(S159+AP35*D19)/AM48,(S160+AP35*D19)/AN48,(S161+AP35*D19)/AO48)*AP48","v":{"$error":"#VALUE!"}},{"$f":"MIN((T157+AP35*D19)/AK48,(T158+AP35*D19)/AL48,(T159+AP35*D19)/AM48,(T160+AP35*D19)/AN48,(T161+AP35*D19)/AO48)*AP48","v":{"$error":"#VALUE!"}},{"$f":"MIN((U157+AP35*D19)/AK48,(U158+AP35*D19)/AL48,(U159+AP35*D19)/AM48,(U160+AP35*D19)/AN48,(U161+AP35*D19)/AO48)*AP48","v":{"$error":"#VALUE!"}},{"$f":"MIN((V157+AP35*D19)/AK48,(V158+AP35*D19)/AL48,(V159+AP35*D19)/AM48,(V160+AP35*D19)/AN48,(V161+AP35*D19)/AO48)*AP48","v":{"$error":"#VALUE!"}},{"$f":"MIN((W157+AP35*D19)/AK48,(W158+AP35*D19)/AL48,(W159+AP35*D19)/AM48,(W160+AP35*D19)/AN48,(W161+AP35*D19)/AO48)*AP48","v":{"$error":"#VALUE!"}},{"$f":"MIN((X157+AP35*D19)/AK48,(X158+AP35*D19)/AL48,(X159+AP35*D19)/AM48,(X160+AP35*D19)/AN48,(X161+AP35*D19)/AO48)*AP48","v":{"$error":"#VALUE!"}},{"$f":"MIN((Y157+AP35*D19)/AK48,(Y158+AP35*D19)/AL48,(Y159+AP35*D19)/AM48,(Y160+AP35*D19)/AN48,(Y161+AP35*D19)/AO48)*AP48","v":{"$error":"#VALUE!"}},{"$f":"MIN((Z157+AP35*D19)/AK48,(Z158+AP35*D19)/AL48,(Z159+AP35*D19)/AM48,(Z160+AP35*D19)/AN48,(Z161+AP35*D19)/AO48)*AP48","v":{"$error":"#VALUE!"}},{"$f":"MIN((AA157+AP35*D19)/AK48,(AA158+AP35*D19)/AL48,(AA159+AP35*D19)/AM48,(AA160+AP35*D19)/AN48,(AA161+AP35*D19)/AO48)*AP48","v":{"$error":"#VALUE!"}},{"$f":"MIN((AB157+AP35*D19)/AK48,(AB158+AP35*D19)/AL48,(AB159+AP35*D19)/AM48,(AB160+AP35*D19)/AN48,(AB161+AP35*D19)/AO48)*AP48","v":{"$error":"#VALUE!"}},{"$f":"MIN((AC157+AP35*D19)/AK48,(AC158+AP35*D19)/AL48,(AC159+AP35*D19)/AM48,(AC160+AP35*D19)/AN48,(AC161+AP35*D19)/AO48)*AP48","v":{"$error":"#VALUE!"}},{"$f":"MIN((AD157+AP35*D19)/AK48,(AD158+AP35*D19)/AL48,(AD159+AP35*D19)/AM48,(AD160+AP35*D19)/AN48,(AD161+AP35*D19)/AO48)*AP48","v":{"$error":"#VALUE!"}},{"$f":"MIN((AE157+AP35*D19)/AK48,(AE158+AP35*D19)/AL48,(AE159+AP35*D19)/AM48,(AE160+AP35*D19)/AN48,(AE161+AP35*D19)/AO48)*AP48","v":{"$error":"#VALUE!"}},{"$f":"MIN((AF157+AP35*D19)/AK48,(AF158+AP35*D19)/AL48,(AF159+AP35*D19)/AM48,(AF160+AP35*D19)/AN48,(AF161+AP35*D19)/AO48)*AP48","v":{"$error":"#VALUE!"}},{"$error":"#VALUE!"},null,"",{"$f":"MIN((S157+AQ35*D19)/AK49,(S158+AQ35*D19)/AL49,(S159+AQ35*D19)/AM49,(S160+AQ35*D19)/AN49,(S161+AQ35*D19)/AO49)*AP49","v":{"$error":"#VALUE!"}},{"$f":"MIN((T157+AQ35*D19)/AK49,(T158+AQ35*D19)/AL49,(T159+AQ35*D19)/AM49,(T160+AQ35*D19)/AN49,(T161+AQ35*D19)/AO49)*AP49","v":{"$error":"#VALUE!"}},{"$f":"MIN((U157+AQ35*D19)/AK49,(U158+AQ35*D19)/AL49,(U159+AQ35*D19)/AM49,(U160+AQ35*D19)/AN49,(U161+AQ35*D19)/AO49)*AP49","v":{"$error":"#VALUE!"}},{"$f":"MIN((V157+AQ35*D19)/AK49,(V158+AQ35*D19)/AL49,(V159+AQ35*D19)/AM49,(V160+AQ35*D19)/AN49,(V161+AQ35*D19)/AO49)*AP49","v":{"$error":"#VALUE!"}},{"$f":"MIN((W157+AQ35*D19)/AK49,(W158+AQ35*D19)/AL49,(W159+AQ35*D19)/AM49,(W160+AQ35*D19)/AN49,(W161+AQ35*D19)/AO49)*AP49","v":{"$error":"#VALUE!"}},{"$f":"MIN((X157+AQ35*D19)/AK49,(X158+AQ35*D19)/AL49,(X159+AQ35*D19)/AM49,(X160+AQ35*D19)/AN49,(X161+AQ35*D19)/AO49)*AP49","v":{"$error":"#VALUE!"}},{"$f":"MIN((Y157+AQ35*D19)/AK49,(Y158+AQ35*D19)/AL49,(Y159+AQ35*D19)/AM49,(Y160+AQ35*D19)/AN49,(Y161+AQ35*D19)/AO49)*AP49","v":{"$error":"#VALUE!"}},{"$f":"MIN((Z157+AQ35*D19)/AK49,(Z158+AQ35*D19)/AL49,(Z159+AQ35*D19)/AM49,(Z160+AQ35*D19)/AN49,(Z161+AQ35*D19)/AO49)*AP49","v":{"$error":"#VALUE!"}},{"$f":"MIN((AA157+AQ35*D19)/AK49,(AA158+AQ35*D19)/AL49,(AA159+AQ35*D19)/AM49,(AA160+AQ35*D19)/AN49,(AA161+AQ35*D19)/AO49)*AP49","v":{"$error":"#VALUE!"}},{"$f":"MIN((AB157+AQ35*D19)/AK49,(AB158+AQ35*D19)/AL49,(AB159+AQ35*D19)/AM49,(AB160+AQ35*D19)/AN49,(AB161+AQ35*D19)/AO49)*AP49","v":{"$error":"#VALUE!"}},{"$f":"MIN((AC157+AQ35*D19)/AK49,(AC158+AQ35*D19)/AL49,(AC159+AQ35*D19)/AM49,(AC160+AQ35*D19)/AN49,(AC161+AQ35*D19)/AO49)*AP49","v":{"$error":"#VALUE!"}},{"$f":"MIN((AD157+AQ35*D19)/AK49,(AD158+AQ35*D19)/AL49,(AD159+AQ35*D19)/AM49,(AD160+AQ35*D19)/AN49,(AD161+AQ35*D19)/AO49)*AP49","v":{"$error":"#VALUE!"}},{"$f":"MIN((AE157+AQ35*D19)/AK49,(AE158+AQ35*D19)/AL49,(AE159+AQ35*D19)/AM49,(AE160+AQ35*D19)/AN49,(AE161+AQ35*D19)/AO49)*AP49","v":{"$error":"#VALUE!"}},{"$f":"MIN((AF157+AQ35*D19)/AK49,(AF158+AQ35*D19)/AL49,(AF159+AQ35*D19)/AM49,(AF160+AQ35*D19)/AN49,(AF161+AQ35*D19)/AO49)*AP49","v":{"$error":"#VALUE!"}},{"$error":"#VALUE!"}]
[null,null,null,null,null,null,null,null,null,null,null,null,null,null,null,null,null,{"$f":"IF($AX$306,J24+VLOOKUP(Team!$Z30,Team!$E$30:$J$300,6,FALSE),J24+AH41+$D$21)+$D$19*$AG$21","v":{"$error":"#VALUE!"}},{"$f":"IF($AX$306,$R152,$R152+Q12)","v":{"$error":"#VALUE!"}},{"$error":"#VALUE!"},{"$error":"#VALUE!"},{"$error":"#VALUE!"},{"$error":"#VALUE!"},{"$error":"#VALUE!"},{"$error":"#VALUE!"},{"$error":"#VALUE!"},{"$error":"#VALUE!"},{"$error":"#VALUE!"},{"$error":"#VALUE!"},{"$error":"#VALUE!"},{"$error":"#VALUE!"},{"$error":"#VALUE!"},null,null,null,"",{"$f":"MIN((S164+AP35*D19)/AK48,(S165+AP35*D19)/AL48,(S166+AP35*D19)/AM48,(S167+AP35*D19)/AN48,(S168+AP35*D19)/AO48)*AP48","v":{"$error":"#VALUE!"}},{"$f":"MIN((T164+AP35*D19)/AK48,(T165+AP35*D19)/AL48,(T166+AP35*D19)/AM48,(T167+AP35*D19)/AN48,(T168+AP35*D19)/AO48)*AP48","v":{"$error":"#VALUE!"}},{"$f":"MIN((U164+AP35*D19)/AK48,(U165+AP35*D19)/AL48,(U166+AP35*D19)/AM48,(U167+AP35*D19)/AN48,(U168+AP35*D19)/AO48)*AP48","v":{"$error":"#VALUE!"}},{"$f":"MIN((V164+AP35*D19)/AK48,(V165+AP35*D19)/AL48,(V166+AP35*D19)/AM48,(V167+AP35*D19)/AN48,(V168+AP35*D19)/AO48)*AP48","v":{"$error":"#VALUE!"}},{"$f":"MIN((W164+AP35*D19)/AK48,(W165+AP35*D19)/AL48,(W166+AP35*D19)/AM48,(W167+AP35*D19)/AN48,(W168+AP35*D19)/AO48)*AP48","v":{"$error":"#VALUE!"}},{"$f":"MIN((X164+AP35*D19)/AK48,(X165+AP35*D19)/AL48,(X166+AP35*D19)/AM48,(X167+AP35*D19)/AN48,(X168+AP35*D19)/AO48)*AP48","v":{"$error":"#VALUE!"}},{"$f":"MIN((Y164+AP35*D19)/AK48,(Y165+AP35*D19)/AL48,(Y166+AP35*D19)/AM48,(Y167+AP35*D19)/AN48,(Y168+AP35*D19)/AO48)*AP48","v":{"$error":"#VALUE!"}},{"$f":"MIN((Z164+AP35*D19)/AK48,(Z165+AP35*D19)/AL48,(Z166+AP35*D19)/AM48,(Z167+AP35*D19)/AN48,(Z168+AP35*D19)/AO48)*AP48","v":{"$error":"#VALUE!"}},{"$f":"MIN((AA164+AP35*D19)/AK48,(AA165+AP35*D19)/AL48,(AA166+AP35*D19)/AM48,(AA167+AP35*D19)/AN48,(AA168+AP35*D19)/AO48)*AP48","v":{"$error":"#VALUE!"}},{"$f":"MIN((AB164+AP35*D19)/AK48,(AB165+AP35*D19)/AL48,(AB166+AP35*D19)/AM48,(AB167+AP35*D19)/AN48,(AB168+AP35*D19)/AO48)*AP48","v":{"$error":"#VALUE!"}},{"$f":"MIN((AC164+AP35*D19)/AK48,(AC165+AP35*D19)/AL48,(AC166+AP35*D19)/AM48,(AC167+AP35*D19)/AN48,(AC168+AP35*D19)/AO48)*AP48","v":{"$error":"#VALUE!"}},{"$f":"MIN((AD164+AP35*D19)/AK48,(AD165+AP35*D19)/AL48,(AD166+AP35*D19)/AM48,(AD167+AP35*D19)/AN48,(AD168+AP35*D19)/AO48)*AP48","v":{"$error":"#VALUE!"}},{"$f":"MIN((AE164+AP35*D19)/AK48,(AE165+AP35*D19)/AL48,(AE166+AP35*D19)/AM48,(AE167+AP35*D19)/AN48,(AE168+AP35*D19)/AO48)*AP48","v":{"$error":"#VALUE!"}},{"$f":"MIN((AF164+AP35*D19)/AK48,(AF165+AP35*D19)/AL48,(AF166+AP35*D19)/AM48,(AF167+AP35*D19)/AN48,(AF168+AP35*D19)/AO48)*AP48","v":{"$error":"#VALUE!"}},{"$error":"#VALUE!"},null,"",{"$f":"MIN((S164+AQ35*D19)/AK49,(S165+AQ35*D19)/AL49,(S166+AQ35*D19)/AM49,(S167+AQ35*D19)/AN49,(S168+AQ35*D19)/AO49)*AP49","v":{"$error":"#VALUE!"}},{"$f":"MIN((T164+AQ35*D19)/AK49,(T165+AQ35*D19)/AL49,(T166+AQ35*D19)/AM49,(T167+AQ35*D19)/AN49,(T168+AQ35*D19)/AO49)*AP49","v":{"$error":"#VALUE!"}},{"$f":"MIN((U164+AQ35*D19)/AK49,(U165+AQ35*D19)/AL49,(U166+AQ35*D19)/AM49,(U167+AQ35*D19)/AN49,(U168+AQ35*D19)/AO49)*AP49","v":{"$error":"#VALUE!"}},{"$f":"MIN((V164+AQ35*D19)/AK49,(V165+AQ35*D19)/AL49,(V166+AQ35*D19)/AM49,(V167+AQ35*D19)/AN49,(V168+AQ35*D19)/AO49)*AP49","v":{"$error":"#VALUE!"}},{"$f":"MIN((W164+AQ35*D19)/AK49,(W165+AQ35*D19)/AL49,(W166+AQ35*D19)/AM49,(W167+AQ35*D19)/AN49,(W168+AQ35*D19)/AO49)*AP49","v":{"$error":"#VALUE!"}},{"$f":"MIN((X164+AQ35*D19)/AK49,(X165+AQ35*D19)/AL49,(X166+AQ35*D19)/AM49,(X167+AQ35*D19)/AN49,(X168+AQ35*D19)/AO49)*AP49","v":{"$error":"#VALUE!"}},{"$f":"MIN((Y164+AQ35*D19)/AK49,(Y165+AQ35*D19)/AL49,(Y166+AQ35*D19)/AM49,(Y167+AQ35*D19)/AN49,(Y168+AQ35*D19)/AO49)*AP49","v":{"$error":"#VALUE!"}},{"$f":"MIN((Z164+AQ35*D19)/AK49,(Z165+AQ35*D19)/AL49,(Z166+AQ35*D19)/AM49,(Z167+AQ35*D19)/AN49,(Z168+AQ35*D19)/AO49)*AP49","v":{"$error":"#VALUE!"}},{"$f":"MIN((AA164+AQ35*D19)/AK49,(AA165+AQ35*D19)/AL49,(AA166+AQ35*D19)/AM49,(AA167+AQ35*D19)/AN49,(AA168+AQ35*D19)/AO49)*AP49","v":{"$error":"#VALUE!"}},{"$f":"MIN((AB164+AQ35*D19)/AK49,(AB165+AQ35*D19)/AL49,(AB166+AQ35*D19)/AM49,(AB167+AQ35*D19)/AN49,(AB168+AQ35*D19)/AO49)*AP49","v":{"$error":"#VALUE!"}},{"$f":"MIN((AC164+AQ35*D19)/AK49,(AC165+AQ35*D19)/AL49,(AC166+AQ35*D19)/AM49,(AC167+AQ35*D19)/AN49,(AC168+AQ35*D19)/AO49)*AP49","v":{"$error":"#VALUE!"}},{"$f":"MIN((AD164+AQ35*D19)/AK49,(AD165+AQ35*D19)/AL49,(AD166+AQ35*D19)/AM49,(AD167+AQ35*D19)/AN49,(AD168+AQ35*D19)/AO49)*AP49","v":{"$error":"#VALUE!"}},{"$f":"MIN((AE164+AQ35*D19)/AK49,(AE165+AQ35*D19)/AL49,(AE166+AQ35*D19)/AM49,(AE167+AQ35*D19)/AN49,(AE168+AQ35*D19)/AO49)*AP49","v":{"$error":"#VALUE!"}},{"$f":"MIN((AF164+AQ35*D19)/AK49,(AF165+AQ35*D19)/AL49,(AF166+AQ35*D19)/AM49,(AF167+AQ35*D19)/AN49,(AF168+AQ35*D19)/AO49)*AP49","v":{"$error":"#VALUE!"}},{"$error":"#VALUE!"}]
[null,null,null,null,null,null,null,null,null,null,null,null,null,null,null,null,null,{"$f":"IF($AX$306,K24+VLOOKUP(Team!$AA30,Team!$E$30:$J$300,6,FALSE),K24+AH42+$D$21)+$D$19*$AG$21","v":{"$error":"#VALUE!"}},{"$f":"IF($AX$306,$R153,$R153+Q13)","v":{"$error":"#VALUE!"}},{"$error":"#VALUE!"},{"$error":"#VALUE!"},{"$error":"#VALUE!"},{"$error":"#VALUE!"},{"$error":"#VALUE!"},{"$error":"#VALUE!"},{"$error":"#VALUE!"},{"$error":"#VALUE!"},{"$error":"#VALUE!"},{"$error":"#VALUE!"},{"$error":"#VALUE!"},{"$error":"#VALUE!"},{"$error":"#VALUE!"},null,null,null,"",{"$f":"MIN((S171+AP35*D19)/AK48,(S172+AP35*D19)/AL48,(S173+AP35*D19)/AM48,(S174+AP35*D19)/AN48,(S175+AP35*D19)/AO48)*AP48","v":{"$error":"#VALUE!"}},{"$f":"MIN((T171+AP35*D19)/AK48,(T172+AP35*D19)/AL48,(T173+AP35*D19)/AM48,(T174+AP35*D19)/AN48,(T175+AP35*D19)/AO48)*AP48","v":{"$error":"#VALUE!"}},{"$f":"MIN((U171+AP35*D19)/AK48,(U172+AP35*D19)/AL48,(U173+AP35*D19)/AM48,(U174+AP35*D19)/AN48,(U175+AP35*D19)/AO48)*AP48","v":{"$error":"#VALUE!"}},{"$f":"MIN((V171+AP35*D19)/AK48,(V172+AP35*D19)/AL48,(V173+AP35*D19)/AM48,(V174+AP35*D19)/AN48,(V175+AP35*D19)/AO48)*AP48","v":{"$error":"#VALUE!"}},{"$f":"MIN((W171+AP35*D19)/AK48,(W172+AP35*D19)/AL48,(W173+AP35*D19)/AM48,(W174+AP35*D19)/AN48,(W175+AP35*D19)/AO48)*AP48","v":{"$error":"#VALUE!"}},{"$f":"MIN((X171+AP35*D19)/AK48,(X172+AP35*D19)/AL48,(X173+AP35*D19)/AM48,(X174+AP35*D19)/AN48,(X175+AP35*D19)/AO48)*AP48","v":{"$error":"#VALUE!"}},{"$f":"MIN((Y171+AP35*D19)/AK48,(Y172+AP35*D19)/AL48,(Y173+AP35*D19)/AM48,(Y174+AP35*D19)/AN48,(Y175+AP35*D19)/AO48)*AP48","v":{"$error":"#VALUE!"}},{"$f":"MIN((Z171+AP35*D19)/AK48,(Z172+AP35*D19)/AL48,(Z173+AP35*D19)/AM48,(Z174+AP35*D19)/AN48,(Z175+AP35*D19)/AO48)*AP48","v":{"$error":"#VALUE!"}},{"$f":"MIN((AA171+AP35*D19)/AK48,(AA172+AP35*D19)/AL48,(AA173+AP35*D19)/AM48,(AA174+AP35*D19)/AN48,(AA175+AP35*D19)/AO48)*AP48","v":{"$error":"#VALUE!"}},{"$f":"MIN((AB171+AP35*D19)/AK48,(AB172+AP35*D19)/AL48,(AB173+AP35*D19)/AM48,(AB174+AP35*D19)/AN48,(AB175+AP35*D19)/AO48)*AP48","v":{"$error":"#VALUE!"}},{"$f":"MIN((AC171+AP35*D19)/AK48,(AC172+AP35*D19)/AL48,(AC173+AP35*D19)/AM48,(AC174+AP35*D19)/AN48,(AC175+AP35*D19)/AO48)*AP48","v":{"$error":"#VALUE!"}},{"$f":"MIN((AD171+AP35*D19)/AK48,(AD172+AP35*D19)/AL48,(AD173+AP35*D19)/AM48,(AD174+AP35*D19)/AN48,(AD175+AP35*D19)/AO48)*AP48","v":{"$error":"#VALUE!"}},{"$f":"MIN((AE171+AP35*D19)/AK48,(AE172+AP35*D19)/AL48,(AE173+AP35*D19)/AM48,(AE174+AP35*D19)/AN48,(AE175+AP35*D19)/AO48)*AP48","v":{"$error":"#VALUE!"}},{"$f":"MIN((AF171+AP35*D19)/AK48,(AF172+AP35*D19)/AL48,(AF173+AP35*D19)/AM48,(AF174+AP35*D19)/AN48,(AF175+AP35*D19)/AO48)*AP48","v":{"$error":"#VALUE!"}},{"$error":"#VALUE!"},null,"",{"$f":"MIN((S171+AQ35*D19)/AK49,(S172+AQ35*D19)/AL49,(S173+AQ35*D19)/AM49,(S174+AQ35*D19)/AN49,(S175+AQ35*D19)/AO49)*AP49","v":{"$error":"#VALUE!"}},{"$f":"MIN((T171+AQ35*D19)/AK49,(T172+AQ35*D19)/AL49,(T173+AQ35*D19)/AM49,(T174+AQ35*D19)/AN49,(T175+AQ35*D19)/AO49)*AP49","v":{"$error":"#VALUE!"}},{"$f":"MIN((U171+AQ35*D19)/AK49,(U172+AQ35*D19)/AL49,(U173+AQ35*D19)/AM49,(U174+AQ35*D19)/AN49,(U175+AQ35*D19)/AO49)*AP49","v":{"$error":"#VALUE!"}},{"$f":"MIN((V171+AQ35*D19)/AK49,(V172+AQ35*D19)/AL49,(V173+AQ35*D19)/AM49,(V174+AQ35*D19)/AN49,(V175+AQ35*D19)/AO49)*AP49","v":{"$error":"#VALUE!"}},{"$f":"MIN((W171+AQ35*D19)/AK49,(W172+AQ35*D19)/AL49,(W173+AQ35*D19)/AM49,(W174+AQ35*D19)/AN49,(W175+AQ35*D19)/AO49)*AP49","v":{"$error":"#VALUE!"}},{"$f":"MIN((X171+AQ35*D19)/AK49,(X172+AQ35*D19)/AL49,(X173+AQ35*D19)/AM49,(X174+AQ35*D19)/AN49,(X175+AQ35*D19)/AO49)*AP49","v":{"$error":"#VALUE!"}},{"$f":"MIN((Y171+AQ35*D19)/AK49,(Y172+AQ35*D19)/AL49,(Y173+AQ35*D19)/AM49,(Y174+AQ35*D19)/AN49,(Y175+AQ35*D19)/AO49)*AP49","v":{"$error":"#VALUE!"}},{"$f":"MIN((Z171+AQ35*D19)/AK49,(Z172+AQ35*D19)/AL49,(Z173+AQ35*D19)/AM49,(Z174+AQ35*D19)/AN49,(Z175+AQ35*D19)/AO49)*AP49","v":{"$error":"#VALUE!"}},{"$f":"MIN((AA171+AQ35*D19)/AK49,(AA172+AQ35*D19)/AL49,(AA173+AQ35*D19)/AM49,(AA174+AQ35*D19)/AN49,(AA175+AQ35*D19)/AO49)*AP49","v":{"$error":"#VALUE!"}},{"$f":"MIN((AB171+AQ35*D19)/AK49,(AB172+AQ35*D19)/AL49,(AB173+AQ35*D19)/AM49,(AB174+AQ35*D19)/AN49,(AB175+AQ35*D19)/AO49)*AP49","v":{"$error":"#VALUE!"}},{"$f":"MIN((AC171+AQ35*D19)/AK49,(AC172+AQ35*D19)/AL49,(AC173+AQ35*D19)/AM49,(AC174+AQ35*D19)/AN49,(AC175+AQ35*D19)/AO49)*AP49","v":{"$error":"#VALUE!"}},{"$f":"MIN((AD171+AQ35*D19)/AK49,(AD172+AQ35*D19)/AL49,(AD173+AQ35*D19)/AM49,(AD174+AQ35*D19)/AN49,(AD175+AQ35*D19)/AO49)*AP49","v":{"$error":"#VALUE!"}},{"$f":"MIN((AE171+AQ35*D19)/AK49,(AE172+AQ35*D19)/AL49,(AE173+AQ35*D19)/AM49,(AE174+AQ35*D19)/AN49,(AE175+AQ35*D19)/AO49)*AP49","v":{"$error":"#VALUE!"}},{"$f":"MIN((AF171+AQ35*D19)/AK49,(AF172+AQ35*D19)/AL49,(AF173+AQ35*D19)/AM49,(AF174+AQ35*D19)/AN49,(AF175+AQ35*D19)/AO49)*AP49","v":{"$error":"#VALUE!"}},{"$error":"#VALUE!"}]
[null,null,null,null,null,null,null,null,null,null,null,null,null,null,null,null,null,{"$f":"IF($AX$306,L24+VLOOKUP(Team!$AB30,Team!$E$30:$J$300,6,FALSE),L24+AH43+$D$21)+$D$19*$AG$21","v":{"$error":"#VALUE!"}},{"$f":"IF($AX$306,$R154,$R154+Q14)","v":{"$error":"#VALUE!"}},{"$error":"#VALUE!"},{"$error":"#VALUE!"},{"$error":"#VALUE!"},{"$error":"#VALUE!"},{"$error":"#VALUE!"},{"$error":"#VALUE!"},{"$error":"#VALUE!"},{"$error":"#VALUE!"},{"$error":"#VALUE!"},{"$error":"#VALUE!"},{"$error":"#VALUE!"},{"$error":"#VALUE!"},{"$error":"#VALUE!"},null,null,null,"",{"$f":"MIN((S178+$AP$35*$D$19)/$AK$48,(S179+$AP$35*$D$19)/$AL$48,(S180+$AP$35*$D$19)/$AM$48,(S181+$AP$35*$D$19)/$AN$48,(S182+$AP$35*$D$19)/$AO$48)*$AP$48","v":{"$error":"#VALUE!"}},{"$f":"MIN((T178+AP35*D19)/AK48,(T179+AP35*D19)/AL48,(T180+AP35*D19)/AM48,(T181+AP35*D19)/AN48,(T182+AP35*D19)/AO48)*AP48","v":{"$error":"#VALUE!"}},{"$f":"MIN((U178+AP35*D19)/AK48,(U179+AP35*D19)/AL48,(U180+AP35*D19)/AM48,(U181+AP35*D19)/AN48,(U182+AP35*D19)/AO48)*AP48","v":{"$error":"#VALUE!"}},{"$f":"MIN((V178+AP35*D19)/AK48,(V179+AP35*D19)/AL48,(V180+AP35*D19)/AM48,(V181+AP35*D19)/AN48,(V182+AP35*D19)/AO48)*AP48","v":{"$error":"#VALUE!"}},{"$f":"MIN((W178+AP35*D19)/AK48,(W179+AP35*D19)/AL48,(W180+AP35*D19)/AM48,(W181+AP35*D19)/AN48,(W182+AP35*D19)/AO48)*AP48","v":{"$error":"#VALUE!"}},{"$f":"MIN((X178+AP35*D19)/AK48,(X179+AP35*D19)/AL48,(X180+AP35*D19)/AM48,(X181+AP35*D19)/AN48,(X182+AP35*D19)/AO48)*AP48","v":{"$error":"#VALUE!"}},{"$f":"MIN((Y178+AP35*D19)/AK48,(Y179+AP35*D19)/AL48,(Y180+AP35*D19)/AM48,(Y181+AP35*D19)/AN48,(Y182+AP35*D19)/AO48)*AP48","v":{"$error":"#VALUE!"}},{"$f":"MIN((Z178+AP35*D19)/AK48,(Z179+AP35*D19)/AL48,(Z180+AP35*D19)/AM48,(Z181+AP35*D19)/AN48,(Z182+AP35*D19)/AO48)*AP48","v":{"$error":"#VALUE!"}},{"$f":"MIN((AA178+AP35*D19)/AK48,(AA179+AP35*D19)/AL48,(AA180+AP35*D19)/AM48,(AA181+AP35*D19)/AN48,(AA182+AP35*D19)/AO48)*AP48","v":{"$error":"#VALUE!"}},{"$f":"MIN((AB178+AP35*D19)/AK48,(AB179+AP35*D19)/AL48,(AB180+AP35*D19)/AM48,(AB181+AP35*D19)/AN48,(AB182+AP35*D19)/AO48)*AP48","v":{"$error":"#VALUE!"}},{"$f":"MIN((AC178+AP35*D19)/AK48,(AC179+AP35*D19)/AL48,(AC180+AP35*D19)/AM48,(AC181+AP35*D19)/AN48,(AC182+AP35*D19)/AO48)*AP48","v":{"$error":"#VALUE!"}},{"$f":"MIN((AD178+AP35*D19)/AK48,(AD179+AP35*D19)/AL48,(AD180+AP35*D19)/AM48,(AD181+AP35*D19)/AN48,(AD182+AP35*D19)/AO48)*AP48","v":{"$error":"#VALUE!"}},{"$f":"MIN((AE178+AP35*D19)/AK48,(AE179+AP35*D19)/AL48,(AE180+AP35*D19)/AM48,(AE181+AP35*D19)/AN48,(AE182+AP35*D19)/AO48)*AP48","v":{"$error":"#VALUE!"}},{"$f":"MIN((AF178+AP35*D19)/AK48,(AF179+AP35*D19)/AL48,(AF180+AP35*D19)/AM48,(AF181+AP35*D19)/AN48,(AF182+AP35*D19)/AO48)*AP48","v":{"$error":"#VALUE!"}},{"$error":"#VALUE!"},null,"",{"$f":"MIN((S178+AQ35*D19)/AK49,(S179+AQ35*D19)/AL49,(S180+AQ35*D19)/AM49,(S181+AQ35*D19)/AN49,(S182+AQ35*D19)/AO49)*AP49","v":{"$error":"#VALUE!"}},{"$f":"MIN((T178+AQ35*D19)/AK49,(T179+AQ35*D19)/AL49,(T180+AQ35*D19)/AM49,(T181+AQ35*D19)/AN49,(T182+AQ35*D19)/AO49)*AP49","v":{"$error":"#VALUE!"}},{"$f":"MIN((U178+AQ35*D19)/AK49,(U179+AQ35*D19)/AL49,(U180+AQ35*D19)/AM49,(U181+AQ35*D19)/AN49,(U182+AQ35*D19)/AO49)*AP49","v":{"$error":"#VALUE!"}},{"$f":"MIN((V178+AQ35*D19)/AK49,(V179+AQ35*D19)/AL49,(V180+AQ35*D19)/AM49,(V181+AQ35*D19)/AN49,(V182+AQ35*D19)/AO49)*AP49","v":{"$error":"#VALUE!"}},{"$f":"MIN((W178+AQ35*D19)/AK49,(W179+AQ35*D19)/AL49,(W180+AQ35*D19)/AM49,(W181+AQ35*D19)/AN49,(W182+AQ35*D19)/AO49)*AP49","v":{"$error":"#VALUE!"}},{"$f":"MIN((X178+AQ35*D19)/AK49,(X179+AQ35*D19)/AL49,(X180+AQ35*D19)/AM49,(X181+AQ35*D19)/AN49,(X182+AQ35*D19)/AO49)*AP49","v":{"$error":"#VALUE!"}},{"$f":"MIN((Y178+AQ35*D19)/AK49,(Y179+AQ35*D19)/AL49,(Y180+AQ35*D19)/AM49,(Y181+AQ35*D19)/AN49,(Y182+AQ35*D19)/AO49)*AP49","v":{"$error":"#VALUE!"}},{"$f":"MIN((Z178+AQ35*D19)/AK49,(Z179+AQ35*D19)/AL49,(Z180+AQ35*D19)/AM49,(Z181+AQ35*D19)/AN49,(Z182+AQ35*D19)/AO49)*AP49","v":{"$error":"#VALUE!"}},{"$f":"MIN((AA178+AQ35*D19)/AK49,(AA179+AQ35*D19)/AL49,(AA180+AQ35*D19)/AM49,(AA181+AQ35*D19)/AN49,(AA182+AQ35*D19)/AO49)*AP49","v":{"$error":"#VALUE!"}},{"$f":"MIN((AB178+AQ35*D19)/AK49,(AB179+AQ35*D19)/AL49,(AB180+AQ35*D19)/AM49,(AB181+AQ35*D19)/AN49,(AB182+AQ35*D19)/AO49)*AP49","v":{"$error":"#VALUE!"}},{"$f":"MIN((AC178+AQ35*D19)/AK49,(AC179+AQ35*D19)/AL49,(AC180+AQ35*D19)/AM49,(AC181+AQ35*D19)/AN49,(AC182+AQ35*D19)/AO49)*AP49","v":{"$error":"#VALUE!"}},{"$f":"MIN((AD178+AQ35*D19)/AK49,(AD179+AQ35*D19)/AL49,(AD180+AQ35*D19)/AM49,(AD181+AQ35*D19)/AN49,(AD182+AQ35*D19)/AO49)*AP49","v":{"$error":"#VALUE!"}},{"$f":"MIN((AE178+AQ35*D19)/AK49,(AE179+AQ35*D19)/AL49,(AE180+AQ35*D19)/AM49,(AE181+AQ35*D19)/AN49,(AE182+AQ35*D19)/AO49)*AP49","v":{"$error":"#VALUE!"}},{"$f":"MIN((AF178+AQ35*D19)/AK49,(AF179+AQ35*D19)/AL49,(AF180+AQ35*D19)/AM49,(AF181+AQ35*D19)/AN49,(AF182+AQ35*D19)/AO49)*AP49","v":{"$error":"#VALUE!"}},{"$error":"#VALUE!"}]
[null,null,null,null,null,null,null,null,null,null,null,null,null,null,null,null,null,null,null,null,null,null,null,null,null,null,null,null,null,null,null,null,null,null,null,"",{"$f":"MIN((S185+$AP$35*$D$19)/$AK$48,(S186+$AP$35*$D$19)/$AL$48,(S187+$AP$35*$D$19)/$AM$48,(S188+$AP$35*$D$19)/$AN$48,(S189+$AP$35*$D$19)/$AO$48)*$AP$48","v":{"$error":"#VALUE!"}},{"$error":"#VALUE!"},{"$error":"#VALUE!"},{"$error":"#VALUE!"},{"$error":"#VALUE!"},{"$error":"#VALUE!"},{"$error":"#VALUE!"},{"$error":"#VALUE!"},{"$error":"#VALUE!"},{"$error":"#VALUE!"},{"$error":"#VALUE!"},{"$error":"#VALUE!"},{"$error":"#VALUE!"},{"$error":"#VALUE!"},{"$error":"#VALUE!"},null,"",{"$f":"MIN((S185+$AQ$35*$D$19)/$AK$49,(S186+$AQ$35*$D$19)/$AL$49,(S187+$AQ$35*$D$19)/$AM$49,(S188+$AQ$35*$D$19)/$AN$49,(S189+$AQ$35*$D$19)/$AO$49)*$AP$49","v":{"$error":"#VALUE!"}},{"$error":"#VALUE!"},{"$error":"#VALUE!"},{"$error":"#VALUE!"},{"$error":"#VALUE!"},{"$error":"#VALUE!"},{"$error":"#VALUE!"},{"$error":"#VALUE!"},{"$error":"#VALUE!"},{"$error":"#VALUE!"},{"$error":"#VALUE!"},{"$error":"#VALUE!"},{"$error":"#VALUE!"},{"$error":"#VALUE!"},{"$error":"#VALUE!"}]
[null,null,null,null,null,null,null,null,null,null,null,null,null,null,null,null,null,{"$f":"G25","v":""},{"$f":"S149","v":"kit 1"},{"$f":"T149","v":"kit 2/3"},0,"kit 4",0,"kit 5","kit 6/7",0,0,"kit 8","kit 9",0,{"$f":"AE149","v":"kit 10"},{"$f":"AF149","v":"kit 11"},null,null,null,"",{"$f":"MIN((S192+$AP$35*$D$19)/$AK$48,(S193+$AP$35*$D$19)/$AL$48,(S194+$AP$35*$D$19)/$AM$48,(S195+$AP$35*$D$19)/$AN$48,(S196+$AP$35*$D$19)/$AO$48)*$AP$48","v":{"$error":"#VALUE!"}},{"$error":"#VALUE!"},{"$error":"#VALUE!"},{"$error":"#VALUE!"},{"$error":"#VALUE!"},{"$error":"#VALUE!"},{"$error":"#VALUE!"},{"$error":"#VALUE!"},{"$error":"#VALUE!"},{"$error":"#VALUE!"},{"$error":"#VALUE!"},{"$error":"#VALUE!"},{"$error":"#VALUE!"},{"$error":"#VALUE!"},{"$error":"#VALUE!"},null,"",{"$f":"MIN((S192+$AQ$35*$D$19)/$AK$49,(S193+$AQ$35*$D$19)/$AL$49,(S194+$AQ$35*$D$19)/$AM$49,(S195+$AQ$35*$D$19)/$AN$49,(S196+$AQ$35*$D$19)/$AO$49)*$AP$49","v":{"$error":"#VALUE!"}},{"$error":"#VALUE!"},{"$error":"#VALUE!"},{"$error":"#VALUE!"},{"$error":"#VALUE!"},{"$error":"#VALUE!"},{"$error":"#VALUE!"},{"$error":"#VALUE!"},{"$error":"#VALUE!"},{"$error":"#VALUE!"},{"$error":"#VALUE!"},{"$error":"#VALUE!"},{"$error":"#VALUE!"},{"$error":"#VALUE!"},{"$error":"#VALUE!"}]
[null,null,null,null,null,null,null,null,null,null,null,null,null,null,null,null,null,{"$f":"IF($AX$306,H25+VLOOKUP(Team!$X31,Team!$E$30:$J$300,6,FALSE),H25+AH39+$D$21)+$D$19*$AG$22","v":{"$error":"#VALUE!"}},{"$f":"IF($AX$306,$R157,$R157+Q10)","v":{"$error":"#VALUE!"}},{"$f":"IF($AX$306,$R157,$R157+R10)","v":{"$error":"#VALUE!"}},{"$error":"#VALUE!"},{"$error":"#VALUE!"},{"$error":"#VALUE!"},{"$error":"#VALUE!"},{"$error":"#VALUE!"},{"$error":"#VALUE!"},{"$error":"#VALUE!"},{"$error":"#VALUE!"},{"$error":"#VALUE!"},{"$error":"#VALUE!"},{"$error":"#VALUE!"},{"$error":"#VALUE!"},null,null,null,"",{"$f":"MIN((S199+$AP$35*$D$19)/$AK$48,(S200+$AP$35*$D$19)/$AL$48,(S201+$AP$35*$D$19)/$AM$48,(S202+$AP$35*$D$19)/$AN$48,(S203+$AP$35*$D$19)/$AO$48)*$AP$48","v":{"$error":"#VALUE!"}},{"$error":"#VALUE!"},{"$error":"#VALUE!"},{"$error":"#VALUE!"},{"$error":"#VALUE!"},{"$error":"#VALUE!"},{"$error":"#VALUE!"},{"$error":"#VALUE!"},{"$error":"#VALUE!"},{"$error":"#VALUE!"},{"$error":"#VALUE!"},{"$error":"#VALUE!"},{"$error":"#VALUE!"},{"$error":"#VALUE!"},{"$error":"#VALUE!"},null,"",{"$f":"MIN((S199+$AQ$35*$D$19)/$AK$49,(S200+$AQ$35*$D$19)/$AL$49,(S201+$AQ$35*$D$19)/$AM$49,(S202+$AQ$35*$D$19)/$AN$49,(S203+$AQ$35*$D$19)/$AO$49)*$AP$49","v":{"$error":"#VALUE!"}},{"$error":"#VALUE!"},{"$error":"#VALUE!"},{"$error":"#VALUE!"},{"$error":"#VALUE!"},{"$error":"#VALUE!"},{"$error":"#VALUE!"},{"$error":"#VALUE!"},{"$error":"#VALUE!"},{"$error":"#VALUE!"},{"$error":"#VALUE!"},{"$error":"#VALUE!"},{"$error":"#VALUE!"},{"$error":"#VALUE!"},{"$error":"#VALUE!"}]
[null,null,null,null,null,null,null,null,null,null,null,null,null,null,null,null,null,{"$f":"IF($AX$306,I25+VLOOKUP(Team!$Y31,Team!$E$30:$J$300,6,FALSE),I25+AH40+$D$21)+$D$19*$AG$22","v":{"$error":"#VALUE!"}},{"$f":"IF($AX$306,$R158,$R158+Q11)","v":{"$error":"#VALUE!"}},{"$error":"#VALUE!"},{"$error":"#VALUE!"},{"$error":"#VALUE!"},{"$error":"#VALUE!"},{"$error":"#VALUE!"},{"$error":"#VALUE!"},{"$error":"#VALUE!"},{"$error":"#VALUE!"},{"$error":"#VALUE!"},{"$error":"#VALUE!"},{"$error":"#VALUE!"},{"$error":"#VALUE!"},{"$error":"#VALUE!"},null,null,null,"",{"$f":"MIN((S206+$AP$35*$D$19)/$AK$48,(S207+$AP$35*$D$19)/$AL$48,(S208+$AP$35*$D$19)/$AM$48,(S209+$AP$35*$D$19)/$AN$48,(S210+$AP$35*$D$19)/$AO$48)*$AP$48","v":{"$error":"#VALUE!"}},{"$error":"#VALUE!"},{"$error":"#VALUE!"},{"$error":"#VALUE!"},{"$error":"#VALUE!"},{"$error":"#VALUE!"},{"$error":"#VALUE!"},{"$error":"#VALUE!"},{"$error":"#VALUE!"},{"$error":"#VALUE!"},{"$error":"#VALUE!"},{"$error":"#VALUE!"},{"$error":"#VALUE!"},{"$error":"#VALUE!"},{"$error":"#VALUE!"},null,{"$f":"AJ212","v":""},{"$f":"MIN((S206+$AQ$35*$D$19)/$AK$49,(S207+$AQ$35*$D$19)/$AL$49,(S208+$AQ$35*$D$19)/$AM$49,(S209+$AQ$35*$D$19)/$AN$49,(S210+$AQ$35*$D$19)/$AO$49)*$AP$49","v":{"$error":"#VALUE!"}},{"$error":"#VALUE!"},{"$error":"#VALUE!"},{"$error":"#VALUE!"},{"$error":"#VALUE!"},{"$error":"#VALUE!"},{"$error":"#VALUE!"},{"$error":"#VALUE!"},{"$error":"#VALUE!"},{"$error":"#VALUE!"},{"$error":"#VALUE!"},{"$error":"#VALUE!"},{"$error":"#VALUE!"},{"$error":"#VALUE!"},{"$error":"#VALUE!"}]
[null,null,null,null,null,null,null,null,null,null,null,null,null,null,null,null,null,{"$f":"IF($AX$306,J25+VLOOKUP(Team!$Z31,Team!$E$30:$J$300,6,FALSE),J25+AH41+$D$21)+$D$19*$AG$22","v":{"$error":"#VALUE!"}},{"$f":"IF($AX$306,$R159,$R159+Q12)","v":{"$error":"#VALUE!"}},{"$error":"#VALUE!"},{"$error":"#VALUE!"},{"$error":"#VALUE!"},{"$error":"#VALUE!"},{"$error":"#VALUE!"},{"$error":"#VALUE!"},{"$error":"#VALUE!"},{"$error":"#VALUE!"},{"$error":"#VALUE!"},{"$error":"#VALUE!"},{"$error":"#VALUE!"},{"$error":"#VALUE!"},{"$error":"#VALUE!"},null,null,null,0,{"$f":"MIN((S213+$AP$35*$D$19)/$AK$48,(S214+$AP$35*$D$19)/$AL$48,(S215+$AP$35*$D$19)/$AM$48,(S216+$AP$35*$D$19)/$AN$48,(S217+$AP$35*$D$19)/$AO$48)*$AP$48","v":{"$error":"#VALUE!"}},{"$error":"#VALUE!"},{"$error":"#VALUE!"},{"$error":"#VALUE!"},{"$error":"#VALUE!"},{"$error":"#VALUE!"},{"$error":"#VALUE!"},{"$error":"#VALUE!"},{"$error":"#VALUE!"},{"$error":"#VALUE!"},{"$error":"#VALUE!"},{"$error":"#VALUE!"},{"$error":"#VALUE!"},{"$error":"#VALUE!"},{"$error":"#VALUE!"},null,{"$f":"AJ213","v":0},{"$f":"MIN((S213+$AQ$35*$D$19)/$AK$49,(S214+$AQ$35*$D$19)/$AL$49,(S215+$AQ$35*$D$19)/$AM$49,(S216+$AQ$35*$D$19)/$AN$49,(S217+$AQ$35*$D$19)/$AO$49)*$AP$49","v":{"$error":"#VALUE!"}},{"$error":"#VALUE!"},{"$error":"#VALUE!"},{"$error":"#VALUE!"},{"$error":"#VALUE!"},{"$error":"#VALUE!"},{"$error":"#VALUE!"},{"$error":"#VALUE!"},{"$error":"#VALUE!"},{"$error":"#VALUE!"},{"$error":"#VALUE!"},{"$error":"#VALUE!"},{"$error":"#VALUE!"},{"$error":"#VALUE!"},{"$error":"#VALUE!"}]
[null,null,null,null,null,null,null,null,null,null,null,null,null,null,null,null,null,{"$f":"IF($AX$306,K25+VLOOKUP(Team!$AA31,Team!$E$30:$J$300,6,FALSE),K25+AH42+$D$21)+$D$19*$AG$22","v":{"$error":"#VALUE!"}},{"$f":"IF($AX$306,$R160,$R160+Q13)","v":{"$error":"#VALUE!"}},{"$error":"#VALUE!"},{"$error":"#VALUE!"},{"$error":"#VALUE!"},{"$error":"#VALUE!"},{"$error":"#VALUE!"},{"$error":"#VALUE!"},{"$error":"#VALUE!"},{"$error":"#VALUE!"},{"$error":"#VALUE!"},{"$error":"#VALUE!"},{"$error":"#VALUE!"},{"$error":"#VALUE!"},{"$error":"#VALUE!"},null,null,null,0,{"$f":"MIN((S220+$AP$35*$D$19)/$AK$48,(S221+$AP$35*$D$19)/$AL$48,(S222+$AP$35*$D$19)/$AM$48,(S223+$AP$35*$D$19)/$AN$48,(S224+$AP$35*$D$19)/$AO$48)*$AP$48","v":{"$error":"#VALUE!"}},{"$error":"#VALUE!"},{"$error":"#VALUE!"},{"$error":"#VALUE!"},{"$error":"#VALUE!"},{"$error":"#VALUE!"},{"$error":"#VALUE!"},{"$error":"#VALUE!"},{"$error":"#VALUE!"},{"$error":"#VALUE!"},{"$error":"#VALUE!"},{"$error":"#VALUE!"},{"$error":"#VALUE!"},{"$error":"#VALUE!"},{"$error":"#VALUE!"},null,{"$f":"AJ214","v":0},{"$f":"MIN((S220+$AQ$35*$D$19)/$AK$49,(S221+$AQ$35*$D$19)/$AL$49,(S222+$AQ$35*$D$19)/$AM$49,(S223+$AQ$35*$D$19)/$AN$49,(S224+$AQ$35*$D$19)/$AO$49)*$AP$49","v":{"$error":"#VALUE!"}},{"$error":"#VALUE!"},{"$error":"#VALUE!"},{"$error":"#VALUE!"},{"$error":"#VALUE!"},{"$error":"#VALUE!"},{"$error":"#VALUE!"},{"$error":"#VALUE!"},{"$error":"#VALUE!"},{"$error":"#VALUE!"},{"$error":"#VALUE!"},{"$error":"#VALUE!"},{"$error":"#VALUE!"},{"$error":"#VALUE!"},{"$error":"#VALUE!"}]
[null,null,null,null,null,null,null,null,null,null,null,null,null,null,null,null,null,{"$f":"IF($AX$306,L25+VLOOKUP(Team!$AB31,Team!$E$30:$J$300,6,FALSE),L25+AH43+$D$21)+$D$19*$AG$22","v":{"$error":"#VALUE!"}},{"$f":"IF($AX$306,$R161,$R161+Q14)","v":{"$error":"#VALUE!"}},{"$error":"#VALUE!"},{"$error":"#VALUE!"},{"$error":"#VALUE!"},{"$error":"#VALUE!"},{"$error":"#VALUE!"},{"$error":"#VALUE!"},{"$error":"#VALUE!"},{"$error":"#VALUE!"},{"$error":"#VALUE!"},{"$error":"#VALUE!"},{"$error":"#VALUE!"},{"$error":"#VALUE!"},{"$error":"#VALUE!"},null,null,null,0,{"$f":"MIN((S227+$AP$35*$D$19)/$AK$48,(S228+$AP$35*$D$19)/$AL$48,(S229+$AP$35*$D$19)/$AM$48,(S230+$AP$35*$D$19)/$AN$48,(S231+$AP$35*$D$19)/$AO$48)*$AP$48","v":{"$error":"#VALUE!"}},{"$error":"#VALUE!"},{"$error":"#VALUE!"},{"$error":"#VALUE!"},{"$error":"#VALUE!"},{"$error":"#VALUE!"},{"$error":"#VALUE!"},{"$error":"#VALUE!"},{"$error":"#VALUE!"},{"$error":"#VALUE!"},{"$error":"#VALUE!"},{"$error":"#VALUE!"},{"$error":"#VALUE!"},{"$error":"#VALUE!"},{"$error":"#VALUE!"},null,{"$f":"AJ215","v":0},{"$f":"MIN((S227+$AQ$35*$D$19)/$AK$49,(S228+$AQ$35*$D$19)/$AL$49,(S229+$AQ$35*$D$19)/$AM$49,(S230+$AQ$35*$D$19)/$AN$49,(S231+$AQ$35*$D$19)/$AO$49)*$AP$49","v":{"$error":"#VALUE!"}},{"$error":"#VALUE!"},{"$error":"#VALUE!"},{"$error":"#VALUE!"},{"$error":"#VALUE!"},{"$error":"#VALUE!"},{"$error":"#VALUE!"},{"$error":"#VALUE!"},{"$error":"#VALUE!"},{"$error":"#VALUE!"},{"$error":"#VALUE!"},{"$error":"#VALUE!"},{"$error":"#VALUE!"},{"$error":"#VALUE!"},{"$error":"#VALUE!"}]
[]
[null,null,null,null,null,null,null,null,null,null,null,null,null,null,null,null,null,{"$f":"G26","v":""},{"$f":"S156","v":"kit 1"},{"$f":"T156","v":"kit 2/3"},0,"kit 4",0,"kit 5","kit 6/7",0,0,"kit 8","kit 9",0,{"$f":"AE156","v":"kit 10"},{"$f":"AF156","v":"kit 11"},null,null,null,9,{"$f":"Q9","v":"kit 1"},"kit 2/3",0,"kit 4",0,"kit 5","kit 6/7",0,0,"kit 8","kit 9",0,"kit 10","kit 11","MAX",null,10,{"$f":"Q9","v":"kit 1"},"kit 2/3",0,"kit 4",0,"kit 5","kit 6/7",0,0,"kit 8","kit 9",0,"kit 10","kit 11","MAX"]
[null,null,null,null,null,null,null,null,null,null,null,null,null,null,null,null,null,{"$f":"IF($AX$306,H26+VLOOKUP(Team!$X32,Team!$E$30:$J$300,6,FALSE),H26+AH39+$D$21)+$D$19*$AG$23","v":{"$error":"#VALUE!"}},{"$f":"IF($AX$306,$R164,$R164+Q10)","v":{"$error":"#VALUE!"}},{"$f":"IF($AX$306,$R164,$R164+R10)","v":{"$error":"#VALUE!"}},{"$error":"#VALUE!"},{"$error":"#VALUE!"},{"$error":"#VALUE!"},{"$error":"#VALUE!"},{"$error":"#VALUE!"},{"$error":"#VALUE!"},{"$error":"#VALUE!"},{"$error":"#VALUE!"},{"$error":"#VALUE!"},{"$error":"#VALUE!"},{"$error":"#VALUE!"},{"$error":"#VALUE!"},null,null,null,{"$f":"AJ191","v":""},{"$f":"MIN((S59+AR35*D19)/AK50,(S60+AR35*D19)/AL50,(S61+AR35*D19)/AM50,(S62+AR35*D19)/AN50,(S63+AR35*D19)/AO50)*AP50","v":{"$error":"#VALUE!"}},{"$f":"MIN((T59+AR35*D19)/AK50,(T60+AR35*D19)/AL50,(T61+AR35*D19)/AM50,(T62+AR35*D19)/AN50,(T63+AR35*D19)/AO50)*AP50","v":{"$error":"#VALUE!"}},{"$f":"MIN((U59+AR35*D19)/AK50,(U60+AR35*D19)/AL50,(U61+AR35*D19)/AM50,(U62+AR35*D19)/AN50,(U63+AR35*D19)/AO50)*AP50","v":{"$error":"#VALUE!"}},{"$f":"MIN((V59+AR35*D19)/AK50,(V60+AR35*D19)/AL50,(V61+AR35*D19)/AM50,(V62+AR35*D19)/AN50,(V63+AR35*D19)/AO50)*AP50","v":{"$error":"#VALUE!"}},{"$f":"MIN((W59+AR35*D19)/AK50,(W60+AR35*D19)/AL50,(W61+AR35*D19)/AM50,(W62+AR35*D19)/AN50,(W63+AR35*D19)/AO50)*AP50","v":{"$error":"#VALUE!"}},{"$f":"MIN((X59+AR35*D19)/AK50,(X60+AR35*D19)/AL50,(X61+AR35*D19)/AM50,(X62+AR35*D19)/AN50,(X63+AR35*D19)/AO50)*AP50","v":{"$error":"#VALUE!"}},{"$f":"MIN((Y59+AR35*D19)/AK50,(Y60+AR35*D19)/AL50,(Y61+AR35*D19)/AM50,(Y62+AR35*D19)/AN50,(Y63+AR35*D19)/AO50)*AP50","v":{"$error":"#VALUE!"}},{"$f":"MIN((Z59+AR35*D19)/AK50,(Z60+AR35*D19)/AL50,(Z61+AR35*D19)/AM50,(Z62+AR35*D19)/AN50,(Z63+AR35*D19)/AO50)*AP50","v":{"$error":"#VALUE!"}},{"$f":"MIN((AA59+AR35*D19)/AK50,(AA60+AR35*D19)/AL50,(AA61+AR35*D19)/AM50,(AA62+AR35*D19)/AN50,(AA63+AR35*D19)/AO50)*AP50","v":{"$error":"#VALUE!"}},{"$f":"MIN((AB59+AR35*D19)/AK50,(AB60+AR35*D19)/AL50,(AB61+AR35*D19)/AM50,(AB62+AR35*D19)/AN50,(AB63+AR35*D19)/AO50)*AP50","v":{"$error":"#VALUE!"}},{"$f":"MIN((AC59+AR35*D19)/AK50,(AC60+AR35*D19)/AL50,(AC61+AR35*D19)/AM50,(AC62+AR35*D19)/AN50,(AC63+AR35*D19)/AO50)*AP50","v":{"$error":"#VALUE!"}},{"$f":"MIN((AD59+AR35*D19)/AK50,(AD60+AR35*D19)/AL50,(AD61+AR35*D19)/AM50,(AD62+AR35*D19)/AN50,(AD63+AR35*D19)/AO50)*AP50","v":{"$error":"#VALUE!"}},{"$f":"MIN((AE59+AR35*D19)/AK50,(AE60+AR35*D19)/AL50,(AE61+AR35*D19)/AM50,(AE62+AR35*D19)/AN50,(AE63+AR35*D19)/AO50)*AP50","v":{"$error":"#VALUE!"}},{"$f":"MIN((AF59+AR35*D19)/AK50,(AF60+AR35*D19)/AL50,(AF61+AR35*D19)/AM50,(AF62+AR35*D19)/AN50,(AF63+AR35*D19)/AO50)*AP50","v":{"$error":"#VALUE!"}},{"$f":"MAX(AK164:AX164)","v":{"$error":"#VALUE!"}},null,{"$f":"AJ191","v":""},{"$f":"MIN((S59+AS35*D19)/AK51,(S60+AS35*D19)/AL51,(S61+AS35*D19)/AM51,(S62+AS35*D19)/AN51,(S63+AS35*D19)/AO51)*AP51","v":{"$error":"#VALUE!"}},{"$f":"MIN((T59+AS35*D19)/AK51,(T60+AS35*D19)/AL51,(T61+AS35*D19)/AM51,(T62+AS35*D19)/AN51,(T63+AS35*D19)/AO51)*AP51","v":{"$error":"#VALUE!"}},{"$f":"MIN((U59+AS35*D19)/AK51,(U60+AS35*D19)/AL51,(U61+AS35*D19)/AM51,(U62+AS35*D19)/AN51,(U63+AS35*D19)/AO51)*AP51","v":{"$error":"#VALUE!"}},{"$f":"MIN((V59+AS35*D19)/AK51,(V60+AS35*D19)/AL51,(V61+AS35*D19)/AM51,(V62+AS35*D19)/AN51,(V63+AS35*D19)/AO51)*AP51","v":{"$error":"#VALUE!"}},{"$f":"MIN((W59+AS35*D19)/AK51,(W60+AS35*D19)/AL51,(W61+AS35*D19)/AM51,(W62+AS35*D19)/AN51,(W63+AS35*D19)/AO51)*AP51","v":{"$error":"#VALUE!"}},{"$f":"MIN((X59+AS35*D19)/AK51,(X60+AS35*D19)/AL51,(X61+AS35*D19)/AM51,(X62+AS35*D19)/AN51,(X63+AS35*D19)/AO51)*AP51","v":{"$error":"#VALUE!"}},{"$f":"MIN((Y59+AS35*D19)/AK51,(Y60+AS35*D19)/AL51,(Y61+AS35*D19)/AM51,(Y62+AS35*D19)/AN51,(Y63+AS35*D19)/AO51)*AP51","v":{"$error":"#VALUE!"}},{"$f":"MIN((Z59+AS35*D19)/AK51,(Z60+AS35*D19)/AL51,(Z61+AS35*D19)/AM51,(Z62+AS35*D19)/AN51,(Z63+AS35*D19)/AO51)*AP51","v":{"$error":"#VALUE!"}},{"$f":"MIN((AA59+AS35*D19)/AK51,(AA60+AS35*D19)/AL51,(AA61+AS35*D19)/AM51,(AA62+AS35*D19)/AN51,(AA63+AS35*D19)/AO51)*AP51","v":{"$error":"#VALUE!"}},{"$f":"MIN((AB59+AS35*D19)/AK51,(AB60+AS35*D19)/AL51,(AB61+AS35*D19)/AM51,(AB62+AS35*D19)/AN51,(AB63+AS35*D19)/AO51)*AP51","v":{"$error":"#VALUE!"}},{"$f":"MIN((AC59+AS35*D19)/AK51,(AC60+AS35*D19)/AL51,(AC61+AS35*D19)/AM51,(AC62+AS35*D19)/AN51,(AC63+AS35*D19)/AO51)*AP51","v":{"$error":"#VALUE!"}},{"$f":"MIN((AD59+AS35*D19)/AK51,(AD60+AS35*D19)/AL51,(AD61+AS35*D19)/AM51,(AD62+AS35*D19)/AN51,(AD63+AS35*D19)/AO51)*AP51","v":{"$error":"#VALUE!"}},{"$f":"MIN((AE59+AS35*D19)/AK51,(AE60+AS35*D19)/AL51,(AE61+AS35*D19)/AM51,(AE62+AS35*D19)/AN51,(AE63+AS35*D19)/AO51)*AP51","v":{"$error":"#VALUE!"}},{"$f":"MIN((AF59+AS35*D19)/AK51,(AF60+AS35*D19)/AL51,(AF61+AS35*D19)/AM51,(AF62+AS35*D19)/AN51,(AF63+AS35*D19)/AO51)*AP51","v":{"$error":"#VALUE!"}},{"$f":"MAX(BB164:BO164)","v":{"$error":"#VALUE!"}}]
[null,null,null,null,null,null,null,null,null,null,null,null,null,null,null,null,null,{"$f":"IF($AX$306,I26+VLOOKUP(Team!$Y32,Team!$E$30:$J$300,6,FALSE),I26+AH40+$D$21)+$D$19*$AG$23","v":{"$error":"#VALUE!"}},{"$f":"IF($AX$306,$R165,$R165+Q11)","v":{"$error":"#VALUE!"}},{"$error":"#VALUE!"},{"$error":"#VALUE!"},{"$error":"#VALUE!"},{"$error":"#VALUE!"},{"$error":"#VALUE!"},{"$error":"#VALUE!"},{"$error":"#VALUE!"},{"$error":"#VALUE!"},{"$error":"#VALUE!"},{"$error":"#VALUE!"},{"$error":"#VALUE!"},{"$error":"#VALUE!"},{"$error":"#VALUE!"},null,null,null,"",{"$f":"MIN((S66+AR35*D19)/AK50,(S67+AR35*D19)/AL50,(S68+AR35*D19)/AM50,(S69+AR35*D19)/AN50,(S70+AR35*D19)/AO50)*AP50","v":{"$error":"#VALUE!"}},{"$f":"MIN((T66+AR35*D19)/AK50,(T67+AR35*D19)/AL50,(T68+AR35*D19)/AM50,(T69+AR35*D19)/AN50,(T70+AR35*D19)/AO50)*AP50","v":{"$error":"#VALUE!"}},{"$f":"MIN((U66+AR35*D19)/AK50,(U67+AR35*D19)/AL50,(U68+AR35*D19)/AM50,(U69+AR35*D19)/AN50,(U70+AR35*D19)/AO50)*AP50","v":{"$error":"#VALUE!"}},{"$f":"MIN((V66+AR35*D19)/AK50,(V67+AR35*D19)/AL50,(V68+AR35*D19)/AM50,(V69+AR35*D19)/AN50,(V70+AR35*D19)/AO50)*AP50","v":{"$error":"#VALUE!"}},{"$f":"MIN((W66+AR35*D19)/AK50,(W67+AR35*D19)/AL50,(W68+AR35*D19)/AM50,(W69+AR35*D19)/AN50,(W70+AR35*D19)/AO50)*AP50","v":{"$error":"#VALUE!"}},{"$f":"MIN((X66+AR35*D19)/AK50,(X67+AR35*D19)/AL50,(X68+AR35*D19)/AM50,(X69+AR35*D19)/AN50,(X70+AR35*D19)/AO50)*AP50","v":{"$error":"#VALUE!"}},{"$f":"MIN((Y66+AR35*D19)/AK50,(Y67+AR35*D19)/AL50,(Y68+AR35*D19)/AM50,(Y69+AR35*D19)/AN50,(Y70+AR35*D19)/AO50)*AP50","v":{"$error":"#VALUE!"}},{"$f":"MIN((Z66+AR35*D19)/AK50,(Z67+AR35*D19)/AL50,(Z68+AR35*D19)/AM50,(Z69+AR35*D19)/AN50,(Z70+AR35*D19)/AO50)*AP50","v":{"$error":"#VALUE!"}},{"$f":"MIN((AA66+AR35*D19)/AK50,(AA67+AR35*D19)/AL50,(AA68+AR35*D19)/AM50,(AA69+AR35*D19)/AN50,(AA70+AR35*D19)/AO50)*AP50","v":{"$error":"#VALUE!"}},{"$f":"MIN((AB66+AR35*D19)/AK50,(AB67+AR35*D19)/AL50,(AB68+AR35*D19)/AM50,(AB69+AR35*D19)/AN50,(AB70+AR35*D19)/AO50)*AP50","v":{"$error":"#VALUE!"}},{"$f":"MIN((AC66+AR35*D19)/AK50,(AC67+AR35*D19)/AL50,(AC68+AR35*D19)/AM50,(AC69+AR35*D19)/AN50,(AC70+AR35*D19)/AO50)*AP50","v":{"$error":"#VALUE!"}},{"$f":"MIN((AD66+AR35*D19)/AK50,(AD67+AR35*D19)/AL50,(AD68+AR35*D19)/AM50,(AD69+AR35*D19)/AN50,(AD70+AR35*D19)/AO50)*AP50","v":{"$error":"#VALUE!"}},{"$f":"MIN((AE66+AR35*D19)/AK50,(AE67+AR35*D19)/AL50,(AE68+AR35*D19)/AM50,(AE69+AR35*D19)/AN50,(AE70+AR35*D19)/AO50)*AP50","v":{"$error":"#VALUE!"}},{"$f":"MIN((AF66+AR35*D19)/AK50,(AF67+AR35*D19)/AL50,(AF68+AR35*D19)/AM50,(AF69+AR35*D19)/AN50,(AF70+AR35*D19)/AO50)*AP50","v":{"$error":"#VALUE!"}},{"$error":"#VALUE!"},null,"",{"$f":"MIN((S66+AS35*D19)/AK51,(S67+AS35*D19)/AL51,(S68+AS35*D19)/AM51,(S69+AS35*D19)/AN51,(S70+AS35*D19)/AO51)*AP51","v":{"$error":"#VALUE!"}},{"$f":"MIN((T66+AS35*D19)/AK51,(T67+AS35*D19)/AL51,(T68+AS35*D19)/AM51,(T69+AS35*D19)/AN51,(T70+AS35*D19)/AO51)*AP51","v":{"$error":"#VALUE!"}},{"$f":"MIN((U66+AS35*D19)/AK51,(U67+AS35*D19)/AL51,(U68+AS35*D19)/AM51,(U69+AS35*D19)/AN51,(U70+AS35*D19)/AO51)*AP51","v":{"$error":"#VALUE!"}},{"$f":"MIN((V66+AS35*D19)/AK51,(V67+AS35*D19)/AL51,(V68+AS35*D19)/AM51,(V69+AS35*D19)/AN51,(V70+AS35*D19)/AO51)*AP51","v":{"$error":"#VALUE!"}},{"$f":"MIN((W66+AS35*D19)/AK51,(W67+AS35*D19)/AL51,(W68+AS35*D19)/AM51,(W69+AS35*D19)/AN51,(W70+AS35*D19)/AO51)*AP51","v":{"$error":"#VALUE!"}},{"$f":"MIN((X66+AS35*D19)/AK51,(X67+AS35*D19)/AL51,(X68+AS35*D19)/AM51,(X69+AS35*D19)/AN51,(X70+AS35*D19)/AO51)*AP51","v":{"$error":"#VALUE!"}},{"$f":"MIN((Y66+AS35*D19)/AK51,(Y67+AS35*D19)/AL51,(Y68+AS35*D19)/AM51,(Y69+AS35*D19)/AN51,(Y70+AS35*D19)/AO51)*AP51","v":{"$error":"#VALUE!"}},{"$f":"MIN((Z66+AS35*D19)/AK51,(Z67+AS35*D19)/AL51,(Z68+AS35*D19)/AM51,(Z69+AS35*D19)/AN51,(Z70+AS35*D19)/AO51)*AP51","v":{"$error":"#VALUE!"}},{"$f":"MIN((AA66+AS35*D19)/AK51,(AA67+AS35*D19)/AL51,(AA68+AS35*D19)/AM51,(AA69+AS35*D19)/AN51,(AA70+AS35*D19)/AO51)*AP51","v":{"$error":"#VALUE!"}},{"$f":"MIN((AB66+AS35*D19)/AK51,(AB67+AS35*D19)/AL51,(AB68+AS35*D19)/AM51,(AB69+AS35*D19)/AN51,(AB70+AS35*D19)/AO51)*AP51","v":{"$error":"#VALUE!"}},{"$f":"MIN((AC66+AS35*D19)/AK51,(AC67+AS35*D19)/AL51,(AC68+AS35*D19)/AM51,(AC69+AS35*D19)/AN51,(AC70+AS35*D19)/AO51)*AP51","v":{"$error":"#VALUE!"}},{"$f":"MIN((AD66+AS35*D19)/AK51,(AD67+AS35*D19)/AL51,(AD68+AS35*D19)/AM51,(AD69+AS35*D19)/AN51,(AD70+AS35*D19)/AO51)*AP51","v":{"$error":"#VALUE!"}},{"$f":"MIN((AE66+AS35*D19)/AK51,(AE67+AS35*D19)/AL51,(AE68+AS35*D19)/AM51,(AE69+AS35*D19)/AN51,(AE70+AS35*D19)/AO51)*AP51","v":{"$error":"#VALUE!"}},{"$f":"MIN((AF66+AS35*D19)/AK51,(AF67+AS35*D19)/AL51,(AF68+AS35*D19)/AM51,(AF69+AS35*D19)/AN51,(AF70+AS35*D19)/AO51)*AP51","v":{"$error":"#VALUE!"}},{"$error":"#VALUE!"}]
[null,null,null,null,null,null,null,null,null,null,null,null,null,null,null,null,null,{"$f":"IF($AX$306,J26+VLOOKUP(Team!$Z32,Team!$E$30:$J$300,6,FALSE),J26+AH41+$D$21)+$D$19*$AG$23","v":{"$error":"#VALUE!"}},{"$f":"IF($AX$306,$R166,$R166+Q12)","v":{"$error":"#VALUE!"}},{"$error":"#VALUE!"},{"$error":"#VALUE!"},{"$error":"#VALUE!"},{"$error":"#VALUE!"},{"$error":"#VALUE!"},{"$error":"#VALUE!"},{"$error":"#VALUE!"},{"$error":"#VALUE!"},{"$error":"#VALUE!"},{"$error":"#VALUE!"},{"$error":"#VALUE!"},{"$error":"#VALUE!"},{"$error":"#VALUE!"},null,null,null,"",{"$f":"MIN((S73+AR35*D19)/AK50,(S74+AR35*D19)/AL50,(S75+AR35*D19)/AM50,(S76+AR35*D19)/AN50,(S77+AR35*D19)/AO50)*AP50","v":{"$error":"#VALUE!"}},{"$f":"MIN((T73+AR35*D19)/AK50,(T74+AR35*D19)/AL50,(T75+AR35*D19)/AM50,(T76+AR35*D19)/AN50,(T77+AR35*D19)/AO50)*AP50","v":{"$error":"#VALUE!"}},{"$f":"MIN((U73+AR35*D19)/AK50,(U74+AR35*D19)/AL50,(U75+AR35*D19)/AM50,(U76+AR35*D19)/AN50,(U77+AR35*D19)/AO50)*AP50","v":{"$error":"#VALUE!"}},{"$f":"MIN((V73+AR35*D19)/AK50,(V74+AR35*D19)/AL50,(V75+AR35*D19)/AM50,(V76+AR35*D19)/AN50,(V77+AR35*D19)/AO50)*AP50","v":{"$error":"#VALUE!"}},{"$f":"MIN((W73+AR35*D19)/AK50,(W74+AR35*D19)/AL50,(W75+AR35*D19)/AM50,(W76+AR35*D19)/AN50,(W77+AR35*D19)/AO50)*AP50","v":{"$error":"#VALUE!"}},{"$f":"MIN((X73+AR35*D19)/AK50,(X74+AR35*D19)/AL50,(X75+AR35*D19)/AM50,(X76+AR35*D19)/AN50,(X77+AR35*D19)/AO50)*AP50","v":{"$error":"#VALUE!"}},{"$f":"MIN((Y73+AR35*D19)/AK50,(Y74+AR35*D19)/AL50,(Y75+AR35*D19)/AM50,(Y76+AR35*D19)/AN50,(Y77+AR35*D19)/AO50)*AP50","v":{"$error":"#VALUE!"}},{"$f":"MIN((Z73+AR35*D19)/AK50,(Z74+AR35*D19)/AL50,(Z75+AR35*D19)/AM50,(Z76+AR35*D19)/AN50,(Z77+AR35*D19)/AO50)*AP50","v":{"$error":"#VALUE!"}},{"$f":"MIN((AA73+AR35*D19)/AK50,(AA74+AR35*D19)/AL50,(AA75+AR35*D19)/AM50,(AA76+AR35*D19)/AN50,(AA77+AR35*D19)/AO50)*AP50","v":{"$error":"#VALUE!"}},{"$f":"MIN((AB73+AR35*D19)/AK50,(AB74+AR35*D19)/AL50,(AB75+AR35*D19)/AM50,(AB76+AR35*D19)/AN50,(AB77+AR35*D19)/AO50)*AP50","v":{"$error":"#VALUE!"}},{"$f":"MIN((AC73+AR35*D19)/AK50,(AC74+AR35*D19)/AL50,(AC75+AR35*D19)/AM50,(AC76+AR35*D19)/AN50,(AC77+AR35*D19)/AO50)*AP50","v":{"$error":"#VALUE!"}},{"$f":"MIN((AD73+AR35*D19)/AK50,(AD74+AR35*D19)/AL50,(AD75+AR35*D19)/AM50,(AD76+AR35*D19)/AN50,(AD77+AR35*D19)/AO50)*AP50","v":{"$error":"#VALUE!"}},{"$f":"MIN((AE73+AR35*D19)/AK50,(AE74+AR35*D19)/AL50,(AE75+AR35*D19)/AM50,(AE76+AR35*D19)/AN50,(AE77+AR35*D19)/AO50)*AP50","v":{"$error":"#VALUE!"}},{"$f":"MIN((AF73+AR35*D19)/AK50,(AF74+AR35*D19)/AL50,(AF75+AR35*D19)/AM50,(AF76+AR35*D19)/AN50,(AF77+AR35*D19)/AO50)*AP50","v":{"$error":"#VALUE!"}},{"$error":"#VALUE!"},null,"",{"$f":"MIN((S73+AS35*D19)/AK51,(S74+AS35*D19)/AL51,(S75+AS35*D19)/AM51,(S76+AS35*D19)/AN51,(S77+AS35*D19)/AO51)*AP51","v":{"$error":"#VALUE!"}},{"$f":"MIN((T73+AS35*D19)/AK51,(T74+AS35*D19)/AL51,(T75+AS35*D19)/AM51,(T76+AS35*D19)/AN51,(T77+AS35*D19)/AO51)*AP51","v":{"$error":"#VALUE!"}},{"$f":"MIN((U73+AS35*D19)/AK51,(U74+AS35*D19)/AL51,(U75+AS35*D19)/AM51,(U76+AS35*D19)/AN51,(U77+AS35*D19)/AO51)*AP51","v":{"$error":"#VALUE!"}},{"$f":"MIN((V73+AS35*D19)/AK51,(V74+AS35*D19)/AL51,(V75+AS35*D19)/AM51,(V76+AS35*D19)/AN51,(V77+AS35*D19)/AO51)*AP51","v":{"$error":"#VALUE!"}},{"$f":"MIN((W73+AS35*D19)/AK51,(W74+AS35*D19)/AL51,(W75+AS35*D19)/AM51,(W76+AS35*D19)/AN51,(W77+AS35*D19)/AO51)*AP51","v":{"$error":"#VALUE!"}},{"$f":"MIN((X73+AS35*D19)/AK51,(X74+AS35*D19)/AL51,(X75+AS35*D19)/AM51,(X76+AS35*D19)/AN51,(X77+AS35*D19)/AO51)*AP51","v":{"$error":"#VALUE!"}},{"$f":"MIN((Y73+AS35*D19)/AK51,(Y74+AS35*D19)/AL51,(Y75+AS35*D19)/AM51,(Y76+AS35*D19)/AN51,(Y77+AS35*D19)/AO51)*AP51","v":{"$error":"#VALUE!"}},{"$f":"MIN((Z73+AS35*D19)/AK51,(Z74+AS35*D19)/AL51,(Z75+AS35*D19)/AM51,(Z76+AS35*D19)/AN51,(Z77+AS35*D19)/AO51)*AP51","v":{"$error":"#VALUE!"}},{"$f":"MIN((AA73+AS35*D19)/AK51,(AA74+AS35*D19)/AL51,(AA75+AS35*D19)/AM51,(AA76+AS35*D19)/AN51,(AA77+AS35*D19)/AO51)*AP51","v":{"$error":"#VALUE!"}},{"$f":"MIN((AB73+AS35*D19)/AK51,(AB74+AS35*D19)/AL51,(AB75+AS35*D19)/AM51,(AB76+AS35*D19)/AN51,(AB77+AS35*D19)/AO51)*AP51","v":{"$error":"#VALUE!"}},{"$f":"MIN((AC73+AS35*D19)/AK51,(AC74+AS35*D19)/AL51,(AC75+AS35*D19)/AM51,(AC76+AS35*D19)/AN51,(AC77+AS35*D19)/AO51)*AP51","v":{"$error":"#VALUE!"}},{"$f":"MIN((AD73+AS35*D19)/AK51,(AD74+AS35*D19)/AL51,(AD75+AS35*D19)/AM51,(AD76+AS35*D19)/AN51,(AD77+AS35*D19)/AO51)*AP51","v":{"$error":"#VALUE!"}},{"$f":"MIN((AE73+AS35*D19)/AK51,(AE74+AS35*D19)/AL51,(AE75+AS35*D19)/AM51,(AE76+AS35*D19)/AN51,(AE77+AS35*D19)/AO51)*AP51","v":{"$error":"#VALUE!"}},{"$f":"MIN((AF73+AS35*D19)/AK51,(AF74+AS35*D19)/AL51,(AF75+AS35*D19)/AM51,(AF76+AS35*D19)/AN51,(AF77+AS35*D19)/AO51)*AP51","v":{"$error":"#VALUE!"}},{"$error":"#VALUE!"}]
[null,null,null,null,null,null,null,null,null,null,null,null,null,null,null,null,null,{"$f":"IF($AX$306,K26+VLOOKUP(Team!$AA32,Team!$E$30:$J$300,6,FALSE),K26+AH42+$D$21)+$D$19*$AG$23","v":{"$error":"#VALUE!"}},{"$f":"IF($AX$306,$R167,$R167+Q13)","v":{"$error":"#VALUE!"}},{"$error":"#VALUE!"},{"$error":"#VALUE!"},{"$error":"#VALUE!"},{"$error":"#VALUE!"},{"$error":"#VALUE!"},{"$error":"#VALUE!"},{"$error":"#VALUE!"},{"$error":"#VALUE!"},{"$error":"#VALUE!"},{"$error":"#VALUE!"},{"$error":"#VALUE!"},{"$error":"#VALUE!"},{"$error":"#VALUE!"},null,null,null,"",{"$f":"MIN((S80+AR35*D19)/AK50,(S81+AR35*D19)/AL50,(S82+AR35*D19)/AM50,(S83+AR35*D19)/AN50,(S84+AR35*D19)/AO50)*AP50","v":{"$error":"#VALUE!"}},{"$f":"MIN((T80+AR35*D19)/AK50,(T81+AR35*D19)/AL50,(T82+AR35*D19)/AM50,(T83+AR35*D19)/AN50,(T84+AR35*D19)/AO50)*AP50","v":{"$error":"#VALUE!"}},{"$f":"MIN((U80+AR35*D19)/AK50,(U81+AR35*D19)/AL50,(U82+AR35*D19)/AM50,(U83+AR35*D19)/AN50,(U84+AR35*D19)/AO50)*AP50","v":{"$error":"#VALUE!"}},{"$f":"MIN((V80+AR35*D19)/AK50,(V81+AR35*D19)/AL50,(V82+AR35*D19)/AM50,(V83+AR35*D19)/AN50,(V84+AR35*D19)/AO50)*AP50","v":{"$error":"#VALUE!"}},{"$f":"MIN((W80+AR35*D19)/AK50,(W81+AR35*D19)/AL50,(W82+AR35*D19)/AM50,(W83+AR35*D19)/AN50,(W84+AR35*D19)/AO50)*AP50","v":{"$error":"#VALUE!"}},{"$f":"MIN((X80+AR35*D19)/AK50,(X81+AR35*D19)/AL50,(X82+AR35*D19)/AM50,(X83+AR35*D19)/AN50,(X84+AR35*D19)/AO50)*AP50","v":{"$error":"#VALUE!"}},{"$f":"MIN((Y80+AR35*D19)/AK50,(Y81+AR35*D19)/AL50,(Y82+AR35*D19)/AM50,(Y83+AR35*D19)/AN50,(Y84+AR35*D19)/AO50)*AP50","v":{"$error":"#VALUE!"}},{"$f":"MIN((Z80+AR35*D19)/AK50,(Z81+AR35*D19)/AL50,(Z82+AR35*D19)/AM50,(Z83+AR35*D19)/AN50,(Z84+AR35*D19)/AO50)*AP50","v":{"$error":"#VALUE!"}},{"$f":"MIN((AA80+AR35*D19)/AK50,(AA81+AR35*D19)/AL50,(AA82+AR35*D19)/AM50,(AA83+AR35*D19)/AN50,(AA84+AR35*D19)/AO50)*AP50","v":{"$error":"#VALUE!"}},{"$f":"MIN((AB80+AR35*D19)/AK50,(AB81+AR35*D19)/AL50,(AB82+AR35*D19)/AM50,(AB83+AR35*D19)/AN50,(AB84+AR35*D19)/AO50)*AP50","v":{"$error":"#VALUE!"}},{"$f":"MIN((AC80+AR35*D19)/AK50,(AC81+AR35*D19)/AL50,(AC82+AR35*D19)/AM50,(AC83+AR35*D19)/AN50,(AC84+AR35*D19)/AO50)*AP50","v":{"$error":"#VALUE!"}},{"$f":"MIN((AD80+AR35*D19)/AK50,(AD81+AR35*D19)/AL50,(AD82+AR35*D19)/AM50,(AD83+AR35*D19)/AN50,(AD84+AR35*D19)/AO50)*AP50","v":{"$error":"#VALUE!"}},{"$f":"MIN((AE80+AR35*D19)/AK50,(AE81+AR35*D19)/AL50,(AE82+AR35*D19)/AM50,(AE83+AR35*D19)/AN50,(AE84+AR35*D19)/AO50)*AP50","v":{"$error":"#VALUE!"}},{"$f":"MIN((AF80+AR35*D19)/AK50,(AF81+AR35*D19)/AL50,(AF82+AR35*D19)/AM50,(AF83+AR35*D19)/AN50,(AF84+AR35*D19)/AO50)*AP50","v":{"$error":"#VALUE!"}},{"$error":"#VALUE!"},null,"",{"$f":"MIN((S80+AS35*D19)/AK51,(S81+AS35*D19)/AL51,(S82+AS35*D19)/AM51,(S83+AS35*D19)/AN51,(S84+AS35*D19)/AO51)*AP51","v":{"$error":"#VALUE!"}},{"$f":"MIN((T80+AS35*D19)/AK51,(T81+AS35*D19)/AL51,(T82+AS35*D19)/AM51,(T83+AS35*D19)/AN51,(T84+AS35*D19)/AO51)*AP51","v":{"$error":"#VALUE!"}},{"$f":"MIN((U80+AS35*D19)/AK51,(U81+AS35*D19)/AL51,(U82+AS35*D19)/AM51,(U83+AS35*D19)/AN51,(U84+AS35*D19)/AO51)*AP51","v":{"$error":"#VALUE!"}},{"$f":"MIN((V80+AS35*D19)/AK51,(V81+AS35*D19)/AL51,(V82+AS35*D19)/AM51,(V83+AS35*D19)/AN51,(V84+AS35*D19)/AO51)*AP51","v":{"$error":"#VALUE!"}},{"$f":"MIN((W80+AS35*D19)/AK51,(W81+AS35*D19)/AL51,(W82+AS35*D19)/AM51,(W83+AS35*D19)/AN51,(W84+AS35*D19)/AO51)*AP51","v":{"$error":"#VALUE!"}},{"$f":"MIN((X80+AS35*D19)/AK51,(X81+AS35*D19)/AL51,(X82+AS35*D19)/AM51,(X83+AS35*D19)/AN51,(X84+AS35*D19)/AO51)*AP51","v":{"$error":"#VALUE!"}},{"$f":"MIN((Y80+AS35*D19)/AK51,(Y81+AS35*D19)/AL51,(Y82+AS35*D19)/AM51,(Y83+AS35*D19)/AN51,(Y84+AS35*D19)/AO51)*AP51","v":{"$error":"#VALUE!"}},{"$f":"MIN((Z80+AS35*D19)/AK51,(Z81+AS35*D19)/AL51,(Z82+AS35*D19)/AM51,(Z83+AS35*D19)/AN51,(Z84+AS35*D19)/AO51)*AP51","v":{"$error":"#VALUE!"}},{"$f":"MIN((AA80+AS35*D19)/AK51,(AA81+AS35*D19)/AL51,(AA82+AS35*D19)/AM51,(AA83+AS35*D19)/AN51,(AA84+AS35*D19)/AO51)*AP51","v":{"$error":"#VALUE!"}},{"$f":"MIN((AB80+AS35*D19)/AK51,(AB81+AS35*D19)/AL51,(AB82+AS35*D19)/AM51,(AB83+AS35*D19)/AN51,(AB84+AS35*D19)/AO51)*AP51","v":{"$error":"#VALUE!"}},{"$f":"MIN((AC80+AS35*D19)/AK51,(AC81+AS35*D19)/AL51,(AC82+AS35*D19)/AM51,(AC83+AS35*D19)/AN51,(AC84+AS35*D19)/AO51)*AP51","v":{"$error":"#VALUE!"}},{"$f":"MIN((AD80+AS35*D19)/AK51,(AD81+AS35*D19)/AL51,(AD82+AS35*D19)/AM51,(AD83+AS35*D19)/AN51,(AD84+AS35*D19)/AO51)*AP51","v":{"$error":"#VALUE!"}},{"$f":"MIN((AE80+AS35*D19)/AK51,(AE81+AS35*D19)/AL51,(AE82+AS35*D19)/AM51,(AE83+AS35*D19)/AN51,(AE84+AS35*D19)/AO51)*AP51","v":{"$error":"#VALUE!"}},{"$f":"MIN((AF80+AS35*D19)/AK51,(AF81+AS35*D19)/AL51,(AF82+AS35*D19)/AM51,(AF83+AS35*D19)/AN51,(AF84+AS35*D19)/AO51)*AP51","v":{"$error":"#VALUE!"}},{"$error":"#VALUE!"}]
[null,null,null,null,null,null,null,null,null,null,null,null,null,null,null,null,null,{"$f":"IF($AX$306,L26+VLOOKUP(Team!$AB32,Team!$E$30:$J$300,6,FALSE),L26+AH43+$D$21)+$D$19*$AG$23","v":{"$error":"#VALUE!"}},{"$f":"IF($AX$306,$R168,$R168+Q14)","v":{"$error":"#VALUE!"}},{"$error":"#VALUE!"},{"$error":"#VALUE!"},{"$error":"#VALUE!"},{"$error":"#VALUE!"},{"$error":"#VALUE!"},{"$error":"#VALUE!"},{"$error":"#VALUE!"},{"$error":"#VALUE!"},{"$error":"#VALUE!"},{"$error":"#VALUE!"},{"$error":"#VALUE!"},{"$error":"#VALUE!"},{"$error":"#VALUE!"},null,null,null,"",{"$f":"MIN((S87+AR35*D19)/AK50,(S88+AR35*D19)/AL50,(S89+AR35*D19)/AM50,(S90+AR35*D19)/AN50,(S91+AR35*D19)/AO50)*AP50","v":{"$error":"#VALUE!"}},{"$f":"MIN((T87+AR35*D19)/AK50,(T88+AR35*D19)/AL50,(T89+AR35*D19)/AM50,(T90+AR35*D19)/AN50,(T91+AR35*D19)/AO50)*AP50","v":{"$error":"#VALUE!"}},{"$f":"MIN((U87+AR35*D19)/AK50,(U88+AR35*D19)/AL50,(U89+AR35*D19)/AM50,(U90+AR35*D19)/AN50,(U91+AR35*D19)/AO50)*AP50","v":{"$error":"#VALUE!"}},{"$f":"MIN((V87+AR35*D19)/AK50,(V88+AR35*D19)/AL50,(V89+AR35*D19)/AM50,(V90+AR35*D19)/AN50,(V91+AR35*D19)/AO50)*AP50","v":{"$error":"#VALUE!"}},{"$f":"MIN((W87+AR35*D19)/AK50,(W88+AR35*D19)/AL50,(W89+AR35*D19)/AM50,(W90+AR35*D19)/AN50,(W91+AR35*D19)/AO50)*AP50","v":{"$error":"#VALUE!"}},{"$f":"MIN((X87+AR35*D19)/AK50,(X88+AR35*D19)/AL50,(X89+AR35*D19)/AM50,(X90+AR35*D19)/AN50,(X91+AR35*D19)/AO50)*AP50","v":{"$error":"#VALUE!"}},{"$f":"MIN((Y87+AR35*D19)/AK50,(Y88+AR35*D19)/AL50,(Y89+AR35*D19)/AM50,(Y90+AR35*D19)/AN50,(Y91+AR35*D19)/AO50)*AP50","v":{"$error":"#VALUE!"}},{"$f":"MIN((Z87+AR35*D19)/AK50,(Z88+AR35*D19)/AL50,(Z89+AR35*D19)/AM50,(Z90+AR35*D19)/AN50,(Z91+AR35*D19)/AO50)*AP50","v":{"$error":"#VALUE!"}},{"$f":"MIN((AA87+AR35*D19)/AK50,(AA88+AR35*D19)/AL50,(AA89+AR35*D19)/AM50,(AA90+AR35*D19)/AN50,(AA91+AR35*D19)/AO50)*AP50","v":{"$error":"#VALUE!"}},{"$f":"MIN((AB87+AR35*D19)/AK50,(AB88+AR35*D19)/AL50,(AB89+AR35*D19)/AM50,(AB90+AR35*D19)/AN50,(AB91+AR35*D19)/AO50)*AP50","v":{"$error":"#VALUE!"}},{"$f":"MIN((AC87+AR35*D19)/AK50,(AC88+AR35*D19)/AL50,(AC89+AR35*D19)/AM50,(AC90+AR35*D19)/AN50,(AC91+AR35*D19)/AO50)*AP50","v":{"$error":"#VALUE!"}},{"$f":"MIN((AD87+AR35*D19)/AK50,(AD88+AR35*D19)/AL50,(AD89+AR35*D19)/AM50,(AD90+AR35*D19)/AN50,(AD91+AR35*D19)/AO50)*AP50","v":{"$error":"#VALUE!"}},{"$f":"MIN((AE87+AR35*D19)/AK50,(AE88+AR35*D19)/AL50,(AE89+AR35*D19)/AM50,(AE90+AR35*D19)/AN50,(AE91+AR35*D19)/AO50)*AP50","v":{"$error":"#VALUE!"}},{"$f":"MIN((AF87+AR35*D19)/AK50,(AF88+AR35*D19)/AL50,(AF89+AR35*D19)/AM50,(AF90+AR35*D19)/AN50,(AF91+AR35*D19)/AO50)*AP50","v":{"$error":"#VALUE!"}},{"$error":"#VALUE!"},null,"",{"$f":"MIN((S87+AS35*D19)/AK51,(S88+AS35*D19)/AL51,(S89+AS35*D19)/AM51,(S90+AS35*D19)/AN51,(S91+AS35*D19)/AO51)*AP51","v":{"$error":"#VALUE!"}},{"$f":"MIN((T87+AS35*D19)/AK51,(T88+AS35*D19)/AL51,(T89+AS35*D19)/AM51,(T90+AS35*D19)/AN51,(T91+AS35*D19)/AO51)*AP51","v":{"$error":"#VALUE!"}},{"$f":"MIN((U87+AS35*D19)/AK51,(U88+AS35*D19)/AL51,(U89+AS35*D19)/AM51,(U90+AS35*D19)/AN51,(U91+AS35*D19)/AO51)*AP51","v":{"$error":"#VALUE!"}},{"$f":"MIN((V87+AS35*D19)/AK51,(V88+AS35*D19)/AL51,(V89+AS35*D19)/AM51,(V90+AS35*D19)/AN51,(V91+AS35*D19)/AO51)*AP51","v":{"$error":"#VALUE!"}},{"$f":"MIN((W87+AS35*D19)/AK51,(W88+AS35*D19)/AL51,(W89+AS35*D19)/AM51,(W90+AS35*D19)/AN51,(W91+AS35*D19)/AO51)*AP51","v":{"$error":"#VALUE!"}},{"$f":"MIN((X87+AS35*D19)/AK51,(X88+AS35*D19)/AL51,(X89+AS35*D19)/AM51,(X90+AS35*D19)/AN51,(X91+AS35*D19)/AO51)*AP51","v":{"$error":"#VALUE!"}},{"$f":"MIN((Y87+AS35*D19)/AK51,(Y88+AS35*D19)/AL51,(Y89+AS35*D19)/AM51,(Y90+AS35*D19)/AN51,(Y91+AS35*D19)/AO51)*AP51","v":{"$error":"#VALUE!"}},{"$f":"MIN((Z87+AS35*D19)/AK51,(Z88+AS35*D19)/AL51,(Z89+AS35*D19)/AM51,(Z90+AS35*D19)/AN51,(Z91+AS35*D19)/AO51)*AP51","v":{"$error":"#VALUE!"}},{"$f":"MIN((AA87+AS35*D19)/AK51,(AA88+AS35*D19)/AL51,(AA89+AS35*D19)/AM51,(AA90+AS35*D19)/AN51,(AA91+AS35*D19)/AO51)*AP51","v":{"$error":"#VALUE!"}},{"$f":"MIN((AB87+AS35*D19)/AK51,(AB88+AS35*D19)/AL51,(AB89+AS35*D19)/AM51,(AB90+AS35*D19)/AN51,(AB91+AS35*D19)/AO51)*AP51","v":{"$error":"#VALUE!"}},{"$f":"MIN((AC87+AS35*D19)/AK51,(AC88+AS35*D19)/AL51,(AC89+AS35*D19)/AM51,(AC90+AS35*D19)/AN51,(AC91+AS35*D19)/AO51)*AP51","v":{"$error":"#VALUE!"}},{"$f":"MIN((AD87+AS35*D19)/AK51,(AD88+AS35*D19)/AL51,(AD89+AS35*D19)/AM51,(AD90+AS35*D19)/AN51,(AD91+AS35*D19)/AO51)*AP51","v":{"$error":"#VALUE!"}},{"$f":"MIN((AE87+AS35*D19)/AK51,(AE88+AS35*D19)/AL51,(AE89+AS35*D19)/AM51,(AE90+AS35*D19)/AN51,(AE91+AS35*D19)/AO51)*AP51","v":{"$error":"#VALUE!"}},{"$f":"MIN((AF87+AS35*D19)/AK51,(AF88+AS35*D19)/AL51,(AF89+AS35*D19)/AM51,(AF90+AS35*D19)/AN51,(AF91+AS35*D19)/AO51)*AP51","v":{"$error":"#VALUE!"}},{"$error":"#VALUE!"}]
[null,null,null,null,null,null,null,null,null,null,null,null,null,null,null,null,null,null,null,null,null,null,null,null,null,null,null,null,null,null,null,null,null,null,null,"",{"$f":"MIN((S94+AR35*D19)/AK50,(S95+AR35*D19)/AL50,(S96+AR35*D19)/AM50,(S97+AR35*D19)/AN50,(S98+AR35*D19)/AO50)*AP50","v":{"$error":"#VALUE!"}},{"$f":"MIN((T94+AR35*D19)/AK50,(T95+AR35*D19)/AL50,(T96+AR35*D19)/AM50,(T97+AR35*D19)/AN50,(T98+AR35*D19)/AO50)*AP50","v":{"$error":"#VALUE!"}},{"$f":"MIN((U94+AR35*D19)/AK50,(U95+AR35*D19)/AL50,(U96+AR35*D19)/AM50,(U97+AR35*D19)/AN50,(U98+AR35*D19)/AO50)*AP50","v":{"$error":"#VALUE!"}},{"$f":"MIN((V94+AR35*D19)/AK50,(V95+AR35*D19)/AL50,(V96+AR35*D19)/AM50,(V97+AR35*D19)/AN50,(V98+AR35*D19)/AO50)*AP50","v":{"$error":"#VALUE!"}},{"$f":"MIN((W94+AR35*D19)/AK50,(W95+AR35*D19)/AL50,(W96+AR35*D19)/AM50,(W97+AR35*D19)/AN50,(W98+AR35*D19)/AO50)*AP50","v":{"$error":"#VALUE!"}},{"$f":"MIN((X94+AR35*D19)/AK50,(X95+AR35*D19)/AL50,(X96+AR35*D19)/AM50,(X97+AR35*D19)/AN50,(X98+AR35*D19)/AO50)*AP50","v":{"$error":"#VALUE!"}},{"$f":"MIN((Y94+AR35*D19)/AK50,(Y95+AR35*D19)/AL50,(Y96+AR35*D19)/AM50,(Y97+AR35*D19)/AN50,(Y98+AR35*D19)/AO50)*AP50","v":{"$error":"#VALUE!"}},{"$f":"MIN((Z94+AR35*D19)/AK50,(Z95+AR35*D19)/AL50,(Z96+AR35*D19)/AM50,(Z97+AR35*D19)/AN50,(Z98+AR35*D19)/AO50)*AP50","v":{"$error":"#VALUE!"}},{"$f":"MIN((AA94+AR35*D19)/AK50,(AA95+AR35*D19)/AL50,(AA96+AR35*D19)/AM50,(AA97+AR35*D19)/AN50,(AA98+AR35*D19)/AO50)*AP50","v":{"$error":"#VALUE!"}},{"$f":"MIN((AB94+AR35*D19)/AK50,(AB95+AR35*D19)/AL50,(AB96+AR35*D19)/AM50,(AB97+AR35*D19)/AN50,(AB98+AR35*D19)/AO50)*AP50","v":{"$error":"#VALUE!"}},{"$f":"MIN((AC94+AR35*D19)/AK50,(AC95+AR35*D19)/AL50,(AC96+AR35*D19)/AM50,(AC97+AR35*D19)/AN50,(AC98+AR35*D19)/AO50)*AP50","v":{"$error":"#VALUE!"}},{"$f":"MIN((AD94+AR35*D19)/AK50,(AD95+AR35*D19)/AL50,(AD96+AR35*D19)/AM50,(AD97+AR35*D19)/AN50,(AD98+AR35*D19)/AO50)*AP50","v":{"$error":"#VALUE!"}},{"$f":"MIN((AE94+AR35*D19)/AK50,(AE95+AR35*D19)/AL50,(AE96+AR35*D19)/AM50,(AE97+AR35*D19)/AN50,(AE98+AR35*D19)/AO50)*AP50","v":{"$error":"#VALUE!"}},{"$f":"MIN((AF94+AR35*D19)/AK50,(AF95+AR35*D19)/AL50,(AF96+AR35*D19)/AM50,(AF97+AR35*D19)/AN50,(AF98+AR35*D19)/AO50)*AP50","v":{"$error":"#VALUE!"}},{"$error":"#VALUE!"},null,"",{"$f":"MIN((S94+AS35*D19)/AK51,(S95+AS35*D19)/AL51,(S96+AS35*D19)/AM51,(S97+AS35*D19)/AN51,(S98+AS35*D19)/AO51)*AP51","v":{"$error":"#VALUE!"}},{"$f":"MIN((T94+AS35*D19)/AK51,(T95+AS35*D19)/AL51,(T96+AS35*D19)/AM51,(T97+AS35*D19)/AN51,(T98+AS35*D19)/AO51)*AP51","v":{"$error":"#VALUE!"}},{"$f":"MIN((U94+AS35*D19)/AK51,(U95+AS35*D19)/AL51,(U96+AS35*D19)/AM51,(U97+AS35*D19)/AN51,(U98+AS35*D19)/AO51)*AP51","v":{"$error":"#VALUE!"}},{"$f":"MIN((V94+AS35*D19)/AK51,(V95+AS35*D19)/AL51,(V96+AS35*D19)/AM51,(V97+AS35*D19)/AN51,(V98+AS35*D19)/AO51)*AP51","v":{"$error":"#VALUE!"}},{"$f":"MIN((W94+AS35*D19)/AK51,(W95+AS35*D19)/AL51,(W96+AS35*D19)/AM51,(W97+AS35*D19)/AN51,(W98+AS35*D19)/AO51)*AP51","v":{"$error":"#VALUE!"}},{"$f":"MIN((X94+AS35*D19)/AK51,(X95+AS35*D19)/AL51,(X96+AS35*D19)/AM51,(X97+AS35*D19)/AN51,(X98+AS35*D19)/AO51)*AP51","v":{"$error":"#VALUE!"}},{"$f":"MIN((Y94+AS35*D19)/AK51,(Y95+AS35*D19)/AL51,(Y96+AS35*D19)/AM51,(Y97+AS35*D19)/AN51,(Y98+AS35*D19)/AO51)*AP51","v":{"$error":"#VALUE!"}},{"$f":"MIN((Z94+AS35*D19)/AK51,(Z95+AS35*D19)/AL51,(Z96+AS35*D19)/AM51,(Z97+AS35*D19)/AN51,(Z98+AS35*D19)/AO51)*AP51","v":{"$error":"#VALUE!"}},{"$f":"MIN((AA94+AS35*D19)/AK51,(AA95+AS35*D19)/AL51,(AA96+AS35*D19)/AM51,(AA97+AS35*D19)/AN51,(AA98+AS35*D19)/AO51)*AP51","v":{"$error":"#VALUE!"}},{"$f":"MIN((AB94+AS35*D19)/AK51,(AB95+AS35*D19)/AL51,(AB96+AS35*D19)/AM51,(AB97+AS35*D19)/AN51,(AB98+AS35*D19)/AO51)*AP51","v":{"$error":"#VALUE!"}},{"$f":"MIN((AC94+AS35*D19)/AK51,(AC95+AS35*D19)/AL51,(AC96+AS35*D19)/AM51,(AC97+AS35*D19)/AN51,(AC98+AS35*D19)/AO51)*AP51","v":{"$error":"#VALUE!"}},{"$f":"MIN((AD94+AS35*D19)/AK51,(AD95+AS35*D19)/AL51,(AD96+AS35*D19)/AM51,(AD97+AS35*D19)/AN51,(AD98+AS35*D19)/AO51)*AP51","v":{"$error":"#VALUE!"}},{"$f":"MIN((AE94+AS35*D19)/AK51,(AE95+AS35*D19)/AL51,(AE96+AS35*D19)/AM51,(AE97+AS35*D19)/AN51,(AE98+AS35*D19)/AO51)*AP51","v":{"$error":"#VALUE!"}},{"$f":"MIN((AF94+AS35*D19)/AK51,(AF95+AS35*D19)/AL51,(AF96+AS35*D19)/AM51,(AF97+AS35*D19)/AN51,(AF98+AS35*D19)/AO51)*AP51","v":{"$error":"#VALUE!"}},{"$error":"#VALUE!"}]
[null,null,null,null,null,null,null,null,null,null,null,null,null,null,null,null,null,{"$f":"G27","v":""},{"$f":"S163","v":"kit 1"},{"$f":"T163","v":"kit 2/3"},0,"kit 4",0,"kit 5","kit 6/7",0,0,"kit 8","kit 9",0,{"$f":"AE163","v":"kit 10"},{"$f":"AF163","v":"kit 11"},null,null,null,"",{"$f":"MIN((S101+AR35*D19)/AK50,(S102+AR35*D19)/AL50,(S103+AR35*D19)/AM50,(S104+AR35*D19)/AN50,(S105+AR35*D19)/AO50)*AP50","v":{"$error":"#VALUE!"}},{"$f":"MIN((T101+AR35*D19)/AK50,(T102+AR35*D19)/AL50,(T103+AR35*D19)/AM50,(T104+AR35*D19)/AN50,(T105+AR35*D19)/AO50)*AP50","v":{"$error":"#VALUE!"}},{"$f":"MIN((U101+AR35*D19)/AK50,(U102+AR35*D19)/AL50,(U103+AR35*D19)/AM50,(U104+AR35*D19)/AN50,(U105+AR35*D19)/AO50)*AP50","v":{"$error":"#VALUE!"}},{"$f":"MIN((V101+AR35*D19)/AK50,(V102+AR35*D19)/AL50,(V103+AR35*D19)/AM50,(V104+AR35*D19)/AN50,(V105+AR35*D19)/AO50)*AP50","v":{"$error":"#VALUE!"}},{"$f":"MIN((W101+AR35*D19)/AK50,(W102+AR35*D19)/AL50,(W103+AR35*D19)/AM50,(W104+AR35*D19)/AN50,(W105+AR35*D19)/AO50)*AP50","v":{"$error":"#VALUE!"}},{"$f":"MIN((X101+AR35*D19)/AK50,(X102+AR35*D19)/AL50,(X103+AR35*D19)/AM50,(X104+AR35*D19)/AN50,(X105+AR35*D19)/AO50)*AP50","v":{"$error":"#VALUE!"}},{"$f":"MIN((Y101+AR35*D19)/AK50,(Y102+AR35*D19)/AL50,(Y103+AR35*D19)/AM50,(Y104+AR35*D19)/AN50,(Y105+AR35*D19)/AO50)*AP50","v":{"$error":"#VALUE!"}},{"$f":"MIN((Z101+AR35*D19)/AK50,(Z102+AR35*D19)/AL50,(Z103+AR35*D19)/AM50,(Z104+AR35*D19)/AN50,(Z105+AR35*D19)/AO50)*AP50","v":{"$error":"#VALUE!"}},{"$f":"MIN((AA101+AR35*D19)/AK50,(AA102+AR35*D19)/AL50,(AA103+AR35*D19)/AM50,(AA104+AR35*D19)/AN50,(AA105+AR35*D19)/AO50)*AP50","v":{"$error":"#VALUE!"}},{"$f":"MIN((AB101+AR35*D19)/AK50,(AB102+AR35*D19)/AL50,(AB103+AR35*D19)/AM50,(AB104+AR35*D19)/AN50,(AB105+AR35*D19)/AO50)*AP50","v":{"$error":"#VALUE!"}},{"$f":"MIN((AC101+AR35*D19)/AK50,(AC102+AR35*D19)/AL50,(AC103+AR35*D19)/AM50,(AC104+AR35*D19)/AN50,(AC105+AR35*D19)/AO50)*AP50","v":{"$error":"#VALUE!"}},{"$f":"MIN((AD101+AR35*D19)/AK50,(AD102+AR35*D19)/AL50,(AD103+AR35*D19)/AM50,(AD104+AR35*D19)/AN50,(AD105+AR35*D19)/AO50)*AP50","v":{"$error":"#VALUE!"}},{"$f":"MIN((AE101+AR35*D19)/AK50,(AE102+AR35*D19)/AL50,(AE103+AR35*D19)/AM50,(AE104+AR35*D19)/AN50,(AE105+AR35*D19)/AO50)*AP50","v":{"$error":"#VALUE!"}},{"$f":"MIN((AF101+AR35*D19)/AK50,(AF102+AR35*D19)/AL50,(AF103+AR35*D19)/AM50,(AF104+AR35*D19)/AN50,(AF105+AR35*D19)/AO50)*AP50","v":{"$error":"#VALUE!"}},{"$error":"#VALUE!"},null,"",{"$f":"MIN((S101+AS35*D19)/AK51,(S102+AS35*D19)/AL51,(S103+AS35*D19)/AM51,(S104+AS35*D19)/AN51,(S105+AS35*D19)/AO51)*AP51","v":{"$error":"#VALUE!"}},{"$f":"MIN((T101+AS35*D19)/AK51,(T102+AS35*D19)/AL51,(T103+AS35*D19)/AM51,(T104+AS35*D19)/AN51,(T105+AS35*D19)/AO51)*AP51","v":{"$error":"#VALUE!"}},{"$f":"MIN((U101+AS35*D19)/AK51,(U102+AS35*D19)/AL51,(U103+AS35*D19)/AM51,(U104+AS35*D19)/AN51,(U105+AS35*D19)/AO51)*AP51","v":{"$error":"#VALUE!"}},{"$f":"MIN((V101+AS35*D19)/AK51,(V102+AS35*D19)/AL51,(V103+AS35*D19)/AM51,(V104+AS35*D19)/AN51,(V105+AS35*D19)/AO51)*AP51","v":{"$error":"#VALUE!"}},{"$f":"MIN((W101+AS35*D19)/AK51,(W102+AS35*D19)/AL51,(W103+AS35*D19)/AM51,(W104+AS35*D19)/AN51,(W105+AS35*D19)/AO51)*AP51","v":{"$error":"#VALUE!"}},{"$f":"MIN((X101+AS35*D19)/AK51,(X102+AS35*D19)/AL51,(X103+AS35*D19)/AM51,(X104+AS35*D19)/AN51,(X105+AS35*D19)/AO51)*AP51","v":{"$error":"#VALUE!"}},{"$f":"MIN((Y101+AS35*D19)/AK51,(Y102+AS35*D19)/AL51,(Y103+AS35*D19)/AM51,(Y104+AS35*D19)/AN51,(Y105+AS35*D19)/AO51)*AP51","v":{"$error":"#VALUE!"}},{"$f":"MIN((Z101+AS35*D19)/AK51,(Z102+AS35*D19)/AL51,(Z103+AS35*D19)/AM51,(Z104+AS35*D19)/AN51,(Z105+AS35*D19)/AO51)*AP51","v":{"$error":"#VALUE!"}},{"$f":"MIN((AA101+AS35*D19)/AK51,(AA102+AS35*D19)/AL51,(AA103+AS35*D19)/AM51,(AA104+AS35*D19)/AN51,(AA105+AS35*D19)/AO51)*AP51","v":{"$error":"#VALUE!"}},{"$f":"MIN((AB101+AS35*D19)/AK51,(AB102+AS35*D19)/AL51,(AB103+AS35*D19)/AM51,(AB104+AS35*D19)/AN51,(AB105+AS35*D19)/AO51)*AP51","v":{"$error":"#VALUE!"}},{"$f":"MIN((AC101+AS35*D19)/AK51,(AC102+AS35*D19)/AL51,(AC103+AS35*D19)/AM51,(AC104+AS35*D19)/AN51,(AC105+AS35*D19)/AO51)*AP51","v":{"$error":"#VALUE!"}},{"$f":"MIN((AD101+AS35*D19)/AK51,(AD102+AS35*D19)/AL51,(AD103+AS35*D19)/AM51,(AD104+AS35*D19)/AN51,(AD105+AS35*D19)/AO51)*AP51","v":{"$error":"#VALUE!"}},{"$f":"MIN((AE101+AS35*D19)/AK51,(AE102+AS35*D19)/AL51,(AE103+AS35*D19)/AM51,(AE104+AS35*D19)/AN51,(AE105+AS35*D19)/AO51)*AP51","v":{"$error":"#VALUE!"}},{"$f":"MIN((AF101+AS35*D19)/AK51,(AF102+AS35*D19)/AL51,(AF103+AS35*D19)/AM51,(AF104+AS35*D19)/AN51,(AF105+AS35*D19)/AO51)*AP51","v":{"$error":"#VALUE!"}},{"$error":"#VALUE!"}]
[null,null,null,null,null,null,null,null,null,null,null,null,null,null,null,null,null,{"$f":"IF($AX$306,H27+VLOOKUP(Team!$X33,Team!$E$30:$J$300,6,FALSE),H27+AH39+$D$21)+$D$19*$AG$24","v":{"$error":"#VALUE!"}},{"$f":"IF($AX$306,$R171,$R171+Q10)","v":{"$error":"#VALUE!"}},{"$f":"IF($AX$306,$R171,$R171+R10)","v":{"$error":"#VALUE!"}},{"$error":"#VALUE!"},{"$error":"#VALUE!"},{"$error":"#VALUE!"},{"$error":"#VALUE!"},{"$error":"#VALUE!"},{"$error":"#VALUE!"},{"$error":"#VALUE!"},{"$error":"#VALUE!"},{"$error":"#VALUE!"},{"$error":"#VALUE!"},{"$error":"#VALUE!"},{"$error":"#VALUE!"},null,null,null,"",{"$f":"MIN((S108+AR35*D19)/AK50,(S109+AR35*D19)/AL50,(S110+AR35*D19)/AM50,(S111+AR35*D19)/AN50,(S112+AR35*D19)/AO50)*AP50","v":{"$error":"#VALUE!"}},{"$f":"MIN((T108+AR35*D19)/AK50,(T109+AR35*D19)/AL50,(T110+AR35*D19)/AM50,(T111+AR35*D19)/AN50,(T112+AR35*D19)/AO50)*AP50","v":{"$error":"#VALUE!"}},{"$f":"MIN((U108+AR35*D19)/AK50,(U109+AR35*D19)/AL50,(U110+AR35*D19)/AM50,(U111+AR35*D19)/AN50,(U112+AR35*D19)/AO50)*AP50","v":{"$error":"#VALUE!"}},{"$f":"MIN((V108+AR35*D19)/AK50,(V109+AR35*D19)/AL50,(V110+AR35*D19)/AM50,(V111+AR35*D19)/AN50,(V112+AR35*D19)/AO50)*AP50","v":{"$error":"#VALUE!"}},{"$f":"MIN((W108+AR35*D19)/AK50,(W109+AR35*D19)/AL50,(W110+AR35*D19)/AM50,(W111+AR35*D19)/AN50,(W112+AR35*D19)/AO50)*AP50","v":{"$error":"#VALUE!"}},{"$f":"MIN((X108+AR35*D19)/AK50,(X109+AR35*D19)/AL50,(X110+AR35*D19)/AM50,(X111+AR35*D19)/AN50,(X112+AR35*D19)/AO50)*AP50","v":{"$error":"#VALUE!"}},{"$f":"MIN((Y108+AR35*D19)/AK50,(Y109+AR35*D19)/AL50,(Y110+AR35*D19)/AM50,(Y111+AR35*D19)/AN50,(Y112+AR35*D19)/AO50)*AP50","v":{"$error":"#VALUE!"}},{"$f":"MIN((Z108+AR35*D19)/AK50,(Z109+AR35*D19)/AL50,(Z110+AR35*D19)/AM50,(Z111+AR35*D19)/AN50,(Z112+AR35*D19)/AO50)*AP50","v":{"$error":"#VALUE!"}},{"$f":"MIN((AA108+AR35*D19)/AK50,(AA109+AR35*D19)/AL50,(AA110+AR35*D19)/AM50,(AA111+AR35*D19)/AN50,(AA112+AR35*D19)/AO50)*AP50","v":{"$error":"#VALUE!"}},{"$f":"MIN((AB108+AR35*D19)/AK50,(AB109+AR35*D19)/AL50,(AB110+AR35*D19)/AM50,(AB111+AR35*D19)/AN50,(AB112+AR35*D19)/AO50)*AP50","v":{"$error":"#VALUE!"}},{"$f":"MIN((AC108+AR35*D19)/AK50,(AC109+AR35*D19)/AL50,(AC110+AR35*D19)/AM50,(AC111+AR35*D19)/AN50,(AC112+AR35*D19)/AO50)*AP50","v":{"$error":"#VALUE!"}},{"$f":"MIN((AD108+AR35*D19)/AK50,(AD109+AR35*D19)/AL50,(AD110+AR35*D19)/AM50,(AD111+AR35*D19)/AN50,(AD112+AR35*D19)/AO50)*AP50","v":{"$error":"#VALUE!"}},{"$f":"MIN((AE108+AR35*D19)/AK50,(AE109+AR35*D19)/AL50,(AE110+AR35*D19)/AM50,(AE111+AR35*D19)/AN50,(AE112+AR35*D19)/AP50)*AP50","v":{"$error":"#VALUE!"}},{"$f":"MIN((AF108+AR35*D19)/AK50,(AF109+AR35*D19)/AL50,(AF110+AR35*D19)/AM50,(AF111+AR35*D19)/AN50,(AF112+AR35*D19)/AO50)*AP50","v":{"$error":"#VALUE!"}},{"$error":"#VALUE!"},null,"",{"$f":"MIN((S108+AS35*D19)/AK51,(S109+AS35*D19)/AL51,(S110+AS35*D19)/AM51,(S111+AS35*D19)/AN51,(S112+AS35*D19)/AO51)*AP51","v":{"$error":"#VALUE!"}},{"$f":"MIN((T108+AS35*D19)/AK51,(T109+AS35*D19)/AL51,(T110+AS35*D19)/AM51,(T111+AS35*D19)/AN51,(T112+AS35*D19)/AO51)*AP51","v":{"$error":"#VALUE!"}},{"$f":"MIN((U108+AS35*D19)/AK51,(U109+AS35*D19)/AL51,(U110+AS35*D19)/AM51,(U111+AS35*D19)/AN51,(U112+AS35*D19)/AO51)*AP51","v":{"$error":"#VALUE!"}},{"$f":"MIN((V108+AS35*D19)/AK51,(V109+AS35*D19)/AL51,(V110+AS35*D19)/AM51,(V111+AS35*D19)/AN51,(V112+AS35*D19)/AO51)*AP51","v":{"$error":"#VALUE!"}},{"$f":"MIN((W108+AS35*D19)/AK51,(W109+AS35*D19)/AL51,(W110+AS35*D19)/AM51,(W111+AS35*D19)/AN51,(W112+AS35*D19)/AO51)*AP51","v":{"$error":"#VALUE!"}},{"$f":"MIN((X108+AS35*D19)/AK51,(X109+AS35*D19)/AL51,(X110+AS35*D19)/AM51,(X111+AS35*D19)/AN51,(X112+AS35*D19)/AO51)*AP51","v":{"$error":"#VALUE!"}},{"$f":"MIN((Y108+AS35*D19)/AK51,(Y109+AS35*D19)/AL51,(Y110+AS35*D19)/AM51,(Y111+AS35*D19)/AN51,(Y112+AS35*D19)/AO51)*AP51","v":{"$error":"#VALUE!"}},{"$f":"MIN((Z108+AS35*D19)/AK51,(Z109+AS35*D19)/AL51,(Z110+AS35*D19)/AM51,(Z111+AS35*D19)/AN51,(Z112+AS35*D19)/AO51)*AP51","v":{"$error":"#VALUE!"}},{"$f":"MIN((AA108+AS35*D19)/AK51,(AA109+AS35*D19)/AL51,(AA110+AS35*D19)/AM51,(AA111+AS35*D19)/AN51,(AA112+AS35*D19)/AO51)*AP51","v":{"$error":"#VALUE!"}},{"$f":"MIN((AB108+AS35*D19)/AK51,(AB109+AS35*D19)/AL51,(AB110+AS35*D19)/AM51,(AB111+AS35*D19)/AN51,(AB112+AS35*D19)/AO51)*AP51","v":{"$error":"#VALUE!"}},{"$f":"MIN((AC108+AS35*D19)/AK51,(AC109+AS35*D19)/AL51,(AC110+AS35*D19)/AM51,(AC111+AS35*D19)/AN51,(AC112+AS35*D19)/AO51)*AP51","v":{"$error":"#VALUE!"}},{"$f":"MIN((AD108+AS35*D19)/AK51,(AD109+AS35*D19)/AL51,(AD110+AS35*D19)/AM51,(AD111+AS35*D19)/AN51,(AD112+AS35*D19)/AO51)*AP51","v":{"$error":"#VALUE!"}},{"$f":"MIN((AE108+AS35*D19)/AK51,(AE109+AS35*D19)/AL51,(AE110+AS35*D19)/AM51,(AE111+AS35*D19)/AN51,(AE112+AS35*D19)/AO51)*AP51","v":{"$error":"#VALUE!"}},{"$f":"MIN((AF108+AS35*D19)/AK51,(AF109+AS35*D19)/AL51,(AF110+AS35*D19)/AM51,(AF111+AS35*D19)/AN51,(AF112+AS35*D19)/AO51)*AP51","v":{"$error":"#VALUE!"}},{"$error":"#VALUE!"}]
[null,null,null,null,null,null,null,null,null,null,null,null,null,null,null,null,null,{"$f":"IF($AX$306,I27+VLOOKUP(Team!$Y33,Team!$E$30:$J$300,6,FALSE),I27+AH40+$D$21)+$D$19*$AG$24","v":{"$error":"#VALUE!"}},{"$f":"IF($AX$306,$R172,$R172+Q11)","v":{"$error":"#VALUE!"}},{"$error":"#VALUE!"},{"$error":"#VALUE!"},{"$error":"#VALUE!"},{"$error":"#VALUE!"},{"$error":"#VALUE!"},{"$error":"#VALUE!"},{"$error":"#VALUE!"},{"$error":"#VALUE!"},{"$error":"#VALUE!"},{"$error":"#VALUE!"},{"$error":"#VALUE!"},{"$error":"#VALUE!"},{"$error":"#VALUE!"},null,null,null,"",{"$f":"MIN((S115+AR35*D19)/AK50,(S116+AR35*D19)/AL50,(S117+AR35*D19)/AM50,(S118+AR35*D19)/AN50,(S119+AR35*D19)/AO50)*AP50","v":{"$error":"#VALUE!"}},{"$f":"MIN((T115+AR35*D19)/AK50,(T116+AR35*D19)/AL50,(T117+AR35*D19)/AM50,(T118+AR35*D19)/AN50,(T119+AR35*D19)/AO50)*AP50","v":{"$error":"#VALUE!"}},{"$f":"MIN((U115+AR35*D19)/AK50,(U116+AR35*D19)/AL50,(U117+AR35*D19)/AM50,(U118+AR35*D19)/AN50,(U119+AR35*D19)/AO50)*AP50","v":{"$error":"#VALUE!"}},{"$f":"MIN((V115+AR35*D19)/AK50,(V116+AR35*D19)/AL50,(V117+AR35*D19)/AM50,(V118+AR35*D19)/AN50,(V119+AR35*D19)/AO50)*AP50","v":{"$error":"#VALUE!"}},{"$f":"MIN((W115+AR35*D19)/AK50,(W116+AR35*D19)/AL50,(W117+AR35*D19)/AM50,(W118+AR35*D19)/AN50,(W119+AR35*D19)/AO50)*AP50","v":{"$error":"#VALUE!"}},{"$f":"MIN((X115+AR35*D19)/AK50,(X116+AR35*D19)/AL50,(X117+AR35*D19)/AM50,(X118+AR35*D19)/AN50,(X119+AR35*D19)/AO50)*AP50","v":{"$error":"#VALUE!"}},{"$f":"MIN((Y115+AR35*D19)/AK50,(Y116+AR35*D19)/AL50,(Y117+AR35*D19)/AM50,(Y118+AR35*D19)/AN50,(Y119+AR35*D19)/AO50)*AP50","v":{"$error":"#VALUE!"}},{"$f":"MIN((Z115+AR35*D19)/AK50,(Z116+AR35*D19)/AL50,(Z117+AR35*D19)/AM50,(Z118+AR35*D19)/AN50,(Z119+AR35*D19)/AO50)*AP50","v":{"$error":"#VALUE!"}},{"$f":"MIN((AA115+AR35*D19)/AK50,(AA116+AR35*D19)/AL50,(AA117+AR35*D19)/AM50,(AA118+AR35*D19)/AN50,(AA119+AR35*D19)/AO50)*AP50","v":{"$error":"#VALUE!"}},{"$f":"MIN((AB115+AR35*D19)/AK50,(AB116+AR35*D19)/AL50,(AB117+AR35*D19)/AM50,(AB118+AR35*D19)/AN50,(AB119+AR35*D19)/AO50)*AP50","v":{"$error":"#VALUE!"}},{"$f":"MIN((AC115+AR35*D19)/AK50,(AC116+AR35*D19)/AL50,(AC117+AR35*D19)/AM50,(AC118+AR35*D19)/AN50,(AC119+AR35*D19)/AO50)*AP50","v":{"$error":"#VALUE!"}},{"$f":"MIN((AD115+AR35*D19)/AK50,(AD116+AR35*D19)/AL50,(AD117+AR35*D19)/AM50,(AD118+AR35*D19)/AN50,(AD119+AR35*D19)/AO50)*AP50","v":{"$error":"#VALUE!"}},{"$f":"MIN((AE115+AR35*D19)/AK50,(AE116+AR35*D19)/AL50,(AE117+AR35*D19)/AM50,(AE118+AR35*D19)/AN50,(AE119+AR35*D19)/AO50)*AP50","v":{"$error":"#VALUE!"}},{"$f":"MIN((AF115+AR35*D19)/AK50,(AF116+AR35*D19)/AL50,(AF117+AR35*D19)/AM50,(AF118+AR35*D19)/AN50,(AF119+AR35*D19)/AO50)*AP50","v":{"$error":"#VALUE!"}},{"$error":"#VALUE!"},null,"",{"$f":"MIN((S115+AS35*D19)/AK51,(S116+AS35*D19)/AL51,(S117+AS35*D19)/AM51,(S118+AS35*D19)/AN51,(S119+AS35*D19)/AO51)*AP51","v":{"$error":"#VALUE!"}},{"$f":"MIN((T115+AS35*D19)/AK51,(T116+AS35*D19)/AL51,(T117+AS35*D19)/AM51,(T118+AS35*D19)/AN51,(T119+AS35*D19)/AO51)*AP51","v":{"$error":"#VALUE!"}},{"$f":"MIN((U115+AS35*D19)/AK51,(U116+AS35*D19)/AL51,(U117+AS35*D19)/AM51,(U118+AS35*D19)/AN51,(U119+AS35*D19)/AO51)*AP51","v":{"$error":"#VALUE!"}},{"$f":"MIN((V115+AS35*D19)/AK51,(V116+AS35*D19)/AL51,(V117+AS35*D19)/AM51,(V118+AS35*D19)/AN51,(V119+AS35*D19)/AO51)*AP51","v":{"$error":"#VALUE!"}},{"$f":"MIN((W115+AS35*D19)/AK51,(W116+AS35*D19)/AL51,(W117+AS35*D19)/AM51,(W118+AS35*D19)/AN51,(W119+AS35*D19)/AO51)*AP51","v":{"$error":"#VALUE!"}},{"$f":"MIN((X115+AS35*D19)/AK51,(X116+AS35*D19)/AL51,(X117+AS35*D19)/AM51,(X118+AS35*D19)/AN51,(X119+AS35*D19)/AO51)*AP51","v":{"$error":"#VALUE!"}},{"$f":"MIN((Y115+AS35*D19)/AK51,(Y116+AS35*D19)/AL51,(Y117+AS35*D19)/AM51,(Y118+AS35*D19)/AN51,(Y119+AS35*D19)/AO51)*AP51","v":{"$error":"#VALUE!"}},{"$f":"MIN((Z115+AS35*D19)/AK51,(Z116+AS35*D19)/AL51,(Z117+AS35*D19)/AM51,(Z118+AS35*D19)/AN51,(Z119+AS35*D19)/AO51)*AP51","v":{"$error":"#VALUE!"}},{"$f":"MIN((AA115+AS35*D19)/AK51,(AA116+AS35*D19)/AL51,(AA117+AS35*D19)/AM51,(AA118+AS35*D19)/AN51,(AA119+AS35*D19)/AO51)*AP51","v":{"$error":"#VALUE!"}},{"$f":"MIN((AB115+AS35*D19)/AK51,(AB116+AS35*D19)/AL51,(AB117+AS35*D19)/AM51,(AB118+AS35*D19)/AN51,(AB119+AS35*D19)/AO51)*AP51","v":{"$error":"#VALUE!"}},{"$f":"MIN((AC115+AS35*D19)/AK51,(AC116+AS35*D19)/AL51,(AC117+AS35*D19)/AM51,(AC118+AS35*D19)/AN51,(AC119+AS35*D19)/AO51)*AP51","v":{"$error":"#VALUE!"}},{"$f":"MIN((AD115+AS35*D19)/AK51,(AD116+AS35*D19)/AL51,(AD117+AS35*D19)/AM51,(AD118+AS35*D19)/AN51,(AD119+AS35*D19)/AO51)*AP51","v":{"$error":"#VALUE!"}},{"$f":"MIN((AE115+AS35*D19)/AK51,(AE116+AS35*D19)/AL51,(AE117+AS35*D19)/AM51,(AE118+AS35*D19)/AN51,(AE119+AS35*D19)/AO51)*AP51","v":{"$error":"#VALUE!"}},{"$f":"MIN((AF115+AS35*D19)/AK51,(AF116+AS35*D19)/AL51,(AF117+AS35*D19)/AM51,(AF118+AS35*D19)/AN51,(AF119+AS35*D19)/AO51)*AP51","v":{"$error":"#VALUE!"}},{"$error":"#VALUE!"}]
[null,null,null,null,null,null,null,null,null,null,null,null,null,null,null,null,null,{"$f":"IF($AX$306,J27+VLOOKUP(Team!$Z33,Team!$E$30:$J$300,6,FALSE),J27+AH41+$D$21)+$D$19*$AG$24","v":{"$error":"#VALUE!"}},{"$f":"IF($AX$306,$R173,$R173+Q12)","v":{"$error":"#VALUE!"}},{"$error":"#VALUE!"},{"$error":"#VALUE!"},{"$error":"#VALUE!"},{"$error":"#VALUE!"},{"$error":"#VALUE!"},{"$error":"#VALUE!"},{"$error":"#VALUE!"},{"$error":"#VALUE!"},{"$error":"#VALUE!"},{"$error":"#VALUE!"},{"$error":"#VALUE!"},{"$error":"#VALUE!"},{"$error":"#VALUE!"},null,null,null,"",{"$f":"MIN((S122+AR35*D19)/AK50,(S123+AR35*D19)/AL50,(S124+AR35*D19)/AM50,(S125+AR35*D19)/AN50,(S126+AR35*D19)/AO50)*AP50","v":{"$error":"#VALUE!"}},{"$f":"MIN((T122+AR35*D19)/AK50,(T123+AR35*D19)/AL50,(T124+AR35*D19)/AM50,(T125+AR35*D19)/AN50,(T126+AR35*D19)/AO50)*AP50","v":{"$error":"#VALUE!"}},{"$f":"MIN((U122+AR35*D19)/AK50,(U123+AR35*D19)/AL50,(U124+AR35*D19)/AM50,(U125+AR35*D19)/AN50,(U126+AR35*D19)/AO50)*AP50","v":{"$error":"#VALUE!"}},{"$f":"MIN((V122+AR35*D19)/AK50,(V123+AR35*D19)/AL50,(V124+AR35*D19)/AM50,(V125+AR35*D19)/AN50,(V126+AR35*D19)/AO50)*AP50","v":{"$error":"#VALUE!"}},{"$f":"MIN((W122+AR35*D19)/AK50,(W123+AR35*D19)/AL50,(W124+AR35*D19)/AM50,(W125+AR35*D19)/AN50,(W126+AR35*D19)/AO50)*AP50","v":{"$error":"#VALUE!"}},{"$f":"MIN((X122+AR35*D19)/AK50,(X123+AR35*D19)/AL50,(X124+AR35*D19)/AM50,(X125+AR35*D19)/AN50,(X126+AR35*D19)/AO50)*AP50","v":{"$error":"#VALUE!"}},{"$f":"MIN((Y122+AR35*D19)/AK50,(Y123+AR35*D19)/AL50,(Y124+AR35*D19)/AM50,(Y125+AR35*D19)/AN50,(Y126+AR35*D19)/AO50)*AP50","v":{"$error":"#VALUE!"}},{"$f":"MIN((Z122+AR35*D19)/AK50,(Z123+AR35*D19)/AL50,(Z124+AR35*D19)/AM50,(Z125+AR35*D19)/AN50,(Z126+AR35*D19)/AO50)*AP50","v":{"$error":"#VALUE!"}},{"$f":"MIN((AA122+AR35*D19)/AK50,(AA123+AR35*D19)/AL50,(AA124+AR35*D19)/AM50,(AA125+AR35*D19)/AN50,(AA126+AR35*D19)/AO50)*AP50","v":{"$error":"#VALUE!"}},{"$f":"MIN((AB122+AR35*D19)/AK50,(AB123+AR35*D19)/AL50,(AB124+AR35*D19)/AM50,(AB125+AR35*D19)/AN50,(AB126+AR35*D19)/AO50)*AP50","v":{"$error":"#VALUE!"}},{"$f":"MIN((AC122+AR35*D19)/AK50,(AC123+AR35*D19)/AL50,(AC124+AR35*D19)/AM50,(AC125+AR35*D19)/AN50,(AC126+AR35*D19)/AO50)*AP50","v":{"$error":"#VALUE!"}},{"$f":"MIN((AD122+AR35*D19)/AK50,(AD123+AR35*D19)/AL50,(AD124+AR35*D19)/AM50,(AD125+AR35*D19)/AN50,(AD126+AR35*D19)/AO50)*AP50","v":{"$error":"#VALUE!"}},{"$f":"MIN((AE122+AR35*D19)/AK50,(AE123+AR35*D19)/AL50,(AE124+AR35*D19)/AM50,(AE125+AR35*D19)/AN50,(AE126+AR35*D19)/AO50)*AP50","v":{"$error":"#VALUE!"}},{"$f":"MIN((AF122+AR35*D19)/AK50,(AF123+AR35*D19)/AL50,(AF124+AR35*D19)/AM50,(AF125+AR35*D19)/AN50,(AF126+AR35*D19)/AO50)*AP50","v":{"$error":"#VALUE!"}},{"$error":"#VALUE!"},null,"",{"$f":"MIN((S122+AS35*D19)/AK51,(S123+AS35*D19)/AL51,(S124+AS35*D19)/AM51,(S125+AS35*D19)/AN51,(S126+AS35*D19)/AO51)*AP51","v":{"$error":"#VALUE!"}},{"$f":"MIN((T122+AS35*D19)/AK51,(T123+AS35*D19)/AL51,(T124+AS35*D19)/AM51,(T125+AS35*D19)/AN51,(T126+AS35*D19)/AO51)*AP51","v":{"$error":"#VALUE!"}},{"$f":"MIN((U122+AS35*D19)/AK51,(U123+AS35*D19)/AL51,(U124+AS35*D19)/AM51,(U125+AS35*D19)/AN51,(U126+AS35*D19)/AO51)*AP51","v":{"$error":"#VALUE!"}},{"$f":"MIN((V122+AS35*D19)/AK51,(V123+AS35*D19)/AL51,(V124+AS35*D19)/AM51,(V125+AS35*D19)/AN51,(V126+AS35*D19)/AO51)*AP51","v":{"$error":"#VALUE!"}},{"$f":"MIN((W122+AS35*D19)/AK51,(W123+AS35*D19)/AL51,(W124+AS35*D19)/AM51,(W125+AS35*D19)/AN51,(W126+AS35*D19)/AO51)*AP51","v":{"$error":"#VALUE!"}},{"$f":"MIN((X122+AS35*D19)/AK51,(X123+AS35*D19)/AL51,(X124+AS35*D19)/AM51,(X125+AS35*D19)/AN51,(X126+AS35*D19)/AO51)*AP51","v":{"$error":"#VALUE!"}},{"$f":"MIN((Y122+AS35*D19)/AK51,(Y123+AS35*D19)/AL51,(Y124+AS35*D19)/AM51,(Y125+AS35*D19)/AN51,(Y126+AS35*D19)/AO51)*AP51","v":{"$error":"#VALUE!"}},{"$f":"MIN((Z122+AS35*D19)/AK51,(Z123+AS35*D19)/AL51,(Z124+AS35*D19)/AM51,(Z125+AS35*D19)/AN51,(Z126+AS35*D19)/AO51)*AP51","v":{"$error":"#VALUE!"}},{"$f":"MIN((AA122+AS35*D19)/AK51,(AA123+AS35*D19)/AL51,(AA124+AS35*D19)/AM51,(AA125+AS35*D19)/AN51,(AA126+AS35*D19)/AO51)*AP51","v":{"$error":"#VALUE!"}},{"$f":"MIN((AB122+AS35*D19)/AK51,(AB123+AS35*D19)/AL51,(AB124+AS35*D19)/AM51,(AB125+AS35*D19)/AN51,(AB126+AS35*D19)/AO51)*AP51","v":{"$error":"#VALUE!"}},{"$f":"MIN((AC122+AS35*D19)/AK51,(AC123+AS35*D19)/AL51,(AC124+AS35*D19)/AM51,(AC125+AS35*D19)/AN51,(AC126+AS35*D19)/AO51)*AP51","v":{"$error":"#VALUE!"}},{"$f":"MIN((AD122+AS35*D19)/AK51,(AD123+AS35*D19)/AL51,(AD124+AS35*D19)/AM51,(AD125+AS35*D19)/AN51,(AD126+AS35*D19)/AO51)*AP51","v":{"$error":"#VALUE!"}},{"$f":"MIN((AE122+AS35*D19)/AK51,(AE123+AS35*D19)/AL51,(AE124+AS35*D19)/AM51,(AE125+AS35*D19)/AN51,(AE126+AS35*D19)/AO51)*AP51","v":{"$error":"#VALUE!"}},{"$f":"MIN((AF122+AS35*D19)/AK51,(AF123+AS35*D19)/AL51,(AF124+AS35*D19)/AM51,(AF125+AS35*D19)/AN51,(AF126+AS35*D19)/AO51)*AP51","v":{"$error":"#VALUE!"}},{"$error":"#VALUE!"}]
[null,null,null,null,null,null,null,null,null,null,null,null,null,null,null,null,null,{"$f":"IF($AX$306,K27+VLOOKUP(Team!$AA33,Team!$E$30:$J$300,6,FALSE),K27+AH42+$D$21)+$D$19*$AG$24","v":{"$error":"#VALUE!"}},{"$f":"IF($AX$306,$R174,$R174+Q13)","v":{"$error":"#VALUE!"}},{"$error":"#VALUE!"},{"$error":"#VALUE!"},{"$error":"#VALUE!"},{"$error":"#VALUE!"},{"$error":"#VALUE!"},{"$error":"#VALUE!"},{"$error":"#VALUE!"},{"$error":"#VALUE!"},{"$error":"#VALUE!"},{"$error":"#VALUE!"},{"$error":"#VALUE!"},{"$error":"#VALUE!"},{"$error":"#VALUE!"},null,null,null,"",{"$f":"MIN((S129+AR35*D19)/AK50,(S130+AR35*D19)/AL50,(S131+AR35*D19)/AM50,(S132+AR35*D19)/AN50,(S133+AR35*D19)/AO50)*AP50","v":{"$error":"#VALUE!"}},{"$f":"MIN((T129+AR35*D19)/AK50,(T130+AR35*D19)/AL50,(T131+AR35*D19)/AM50,(T132+AR35*D19)/AN50,(T133+AR35*D19)/AO50)*AP50","v":{"$error":"#VALUE!"}},{"$f":"MIN((U129+AR35*D19)/AK50,(U130+AR35*D19)/AL50,(U131+AR35*D19)/AM50,(U132+AR35*D19)/AN50,(U133+AR35*D19)/AO50)*AP50","v":{"$error":"#VALUE!"}},{"$f":"MIN((V129+AR35*D19)/AK50,(V130+AR35*D19)/AL50,(V131+AR35*D19)/AM50,(V132+AR35*D19)/AN50,(V133+AR35*D19)/AO50)*AP50","v":{"$error":"#VALUE!"}},{"$f":"MIN((W129+AR35*D19)/AK50,(W130+AR35*D19)/AL50,(W131+AR35*D19)/AM50,(W132+AR35*D19)/AN50,(W133+AR35*D19)/AO50)*AP50","v":{"$error":"#VALUE!"}},{"$f":"MIN((X129+AR35*D19)/AK50,(X130+AR35*D19)/AL50,(X131+AR35*D19)/AM50,(X132+AR35*D19)/AN50,(X133+AR35*D19)/AO50)*AP50","v":{"$error":"#VALUE!"}},{"$f":"MIN((Y129+AR35*D19)/AK50,(Y130+AR35*D19)/AL50,(Y131+AR35*D19)/AM50,(Y132+AR35*D19)/AN50,(Y133+AR35*D19)/AO50)*AP50","v":{"$error":"#VALUE!"}},{"$f":"MIN((Z129+AR35*D19)/AK50,(Z130+AR35*D19)/AL50,(Z131+AR35*D19)/AM50,(Z132+AR35*D19)/AN50,(Z133+AR35*D19)/AO50)*AP50","v":{"$error":"#VALUE!"}},{"$f":"MIN((AA129+AR35*D19)/AK50,(AA130+AR35*D19)/AL50,(AA131+AR35*D19)/AM50,(AA132+AR35*D19)/AN50,(AA133+AR35*D19)/AO50)*AP50","v":{"$error":"#VALUE!"}},{"$f":"MIN((AB129+AR35*D19)/AK50,(AB130+AR35*D19)/AL50,(AB131+AR35*D19)/AM50,(AB132+AR35*D19)/AN50,(AB133+AR35*D19)/AO50)*AP50","v":{"$error":"#VALUE!"}},{"$f":"MIN((AC129+AR35*D19)/AK50,(AC130+AR35*D19)/AL50,(AC131+AR35*D19)/AM50,(AC132+AR35*D19)/AN50,(AC133+AR35*D19)/AO50)*AP50","v":{"$error":"#VALUE!"}},{"$f":"MIN((AD129+AR35*D19)/AK50,(AD130+AR35*D19)/AL50,(AD131+AR35*D19)/AM50,(AD132+AR35*D19)/AN50,(AD133+AR35*D19)/AO50)*AP50","v":{"$error":"#VALUE!"}},{"$f":"MIN((AE129+AR35*D19)/AK50,(AE130+AR35*D19)/AL50,(AE131+AR35*D19)/AM50,(AE132+AR35*D19)/AN50,(AE133+AR35*D19)/AO50)*AP50","v":{"$error":"#VALUE!"}},{"$f":"MIN((AF129+AR35*D19)/AK50,(AF130+AR35*D19)/AL50,(AF131+AR35*D19)/AM50,(AF132+AR35*D19)/AN50,(AF133+AR35*D19)/AO50)*AP50","v":{"$error":"#VALUE!"}},{"$error":"#VALUE!"},null,"",{"$f":"MIN((S129+AS35*D19)/AK51,(S130+AS35*D19)/AL51,(S131+AS35*D19)/AM51,(S132+AS35*D19)/AN51,(S133+AS35*D19)/AO51)*AP51","v":{"$error":"#VALUE!"}},{"$f":"MIN((T129+AS35*D19)/AK51,(T130+AS35*D19)/AL51,(T131+AS35*D19)/AM51,(T132+AS35*D19)/AN51,(T133+AS35*D19)/AO51)*AP51","v":{"$error":"#VALUE!"}},{"$f":"MIN((U129+AS35*D19)/AK51,(U130+AS35*D19)/AL51,(U131+AS35*D19)/AM51,(U132+AS35*D19)/AN51,(U133+AS35*D19)/AO51)*AP51","v":{"$error":"#VALUE!"}},{"$f":"MIN((V129+AS35*D19)/AK51,(V130+AS35*D19)/AL51,(V131+AS35*D19)/AM51,(V132+AS35*D19)/AN51,(V133+AS35*D19)/AO51)*AP51","v":{"$error":"#VALUE!"}},{"$f":"MIN((W129+AS35*D19)/AK51,(W130+AS35*D19)/AL51,(W131+AS35*D19)/AM51,(W132+AS35*D19)/AN51,(W133+AS35*D19)/AO51)*AP51","v":{"$error":"#VALUE!"}},{"$f":"MIN((X129+AS35*D19)/AK51,(X130+AS35*D19)/AL51,(X131+AS35*D19)/AM51,(X132+AS35*D19)/AN51,(X133+AS35*D19)/AO51)*AP51","v":{"$error":"#VALUE!"}},{"$f":"MIN((Y129+AS35*D19)/AK51,(Y130+AS35*D19)/AL51,(Y131+AS35*D19)/AM51,(Y132+AS35*D19)/AN51,(Y133+AS35*D19)/AO51)*AP51","v":{"$error":"#VALUE!"}},{"$f":"MIN((Z129+AS35*D19)/AK51,(Z130+AS35*D19)/AL51,(Z131+AS35*D19)/AM51,(Z132+AS35*D19)/AN51,(Z133+AS35*D19)/AO51)*AP51","v":{"$error":"#VALUE!"}},{"$f":"MIN((AA129+AS35*D19)/AK51,(AA130+AS35*D19)/AL51,(AA131+AS35*D19)/AM51,(AA132+AS35*D19)/AN51,(AA133+AS35*D19)/AO51)*AP51","v":{"$error":"#VALUE!"}},{"$f":"MIN((AB129+AS35*D19)/AK51,(AB130+AS35*D19)/AL51,(AB131+AS35*D19)/AM51,(AB132+AS35*D19)/AN51,(AB133+AS35*D19)/AO51)*AP51","v":{"$error":"#VALUE!"}},{"$f":"MIN((AC129+AS35*D19)/AK51,(AC130+AS35*D19)/AL51,(AC131+AS35*D19)/AM51,(AC132+AS35*D19)/AN51,(AC133+AS35*D19)/AO51)*AP51","v":{"$error":"#VALUE!"}},{"$f":"MIN((AD129+AS35*D19)/AK51,(AD130+AS35*D19)/AL51,(AD131+AS35*D19)/AM51,(AD132+AS35*D19)/AN51,(AD133+AS35*D19)/AO51)*AP51","v":{"$error":"#VALUE!"}},{"$f":"MIN((AE129+AS35*D19)/AK51,(AE130+AS35*D19)/AL51,(AE131+AS35*D19)/AM51,(AE132+AS35*D19)/AN51,(AE133+AS35*D19)/AO51)*AP51","v":{"$error":"#VALUE!"}},{"$f":"MIN((AF129+AS35*D19)/AK51,(AF130+AS35*D19)/AL51,(AF131+AS35*D19)/AM51,(AF132+AS35*D19)/AN51,(AF133+AS35*D19)/AO51)*AP51","v":{"$error":"#VALUE!"}},{"$error":"#VALUE!"}]
[null,null,null,null,null,null,null,null,null,null,null,null,null,null,null,null,null,{"$f":"IF($AX$306,L27+VLOOKUP(Team!$AB33,Team!$E$30:$J$300,6,FALSE),L27+AH43+$D$21)+$D$19*$AG$24","v":{"$error":"#VALUE!"}},{"$f":"IF($AX$306,$R175,$R175+Q14)","v":{"$error":"#VALUE!"}},{"$error":"#VALUE!"},{"$error":"#VALUE!"},{"$error":"#VALUE!"},{"$error":"#VALUE!"},{"$error":"#VALUE!"},{"$error":"#VALUE!"},{"$error":"#VALUE!"},{"$error":"#VALUE!"},{"$error":"#VALUE!"},{"$error":"#VALUE!"},{"$error":"#VALUE!"},{"$error":"#VALUE!"},{"$error":"#VALUE!"},null,null,null,"",{"$f":"MIN((S136+AR35*D19)/AK50,(S137+AR35*D19)/AL50,(S138+AR35*D19)/AM50,(S139+AR35*D19)/AN50,(S140+AR35*D19)/AO50)*AP50","v":{"$error":"#VALUE!"}},{"$f":"MIN((T136+AR35*D19)/AK50,(T137+AR35*D19)/AL50,(T138+AR35*D19)/AM50,(T139+AR35*D19)/AN50,(T140+AR35*D19)/AO50)*AP50","v":{"$error":"#VALUE!"}},{"$f":"MIN((U136+AR35*D19)/AK50,(U137+AR35*D19)/AL50,(U138+AR35*D19)/AM50,(U139+AR35*D19)/AN50,(U140+AR35*D19)/AO50)*AP50","v":{"$error":"#VALUE!"}},{"$f":"MIN((V136+AR35*D19)/AK50,(V137+AR35*D19)/AL50,(V138+AR35*D19)/AM50,(V139+AR35*D19)/AN50,(V140+AR35*D19)/AO50)*AP50","v":{"$error":"#VALUE!"}},{"$f":"MIN((W136+AR35*D19)/AK50,(W137+AR35*D19)/AL50,(W138+AR35*D19)/AM50,(W139+AR35*D19)/AN50,(W140+AR35*D19)/AO50)*AP50","v":{"$error":"#VALUE!"}},{"$f":"MIN((X136+AR35*D19)/AK50,(X137+AR35*D19)/AL50,(X138+AR35*D19)/AM50,(X139+AR35*D19)/AN50,(X140+AR35*D19)/AO50)*AP50","v":{"$error":"#VALUE!"}},{"$f":"MIN((Y136+AR35*D19)/AK50,(Y137+AR35*D19)/AL50,(Y138+AR35*D19)/AM50,(Y139+AR35*D19)/AN50,(Y140+AR35*D19)/AO50)*AP50","v":{"$error":"#VALUE!"}},{"$f":"MIN((Z136+AR35*D19)/AK50,(Z137+AR35*D19)/AL50,(Z138+AR35*D19)/AM50,(Z139+AR35*D19)/AN50,(Z140+AR35*D19)/AO50)*AP50","v":{"$error":"#VALUE!"}},{"$f":"MIN((AA136+AR35*D19)/AK50,(AA137+AR35*D19)/AL50,(AA138+AR35*D19)/AM50,(AA139+AR35*D19)/AN50,(AA140+AR35*D19)/AO50)*AP50","v":{"$error":"#VALUE!"}},{"$f":"MIN((AB136+AR35*D19)/AK50,(AB137+AR35*D19)/AL50,(AB138+AR35*D19)/AM50,(AB139+AR35*D19)/AN50,(AB140+AR35*D19)/AO50)*AP50","v":{"$error":"#VALUE!"}},{"$f":"MIN((AC136+AR35*D19)/AK50,(AC137+AR35*D19)/AL50,(AC138+AR35*D19)/AM50,(AC139+AR35*D19)/AN50,(AC140+AR35*D19)/AO50)*AP50","v":{"$error":"#VALUE!"}},{"$f":"MIN((AD136+AR35*D19)/AK50,(AD137+AR35*D19)/AL50,(AD138+AR35*D19)/AM50,(AD139+AR35*D19)/AN50,(AD140+AR35*D19)/AO50)*AP50","v":{"$error":"#VALUE!"}},{"$f":"MIN((AE136+AR35*D19)/AK50,(AE137+AR35*D19)/AL50,(AE138+AR35*D19)/AM50,(AE139+AR35*D19)/AN50,(AE140+AR35*D19)/AO50)*AP50","v":{"$error":"#VALUE!"}},{"$f":"MIN((AF136+AR35*D19)/AK50,(AF137+AR35*D19)/AL50,(AF138+AR35*D19)/AM50,(AF139+AR35*D19)/AN50,(AF140+AR35*D19)/AO50)*AP50","v":{"$error":"#VALUE!"}},{"$error":"#VALUE!"},null,"",{"$f":"MIN((S136+AS35*D19)/AK51,(S137+AS35*D19)/AL51,(S138+AS35*D19)/AM51,(S139+AS35*D19)/AN51,(S140+AS35*D19)/AO51)*AP51","v":{"$error":"#VALUE!"}},{"$f":"MIN((T136+AS35*D19)/AK51,(T137+AS35*D19)/AL51,(T138+AS35*D19)/AM51,(T139+AS35*D19)/AN51,(T140+AS35*D19)/AO51)*AP51","v":{"$error":"#VALUE!"}},{"$f":"MIN((U136+AS35*D19)/AK51,(U137+AS35*D19)/AL51,(U138+AS35*D19)/AM51,(U139+AS35*D19)/AN51,(U140+AS35*D19)/AO51)*AP51","v":{"$error":"#VALUE!"}},{"$f":"MIN((V136+AS35*D19)/AK51,(V137+AS35*D19)/AL51,(V138+AS35*D19)/AM51,(V139+AS35*D19)/AN51,(V140+AS35*D19)/AO51)*AP51","v":{"$error":"#VALUE!"}},{"$f":"MIN((W136+AS35*D19)/AK51,(W137+AS35*D19)/AL51,(W138+AS35*D19)/AM51,(W139+AS35*D19)/AN51,(W140+AS35*D19)/AO51)*AP51","v":{"$error":"#VALUE!"}},{"$f":"MIN((X136+AS35*D19)/AK51,(X137+AS35*D19)/AL51,(X138+AS35*D19)/AM51,(X139+AS35*D19)/AN51,(X140+AS35*D19)/AO51)*AP51","v":{"$error":"#VALUE!"}},{"$f":"MIN((Y136+AS35*D19)/AK51,(Y137+AS35*D19)/AL51,(Y138+AS35*D19)/AM51,(Y139+AS35*D19)/AN51,(Y140+AS35*D19)/AO51)*AP51","v":{"$error":"#VALUE!"}},{"$f":"MIN((Z136+AS35*D19)/AK51,(Z137+AS35*D19)/AL51,(Z138+AS35*D19)/AM51,(Z139+AS35*D19)/AN51,(Z140+AS35*D19)/AO51)*AP51","v":{"$error":"#VALUE!"}},{"$f":"MIN((AA136+AS35*D19)/AK51,(AA137+AS35*D19)/AL51,(AA138+AS35*D19)/AM51,(AA139+AS35*D19)/AN51,(AA140+AS35*D19)/AO51)*AP51","v":{"$error":"#VALUE!"}},{"$f":"MIN((AB136+AS35*D19)/AK51,(AB137+AS35*D19)/AL51,(AB138+AS35*D19)/AM51,(AB139+AS35*D19)/AN51,(AB140+AS35*D19)/AO51)*AP51","v":{"$error":"#VALUE!"}},{"$f":"MIN((AC136+AS35*D19)/AK51,(AC137+AS35*D19)/AL51,(AC138+AS35*D19)/AM51,(AC139+AS35*D19)/AN51,(AC140+AS35*D19)/AO51)*AP51","v":{"$error":"#VALUE!"}},{"$f":"MIN((AD136+AS35*D19)/AK51,(AD137+AS35*D19)/AL51,(AD138+AS35*D19)/AM51,(AD139+AS35*D19)/AN51,(AD140+AS35*D19)/AO51)*AP51","v":{"$error":"#VALUE!"}},{"$f":"MIN((AE136+AS35*D19)/AK51,(AE137+AS35*D19)/AL51,(AE138+AS35*D19)/AM51,(AE139+AS35*D19)/AN51,(AE140+AS35*D19)/AO51)*AP51","v":{"$error":"#VALUE!"}},{"$f":"MIN((AF136+AS35*D19)/AK51,(AF137+AS35*D19)/AL51,(AF138+AS35*D19)/AM51,(AF139+AS35*D19)/AN51,(AF140+AS35*D19)/AO51)*AP51","v":{"$error":"#VALUE!"}},{"$error":"#VALUE!"}]
[null,null,null,null,null,null,null,null,null,null,null,null,null,null,null,null,null,null,null,null,null,null,null,null,null,null,null,null,null,null,null,null,null,null,null,"",{"$f":"MIN((S143+AR35*D19)/AK50,(S144+AR35*D19)/AL50,(S145+AR35*D19)/AM50,(S146+AR35*D19)/AN50,(S147+AR35*D19)/AO50)*AP50","v":{"$error":"#VALUE!"}},{"$f":"MIN((T143+AR35*D19)/AK50,(T144+AR35*D19)/AL50,(T145+AR35*D19)/AM50,(T146+AR35*D19)/AN50,(T147+AR35*D19)/AO50)*AP50","v":{"$error":"#VALUE!"}},{"$f":"MIN((U143+AR35*D19)/AK50,(U144+AR35*D19)/AL50,(U145+AR35*D19)/AM50,(U146+AR35*D19)/AN50,(U147+AR35*D19)/AO50)*AP50","v":{"$error":"#VALUE!"}},{"$f":"MIN((V143+AR35*D19)/AK50,(V144+AR35*D19)/AL50,(V145+AR35*D19)/AM50,(V146+AR35*D19)/AN50,(V147+AR35*D19)/AO50)*AP50","v":{"$error":"#VALUE!"}},{"$f":"MIN((W143+AR35*D19)/AK50,(W144+AR35*D19)/AL50,(W145+AR35*D19)/AM50,(W146+AR35*D19)/AN50,(W147+AR35*D19)/AO50)*AP50","v":{"$error":"#VALUE!"}},{"$f":"MIN((X143+AR35*D19)/AK50,(X144+AR35*D19)/AL50,(X145+AR35*D19)/AM50,(X146+AR35*D19)/AN50,(X147+AR35*D19)/AO50)*AP50","v":{"$error":"#VALUE!"}},{"$f":"MIN((Y143+AR35*D19)/AK50,(Y144+AR35*D19)/AL50,(Y145+AR35*D19)/AM50,(Y146+AR35*D19)/AN50,(Y147+AR35*D19)/AO50)*AP50","v":{"$error":"#VALUE!"}},{"$f":"MIN((Z143+AR35*D19)/AK50,(Z144+AR35*D19)/AL50,(Z145+AR35*D19)/AM50,(Z146+AR35*D19)/AN50,(Z147+AR35*D19)/AO50)*AP50","v":{"$error":"#VALUE!"}},{"$f":"MIN((AA143+AR35*D19)/AK50,(AA144+AR35*D19)/AL50,(AA145+AR35*D19)/AM50,(AA146+AR35*D19)/AN50,(AA147+AR35*D19)/AO50)*AP50","v":{"$error":"#VALUE!"}},{"$f":"MIN((AB143+AR35*D19)/AK50,(AB144+AR35*D19)/AL50,(AB145+AR35*D19)/AM50,(AB146+AR35*D19)/AN50,(AB147+AR35*D19)/AO50)*AP50","v":{"$error":"#VALUE!"}},{"$f":"MIN((AC143+AR35*D19)/AK50,(AC144+AR35*D19)/AL50,(AC145+AR35*D19)/AM50,(AC146+AR35*D19)/AN50,(AC147+AR35*D19)/AO50)*AP50","v":{"$error":"#VALUE!"}},{"$f":"MIN((AD143+AR35*D19)/AK50,(AD144+AR35*D19)/AL50,(AD145+AR35*D19)/AM50,(AD146+AR35*D19)/AN50,(AD147+AR35*D19)/AO50)*AP50","v":{"$error":"#VALUE!"}},{"$f":"MIN((AE143+AR35*D19)/AK50,(AE144+AR35*D19)/AL50,(AE145+AR35*D19)/AM50,(AE146+AR35*D19)/AN50,(AE147+AR35*D19)/AO50)*AP50","v":{"$error":"#VALUE!"}},{"$f":"MIN((AF143+AR35*D19)/AK50,(AF144+AR35*D19)/AL50,(AF145+AR35*D19)/AM50,(AF146+AR35*D19)/AN50,(AF147+AR35*D19)/AO50)*AP50","v":{"$error":"#VALUE!"}},{"$error":"#VALUE!"},null,"",{"$f":"MIN((S143+AS35*D19)/AK51,(S144+AS35*D19)/AL51,(S145+AS35*D19)/AM51,(S146+AS35*D19)/AN51,(S147+AS35*D19)/AO51)*AP51","v":{"$error":"#VALUE!"}},{"$f":"MIN((T143+AS35*D19)/AK51,(T144+AS35*D19)/AL51,(T145+AS35*D19)/AM51,(T146+AS35*D19)/AN51,(T147+AS35*D19)/AO51)*AP51","v":{"$error":"#VALUE!"}},{"$f":"MIN((U143+AS35*D19)/AK51,(U144+AS35*D19)/AL51,(U145+AS35*D19)/AM51,(U146+AS35*D19)/AN51,(U147+AS35*D19)/AO51)*AP51","v":{"$error":"#VALUE!"}},{"$f":"MIN((V143+AS35*D19)/AK51,(V144+AS35*D19)/AL51,(V145+AS35*D19)/AM51,(V146+AS35*D19)/AN51,(V147+AS35*D19)/AO51)*AP51","v":{"$error":"#VALUE!"}},{"$f":"MIN((W143+AS35*D19)/AK51,(W144+AS35*D19)/AL51,(W145+AS35*D19)/AM51,(W146+AS35*D19)/AN51,(W147+AS35*D19)/AO51)*AP51","v":{"$error":"#VALUE!"}},{"$f":"MIN((X143+AS35*D19)/AK51,(X144+AS35*D19)/AL51,(X145+AS35*D19)/AM51,(X146+AS35*D19)/AN51,(X147+AS35*D19)/AO51)*AP51","v":{"$error":"#VALUE!"}},{"$f":"MIN((Y143+AS35*D19)/AK51,(Y144+AS35*D19)/AL51,(Y145+AS35*D19)/AM51,(Y146+AS35*D19)/AN51,(Y147+AS35*D19)/AO51)*AP51","v":{"$error":"#VALUE!"}},{"$f":"MIN((Z143+AS35*D19)/AK51,(Z144+AS35*D19)/AL51,(Z145+AS35*D19)/AM51,(Z146+AS35*D19)/AN51,(Z147+AS35*D19)/AO51)*AP51","v":{"$error":"#VALUE!"}},{"$f":"MIN((AA143+AS35*D19)/AK51,(AA144+AS35*D19)/AL51,(AA145+AS35*D19)/AM51,(AA146+AS35*D19)/AN51,(AA147+AS35*D19)/AO51)*AP51","v":{"$error":"#VALUE!"}},{"$f":"MIN((AB143+AS35*D19)/AK51,(AB144+AS35*D19)/AL51,(AB145+AS35*D19)/AM51,(AB146+AS35*D19)/AN51,(AB147+AS35*D19)/AO51)*AP51","v":{"$error":"#VALUE!"}},{"$f":"MIN((AC143+AS35*D19)/AK51,(AC144+AS35*D19)/AL51,(AC145+AS35*D19)/AM51,(AC146+AS35*D19)/AN51,(AC147+AS35*D19)/AO51)*AP51","v":{"$error":"#VALUE!"}},{"$f":"MIN((AD143+AS35*D19)/AK51,(AD144+AS35*D19)/AL51,(AD145+AS35*D19)/AM51,(AD146+AS35*D19)/AN51,(AD147+AS35*D19)/AO51)*AP51","v":{"$error":"#VALUE!"}},{"$f":"MIN((AE143+AS35*D19)/AK51,(AE144+AS35*D19)/AL51,(AE145+AS35*D19)/AM51,(AE146+AS35*D19)/AN51,(AE147+AS35*D19)/AO51)*AP51","v":{"$error":"#VALUE!"}},{"$f":"MIN((AF143+AS35*D19)/AK51,(AF144+AS35*D19)/AL51,(AF145+AS35*D19)/AM51,(AF146+AS35*D19)/AN51,(AF147+AS35*D19)/AO51)*AP51","v":{"$error":"#VALUE!"}},{"$error":"#VALUE!"}]
[null,null,null,null,null,null,null,null,null,null,null,null,null,null,null,null,null,{"$f":"G28","v":""},{"$f":"S170","v":"kit 1"},{"$f":"T170","v":"kit 2/3"},0,"kit 4",0,"kit 5","kit 6/7",0,0,"kit 8","kit 9",0,{"$f":"AE170","v":"kit 10"},{"$f":"AF170","v":"kit 11"},null,null,null,"",{"$f":"MIN((S150+AR35*D19)/AK50,(S151+AR35*D19)/AL50,(S152+AR35*D19)/AM50,(S153+AR35*D19)/AN50,(S154+AR35*D19)/AO50)*AP50","v":{"$error":"#VALUE!"}},{"$f":"MIN((T150+AR35*D19)/AK50,(T151+AR35*D19)/AL50,(T152+AR35*D19)/AM50,(T153+AR35*D19)/AN50,(T154+AR35*D19)/AO50)*AP50","v":{"$error":"#VALUE!"}},{"$f":"MIN((U150+AR35*D19)/AK50,(U151+AR35*D19)/AL50,(U152+AR35*D19)/AM50,(U153+AR35*D19)/AN50,(U154+AR35*D19)/AO50)*AP50","v":{"$error":"#VALUE!"}},{"$f":"MIN((V150+AR35*D19)/AK50,(V151+AR35*D19)/AL50,(V152+AR35*D19)/AM50,(V153+AR35*D19)/AN50,(V154+AR35*D19)/AO50)*AP50","v":{"$error":"#VALUE!"}},{"$f":"MIN((W150+AR35*D19)/AK50,(W151+AR35*D19)/AL50,(W152+AR35*D19)/AM50,(W153+AR35*D19)/AN50,(W154+AR35*D19)/AO50)*AP50","v":{"$error":"#VALUE!"}},{"$f":"MIN((X150+AR35*D19)/AK50,(X151+AR35*D19)/AL50,(X152+AR35*D19)/AM50,(X153+AR35*D19)/AN50,(X154+AR35*D19)/AO50)*AP50","v":{"$error":"#VALUE!"}},{"$f":"MIN((Y150+AR35*D19)/AK50,(Y151+AR35*D19)/AL50,(Y152+AR35*D19)/AM50,(Y153+AR35*D19)/AN50,(Y154+AR35*D19)/AO50)*AP50","v":{"$error":"#VALUE!"}},{"$f":"MIN((Z150+AR35*D19)/AK50,(Z151+AR35*D19)/AL50,(Z152+AR35*D19)/AM50,(Z153+AR35*D19)/AN50,(Z154+AR35*D19)/AO50)*AP50","v":{"$error":"#VALUE!"}},{"$f":"MIN((AA150+AR35*D19)/AK50,(AA151+AR35*D19)/AL50,(AA152+AR35*D19)/AM50,(AA153+AR35*D19)/AN50,(AA154+AR35*D19)/AO50)*AP50","v":{"$error":"#VALUE!"}},{"$f":"MIN((AB150+AR35*D19)/AK50,(AB151+AR35*D19)/AL50,(AB152+AR35*D19)/AM50,(AB153+AR35*D19)/AN50,(AB154+AR35*D19)/AO50)*AP50","v":{"$error":"#VALUE!"}},{"$f":"MIN((AC150+AR35*D19)/AK50,(AC151+AR35*D19)/AL50,(AC152+AR35*D19)/AM50,(AC153+AR35*D19)/AN50,(AC154+AR35*D19)/AO50)*AP50","v":{"$error":"#VALUE!"}},{"$f":"MIN((AD150+AR35*D19)/AK50,(AD151+AR35*D19)/AL50,(AD152+AR35*D19)/AM50,(AD153+AR35*D19)/AN50,(AD154+AR35*D19)/AO50)*AP50","v":{"$error":"#VALUE!"}},{"$f":"MIN((AE150+AR35*D19)/AK50,(AE151+AR35*D19)/AL50,(AE152+AR35*D19)/AM50,(AE153+AR35*D19)/AN50,(AE154+AR35*D19)/AO50)*AP50","v":{"$error":"#VALUE!"}},{"$f":"MIN((AF150+AR35*D19)/AK50,(AF151+AR35*D19)/AL50,(AF152+AR35*D19)/AM50,(AF153+AR35*D19)/AN50,(AF154+AR35*D19)/AO50)*AP50","v":{"$error":"#VALUE!"}},{"$error":"#VALUE!"},null,"",{"$f":"MIN((S150+AS35*D19)/AK51,(S151+AS35*D19)/AL51,(S152+AS35*D19)/AM51,(S153+AS35*D19)/AN51,(S154+AS35*D19)/AO51)*AP51","v":{"$error":"#VALUE!"}},{"$f":"MIN((T150+AS35*D19)/AK51,(T151+AS35*D19)/AL51,(T152+AS35*D19)/AM51,(T153+AS35*D19)/AN51,(T154+AS35*D19)/AO51)*AP51","v":{"$error":"#VALUE!"}},{"$f":"MIN((U150+AS35*D19)/AK51,(U151+AS35*D19)/AL51,(U152+AS35*D19)/AM51,(U153+AS35*D19)/AN51,(U154+AS35*D19)/AO51)*AP51","v":{"$error":"#VALUE!"}},{"$f":"MIN((V150+AS35*D19)/AK51,(V151+AS35*D19)/AL51,(V152+AS35*D19)/AM51,(V153+AS35*D19)/AN51,(V154+AS35*D19)/AO51)*AP51","v":{"$error":"#VALUE!"}},{"$f":"MIN((W150+AS35*D19)/AK51,(W151+AS35*D19)/AL51,(W152+AS35*D19)/AM51,(W153+AS35*D19)/AN51,(W154+AS35*D19)/AO51)*AP51","v":{"$error":"#VALUE!"}},{"$f":"MIN((X150+AS35*D19)/AK51,(X151+AS35*D19)/AL51,(X152+AS35*D19)/AM51,(X153+AS35*D19)/AN51,(X154+AS35*D19)/AO51)*AP51","v":{"$error":"#VALUE!"}},{"$f":"MIN((Y150+AS35*D19)/AK51,(Y151+AS35*D19)/AL51,(Y152+AS35*D19)/AM51,(Y153+AS35*D19)/AN51,(Y154+AS35*D19)/AO51)*AP51","v":{"$error":"#VALUE!"}},{"$f":"MIN((Z150+AS35*D19)/AK51,(Z151+AS35*D19)/AL51,(Z152+AS35*D19)/AM51,(Z153+AS35*D19)/AN51,(Z154+AS35*D19)/AO51)*AP51","v":{"$error":"#VALUE!"}},{"$f":"MIN((AA150+AS35*D19)/AK51,(AA151+AS35*D19)/AL51,(AA152+AS35*D19)/AM51,(AA153+AS35*D19)/AN51,(AA154+AS35*D19)/AO51)*AP51","v":{"$error":"#VALUE!"}},{"$f":"MIN((AB150+AS35*D19)/AK51,(AB151+AS35*D19)/AL51,(AB152+AS35*D19)/AM51,(AB153+AS35*D19)/AN51,(AB154+AS35*D19)/AO51)*AP51","v":{"$error":"#VALUE!"}},{"$f":"MIN((AC150+AS35*D19)/AK51,(AC151+AS35*D19)/AL51,(AC152+AS35*D19)/AM51,(AC153+AS35*D19)/AN51,(AC154+AS35*D19)/AO51)*AP51","v":{"$error":"#VALUE!"}},{"$f":"MIN((AD150+AS35*D19)/AK51,(AD151+AS35*D19)/AL51,(AD152+AS35*D19)/AM51,(AD153+AS35*D19)/AN51,(AD154+AS35*D19)/AO51)*AP51","v":{"$error":"#VALUE!"}},{"$f":"MIN((AE150+AS35*D19)/AK51,(AE151+AS35*D19)/AL51,(AE152+AS35*D19)/AM51,(AE153+AS35*D19)/AN51,(AE154+AS35*D19)/AO51)*AP51","v":{"$error":"#VALUE!"}},{"$f":"MIN((AF150+AS35*D19)/AK51,(AF151+AS35*D19)/AL51,(AF152+AS35*D19)/AM51,(AF153+AS35*D19)/AN51,(AF154+AS35*D19)/AO51)*AP51","v":{"$error":"#VALUE!"}},{"$error":"#VALUE!"}]
[null,null,null,null,null,null,null,null,null,null,null,null,null,null,null,null,null,{"$f":"IF($AX$306,H28+VLOOKUP(Team!$X34,Team!$E$30:$J$300,6,FALSE),H28+AH39+$D$21)+$D$19*$AG$25","v":{"$error":"#VALUE!"}},{"$f":"IF($AX$306,$R178,$R178+Q10)","v":{"$error":"#VALUE!"}},{"$f":"IF($AX$306,$R178,$R178+R10)","v":{"$error":"#VALUE!"}},{"$error":"#VALUE!"},{"$error":"#VALUE!"},{"$error":"#VALUE!"},{"$error":"#VALUE!"},{"$error":"#VALUE!"},{"$error":"#VALUE!"},{"$error":"#VALUE!"},{"$error":"#VALUE!"},{"$error":"#VALUE!"},{"$error":"#VALUE!"},{"$error":"#VALUE!"},{"$error":"#VALUE!"},null,null,null,"",{"$f":"MIN((S157+AR35*D19)/AK50,(S158+AR35*D19)/AL50,(S159+AR35*D19)/AM50,(S160+AR35*D19)/AN50,(S161+AR35*D19)/AO50)*AP50","v":{"$error":"#VALUE!"}},{"$f":"MIN((T157+AR35*D19)/AK50,(T158+AR35*D19)/AL50,(T159+AR35*D19)/AM50,(T160+AR35*D19)/AN50,(T161+AR35*D19)/AO50)*AP50","v":{"$error":"#VALUE!"}},{"$f":"MIN((U157+AR35*D19)/AK50,(U158+AR35*D19)/AL50,(U159+AR35*D19)/AM50,(U160+AR35*D19)/AN50,(U161+AR35*D19)/AO50)*AP50","v":{"$error":"#VALUE!"}},{"$f":"MIN((V157+AR35*D19)/AK50,(V158+AR35*D19)/AL50,(V159+AR35*D19)/AM50,(V160+AR35*D19)/AN50,(V161+AR35*D19)/AO50)*AP50","v":{"$error":"#VALUE!"}},{"$f":"MIN((W157+AR35*D19)/AK50,(W158+AR35*D19)/AL50,(W159+AR35*D19)/AM50,(W160+AR35*D19)/AN50,(W161+AR35*D19)/AO50)*AP50","v":{"$error":"#VALUE!"}},{"$f":"MIN((X157+AR35*D19)/AK50,(X158+AR35*D19)/AL50,(X159+AR35*D19)/AM50,(X160+AR35*D19)/AN50,(X161+AR35*D19)/AO50)*AP50","v":{"$error":"#VALUE!"}},{"$f":"MIN((Y157+AR35*D19)/AK50,(Y158+AR35*D19)/AL50,(Y159+AR35*D19)/AM50,(Y160+AR35*D19)/AN50,(Y161+AR35*D19)/AO50)*AP50","v":{"$error":"#VALUE!"}},{"$f":"MIN((Z157+AR35*D19)/AK50,(Z158+AR35*D19)/AL50,(Z159+AR35*D19)/AM50,(Z160+AR35*D19)/AN50,(Z161+AR35*D19)/AO50)*AP50","v":{"$error":"#VALUE!"}},{"$f":"MIN((AA157+AR35*D19)/AK50,(AA158+AR35*D19)/AL50,(AA159+AR35*D19)/AM50,(AA160+AR35*D19)/AN50,(AA161+AR35*D19)/AO50)*AP50","v":{"$error":"#VALUE!"}},{"$f":"MIN((AB157+AR35*D19)/AK50,(AB158+AR35*D19)/AL50,(AB159+AR35*D19)/AM50,(AB160+AR35*D19)/AN50,(AB161+AR35*D19)/AO50)*AP50","v":{"$error":"#VALUE!"}},{"$f":"MIN((AC157+AR35*D19)/AK50,(AC158+AR35*D19)/AL50,(AC159+AR35*D19)/AM50,(AC160+AR35*D19)/AN50,(AC161+AR35*D19)/AO50)*AP50","v":{"$error":"#VALUE!"}},{"$f":"MIN((AD157+AR35*D19)/AK50,(AD158+AR35*D19)/AL50,(AD159+AR35*D19)/AM50,(AD160+AR35*D19)/AN50,(AD161+AR35*D19)/AO50)*AP50","v":{"$error":"#VALUE!"}},{"$f":"MIN((AE157+AR35*D19)/AK50,(AE158+AR35*D19)/AL50,(AE159+AR35*D19)/AM50,(AE160+AR35*D19)/AN50,(AE161+AR35*D19)/AO50)*AP50","v":{"$error":"#VALUE!"}},{"$f":"MIN((AF157+AR35*D19)/AK50,(AF158+AR35*D19)/AL50,(AF159+AR35*D19)/AM50,(AF160+AR35*D19)/AN50,(AF161+AR35*D19)/AO50)*AP50","v":{"$error":"#VALUE!"}},{"$error":"#VALUE!"},null,"",{"$f":"MIN((S157+AS35*D19)/AK51,(S158+AS35*D19)/AL51,(S159+AS35*D19)/AM51,(S160+AS35*D19)/AN51,(S161+AS35*D19)/AO51)*AP51","v":{"$error":"#VALUE!"}},{"$f":"MIN((T157+AS35*D19)/AK51,(T158+AS35*D19)/AL51,(T159+AS35*D19)/AM51,(T160+AS35*D19)/AN51,(T161+AS35*D19)/AO51)*AP51","v":{"$error":"#VALUE!"}},{"$f":"MIN((U157+AS35*D19)/AK51,(U158+AS35*D19)/AL51,(U159+AS35*D19)/AM51,(U160+AS35*D19)/AN51,(U161+AS35*D19)/AO51)*AP51","v":{"$error":"#VALUE!"}},{"$f":"MIN((V157+AS35*D19)/AK51,(V158+AS35*D19)/AL51,(V159+AS35*D19)/AM51,(V160+AS35*D19)/AN51,(V161+AS35*D19)/AO51)*AP51","v":{"$error":"#VALUE!"}},{"$f":"MIN((W157+AS35*D19)/AK51,(W158+AS35*D19)/AL51,(W159+AS35*D19)/AM51,(W160+AS35*D19)/AN51,(W161+AS35*D19)/AO51)*AP51","v":{"$error":"#VALUE!"}},{"$f":"MIN((X157+AS35*D19)/AK51,(X158+AS35*D19)/AL51,(X159+AS35*D19)/AM51,(X160+AS35*D19)/AN51,(X161+AS35*D19)/AO51)*AP51","v":{"$error":"#VALUE!"}},{"$f":"MIN((Y157+AS35*D19)/AK51,(Y158+AS35*D19)/AL51,(Y159+AS35*D19)/AM51,(Y160+AS35*D19)/AN51,(Y161+AS35*D19)/AO51)*AP51","v":{"$error":"#VALUE!"}},{"$f":"MIN((Z157+AS35*D19)/AK51,(Z158+AS35*D19)/AL51,(Z159+AS35*D19)/AM51,(Z160+AS35*D19)/AN51,(Z161+AS35*D19)/AO51)*AP51","v":{"$error":"#VALUE!"}},{"$f":"MIN((AA157+AS35*D19)/AK51,(AA158+AS35*D19)/AL51,(AA159+AS35*D19)/AM51,(AA160+AS35*D19)/AN51,(AA161+AS35*D19)/AO51)*AP51","v":{"$error":"#VALUE!"}},{"$f":"MIN((AB157+AS35*D19)/AK51,(AB158+AS35*D19)/AL51,(AB159+AS35*D19)/AM51,(AB160+AS35*D19)/AN51,(AB161+AS35*D19)/AO51)*AP51","v":{"$error":"#VALUE!"}},{"$f":"MIN((AC157+AS35*D19)/AK51,(AC158+AS35*D19)/AL51,(AC159+AS35*D19)/AM51,(AC160+AS35*D19)/AN51,(AC161+AS35*D19)/AO51)*AP51","v":{"$error":"#VALUE!"}},{"$f":"MIN((AD157+AS35*D19)/AK51,(AD158+AS35*D19)/AL51,(AD159+AS35*D19)/AM51,(AD160+AS35*D19)/AN51,(AD161+AS35*D19)/AO51)*AP51","v":{"$error":"#VALUE!"}},{"$f":"MIN((AE157+AS35*D19)/AK51,(AE158+AS35*D19)/AL51,(AE159+AS35*D19)/AM51,(AE160+AS35*D19)/AN51,(AE161+AS35*D19)/AO51)*AP51","v":{"$error":"#VALUE!"}},{"$f":"MIN((AF157+AS35*D19)/AK51,(AF158+AS35*D19)/AL51,(AF159+AS35*D19)/AM51,(AF160+AS35*D19)/AN51,(AF161+AS35*D19)/AO51)*AP51","v":{"$error":"#VALUE!"}},{"$error":"#VALUE!"}]
[null,null,null,null,null,null,null,null,null,null,null,null,null,null,null,null,null,{"$f":"IF($AX$306,I28+VLOOKUP(Team!$Y34,Team!$E$30:$J$300,6,FALSE),I28+AH40+$D$21)+$D$19*$AG$25","v":{"$error":"#VALUE!"}},{"$f":"IF($AX$306,$R179,$R179+Q11)","v":{"$error":"#VALUE!"}},{"$error":"#VALUE!"},{"$error":"#VALUE!"},{"$error":"#VALUE!"},{"$error":"#VALUE!"},{"$error":"#VALUE!"},{"$error":"#VALUE!"},{"$error":"#VALUE!"},{"$error":"#VALUE!"},{"$error":"#VALUE!"},{"$error":"#VALUE!"},{"$error":"#VALUE!"},{"$error":"#VALUE!"},{"$error":"#VALUE!"},null,null,null,"",{"$f":"MIN((S164+AR35*D19)/AK50,(S165+AR35*D19)/AL50,(S166+AR35*D19)/AM50,(S167+AR35*D19)/AN50,(S168+AR35*D19)/AO50)*AP50","v":{"$error":"#VALUE!"}},{"$f":"MIN((T164+AR35*D19)/AK50,(T165+AR35*D19)/AL50,(T166+AR35*D19)/AM50,(T167+AR35*D19)/AN50,(T168+AR35*D19)/AO50)*AP50","v":{"$error":"#VALUE!"}},{"$f":"MIN((U164+AR35*D19)/AK50,(U165+AR35*D19)/AL50,(U166+AR35*D19)/AM50,(U167+AR35*D19)/AN50,(U168+AR35*D19)/AO50)*AP50","v":{"$error":"#VALUE!"}},{"$f":"MIN((V164+AR35*D19)/AK50,(V165+AR35*D19)/AL50,(V166+AR35*D19)/AM50,(V167+AR35*D19)/AN50,(V168+AR35*D19)/AO50)*AP50","v":{"$error":"#VALUE!"}},{"$f":"MIN((W164+AR35*D19)/AK50,(W165+AR35*D19)/AL50,(W166+AR35*D19)/AM50,(W167+AR35*D19)/AN50,(W168+AR35*D19)/AO50)*AP50","v":{"$error":"#VALUE!"}},{"$f":"MIN((X164+AR35*D19)/AK50,(X165+AR35*D19)/AL50,(X166+AR35*D19)/AM50,(X167+AR35*D19)/AN50,(X168+AR35*D19)/AO50)*AP50","v":{"$error":"#VALUE!"}},{"$f":"MIN((Y164+AR35*D19)/AK50,(Y165+AR35*D19)/AL50,(Y166+AR35*D19)/AM50,(Y167+AR35*D19)/AN50,(Y168+AR35*D19)/AO50)*AP50","v":{"$error":"#VALUE!"}},{"$f":"MIN((Z164+AR35*D19)/AK50,(Z165+AR35*D19)/AL50,(Z166+AR35*D19)/AM50,(Z167+AR35*D19)/AN50,(Z168+AR35*D19)/AO50)*AP50","v":{"$error":"#VALUE!"}},{"$f":"MIN((AA164+AR35*D19)/AK50,(AA165+AR35*D19)/AL50,(AA166+AR35*D19)/AM50,(AA167+AR35*D19)/AN50,(AA168+AR35*D19)/AO50)*AP50","v":{"$error":"#VALUE!"}},{"$f":"MIN((AB164+AR35*D19)/AK50,(AB165+AR35*D19)/AL50,(AB166+AR35*D19)/AM50,(AB167+AR35*D19)/AN50,(AB168+AR35*D19)/AO50)*AP50","v":{"$error":"#VALUE!"}},{"$f":"MIN((AC164+AR35*D19)/AK50,(AC165+AR35*D19)/AL50,(AC166+AR35*D19)/AM50,(AC167+AR35*D19)/AN50,(AC168+AR35*D19)/AO50)*AP50","v":{"$error":"#VALUE!"}},{"$f":"MIN((AD164+AR35*D19)/AK50,(AD165+AR35*D19)/AL50,(AD166+AR35*D19)/AM50,(AD167+AR35*D19)/AN50,(AD168+AR35*D19)/AO50)*AP50","v":{"$error":"#VALUE!"}},{"$f":"MIN((AE164+AR35*D19)/AK50,(AE165+AR35*D19)/AL50,(AE166+AR35*D19)/AM50,(AE167+AR35*D19)/AN50,(AE168+AR35*D19)/AO50)*AP50","v":{"$error":"#VALUE!"}},{"$f":"MIN((AF164+AR35*D19)/AK50,(AF165+AR35*D19)/AL50,(AF166+AR35*D19)/AM50,(AF167+AR35*D19)/AN50,(AF168+AR35*D19)/AO50)*AP50","v":{"$error":"#VALUE!"}},{"$error":"#VALUE!"},null,"",{"$f":"MIN((S164+AS35*D19)/AK51,(S165+AS35*D19)/AL51,(S166+AS35*D19)/AM51,(S167+AS35*D19)/AN51,(S168+AS35*D19)/AO51)*AP51","v":{"$error":"#VALUE!"}},{"$f":"MIN((T164+AS35*D19)/AK51,(T165+AS35*D19)/AL51,(T166+AS35*D19)/AM51,(T167+AS35*D19)/AN51,(T168+AS35*D19)/AO51)*AP51","v":{"$error":"#VALUE!"}},{"$f":"MIN((U164+AS35*D19)/AK51,(U165+AS35*D19)/AL51,(U166+AS35*D19)/AM51,(U167+AS35*D19)/AN51,(U168+AS35*D19)/AO51)*AP51","v":{"$error":"#VALUE!"}},{"$f":"MIN((V164+AS35*D19)/AK51,(V165+AS35*D19)/AL51,(V166+AS35*D19)/AM51,(V167+AS35*D19)/AN51,(V168+AS35*D19)/AO51)*AP51","v":{"$error":"#VALUE!"}},{"$f":"MIN((W164+AS35*D19)/AK51,(W165+AS35*D19)/AL51,(W166+AS35*D19)/AM51,(W167+AS35*D19)/AN51,(W168+AS35*D19)/AO51)*AP51","v":{"$error":"#VALUE!"}},{"$f":"MIN((X164+AS35*D19)/AK51,(X165+AS35*D19)/AL51,(X166+AS35*D19)/AM51,(X167+AS35*D19)/AN51,(X168+AS35*D19)/AO51)*AP51","v":{"$error":"#VALUE!"}},{"$f":"MIN((Y164+AS35*D19)/AK51,(Y165+AS35*D19)/AL51,(Y166+AS35*D19)/AM51,(Y167+AS35*D19)/AN51,(Y168+AS35*D19)/AO51)*AP51","v":{"$error":"#VALUE!"}},{"$f":"MIN((Z164+AS35*D19)/AK51,(Z165+AS35*D19)/AL51,(Z166+AS35*D19)/AM51,(Z167+AS35*D19)/AN51,(Z168+AS35*D19)/AO51)*AP51","v":{"$error":"#VALUE!"}},{"$f":"MIN((AA164+AS35*D19)/AK51,(AA165+AS35*D19)/AL51,(AA166+AS35*D19)/AM51,(AA167+AS35*D19)/AN51,(AA168+AS35*D19)/AO51)*AP51","v":{"$error":"#VALUE!"}},{"$f":"MIN((AB164+AS35*D19)/AK51,(AB165+AS35*D19)/AL51,(AB166+AS35*D19)/AM51,(AB167+AS35*D19)/AN51,(AB168+AS35*D19)/AO51)*AP51","v":{"$error":"#VALUE!"}},{"$f":"MIN((AC164+AS35*D19)/AK51,(AC165+AS35*D19)/AL51,(AC166+AS35*D19)/AM51,(AC167+AS35*D19)/AN51,(AC168+AS35*D19)/AO51)*AP51","v":{"$error":"#VALUE!"}},{"$f":"MIN((AD164+AS35*D19)/AK51,(AD165+AS35*D19)/AL51,(AD166+AS35*D19)/AM51,(AD167+AS35*D19)/AN51,(AD168+AS35*D19)/AO51)*AP51","v":{"$error":"#VALUE!"}},{"$f":"MIN((AE164+AS35*D19)/AK51,(AE165+AS35*D19)/AL51,(AE166+AS35*D19)/AM51,(AE167+AS35*D19)/AN51,(AE168+AS35*D19)/AO51)*AP51","v":{"$error":"#VALUE!"}},{"$f":"MIN((AF164+AS35*D19)/AK51,(AF165+AS35*D19)/AL51,(AF166+AS35*D19)/AM51,(AF167+AS35*D19)/AN51,(AF168+AS35*D19)/AO51)*AP51","v":{"$error":"#VALUE!"}},{"$error":"#VALUE!"}]
[null,null,null,null,null,null,null,null,null,null,null,null,null,null,null,null,null,{"$f":"IF($AX$306,J28+VLOOKUP(Team!$Z34,Team!$E$30:$J$300,6,FALSE),J28+AH41+$D$21)+$D$19*$AG$25","v":{"$error":"#VALUE!"}},{"$f":"IF($AX$306,$R180,$R180+Q12)","v":{"$error":"#VALUE!"}},{"$error":"#VALUE!"},{"$error":"#VALUE!"},{"$error":"#VALUE!"},{"$error":"#VALUE!"},{"$error":"#VALUE!"},{"$error":"#VALUE!"},{"$error":"#VALUE!"},{"$error":"#VALUE!"},{"$error":"#VALUE!"},{"$error":"#VALUE!"},{"$error":"#VALUE!"},{"$error":"#VALUE!"},{"$error":"#VALUE!"},null,null,null,"",{"$f":"MIN((S171+AR35*D19)/AK50,(S172+AR35*D19)/AL50,(S173+AR35*D19)/AM50,(S174+AR35*D19)/AN50,(S175+AR35*D19)/AO50)*AP50","v":{"$error":"#VALUE!"}},{"$f":"MIN((T171+AR35*D19)/AK50,(T172+AR35*D19)/AL50,(T173+AR35*D19)/AM50,(T174+AR35*D19)/AN50,(T175+AR35*D19)/AO50)*AP50","v":{"$error":"#VALUE!"}},{"$f":"MIN((U171+AR35*D19)/AK50,(U172+AR35*D19)/AL50,(U173+AR35*D19)/AM50,(U174+AR35*D19)/AN50,(U175+AR35*D19)/AO50)*AP50","v":{"$error":"#VALUE!"}},{"$f":"MIN((V171+AR35*D19)/AK50,(V172+AR35*D19)/AL50,(V173+AR35*D19)/AM50,(V174+AR35*D19)/AN50,(V175+AR35*D19)/AO50)*AP50","v":{"$error":"#VALUE!"}},{"$f":"MIN((W171+AR35*D19)/AK50,(W172+AR35*D19)/AL50,(W173+AR35*D19)/AM50,(W174+AR35*D19)/AN50,(W175+AR35*D19)/AO50)*AP50","v":{"$error":"#VALUE!"}},{"$f":"MIN((X171+AR35*D19)/AK50,(X172+AR35*D19)/AL50,(X173+AR35*D19)/AM50,(X174+AR35*D19)/AN50,(X175+AR35*D19)/AO50)*AP50","v":{"$error":"#VALUE!"}},{"$f":"MIN((Y171+AR35*D19)/AK50,(Y172+AR35*D19)/AL50,(Y173+AR35*D19)/AM50,(Y174+AR35*D19)/AN50,(Y175+AR35*D19)/AO50)*AP50","v":{"$error":"#VALUE!"}},{"$f":"MIN((Z171+AR35*D19)/AK50,(Z172+AR35*D19)/AL50,(Z173+AR35*D19)/AM50,(Z174+AR35*D19)/AN50,(Z175+AR35*D19)/AO50)*AP50","v":{"$error":"#VALUE!"}},{"$f":"MIN((AA171+AR35*D19)/AK50,(AA172+AR35*D19)/AL50,(AA173+AR35*D19)/AM50,(AA174+AR35*D19)/AN50,(AA175+AR35*D19)/AO50)*AP50","v":{"$error":"#VALUE!"}},{"$f":"MIN((AB171+AR35*D19)/AK50,(AB172+AR35*D19)/AL50,(AB173+AR35*D19)/AM50,(AB174+AR35*D19)/AN50,(AB175+AR35*D19)/AO50)*AP50","v":{"$error":"#VALUE!"}},{"$f":"MIN((AC171+AR35*D19)/AK50,(AC172+AR35*D19)/AL50,(AC173+AR35*D19)/AM50,(AC174+AR35*D19)/AN50,(AC175+AR35*D19)/AO50)*AP50","v":{"$error":"#VALUE!"}},{"$f":"MIN((AD171+AR35*D19)/AK50,(AD172+AR35*D19)/AL50,(AD173+AR35*D19)/AM50,(AD174+AR35*D19)/AN50,(AD175+AR35*D19)/AO50)*AP50","v":{"$error":"#VALUE!"}},{"$f":"MIN((AE171+AR35*D19)/AK50,(AE172+AR35*D19)/AL50,(AE173+AR35*D19)/AM50,(AE174+AR35*D19)/AN50,(AE175+AR35*D19)/AO50)*AP50","v":{"$error":"#VALUE!"}},{"$f":"MIN((AF171+AR35*D19)/AK50,(AF172+AR35*D19)/AL50,(AF173+AR35*D19)/AM50,(AF174+AR35*D19)/AN50,(AF175+AR35*D19)/AO50)*AP50","v":{"$error":"#VALUE!"}},{"$error":"#VALUE!"},null,"",{"$f":"MIN((S171+AS35*D19)/AK51,(S172+AS35*D19)/AL51,(S173+AS35*D19)/AM51,(S174+AS35*D19)/AN51,(S175+AS35*D19)/AO51)*AP51","v":{"$error":"#VALUE!"}},{"$f":"MIN((T171+AS35*D19)/AK51,(T172+AS35*D19)/AL51,(T173+AS35*D19)/AM51,(T174+AS35*D19)/AN51,(T175+AS35*D19)/AO51)*AP51","v":{"$error":"#VALUE!"}},{"$f":"MIN((U171+AS35*D19)/AK51,(U172+AS35*D19)/AL51,(U173+AS35*D19)/AM51,(U174+AS35*D19)/AN51,(U175+AS35*D19)/AO51)*AP51","v":{"$error":"#VALUE!"}},{"$f":"MIN((V171+AS35*D19)/AK51,(V172+AS35*D19)/AL51,(V173+AS35*D19)/AM51,(V174+AS35*D19)/AN51,(V175+AS35*D19)/AO51)*AP51","v":{"$error":"#VALUE!"}},{"$f":"MIN((W171+AS35*D19)/AK51,(W172+AS35*D19)/AL51,(W173+AS35*D19)/AM51,(W174+AS35*D19)/AN51,(W175+AS35*D19)/AO51)*AP51","v":{"$error":"#VALUE!"}},{"$f":"MIN((X171+AS35*D19)/AK51,(X172+AS35*D19)/AL51,(X173+AS35*D19)/AM51,(X174+AS35*D19)/AN51,(X175+AS35*D19)/AO51)*AP51","v":{"$error":"#VALUE!"}},{"$f":"MIN((Y171+AS35*D19)/AK51,(Y172+AS35*D19)/AL51,(Y173+AS35*D19)/AM51,(Y174+AS35*D19)/AN51,(Y175+AS35*D19)/AO51)*AP51","v":{"$error":"#VALUE!"}},{"$f":"MIN((Z171+AS35*D19)/AK51,(Z172+AS35*D19)/AL51,(Z173+AS35*D19)/AM51,(Z174+AS35*D19)/AN51,(Z175+AS35*D19)/AO51)*AP51","v":{"$error":"#VALUE!"}},{"$f":"MIN((AA171+AS35*D19)/AK51,(AA172+AS35*D19)/AL51,(AA173+AS35*D19)/AM51,(AA174+AS35*D19)/AN51,(AA175+AS35*D19)/AO51)*AP51","v":{"$error":"#VALUE!"}},{"$f":"MIN((AB171+AS35*D19)/AK51,(AB172+AS35*D19)/AL51,(AB173+AS35*D19)/AM51,(AB174+AS35*D19)/AN51,(AB175+AS35*D19)/AO51)*AP51","v":{"$error":"#VALUE!"}},{"$f":"MIN((AC171+AS35*D19)/AK51,(AC172+AS35*D19)/AL51,(AC173+AS35*D19)/AM51,(AC174+AS35*D19)/AN51,(AC175+AS35*D19)/AO51)*AP51","v":{"$error":"#VALUE!"}},{"$f":"MIN((AD171+AS35*D19)/AK51,(AD172+AS35*D19)/AL51,(AD173+AS35*D19)/AM51,(AD174+AS35*D19)/AN51,(AD175+AS35*D19)/AO51)*AP51","v":{"$error":"#VALUE!"}},{"$f":"MIN((AE171+AS35*D19)/AK51,(AE172+AS35*D19)/AL51,(AE173+AS35*D19)/AM51,(AE174+AS35*D19)/AN51,(AE175+AS35*D19)/AO51)*AP51","v":{"$error":"#VALUE!"}},{"$f":"MIN((AF171+AS35*D19)/AK51,(AF172+AS35*D19)/AL51,(AF173+AS35*D19)/AM51,(AF174+AS35*D19)/AN51,(AF175+AS35*D19)/AO51)*AP51","v":{"$error":"#VALUE!"}},{"$error":"#VALUE!"}]
[null,null,null,null,null,null,null,null,null,null,null,null,null,null,null,null,null,{"$f":"IF($AX$306,K28+VLOOKUP(Team!$AA34,Team!$E$30:$J$300,6,FALSE),K28+AH42+$D$21)+$D$19*$AG$25","v":{"$error":"#VALUE!"}},{"$f":"IF($AX$306,$R181,$R181+Q13)","v":{"$error":"#VALUE!"}},{"$error":"#VALUE!"},{"$error":"#VALUE!"},{"$error":"#VALUE!"},{"$error":"#VALUE!"},{"$error":"#VALUE!"},{"$error":"#VALUE!"},{"$error":"#VALUE!"},{"$error":"#VALUE!"},{"$error":"#VALUE!"},{"$error":"#VALUE!"},{"$error":"#VALUE!"},{"$error":"#VALUE!"},{"$error":"#VALUE!"},null,null,null,"",{"$f":"MIN((S178+$AR$35*$D$19)/$AK$50,(S179+$AR$35*$D$19)/$AL$50,(S180+$AR$35*$D$19)/$AM$50,(S181+$AR$35*$D$19)/$AN$50,(S182+$AR$35*$D$19)/$AO$50)*$AP$50","v":{"$error":"#VALUE!"}},{"$f":"MIN((T178+AR35*D19)/AK50,(T179+AR35*D19)/AL50,(T180+AR35*D19)/AM50,(T181+AR35*D19)/AN50,(T182+AR35*D19)/AO50)*AP50","v":{"$error":"#VALUE!"}},{"$f":"MIN((U178+AR35*D19)/AK50,(U179+AR35*D19)/AL50,(U180+AR35*D19)/AM50,(U181+AR35*D19)/AN50,(U182+AR35*D19)/AO50)*AP50","v":{"$error":"#VALUE!"}},{"$f":"MIN((V178+AR35*D19)/AK50,(V179+AR35*D19)/AL50,(V180+AR35*D19)/AM50,(V181+AR35*D19)/AN50,(V182+AR35*D19)/AO50)*AP50","v":{"$error":"#VALUE!"}},{"$f":"MIN((W178+AR35*D19)/AK50,(W179+AR35*D19)/AL50,(W180+AR35*D19)/AM50,(W181+AR35*D19)/AN50,(W182+AR35*D19)/AO50)*AP50","v":{"$error":"#VALUE!"}},{"$f":"MIN((X178+AR35*D19)/AK50,(X179+AR35*D19)/AL50,(X180+AR35*D19)/AM50,(X181+AR35*D19)/AN50,(X182+AR35*D19)/AO50)*AP50","v":{"$error":"#VALUE!"}},{"$f":"MIN((Y178+AR35*D19)/AK50,(Y179+AR35*D19)/AL50,(Y180+AR35*D19)/AM50,(Y181+AR35*D19)/AN50,(Y182+AR35*D19)/AO50)*AP50","v":{"$error":"#VALUE!"}},{"$f":"MIN((Z178+AR35*D19)/AK50,(Z179+AR35*D19)/AL50,(Z180+AR35*D19)/AM50,(Z181+AR35*D19)/AN50,(Z182+AR35*D19)/AO50)*AP50","v":{"$error":"#VALUE!"}},{"$f":"MIN((AA178+AR35*D19)/AK50,(AA179+AR35*D19)/AL50,(AA180+AR35*D19)/AM50,(AA181+AR35*D19)/AN50,(AA182+AR35*D19)/AO50)*AP50","v":{"$error":"#VALUE!"}},{"$f":"MIN((AB178+AR35*D19)/AK50,(AB179+AR35*D19)/AL50,(AB180+AR35*D19)/AM50,(AB181+AR35*D19)/AN50,(AB182+AR35*D19)/AO50)*AP50","v":{"$error":"#VALUE!"}},{"$f":"MIN((AC178+AR35*D19)/AK50,(AC179+AR35*D19)/AL50,(AC180+AR35*D19)/AM50,(AC181+AR35*D19)/AN50,(AC182+AR35*D19)/AO50)*AP50","v":{"$error":"#VALUE!"}},{"$f":"MIN((AD178+AR35*D19)/AK50,(AD179+AR35*D19)/AL50,(AD180+AR35*D19)/AM50,(AD181+AR35*D19)/AN50,(AD182+AR35*D19)/AO50)*AP50","v":{"$error":"#VALUE!"}},{"$f":"MIN((AE178+AR35*D19)/AK50,(AE179+AR35*D19)/AL50,(AE180+AR35*D19)/AM50,(AE181+AR35*D19)/AN50,(AE182+AR35*D19)/AO50)*AP50","v":{"$error":"#VALUE!"}},{"$f":"MIN((AF178+AR35*D19)/AK50,(AF179+AR35*D19)/AL50,(AF180+AR35*D19)/AM50,(AF181+AR35*D19)/AN50,(AF182+AR35*D19)/AO50)*AP50","v":{"$error":"#VALUE!"}},{"$error":"#VALUE!"},null,"",{"$f":"MIN((S178+AS35*D19)/AK51,(S179+AS35*D19)/AL51,(S180+AS35*D19)/AM51,(S181+AS35*D19)/AN51,(S182+AS35*D19)/AO51)*AP51","v":{"$error":"#VALUE!"}},{"$f":"MIN((T178+AS35*D19)/AK51,(T179+AS35*D19)/AL51,(T180+AS35*D19)/AM51,(T181+AS35*D19)/AN51,(T182+AS35*D19)/AO51)*AP51","v":{"$error":"#VALUE!"}},{"$f":"MIN((U178+AS35*D19)/AK51,(U179+AS35*D19)/AL51,(U180+AS35*D19)/AM51,(U181+AS35*D19)/AN51,(U182+AS35*D19)/AO51)*AP51","v":{"$error":"#VALUE!"}},{"$f":"MIN((V178+AS35*D19)/AK51,(V179+AS35*D19)/AL51,(V180+AS35*D19)/AM51,(V181+AS35*D19)/AN51,(V182+AS35*D19)/AO51)*AP51","v":{"$error":"#VALUE!"}},{"$f":"MIN((W178+AS35*D19)/AK51,(W179+AS35*D19)/AL51,(W180+AS35*D19)/AM51,(W181+AS35*D19)/AN51,(W182+AS35*D19)/AO51)*AP51","v":{"$error":"#VALUE!"}},{"$f":"MIN((X178+AS35*D19)/AK51,(X179+AS35*D19)/AL51,(X180+AS35*D19)/AM51,(X181+AS35*D19)/AN51,(X182+AS35*D19)/AO51)*AP51","v":{"$error":"#VALUE!"}},{"$f":"MIN((Y178+AS35*D19)/AK51,(Y179+AS35*D19)/AL51,(Y180+AS35*D19)/AM51,(Y181+AS35*D19)/AN51,(Y182+AS35*D19)/AO51)*AP51","v":{"$error":"#VALUE!"}},{"$f":"MIN((Z178+AS35*D19)/AK51,(Z179+AS35*D19)/AL51,(Z180+AS35*D19)/AM51,(Z181+AS35*D19)/AN51,(Z182+AS35*D19)/AO51)*AP51","v":{"$error":"#VALUE!"}},{"$f":"MIN((AA178+AS35*D19)/AK51,(AA179+AS35*D19)/AL51,(AA180+AS35*D19)/AM51,(AA181+AS35*D19)/AN51,(AA182+AS35*D19)/AO51)*AP51","v":{"$error":"#VALUE!"}},{"$f":"MIN((AB178+AS35*D19)/AK51,(AB179+AS35*D19)/AL51,(AB180+AS35*D19)/AM51,(AB181+AS35*D19)/AN51,(AB182+AS35*D19)/AO51)*AP51","v":{"$error":"#VALUE!"}},{"$f":"MIN((AC178+AS35*D19)/AK51,(AC179+AS35*D19)/AL51,(AC180+AS35*D19)/AM51,(AC181+AS35*D19)/AN51,(AC182+AS35*D19)/AO51)*AP51","v":{"$error":"#VALUE!"}},{"$f":"MIN((AD178+AS35*D19)/AK51,(AD179+AS35*D19)/AL51,(AD180+AS35*D19)/AM51,(AD181+AS35*D19)/AN51,(AD182+AS35*D19)/AO51)*AP51","v":{"$error":"#VALUE!"}},{"$f":"MIN((AE178+AS35*D19)/AK51,(AE179+AS35*D19)/AL51,(AE180+AS35*D19)/AM51,(AE181+AS35*D19)/AN51,(AE182+AS35*D19)/AO51)*AP51","v":{"$error":"#VALUE!"}},{"$f":"MIN((AF178+AS35*D19)/AK51,(AF179+AS35*D19)/AL51,(AF180+AS35*D19)/AM51,(AF181+AS35*D19)/AN51,(AF182+AS35*D19)/AO51)*AP51","v":{"$error":"#VALUE!"}},{"$error":"#VALUE!"}]
[null,null,null,null,null,null,null,null,null,null,null,null,null,null,null,null,null,{"$f":"IF($AX$306,L28+VLOOKUP(Team!$AB34,Team!$E$30:$J$300,6,FALSE),L28+AH43+$D$21)+$D$19*$AG$25","v":{"$error":"#VALUE!"}},{"$f":"IF($AX$306,$R182,$R182+Q14)","v":{"$error":"#VALUE!"}},{"$error":"#VALUE!"},{"$error":"#VALUE!"},{"$error":"#VALUE!"},{"$error":"#VALUE!"},{"$error":"#VALUE!"},{"$error":"#VALUE!"},{"$error":"#VALUE!"},{"$error":"#VALUE!"},{"$error":"#VALUE!"},{"$error":"#VALUE!"},{"$error":"#VALUE!"},{"$error":"#VALUE!"},{"$error":"#VALUE!"},null,null,null,{"$f":"AJ209","v":""},{"$f":"MIN((S185+$AR$35*$D$19)/$AK$50,(S186+$AR$35*$D$19)/$AL$50,(S187+$AR$35*$D$19)/$AM$50,(S188+$AR$35*$D$19)/$AN$50,(S189+$AR$35*$D$19)/$AO$50)*$AP$50","v":{"$error":"#VALUE!"}},{"$error":"#VALUE!"},{"$error":"#VALUE!"},{"$error":"#VALUE!"},{"$error":"#VALUE!"},{"$error":"#VALUE!"},{"$error":"#VALUE!"},{"$error":"#VALUE!"},{"$error":"#VALUE!"},{"$error":"#VALUE!"},{"$error":"#VALUE!"},{"$error":"#VALUE!"},{"$error":"#VALUE!"},{"$error":"#VALUE!"},{"$error":"#VALUE!"},null,"",{"$f":"MIN((S185+$AS$35*$D$19)/$AK$51,(S186+$AS$35*$D$19)/$AL$51,(S187+$AS$35*$D$19)/$AM$51,(S188+$AS$35*$D$19)/$AN$51,(S189+$AS$35*$D$19)/$AO$51)*$AP$51","v":{"$error":"#VALUE!"}},{"$error":"#VALUE!"},{"$error":"#VALUE!"},{"$error":"#VALUE!"},{"$error":"#VALUE!"},{"$error":"#VALUE!"},{"$error":"#VALUE!"},{"$error":"#VALUE!"},{"$error":"#VALUE!"},{"$error":"#VALUE!"},{"$error":"#VALUE!"},{"$error":"#VALUE!"},{"$error":"#VALUE!"},{"$error":"#VALUE!"},{"$error":"#VALUE!"}]
[null,null,null,null,null,null,null,null,null,null,null,null,null,null,null,null,null,null,null,null,null,null,null,null,null,null,null,null,null,null,null,null,null,null,null,"",{"$f":"MIN((S192+$AR$35*$D$19)/$AK$50,(S193+$AR$35*$D$19)/$AL$50,(S194+$AR$35*$D$19)/$AM$50,(S195+$AR$35*$D$19)/$AN$50,(S196+$AR$35*$D$19)/$AO$50)*$AP$50","v":{"$error":"#VALUE!"}},{"$error":"#VALUE!"},{"$error":"#VALUE!"},{"$error":"#VALUE!"},{"$error":"#VALUE!"},{"$error":"#VALUE!"},{"$error":"#VALUE!"},{"$error":"#VALUE!"},{"$error":"#VALUE!"},{"$error":"#VALUE!"},{"$error":"#VALUE!"},{"$error":"#VALUE!"},{"$error":"#VALUE!"},{"$error":"#VALUE!"},{"$error":"#VALUE!"},null,"",{"$f":"MIN((S192+$AS$35*$D$19)/$AK$51,(S193+$AS$35*$D$19)/$AL$51,(S194+$AS$35*$D$19)/$AM$51,(S195+$AS$35*$D$19)/$AN$51,(S196+$AS$35*$D$19)/$AO$51)*$AP$51","v":{"$error":"#VALUE!"}},{"$error":"#VALUE!"},{"$error":"#VALUE!"},{"$error":"#VALUE!"},{"$error":"#VALUE!"},{"$error":"#VALUE!"},{"$error":"#VALUE!"},{"$error":"#VALUE!"},{"$error":"#VALUE!"},{"$error":"#VALUE!"},{"$error":"#VALUE!"},{"$error":"#VALUE!"},{"$error":"#VALUE!"},{"$error":"#VALUE!"},{"$error":"#VALUE!"}]
[null,null,null,null,null,null,null,null,null,null,null,null,null,null,null,null,null,{"$f":"G29","v":""},{"$f":"S170","v":"kit 1"},{"$f":"T170","v":"kit 2/3"},0,"kit 4",0,"kit 5","kit 6/7",0,0,"kit 8","kit 9",0,{"$f":"AE170","v":"kit 10"},{"$f":"AF170","v":"kit 11"},null,null,null,"",{"$f":"MIN((S199+$AR$35*$D$19)/$AK$50,(S200+$AR$35*$D$19)/$AL$50,(S201+$AR$35*$D$19)/$AM$50,(S202+$AR$35*$D$19)/$AN$50,(S203+$AR$35*$D$19)/$AO$50)*$AP$50","v":{"$error":"#VALUE!"}},{"$error":"#VALUE!"},{"$error":"#VALUE!"},{"$error":"#VALUE!"},{"$error":"#VALUE!"},{"$error":"#VALUE!"},{"$error":"#VALUE!"},{"$error":"#VALUE!"},{"$error":"#VALUE!"},{"$error":"#VALUE!"},{"$error":"#VALUE!"},{"$error":"#VALUE!"},{"$error":"#VALUE!"},{"$error":"#VALUE!"},{"$error":"#VALUE!"},null,"",{"$f":"MIN((S199+$AS$35*$D$19)/$AK$51,(S200+$AS$35*$D$19)/$AL$51,(S201+$AS$35*$D$19)/$AM$51,(S202+$AS$35*$D$19)/$AN$51,(S203+$AS$35*$D$19)/$AO$51)*$AP$51","v":{"$error":"#VALUE!"}},{"$error":"#VALUE!"},{"$error":"#VALUE!"},{"$error":"#VALUE!"},{"$error":"#VALUE!"},{"$error":"#VALUE!"},{"$error":"#VALUE!"},{"$error":"#VALUE!"},{"$error":"#VALUE!"},{"$error":"#VALUE!"},{"$error":"#VALUE!"},{"$error":"#VALUE!"},{"$error":"#VALUE!"},{"$error":"#VALUE!"},{"$error":"#VALUE!"}]
[null,null,null,null,null,null,null,null,null,null,null,null,null,null,null,null,null,{"$f":"IF($AX$306,H29+VLOOKUP(Team!$X35,Team!$E$30:$J$300,6,FALSE),H29+AH39+$D$21)+$D$19*$AG$26","v":{"$error":"#VALUE!"}},{"$f":"IF($AX$306,$R185,$R185+Q10)","v":{"$error":"#VALUE!"}},{"$f":"IF($AX$306,$R185,$R185+R10)","v":{"$error":"#VALUE!"}},{"$error":"#VALUE!"},{"$error":"#VALUE!"},{"$error":"#VALUE!"},{"$error":"#VALUE!"},{"$error":"#VALUE!"},{"$error":"#VALUE!"},{"$error":"#VALUE!"},{"$error":"#VALUE!"},{"$error":"#VALUE!"},{"$error":"#VALUE!"},{"$error":"#VALUE!"},{"$error":"#VALUE!"},null,null,null,"",{"$f":"MIN((S206+$AR$35*$D$19)/$AK$50,(S207+$AR$35*$D$19)/$AL$50,(S208+$AR$35*$D$19)/$AM$50,(S209+$AR$35*$D$19)/$AN$50,(S210+$AR$35*$D$19)/$AO$50)*$AP$50","v":{"$error":"#VALUE!"}},{"$error":"#VALUE!"},{"$error":"#VALUE!"},{"$error":"#VALUE!"},{"$error":"#VALUE!"},{"$error":"#VALUE!"},{"$error":"#VALUE!"},{"$error":"#VALUE!"},{"$error":"#VALUE!"},{"$error":"#VALUE!"},{"$error":"#VALUE!"},{"$error":"#VALUE!"},{"$error":"#VALUE!"},{"$error":"#VALUE!"},{"$error":"#VALUE!"},null,{"$f":"AJ212","v":""},{"$f":"MIN((S206+$AS$35*$D$19)/$AK$51,(S207+$AS$35*$D$19)/$AL$51,(S208+$AS$35*$D$19)/$AM$51,(S209+$AS$35*$D$19)/$AN$51,(S210+$AS$35*$D$19)/$AO$51)*$AP$51","v":{"$error":"#VALUE!"}},{"$error":"#VALUE!"},{"$error":"#VALUE!"},{"$error":"#VALUE!"},{"$error":"#VALUE!"},{"$error":"#VALUE!"},{"$error":"#VALUE!"},{"$error":"#VALUE!"},{"$error":"#VALUE!"},{"$error":"#VALUE!"},{"$error":"#VALUE!"},{"$error":"#VALUE!"},{"$error":"#VALUE!"},{"$error":"#VALUE!"},{"$f":"MAX(BB185:BO185)","v":{"$error":"#VALUE!"}}]
[null,null,null,null,null,null,null,null,null,null,null,null,null,null,null,null,null,{"$f":"IF($AX$306,I29+VLOOKUP(Team!$Y35,Team!$E$30:$J$300,6,FALSE),I29+AH40+$D$21)+$D$19*$AG$26","v":{"$error":"#VALUE!"}},{"$f":"IF($AX$306,$R186,$R186+Q11)","v":{"$error":"#VALUE!"}},{"$error":"#VALUE!"},{"$error":"#VALUE!"},{"$error":"#VALUE!"},{"$error":"#VALUE!"},{"$error":"#VALUE!"},{"$error":"#VALUE!"},{"$error":"#VALUE!"},{"$error":"#VALUE!"},{"$error":"#VALUE!"},{"$error":"#VALUE!"},{"$error":"#VALUE!"},{"$error":"#VALUE!"},{"$error":"#VALUE!"},null,null,null,0,{"$f":"MIN((S213+$AR$35*$D$19)/$AK$50,(S214+$AR$35*$D$19)/$AL$50,(S215+$AR$35*$D$19)/$AM$50,(S216+$AR$35*$D$19)/$AN$50,(S217+$AR$35*$D$19)/$AO$50)*$AP$50","v":{"$error":"#VALUE!"}},{"$error":"#VALUE!"},{"$error":"#VALUE!"},{"$error":"#VALUE!"},{"$error":"#VALUE!"},{"$error":"#VALUE!"},{"$error":"#VALUE!"},{"$error":"#VALUE!"},{"$error":"#VALUE!"},{"$error":"#VALUE!"},{"$error":"#VALUE!"},{"$error":"#VALUE!"},{"$error":"#VALUE!"},{"$error":"#VALUE!"},{"$error":"#VALUE!"},null,{"$f":"AJ213","v":0},{"$f":"MIN((S213+$AS$35*$D$19)/$AK$51,(S214+$AS$35*$D$19)/$AL$51,(S215+$AS$35*$D$19)/$AM$51,(S216+$AS$35*$D$19)/$AN$51,(S217+$AS$35*$D$19)/$AO$51)*$AP$51","v":{"$error":"#VALUE!"}},{"$error":"#VALUE!"},{"$error":"#VALUE!"},{"$error":"#VALUE!"},{"$error":"#VALUE!"},{"$error":"#VALUE!"},{"$error":"#VALUE!"},{"$error":"#VALUE!"},{"$error":"#VALUE!"},{"$error":"#VALUE!"},{"$error":"#VALUE!"},{"$error":"#VALUE!"},{"$error":"#VALUE!"},{"$error":"#VALUE!"},{"$f":"MAX(BB186:BO186)","v":{"$error":"#VALUE!"}}]
[null,null,null,null,null,null,null,null,null,null,null,null,null,null,null,null,null,{"$f":"IF($AX$306,J29+VLOOKUP(Team!$Z35,Team!$E$30:$J$300,6,FALSE),J29+AH41+$D$21)+$D$19*$AG$26","v":{"$error":"#VALUE!"}},{"$f":"IF($AX$306,$R187,$R187+Q12)","v":{"$error":"#VALUE!"}},{"$error":"#VALUE!"},{"$error":"#VALUE!"},{"$error":"#VALUE!"},{"$error":"#VALUE!"},{"$error":"#VALUE!"},{"$error":"#VALUE!"},{"$error":"#VALUE!"},{"$error":"#VALUE!"},{"$error":"#VALUE!"},{"$error":"#VALUE!"},{"$error":"#VALUE!"},{"$error":"#VALUE!"},{"$error":"#VALUE!"},null,null,null,0,{"$f":"MIN((S220+$AR$35*$D$19)/$AK$50,(S221+$AR$35*$D$19)/$AL$50,(S222+$AR$35*$D$19)/$AM$50,(S223+$AR$35*$D$19)/$AN$50,(S224+$AR$35*$D$19)/$AO$50)*$AP$50","v":{"$error":"#VALUE!"}},{"$error":"#VALUE!"},{"$error":"#VALUE!"},{"$error":"#VALUE!"},{"$error":"#VALUE!"},{"$error":"#VALUE!"},{"$error":"#VALUE!"},{"$error":"#VALUE!"},{"$error":"#VALUE!"},{"$error":"#VALUE!"},{"$error":"#VALUE!"},{"$error":"#VALUE!"},{"$error":"#VALUE!"},{"$error":"#VALUE!"},{"$error":"#VALUE!"},null,{"$f":"AJ214","v":0},{"$f":"MIN((S220+$AS$35*$D$19)/$AK$51,(S221+$AS$35*$D$19)/$AL$51,(S222+$AS$35*$D$19)/$AM$51,(S223+$AS$35*$D$19)/$AN$51,(S224+$AS$35*$D$19)/$AO$51)*$AP$51","v":{"$error":"#VALUE!"}},{"$error":"#VALUE!"},{"$error":"#VALUE!"},{"$error":"#VALUE!"},{"$error":"#VALUE!"},{"$error":"#VALUE!"},{"$error":"#VALUE!"},{"$error":"#VALUE!"},{"$error":"#VALUE!"},{"$error":"#VALUE!"},{"$error":"#VALUE!"},{"$error":"#VALUE!"},{"$error":"#VALUE!"},{"$error":"#VALUE!"},{"$f":"MAX(BB187:BO187)","v":{"$error":"#VALUE!"}}]
[null,null,null,null,null,null,null,null,null,null,null,null,null,null,null,null,null,{"$f":"IF($AX$306,K29+VLOOKUP(Team!$AA35,Team!$E$30:$J$300,6,FALSE),K29+AH42+$D$21)+$D$19*$AG$26","v":{"$error":"#VALUE!"}},{"$f":"IF($AX$306,$R188,$R188+Q13)","v":{"$error":"#VALUE!"}},{"$error":"#VALUE!"},{"$error":"#VALUE!"},{"$error":"#VALUE!"},{"$error":"#VALUE!"},{"$error":"#VALUE!"},{"$error":"#VALUE!"},{"$error":"#VALUE!"},{"$error":"#VALUE!"},{"$error":"#VALUE!"},{"$error":"#VALUE!"},{"$error":"#VALUE!"},{"$error":"#VALUE!"},{"$error":"#VALUE!"},null,null,null,0,{"$f":"MIN((S227+$AR$35*$D$19)/$AK$50,(S228+$AR$35*$D$19)/$AL$50,(S229+$AR$35*$D$19)/$AM$50,(S230+$AR$35*$D$19)/$AN$50,(S231+$AR$35*$D$19)/$AO$50)*$AP$50","v":{"$error":"#VALUE!"}},{"$error":"#VALUE!"},{"$error":"#VALUE!"},{"$error":"#VALUE!"},{"$error":"#VALUE!"},{"$error":"#VALUE!"},{"$error":"#VALUE!"},{"$error":"#VALUE!"},{"$error":"#VALUE!"},{"$error":"#VALUE!"},{"$error":"#VALUE!"},{"$error":"#VALUE!"},{"$error":"#VALUE!"},{"$error":"#VALUE!"},{"$error":"#VALUE!"},null,{"$f":"AJ215","v":0},{"$f":"MIN((S227+$AS$35*$D$19)/$AK$51,(S228+$AS$35*$D$19)/$AL$51,(S229+$AS$35*$D$19)/$AM$51,(S230+$AS$35*$D$19)/$AN$51,(S231+$AS$35*$D$19)/$AO$51)*$AP$51","v":{"$error":"#VALUE!"}},{"$error":"#VALUE!"},{"$error":"#VALUE!"},{"$error":"#VALUE!"},{"$error":"#VALUE!"},{"$error":"#VALUE!"},{"$error":"#VALUE!"},{"$error":"#VALUE!"},{"$error":"#VALUE!"},{"$error":"#VALUE!"},{"$error":"#VALUE!"},{"$error":"#VALUE!"},{"$error":"#VALUE!"},{"$error":"#VALUE!"},{"$f":"MAX(BB188:BO188)","v":{"$error":"#VALUE!"}}]
[null,null,null,null,null,null,null,null,null,null,null,null,null,null,null,null,null,{"$f":"IF($AX$306,L29+VLOOKUP(Team!$AB35,Team!$E$30:$J$300,6,FALSE),L29+AH43+$D$21)+$D$19*$AG$26","v":{"$error":"#VALUE!"}},{"$f":"IF($AX$306,$R189,$R189+Q14)","v":{"$error":"#VALUE!"}},{"$error":"#VALUE!"},{"$error":"#VALUE!"},{"$error":"#VALUE!"},{"$error":"#VALUE!"},{"$error":"#VALUE!"},{"$error":"#VALUE!"},{"$error":"#VALUE!"},{"$error":"#VALUE!"},{"$error":"#VALUE!"},{"$error":"#VALUE!"},{"$error":"#VALUE!"},{"$error":"#VALUE!"},{"$error":"#VALUE!"}]
[null,null,null,null,null,null,null,null,null,null,null,null,null,null,null,null,null,27,null,null,null,null,null,null,null,null,null,null,null,null,null,null,null,null,null,11,{"$f":"Q9","v":"kit 1"},"kit 2/3",0,"kit 4",0,"kit 5","kit 6/7",0,0,"kit 8",{"$f":"AA9","v":"kit 9"},{"$f":"AB9","v":0},{"$f":"AC9","v":"kit 10"},{"$f":"AD9","v":"kit 11"},"MAX","gain minimum pour une pilule par position"]
[null,null,null,null,null,null,null,null,null,null,null,null,null,null,null,null,null,{"$f":"G30","v":""},{"$f":"S170","v":"kit 1"},{"$f":"T170","v":"kit 2/3"},0,"kit 4",0,"kit 5","kit 6/7",0,0,"kit 8","kit 9",0,{"$f":"AE170","v":"kit 10"},{"$f":"AF170","v":"kit 11"},null,null,null,{"$f":"R58","v":""},{"$f":"MIN((S59+AT35*D19)/AK52,(S60+AT35*D19)/AL52,(S61+AT35*D19)/AM52,(S62+AT35*D19)/AN52,(S63+AT35*D19)/AO52)*AP52","v":{"$error":"#VALUE!"}},{"$f":"MIN((T59+AT35*D19)/AK52,(T60+AT35*D19)/AL52,(T61+AT35*D19)/AM52,(T62+AT35*D19)/AN52,(T63+AT35*D19)/AO52)*AP52","v":{"$error":"#VALUE!"}},{"$f":"MIN((U59+AT35*D19)/AK52,(U60+AT35*D19)/AL52,(U61+AT35*D19)/AM52,(U62+AT35*D19)/AN52,(U63+AT35*D19)/AO52)*AP52","v":{"$error":"#VALUE!"}},{"$f":"MIN((V59+AT35*D19)/AK52,(V60+AT35*D19)/AL52,(V61+AT35*D19)/AM52,(V62+AT35*D19)/AN52,(V63+AT35*D19)/AO52)*AP52","v":{"$error":"#VALUE!"}},{"$f":"MIN((W59+AT35*D19)/AK52,(W60+AT35*D19)/AL52,(W61+AT35*D19)/AM52,(W62+AT35*D19)/AN52,(W63+AT35*D19)/AO52)*AP52","v":{"$error":"#VALUE!"}},{"$f":"MIN((X59+AT35*D19)/AK52,(X60+AT35*D19)/AL52,(X61+AT35*D19)/AM52,(X62+AT35*D19)/AN52,(X63+AT35*D19)/AO52)*AP52","v":{"$error":"#VALUE!"}},{"$f":"MIN((Y59+AT35*D19)/AK52,(Y60+AT35*D19)/AL52,(Y61+AT35*D19)/AM52,(Y62+AT35*D19)/AN52,(Y63+AT35*D19)/AO52)*AP52","v":{"$error":"#VALUE!"}},{"$f":"MIN((Z59+AT35*D19)/AK52,(Z60+AT35*D19)/AL52,(Z61+AT35*D19)/AM52,(Z62+AT35*D19)/AN52,(Z63+AT35*D19)/AO52)*AP52","v":{"$error":"#VALUE!"}},{"$f":"MIN((AA59+AT35*D19)/AK52,(AA60+AT35*D19)/AL52,(AA61+AT35*D19)/AM52,(AA62+AT35*D19)/AN52,(AA63+AT35*D19)/AO52)*AP52","v":{"$error":"#VALUE!"}},{"$f":"MIN((AB59+AT35*D19)/AK52,(AB60+AT35*D19)/AL52,(AB61+AT35*D19)/AM52,(AB62+AT35*D19)/AN52,(AB63+AT35*D19)/AO52)*AP52","v":{"$error":"#VALUE!"}},{"$f":"MIN((AC59+AT35*D19)/AK52,(AC60+AT35*D19)/AL52,(AC61+AT35*D19)/AM52,(AC62+AT35*D19)/AN52,(AC63+AT35*D19)/AO52)*AP52","v":{"$error":"#VALUE!"}},{"$f":"MIN((AD59+AT35*D19)/AK52,(AD60+AT35*D19)/AL52,(AD61+AT35*D19)/AM52,(AD62+AT35*D19)/AN52,(AD63+AT35*D19)/AO52)*AP52","v":{"$error":"#VALUE!"}},{"$f":"MIN((AE59+AT35*D19)/AK52,(AE60+AT35*D19)/AL52,(AE61+AT35*D19)/AM52,(AE62+AT35*D19)/AN52,(AE63+AT35*D19)/AO52)*AP52","v":{"$error":"#VALUE!"}},{"$f":"MIN((AF59+AT35*D19)/AK52,(AF60+AT35*D19)/AL52,(AF61+AT35*D19)/AM52,(AF62+AT35*D19)/AN52,(AF63+AT35*D19)/AO52)*AP52","v":{"$error":"#VALUE!"}},{"$f":"MAX(AK191:AX191)","v":{"$error":"#VALUE!"}},null,"position",1,2,3,4,5,6,7,8,9,10,11]
[null,null,null,null,null,null,null,null,null,null,null,null,null,null,null,null,null,{"$f":"IF($AX$306,H30+VLOOKUP(Team!$X36,Team!$E$30:$J$300,6,FALSE),H30+AH39+$D$21)+$D$19*$AG$27","v":{"$error":"#VALUE!"}},{"$f":"IF($AX$306,$R192,$R192+Q10)","v":{"$error":"#VALUE!"}},{"$f":"IF($AX$306,$R192,$R192+R10)","v":{"$error":"#VALUE!"}},{"$error":"#VALUE!"},{"$error":"#VALUE!"},{"$error":"#VALUE!"},{"$error":"#VALUE!"},{"$error":"#VALUE!"},{"$error":"#VALUE!"},{"$error":"#VALUE!"},{"$error":"#VALUE!"},{"$error":"#VALUE!"},{"$error":"#VALUE!"},{"$error":"#VALUE!"},{"$error":"#VALUE!"},null,null,null,{"$f":"R65","v":""},{"$f":"MIN((S66+AT35*D19)/AK52,(S67+AT35*D19)/AL52,(S68+AT35*D19)/AM52,(S69+AT35*D19)/AN52,(S70+AT35*D19)/AO52)*AP52","v":{"$error":"#VALUE!"}},{"$f":"MIN((T66+AT35*D19)/AK52,(T67+AT35*D19)/AL52,(T68+AT35*D19)/AM52,(T69+AT35*D19)/AN52,(T70+AT35*D19)/AO52)*AP52","v":{"$error":"#VALUE!"}},{"$f":"MIN((U66+AT35*D19)/AK52,(U67+AT35*D19)/AL52,(U68+AT35*D19)/AM52,(U69+AT35*D19)/AN52,(U70+AT35*D19)/AO52)*AP52","v":{"$error":"#VALUE!"}},{"$f":"MIN((V66+AT35*D19)/AK52,(V67+AT35*D19)/AL52,(V68+AT35*D19)/AM52,(V69+AT35*D19)/AN52,(V70+AT35*D19)/AO52)*AP52","v":{"$error":"#VALUE!"}},{"$f":"MIN((W66+AT35*D19)/AK52,(W67+AT35*D19)/AL52,(W68+AT35*D19)/AM52,(W69+AT35*D19)/AN52,(W70+AT35*D19)/AO52)*AP52","v":{"$error":"#VALUE!"}},{"$f":"MIN((X66+AT35*D19)/AK52,(X67+AT35*D19)/AL52,(X68+AT35*D19)/AM52,(X69+AT35*D19)/AN52,(X70+AT35*D19)/AO52)*AP52","v":{"$error":"#VALUE!"}},{"$f":"MIN((Y66+AT35*D19)/AK52,(Y67+AT35*D19)/AL52,(Y68+AT35*D19)/AM52,(Y69+AT35*D19)/AN52,(Y70+AT35*D19)/AO52)*AP52","v":{"$error":"#VALUE!"}},{"$f":"MIN((Z66+AT35*D19)/AK52,(Z67+AT35*D19)/AL52,(Z68+AT35*D19)/AM52,(Z69+AT35*D19)/AN52,(Z70+AT35*D19)/AO52)*AP52","v":{"$error":"#VALUE!"}},{"$f":"MIN((AA66+AT35*D19)/AK52,(AA67+AT35*D19)/AL52,(AA68+AT35*D19)/AM52,(AA69+AT35*D19)/AN52,(AA70+AT35*D19)/AO52)*AP52","v":{"$error":"#VALUE!"}},{"$f":"MIN((AB66+AT35*D19)/AK52,(AB67+AT35*D19)/AL52,(AB68+AT35*D19)/AM52,(AB69+AT35*D19)/AN52,(AB70+AT35*D19)/AO52)*AP52","v":{"$error":"#VALUE!"}},{"$f":"MIN((AC66+AT35*D19)/AK52,(AC67+AT35*D19)/AL52,(AC68+AT35*D19)/AM52,(AC69+AT35*D19)/AN52,(AC70+AT35*D19)/AO52)*AP52","v":{"$error":"#VALUE!"}},{"$f":"MIN((AD66+AT35*D19)/AK52,(AD67+AT35*D19)/AL52,(AD68+AT35*D19)/AM52,(AD69+AT35*D19)/AN52,(AD70+AT35*D19)/AO52)*AP52","v":{"$error":"#VALUE!"}},{"$f":"MIN((AE66+AT35*D19)/AK52,(AE67+AT35*D19)/AL52,(AE68+AT35*D19)/AM52,(AE69+AT35*D19)/AN52,(AE70+AT35*D19)/AO52)*AP52","v":{"$error":"#VALUE!"}},{"$f":"MIN((AF66+AT35*D19)/AK52,(AF67+AT35*D19)/AL52,(AF68+AT35*D19)/AM52,(AF69+AT35*D19)/AN52,(AF70+AT35*D19)/AO52)*AP52","v":{"$error":"#VALUE!"}},{"$error":"#VALUE!"},null,"gain pilule",{"$f":"MIN((D19)/AK42,(D19)/AL42,(D19)/AM42,(D19)/AN42,(D19)/AO42)*AP42*BW58","v":0},{"$f":"MIN((D19)/AK43,(D19)/AL43,(D19)/AM43,(D19)/AN43,(D19)/AO43)*AP43*BW59","v":0},{"$f":"MIN((D19)/AK44,(D19)/AL44,(D19)/AM44,(D19)/AN44,(D19)/AO44)*AP44*BW60","v":0},{"$f":"MIN((D19)/AK45,(D19)/AL45,(D19)/AM45,(D19)/AN45,(D19)/AO45)*AP45*BW61","v":0},{"$f":"MIN((D19)/AK46,(D19)/AL46,(D19)/AM46,(D19)/AN46,(D19)/AO46)*AP46*BW62","v":0},{"$f":"MIN((D19)/AK47,(D19)/AL47,(D19)/AM47,(D19)/AN47,(D19)/AO47)*AP47*BW63","v":0},{"$f":"MIN((D19)/AK48,(D19)/AL48,(D19)/AM48,(D19)/AN48,(D19)/AO48)*AP48*BW64","v":0},{"$f":"MIN((D19)/AK49,(D19)/AL49,(D19)/AM49,(D19)/AN49,(D19)/AO49)*AP49*BW65","v":0},{"$f":"MIN((D19)/AK50,(D19)/AL50,(D19)/AM50,(D19)/AN50,(D19)/AO50)*AP50*BW66","v":0},{"$f":"MIN((D19)/AK51,(D19)/AL51,(D19)/AM51,(D19)/AN51,(D19)/AO51)*AP51*BW67","v":0},{"$f":"MIN((D19)/AK52,(D19)/AL52,(D19)/AM52,(D19)/AN52,(D19)/AO52)*AP52*BW68","v":0}]
[null,null,null,null,null,null,null,null,null,null,null,null,null,null,null,null,null,{"$f":"IF($AX$306,I30+VLOOKUP(Team!$Y36,Team!$E$30:$J$300,6,FALSE),I30+AH40+$D$21)+$D$19*$AG$27","v":{"$error":"#VALUE!"}},{"$f":"IF($AX$306,$R193,$R193+Q11)","v":{"$error":"#VALUE!"}},{"$error":"#VALUE!"},{"$error":"#VALUE!"},{"$error":"#VALUE!"},{"$error":"#VALUE!"},{"$error":"#VALUE!"},{"$error":"#VALUE!"},{"$error":"#VALUE!"},{"$error":"#VALUE!"},{"$error":"#VALUE!"},{"$error":"#VALUE!"},{"$error":"#VALUE!"},{"$error":"#VALUE!"},{"$error":"#VALUE!"},null,null,null,{"$f":"R72","v":""},{"$f":"MIN((S73+AT35*D19)/AK52,(S74+AT35*D19)/AL52,(S75+AT35*D19)/AM52,(S76+AT35*D19)/AN52,(S77+AT35*D19)/AO52)*AP52","v":{"$error":"#VALUE!"}},{"$f":"MIN((T73+AT35*D19)/AK52,(T74+AT35*D19)/AL52,(T75+AT35*D19)/AM52,(T76+AT35*D19)/AN52,(T77+AT35*D19)/AO52)*AP52","v":{"$error":"#VALUE!"}},{"$f":"MIN((U73+AT35*D19)/AK52,(U74+AT35*D19)/AL52,(U75+AT35*D19)/AM52,(U76+AT35*D19)/AN52,(U77+AT35*D19)/AO52)*AP52","v":{"$error":"#VALUE!"}},{"$f":"MIN((V73+AT35*D19)/AK52,(V74+AT35*D19)/AL52,(V75+AT35*D19)/AM52,(V76+AT35*D19)/AN52,(V77+AT35*D19)/AO52)*AP52","v":{"$error":"#VALUE!"}},{"$f":"MIN((W73+AT35*D19)/AK52,(W74+AT35*D19)/AL52,(W75+AT35*D19)/AM52,(W76+AT35*D19)/AN52,(W77+AT35*D19)/AO52)*AP52","v":{"$error":"#VALUE!"}},{"$f":"MIN((X73+AT35*D19)/AK52,(X74+AT35*D19)/AL52,(X75+AT35*D19)/AM52,(X76+AT35*D19)/AN52,(X77+AT35*D19)/AO52)*AP52","v":{"$error":"#VALUE!"}},{"$f":"MIN((Y73+AT35*D19)/AK52,(Y74+AT35*D19)/AL52,(Y75+AT35*D19)/AM52,(Y76+AT35*D19)/AN52,(Y77+AT35*D19)/AO52)*AP52","v":{"$error":"#VALUE!"}},{"$f":"MIN((Z73+AT35*D19)/AK52,(Z74+AT35*D19)/AL52,(Z75+AT35*D19)/AM52,(Z76+AT35*D19)/AN52,(Z77+AT35*D19)/AO52)*AP52","v":{"$error":"#VALUE!"}},{"$f":"MIN((AA73+AT35*D19)/AK52,(AA74+AT35*D19)/AL52,(AA75+AT35*D19)/AM52,(AA76+AT35*D19)/AN52,(AA77+AT35*D19)/AO52)*AP52","v":{"$error":"#VALUE!"}},{"$f":"MIN((AB73+AT35*D19)/AK52,(AB74+AT35*D19)/AL52,(AB75+AT35*D19)/AM52,(AB76+AT35*D19)/AN52,(AB77+AT35*D19)/AO52)*AP52","v":{"$error":"#VALUE!"}},{"$f":"MIN((AC73+AT35*D19)/AK52,(AC74+AT35*D19)/AL52,(AC75+AT35*D19)/AM52,(AC76+AT35*D19)/AN52,(AC77+AT35*D19)/AO52)*AP52","v":{"$error":"#VALUE!"}},{"$f":"MIN((AD73+AT35*D19)/AK52,(AD74+AT35*D19)/AL52,(AD75+AT35*D19)/AM52,(AD76+AT35*D19)/AN52,(AD77+AT35*D19)/AO52)*AP52","v":{"$error":"#VALUE!"}},{"$f":"MIN((AE73+AT35*D19)/AK52,(AE74+AT35*D19)/AL52,(AE75+AT35*D19)/AM52,(AE76+AT35*D19)/AN52,(AE77+AT35*D19)/AO52)*AP52","v":{"$error":"#VALUE!"}},{"$f":"MIN((AF73+AT35*D19)/AK52,(AF74+AT35*D19)/AL52,(AF75+AT35*D19)/AM52,(AF76+AT35*D19)/AN52,(AF77+AT35*D19)/AO52)*AP52","v":{"$error":"#VALUE!"}},{"$error":"#VALUE!"}]
[null,null,null,null,null,null,null,null,null,null,null,null,null,null,null,null,null,{"$f":"IF($AX$306,J30+VLOOKUP(Team!$Z36,Team!$E$30:$J$300,6,FALSE),J30+AH41+$D$21)+$D$19*$AG$27","v":{"$error":"#VALUE!"}},{"$f":"IF($AX$306,$R194,$R194+Q12)","v":{"$error":"#VALUE!"}},{"$error":"#VALUE!"},{"$error":"#VALUE!"},{"$error":"#VALUE!"},{"$error":"#VALUE!"},{"$error":"#VALUE!"},{"$error":"#VALUE!"},{"$error":"#VALUE!"},{"$error":"#VALUE!"},{"$error":"#VALUE!"},{"$error":"#VALUE!"},{"$error":"#VALUE!"},{"$error":"#VALUE!"},{"$error":"#VALUE!"},null,null,null,{"$f":"R79","v":""},{"$f":"MIN((S80+AT35*D19)/AK52,(S81+AT35*D19)/AL52,(S82+AT35*D19)/AM52,(S83+AT35*D19)/AN52,(S84+AT35*D19)/AO52)*AP52","v":{"$error":"#VALUE!"}},{"$f":"MIN((T80+AT35*D19)/AK52,(T81+AT35*D19)/AL52,(T82+AT35*D19)/AM52,(T83+AT35*D19)/AN52,(T84+AT35*D19)/AO52)*AP52","v":{"$error":"#VALUE!"}},{"$f":"MIN((U80+AT35*D19)/AK52,(U81+AT35*D19)/AL52,(U82+AT35*D19)/AM52,(U83+AT35*D19)/AN52,(U84+AT35*D19)/AO52)*AP52","v":{"$error":"#VALUE!"}},{"$f":"MIN((V80+AT35*D19)/AK52,(V81+AT35*D19)/AL52,(V82+AT35*D19)/AM52,(V83+AT35*D19)/AN52,(V84+AT35*D19)/AO52)*AP52","v":{"$error":"#VALUE!"}},{"$f":"MIN((W80+AT35*D19)/AK52,(W81+AT35*D19)/AL52,(W82+AT35*D19)/AM52,(W83+AT35*D19)/AN52,(W84+AT35*D19)/AO52)*AP52","v":{"$error":"#VALUE!"}},{"$f":"MIN((X80+AT35*D19)/AK52,(X81+AT35*D19)/AL52,(X82+AT35*D19)/AM52,(X83+AT35*D19)/AN52,(X84+AT35*D19)/AO52)*AP52","v":{"$error":"#VALUE!"}},{"$f":"MIN((Y80+AT35*D19)/AK52,(Y81+AT35*D19)/AL52,(Y82+AT35*D19)/AM52,(Y83+AT35*D19)/AN52,(Y84+AT35*D19)/AO52)*AP52","v":{"$error":"#VALUE!"}},{"$f":"MIN((Z80+AT35*D19)/AK52,(Z81+AT35*D19)/AL52,(Z82+AT35*D19)/AM52,(Z83+AT35*D19)/AN52,(Z84+AT35*D19)/AO52)*AP52","v":{"$error":"#VALUE!"}},{"$f":"MIN((AA80+AT35*D19)/AK52,(AA81+AT35*D19)/AL52,(AA82+AT35*D19)/AM52,(AA83+AT35*D19)/AN52,(AA84+AT35*D19)/AO52)*AP52","v":{"$error":"#VALUE!"}},{"$f":"MIN((AB80+AT35*D19)/AK52,(AB81+AT35*D19)/AL52,(AB82+AT35*D19)/AM52,(AB83+AT35*D19)/AN52,(AB84+AT35*D19)/AO52)*AP52","v":{"$error":"#VALUE!"}},{"$f":"MIN((AC80+AT35*D19)/AK52,(AC81+AT35*D19)/AL52,(AC82+AT35*D19)/AM52,(AC83+AT35*D19)/AN52,(AC84+AT35*D19)/AO52)*AP52","v":{"$error":"#VALUE!"}},{"$f":"MIN((AD80+AT35*D19)/AK52,(AD81+AT35*D19)/AL52,(AD82+AT35*D19)/AM52,(AD83+AT35*D19)/AN52,(AD84+AT35*D19)/AO52)*AP52","v":{"$error":"#VALUE!"}},{"$f":"MIN((AE80+AT35*D19)/AK52,(AE81+AT35*D19)/AL52,(AE82+AT35*D19)/AM52,(AE83+AT35*D19)/AN52,(AE84+AT35*D19)/AO52)*AP52","v":{"$error":"#VALUE!"}},{"$f":"MIN((AF80+AT35*D19)/AK52,(AF81+AT35*D19)/AL52,(AF82+AT35*D19)/AM52,(AF83+AT35*D19)/AN52,(AF84+AT35*D19)/AO52)*AP52","v":{"$error":"#VALUE!"}},{"$error":"#VALUE!"}]
[null,null,null,null,null,null,null,null,null,null,null,null,null,null,null,null,null,{"$f":"IF($AX$306,K30+VLOOKUP(Team!$AA36,Team!$E$30:$J$300,6,FALSE),K30+AH42+$D$21)+$D$19*$AG$27","v":{"$error":"#VALUE!"}},{"$f":"IF($AX$306,$R195,$R195+Q13)","v":{"$error":"#VALUE!"}},{"$error":"#VALUE!"},{"$error":"#VALUE!"},{"$error":"#VALUE!"},{"$error":"#VALUE!"},{"$error":"#VALUE!"},{"$error":"#VALUE!"},{"$error":"#VALUE!"},{"$error":"#VALUE!"},{"$error":"#VALUE!"},{"$error":"#VALUE!"},{"$error":"#VALUE!"},{"$error":"#VALUE!"},{"$error":"#VALUE!"},null,null,null,{"$f":"R86","v":""},{"$f":"MIN((S87+AT35*D19)/AK52,(S88+AT35*D19)/AL52,(S89+AT35*D19)/AM52,(S90+AT35*D19)/AN52,(S91+AT35*D19)/AO52)*AP52","v":{"$error":"#VALUE!"}},{"$f":"MIN((T87+AT35*D19)/AK52,(T88+AT35*D19)/AL52,(T89+AT35*D19)/AM52,(T90+AT35*D19)/AN52,(T91+AT35*D19)/AO52)*AP52","v":{"$error":"#VALUE!"}},{"$f":"MIN((U87+AT35*D19)/AK52,(U88+AT35*D19)/AL52,(U89+AT35*D19)/AM52,(U90+AT35*D19)/AN52,(U91+AT35*D19)/AO52)*AP52","v":{"$error":"#VALUE!"}},{"$f":"MIN((V87+AT35*D19)/AK52,(V88+AT35*D19)/AL52,(V89+AT35*D19)/AM52,(V90+AT35*D19)/AN52,(V91+AT35*D19)/AO52)*AP52","v":{"$error":"#VALUE!"}},{"$f":"MIN((W87+AT35*D19)/AK52,(W88+AT35*D19)/AL52,(W89+AT35*D19)/AM52,(W90+AT35*D19)/AN52,(W91+AT35*D19)/AO52)*AP52","v":{"$error":"#VALUE!"}},{"$f":"MIN((X87+AT35*D19)/AK52,(X88+AT35*D19)/AL52,(X89+AT35*D19)/AM52,(X90+AT35*D19)/AN52,(X91+AT35*D19)/AO52)*AP52","v":{"$error":"#VALUE!"}},{"$f":"MIN((Y87+AT35*D19)/AK52,(Y88+AT35*D19)/AL52,(Y89+AT35*D19)/AM52,(Y90+AT35*D19)/AN52,(Y91+AT35*D19)/AO52)*AP52","v":{"$error":"#VALUE!"}},{"$f":"MIN((Z87+AT35*D19)/AK52,(Z88+AT35*D19)/AL52,(Z89+AT35*D19)/AM52,(Z90+AT35*D19)/AN52,(Z91+AT35*D19)/AO52)*AP52","v":{"$error":"#VALUE!"}},{"$f":"MIN((AA87+AT35*D19)/AK52,(AA88+AT35*D19)/AL52,(AA89+AT35*D19)/AM52,(AA90+AT35*D19)/AN52,(AA91+AT35*D19)/AO52)*AP52","v":{"$error":"#VALUE!"}},{"$f":"MIN((AB87+AT35*D19)/AK52,(AB88+AT35*D19)/AL52,(AB89+AT35*D19)/AM52,(AB90+AT35*D19)/AN52,(AB91+AT35*D19)/AO52)*AP52","v":{"$error":"#VALUE!"}},{"$f":"MIN((AC87+AT35*D19)/AK52,(AC88+AT35*D19)/AL52,(AC89+AT35*D19)/AM52,(AC90+AT35*D19)/AN52,(AC91+AT35*D19)/AO52)*AP52","v":{"$error":"#VALUE!"}},{"$f":"MIN((AD87+AT35*D19)/AK52,(AD88+AT35*D19)/AL52,(AD89+AT35*D19)/AM52,(AD90+AT35*D19)/AN52,(AD91+AT35*D19)/AO52)*AP52","v":{"$error":"#VALUE!"}},{"$f":"MIN((AE87+AT35*D19)/AK52,(AE88+AT35*D19)/AL52,(AE89+AT35*D19)/AM52,(AE90+AT35*D19)/AN52,(AE91+AT35*D19)/AO52)*AP52","v":{"$error":"#VALUE!"}},{"$f":"MIN((AF87+AT35*D19)/AK52,(AF88+AT35*D19)/AL52,(AF89+AT35*D19)/AM52,(AF90+AT35*D19)/AN52,(AF91+AT35*D19)/AO52)*AP52","v":{"$error":"#VALUE!"}},{"$error":"#VALUE!"}]
[null,null,null,null,null,null,null,null,null,null,null,null,null,null,null,null,null,{"$f":"IF($AX$306,L30+VLOOKUP(Team!$AB36,Team!$E$30:$J$300,6,FALSE),L30+AH43+$D$21)+$D$19*$AG$27","v":{"$error":"#VALUE!"}},{"$f":"IF($AX$306,$R196,$R196+Q14)","v":{"$error":"#VALUE!"}},{"$error":"#VALUE!"},{"$error":"#VALUE!"},{"$error":"#VALUE!"},{"$error":"#VALUE!"},{"$error":"#VALUE!"},{"$error":"#VALUE!"},{"$error":"#VALUE!"},{"$error":"#VALUE!"},{"$error":"#VALUE!"},{"$error":"#VALUE!"},{"$error":"#VALUE!"},{"$error":"#VALUE!"},{"$error":"#VALUE!"},null,null,null,{"$f":"R93","v":""},{"$f":"MIN((S94+AT35*D19)/AK52,(S95+AT35*D19)/AL52,(S96+AT35*D19)/AM52,(S97+AT35*D19)/AN52,(S98++AT35*D19)/AO52)*AP52","v":{"$error":"#VALUE!"}},{"$f":"MIN((T94+AT35*D19)/AK52,(T95+AT35*D19)/AL52,(T96+AT35*D19)/AM52,(T97+AT35*D19)/AN52,(T98+AT35*D19)/AO52)*AP52","v":{"$error":"#VALUE!"}},{"$f":"MIN((U94+AT35*D19)/AK52,(U95+AT35*D19)/AL52,(U96+AT35*D19)/AM52,(U97+AT35*D19)/AN52,(U98+AT35*D19)/AO52)*AP52","v":{"$error":"#VALUE!"}},{"$f":"MIN((V94+AT35*D19)/AK52,(V95+AT35*D19)/AL52,(V96+AT35*D19)/AM52,(V97+AT35*D19)/AN52,(V98+AT35*D19)/AO52)*AP52","v":{"$error":"#VALUE!"}},{"$f":"MIN((W94+AT35*D19)/AK52,(W95+AT35*D19)/AL52,(W96+AT35*D19)/AM52,(W97+AT35*D19)/AN52,(W98+AT35*D19)/AO52)*AP52","v":{"$error":"#VALUE!"}},{"$f":"MIN((X94+AT35*D19)/AK52,(X95+AT35*D19)/AL52,(X96+AT35*D19)/AM52,(X97+AT35*D19)/AN52,(X98+AT35*D19)/AO52)*AP52","v":{"$error":"#VALUE!"}},{"$f":"MIN((Y94+AT35*D19)/AK52,(Y95+AT35*D19)/AL52,(Y96+AT35*D19)/AM52,(Y97+AT35*D19)/AN52,(Y98+AT35*D19)/AO52)*AP52","v":{"$error":"#VALUE!"}},{"$f":"MIN((Z94+AT35*D19)/AK52,(Z95+AT35*D19)/AL52,(Z96+AT35*D19)/AM52,(Z97+AT35*D19)/AN52,(Z98+AT35*D19)/AO52)*AP52","v":{"$error":"#VALUE!"}},{"$f":"MIN((AA94+AT35*D19)/AK52,(AA95+AT35*D19)/AL52,(AA96+AT35*D19)/AM52,(AA97+AT35*D19)/AN52,(AA98+AT35*D19)/AO52)*AP52","v":{"$error":"#VALUE!"}},{"$f":"MIN((AB94+AT35*D19)/AK52,(AB95+AT35*D19)/AL52,(AB96+AT35*D19)/AM52,(AB97+AT35*D19)/AN52,(AB98+AT35*D19)/AO52)*AP52","v":{"$error":"#VALUE!"}},{"$f":"MIN((AC94+AT35*D19)/AK52,(AC95+AT35*D19)/AL52,(AC96+AT35*D19)/AM52,(AC97+AT35*D19)/AN52,(AC98+AT35*D19)/AO52)*AP52","v":{"$error":"#VALUE!"}},{"$f":"MIN((AD94+AT35*D19)/AK52,(AD95+AT35*D19)/AL52,(AD96+AT35*D19)/AM52,(AD97+AT35*D19)/AN52,(AD98+AT35*D19)/AO52)*AP52","v":{"$error":"#VALUE!"}},{"$f":"MIN((AE94+AT35*D19)/AK52,(AE95+AT35*D19)/AL52,(AE96+AT35*D19)/AM52,(AE97+AT35*D19)/AN52,(AE98+AT35*D19)/AO52)*AP52","v":{"$error":"#VALUE!"}},{"$f":"MIN((AF94+AT35*D19)/AK52,(AF95+AT35*D19)/AL52,(AF96+AT35*D19)/AM52,(AF97+AT35*D19)/AN52,(AF98+AT35*D19)/AO52)*AP52","v":{"$error":"#VALUE!"}},{"$error":"#VALUE!"}]
[null,null,null,null,null,null,null,null,null,null,null,null,null,null,null,null,null,null,null,null,null,null,null,null,null,null,null,null,null,null,null,null,null,null,null,{"$f":"R100","v":""},{"$f":"MIN((S101+AT35*D19)/AK52,(S102+AT35*D19)/AL52,(S103+AT35*D19)/AM52,(S104+AT35*D19)/AN52,(S105+AT35*D19)/AO52)*AP52","v":{"$error":"#VALUE!"}},{"$f":"MIN((T101+AT35*D19)/AK52,(T102+AT35*D19)/AL52,(T103+AT35*D19)/AM52,(T104+AT35*D19)/AN52,(T105+AT35*D19)/AO52)*AP52","v":{"$error":"#VALUE!"}},{"$f":"MIN((U101+AT35*D19)/AK52,(U102+AT35*D19)/AL52,(U103+AT35*D19)/AM52,(U104+AT35*D19)/AN52,(U105+AT35*D19)/AO52)*AP52","v":{"$error":"#VALUE!"}},{"$f":"MIN((V101+AT35*D19)/AK52,(V102+AT35*D19)/AL52,(V103+AT35*D19)/AM52,(V104+AT35*D19)/AN52,(V105+AT35*D19)/AO52)*AP52","v":{"$error":"#VALUE!"}},{"$f":"MIN((W101+AT35*D19)/AK52,(W102+AT35*D19)/AL52,(W103+AT35*D19)/AM52,(W104+AT35*D19)/AN52,(W105+AT35*D19)/AO52)*AP52","v":{"$error":"#VALUE!"}},{"$f":"MIN((X101+AT35*D19)/AK52,(X102+AT35*D19)/AL52,(X103+AT35*D19)/AM52,(X104+AT35*D19)/AN52,(X105+AT35*D19)/AO52)*AP52","v":{"$error":"#VALUE!"}},{"$f":"MIN((Y101+AT35*D19)/AK52,(Y102+AT35*D19)/AL52,(Y103+AT35*D19)/AM52,(Y104+AT35*D19)/AN52,(Y105+AT35*D19)/AO52)*AP52","v":{"$error":"#VALUE!"}},{"$f":"MIN((Z101+AT35*D19)/AK52,(Z102+AT35*D19)/AL52,(Z103+AT35*D19)/AM52,(Z104+AT35*D19)/AN52,(Z105+AT35*D19)/AO52)*AP52","v":{"$error":"#VALUE!"}},{"$f":"MIN((AA101+AT35*D19)/AK52,(AA102+AT35*D19)/AL52,(AA103+AT35*D19)/AM52,(AA104+AT35*D19)/AN52,(AA105+AT35*D19)/AO52)*AP52","v":{"$error":"#VALUE!"}},{"$f":"MIN((AB101+AT35*D19)/AK52,(AB102+AT35*D19)/AL52,(AB103+AT35*D19)/AM52,(AB104+AT35*D19)/AN52,(AB105+AT35*D19)/AO52)*AP52","v":{"$error":"#VALUE!"}},{"$f":"MIN((AC101+AT35*D19)/AK52,(AC102+AT35*D19)/AL52,(AC103+AT35*D19)/AM52,(AC104+AT35*D19)/AN52,(AC105+AT35*D19)/AO52)*AP52","v":{"$error":"#VALUE!"}},{"$f":"MIN((AD101+AT35*D19)/AK52,(AD102+AT35*D19)/AL52,(AD103+AT35*D19)/AM52,(AD104+AT35*D19)/AN52,(AD105+AT35*D19)/AO52)*AP52","v":{"$error":"#VALUE!"}},{"$f":"MIN((AE101+AT35*D19)/AK52,(AE102+AT35*D19)/AL52,(AE103+AT35*D19)/AM52,(AE104+AT35*D19)/AN52,(AE105+AT35*D19)/AO52)*AP52","v":{"$error":"#VALUE!"}},{"$f":"MIN((AF101+AT35*D19)/AK52,(AF102+AT35*D19)/AL52,(AF103+AT35*D19)/AM52,(AF104+AT35*D19)/AN52,(AF105+AT35*D19)/AO52)*AP52","v":{"$error":"#VALUE!"}},{"$error":"#VALUE!"}]
[null,null,null,null,null,null,null,null,null,null,null,null,null,null,null,null,null,{"$f":"G31","v":""},{"$f":"S170","v":"kit 1"},{"$f":"T170","v":"kit 2/3"},0,"kit 4",0,"kit 5","kit 6/7",0,0,"kit 8","kit 9",0,{"$f":"AE170","v":"kit 10"},{"$f":"AF170","v":"kit 11"},null,null,null,{"$f":"R107","v":""},{"$f":"MIN((S108+AT35*D19)/AK52,(S109+AT35*D19)/AL52,(S110+AT35*D19)/AM52,(S111+AT35*D19)/AN52,(S112+AT35*D19)/AO52)*AP52","v":{"$error":"#VALUE!"}},{"$f":"MIN((T108+AT35*D19)/AK52,(T109+AT35*D19)/AL52,(T110+AT35*D19)/AM52,(T111+AT35*D19)/AN52,(T112+AT35*D19)/AO52)*AP52","v":{"$error":"#VALUE!"}},{"$f":"MIN((U108+AT35*D19)/AK52,(U109+AT35*D19)/AL52,(U110+AT35*D19)/AM52,(U111+AT35*D19)/AN52,(U112+AT35*D19)/AO52)*AP52","v":{"$error":"#VALUE!"}},{"$f":"MIN((V108+AT35*D19)/AK52,(V109+AT35*D19)/AL52,(V110+AT35*D19)/AM52,(V111+AT35*D19)/AN52,(V112+AT35*D19)/AO52)*AP52","v":{"$error":"#VALUE!"}},{"$f":"MIN((W108+AT35*D19)/AK52,(W109+AT35*D19)/AL52,(W110+AT35*D19)/AM52,(W111+AT35*D19)/AN52,(W112+AT35*D19)/AO52)*AP52","v":{"$error":"#VALUE!"}},{"$f":"MIN((X108+AT35*D19)/AK52,(X109+AT35*D19)/AL52,(X110+AT35*D19)/AM52,(X111+AT35*D19)/AN52,(X112+AT35*D19)/AO52)*AP52","v":{"$error":"#VALUE!"}},{"$f":"MIN((Y108+AT35*D19)/AK52,(Y109+AT35*D19)/AL52,(Y110+AT35*D19)/AM52,(Y111+AT35*D19)/AN52,(Y112+AT35*D19)/AO52)*AP52","v":{"$error":"#VALUE!"}},{"$f":"MIN((Z108+AT35*D19)/AK52,(Z109+AT35*D19)/AL52,(Z110+AT35*D19)/AM52,(Z111+AT35*D19)/AN52,(Z112+AT35*D19)/AO52)*AP52","v":{"$error":"#VALUE!"}},{"$f":"MIN((AA108+AT35*D19)/AK52,(AA109+AT35*D19)/AL52,(AA110+AT35*D19)/AM52,(AA111+AT35*D19)/AN52,(AA112+AT35*D19)/AO52)*AP52","v":{"$error":"#VALUE!"}},{"$f":"MIN((AB108+AT35*D19)/AK52,(AB109+AT35*D19)/AL52,(AB110+AT35*D19)/AM52,(AB111+AT35*D19)/AN52,(AB112+AT35*D19)/AO52)*AP52","v":{"$error":"#VALUE!"}},{"$f":"MIN((AC108+AT35*D19)/AK52,(AC109+AT35*D19)/AL52,(AC110+AT35*D19)/AM52,(AC111+AT35*D19)/AN52,(AC112+AT35*D19)/AO52)*AP52","v":{"$error":"#VALUE!"}},{"$f":"MIN((AD108+AT35*D19)/AK52,(AD109+AT35*D19)/AL52,(AD110+AT35*D19)/AM52,(AD111+AT35*D19)/AN52,(AD112+AT35*D19)/AO52)*AP52","v":{"$error":"#VALUE!"}},{"$f":"MIN((AE108+AT35*D19)/AK52,(AE109+AT35*D19)/AL52,(AE110+AT35*D19)/AM52,(AE111+AT35*D19)/AN52,(AE112+AT35*D19)/AO52)*AP52","v":{"$error":"#VALUE!"}},{"$f":"MIN((AF108+AT35*D19)/AK52,(AF109+AT35*D19)/AL52,(AF110+AT35*D19)/AM52,(AF111+AT35*D19)/AN52,(AF112+AT35*D19)/AO52)*AP52","v":{"$error":"#VALUE!"}},{"$error":"#VALUE!"}]
[null,null,null,null,null,null,null,null,null,null,null,null,null,null,null,null,null,{"$f":"IF($AX$306,H31+VLOOKUP(Team!$X37,Team!$E$30:$J$300,6,FALSE),H31+AH39+$D$21)+$D$19*$AG$28","v":{"$error":"#VALUE!"}},{"$f":"IF($AX$306,$R199,$R199+Q10)","v":{"$error":"#VALUE!"}},{"$f":"IF($AX$306,$R199,$R199+R10)","v":{"$error":"#VALUE!"}},{"$error":"#VALUE!"},{"$error":"#VALUE!"},{"$error":"#VALUE!"},{"$error":"#VALUE!"},{"$error":"#VALUE!"},{"$error":"#VALUE!"},{"$error":"#VALUE!"},{"$error":"#VALUE!"},{"$error":"#VALUE!"},{"$error":"#VALUE!"},{"$error":"#VALUE!"},{"$error":"#VALUE!"},null,null,null,{"$f":"R114","v":""},{"$f":"MIN((S115+AT35*D19)/AK52,(S116+AT35*D19)/AL52,(S117+AT35*D19)/AM52,(S118+AT35*D19)/AN52,(S119+AT35*D19)/AO52)*AP52","v":{"$error":"#VALUE!"}},{"$f":"MIN((T115+AT35*D19)/AK52,(T116+AT35*D19)/AL52,(T117+AT35*D19)/AM52,(T118+AT35*D19)/AN52,(T119+AT35*D19)/AO52)*AP52","v":{"$error":"#VALUE!"}},{"$f":"MIN((U115+AT35*D19)/AK52,(U116+AT35*D19)/AL52,(U117+AT35*D19)/AM52,(U118+AT35*D19)/AN52,(U119+AT35*D19)/AO52)*AP52","v":{"$error":"#VALUE!"}},{"$f":"MIN((V115+AT35*D19)/AK52,(V116+AT35*D19)/AL52,(V117+AT35*D19)/AM52,(V118+AT35*D19)/AN52,(V119+AT35*D19)/AO52)*AP52","v":{"$error":"#VALUE!"}},{"$f":"MIN((W115+AT35*D19)/AK52,(W116+AT35*D19)/AL52,(W117+AT35*D19)/AM52,(W118+AT35*D19)/AN52,(W119+AT35*D19)/AO52)*AP52","v":{"$error":"#VALUE!"}},{"$f":"MIN((X115+AT35*D19)/AK52,(X116+AT35*D19)/AL52,(X117+AT35*D19)/AM52,(X118+AT35*D19)/AN52,(X119+AT35*D19)/AO52)*AP52","v":{"$error":"#VALUE!"}},{"$f":"MIN((Y115+AT35*D19)/AK52,(Y116+AT35*D19)/AL52,(Y117+AT35*D19)/AM52,(Y118+AT35*D19)/AN52,(Y119+AT35*D19)/AO52)*AP52","v":{"$error":"#VALUE!"}},{"$f":"MIN((Z115+AT35*D19)/AK52,(Z116+AT35*D19)/AL52,(Z117+AT35*D19)/AM52,(Z118+AT35*D19)/AN52,(Z119+AT35*D19)/AO52)*AP52","v":{"$error":"#VALUE!"}},{"$f":"MIN((AA115+AT35*D19)/AK52,(AA116+AT35*D19)/AL52,(AA117+AT35*D19)/AM52,(AA118+AT35*D19)/AN52,(AA119+AT35*D19)/AO52)*AP52","v":{"$error":"#VALUE!"}},{"$f":"MIN((AB115+AT35*D19)/AK52,(AB116+AT35*D19)/AL52,(AB117+AT35*D19)/AM52,(AB118+AT35*D19)/AN52,(AB119+AT35*D19)/AO52)*AP52","v":{"$error":"#VALUE!"}},{"$f":"MIN((AC115+AT35*D19)/AK52,(AC116+AT35*D19)/AL52,(AC117+AT35*D19)/AM52,(AC118+AT35*D19)/AN52,(AC119+AT35*D19)/AO52)*AP52","v":{"$error":"#VALUE!"}},{"$f":"MIN((AD115+AT35*D19)/AK52,(AD116+AT35*D19)/AL52,(AD117+AT35*D19)/AM52,(AD118+AT35*D19)/AN52,(AD119+AT35*D19)/AO52)*AP52","v":{"$error":"#VALUE!"}},{"$f":"MIN((AE115+AT35*D19)/AK52,(AE116+AT35*D19)/AL52,(AE117+AT35*D19)/AM52,(AE118+AT35*D19)/AN52,(AE119+AT35*D19)/AO52)*AP52","v":{"$error":"#VALUE!"}},{"$f":"MIN((AF115+AT35*D19)/AK52,(AF116+AT35*D19)/AL52,(AF117+AT35*D19)/AM52,(AF118+AT35*D19)/AN52,(AF119+AT35*D19)/AO52)*AP52","v":{"$error":"#VALUE!"}},{"$error":"#VALUE!"}]
[null,null,null,null,null,null,null,null,null,null,null,null,null,null,null,null,null,{"$f":"IF($AX$306,I31+VLOOKUP(Team!$Y37,Team!$E$30:$J$300,6,FALSE),I31+AH40+$D$21)+$D$19*$AG$28","v":{"$error":"#VALUE!"}},{"$f":"IF($AX$306,$R200,$R200+Q11)","v":{"$error":"#VALUE!"}},{"$error":"#VALUE!"},{"$error":"#VALUE!"},{"$error":"#VALUE!"},{"$error":"#VALUE!"},{"$error":"#VALUE!"},{"$error":"#VALUE!"},{"$error":"#VALUE!"},{"$error":"#VALUE!"},{"$error":"#VALUE!"},{"$error":"#VALUE!"},{"$error":"#VALUE!"},{"$error":"#VALUE!"},{"$error":"#VALUE!"},null,null,null,{"$f":"R121","v":""},{"$f":"MIN((S122+AT35*D19)/AK52,(S123+AT35*D19)/AL52,(S124+AT35*D19)/AM52,(S125+AT35*D19)/AN52,(S126+AT35*D19)/AO52)*AP52","v":{"$error":"#VALUE!"}},{"$f":"MIN((T122+AT35*D19)/AK52,(T123+AT35*D19)/AL52,(T124+AT35*D19)/AM52,(T125+AT35*D19)/AN52,(T126+AT35*D19)/AO52)*AP52","v":{"$error":"#VALUE!"}},{"$f":"MIN((U122+AT35*D19)/AK52,(U123+AT35*D19)/AL52,(U124+AT35*D19)/AM52,(U125+AT35*D19)/AN52,(U126+AT35*D19)/AO52)*AP52","v":{"$error":"#VALUE!"}},{"$f":"MIN((V122+AT35*D19)/AK52,(V123+AT35*D19)/AL52,(V124+AT35*D19)/AM52,(V125+AT35*D19)/AN52,(V126+AT35*D19)/AO52)*AP52","v":{"$error":"#VALUE!"}},{"$f":"MIN((W122+AT35*D19)/AK52,(W123+AT35*D19)/AL52,(W124+AT35*D19)/AM52,(W125+AT35*D19)/AN52,(W126+AT35*D19)/AO52)*AP52","v":{"$error":"#VALUE!"}},{"$f":"MIN((X122+AT35*D19)/AK52,(X123+AT35*D19)/AL52,(X124+AT35*D19)/AM52,(X125+AT35*D19)/AN52,(X126+AT35*D19)/AO52)*AP52","v":{"$error":"#VALUE!"}},{"$f":"MIN((Y122+AT35*D19)/AK52,(Y123+AT35*D19)/AL52,(Y124+AT35*D19)/AM52,(Y125+AT35*D19)/AN52,(Y126+AT35*D19)/AO52)*AP52","v":{"$error":"#VALUE!"}},{"$f":"MIN((Z122+AT35*D19)/AK52,(Z123+AT35*D19)/AL52,(Z124+AT35*D19)/AM52,(Z125+AT35*D19)/AN52,(Z126+AT35*D19)/AO52)*AP52","v":{"$error":"#VALUE!"}},{"$f":"MIN((AA122+AT35*D19)/AK52,(AA123+AT35*D19)/AL52,(AA124+AT35*D19)/AM52,(AA125+AT35*D19)/AN52,(AA126+AT35*D19)/AO52)*AP52","v":{"$error":"#VALUE!"}},{"$f":"MIN((AB122+AT35*D19)/AK52,(AB123+AT35*D19)/AL52,(AB124+AT35*D19)/AM52,(AB125+AT35*D19)/AN52,(AB126+AT35*D19)/AO52)*AP52","v":{"$error":"#VALUE!"}},{"$f":"MIN((AC122+AT35*D19)/AK52,(AC123+AT35*D19)/AL52,(AC124+AT35*D19)/AM52,(AC125+AT35*D19)/AN52,(AC126+AT35*D19)/AO52)*AP52","v":{"$error":"#VALUE!"}},{"$f":"MIN((AD122+AT35*D19)/AK52,(AD123+AT35*D19)/AL52,(AD124+AT35*D19)/AM52,(AD125+AT35*D19)/AN52,(AD126+AT35*D19)/AO52)*AP52","v":{"$error":"#VALUE!"}},{"$f":"MIN((AE122+AT35*D19)/AK52,(AE123+AT35*D19)/AL52,(AE124+AT35*D19)/AM52,(AE125+AT35*D19)/AN52,(AE126+AT35*D19)/AO52)*AP52","v":{"$error":"#VALUE!"}},{"$f":"MIN((AF122+AT35*D19)/AK52,(AF123+AT35*D19)/AL52,(AF124+AT35*D19)/AM52,(AF125+AT35*D19)/AN52,(AF126+AT35*D19)/AO52)*AP52","v":{"$error":"#VALUE!"}},{"$error":"#VALUE!"}]
[null,null,null,null,null,null,null,null,null,null,null,null,null,null,null,null,null,{"$f":"IF($AX$306,J31+VLOOKUP(Team!$Z37,Team!$E$30:$J$300,6,FALSE),J31+AH41+$D$21)+$D$19*$AG$28","v":{"$error":"#VALUE!"}},{"$f":"IF($AX$306,$R201,$R201+Q12)","v":{"$error":"#VALUE!"}},{"$error":"#VALUE!"},{"$error":"#VALUE!"},{"$error":"#VALUE!"},{"$error":"#VALUE!"},{"$error":"#VALUE!"},{"$error":"#VALUE!"},{"$error":"#VALUE!"},{"$error":"#VALUE!"},{"$error":"#VALUE!"},{"$error":"#VALUE!"},{"$error":"#VALUE!"},{"$error":"#VALUE!"},{"$error":"#VALUE!"},null,null,null,{"$f":"R128","v":""},{"$f":"MIN((S129+AT35*D19)/AK52,(S130+AT35*D19)/AL52,(S131+AT35*D19)/AM52,(S132+AT35*D19)/AN52,(S133+AT35*D19)/AO52)*AP52","v":{"$error":"#VALUE!"}},{"$f":"MIN((T129+AT35*D19)/AK52,(T130+AT35*D19)/AL52,(T131+AT35*D19)/AM52,(T132+AT35*D19)/AN52,(T133+AT35*D19)/AO52)*AP52","v":{"$error":"#VALUE!"}},{"$f":"MIN((U129+AT35*D19)/AK52,(U130+AT35*D19)/AL52,(U131+AT35*D19)/AM52,(U132+AT35*D19)/AN52,(U133+AT35*D19)/AO52)*AP52","v":{"$error":"#VALUE!"}},{"$f":"MIN((V129+AT35*D19)/AK52,(V130+AT35*D19)/AL52,(V131+AT35*D19)/AM52,(V132+AT35*D19)/AN52,(V133+AT35*D19)/AO52)*AP52","v":{"$error":"#VALUE!"}},{"$f":"MIN((W129+AT35*D19)/AK52,(W130+AT35*D19)/AL52,(W131+AT35*D19)/AM52,(W132+AT35*D19)/AN52,(W133+AT35*D19)/AO52)*AP52","v":{"$error":"#VALUE!"}},{"$f":"MIN((X129+AT35*D19)/AK52,(X130+AT35*D19)/AL52,(X131+AT35*D19)/AM52,(X132+AT35*D19)/AN52,(X133+AT35*D19)/AO52)*AP52","v":{"$error":"#VALUE!"}},{"$f":"MIN((Y129+AT35*D19)/AK52,(Y130+AT35*D19)/AL52,(Y131+AT35*D19)/AM52,(Y132+AT35*D19)/AN52,(Y133+AT35*D19)/AO52)*AP52","v":{"$error":"#VALUE!"}},{"$f":"MIN((Z129+AT35*D19)/AK52,(Z130+AT35*D19)/AL52,(Z131+AT35*D19)/AM52,(Z132+AT35*D19)/AN52,(Z133+AT35*D19)/AO52)*AP52","v":{"$error":"#VALUE!"}},{"$f":"MIN((AA129+AT35*D19)/AK52,(AA130+AT35*D19)/AL52,(AA131+AT35*D19)/AM52,(AA132+AT35*D19)/AN52,(AA133+AT35*D19)/AO52)*AP52","v":{"$error":"#VALUE!"}},{"$f":"MIN((AB129+AT35*D19)/AK52,(AB130+AT35*D19)/AL52,(AB131+AT35*D19)/AM52,(AB132+AT35*D19)/AN52,(AB133+AT35*D19)/AO52)*AP52","v":{"$error":"#VALUE!"}},{"$f":"MIN((AC129+AT35*D19)/AK52,(AC130+AT35*D19)/AL52,(AC131+AT35*D19)/AM52,(AC132+AT35*D19)/AN52,(AC133+AT35*D19)/AO52)*AP52","v":{"$error":"#VALUE!"}},{"$f":"MIN((AD129+AT35*D19)/AK52,(AD130+AT35*D19)/AL52,(AD131+AT35*D19)/AM52,(AD132+AT35*D19)/AN52,(AD133+AT35*D19)/AO52)*AP52","v":{"$error":"#VALUE!"}},{"$f":"MIN((AE129+AT35*D19)/AK52,(AE130+AT35*D19)/AL52,(AE131+AT35*D19)/AM52,(AE132+AT35*D19)/AN52,(AE133+AT35*D19)/AO52)*AP52","v":{"$error":"#VALUE!"}},{"$f":"MIN((AF129+AT35*D19)/AK52,(AF130+AT35*D19)/AL52,(AF131+AT35*D19)/AM52,(AF132+AT35*D19)/AN52,(AF133+AT35*D19)/AO52)*AP52","v":{"$error":"#VALUE!"}},{"$error":"#VALUE!"}]
[null,null,null,null,null,null,null,null,null,null,null,null,null,null,null,null,null,{"$f":"IF($AX$306,K31+VLOOKUP(Team!$AA37,Team!$E$30:$J$300,6,FALSE),K31+AH42+$D$21)+$D$19*$AG$28","v":{"$error":"#VALUE!"}},{"$f":"IF($AX$306,$R202,$R202+Q13)","v":{"$error":"#VALUE!"}},{"$error":"#VALUE!"},{"$error":"#VALUE!"},{"$error":"#VALUE!"},{"$error":"#VALUE!"},{"$error":"#VALUE!"},{"$error":"#VALUE!"},{"$error":"#VALUE!"},{"$error":"#VALUE!"},{"$error":"#VALUE!"},{"$error":"#VALUE!"},{"$error":"#VALUE!"},{"$error":"#VALUE!"},{"$error":"#VALUE!"},null,null,null,{"$f":"R135","v":""},{"$f":"MIN((S136+AT35*D19)/AK52,(S137+AT35*D19)/AL52,(S138+AT35*D19)/AM52,(S139+AT35*D19)/AN52,(S140+AT35*D19)/AO52)*AP52","v":{"$error":"#VALUE!"}},{"$f":"MIN((T136+AT35*D19)/AK52,(T137+AT35*D19)/AL52,(T138+AT35*D19)/AM52,(T139+AT35*D19)/AN52,(T140+AT35*D19)/AO52)*AP52","v":{"$error":"#VALUE!"}},{"$f":"MIN((U136+AT35*D19)/AK52,(U137+AT35*D19)/AL52,(U138+AT35*D19)/AM52,(U139+AT35*D19)/AN52,(U140+AT35*D19)/AO52)*AP52","v":{"$error":"#VALUE!"}},{"$f":"MIN((V136+AT35*D19)/AK52,(V137+AT35*D19)/AL52,(V138+AT35*D19)/AM52,(V139+AT35*D19)/AN52,(V140+AT35*D19)/AO52)*AP52","v":{"$error":"#VALUE!"}},{"$f":"MIN((W136+AT35*D19)/AK52,(W137+AT35*D19)/AL52,(W138+AT35*D19)/AM52,(W139+AT35*D19)/AN52,(W140+AT35*D19)/AO52)*AP52","v":{"$error":"#VALUE!"}},{"$f":"MIN((X136+AT35*D19)/AK52,(X137+AT35*D19)/AL52,(X138+AT35*D19)/AM52,(X139+AT35*D19)/AN52,(X140+AT35*D19)/AO52)*AP52","v":{"$error":"#VALUE!"}},{"$f":"MIN((Y136+AT35*D19)/AK52,(Y137+AT35*D19)/AL52,(Y138+AT35*D19)/AM52,(Y139+AT35*D19)/AN52,(Y140+AT35*D19)/AO52)*AP52","v":{"$error":"#VALUE!"}},{"$f":"MIN((Z136+AT35*D19)/AK52,(Z137+AT35*D19)/AL52,(Z138+AT35*D19)/AM52,(Z139+AT35*D19)/AN52,(Z140+AT35*D19)/AO52)*AP52","v":{"$error":"#VALUE!"}},{"$f":"MIN((AA136+AT35*D19)/AK52,(AA137+AT35*D19)/AL52,(AA138+AT35*D19)/AM52,(AA139+AT35*D19)/AN52,(AA140+AT35*D19)/AO52)*AP52","v":{"$error":"#VALUE!"}},{"$f":"MIN((AB136+AT35*D19)/AK52,(AB137+AT35*D19)/AL52,(AB138+AT35*D19)/AM52,(AB139+AT35*D19)/AN52,(AB140+AT35*D19)/AO52)*AP52","v":{"$error":"#VALUE!"}},{"$f":"MIN((AC136+AT35*D19)/AK52,(AC137+AT35*D19)/AL52,(AC138+AT35*D19)/AM52,(AC139+AT35*D19)/AN52,(AC140+AT35*D19)/AO52)*AP52","v":{"$error":"#VALUE!"}},{"$f":"MIN((AD136+AT35*D19)/AK52,(AD137+AT35*D19)/AL52,(AD138+AT35*D19)/AM52,(AD139+AT35*D19)/AN52,(AD140+AT35*D19)/AO52)*AP52","v":{"$error":"#VALUE!"}},{"$f":"MIN((AE136+AT35*D19)/AK52,(AE137+AT35*D19)/AL52,(AE138+AT35*D19)/AM52,(AE139+AT35*D19)/AN52,(AE140+AT35*D19)/AO52)*AP52","v":{"$error":"#VALUE!"}},{"$f":"MIN((AF136+AT35*D19)/AK52,(AF137+AT35*D19)/AL52,(AF138+AT35*D19)/AM52,(AF139+AT35*D19)/AN52,(AF140+AT35*D19)/AO52)*AP52","v":{"$error":"#VALUE!"}},{"$error":"#VALUE!"}]
[null,null,null,null,null,null,null,null,null,null,null,null,null,null,null,null,null,{"$f":"IF($AX$306,L31+VLOOKUP(Team!$AB37,Team!$E$30:$J$300,6,FALSE),L31+AH43+$D$21)+$D$19*$AG$28","v":{"$error":"#VALUE!"}},{"$f":"IF($AX$306,$R203,$R203+Q14)","v":{"$error":"#VALUE!"}},{"$error":"#VALUE!"},{"$error":"#VALUE!"},{"$error":"#VALUE!"},{"$error":"#VALUE!"},{"$error":"#VALUE!"},{"$error":"#VALUE!"},{"$error":"#VALUE!"},{"$error":"#VALUE!"},{"$error":"#VALUE!"},{"$error":"#VALUE!"},{"$error":"#VALUE!"},{"$error":"#VALUE!"},{"$error":"#VALUE!"},null,null,null,{"$f":"R142","v":""},{"$f":"MIN((S143+AT35*D19)/AK52,(S144+AT35*D19)/AL52,(S145+AT35*D19)/AM52,(S146+AT35*D19)/AN52,(S147+AT35*D19)/AO52)*AP52","v":{"$error":"#VALUE!"}},{"$f":"MIN((T143+AT35*D19)/AK52,(T144+AT35*D19)/AL52,(T145+AT35*D19)/AM52,(T146+AT35*D19)/AN52,(T147+AT35*D19)/AO52)*AP52","v":{"$error":"#VALUE!"}},{"$f":"MIN((U143+AT35*D19)/AK52,(U144+AT35*D19)/AL52,(U145+AT35*D19)/AM52,(U146+AT35*D19)/AN52,(U147+AT35*D19)/AO52)*AP52","v":{"$error":"#VALUE!"}},{"$f":"MIN((V143+AT35*D19)/AK52,(V144+AT35*D19)/AL52,(V145+AT35*D19)/AM52,(V146+AT35*D19)/AN52,(V147+AT35*D19)/AO52)*AP52","v":{"$error":"#VALUE!"}},{"$f":"MIN((W143+AT35*D19)/AK52,(W144+AT35*D19)/AL52,(W145+AT35*D19)/AM52,(W146+AT35*D19)/AN52,(W147+AT35*D19)/AO52)*AP52","v":{"$error":"#VALUE!"}},{"$f":"MIN((X143+AT35*D19)/AK52,(X144+AT35*D19)/AL52,(X145+AT35*D19)/AM52,(X146+AT35*D19)/AN52,(X147+AT35*D19)/AO52)*AP52","v":{"$error":"#VALUE!"}},{"$f":"MIN((Y143+AT35*D19)/AK52,(Y144+AT35*D19)/AL52,(Y145+AT35*D19)/AM52,(Y146+AT35*D19)/AN52,(Y147+AT35*D19)/AO52)*AP52","v":{"$error":"#VALUE!"}},{"$f":"MIN((Z143+AT35*D19)/AK52,(Z144+AT35*D19)/AL52,(Z145+AT35*D19)/AM52,(Z146+AT35*D19)/AN52,(Z147+AT35*D19)/AO52)*AP52","v":{"$error":"#VALUE!"}},{"$f":"MIN((AA143+AT35*D19)/AK52,(AA144+AT35*D19)/AL52,(AA145+AT35*D19)/AM52,(AA146+AT35*D19)/AN52,(AA147+AT35*D19)/AO52)*AP52","v":{"$error":"#VALUE!"}},{"$f":"MIN((AB143+AT35*D19)/AK52,(AB144+AT35*D19)/AL52,(AB145+AT35*D19)/AM52,(AB146+AT35*D19)/AN52,(AB147+AT35*D19)/AO52)*AP52","v":{"$error":"#VALUE!"}},{"$f":"MIN((AC143+AT35*D19)/AK52,(AC144+AT35*D19)/AL52,(AC145+AT35*D19)/AM52,(AC146+AT35*D19)/AN52,(AC147+AT35*D19)/AO52)*AP52","v":{"$error":"#VALUE!"}},{"$f":"MIN((AD143+AT35*D19)/AK52,(AD144+AT35*D19)/AL52,(AD145+AT35*D19)/AM52,(AD146+AT35*D19)/AN52,(AD147+AT35*D19)/AO52)*AP52","v":{"$error":"#VALUE!"}},{"$f":"MIN((AE143+AT35*D19)/AK52,(AE144+AT35*D19)/AL52,(AE145+AT35*D19)/AM52,(AE146+AT35*D19)/AN52,(AE147+AT35*D19)/AO52)*AP52","v":{"$error":"#VALUE!"}},{"$f":"MIN((AF143+AT35*D19)/AK52,(AF144+AT35*D19)/AL52,(AF145+AT35*D19)/AM52,(AF146+AT35*D19)/AN52,(AF147+AT35*D19)/AO52)*AP52","v":{"$error":"#VALUE!"}},{"$error":"#VALUE!"}]
[null,null,null,null,null,null,null,null,null,null,null,null,null,null,null,null,null,null,null,null,null,null,null,null,null,null,null,null,null,null,null,null,null,null,null,{"$f":"R149","v":""},{"$f":"MIN((S150+AT35*D19)/AK52,(S151+AT35*D19)/AL52,(S152+AT35*D19)/AM52,(S153+AT35*D19)/AN52,(S154+AT35*D19)/AO52)*AP52","v":{"$error":"#VALUE!"}},{"$f":"MIN((T150+AT35*D19)/AK52,(T151+AT35*D19)/AL52,(T152+AT35*D19)/AM52,(T153+AT35*D19)/AN52,(T154+AT35*D19)/AO52)*AP52","v":{"$error":"#VALUE!"}},{"$f":"MIN((U150+AT35*D19)/AK52,(U151+AT35*D19)/AL52,(U152+AT35*D19)/AM52,(U153+AT35*D19)/AN52,(U154+AT35*D19)/AO52)*AP52","v":{"$error":"#VALUE!"}},{"$f":"MIN((V150+AT35*D19)/AK52,(V151+AT35*D19)/AL52,(V152+AT35*D19)/AM52,(V153+AT35*D19)/AN52,(V154+AT35*D19)/AO52)*AP52","v":{"$error":"#VALUE!"}},{"$f":"MIN((W150+AT35*D19)/AK52,(W151+AT35*D19)/AL52,(W152+AT35*D19)/AM52,(W153+AT35*D19)/AN52,(W154+AT35*D19)/AO52)*AP52","v":{"$error":"#VALUE!"}},{"$f":"MIN((X150+AT35*D19)/AK52,(X151+AT35*D19)/AL52,(X152+AT35*D19)/AM52,(X153+AT35*D19)/AN52,(X154+AT35*D19)/AO52)*AP52","v":{"$error":"#VALUE!"}},{"$f":"MIN((Y150+AT35*D19)/AK52,(Y151+AT35*D19)/AL52,(Y152+AT35*D19)/AM52,(Y153+AT35*D19)/AN52,(Y154+AT35*D19)/AO52)*AP52","v":{"$error":"#VALUE!"}},{"$f":"MIN((Z150+AT35*D19)/AK52,(Z151+AT35*D19)/AL52,(Z152+AT35*D19)/AM52,(Z153+AT35*D19)/AN52,(Z154+AT35*D19)/AO52)*AP52","v":{"$error":"#VALUE!"}},{"$f":"MIN((AA150+AT35*D19)/AK52,(AA151+AT35*D19)/AL52,(AA152+AT35*D19)/AM52,(AA153+AT35*D19)/AN52,(AA154+AT35*D19)/AO52)*AP52","v":{"$error":"#VALUE!"}},{"$f":"MIN((AB150+AT35*D19)/AK52,(AB151+AT35*D19)/AL52,(AB152+AT35*D19)/AM52,(AB153+AT35*D19)/AN52,(AB154+AT35*D19)/AO52)*AP52","v":{"$error":"#VALUE!"}},{"$f":"MIN((AC150+AT35*D19)/AK52,(AC151+AT35*D19)/AL52,(AC152+AT35*D19)/AM52,(AC153+AT35*D19)/AN52,(AC154+AT35*D19)/AO52)*AP52","v":{"$error":"#VALUE!"}},{"$f":"MIN((AD150+AT35*D19)/AK52,(AD151+AT35*D19)/AL52,(AD152+AT35*D19)/AM52,(AD153+AT35*D19)/AN52,(AD154+AT35*D19)/AO52)*AP52","v":{"$error":"#VALUE!"}},{"$f":"MIN((AE150+AT35*D19)/AK52,(AE151+AT35*D19)/AL52,(AE152+AT35*D19)/AM52,(AE153+AT35*D19)/AN52,(AE154+AT35*D19)/AO52)*AP52","v":{"$error":"#VALUE!"}},{"$f":"MIN((AF150+AT35*D19)/AK52,(AF151+AT35*D19)/AL52,(AF152+AT35*D19)/AM52,(AF153+AT35*D19)/AN52,(AF154+AT35*D19)/AO52)*AP52","v":{"$error":"#VALUE!"}},{"$error":"#VALUE!"}]
[null,null,null,null,null,null,null,null,null,null,null,null,null,null,null,null,null,{"$f":"G32","v":""},{"$f":"S177","v":"kit 1"},{"$f":"T177","v":"kit 2/3"},0,"kit 4",0,"kit 5","kit 6/7",0,0,"kit 8","kit 9",0,{"$f":"AE177","v":"kit 10"},{"$f":"AF177","v":"kit 11"},null,null,null,{"$f":"R156","v":""},{"$f":"MIN((S157+AT35*D19)/AK52,(S158+AT35*D19)/AL52,(S159+AT35*D19)/AM52,(S160+AT35*D19)/AN52,(S161+AT35*D19)/AO52)*AP52","v":{"$error":"#VALUE!"}},{"$f":"MIN((T157+AT35*D19)/AK52,(T158+AT35*D19)/AL52,(T159+AT35*D19)/AM52,(T160+AT35*D19)/AN52,(T161+AT35*D19)/AO52)*AP52","v":{"$error":"#VALUE!"}},{"$f":"MIN((U157+AT35*D19)/AK52,(U158+AT35*D19)/AL52,(U159+AT35*D19)/AM52,(U160+AT35*D19)/AN52,(U161+AT35*D19)/AO52)*AP52","v":{"$error":"#VALUE!"}},{"$f":"MIN((V157+AT35*D19)/AK52,(V158+AT35*D19)/AL52,(V159+AT35*D19)/AM52,(V160+AT35*D19)/AN52,(V161+AT35*D19)/AO52)*AP52","v":{"$error":"#VALUE!"}},{"$f":"MIN((W157+AT35*D19)/AK52,(W158+AT35*D19)/AL52,(W159+AT35*D19)/AM52,(W160+AT35*D19)/AN52,(W161+AT35*D19)/AO52)*AP52","v":{"$error":"#VALUE!"}},{"$f":"MIN((X157+AT35*D19)/AK52,(X158+AT35*D19)/AL52,(X159+AT35*D19)/AM52,(X160+AT35*D19)/AN52,(X161+AT35*D19)/AO52)*AP52","v":{"$error":"#VALUE!"}},{"$f":"MIN((Y157+AT35*D19)/AK52,(Y158+AT35*D19)/AL52,(Y159+AT35*D19)/AM52,(Y160+AT35*D19)/AN52,(Y161+AT35*D19)/AO52)*AP52","v":{"$error":"#VALUE!"}},{"$f":"MIN((Z157+AT35*D19)/AK52,(Z158+AT35*D19)/AL52,(Z159+AT35*D19)/AM52,(Z160+AT35*D19)/AN52,(Z161+AT35*D19)/AO52)*AP52","v":{"$error":"#VALUE!"}},{"$f":"MIN((AA157+AT35*D19)/AK52,(AA158+AT35*D19)/AL52,(AA159+AT35*D19)/AM52,(AA160+AT35*D19)/AN52,(AA161+AT35*D19)/AO52)*AP52","v":{"$error":"#VALUE!"}},{"$f":"MIN((AB157+AT35*D19)/AK52,(AB158+AT35*D19)/AL52,(AB159+AT35*D19)/AM52,(AB160+AT35*D19)/AN52,(AB161+AT35*D19)/AO52)*AP52","v":{"$error":"#VALUE!"}},{"$f":"MIN((AC157+AT35*D19)/AK52,(AC158+AT35*D19)/AL52,(AC159+AT35*D19)/AM52,(AC160+AT35*D19)/AN52,(AC161+AT35*D19)/AO52)*AP52","v":{"$error":"#VALUE!"}},{"$f":"MIN((AD157+AT35*D19)/AK52,(AD158+AT35*D19)/AL52,(AD159+AT35*D19)/AM52,(AD160+AT35*D19)/AN52,(AD161+AT35*D19)/AO52)*AP52","v":{"$error":"#VALUE!"}},{"$f":"MIN((AE157+AT35*D19)/AK52,(AE158+AT35*D19)/AL52,(AE159+AT35*D19)/AM52,(AE160+AT35*D19)/AN52,(AE161+AT35*D19)/AO52)*AP52","v":{"$error":"#VALUE!"}},{"$f":"MIN((AF157+AT35*D19)/AK52,(AF158+AT35*D19)/AL52,(AF159+AT35*D19)/AM52,(AF160+AT35*D19)/AN52,(AF161+AT35*D19)/AO52)*AP52","v":{"$error":"#VALUE!"}},{"$error":"#VALUE!"}]
[null,null,null,null,null,null,null,null,null,null,null,null,null,null,null,null,null,{"$f":"IF($AX$306,H32+VLOOKUP(Team!$X38,Team!$E$30:$J$300,6,FALSE),H32+AH39+$D$21)+$D$19*$AG$29","v":{"$error":"#VALUE!"}},{"$f":"IF($AX$306,$R206,$R206+Q10)","v":{"$error":"#VALUE!"}},{"$f":"IF($AX$306,$R206,$R206+R10)","v":{"$error":"#VALUE!"}},{"$error":"#VALUE!"},{"$error":"#VALUE!"},{"$error":"#VALUE!"},{"$error":"#VALUE!"},{"$error":"#VALUE!"},{"$error":"#VALUE!"},{"$error":"#VALUE!"},{"$error":"#VALUE!"},{"$error":"#VALUE!"},{"$error":"#VALUE!"},{"$error":"#VALUE!"},{"$error":"#VALUE!"},null,null,null,{"$f":"R163","v":""},{"$f":"MIN((S164+AT35*D19)/AK52,(S165+AT35*D19)/AL52,(S166+AT35*D19)/AM52,(S167+AT35*D19)/AN52,(S168+AT35*D19)/AO52)*AP52","v":{"$error":"#VALUE!"}},{"$f":"MIN((T164+AT35*D19)/AK52,(T165+AT35*D19)/AL52,(T166+AT35*D19)/AM52,(T167+AT35*D19)/AN52,(T168+AT35*D19)/AO52)*AP52","v":{"$error":"#VALUE!"}},{"$f":"MIN((U164+AT35*D19)/AK52,(U165+AT35*D19)/AL52,(U166+AT35*D19)/AM52,(U167+AT35*D19)/AN52,(U168+AT35*D19)/AO52)*AP52","v":{"$error":"#VALUE!"}},{"$f":"MIN((V164+AT35*D19)/AK52,(V165+AT35*D19)/AL52,(V166+AT35*D19)/AM52,(V167+AT35*D19)/AN52,(V168+AT35*D19)/AO52)*AP52","v":{"$error":"#VALUE!"}},{"$f":"MIN((W164+AT35*D19)/AK52,(W165+AT35*D19)/AL52,(W166+AT35*D19)/AM52,(W167+AT35*D19)/AN52,(W168+AT35*D19)/AO52)*AP52","v":{"$error":"#VALUE!"}},{"$f":"MIN((X164+AT35*D19)/AK52,(X165+AT35*D19)/AL52,(X166+AT35*D19)/AM52,(X167+AT35*D19)/AN52,(X168+AT35*D19)/AO52)*AP52","v":{"$error":"#VALUE!"}},{"$f":"MIN((Y164+AT35*D19)/AK52,(Y165+AT35*D19)/AL52,(Y166+AT35*D19)/AM52,(Y167+AT35*D19)/AN52,(Y168+AT35*D19)/AO52)*AP52","v":{"$error":"#VALUE!"}},{"$f":"MIN((Z164+AT35*D19)/AK52,(Z165+AT35*D19)/AL52,(Z166+AT35*D19)/AM52,(Z167+AT35*D19)/AN52,(Z168+AT35*D19)/AO52)*AP52","v":{"$error":"#VALUE!"}},{"$f":"MIN((AA164+AT35*D19)/AK52,(AA165+AT35*D19)/AL52,(AA166+AT35*D19)/AM52,(AA167+AT35*D19)/AN52,(AA168+AT35*D19)/AO52)*AP52","v":{"$error":"#VALUE!"}},{"$f":"MIN((AB164+AT35*D19)/AK52,(AB165+AT35*D19)/AL52,(AB166+AT35*D19)/AM52,(AB167+AT35*D19)/AN52,(AB168+AT35*D19)/AO52)*AP52","v":{"$error":"#VALUE!"}},{"$f":"MIN((AC164+AT35*D19)/AK52,(AC165+AT35*D19)/AL52,(AC166+AT35*D19)/AM52,(AC167+AT35*D19)/AN52,(AC168+AT35*D19)/AO52)*AP52","v":{"$error":"#VALUE!"}},{"$f":"MIN((AD164+AT35*D19)/AK52,(AD165+AT35*D19)/AL52,(AD166+AT35*D19)/AM52,(AD167+AT35*D19)/AN52,(AD168+AT35*D19)/AO52)*AP52","v":{"$error":"#VALUE!"}},{"$f":"MIN((AE164+AT35*D19)/AK52,(AE165+AT35*D19)/AL52,(AE166+AT35*D19)/AM52,(AE167+AT35*D19)/AN52,(AE168+AT35*D19)/AO52)*AP52","v":{"$error":"#VALUE!"}},{"$f":"MIN((AF164+AT35*D19)/AK52,(AF165+AT35*D19)/AL52,(AF166+AT35*D19)/AM52,(AF167+AT35*D19)/AN52,(AF168+AT35*D19)/AO52)*AP52","v":{"$error":"#VALUE!"}},{"$error":"#VALUE!"}]
[null,null,null,null,null,null,null,null,null,null,null,null,null,null,null,null,null,{"$f":"IF($AX$306,I32+VLOOKUP(Team!$Y38,Team!$E$30:$J$300,6,FALSE),I32+AH40+$D$21)+$D$19*$AG$29","v":{"$error":"#VALUE!"}},{"$f":"IF($AX$306,$R207,$R207+Q11)","v":{"$error":"#VALUE!"}},{"$error":"#VALUE!"},{"$error":"#VALUE!"},{"$error":"#VALUE!"},{"$error":"#VALUE!"},{"$error":"#VALUE!"},{"$error":"#VALUE!"},{"$error":"#VALUE!"},{"$error":"#VALUE!"},{"$error":"#VALUE!"},{"$error":"#VALUE!"},{"$error":"#VALUE!"},{"$error":"#VALUE!"},{"$error":"#VALUE!"},null,null,null,{"$f":"R170","v":""},{"$f":"MIN((S171+AT35*D19)/AK52,(S172+AT35*D19)/AL52,(S173+AT35*D19)/AM52,(S174+AT35*D19)/AN52,(S175+AT35*D19)/AO52)*AP52","v":{"$error":"#VALUE!"}},{"$f":"MIN((T171+AT35*D19)/AK52,(T172+AT35*D19)/AL52,(T173+AT35*D19)/AM52,(T174+AT35*D19)/AN52,(T175+AT35*D19)/AO52)*AP52","v":{"$error":"#VALUE!"}},{"$f":"MIN((U171+AT35*D19)/AK52,(U172+AT35*D19)/AL52,(U173+AT35*D19)/AM52,(U174+AT35*D19)/AN52,(U175+AT35*D19)/AO52)*AP52","v":{"$error":"#VALUE!"}},{"$f":"MIN((V171+AT35*D19)/AK52,(V172+AT35*D19)/AL52,(V173+AT35*D19)/AM52,(V174+AT35*D19)/AN52,(V175+AT35*D19)/AO52)*AP52","v":{"$error":"#VALUE!"}},{"$f":"MIN((W171+AT35*D19)/AK52,(W172+AT35*D19)/AL52,(W173+AT35*D19)/AM52,(W174+AT35*D19)/AN52,(W175+AT35*D19)/AO52)*AP52","v":{"$error":"#VALUE!"}},{"$f":"MIN((X171+AT35*D19)/AK52,(X172+AT35*D19)/AL52,(X173+AT35*D19)/AM52,(X174+AT35*D19)/AN52,(X175+AT35*D19)/AO52)*AP52","v":{"$error":"#VALUE!"}},{"$f":"MIN((Y171+AT35*D19)/AK52,(Y172+AT35*D19)/AL52,(Y173+AT35*D19)/AM52,(Y174+AT35*D19)/AN52,(Y175+AT35*D19)/AO52)*AP52","v":{"$error":"#VALUE!"}},{"$f":"MIN((Z171+AT35*D19)/AK52,(Z172+AT35*D19)/AL52,(Z173+AT35*D19)/AM52,(Z174+AT35*D19)/AN52,(Z175+AT35*D19)/AO52)*AP52","v":{"$error":"#VALUE!"}},{"$f":"MIN((AA171+AT35*D19)/AK52,(AA172+AT35*D19)/AL52,(AA173+AT35*D19)/AM52,(AA174+AT35*D19)/AN52,(AA175+AT35*D19)/AO52)*AP52","v":{"$error":"#VALUE!"}},{"$f":"MIN((AB171+AT35*D19)/AK52,(AB172+AT35*D19)/AL52,(AB173+AT35*D19)/AM52,(AB174+AT35*D19)/AN52,(AB175+AT35*D19)/AO52)*AP52","v":{"$error":"#VALUE!"}},{"$f":"MIN((AC171+AT35*D19)/AK52,(AC172+AT35*D19)/AL52,(AC173+AT35*D19)/AM52,(AC174+AT35*D19)/AN52,(AC175+AT35*D19)/AO52)*AP52","v":{"$error":"#VALUE!"}},{"$f":"MIN((AD171+AT35*D19)/AK52,(AD172+AT35*D19)/AL52,(AD173+AT35*D19)/AM52,(AD174+AT35*D19)/AN52,(AD175+AT35*D19)/AO52)*AP52","v":{"$error":"#VALUE!"}},{"$f":"MIN((AE171+AT35*D19)/AK52,(AE172+AT35*D19)/AL52,(AE173+AT35*D19)/AM52,(AE174+AT35*D19)/AN52,(AE175+AT35*D19)/AO52)*AP52","v":{"$error":"#VALUE!"}},{"$f":"MIN((AF171+AT35*D19)/AK52,(AF172+AT35*D19)/AL52,(AF173+AT35*D19)/AM52,(AF174+AT35*D19)/AN52,(AF175+AT35*D19)/AO52)*AP52","v":{"$error":"#VALUE!"}},{"$error":"#VALUE!"}]
[null,null,null,null,null,null,null,null,null,null,null,null,null,null,null,null,null,{"$f":"IF($AX$306,J32+VLOOKUP(Team!$Z38,Team!$E$30:$J$300,6,FALSE),J32+AH41+$D$21)+$D$19*$AG$29","v":{"$error":"#VALUE!"}},{"$f":"IF($AX$306,$R208,$R208+Q12)","v":{"$error":"#VALUE!"}},{"$error":"#VALUE!"},{"$error":"#VALUE!"},{"$error":"#VALUE!"},{"$error":"#VALUE!"},{"$error":"#VALUE!"},{"$error":"#VALUE!"},{"$error":"#VALUE!"},{"$error":"#VALUE!"},{"$error":"#VALUE!"},{"$error":"#VALUE!"},{"$error":"#VALUE!"},{"$error":"#VALUE!"},{"$error":"#VALUE!"},null,null,null,{"$f":"R177","v":""},{"$f":"MIN((S178+AT35*D19)/AK52,(S179+AT35*D19)/AL52,(S180+AT35*D19)/AM52,(S181+AT35*D19)/AN52,(S182+AT35*D19)/AO52)*AP52","v":{"$error":"#VALUE!"}},{"$f":"MIN((T178+AT35*D19)/AK52,(T179+AT35*D19)/AL52,(T180+AT35*D19)/AM52,(T181+AT35*D19)/AN52,(T182+AT35*D19)/AO52)*AP52","v":{"$error":"#VALUE!"}},{"$f":"MIN((U178+AT35*D19)/AK52,(U179+AT35*D19)/AL52,(U180+AT35*D19)/AM52,(U181+AT35*D19)/AN52,(U182+AT35*D19)/AO52)*AP52","v":{"$error":"#VALUE!"}},{"$f":"MIN((V178+AT35*D19)/AK52,(V179+AT35*D19)/AL52,(V180+AT35*D19)/AM52,(V181+AT35*D19)/AN52,(V182+AT35*D19)/AO52)*AP52","v":{"$error":"#VALUE!"}},{"$f":"MIN((W178+AT35*D19)/AK52,(W179+AT35*D19)/AL52,(W180+AT35*D19)/AM52,(W181+AT35*D19)/AN52,(W182+AT35*D19)/AO52)*AP52","v":{"$error":"#VALUE!"}},{"$f":"MIN((X178+AT35*D19)/AK52,(X179+AT35*D19)/AL52,(X180+AT35*D19)/AM52,(X181+AT35*D19)/AN52,(X182+AT35*D19)/AO52)*AP52","v":{"$error":"#VALUE!"}},{"$f":"MIN((Y178+AT35*D19)/AK52,(Y179+AT35*D19)/AL52,(Y180+AT35*D19)/AM52,(Y181+AT35*D19)/AN52,(Y182+AT35*D19)/AO52)*AP52","v":{"$error":"#VALUE!"}},{"$f":"MIN((Z178+AT35*D19)/AK52,(Z179+AT35*D19)/AL52,(Z180+AT35*D19)/AM52,(Z181+AT35*D19)/AN52,(Z182+AT35*D19)/AO52)*AP52","v":{"$error":"#VALUE!"}},{"$f":"MIN((AA178+AT35*D19)/AK52,(AA179+AT35*D19)/AL52,(AA180+AT35*D19)/AM52,(AA181+AT35*D19)/AN52,(AA182+AT35*D19)/AO52)*AP52","v":{"$error":"#VALUE!"}},{"$f":"MIN((AB178+AT35*D19)/AK52,(AB179+AT35*D19)/AL52,(AB180+AT35*D19)/AM52,(AB181+AT35*D19)/AN52,(AB182+AT35*D19)/AO52)*AP52","v":{"$error":"#VALUE!"}},{"$f":"MIN((AC178+AT35*D19)/AK52,(AC179+AT35*D19)/AL52,(AC180+AT35*D19)/AM52,(AC181+AT35*D19)/AN52,(AC182+AT35*D19)/AO52)*AP52","v":{"$error":"#VALUE!"}},{"$f":"MIN((AD178+AT35*D19)/AK52,(AD179+AT35*D19)/AL52,(AD180+AT35*D19)/AM52,(AD181+AT35*D19)/AN52,(AD182+AT35*D19)/AO52)*AP52","v":{"$error":"#VALUE!"}},{"$f":"MIN((AE178+AT35*D19)/AK52,(AE179+AT35*D19)/AL52,(AE180+AT35*D19)/AM52,(AE181+AT35*D19)/AN52,(AE182+AT35*D19)/AO52)*AP52","v":{"$error":"#VALUE!"}},{"$f":"MIN((AF178+AT35*D19)/AK52,(AF179+AT35*D19)/AL52,(AF180+AT35*D19)/AM52,(AF181+AT35*D19)/AN52,(AF182+AT35*D19)/AO52)*AP52","v":{"$error":"#VALUE!"}},{"$error":"#VALUE!"}]
[null,null,null,null,null,null,null,null,null,null,null,null,null,null,null,null,null,{"$f":"IF($AX$306,K32+VLOOKUP(Team!$AA38,Team!$E$30:$J$300,6,FALSE),K32+AH42+$D$21)+$D$19*$AG$29","v":{"$error":"#VALUE!"}},{"$f":"IF($AX$306,$R209,$R209+Q13)","v":{"$error":"#VALUE!"}},{"$error":"#VALUE!"},{"$error":"#VALUE!"},{"$error":"#VALUE!"},{"$error":"#VALUE!"},{"$error":"#VALUE!"},{"$error":"#VALUE!"},{"$error":"#VALUE!"},{"$error":"#VALUE!"},{"$error":"#VALUE!"},{"$error":"#VALUE!"},{"$error":"#VALUE!"},{"$error":"#VALUE!"},{"$error":"#VALUE!"},null,null,null,{"$f":"R184","v":""},{"$f":"MIN((S185+$AT$35*$D$19)/$AK$52,(S186+$AT$35*$D$19)/$AL$52,(S187+$AT$35*$D$19)/$AM$52,(S188+$AT$35*$D$19)/$AN$52,(S189+$AT$35*$D$19)/$AO$52)*$AP$52","v":{"$error":"#VALUE!"}},{"$error":"#VALUE!"},{"$error":"#VALUE!"},{"$error":"#VALUE!"},{"$error":"#VALUE!"},{"$error":"#VALUE!"},{"$error":"#VALUE!"},{"$error":"#VALUE!"},{"$error":"#VALUE!"},{"$error":"#VALUE!"},{"$error":"#VALUE!"},{"$error":"#VALUE!"},{"$error":"#VALUE!"},{"$error":"#VALUE!"},{"$error":"#VALUE!"}]
[null,null,null,null,null,null,null,null,null,null,null,null,null,null,null,null,null,{"$f":"IF($AX$306,L32+VLOOKUP(Team!$AB38,Team!$E$30:$J$300,6,FALSE),L32+AH43+$D$21)+$D$19*$AG$29","v":{"$error":"#VALUE!"}},{"$f":"IF($AX$306,$R210,$R210+Q14)","v":{"$error":"#VALUE!"}},{"$error":"#VALUE!"},{"$error":"#VALUE!"},{"$error":"#VALUE!"},{"$error":"#VALUE!"},{"$error":"#VALUE!"},{"$error":"#VALUE!"},{"$error":"#VALUE!"},{"$error":"#VALUE!"},{"$error":"#VALUE!"},{"$error":"#VALUE!"},{"$error":"#VALUE!"},{"$error":"#VALUE!"},{"$error":"#VALUE!"},null,null,null,{"$f":"R191","v":""},{"$f":"MIN((S192+$AT$35*$D$19)/$AK$52,(S193+$AT$35*$D$19)/$AL$52,(S194+$AT$35*$D$19)/$AM$52,(S195+$AT$35*$D$19)/$AN$52,(S196+$AT$35*$D$19)/$AO$52)*$AP$52","v":{"$error":"#VALUE!"}},{"$error":"#VALUE!"},{"$error":"#VALUE!"},{"$error":"#VALUE!"},{"$error":"#VALUE!"},{"$error":"#VALUE!"},{"$error":"#VALUE!"},{"$error":"#VALUE!"},{"$error":"#VALUE!"},{"$error":"#VALUE!"},{"$error":"#VALUE!"},{"$error":"#VALUE!"},{"$error":"#VALUE!"},{"$error":"#VALUE!"},{"$error":"#VALUE!"}]
[null,null,null,null,null,null,null,null,null,null,null,null,null,null,null,null,null,null,null,null,null,null,null,null,null,null,null,null,null,null,null,null,null,null,null,{"$f":"R198","v":""},{"$f":"MIN((S199+$AT$35*$D$19)/$AK$52,(S200+$AT$35*$D$19)/$AL$52,(S201+$AT$35*$D$19)/$AM$52,(S202+$AT$35*$D$19)/$AN$52,(S203+$AT$35*$D$19)/$AO$52)*$AP$52","v":{"$error":"#VALUE!"}},{"$error":"#VALUE!"},{"$error":"#VALUE!"},{"$error":"#VALUE!"},{"$error":"#VALUE!"},{"$error":"#VALUE!"},{"$error":"#VALUE!"},{"$error":"#VALUE!"},{"$error":"#VALUE!"},{"$error":"#VALUE!"},{"$error":"#VALUE!"},{"$error":"#VALUE!"},{"$error":"#VALUE!"},{"$error":"#VALUE!"},{"$error":"#VALUE!"}]
[null,null,null,null,null,null,null,null,null,null,null,null,null,null,null,null,null,{"$f":"G34","v":0},{"$f":"S184","v":"kit 1"},{"$f":"T184","v":"kit 2/3"},0,"kit 4",0,"kit 5","kit 6/7",0,0,"kit 8","kit 9",0,{"$f":"AE184","v":"kit 10"},{"$f":"AF184","v":"kit 11"},null,null,null,{"$f":"R205","v":""},{"$f":"MIN((S206+$AT$35*$D$19)/$AK$52,(S207+$AT$35*$D$19)/$AL$52,(S208+$AT$35*$D$19)/$AM$52,(S209+$AT$35*$D$19)/$AN$52,(S210+$AT$35*$D$19)/$AO$52)*$AP$52","v":{"$error":"#VALUE!"}},{"$error":"#VALUE!"},{"$error":"#VALUE!"},{"$error":"#VALUE!"},{"$error":"#VALUE!"},{"$error":"#VALUE!"},{"$error":"#VALUE!"},{"$error":"#VALUE!"},{"$error":"#VALUE!"},{"$error":"#VALUE!"},{"$error":"#VALUE!"},{"$error":"#VALUE!"},{"$error":"#VALUE!"},{"$error":"#VALUE!"},{"$error":"#VALUE!"}]
[null,null,null,null,null,null,null,null,null,null,null,null,null,null,null,null,null,{"$f":"H34+AH39+D16+D17+D21+D19*AG31","v":{"$error":"#VALUE!"}},{"$f":"R213+Q10","v":{"$error":"#VALUE!"}},{"$f":"R213+R10","v":{"$error":"#VALUE!"}},{"$f":"R213+S10","v":{"$error":"#VALUE!"}},{"$f":"R213+T10","v":{"$error":"#VALUE!"}},{"$f":"R213+U10","v":{"$error":"#VALUE!"}},{"$f":"R213+V10","v":{"$error":"#VALUE!"}},{"$f":"R213+W10","v":{"$error":"#VALUE!"}},{"$f":"R213+X10","v":{"$error":"#VALUE!"}},{"$f":"R213+Y10","v":{"$error":"#VALUE!"}},{"$f":"R213+Z10","v":{"$error":"#VALUE!"}},{"$f":"R213+AA10","v":{"$error":"#VALUE!"}},{"$f":"R213+AB10","v":{"$error":"#VALUE!"}},{"$f":"R213+AC10","v":{"$error":"#VALUE!"}},{"$f":"R213+AD10","v":{"$error":"#VALUE!"}},null,null,null,{"$f":"R212","v":0},{"$f":"MIN((S213+$AT$35*$D$19)/$AK$52,(S214+$AT$35*$D$19)/$AL$52,(S215+$AT$35*$D$19)/$AM$52,(S216+$AT$35*$D$19)/$AN$52,(S217+$AT$35*$D$19)/$AO$52)*$AP$52","v":{"$error":"#VALUE!"}},{"$error":"#VALUE!"},{"$error":"#VALUE!"},{"$error":"#VALUE!"},{"$error":"#VALUE!"},{"$error":"#VALUE!"},{"$error":"#VALUE!"},{"$error":"#VALUE!"},{"$error":"#VALUE!"},{"$error":"#VALUE!"},{"$error":"#VALUE!"},{"$error":"#VALUE!"},{"$error":"#VALUE!"},{"$error":"#VALUE!"},{"$error":"#VALUE!"}]
[null,null,null,null,null,null,null,null,null,null,null,null,null,null,null,null,null,{"$f":"I34+AH40+D15+D17+D21+D19*AG31","v":{"$error":"#VALUE!"}},{"$f":"R214+Q11","v":{"$error":"#VALUE!"}},{"$f":"R214+R11","v":{"$error":"#VALUE!"}},{"$f":"R214+S11","v":{"$error":"#VALUE!"}},{"$f":"R214+T11","v":{"$error":"#VALUE!"}},{"$f":"R214+U11","v":{"$error":"#VALUE!"}},{"$f":"R214+V11","v":{"$error":"#VALUE!"}},{"$f":"R214+W11","v":{"$error":"#VALUE!"}},{"$f":"R214+X11","v":{"$error":"#VALUE!"}},{"$f":"R214+Y11","v":{"$error":"#VALUE!"}},{"$f":"R214+Z11","v":{"$error":"#VALUE!"}},{"$f":"R214+AA11","v":{"$error":"#VALUE!"}},{"$f":"R214+AB11","v":{"$error":"#VALUE!"}},{"$f":"R214+AC11","v":{"$error":"#VALUE!"}},{"$f":"R214+AD11","v":{"$error":"#VALUE!"}},null,null,null,{"$f":"R219","v":0},{"$f":"MIN((S220+$AT$35*$D$19)/$AK$52,(S221+$AT$35*$D$19)/$AL$52,(S222+$AT$35*$D$19)/$AM$52,(S223+$AT$35*$D$19)/$AN$52,(S224+$AT$35*$D$19)/$AO$52)*$AP$52","v":{"$error":"#VALUE!"}},{"$error":"#VALUE!"},{"$error":"#VALUE!"},{"$error":"#VALUE!"},{"$error":"#VALUE!"},{"$error":"#VALUE!"},{"$error":"#VALUE!"},{"$error":"#VALUE!"},{"$error":"#VALUE!"},{"$error":"#VALUE!"},{"$error":"#VALUE!"},{"$error":"#VALUE!"},{"$error":"#VALUE!"},{"$error":"#VALUE!"},{"$error":"#VALUE!"}]
[null,null,null,null,null,null,null,null,null,null,null,null,null,null,null,null,null,{"$f":"J34+AH41+D15+D17+D21+D19*AG31","v":{"$error":"#VALUE!"}},{"$f":"R215+Q12","v":{"$error":"#VALUE!"}},{"$f":"R215+R12","v":{"$error":"#VALUE!"}},{"$f":"R215+S12","v":{"$error":"#VALUE!"}},{"$f":"R215+T12","v":{"$error":"#VALUE!"}},{"$f":"R215+U12","v":{"$error":"#VALUE!"}},{"$f":"R215+V12","v":{"$error":"#VALUE!"}},{"$f":"R215+W12","v":{"$error":"#VALUE!"}},{"$f":"R215+X12","v":{"$error":"#VALUE!"}},{"$f":"R215+Y12","v":{"$error":"#VALUE!"}},{"$f":"R215+Z12","v":{"$error":"#VALUE!"}},{"$f":"R215+AA12","v":{"$error":"#VALUE!"}},{"$f":"R215+AB12","v":{"$error":"#VALUE!"}},{"$f":"R215+AC12","v":{"$error":"#VALUE!"}},{"$f":"R215+AD12","v":{"$error":"#VALUE!"}},null,null,null,{"$f":"R226","v":0},{"$f":"MIN((S227+$AT$35*$D$19)/$AK$52,(S228+$AT$35*$D$19)/$AL$52,(S229+$AT$35*$D$19)/$AM$52,(S230+$AT$35*$D$19)/$AN$52,(S231+$AT$35*$D$19)/$AO$52)*$AP$52","v":{"$error":"#VALUE!"}},{"$error":"#VALUE!"},{"$error":"#VALUE!"},{"$error":"#VALUE!"},{"$error":"#VALUE!"},{"$error":"#VALUE!"},{"$error":"#VALUE!"},{"$error":"#VALUE!"},{"$error":"#VALUE!"},{"$error":"#VALUE!"},{"$error":"#VALUE!"},{"$error":"#VALUE!"},{"$error":"#VALUE!"},{"$error":"#VALUE!"},{"$error":"#VALUE!"}]
[null,null,null,null,null,null,null,null,null,null,null,null,null,null,null,null,null,{"$f":"K34+AH42+D16+D17+D21+D19*AG31","v":{"$error":"#VALUE!"}},{"$f":"R216+Q13","v":{"$error":"#VALUE!"}},{"$f":"R216+R13","v":{"$error":"#VALUE!"}},{"$f":"R216+S13","v":{"$error":"#VALUE!"}},{"$f":"R216+T13","v":{"$error":"#VALUE!"}},{"$f":"R216+U13","v":{"$error":"#VALUE!"}},{"$f":"R216+V13","v":{"$error":"#VALUE!"}},{"$f":"R216+W13","v":{"$error":"#VALUE!"}},{"$f":"R216+X13","v":{"$error":"#VALUE!"}},{"$f":"R216+Y13","v":{"$error":"#VALUE!"}},{"$f":"R216+Z13","v":{"$error":"#VALUE!"}},{"$f":"R216+AA13","v":{"$error":"#VALUE!"}},{"$f":"R216+AB13","v":{"$error":"#VALUE!"}},{"$f":"R216+AC13","v":{"$error":"#VALUE!"}},{"$f":"R216+AD13","v":{"$error":"#VALUE!"}}]
[null,null,null,null,null,null,null,null,null,null,null,null,null,null,null,null,null,{"$f":"L34+AH43+D15+D17+D21+D19*AG31","v":{"$error":"#VALUE!"}},{"$f":"R217+Q14","v":{"$error":"#VALUE!"}},{"$f":"R217+R14","v":{"$error":"#VALUE!"}},{"$f":"R217+S14","v":{"$error":"#VALUE!"}},{"$f":"R217+T14","v":{"$error":"#VALUE!"}},{"$f":"R217+U14","v":{"$error":"#VALUE!"}},{"$f":"R217+V14","v":{"$error":"#VALUE!"}},{"$f":"R217+W14","v":{"$error":"#VALUE!"}},{"$f":"R217+X14","v":{"$error":"#VALUE!"}},{"$f":"R217+Y14","v":{"$error":"#VALUE!"}},{"$f":"R217+Z14","v":{"$error":"#VALUE!"}},{"$f":"R217+AA14","v":{"$error":"#VALUE!"}},{"$f":"R217+AB14","v":{"$error":"#VALUE!"}},{"$f":"R217+AC14","v":{"$error":"#VALUE!"}},{"$f":"R217+AD14","v":{"$error":"#VALUE!"}}]
[]
[null,null,null,null,null,null,null,null,null,null,null,null,null,null,null,null,null,{"$f":"G35","v":0},{"$f":"S191","v":"kit 1"},{"$f":"T191","v":"kit 2/3"},0,"kit 4",0,"kit 5","kit 6/7",0,0,"kit 8","kit 9",0,{"$f":"AE191","v":"kit 10"},{"$f":"AF191","v":"kit 11"}]
[null,null,null,null,null,null,null,null,null,null,null,null,null,null,null,null,null,{"$f":"H35+AH39+D16+D17+D21+D19*AG32","v":{"$error":"#VALUE!"}},{"$f":"R220+Q10","v":{"$error":"#VALUE!"}},{"$f":"R220+R10","v":{"$error":"#VALUE!"}},{"$f":"R220+S10","v":{"$error":"#VALUE!"}},{"$f":"R220+T10","v":{"$error":"#VALUE!"}},{"$f":"R220+U10","v":{"$error":"#VALUE!"}},{"$f":"R220+V10","v":{"$error":"#VALUE!"}},{"$f":"R220+W10","v":{"$error":"#VALUE!"}},{"$f":"R220+X10","v":{"$error":"#VALUE!"}},{"$f":"R220+Y10","v":{"$error":"#VALUE!"}},{"$f":"R220+Z10","v":{"$error":"#VALUE!"}},{"$f":"R220+AA10","v":{"$error":"#VALUE!"}},{"$f":"R220+AB10","v":{"$error":"#VALUE!"}},{"$f":"R220+AC10","v":{"$error":"#VALUE!"}},{"$f":"R220+AD10","v":{"$error":"#VALUE!"}}]
[null,null,null,null,null,null,null,null,null,null,null,null,null,null,null,null,null,{"$f":"I35+AH40+D15+D17+D21+D19*AG32","v":{"$error":"#VALUE!"}},{"$f":"R221+Q11","v":{"$error":"#VALUE!"}},{"$f":"R221+R11","v":{"$error":"#VALUE!"}},{"$f":"R221+S11","v":{"$error":"#VALUE!"}},{"$f":"R221+T11","v":{"$error":"#VALUE!"}},{"$f":"R221+U11","v":{"$error":"#VALUE!"}},{"$f":"R221+V11","v":{"$error":"#VALUE!"}},{"$f":"R221+W11","v":{"$error":"#VALUE!"}},{"$f":"R221+X11","v":{"$error":"#VALUE!"}},{"$f":"R221+Y11","v":{"$error":"#VALUE!"}},{"$f":"R221+Z11","v":{"$error":"#VALUE!"}},{"$f":"R221+AA11","v":{"$error":"#VALUE!"}},{"$f":"R221+AB11","v":{"$error":"#VALUE!"}},{"$f":"R221+AC11","v":{"$error":"#VALUE!"}},{"$f":"R221+AD11","v":{"$error":"#VALUE!"}}]
[null,null,null,null,null,null,null,null,null,null,null,null,null,null,null,null,null,{"$f":"J35+AH41+D15+D17+D21+D19*AG32","v":{"$error":"#VALUE!"}},{"$f":"R222+Q12","v":{"$error":"#VALUE!"}},{"$f":"R222+R12","v":{"$error":"#VALUE!"}},{"$f":"R222+S12","v":{"$error":"#VALUE!"}},{"$f":"R222+T12","v":{"$error":"#VALUE!"}},{"$f":"R222+U12","v":{"$error":"#VALUE!"}},{"$f":"R222+V12","v":{"$error":"#VALUE!"}},{"$f":"R222+W12","v":{"$error":"#VALUE!"}},{"$f":"R222+X12","v":{"$error":"#VALUE!"}},{"$f":"R222+Y12","v":{"$error":"#VALUE!"}},{"$f":"R222+Z12","v":{"$error":"#VALUE!"}},{"$f":"R222+AA12","v":{"$error":"#VALUE!"}},{"$f":"R222+AB12","v":{"$error":"#VALUE!"}},{"$f":"R222+AC12","v":{"$error":"#VALUE!"}},{"$f":"R222+AD12","v":{"$error":"#VALUE!"}}]
[null,null,null,null,null,null,null,null,null,null,null,null,null,null,null,null,null,{"$f":"K35+AH42+D16+D17+D21+D19*AG32","v":{"$error":"#VALUE!"}},{"$f":"R223+Q13","v":{"$error":"#VALUE!"}},{"$f":"R223+R13","v":{"$error":"#VALUE!"}},{"$f":"R223+S13","v":{"$error":"#VALUE!"}},{"$f":"R223+T13","v":{"$error":"#VALUE!"}},{"$f":"R223+U13","v":{"$error":"#VALUE!"}},{"$f":"R223+V13","v":{"$error":"#VALUE!"}},{"$f":"R223+W13","v":{"$error":"#VALUE!"}},{"$f":"R223+X13","v":{"$error":"#VALUE!"}},{"$f":"R223+Y13","v":{"$error":"#VALUE!"}},{"$f":"R223+Z13","v":{"$error":"#VALUE!"}},{"$f":"R223+AA13","v":{"$error":"#VALUE!"}},{"$f":"R223+AB13","v":{"$error":"#VALUE!"}},{"$f":"R223+AC13","v":{"$error":"#VALUE!"}},{"$f":"R223+AD13","v":{"$error":"#VALUE!"}}]
[null,null,null,null,null,null,null,null,null,null,null,null,null,null,null,null,null,{"$f":"L35+AH43+D15+D17+D21+D19*AG32","v":{"$error":"#VALUE!"}},{"$f":"R224+Q14","v":{"$error":"#VALUE!"}},{"$f":"R224+R14","v":{"$error":"#VALUE!"}},{"$f":"R224+S14","v":{"$error":"#VALUE!"}},{"$f":"R224+T14","v":{"$error":"#VALUE!"}},{"$f":"R224+U14","v":{"$error":"#VALUE!"}},{"$f":"R224+V14","v":{"$error":"#VALUE!"}},{"$f":"R224+W14","v":{"$error":"#VALUE!"}},{"$f":"R224+X14","v":{"$error":"#VALUE!"}},{"$f":"R224+Y14","v":{"$error":"#VALUE!"}},{"$f":"R224+Z14","v":{"$error":"#VALUE!"}},{"$f":"R224+AA14","v":{"$error":"#VALUE!"}},{"$f":"R224+AB14","v":{"$error":"#VALUE!"}},{"$f":"R224+AC14","v":{"$error":"#VALUE!"}},{"$f":"R224+AD14","v":{"$error":"#VALUE!"}}]
[]
[null,null,null,null,null,null,null,null,null,null,null,null,null,null,null,null,null,{"$f":"G36","v":0},{"$f":"S198","v":"kit 1"},{"$f":"T198","v":"kit 2/3"},0,"kit 4",0,"kit 5","kit 6/7",0,0,"kit 8","kit 9",0,{"$f":"AE198","v":"kit 10"},{"$f":"AF198","v":"kit 11"}]
[null,null,null,null,null,null,null,null,null,null,null,null,null,null,null,null,null,{"$f":"H36+AH39+D16+D17+D21+D19*AG33","v":{"$error":"#VALUE!"}},{"$f":"R227+Q10","v":{"$error":"#VALUE!"}},{"$f":"R227+R10","v":{"$error":"#VALUE!"}},{"$f":"R227+S10","v":{"$error":"#VALUE!"}},{"$f":"R227+T10","v":{"$error":"#VALUE!"}},{"$f":"R227+U10","v":{"$error":"#VALUE!"}},{"$f":"R227+V10","v":{"$error":"#VALUE!"}},{"$f":"R227+W10","v":{"$error":"#VALUE!"}},{"$f":"R227+X10","v":{"$error":"#VALUE!"}},{"$f":"R227+Y10","v":{"$error":"#VALUE!"}},{"$f":"R227+Z10","v":{"$error":"#VALUE!"}},{"$f":"R227+AA10","v":{"$error":"#VALUE!"}},{"$f":"R227+AB10","v":{"$error":"#VALUE!"}},{"$f":"R227+AC10","v":{"$error":"#VALUE!"}},{"$f":"R227+AD10","v":{"$error":"#VALUE!"}}]
[null,null,null,null,null,null,null,null,null,null,null,null,null,null,null,null,null,{"$f":"I36+AH40+D15+D17+D21+D19*AG33","v":{"$error":"#VALUE!"}},{"$f":"R228+Q11","v":{"$error":"#VALUE!"}},{"$f":"R228+R11","v":{"$error":"#VALUE!"}},{"$f":"R228+S11","v":{"$error":"#VALUE!"}},{"$f":"R228+T11","v":{"$error":"#VALUE!"}},{"$f":"R228+U11","v":{"$error":"#VALUE!"}},{"$f":"R228+V11","v":{"$error":"#VALUE!"}},{"$f":"R228+W11","v":{"$error":"#VALUE!"}},{"$f":"R228+X11","v":{"$error":"#VALUE!"}},{"$f":"R228+Y11","v":{"$error":"#VALUE!"}},{"$f":"R228+Z11","v":{"$error":"#VALUE!"}},{"$f":"R228+AA11","v":{"$error":"#VALUE!"}},{"$f":"R228+AB11","v":{"$error":"#VALUE!"}},{"$f":"R228+AC11","v":{"$error":"#VALUE!"}},{"$f":"R228+AD11","v":{"$error":"#VALUE!"}}]
[null,null,null,null,null,null,null,null,null,null,null,null,null,null,null,null,null,{"$f":"J36+AH41+D15+D17+D21+D19*AG33","v":{"$error":"#VALUE!"}},{"$f":"R229+Q12","v":{"$error":"#VALUE!"}},{"$f":"R229+R12","v":{"$error":"#VALUE!"}},{"$f":"R229+S12","v":{"$error":"#VALUE!"}},{"$f":"R229+T12","v":{"$error":"#VALUE!"}},{"$f":"R229+U12","v":{"$error":"#VALUE!"}},{"$f":"R229+V12","v":{"$error":"#VALUE!"}},{"$f":"R229+W12","v":{"$error":"#VALUE!"}},{"$f":"R229+X12","v":{"$error":"#VALUE!"}},{"$f":"R229+Y12","v":{"$error":"#VALUE!"}},{"$f":"R229+Z12","v":{"$error":"#VALUE!"}},{"$f":"R229+AA12","v":{"$error":"#VALUE!"}},{"$f":"R229+AB12","v":{"$error":"#VALUE!"}},{"$f":"R229+AC12","v":{"$error":"#VALUE!"}},{"$f":"R229+AD12","v":{"$error":"#VALUE!"}}]
[null,null,null,null,null,null,null,null,null,null,null,null,null,null,null,null,null,{"$f":"K36+AH42+D16+D17+D21+D19*AG33","v":{"$error":"#VALUE!"}},{"$f":"R230+Q13","v":{"$error":"#VALUE!"}},{"$f":"R230+R13","v":{"$error":"#VALUE!"}},{"$f":"R230+S13","v":{"$error":"#VALUE!"}},{"$f":"R230+T13","v":{"$error":"#VALUE!"}},{"$f":"R230+U13","v":{"$error":"#VALUE!"}},{"$f":"R230+V13","v":{"$error":"#VALUE!"}},{"$f":"R230+W13","v":{"$error":"#VALUE!"}},{"$f":"R230+X13","v":{"$error":"#VALUE!"}},{"$f":"R230+Y13","v":{"$error":"#VALUE!"}},{"$f":"R230+Z13","v":{"$error":"#VALUE!"}},{"$f":"R230+AA13","v":{"$error":"#VALUE!"}},{"$f":"R230+AB13","v":{"$error":"#VALUE!"}},{"$f":"R230+AC13","v":{"$error":"#VALUE!"}},{"$f":"R230+AD13","v":{"$error":"#VALUE!"}}]
[null,null,null,null,null,null,null,null,null,null,null,null,null,null,null,null,null,{"$f":"L36+AH43+D15+D17+D21+D19*AG33","v":{"$error":"#VALUE!"}},{"$f":"R231+Q14","v":{"$error":"#VALUE!"}},{"$f":"R231+R14","v":{"$error":"#VALUE!"}},{"$f":"R231+S14","v":{"$error":"#VALUE!"}},{"$f":"R231+T14","v":{"$error":"#VALUE!"}},{"$f":"R231+U14","v":{"$error":"#VALUE!"}},{"$f":"R231+V14","v":{"$error":"#VALUE!"}},{"$f":"R231+W14","v":{"$error":"#VALUE!"}},{"$f":"R231+X14","v":{"$error":"#VALUE!"}},{"$f":"R231+Y14","v":{"$error":"#VALUE!"}},{"$f":"R231+Z14","v":{"$error":"#VALUE!"}},{"$f":"R231+AA14","v":{"$error":"#VALUE!"}},{"$f":"R231+AB14","v":{"$error":"#VALUE!"}},{"$f":"R231+AC14","v":{"$error":"#VALUE!"}},{"$f":"R231+AD14","v":{"$error":"#VALUE!"}}]
[]
[]
[]
[]
[]
[]
[]
[]
[]
[]
[]
[]
[]
[]
[]
[]
[]
[]
[]
[]
[]
[]
[]
[]
[]
[]
[]
[]
[]
[]
[]
[]
[]
[]
[]
[]
[]
[]
[]
[]
[]
[]
[]
[]
[]
[]
[]
[]
[]
[]
[]
[]
[]
[]
[]
[]
[]
[]
[]
[]
[]
[]
[]
[]
[]
[]
[]
[]
[]
[]
[]
[]
[]
[]
[null,null,null,null,null,null,null,null,null,null,null,null,null,null,null,null,null,null,null,null,null,null,null,null,null,null,null,null,null,null,null,null,null,null,null,null,null,null,null,null,null,null,null,null,null,null,null,"Stats Opti/Réelles",null,{"$f":"AU2","v":0},"ATTENTION : si vous avez réaliser des modifications d'équipements via le site, "]
[null,null,null,null,null,null,null,null,null,null,null,null,null,null,null,null,null,null,null,null,null,null,null,null,null,null,null,null,null,null,null,null,null,null,null,null,null,null,null,null,null,null,null,null,null,null,null,null,null,null,"pensez à ré-importer les données"]

{"sheet":"import advers","index":1,"n_rows":31,"n_cols":44,"rows_kept":31,"cut":false,"hidden":true,"merged":[[0,20,0,21]]}
[null,null,{"$f":"IF(B1=\"\",0,MID(B1,SEARCH(\"equipe=\",B1,1)+7,(SEARCH(\"&\",B1,1)-SEARCH(\"equipe=\",B1,1)-7)))","v":0},{"$f":"IF(E1<>\"\",MID(E1,SEARCH(\"id=\",E1,1)+3,10),\"Pas de matchs\")","v":"Pas de matchs"},null,{"$f":"IF($D$1=C1,1,0)","v":0},{"$f":"IF(H1<>\"\",MID(H1,SEARCH(\"id=\",H1,1)+3,10),\"\")","v":""},null,{"$f":"IF($G$1=C1,1,0)","v":0},null,{"$f":"IF(F31=0,E1,H1)","v":0},null,null,null,"http://sansiro.football-champions.com/fr/matchreport.php?id1=1411&id2=75971&date=1375095000&server=1&back=palmares%2Fteam.php%3FserverId%3D9%26teamId%3D75971%26tab%3D2",{"$f":"IF(O1=\"\",0,SEARCH(\"&\",O1,1))","v":66},{"$f":"IF(O1=\"\",0,MID(O1,SEARCH(\"id1=\",O1,1)+4,(SEARCH(\"&\",O1,1)-SEARCH(\"id1=\",O1,1)-4)))","v":"1411"},{"$f":"IF(O1=\"\",0,MID(O1,SEARCH(\"id2=\",O1,P1)+4,(SEARCH(\"&\",O1,P1+1)-SEARCH(\"id2=\",O1,P1)-4)))","v":"75971"},{"$f":"IF(OR(Q1=$K$3,Q1=$K$5),0,IF(O34,0,11))","v":11},{"$f":"IF(OR(R1=$K$3,R1=$K$5),0,IF(O35,0,11))","v":0},"% capitaine",null,null,{"$f":"OFFSET(Feuil6!A1,0,'import advers'!S1)","v":0},null,null,null,null,null,null,null,null,null,0,null,null,null,null,null,null,null,null,null,0]
[null,null,0,null,null,{"$f":"IF($D$1=C2,1,0)","v":0},null,null,{"$f":"IF($G$1=C2,1,0)","v":0},null,{"$f":"\"palmares_\"&IF(K1<>\"\",MID(K1,SEARCH(\"id=\",K1,1)+3,10),\"Pas de matchs\")","v":{"$error":"#VALUE!"}},null,null,null,null,{"$f":"IF(O2=\"\",0,SEARCH(\"&\",O2,1))","v":0},{"$f":"IF(O2=\"\",0,MID(O2,SEARCH(\"id1=\",O2,1)+4,(SEARCH(\"&\",O2,1)-SEARCH(\"id1=\",O2,1)-4)))","v":0},{"$f":"IF(O2=\"\",0,MID(O2,SEARCH(\"id2=\",O2,P2)+4,(SEARCH(\"&\",O2,P2+1)-SEARCH(\"id2=\",O2,P2)-4)))","v":0},{"$f":"IF(OR(Q2=$K$3,Q2=$K$5),0,11)","v":11},11,0.13400000000000001,0.14399999999999999]
[null,null,0,null,null,0,null,null,0,null,{"$f":"IF(F31=0,D1,G1)","v":"Pas de matchs"},null,null,null,null,{"$f":"IF(O3=\"\",0,SEARCH(\"&\",O3,1))","v":0},{"$f":"IF(O3=\"\",0,MID(O3,SEARCH(\"id1=\",O3,1)+4,(SEARCH(\"&\",O3,1)-SEARCH(\"id1=\",O3,1)-4)))","v":0},{"$f":"IF(O3=\"\",0,MID(O3,SEARCH(\"id2=\",O3,P3)+4,(SEARCH(\"&\",O3,P3+1)-SEARCH(\"id2=\",O3,P3)-4)))","v":0},11,11]
[null,null,0,null,null,0,null,null,0,null,"Olympiquette  | (BleckFoot)",null,null,null,null,{"$f":"IF(O4=\"\",0,SEARCH(\"&\",O4,1))","v":0},{"$f":"IF(O4=\"\",0,MID(O4,SEARCH(\"id1=\",O4,1)+4,(SEARCH(\"&\",O4,1)-SEARCH(\"id1=\",O4,1)-4)))","v":0},{"$f":"IF(O4=\"\",0,MID(O4,SEARCH(\"id2=\",O4,P4)+4,(SEARCH(\"&\",O4,P4+1)-SEARCH(\"id2=\",O4,P4)-4)))","v":0},11,11]
[null,null,0,null,null,0,null,null,0,null,"75971",null,null,null,null,0,0,0,11,11]
[null,null,0,null,null,0,null,null,0,null,null,null,null,null,null,0,0,0,11,11]
[null,null,0,null,null,0,null,null,0,null,null,null,null,null,null,0,0,0,11,11]
[null,null,0,null,null,0,null,null,0,null,null,null,null,null,null,0,0,0,11,11]
[null,null,0,null,null,0,null,null,0,null,null,null,null,null,null,0,0,0,11,11]
[null,null,0,null,null,0,null,null,0,null,null,null,null,null,null,0,0,0,11,11]
[null,null,0,null,null,0,null,null,0,null,null,null,null,null,null,0,0,0,11,11]
[null,null,0,null,null,0,null,null,0,null,null,null,null,null,null,0,0,0,11,11]
[null,null,0,null,null,0,null,null,0,null,null,null,null,null,null,0,0,0,11,11]
[null,null,0,null,null,0,null,null,0,null,null,null,null,null,null,0,0,0,11,11]
[null,null,0,null,null,0,null,null,0,null,null,null,null,null,null,0,0,0,11,11]
[null,null,0,null,null,0,null,null,0,null,null,null,null,null,null,0,0,0,11,11]
[null,null,0,null,null,0,null,null,0,null,null,null,null,null,null,0,0,0,11,11]
[null,null,0,null,null,0,null,null,0,null,null,null,null,null,null,0,0,0,11,11]
[null,null,0,null,null,0,null,null,0,null,null,null,null,null,null,0,0,0,11,11]
[null,null,0,null,null,0,null,null,0,null,"http://maracana.football-masters.fr/fr/palmares/team.php?serverId=8&teamId=285280",null,null,null,null,0,0,0,11,11]
[null,null,0,null,null,0,null,null,0,null,null,null,null,null,null,0,0,0,11,11]
[null,null,0,null,null,0,null,null,0,null,null,null,null,null,null,0,0,0,11,11]
[null,null,0,null,null,0,null,null,0,null,null,null,null,null,null,0,0,0,11,11]
[null,null,0,null,null,0,null,null,0,null,null,null,null,null,null,0,0,0,11,11]
[null,null,0,null,null,0,null,null,0,null,null,null,null,null,null,0,0,0,11,11]
[null,null,0,null,null,0,null,null,0,null,null,null,null,null,null,0,0,0,11,11]
[null,null,0,null,null,0,null,null,0,null,null,null,null,null,null,0,0,0,11,11]
[null,null,0,null,null,0,null,null,0,null,null,null,null,null,null,0,0,0,11,11]
[null,null,0,null,null,0,null,null,0,null,null,null,null,null,null,0,0,0,11,11]
[null,null,0,null,null,0,null,null,0,null,null,null,null,null,null,0,0,0,11,11]
[null,null,0,null,null,{"$f":"SUM(F1:F30)","v":0},null,null,{"$f":"SUM(I1:I30)","v":0}]

{"sheet":"Feuil6","index":2,"n_rows":0,"n_cols":0,"rows_kept":0,"cut":false,"hidden":true,"merged":[]}

{"sheet":"Team","index":3,"n_rows":283,"n_cols":31,"rows_kept":283,"cut":false,"hidden":true,"merged":[[14,20,15,20],[37,1,37,2],[8,5,8,15],[11,7,13,8],[14,1,14,3],[14,4,14,8],[14,9,14,13],[14,14,14,18]]}
[]
[]
[]
[]
[]
[]
[]
[]
[]
[{"$f":"IF(Feuil2!A30=\"\",\"\",SEARCH(\"actuel\",Feuil2!A30,1))","v":""},{"$f":"IF(Feuil2!B30=\"\",\"\",SEARCH(\"actuel\",Feuil2!B30,1))","v":""},{"$f":"IF(Feuil2!C30=\"\",\"\",SEARCH(\"actuel\",Feuil2!C30,1))","v":""},{"$f":"IF(Feuil2!D30=\"\",\"\",SEARCH(\"actuel\",Feuil2!D30,1))","v":""},{"$f":"IF(Feuil2!E30=\"\",\"\",SEARCH(\"actuel\",Feuil2!E30,1))","v":""},{"$f":"IF(Feuil2!F30=\"\",\"\",SEARCH(\"actuel\",Feuil2!F30,1))","v":""}]
[{"$f":"IF(A10=\"\",\"\",REPLACE(Feuil2!A30,1,A10+6,\"\"))","v":""},{"$f":"IF(B10=\"\",\"\",REPLACE(Feuil2!B30,1,B10+6,\"\"))","v":""},{"$f":"IF(C10=\"\",\"\",REPLACE(Feuil2!C30,1,C10+6,\"\"))","v":""},{"$f":"IF(D10=\"\",\"\",REPLACE(Feuil2!D30,1,D10+6,\"\"))","v":""},{"$f":"IF(E10=\"\",\"\",REPLACE(Feuil2!E30,1,E10+6,\"\"))","v":""},{"$f":"IF(F10=\"\",\"\",REPLACE(Feuil2!F30,1,F10+6,\"\"))","v":""}]
["Force","Habileté","Vitesse","Endurance","Intelligence","Labo"]
[]
[null,null,null,null,null,null,null,null,null,null,null,null,null,null,null,null,null,null,null,null,null,null,null,null,0,null,null,null,null,null,1]
[]
[]
[null,null,null,null,null,null,null,null,null,null,null,null,null,null,null,null,null,null,null,null,null,null,null,1,2,3,4,5]
[null,null,null,null,null,null,null,null,null,null,null,null,null,null,null,null,null,null,null,null,null,null,null,6,7,8,9,10]
[null,null,null,null,null,null,null,null,null,null,null,null,null,null,null,null,null,null,null,null,null,null,null,11,12,13,14,15]
[null,null,null,null,null,null,null,null,null,null,null,null,null,null,null,null,null,null,null,null,null,null,null,16,17,18,19,20]
[null,null,null,null,null,null,null,null,null,null,null,null,null,null,null,null,null,null,null,null,null,null,null,21,22,23,24,25]
[null,null,null,null,null,null,null,null,null,null,null,null,null,null,null,null,null,null,null,null,null,null,null,26,27,28,29,30]
[null,null,null,null,null,null,null,null,null,null,null,null,null,null,null,null,null,null,null,null,null,null,null,31,32,33,34,35]
[null,null,null,null,null,null,null,null,null,null,null,null,null,null,null,null,null,null,null,null,null,null,null,36,37,38,39,40]
[null,null,null,null,null,null,null,null,null,null,null,null,null,null,null,null,null,null,null,null,null,null,null,41,42,43,44,45]
[null,null,null,null,null,null,null,null,null,null,null,null,null,null,null,null,null,null,null,null,null,null,null,46,47,48,49,50]
[null,null,null,null,null,null,null,null,null,null,null,null,null,null,null,null,null,null,null,null,null,null,null,51,52,53,54,55]
[null,null,null,null,null,null,null,null,null,null,null,null,null,null,null,null,null,null,null,null,null,null,null,56,57,58,59,60]
[null,null,null,null,null,null,null,null,null,null,null,null,null,null,null,null,null,null,null,null,null,null,null,61,62,63,64,65]
[null,null,null,null,null,null,null,null,null,null,null,null,null,null,null,null,null,null,null,null,null,null,null,66,67,68,69,70]
[null,null,null,null,null,null,null,null,null,null,null,null,null,null,null,null,null,null,null,null,null,null,null,71,72,73,74,75]
[null,null,null,null,null,null,null,null,null,null,null,null,null,null,null,null,null,null,null,null,null,null,null,76,77,78,79,80]
[null,null,null,null,null,null,null,null,null,null,null,null,null,null,null,null,null,null,null,null,null,null,null,81,82,83,84,85]
[null,null,null,null,null,null,null,null,null,null,null,null,null,null,null,null,null,null,null,null,null,null,null,86,87,88,89,90]
[null,null,null,null,null,null,null,null,null,null,null,null,null,null,null,null,null,null,null,null,null,null,null,91,92,93,94,95]
[null,null,null,null,null,null,null,null,null,null,null,null,null,null,null,null,null,null,null,null,null,null,null,96,97,98,99,100]
[null,null,null,null,null,null,null,null,null,null,null,null,null,null,null,null,null,null,null,null,null,null,null,101,102,103,104,105]
[null,null,null,null,null,null,null,null,null,null,null,null,null,null,null,null,null,null,null,null,null,null,null,106,107,108,109,110]
[]
[]
[9,0,null,null,null,2,null,null,0,0]
[]
[{"$f":"Feuil2!$A$3","v":0}]
[{"$f":"Feuil2!$A$7","v":0},null,{"$f":"A43","v":0}]
[{"$f":"Feuil2!$A$9","v":0},null,null,{"$f":"P45","v":{"$error":"#VALUE!"}},null,{"$f":"VALUE(SUBSTITUTE(D45,\".\",\",\"))","v":{"$error":"#VALUE!"}},{"$f":"TYPE(F45)","v":16},{"$f":"IF(G45=1,1,0)","v":0},{"$f":"IF(TYPE(SEARCH(\"/\",A45,1))=16,SEARCH(\"Potentiel\",A45,1),SEARCH(\"/\",A45,1))","v":{"$error":"#VALUE!"}},{"$f":"IF(TYPE(SEARCH(\",\",A45,1))=16,0,SEARCH(\",\",A45,1))","v":0},{"$f":"IF(TYPE(SEARCH(\",\",A45,J45+1))=1,SEARCH(\",\",A45,J45+1),J45)","v":0},null,{"$f":"IF(TYPE(SEARCH(\",\",A45,K45+1))=1,SEARCH(\",\",A45,K45+1),K45)+IF(Q45=1,1,0)","v":0},{"$f":"IF(TYPE(SEARCH(\",\",#REF!,M45+1))=1,SEARCH(\",\",#REF!,M45+1),M45)","v":0},{"$f":"IF(I45-2-(N45+4)<0,0,I45-2-(N45+4)-IF(TYPE(SEARCH(\"/\",A45,1))=16,0,4))","v":{"$error":"#VALUE!"}},{"$f":"IF(MID(A45,N45+4,O45)=\"\",0,SUBSTITUTE(MID(A45,N45+4,O45),\".\",\",\"))","v":{"$error":"#VALUE!"}},{"$f":"TYPE(SEARCH(\"K\",A45,1))","v":16}]
[{"$f":"Feuil2!$A$13","v":0},null,{"$f":"IF(TYPE(SEARCH(\"(\",A46,1))=16,SEARCH(\"F\",A46,1)+1,SEARCH(\"(\",A46,1))","v":{"$error":"#VALUE!"}},{"$f":"REPLACE(MID(A46,1,C46-2),1,1,\"\")","v":{"$error":"#VALUE!"}},{"$f":"E39+H46","v":0},{"$f":"VALUE(D46)-J46","v":{"$error":"#VALUE!"}},16,0,{"$f":"IF(TYPE(SEARCH(\")\",A46,1))=16,K46,SEARCH(\")\",A46,1))","v":{"$error":"#VALUE!"}},{"$f":"IF(TYPE(SEARCH(\")\",A46,1))=16,0,MID(A46,K46,L46))","v":0},{"$f":"C46+2","v":{"$error":"#VALUE!"}},{"$f":"I46-K46","v":{"$error":"#VALUE!"}},null,null,null,{"$f":"P45","v":{"$error":"#VALUE!"}}]
[{"$f":"Feuil2!$A$15","v":0},null,{"$f":"IF(TYPE(SEARCH(\"(\",A47,1))=16,SEARCH(\"H\",A47,1)+1,SEARCH(\"(\",A47,1))","v":{"$error":"#VALUE!"}},{"$f":"REPLACE(MID(A47,1,C47-2),1,1,\"\")","v":{"$error":"#VALUE!"}},{"$f":"E46+H47","v":0},{"$f":"VALUE(D47)-J47","v":{"$error":"#VALUE!"}},16,0,{"$f":"IF(TYPE(SEARCH(\")\",A47,1))=16,K47,SEARCH(\")\",A47,1))","v":{"$error":"#VALUE!"}},{"$f":"IF(TYPE(SEARCH(\"(\",A47,1))=16,0,MID(A47,K47,L47))","v":0},{"$f":"C47+2","v":{"$error":"#VALUE!"}},{"$f":"I47-K47","v":{"$error":"#VALUE!"}}]
[{"$f":"Feuil2!$A$17","v":0},null,{"$f":"IF(TYPE(SEARCH(\"(\",A48,1))=16,SEARCH(\"V\",A48,1)+1,SEARCH(\"(\",A48,1))","v":{"$error":"#VALUE!"}},{"$f":"REPLACE(MID(A48,1,C48-2),1,1,\"\")","v":{"$error":"#VALUE!"}},{"$f":"E47+H48","v":0},{"$f":"VALUE(D48)-J48","v":{"$error":"#VALUE!"}},16,0,{"$f":"IF(TYPE(SEARCH(\")\",A48,1))=16,K48,SEARCH(\")\",A48,1))","v":{"$error":"#VALUE!"}},{"$f":"IF(TYPE(SEARCH(\"(\",A48,1))=16,0,MID(A48,K48,L48))","v":0},{"$f":"C48+2","v":{"$error":"#VALUE!"}},{"$f":"I48-K48","v":{"$error":"#VALUE!"}}]
[{"$f":"Feuil2!$A$19","v":0},null,{"$f":"IF(TYPE(SEARCH(\"(\",A49,1))=16,SEARCH(\"E\",A49,1)+1,SEARCH(\"(\",A49,1))","v":{"$error":"#VALUE!"}},{"$f":"REPLACE(MID(A49,1,C49-2),1,1,\"\")","v":{"$error":"#VALUE!"}},{"$f":"E48+H49","v":0},{"$f":"VALUE(D49)-J49","v":{"$error":"#VALUE!"}},16,0,{"$f":"IF(TYPE(SEARCH(\")\",A49,1))=16,K49,SEARCH(\")\",A49,1))","v":{"$error":"#VALUE!"}},{"$f":"IF(TYPE(SEARCH(\"(\",A49,1))=16,0,MID(A49,K49,L49))","v":0},{"$f":"C49+2","v":{"$error":"#VALUE!"}},{"$f":"I49-K49","v":{"$error":"#VALUE!"}}]
[{"$f":"Feuil2!$A$21","v":0},null,{"$f":"IF(TYPE(SEARCH(\"(\",A50,1))=16,SEARCH(\"I\",A50,1)+1,SEARCH(\"(\",A50,1))","v":{"$error":"#VALUE!"}},{"$f":"REPLACE(MID(A50,1,C50-2),1,1,\"\")","v":{"$error":"#VALUE!"}},{"$f":"E49+H50","v":0},{"$f":"VALUE(D50)-J50","v":{"$error":"#VALUE!"}},16,0,{"$f":"IF(TYPE(SEARCH(\")\",A50,1))=16,K50,SEARCH(\")\",A50,1))","v":{"$error":"#VALUE!"}},{"$f":"IF(TYPE(SEARCH(\"(\",A50,1))=16,0,MID(A50,K50,L50))","v":0},{"$f":"C50+2","v":{"$error":"#VALUE!"}},{"$f":"I50-K50","v":{"$error":"#VALUE!"}}]
[{"$f":"Feuil2!$A$24","v":0},null,{"$f":"SEARCH(\"E\",A51,1)","v":{"$error":"#VALUE!"}},{"$f":"REPLACE(MID(A51,1,C51-1),1,1,\"\")","v":{"$error":"#VALUE!"}}]
[{"$f":"Feuil2!$A$26","v":0},null,{"$f":"SEARCH(\"M\",A52,1)","v":{"$error":"#VALUE!"}},{"$f":"REPLACE(MID(A52,1,C52-1),1,1,\"\")","v":{"$error":"#VALUE!"}}]
[]
[{"$f":"Feuil2!$B$3","v":0}]
[{"$f":"Feuil2!$B$7","v":0},null,{"$f":"A54","v":0}]
[{"$f":"Feuil2!$B$9","v":0},null,null,{"$f":"P56","v":{"$error":"#VALUE!"}},null,{"$f":"VALUE(SUBSTITUTE(D56,\".\",\",\"))","v":{"$error":"#VALUE!"}},{"$f":"TYPE(F56)","v":16},{"$f":"IF(G56=1,1,0)","v":0},{"$f":"IF(TYPE(SEARCH(\"/\",A56,1))=16,SEARCH(\"Potentiel\",A56,1),SEARCH(\"/\",A56,1))","v":{"$error":"#VALUE!"}},{"$f":"IF(TYPE(SEARCH(\",\",A56,1))=16,0,SEARCH(\",\",A56,1))","v":0},{"$f":"IF(TYPE(SEARCH(\",\",A56,J56+1))=1,SEARCH(\",\",A56,J56+1),J56)","v":0},null,{"$f":"IF(TYPE(SEARCH(\",\",A56,K56+1))=1,SEARCH(\",\",A56,K56+1),K56)+IF(Q56=1,1,0)","v":0},{"$f":"IF(TYPE(SEARCH(\",\",#REF!,M56+1))=1,SEARCH(\",\",#REF!,M56+1),M56)","v":0},{"$f":"IF(I56-2-(N56+4)<0,0,I56-2-(N56+4)-IF(TYPE(SEARCH(\"/\",A56,1))=16,0,4))","v":{"$error":"#VALUE!"}},{"$f":"IF(MID(A56,N56+4,O56)=\"\",0,SUBSTITUTE(MID(A56,N56+4,O56),\".\",\",\"))","v":{"$error":"#VALUE!"}},{"$f":"TYPE(SEARCH(\"K\",A56,1))","v":16}]
[{"$f":"Feuil2!$B$13","v":0},null,{"$f":"IF(TYPE(SEARCH(\"(\",A57,1))=16,SEARCH(\"F\",A57,1)+1,SEARCH(\"(\",A57,1))","v":{"$error":"#VALUE!"}},{"$f":"REPLACE(MID(A57,1,C57-2),1,1,\"\")","v":{"$error":"#VALUE!"}},{"$f":"E50+H57","v":0},{"$f":"VALUE(D57)-J57","v":{"$error":"#VALUE!"}},16,0,{"$f":"IF(TYPE(SEARCH(\")\",A57,1))=16,K57,SEARCH(\")\",A57,1))","v":{"$error":"#VALUE!"}},{"$f":"IF(TYPE(SEARCH(\")\",A57,1))=16,0,MID(A57,K57,L57))","v":0},{"$f":"C57+2","v":{"$error":"#VALUE!"}},{"$f":"I57-K57","v":{"$error":"#VALUE!"}},null,null,null,{"$f":"P56","v":{"$error":"#VALUE!"}}]
[{"$f":"Feuil2!$B$15","v":0},null,{"$f":"IF(TYPE(SEARCH(\"(\",A58,1))=16,SEARCH(\"H\",A58,1)+1,SEARCH(\"(\",A58,1))","v":{"$error":"#VALUE!"}},{"$f":"REPLACE(MID(A58,1,C58-2),1,1,\"\")","v":{"$error":"#VALUE!"}},{"$f":"E57+H58","v":0},{"$f":"VALUE(D58)-J58","v":{"$error":"#VALUE!"}},16,0,{"$f":"IF(TYPE(SEARCH(\")\",A58,1))=16,K58,SEARCH(\")\",A58,1))","v":{"$error":"#VALUE!"}},{"$f":"IF(TYPE(SEARCH(\"(\",A58,1))=16,0,MID(A58,K58,L58))","v":0},{"$f":"C58+2","v":{"$error":"#VALUE!"}},{"$f":"I58-K58","v":{"$error":"#VALUE!"}}]
[{"$f":"Feuil2!$B$17","v":0},null,{"$f":"IF(TYPE(SEARCH(\"(\",A59,1))=16,SEARCH(\"V\",A59,1)+1,SEARCH(\"(\",A59,1))","v":{"$error":"#VALUE!"}},{"$f":"REPLACE(MID(A59,1,C59-2),1,1,\"\")","v":{"$error":"#VALUE!"}},{"$f":"E58+H59","v":0},{"$f":"VALUE(D59)-J59","v":{"$error":"#VALUE!"}},16,0,{"$f":"IF(TYPE(SEARCH(\")\",A59,1))=16,K59,SEARCH(\")\",A59,1))","v":{"$error":"#VALUE!"}},{"$f":"IF(TYPE(SEARCH(\"(\",A59,1))=16,0,MID(A59,K59,L59))","v":0},{"$f":"C59+2","v":{"$error":"#VALUE!"}},{"$f":"I59-K59","v":{"$error":"#VALUE!"}}]
[{"$f":"Feuil2!$B$19","v":0},null,{"$f":"IF(TYPE(SEARCH(\"(\",A60,1))=16,SEARCH(\"E\",A60,1)+1,SEARCH(\"(\",A60,1))","v":{"$error":"#VALUE!"}},{"$f":"REPLACE(MID(A60,1,C60-2),1,1,\"\")","v":{"$error":"#VALUE!"}},{"$f":"E59+H60","v":0},{"$f":"VALUE(D60)-J60","v":{"$error":"#VALUE!"}},16,0,{"$f":"IF(TYPE(SEARCH(\")\",A60,1))=16,K60,SEARCH(\")\",A60,1))","v":{"$error":"#VALUE!"}},{"$f":"IF(TYPE(SEARCH(\"(\",A60,1))=16,0,MID(A60,K60,L60))","v":0},{"$f":"C60+2","v":{"$error":"#VALUE!"}},{"$f":"I60-K60","v":{"$error":"#VALUE!"}}]
[{"$f":"Feuil2!$B$21","v":0},null,{"$f":"IF(TYPE(SEARCH(\"(\",A61,1))=16,SEARCH(\"I\",A61,1)+1,SEARCH(\"(\",A61,1))","v":{"$error":"#VALUE!"}},{"$f":"REPLACE(MID(A61,1,C61-2),1,1,\"\")","v":{"$error":"#VALUE!"}},{"$f":"E60+H61","v":0},{"$f":"VALUE(D61)-J61","v":{"$error":"#VALUE!"}},16,0,{"$f":"IF(TYPE(SEARCH(\")\",A61,1))=16,K61,SEARCH(\")\",A61,1))","v":{"$error":"#VALUE!"}},{"$f":"IF(TYPE(SEARCH(\"(\",A61,1))=16,0,MID(A61,K61,L61))","v":0},{"$f":"C61+2","v":{"$error":"#VALUE!"}},{"$f":"I61-K61","v":{"$error":"#VALUE!"}}]
[{"$f":"Feuil2!$B$24","v":0},null,{"$f":"SEARCH(\"E\",A62,1)","v":{"$error":"#VALUE!"}},{"$f":"REPLACE(MID(A62,1,C62-1),1,1,\"\")","v":{"$error":"#VALUE!"}}]
[{"$f":"Feuil2!$B$26","v":0},null,{"$f":"SEARCH(\"M\",A63,1)","v":{"$error":"#VALUE!"}},{"$f":"REPLACE(MID(A63,1,C63-1),1,1,\"\")","v":{"$error":"#VALUE!"}}]
[]
[{"$f":"Feuil2!$C$3","v":0}]
[{"$f":"Feuil2!$C$7","v":0},null,{"$f":"A65","v":0}]
[{"$f":"Feuil2!$C$9","v":0},null,null,{"$f":"P67","v":{"$error":"#VALUE!"}},null,{"$f":"VALUE(SUBSTITUTE(D67,\".\",\",\"))","v":{"$error":"#VALUE!"}},{"$f":"TYPE(F67)","v":16},{"$f":"IF(G67=1,1,0)","v":0},{"$f":"IF(TYPE(SEARCH(\"/\",A67,1))=16,SEARCH(\"Potentiel\",A67,1),SEARCH(\"/\",A67,1))","v":{"$error":"#VALUE!"}},{"$f":"IF(TYPE(SEARCH(\",\",A67,1))=16,0,SEARCH(\",\",A67,1))","v":0},{"$f":"IF(TYPE(SEARCH(\",\",A67,J67+1))=1,SEARCH(\",\",A67,J67+1),J67)","v":0},null,{"$f":"IF(TYPE(SEARCH(\",\",A67,K67+1))=1,SEARCH(\",\",A67,K67+1),K67)+IF(Q67=1,1,0)","v":0},{"$f":"IF(TYPE(SEARCH(\",\",#REF!,M67+1))=1,SEARCH(\",\",#REF!,M67+1),M67)","v":0},{"$f":"IF(I67-2-(N67+4)<0,0,I67-2-(N67+4)-IF(TYPE(SEARCH(\"/\",A67,1))=16,0,4))","v":{"$error":"#VALUE!"}},{"$f":"IF(MID(A67,N67+4,O67)=\"\",0,SUBSTITUTE(MID(A67,N67+4,O67),\".\",\",\"))","v":{"$error":"#VALUE!"}},{"$f":"TYPE(SEARCH(\"K\",A67,1))","v":16}]
[{"$f":"Feuil2!$C$13","v":0},null,{"$f":"IF(TYPE(SEARCH(\"(\",A68,1))=16,SEARCH(\"F\",A68,1)+1,SEARCH(\"(\",A68,1))","v":{"$error":"#VALUE!"}},{"$f":"REPLACE(MID(A68,1,C68-2),1,1,\"\")","v":{"$error":"#VALUE!"}},{"$f":"E61+H68","v":0},{"$f":"VALUE(D68)-J68","v":{"$error":"#VALUE!"}},16,0,{"$f":"IF(TYPE(SEARCH(\")\",A68,1))=16,K68,SEARCH(\")\",A68,1))","v":{"$error":"#VALUE!"}},{"$f":"IF(TYPE(SEARCH(\")\",A68,1))=16,0,MID(A68,K68,L68))","v":0},{"$f":"C68+2","v":{"$error":"#VALUE!"}},{"$f":"I68-K68","v":{"$error":"#VALUE!"}},null,null,null,{"$f":"P67","v":{"$error":"#VALUE!"}}]
[{"$f":"Feuil2!$C$15","v":0},null,{"$f":"IF(TYPE(SEARCH(\"(\",A69,1))=16,SEARCH(\"H\",A69,1)+1,SEARCH(\"(\",A69,1))","v":{"$error":"#VALUE!"}},{"$f":"REPLACE(MID(A69,1,C69-2),1,1,\"\")","v":{"$error":"#VALUE!"}},{"$f":"E68+H69","v":0},{"$f":"VALUE(D69)-J69","v":{"$error":"#VALUE!"}},16,0,{"$f":"IF(TYPE(SEARCH(\")\",A69,1))=16,K69,SEARCH(\")\",A69,1))","v":{"$error":"#VALUE!"}},{"$f":"IF(TYPE(SEARCH(\"(\",A69,1))=16,0,MID(A69,K69,L69))","v":0},{"$f":"C69+2","v":{"$error":"#VALUE!"}},{"$f":"I69-K69","v":{"$error":"#VALUE!"}}]
[{"$f":"Feuil2!$C$17","v":0},null,{"$f":"IF(TYPE(SEARCH(\"(\",A70,1))=16,SEARCH(\"V\",A70,1)+1,SEARCH(\"(\",A70,1))","v":{"$error":"#VALUE!"}},{"$f":"REPLACE(MID(A70,1,C70-2),1,1,\"\")","v":{"$error":"#VALUE!"}},{"$f":"E69+H70","v":0},{"$f":"VALUE(D70)-J70","v":{"$error":"#VALUE!"}},16,0,{"$f":"IF(TYPE(SEARCH(\")\",A70,1))=16,K70,SEARCH(\")\",A70,1))","v":{"$error":"#VALUE!"}},{"$f":"IF(TYPE(SEARCH(\"(\",A70,1))=16,0,MID(A70,K70,L70))","v":0},{"$f":"C70+2","v":{"$error":"#VALUE!"}},{"$f":"I70-K70","v":{"$error":"#VALUE!"}}]
[{"$f":"Feuil2!$C$19","v":0},null,{"$f":"IF(TYPE(SEARCH(\"(\",A71,1))=16,SEARCH(\"E\",A71,1)+1,SEARCH(\"(\",A71,1))","v":{"$error":"#VALUE!"}},{"$f":"REPLACE(MID(A71,1,C71-2),1,1,\"\")","v":{"$error":"#VALUE!"}},{"$f":"E70+H71","v":0},{"$f":"VALUE(D71)-J71","v":{"$error":"#VALUE!"}},16,0,{"$f":"IF(TYPE(SEARCH(\")\",A71,1))=16,K71,SEARCH(\")\",A71,1))","v":{"$error":"#VALUE!"}},{"$f":"IF(TYPE(SEARCH(\"(\",A71,1))=16,0,MID(A71,K71,L71))","v":0},{"$f":"C71+2","v":{"$error":"#VALUE!"}},{"$f":"I71-K71","v":{"$error":"#VALUE!"}}]
[{"$f":"Feuil2!$C$21","v":0},null,{"$f":"IF(TYPE(SEARCH(\"(\",A72,1))=16,SEARCH(\"I\",A72,1)+1,SEARCH(\"(\",A72,1))","v":{"$error":"#VALUE!"}},{"$f":"REPLACE(MID(A72,1,C72-2),1,1,\"\")","v":{"$error":"#VALUE!"}},{"$f":"E71+H72","v":0},{"$f":"VALUE(D72)-J72","v":{"$error":"#VALUE!"}},16,0,{"$f":"IF(TYPE(SEARCH(\")\",A72,1))=16,K72,SEARCH(\")\",A72,1))","v":{"$error":"#VALUE!"}},{"$f":"IF(TYPE(SEARCH(\"(\",A72,1))=16,0,MID(A72,K72,L72))","v":0},{"$f":"C72+2","v":{"$error":"#VALUE!"}},{"$f":"I72-K72","v":{"$error":"#VALUE!"}}]
[{"$f":"Feuil2!$C$24","v":0},null,{"$f":"SEARCH(\"E\",A73,1)","v":{"$error":"#VALUE!"}},{"$f":"REPLACE(MID(A73,1,C73-1),1,1,\"\")","v":{"$error":"#VALUE!"}}]
[{"$f":"Feuil2!$C$26","v":0},null,{"$f":"SEARCH(\"M\",A74,1)","v":{"$error":"#VALUE!"}},{"$f":"REPLACE(MID(A74,1,C74-1),1,1,\"\")","v":{"$error":"#VALUE!"}}]
[]
[{"$f":"Feuil2!$D$3","v":0}]
[{"$f":"Feuil2!$D$7","v":0},null,{"$f":"A76","v":0}]
[{"$f":"Feuil2!$D$9","v":0},null,null,{"$f":"P78","v":{"$error":"#VALUE!"}},null,{"$f":"VALUE(SUBSTITUTE(D78,\".\",\",\"))","v":{"$error":"#VALUE!"}},{"$f":"TYPE(F78)","v":16},{"$f":"IF(G78=1,1,0)","v":0},{"$f":"IF(TYPE(SEARCH(\"/\",A78,1))=16,SEARCH(\"Potentiel\",A78,1),SEARCH(\"/\",A78,1))","v":{"$error":"#VALUE!"}},{"$f":"IF(TYPE(SEARCH(\",\",A78,1))=16,0,SEARCH(\",\",A78,1))","v":0},{"$f":"IF(TYPE(SEARCH(\",\",A78,J78+1))=1,SEARCH(\",\",A78,J78+1),J78)","v":0},null,{"$f":"IF(TYPE(SEARCH(\",\",A78,K78+1))=1,SEARCH(\",\",A78,K78+1),K78)+IF(Q78=1,1,0)","v":0},{"$f":"IF(TYPE(SEARCH(\",\",#REF!,M78+1))=1,SEARCH(\",\",#REF!,M78+1),M78)","v":0},{"$f":"IF(I78-2-(N78+4)<0,0,I78-2-(N78+4)-IF(TYPE(SEARCH(\"/\",A78,1))=16,0,4))","v":{"$error":"#VALUE!"}},{"$f":"IF(MID(A78,N78+4,O78)=\"\",0,SUBSTITUTE(MID(A78,N78+4,O78),\".\",\",\"))","v":{"$error":"#VALUE!"}},{"$f":"TYPE(SEARCH(\"K\",A78,1))","v":16}]
[{"$f":"Feuil2!$D$13","v":0},null,{"$f":"IF(TYPE(SEARCH(\"(\",A79,1))=16,SEARCH(\"F\",A79,1)+1,SEARCH(\"(\",A79,1))","v":{"$error":"#VALUE!"}},{"$f":"REPLACE(MID(A79,1,C79-2),1,1,\"\")","v":{"$error":"#VALUE!"}},{"$f":"E72+H79","v":0},{"$f":"VALUE(D79)-J79","v":{"$error":"#VALUE!"}},16,0,{"$f":"IF(TYPE(SEARCH(\")\",A79,1))=16,K79,SEARCH(\")\",A79,1))","v":{"$error":"#VALUE!"}},{"$f":"IF(TYPE(SEARCH(\")\",A79,1))=16,0,MID(A79,K79,L79))","v":0},{"$f":"C79+2","v":{"$error":"#VALUE!"}},{"$f":"I79-K79","v":{"$error":"#VALUE!"}},null,null,null,{"$f":"P78","v":{"$error":"#VALUE!"}}]
[{"$f":"Feuil2!$D$15","v":0},null,{"$f":"IF(TYPE(SEARCH(\"(\",A80,1))=16,SEARCH(\"H\",A80,1)+1,SEARCH(\"(\",A80,1))","v":{"$error":"#VALUE!"}},{"$f":"REPLACE(MID(A80,1,C80-2),1,1,\"\")","v":{"$error":"#VALUE!"}},{"$f":"E79+H80","v":0},{"$f":"VALUE(D80)-J80","v":{"$error":"#VALUE!"}},16,0,{"$f":"IF(TYPE(SEARCH(\")\",A80,1))=16,K80,SEARCH(\")\",A80,1))","v":{"$error":"#VALUE!"}},{"$f":"IF(TYPE(SEARCH(\"(\",A80,1))=16,0,MID(A80,K80,L80))","v":0},{"$f":"C80+2","v":{"$error":"#VALUE!"}},{"$f":"I80-K80","v":{"$error":"#VALUE!"}}]
[{"$f":"Feuil2!$D$17","v":0},null,{"$f":"IF(TYPE(SEARCH(\"(\",A81,1))=16,SEARCH(\"V\",A81,1)+1,SEARCH(\"(\",A81,1))","v":{"$error":"#VALUE!"}},{"$f":"REPLACE(MID(A81,1,C81-2),1,1,\"\")","v":{"$error":"#VALUE!"}},{"$f":"E80+H81","v":0},{"$f":"VALUE(D81)-J81","v":{"$error":"#VALUE!"}},16,0,{"$f":"IF(TYPE(SEARCH(\")\",A81,1))=16,K81,SEARCH(\")\",A81,1))","v":{"$error":"#VALUE!"}},{"$f":"IF(TYPE(SEARCH(\"(\",A81,1))=16,0,MID(A81,K81,L81))","v":0},{"$f":"C81+2","v":{"$error":"#VALUE!"}},{"$f":"I81-K81","v":{"$error":"#VALUE!"}}]
[{"$f":"Feuil2!$D$19","v":0},null,{"$f":"IF(TYPE(SEARCH(\"(\",A82,1))=16,SEARCH(\"E\",A82,1)+1,SEARCH(\"(\",A82,1))","v":{"$error":"#VALUE!"}},{"$f":"REPLACE(MID(A82,1,C82-2),1,1,\"\")","v":{"$error":"#VALUE!"}},{"$f":"E81+H82","v":0},{"$f":"VALUE(D82)-J82","v":{"$error":"#VALUE!"}},16,0,{"$f":"IF(TYPE(SEARCH(\")\",A82,1))=16,K82,SEARCH(\")\",A82,1))","v":{"$error":"#VALUE!"}},{"$f":"IF(TYPE(SEARCH(\"(\",A82,1))=16,0,MID(A82,K82,L82))","v":0},{"$f":"C82+2","v":{"$error":"#VALUE!"}},{"$f":"I82-K82","v":{"$error":"#VALUE!"}}]
[{"$f":"Feuil2!$D$21","v":0},null,{"$f":"IF(TYPE(SEARCH(\"(\",A83,1))=16,SEARCH(\"I\",A83,1)+1,SEARCH(\"(\",A83,1))","v":{"$error":"#VALUE!"}},{"$f":"REPLACE(MID(A83,1,C83-2),1,1,\"\")","v":{"$error":"#VALUE!"}},{"$f":"E82+H83","v":0},{"$f":"VALUE(D83)-J83","v":{"$error":"#VALUE!"}},16,0,{"$f":"IF(TYPE(SEARCH(\")\",A83,1))=16,K83,SEARCH(\")\",A83,1))","v":{"$error":"#VALUE!"}},{"$f":"IF(TYPE(SEARCH(\"(\",A83,1))=16,0,MID(A83,K83,L83))","v":0},{"$f":"C83+2","v":{"$error":"#VALUE!"}},{"$f":"I83-K83","v":{"$error":"#VALUE!"}}]
[{"$f":"Feuil2!$D$24","v":0},null,{"$f":"SEARCH(\"E\",A84,1)","v":{"$error":"#VALUE!"}},{"$f":"REPLACE(MID(A84,1,C84-1),1,1,\"\")","v":{"$error":"#VALUE!"}}]
[{"$f":"Feuil2!$D$26","v":0},null,{"$f":"SEARCH(\"M\",A85,1)","v":{"$error":"#VALUE!"}},{"$f":"REPLACE(MID(A85,1,C85-1),1,1,\"\")","v":{"$error":"#VALUE!"}}]
[]
[{"$f":"Feuil2!$E$3","v":0}]
[{"$f":"Feuil2!$E$7","v":0},null,{"$f":"A87","v":0}]
[{"$f":"Feuil2!$E$9","v":0},null,null,{"$f":"P89","v":{"$error":"#VALUE!"}},null,{"$f":"VALUE(SUBSTITUTE(D89,\".\",\",\"))","v":{"$error":"#VALUE!"}},{"$f":"TYPE(F89)","v":16},{"$f":"IF(G89=1,1,0)","v":0},{"$f":"IF(TYPE(SEARCH(\"/\",A89,1))=16,SEARCH(\"Potentiel\",A89,1),SEARCH(\"/\",A89,1))","v":{"$error":"#VALUE!"}},{"$f":"IF(TYPE(SEARCH(\",\",A89,1))=16,0,SEARCH(\",\",A89,1))","v":0},{"$f":"IF(TYPE(SEARCH(\",\",A89,J89+1))=1,SEARCH(\",\",A89,J89+1),J89)","v":0},null,{"$f":"IF(TYPE(SEARCH(\",\",A89,K89+1))=1,SEARCH(\",\",A89,K89+1),K89)+IF(Q89=1,1,0)","v":0},{"$f":"IF(TYPE(SEARCH(\",\",#REF!,M89+1))=1,SEARCH(\",\",#REF!,M89+1),M89)","v":0},{"$f":"IF(I89-2-(N89+4)<0,0,I89-2-(N89+4)-IF(TYPE(SEARCH(\"/\",A89,1))=16,0,4))","v":{"$error":"#VALUE!"}},{"$f":"IF(MID(A89,N89+4,O89)=\"\",0,SUBSTITUTE(MID(A89,N89+4,O89),\".\",\",\"))","v":{"$error":"#VALUE!"}},{"$f":"TYPE(SEARCH(\"K\",A89,1))","v":16}]
[{"$f":"Feuil2!$E$13","v":0},null,{"$f":"IF(TYPE(SEARCH(\"(\",A90,1))=16,SEARCH(\"F\",A90,1)+1,SEARCH(\"(\",A90,1))","v":{"$error":"#VALUE!"}},{"$f":"REPLACE(MID(A90,1,C90-2),1,1,\"\")","v":{"$error":"#VALUE!"}},{"$f":"E83+H90","v":0},{"$f":"VALUE(D90)-J90","v":{"$error":"#VALUE!"}},16,0,{"$f":"IF(TYPE(SEARCH(\")\",A90,1))=16,K90,SEARCH(\")\",A90,1))","v":{"$error":"#VALUE!"}},{"$f":"IF(TYPE(SEARCH(\")\",A90,1))=16,0,MID(A90,K90,L90))","v":0},{"$f":"C90+2","v":{"$error":"#VALUE!"}},{"$f":"I90-K90","v":{"$error":"#VALUE!"}},null,null,null,{"$f":"P89","v":{"$error":"#VALUE!"}}]
[{"$f":"Feuil2!$E$15","v":0},null,{"$f":"IF(TYPE(SEARCH(\"(\",A91,1))=16,SEARCH(\"H\",A91,1)+1,SEARCH(\"(\",A91,1))","v":{"$error":"#VALUE!"}},{"$f":"REPLACE(MID(A91,1,C91-2),1,1,\"\")","v":{"$error":"#VALUE!"}},{"$f":"E90+H91","v":0},{"$f":"VALUE(D91)-J91","v":{"$error":"#VALUE!"}},16,0,{"$f":"IF(TYPE(SEARCH(\")\",A91,1))=16,K91,SEARCH(\")\",A91,1))","v":{"$error":"#VALUE!"}},{"$f":"IF(TYPE(SEARCH(\"(\",A91,1))=16,0,MID(A91,K91,L91))","v":0},{"$f":"C91+2","v":{"$error":"#VALUE!"}},{"$f":"I91-K91","v":{"$error":"#VALUE!"}}]
[{"$f":"Feuil2!$E$17","v":0},null,{"$f":"IF(TYPE(SEARCH(\"(\",A92,1))=16,SEARCH(\"V\",A92,1)+1,SEARCH(\"(\",A92,1))","v":{"$error":"#VALUE!"}},{"$f":"REPLACE(MID(A92,1,C92-2),1,1,\"\")","v":{"$error":"#VALUE!"}},{"$f":"E91+H92","v":0},{"$f":"VALUE(D92)-J92","v":{"$error":"#VALUE!"}},16,0,{"$f":"IF(TYPE(SEARCH(\")\",A92,1))=16,K92,SEARCH(\")\",A92,1))","v":{"$error":"#VALUE!"}},{"$f":"IF(TYPE(SEARCH(\"(\",A92,1))=16,0,MID(A92,K92,L92))","v":0},{"$f":"C92+2","v":{"$error":"#VALUE!"}},{"$f":"I92-K92","v":{"$error":"#VALUE!"}}]
[{"$f":"Feuil2!$E$19","v":0},null,{"$f":"IF(TYPE(SEARCH(\"(\",A93,1))=16,SEARCH(\"E\",A93,1)+1,SEARCH(\"(\",A93,1))","v":{"$error":"#VALUE!"}},{"$f":"REPLACE(MID(A93,1,C93-2),1,1,\"\")","v":{"$error":"#VALUE!"}},{"$f":"E92+H93","v":0},{"$f":"VALUE(D93)-J93","v":{"$error":"#VALUE!"}},16,0,{"$f":"IF(TYPE(SEARCH(\")\",A93,1))=16,K93,SEARCH(\")\",A93,1))","v":{"$error":"#VALUE!"}},{"$f":"IF(TYPE(SEARCH(\"(\",A93,1))=16,0,MID(A93,K93,L93))","v":0},{"$f":"C93+2","v":{"$error":"#VALUE!"}},{"$f":"I93-K93","v":{"$error":"#VALUE!"}}]
[{"$f":"Feuil2!$E$21","v":0},null,{"$f":"IF(TYPE(SEARCH(\"(\",A94,1))=16,SEARCH(\"I\",A94,1)+1,SEARCH(\"(\",A94,1))","v":{"$error":"#VALUE!"}},{"$f":"REPLACE(MID(A94,1,C94-2),1,1,\"\")","v":{"$error":"#VALUE!"}},{"$f":"E93+H94","v":0},{"$f":"VALUE(D94)-J94","v":{"$error":"#VALUE!"}},16,0,{"$f":"IF(TYPE(SEARCH(\")\",A94,1))=16,K94,SEARCH(\")\",A94,1))","v":{"$error":"#VALUE!"}},{"$f":"IF(TYPE(SEARCH(\"(\",A94,1))=16,0,MID(A94,K94,L94))","v":0},{"$f":"C94+2","v":{"$error":"#VALUE!"}},{"$f":"I94-K94","v":{"$error":"#VALUE!"}}]
[{"$f":"Feuil2!$E$24","v":0},null,{"$f":"SEARCH(\"E\",A95,1)","v":{"$error":"#VALUE!"}},{"$f":"REPLACE(MID(A95,1,C95-1),1,1,\"\")","v":{"$error":"#VALUE!"}}]
[{"$f":"Feuil2!$E$26","v":0},null,{"$f":"SEARCH(\"M\",A96,1)","v":{"$error":"#VALUE!"}},{"$f":"REPLACE(MID(A96,1,C96-1),1,1,\"\")","v":{"$error":"#VALUE!"}}]
[]
[{"$f":"Feuil2!$F$3","v":0}]
[{"$f":"Feuil2!$F$7","v":0},null,{"$f":"A98","v":0}]
[{"$f":"Feuil2!$F$9","v":0},null,null,{"$f":"P100","v":{"$error":"#VALUE!"}},null,{"$f":"VALUE(SUBSTITUTE(D100,\".\",\",\"))","v":{"$error":"#VALUE!"}},{"$f":"TYPE(F100)","v":16},{"$f":"IF(G100=1,1,0)","v":0},{"$f":"IF(TYPE(SEARCH(\"/\",A100,1))=16,SEARCH(\"Potentiel\",A100,1),SEARCH(\"/\",A100,1))","v":{"$error":"#VALUE!"}},{"$f":"IF(TYPE(SEARCH(\",\",A100,1))=16,0,SEARCH(\",\",A100,1))","v":0},{"$f":"IF(TYPE(SEARCH(\",\",A100,J100+1))=1,SEARCH(\",\",A100,J100+1),J100)","v":0},null,{"$f":"IF(TYPE(SEARCH(\",\",A100,K100+1))=1,SEARCH(\",\",A100,K100+1),K100)+IF(Q100=1,1,0)","v":0},{"$f":"IF(TYPE(SEARCH(\",\",#REF!,M100+1))=1,SEARCH(\",\",#REF!,M100+1),M100)","v":0},{"$f":"IF(I100-2-(N100+4)<0,0,I100-2-(N100+4)-IF(TYPE(SEARCH(\"/\",A100,1))=16,0,4))","v":{"$error":"#VALUE!"}},{"$f":"IF(MID(A100,N100+4,O100)=\"\",0,SUBSTITUTE(MID(A100,N100+4,O100),\".\",\",\"))","v":{"$error":"#VALUE!"}},{"$f":"TYPE(SEARCH(\"K\",A100,1))","v":16}]
[{"$f":"Feuil2!$F$13","v":0},null,{"$f":"IF(TYPE(SEARCH(\"(\",A101,1))=16,SEARCH(\"F\",A101,1)+1,SEARCH(\"(\",A101,1))","v":{"$error":"#VALUE!"}},{"$f":"REPLACE(MID(A101,1,C101-2),1,1,\"\")","v":{"$error":"#VALUE!"}},{"$f":"E94+H101","v":0},{"$f":"VALUE(D101)-J101","v":{"$error":"#VALUE!"}},16,0,{"$f":"IF(TYPE(SEARCH(\")\",A101,1))=16,K101,SEARCH(\")\",A101,1))","v":{"$error":"#VALUE!"}},{"$f":"IF(TYPE(SEARCH(\")\",A101,1))=16,0,MID(A101,K101,L101))","v":0},{"$f":"C101+2","v":{"$error":"#VALUE!"}},{"$f":"I101-K101","v":{"$error":"#VALUE!"}},null,null,null,{"$f":"P100","v":{"$error":"#VALUE!"}}]
[{"$f":"Feuil2!$F$15","v":0},null,{"$f":"IF(TYPE(SEARCH(\"(\",A102,1))=16,SEARCH(\"H\",A102,1)+1,SEARCH(\"(\",A102,1))","v":{"$error":"#VALUE!"}},{"$f":"REPLACE(MID(A102,1,C102-2),1,1,\"\")","v":{"$error":"#VALUE!"}},{"$f":"E101+H102","v":0},{"$f":"VALUE(D102)-J102","v":{"$error":"#VALUE!"}},16,0,{"$f":"IF(TYPE(SEARCH(\")\",A102,1))=16,K102,SEARCH(\")\",A102,1))","v":{"$error":"#VALUE!"}},{"$f":"IF(TYPE(SEARCH(\"(\",A102,1))=16,0,MID(A102,K102,L102))","v":0},{"$f":"C102+2","v":{"$error":"#VALUE!"}},{"$f":"I102-K102","v":{"$error":"#VALUE!"}}]
[{"$f":"Feuil2!$F$17","v":0},null,{"$f":"IF(TYPE(SEARCH(\"(\",A103,1))=16,SEARCH(\"V\",A103,1)+1,SEARCH(\"(\",A103,1))","v":{"$error":"#VALUE!"}},{"$f":"REPLACE(MID(A103,1,C103-2),1,1,\"\")","v":{"$error":"#VALUE!"}},{"$f":"E102+H103","v":0},{"$f":"VALUE(D103)-J103","v":{"$error":"#VALUE!"}},16,0,{"$f":"IF(TYPE(SEARCH(\")\",A103,1))=16,K103,SEARCH(\")\",A103,1))","v":{"$error":"#VALUE!"}},{"$f":"IF(TYPE(SEARCH(\"(\",A103,1))=16,0,MID(A103,K103,L103))","v":0},{"$f":"C103+2","v":{"$error":"#VALUE!"}},{"$f":"I103-K103","v":{"$error":"#VALUE!"}}]
[{"$f":"Feuil2!$F$19","v":0},null,{"$f":"IF(TYPE(SEARCH(\"(\",A104,1))=16,SEARCH(\"E\",A104,1)+1,SEARCH(\"(\",A104,1))","v":{"$error":"#VALUE!"}},{"$f":"REPLACE(MID(A104,1,C104-2),1,1,\"\")","v":{"$error":"#VALUE!"}},{"$f":"E103+H104","v":0},{"$f":"VALUE(D104)-J104","v":{"$error":"#VALUE!"}},16,0,{"$f":"IF(TYPE(SEARCH(\")\",A104,1))=16,K104,SEARCH(\")\",A104,1))","v":{"$error":"#VALUE!"}},{"$f":"IF(TYPE(SEARCH(\"(\",A104,1))=16,0,MID(A104,K104,L104))","v":0},{"$f":"C104+2","v":{"$error":"#VALUE!"}},{"$f":"I104-K104","v":{"$error":"#VALUE!"}}]
[{"$f":"Feuil2!$F$21","v":0},null,{"$f":"IF(TYPE(SEARCH(\"(\",A105,1))=16,SEARCH(\"I\",A105,1)+1,SEARCH(\"(\",A105,1))","v":{"$error":"#VALUE!"}},{"$f":"REPLACE(MID(A105,1,C105-2),1,1,\"\")","v":{"$error":"#VALUE!"}},{"$f":"E104+H105","v":0},{"$f":"VALUE(D105)-J105","v":{"$error":"#VALUE!"}},16,0,{"$f":"IF(TYPE(SEARCH(\")\",A105,1))=16,K105,SEARCH(\")\",A105,1))","v":{"$error":"#VALUE!"}},{"$f":"IF(TYPE(SEARCH(\"(\",A105,1))=16,0,MID(A105,K105,L105))","v":0},{"$f":"C105+2","v":{"$error":"#VALUE!"}},{"$f":"I105-K105","v":{"$error":"#VALUE!"}}]
[{"$f":"Feuil2!$F$24","v":0},null,{"$f":"SEARCH(\"E\",A106,1)","v":{"$error":"#VALUE!"}},{"$f":"REPLACE(MID(A106,1,C106-1),1,1,\"\")","v":{"$error":"#VALUE!"}}]
[{"$f":"Feuil2!$F$26","v":0},null,{"$f":"SEARCH(\"M\",A107,1)","v":{"$error":"#VALUE!"}},{"$f":"REPLACE(MID(A107,1,C107-1),1,1,\"\")","v":{"$error":"#VALUE!"}}]
[]
[{"$f":"Feuil2!$G$3","v":0}]
[{"$f":"Feuil2!$G$7","v":0},null,{"$f":"A109","v":0}]
[{"$f":"Feuil2!$G$9","v":0},null,null,{"$f":"P111","v":{"$error":"#VALUE!"}},null,{"$f":"VALUE(SUBSTITUTE(D111,\".\",\",\"))","v":{"$error":"#VALUE!"}},{"$f":"TYPE(F111)","v":16},{"$f":"IF(G111=1,1,0)","v":0},{"$f":"IF(TYPE(SEARCH(\"/\",A111,1))=16,SEARCH(\"Potentiel\",A111,1),SEARCH(\"/\",A111,1))","v":{"$error":"#VALUE!"}},{"$f":"IF(TYPE(SEARCH(\",\",A111,1))=16,0,SEARCH(\",\",A111,1))","v":0},{"$f":"IF(TYPE(SEARCH(\",\",A111,J111+1))=1,SEARCH(\",\",A111,J111+1),J111)","v":0},null,{"$f":"IF(TYPE(SEARCH(\",\",A111,K111+1))=1,SEARCH(\",\",A111,K111+1),K111)+IF(Q111=1,1,0)","v":0},{"$f":"IF(TYPE(SEARCH(\",\",#REF!,M111+1))=1,SEARCH(\",\",#REF!,M111+1),M111)","v":0},{"$f":"IF(I111-2-(N111+4)<0,0,I111-2-(N111+4)-IF(TYPE(SEARCH(\"/\",A111,1))=16,0,4))","v":{"$error":"#VALUE!"}},{"$f":"IF(MID(A111,N111+4,O111)=\"\",0,SUBSTITUTE(MID(A111,N111+4,O111),\".\",\",\"))","v":{"$error":"#VALUE!"}},{"$f":"TYPE(SEARCH(\"K\",A111,1))","v":16}]
[{"$f":"Feuil2!$G$13","v":0},null,{"$f":"IF(TYPE(SEARCH(\"(\",A112,1))=16,SEARCH(\"F\",A112,1)+1,SEARCH(\"(\",A112,1))","v":{"$error":"#VALUE!"}},{"$f":"REPLACE(MID(A112,1,C112-2),1,1,\"\")","v":{"$error":"#VALUE!"}},{"$f":"E105+H112","v":0},{"$f":"VALUE(D112)-J112","v":{"$error":"#VALUE!"}},16,0,{"$f":"IF(TYPE(SEARCH(\")\",A112,1))=16,K112,SEARCH(\")\",A112,1))","v":{"$error":"#VALUE!"}},{"$f":"IF(TYPE(SEARCH(\")\",A112,1))=16,0,MID(A112,K112,L112))","v":0},{"$f":"C112+2","v":{"$error":"#VALUE!"}},{"$f":"I112-K112","v":{"$error":"#VALUE!"}},null,null,null,{"$f":"P111","v":{"$error":"#VALUE!"}}]
[{"$f":"Feuil2!$G$15","v":0},null,{"$f":"IF(TYPE(SEARCH(\"(\",A113,1))=16,SEARCH(\"H\",A113,1)+1,SEARCH(\"(\",A113,1))","v":{"$error":"#VALUE!"}},{"$f":"REPLACE(MID(A113,1,C113-2),1,1,\"\")","v":{"$error":"#VALUE!"}},{"$f":"E112+H113","v":0},{"$f":"VALUE(D113)-J113","v":{"$error":"#VALUE!"}},16,0,{"$f":"IF(TYPE(SEARCH(\")\",A113,1))=16,K113,SEARCH(\")\",A113,1))","v":{"$error":"#VALUE!"}},{"$f":"IF(TYPE(SEARCH(\"(\",A113,1))=16,0,MID(A113,K113,L113))","v":0},{"$f":"C113+2","v":{"$error":"#VALUE!"}},{"$f":"I113-K113","v":{"$error":"#VALUE!"}}]
[{"$f":"Feuil2!$G$17","v":0},null,{"$f":"IF(TYPE(SEARCH(\"(\",A114,1))=16,SEARCH(\"V\",A114,1)+1,SEARCH(\"(\",A114,1))","v":{"$error":"#VALUE!"}},{"$f":"REPLACE(MID(A114,1,C114-2),1,1,\"\")","v":{"$error":"#VALUE!"}},{"$f":"E113+H114","v":0},{"$f":"VALUE(D114)-J114","v":{"$error":"#VALUE!"}},16,0,{"$f":"IF(TYPE(SEARCH(\")\",A114,1))=16,K114,SEARCH(\")\",A114,1))","v":{"$error":"#VALUE!"}},{"$f":"IF(TYPE(SEARCH(\"(\",A114,1))=16,0,MID(A114,K114,L114))","v":0},{"$f":"C114+2","v":{"$error":"#VALUE!"}},{"$f":"I114-K114","v":{"$error":"#VALUE!"}}]
[{"$f":"Feuil2!$G$19","v":0},null,{"$f":"IF(TYPE(SEARCH(\"(\",A115,1))=16,SEARCH(\"E\",A115,1)+1,SEARCH(\"(\",A115,1))","v":{"$error":"#VALUE!"}},{"$f":"REPLACE(MID(A115,1,C115-2),1,1,\"\")","v":{"$error":"#VALUE!"}},{"$f":"E114+H115","v":0},{"$f":"VALUE(D115)-J115","v":{"$error":"#VALUE!"}},16,0,{"$f":"IF(TYPE(SEARCH(\")\",A115,1))=16,K115,SEARCH(\")\",A115,1))","v":{"$error":"#VALUE!"}},{"$f":"IF(TYPE(SEARCH(\"(\",A115,1))=16,0,MID(A115,K115,L115))","v":0},{"$f":"C115+2","v":{"$error":"#VALUE!"}},{"$f":"I115-K115","v":{"$error":"#VALUE!"}}]
[{"$f":"Feuil2!$G$21","v":0},null,{"$f":"IF(TYPE(SEARCH(\"(\",A116,1))=16,SEARCH(\"I\",A116,1)+1,SEARCH(\"(\",A116,1))","v":{"$error":"#VALUE!"}},{"$f":"REPLACE(MID(A116,1,C116-2),1,1,\"\")","v":{"$error":"#VALUE!"}},{"$f":"E115+H116","v":0},{"$f":"VALUE(D116)-J116","v":{"$error":"#VALUE!"}},16,0,{"$f":"IF(TYPE(SEARCH(\")\",A116,1))=16,K116,SEARCH(\")\",A116,1))","v":{"$error":"#VALUE!"}},{"$f":"IF(TYPE(SEARCH(\"(\",A116,1))=16,0,MID(A116,K116,L116))","v":0},{"$f":"C116+2","v":{"$error":"#VALUE!"}},{"$f":"I116-K116","v":{"$error":"#VALUE!"}}]
[{"$f":"Feuil2!$G$24","v":0},null,{"$f":"SEARCH(\"E\",A117,1)","v":{"$error":"#VALUE!"}},{"$f":"REPLACE(MID(A117,1,C117-1),1,1,\"\")","v":{"$error":"#VALUE!"}}]
[{"$f":"Feuil2!$G$26","v":0},null,{"$f":"SEARCH(\"M\",A118,1)","v":{"$error":"#VALUE!"}},{"$f":"REPLACE(MID(A118,1,C118-1),1,1,\"\")","v":{"$error":"#VALUE!"}}]
[]
[{"$f":"Feuil2!$H$3","v":0}]
[{"$f":"Feuil2!$H$7","v":0},null,{"$f":"A120","v":0}]
[{"$f":"Feuil2!$H$9","v":0},null,null,{"$f":"P122","v":{"$error":"#VALUE!"}},null,{"$f":"VALUE(SUBSTITUTE(D122,\".\",\",\"))","v":{"$error":"#VALUE!"}},{"$f":"TYPE(F122)","v":16},{"$f":"IF(G122=1,1,0)","v":0},{"$f":"IF(TYPE(SEARCH(\"/\",A122,1))=16,SEARCH(\"Potentiel\",A122,1),SEARCH(\"/\",A122,1))","v":{"$error":"#VALUE!"}},{"$f":"IF(TYPE(SEARCH(\",\",A122,1))=16,0,SEARCH(\",\",A122,1))","v":0},{"$f":"IF(TYPE(SEARCH(\",\",A122,J122+1))=1,SEARCH(\",\",A122,J122+1),J122)","v":0},null,{"$f":"IF(TYPE(SEARCH(\",\",A122,K122+1))=1,SEARCH(\",\",A122,K122+1),K122)+IF(Q122=1,1,0)","v":0},{"$f":"IF(TYPE(SEARCH(\",\",#REF!,M122+1))=1,SEARCH(\",\",#REF!,M122+1),M122)","v":0},{"$f":"IF(I122-2-(N122+4)<0,0,I122-2-(N122+4)-IF(TYPE(SEARCH(\"/\",A122,1))=16,0,4))","v":{"$error":"#VALUE!"}},{"$f":"IF(MID(A122,N122+4,O122)=\"\",0,SUBSTITUTE(MID(A122,N122+4,O122),\".\",\",\"))","v":{"$error":"#VALUE!"}},{"$f":"TYPE(SEARCH(\"K\",A122,1))","v":16}]
[{"$f":"Feuil2!$H$13","v":0},null,{"$f":"IF(TYPE(SEARCH(\"(\",A123,1))=16,SEARCH(\"F\",A123,1)+1,SEARCH(\"(\",A123,1))","v":{"$error":"#VALUE!"}},{"$f":"REPLACE(MID(A123,1,C123-2),1,1,\"\")","v":{"$error":"#VALUE!"}},{"$f":"E116+H123","v":0},{"$f":"VALUE(D123)-J123","v":{"$error":"#VALUE!"}},16,0,{"$f":"IF(TYPE(SEARCH(\")\",A123,1))=16,K123,SEARCH(\")\",A123,1))","v":{"$error":"#VALUE!"}},{"$f":"IF(TYPE(SEARCH(\")\",A123,1))=16,0,MID(A123,K123,L123))","v":0},{"$f":"C123+2","v":{"$error":"#VALUE!"}},{"$f":"I123-K123","v":{"$error":"#VALUE!"}},null,null,null,{"$f":"P122","v":{"$error":"#VALUE!"}}]
[{"$f":"Feuil2!$H$15","v":0},null,{"$f":"IF(TYPE(SEARCH(\"(\",A124,1))=16,SEARCH(\"H\",A124,1)+1,SEARCH(\"(\",A124,1))","v":{"$error":"#VALUE!"}},{"$f":"REPLACE(MID(A124,1,C124-2),1,1,\"\")","v":{"$error":"#VALUE!"}},{"$f":"E123+H124","v":0},{"$f":"VALUE(D124)-J124","v":{"$error":"#VALUE!"}},16,0,{"$f":"IF(TYPE(SEARCH(\")\",A124,1))=16,K124,SEARCH(\")\",A124,1))","v":{"$error":"#VALUE!"}},{"$f":"IF(TYPE(SEARCH(\"(\",A124,1))=16,0,MID(A124,K124,L124))","v":0},{"$f":"C124+2","v":{"$error":"#VALUE!"}},{"$f":"I124-K124","v":{"$error":"#VALUE!"}}]
[{"$f":"Feuil2!$H$17","v":0},null,{"$f":"IF(TYPE(SEARCH(\"(\",A125,1))=16,SEARCH(\"V\",A125,1)+1,SEARCH(\"(\",A125,1))","v":{"$error":"#VALUE!"}},{"$f":"REPLACE(MID(A125,1,C125-2),1,1,\"\")","v":{"$error":"#VALUE!"}},{"$f":"E124+H125","v":0},{"$f":"VALUE(D125)-J125","v":{"$error":"#VALUE!"}},16,0,{"$f":"IF(TYPE(SEARCH(\")\",A125,1))=16,K125,SEARCH(\")\",A125,1))","v":{"$error":"#VALUE!"}},{"$f":"IF(TYPE(SEARCH(\"(\",A125,1))=16,0,MID(A125,K125,L125))","v":0},{"$f":"C125+2","v":{"$error":"#VALUE!"}},{"$f":"I125-K125","v":{"$error":"#VALUE!"}}]
[{"$f":"Feuil2!$H$19","v":0},null,{"$f":"IF(TYPE(SEARCH(\"(\",A126,1))=16,SEARCH(\"E\",A126,1)+1,SEARCH(\"(\",A126,1))","v":{"$error":"#VALUE!"}},{"$f":"REPLACE(MID(A126,1,C126-2),1,1,\"\")","v":{"$error":"#VALUE!"}},{"$f":"E125+H126","v":0},{"$f":"VALUE(D126)-J126","v":{"$error":"#VALUE!"}},16,0,{"$f":"IF(TYPE(SEARCH(\")\",A126,1))=16,K126,SEARCH(\")\",A126,1))","v":{"$error":"#VALUE!"}},{"$f":"IF(TYPE(SEARCH(\"(\",A126,1))=16,0,MID(A126,K126,L126))","v":0},{"$f":"C126+2","v":{"$error":"#VALUE!"}},{"$f":"I126-K126","v":{"$error":"#VALUE!"}}]
[{"$f":"Feuil2!$H$21","v":0},null,{"$f":"IF(TYPE(SEARCH(\"(\",A127,1))=16,SEARCH(\"I\",A127,1)+1,SEARCH(\"(\",A127,1))","v":{"$error":"#VALUE!"}},{"$f":"REPLACE(MID(A127,1,C127-2),1,1,\"\")","v":{"$error":"#VALUE!"}},{"$f":"E126+H127","v":0},{"$f":"VALUE(D127)-J127","v":{"$error":"#VALUE!"}},16,0,{"$f":"IF(TYPE(SEARCH(\")\",A127,1))=16,K127,SEARCH(\")\",A127,1))","v":{"$error":"#VALUE!"}},{"$f":"IF(TYPE(SEARCH(\"(\",A127,1))=16,0,MID(A127,K127,L127))","v":0},{"$f":"C127+2","v":{"$error":"#VALUE!"}},{"$f":"I127-K127","v":{"$error":"#VALUE!"}}]
[{"$f":"Feuil2!$H$24","v":0},null,{"$f":"SEARCH(\"E\",A128,1)","v":{"$error":"#VALUE!"}},{"$f":"REPLACE(MID(A128,1,C128-1),1,1,\"\")","v":{"$error":"#VALUE!"}}]
[{"$f":"Feuil2!$H$26","v":0},null,{"$f":"SEARCH(\"M\",A129,1)","v":{"$error":"#VALUE!"}},{"$f":"REPLACE(MID(A129,1,C129-1),1,1,\"\")","v":{"$error":"#VALUE!"}}]
[]
[{"$f":"Feuil2!$I$3","v":0}]
[{"$f":"Feuil2!$I$7","v":0},null,{"$f":"A131","v":0}]
[{"$f":"Feuil2!$I$9","v":0},null,null,{"$f":"P133","v":{"$error":"#VALUE!"}},null,{"$f":"VALUE(SUBSTITUTE(D133,\".\",\",\"))","v":{"$error":"#VALUE!"}},{"$f":"TYPE(F133)","v":16},{"$f":"IF(G133=1,1,0)","v":0},{"$f":"IF(TYPE(SEARCH(\"/\",A133,1))=16,SEARCH(\"Potentiel\",A133,1),SEARCH(\"/\",A133,1))","v":{"$error":"#VALUE!"}},{"$f":"IF(TYPE(SEARCH(\",\",A133,1))=16,0,SEARCH(\",\",A133,1))","v":0},{"$f":"IF(TYPE(SEARCH(\",\",A133,J133+1))=1,SEARCH(\",\",A133,J133+1),J133)","v":0},null,{"$f":"IF(TYPE(SEARCH(\",\",A133,K133+1))=1,SEARCH(\",\",A133,K133+1),K133)+IF(Q133=1,1,0)","v":0},{"$f":"IF(TYPE(SEARCH(\",\",#REF!,M133+1))=1,SEARCH(\",\",#REF!,M133+1),M133)","v":0},{"$f":"IF(I133-2-(N133+4)<0,0,I133-2-(N133+4)-IF(TYPE(SEARCH(\"/\",A133,1))=16,0,4))","v":{"$error":"#VALUE!"}},{"$f":"IF(MID(A133,N133+4,O133)=\"\",0,SUBSTITUTE(MID(A133,N133+4,O133),\".\",\",\"))","v":{"$error":"#VALUE!"}},{"$f":"TYPE(SEARCH(\"K\",A133,1))","v":16}]
[{"$f":"Feuil2!$I$13","v":0},null,{"$f":"IF(TYPE(SEARCH(\"(\",A134,1))=16,SEARCH(\"F\",A134,1)+1,SEARCH(\"(\",A134,1))","v":{"$error":"#VALUE!"}},{"$f":"REPLACE(MID(A134,1,C134-2),1,1,\"\")","v":{"$error":"#VALUE!"}},{"$f":"E127+H134","v":0},{"$f":"VALUE(D134)-J134","v":{"$error":"#VALUE!"}},16,0,{"$f":"IF(TYPE(SEARCH(\")\",A134,1))=16,K134,SEARCH(\")\",A134,1))","v":{"$error":"#VALUE!"}},{"$f":"IF(TYPE(SEARCH(\")\",A134,1))=16,0,MID(A134,K134,L134))","v":0},{"$f":"C134+2","v":{"$error":"#VALUE!"}},{"$f":"I134-K134","v":{"$error":"#VALUE!"}},null,null,null,{"$f":"P133","v":{"$error":"#VALUE!"}}]
[{"$f":"Feuil2!$I$15","v":0},null,{"$f":"IF(TYPE(SEARCH(\"(\",A135,1))=16,SEARCH(\"H\",A135,1)+1,SEARCH(\"(\",A135,1))","v":{"$error":"#VALUE!"}},{"$f":"REPLACE(MID(A135,1,C135-2),1,1,\"\")","v":{"$error":"#VALUE!"}},{"$f":"E134+H135","v":0},{"$f":"VALUE(D135)-J135","v":{"$error":"#VALUE!"}},16,0,{"$f":"IF(TYPE(SEARCH(\")\",A135,1))=16,K135,SEARCH(\")\",A135,1))","v":{"$error":"#VALUE!"}},{"$f":"IF(TYPE(SEARCH(\"(\",A135,1))=16,0,MID(A135,K135,L135))","v":0},{"$f":"C135+2","v":{"$error":"#VALUE!"}},{"$f":"I135-K135","v":{"$error":"#VALUE!"}}]
[{"$f":"Feuil2!$I$17","v":0},null,{"$f":"IF(TYPE(SEARCH(\"(\",A136,1))=16,SEARCH(\"V\",A136,1)+1,SEARCH(\"(\",A136,1))","v":{"$error":"#VALUE!"}},{"$f":"REPLACE(MID(A136,1,C136-2),1,1,\"\")","v":{"$error":"#VALUE!"}},{"$f":"E135+H136","v":0},{"$f":"VALUE(D136)-J136","v":{"$error":"#VALUE!"}},16,0,{"$f":"IF(TYPE(SEARCH(\")\",A136,1))=16,K136,SEARCH(\")\",A136,1))","v":{"$error":"#VALUE!"}},{"$f":"IF(TYPE(SEARCH(\"(\",A136,1))=16,0,MID(A136,K136,L136))","v":0},{"$f":"C136+2","v":{"$error":"#VALUE!"}},{"$f":"I136-K136","v":{"$error":"#VALUE!"}}]
[{"$f":"Feuil2!$I$19","v":0},null,{"$f":"IF(TYPE(SEARCH(\"(\",A137,1))=16,SEARCH(\"E\",A137,1)+1,SEARCH(\"(\",A137,1))","v":{"$error":"#VALUE!"}},{"$f":"REPLACE(MID(A137,1,C137-2),1,1,\"\")","v":{"$error":"#VALUE!"}},{"$f":"E136+H137","v":0},{"$f":"VALUE(D137)-J137","v":{"$error":"#VALUE!"}},16,0,{"$f":"IF(TYPE(SEARCH(\")\",A137,1))=16,K137,SEARCH(\")\",A137,1))","v":{"$error":"#VALUE!"}},{"$f":"IF(TYPE(SEARCH(\"(\",A137,1))=16,0,MID(A137,K137,L137))","v":0},{"$f":"C137+2","v":{"$error":"#VALUE!"}},{"$f":"I137-K137","v":{"$error":"#VALUE!"}}]
[{"$f":"Feuil2!$I$21","v":0},null,{"$f":"IF(TYPE(SEARCH(\"(\",A138,1))=16,SEARCH(\"I\",A138,1)+1,SEARCH(\"(\",A138,1))","v":{"$error":"#VALUE!"}},{"$f":"REPLACE(MID(A138,1,C138-2),1,1,\"\")","v":{"$error":"#VALUE!"}},{"$f":"E137+H138","v":0},{"$f":"VALUE(D138)-J138","v":{"$error":"#VALUE!"}},16,0,{"$f":"IF(TYPE(SEARCH(\")\",A138,1))=16,K138,SEARCH(\")\",A138,1))","v":{"$error":"#VALUE!"}},{"$f":"IF(TYPE(SEARCH(\"(\",A138,1))=16,0,MID(A138,K138,L138))","v":0},{"$f":"C138+2","v":{"$error":"#VALUE!"}},{"$f":"I138-K138","v":{"$error":"#VALUE!"}}]
[{"$f":"Feuil2!$I$24","v":0},null,{"$f":"SEARCH(\"E\",A139,1)","v":{"$error":"#VALUE!"}},{"$f":"REPLACE(MID(A139,1,C139-1),1,1,\"\")","v":{"$error":"#VALUE!"}}]
[{"$f":"Feuil2!$I$26","v":0},null,{"$f":"SEARCH(\"M\",A140,1)","v":{"$error":"#VALUE!"}},{"$f":"REPLACE(MID(A140,1,C140-1),1,1,\"\")","v":{"$error":"#VALUE!"}}]
[]
[{"$f":"Feuil2!$J$3","v":0}]
[{"$f":"Feuil2!$J$7","v":0},null,{"$f":"A142","v":0}]
[{"$f":"Feuil2!$J$9","v":0},null,null,{"$f":"P144","v":{"$error":"#VALUE!"}},null,{"$f":"VALUE(SUBSTITUTE(D144,\".\",\",\"))","v":{"$error":"#VALUE!"}},{"$f":"TYPE(F144)","v":16},{"$f":"IF(G144=1,1,0)","v":0},{"$f":"IF(TYPE(SEARCH(\"/\",A144,1))=16,SEARCH(\"Potentiel\",A144,1),SEARCH(\"/\",A144,1))","v":{"$error":"#VALUE!"}},{"$f":"IF(TYPE(SEARCH(\",\",A144,1))=16,0,SEARCH(\",\",A144,1))","v":0},{"$f":"IF(TYPE(SEARCH(\",\",A144,J144+1))=1,SEARCH(\",\",A144,J144+1),J144)","v":0},null,{"$f":"IF(TYPE(SEARCH(\",\",A144,K144+1))=1,SEARCH(\",\",A144,K144+1),K144)+IF(Q144=1,1,0)","v":0},{"$f":"IF(TYPE(SEARCH(\",\",#REF!,M144+1))=1,SEARCH(\",\",#REF!,M144+1),M144)","v":0},{"$f":"IF(I144-2-(N144+4)<0,0,I144-2-(N144+4)-IF(TYPE(SEARCH(\"/\",A144,1))=16,0,4))","v":{"$error":"#VALUE!"}},{"$f":"IF(MID(A144,N144+4,O144)=\"\",0,SUBSTITUTE(MID(A144,N144+4,O144),\".\",\",\"))","v":{"$error":"#VALUE!"}},{"$f":"TYPE(SEARCH(\"K\",A144,1))","v":16}]
[{"$f":"Feuil2!$J$13","v":0},null,{"$f":"IF(TYPE(SEARCH(\"(\",A145,1))=16,SEARCH(\"F\",A145,1)+1,SEARCH(\"(\",A145,1))","v":{"$error":"#VALUE!"}},{"$f":"REPLACE(MID(A145,1,C145-2),1,1,\"\")","v":{"$error":"#VALUE!"}},{"$f":"E138+H145","v":0},{"$f":"VALUE(D145)-J145","v":{"$error":"#VALUE!"}},16,0,{"$f":"IF(TYPE(SEARCH(\")\",A145,1))=16,K145,SEARCH(\")\",A145,1))","v":{"$error":"#VALUE!"}},{"$f":"IF(TYPE(SEARCH(\")\",A145,1))=16,0,MID(A145,K145,L145))","v":0},{"$f":"C145+2","v":{"$error":"#VALUE!"}},{"$f":"I145-K145","v":{"$error":"#VALUE!"}},null,null,null,{"$f":"P144","v":{"$error":"#VALUE!"}}]
[{"$f":"Feuil2!$J$15","v":0},null,{"$f":"IF(TYPE(SEARCH(\"(\",A146,1))=16,SEARCH(\"H\",A146,1)+1,SEARCH(\"(\",A146,1))","v":{"$error":"#VALUE!"}},{"$f":"REPLACE(MID(A146,1,C146-2),1,1,\"\")","v":{"$error":"#VALUE!"}},{"$f":"E145+H146","v":0},{"$f":"VALUE(D146)-J146","v":{"$error":"#VALUE!"}},16,0,{"$f":"IF(TYPE(SEARCH(\")\",A146,1))=16,K146,SEARCH(\")\",A146,1))","v":{"$error":"#VALUE!"}},{"$f":"IF(TYPE(SEARCH(\"(\",A146,1))=16,0,MID(A146,K146,L146))","v":0},{"$f":"C146+2","v":{"$error":"#VALUE!"}},{"$f":"I146-K146","v":{"$error":"#VALUE!"}}]
[{"$f":"Feuil2!$J$17","v":0},null,{"$f":"IF(TYPE(SEARCH(\"(\",A147,1))=16,SEARCH(\"V\",A147,1)+1,SEARCH(\"(\",A147,1))","v":{"$error":"#VALUE!"}},{"$f":"REPLACE(MID(A147,1,C147-2),1,1,\"\")","v":{"$error":"#VALUE!"}},{"$f":"E146+H147","v":0},{"$f":"VALUE(D147)-J147","v":{"$error":"#VALUE!"}},16,0,{"$f":"IF(TYPE(SEARCH(\")\",A147,1))=16,K147,SEARCH(\")\",A147,1))","v":{"$error":"#VALUE!"}},{"$f":"IF(TYPE(SEARCH(\"(\",A147,1))=16,0,MID(A147,K147,L147))","v":0},{"$f":"C147+2","v":{"$error":"#VALUE!"}},{"$f":"I147-K147","v":{"$error":"#VALUE!"}}]
[{"$f":"Feuil2!$J$19","v":0},null,{"$f":"IF(TYPE(SEARCH(\"(\",A148,1))=16,SEARCH(\"E\",A148,1)+1,SEARCH(\"(\",A148,1))","v":{"$error":"#VALUE!"}},{"$f":"REPLACE(MID(A148,1,C148-2),1,1,\"\")","v":{"$error":"#VALUE!"}},{"$f":"E147+H148","v":0},{"$f":"VALUE(D148)-J148","v":{"$error":"#VALUE!"}},16,0,{"$f":"IF(TYPE(SEARCH(\")\",A148,1))=16,K148,SEARCH(\")\",A148,1))","v":{"$error":"#VALUE!"}},{"$f":"IF(TYPE(SEARCH(\"(\",A148,1))=16,0,MID(A148,K148,L148))","v":0},{"$f":"C148+2","v":{"$error":"#VALUE!"}},{"$f":"I148-K148","v":{"$error":"#VALUE!"}}]
[{"$f":"Feuil2!$J$21","v":0},null,{"$f":"IF(TYPE(SEARCH(\"(\",A149,1))=16,SEARCH(\"I\",A149,1)+1,SEARCH(\"(\",A149,1))","v":{"$error":"#VALUE!"}},{"$f":"REPLACE(MID(A149,1,C149-2),1,1,\"\")","v":{"$error":"#VALUE!"}},{"$f":"E148+H149","v":0},{"$f":"VALUE(D149)-J149","v":{"$error":"#VALUE!"}},16,0,{"$f":"IF(TYPE(SEARCH(\")\",A149,1))=16,K149,SEARCH(\")\",A149,1))","v":{"$error":"#VALUE!"}},{"$f":"IF(TYPE(SEARCH(\"(\",A149,1))=16,0,MID(A149,K149,L149))","v":0},{"$f":"C149+2","v":{"$error":"#VALUE!"}},{"$f":"I149-K149","v":{"$error":"#VALUE!"}}]
[{"$f":"Feuil2!$J$24","v":0},null,{"$f":"SEARCH(\"E\",A150,1)","v":{"$error":"#VALUE!"}},{"$f":"REPLACE(MID(A150,1,C150-1),1,1,\"\")","v":{"$error":"#VALUE!"}}]
[{"$f":"Feuil2!$J$26","v":0},null,{"$f":"SEARCH(\"M\",A151,1)","v":{"$error":"#VALUE!"}},{"$f":"REPLACE(MID(A151,1,C151-1),1,1,\"\")","v":{"$error":"#VALUE!"}}]
[]
[{"$f":"Feuil2!$K$3","v":0}]
[{"$f":"Feuil2!$K$7","v":0},null,{"$f":"A153","v":0}]
[{"$f":"Feuil2!$K$9","v":0},null,null,{"$f":"P155","v":{"$error":"#VALUE!"}},null,{"$f":"VALUE(SUBSTITUTE(D155,\".\",\",\"))","v":{"$error":"#VALUE!"}},{"$f":"TYPE(F155)","v":16},{"$f":"IF(G155=1,1,0)","v":0},{"$f":"IF(TYPE(SEARCH(\"/\",A155,1))=16,SEARCH(\"Potentiel\",A155,1),SEARCH(\"/\",A155,1))","v":{"$error":"#VALUE!"}},{"$f":"IF(TYPE(SEARCH(\",\",A155,1))=16,0,SEARCH(\",\",A155,1))","v":0},{"$f":"IF(TYPE(SEARCH(\",\",A155,J155+1))=1,SEARCH(\",\",A155,J155+1),J155)","v":0},null,{"$f":"IF(TYPE(SEARCH(\",\",A155,K155+1))=1,SEARCH(\",\",A155,K155+1),K155)+IF(Q155=1,1,0)","v":0},{"$f":"IF(TYPE(SEARCH(\",\",#REF!,M155+1))=1,SEARCH(\",\",#REF!,M155+1),M155)","v":0},{"$f":"IF(I155-2-(N155+4)<0,0,I155-2-(N155+4)-IF(TYPE(SEARCH(\"/\",A155,1))=16,0,4))","v":{"$error":"#VALUE!"}},{"$f":"IF(MID(A155,N155+4,O155)=\"\",0,SUBSTITUTE(MID(A155,N155+4,O155),\".\",\",\"))","v":{"$error":"#VALUE!"}},{"$f":"TYPE(SEARCH(\"K\",A155,1))","v":16}]
[{"$f":"Feuil2!$K$13","v":0},null,{"$f":"IF(TYPE(SEARCH(\"(\",A156,1))=16,SEARCH(\"F\",A156,1)+1,SEARCH(\"(\",A156,1))","v":{"$error":"#VALUE!"}},{"$f":"REPLACE(MID(A156,1,C156-2),1,1,\"\")","v":{"$error":"#VALUE!"}},{"$f":"E149+H156","v":0},{"$f":"VALUE(D156)-J156","v":{"$error":"#VALUE!"}},16,0,{"$f":"IF(TYPE(SEARCH(\")\",A156,1))=16,K156,SEARCH(\")\",A156,1))","v":{"$error":"#VALUE!"}},{"$f":"IF(TYPE(SEARCH(\")\",A156,1))=16,0,MID(A156,K156,L156))","v":0},{"$f":"C156+2","v":{"$error":"#VALUE!"}},{"$f":"I156-K156","v":{"$error":"#VALUE!"}},null,null,null,{"$f":"P155","v":{"$error":"#VALUE!"}}]
[{"$f":"Feuil2!$K$15","v":0},null,{"$f":"IF(TYPE(SEARCH(\"(\",A157,1))=16,SEARCH(\"H\",A157,1)+1,SEARCH(\"(\",A157,1))","v":{"$error":"#VALUE!"}},{"$f":"REPLACE(MID(A157,1,C157-2),1,1,\"\")","v":{"$error":"#VALUE!"}},{"$f":"E156+H157","v":0},{"$f":"VALUE(D157)-J157","v":{"$error":"#VALUE!"}},16,0,{"$f":"IF(TYPE(SEARCH(\")\",A157,1))=16,K157,SEARCH(\")\",A157,1))","v":{"$error":"#VALUE!"}},{"$f":"IF(TYPE(SEARCH(\"(\",A157,1))=16,0,MID(A157,K157,L157))","v":0},{"$f":"C157+2","v":{"$error":"#VALUE!"}},{"$f":"I157-K157","v":{"$error":"#VALUE!"}}]
[{"$f":"Feuil2!$K$17","v":0},null,{"$f":"IF(TYPE(SEARCH(\"(\",A158,1))=16,SEARCH(\"V\",A158,1)+1,SEARCH(\"(\",A158,1))","v":{"$error":"#VALUE!"}},{"$f":"REPLACE(MID(A158,1,C158-2),1,1,\"\")","v":{"$error":"#VALUE!"}},{"$f":"E157+H158","v":0},{"$f":"VALUE(D158)-J158","v":{"$error":"#VALUE!"}},16,0,{"$f":"IF(TYPE(SEARCH(\")\",A158,1))=16,K158,SEARCH(\")\",A158,1))","v":{"$error":"#VALUE!"}},{"$f":"IF(TYPE(SEARCH(\"(\",A158,1))=16,0,MID(A158,K158,L158))","v":0},{"$f":"C158+2","v":{"$error":"#VALUE!"}},{"$f":"I158-K158","v":{"$error":"#VALUE!"}}]
[{"$f":"Feuil2!$K$19","v":0},null,{"$f":"IF(TYPE(SEARCH(\"(\",A159,1))=16,SEARCH(\"E\",A159,1)+1,SEARCH(\"(\",A159,1))","v":{"$error":"#VALUE!"}},{"$f":"REPLACE(MID(A159,1,C159-2),1,1,\"\")","v":{"$error":"#VALUE!"}},{"$f":"E158+H159","v":0},{"$f":"VALUE(D159)-J159","v":{"$error":"#VALUE!"}},16,0,{"$f":"IF(TYPE(SEARCH(\")\",A159,1))=16,K159,SEARCH(\")\",A159,1))","v":{"$error":"#VALUE!"}},{"$f":"IF(TYPE(SEARCH(\"(\",A159,1))=16,0,MID(A159,K159,L159))","v":0},{"$f":"C159+2","v":{"$error":"#VALUE!"}},{"$f":"I159-K159","v":{"$error":"#VALUE!"}}]
[{"$f":"Feuil2!$K$21","v":0},null,{"$f":"IF(TYPE(SEARCH(\"(\",A160,1))=16,SEARCH(\"I\",A160,1)+1,SEARCH(\"(\",A160,1))","v":{"$error":"#VALUE!"}},{"$f":"REPLACE(MID(A160,1,C160-2),1,1,\"\")","v":{"$error":"#VALUE!"}},{"$f":"E159+H160","v":0},{"$f":"VALUE(D160)-J160","v":{"$error":"#VALUE!"}},16,0,{"$f":"IF(TYPE(SEARCH(\")\",A160,1))=16,K160,SEARCH(\")\",A160,1))","v":{"$error":"#VALUE!"}},{"$f":"IF(TYPE(SEARCH(\"(\",A160,1))=16,0,MID(A160,K160,L160))","v":0},{"$f":"C160+2","v":{"$error":"#VALUE!"}},{"$f":"I160-K160","v":{"$error":"#VALUE!"}}]
[{"$f":"Feuil2!$K$24","v":0},null,{"$f":"SEARCH(\"E\",A161,1)","v":{"$error":"#VALUE!"}},{"$f":"REPLACE(MID(A161,1,C161-1),1,1,\"\")","v":{"$error":"#VALUE!"}}]
[{"$f":"Feuil2!$K$26","v":0},null,{"$f":"SEARCH(\"M\",A162,1)","v":{"$error":"#VALUE!"}},{"$f":"REPLACE(MID(A162,1,C162-1),1,1,\"\")","v":{"$error":"#VALUE!"}}]
[]
[{"$f":"Feuil2!$L$3","v":0}]
[{"$f":"Feuil2!$L$7","v":0},null,{"$f":"A164","v":0}]
[{"$f":"Feuil2!$L$9","v":0},null,null,{"$f":"P166","v":{"$error":"#VALUE!"}},null,{"$f":"VALUE(SUBSTITUTE(D166,\".\",\",\"))","v":{"$error":"#VALUE!"}},{"$f":"TYPE(F166)","v":16},{"$f":"IF(G166=1,1,0)","v":0},{"$f":"IF(TYPE(SEARCH(\"/\",A166,1))=16,SEARCH(\"Potentiel\",A166,1),SEARCH(\"/\",A166,1))","v":{"$error":"#VALUE!"}},{"$f":"IF(TYPE(SEARCH(\",\",A166,1))=16,0,SEARCH(\",\",A166,1))","v":0},{"$f":"IF(TYPE(SEARCH(\",\",A166,J166+1))=1,SEARCH(\",\",A166,J166+1),J166)","v":0},null,{"$f":"IF(TYPE(SEARCH(\",\",A166,K166+1))=1,SEARCH(\",\",A166,K166+1),K166)+IF(Q166=1,1,0)","v":0},{"$f":"IF(TYPE(SEARCH(\",\",#REF!,M166+1))=1,SEARCH(\",\",#REF!,M166+1),M166)","v":0},{"$f":"IF(I166-2-(N166+4)<0,0,I166-2-(N166+4)-IF(TYPE(SEARCH(\"/\",A166,1))=16,0,4))","v":{"$error":"#VALUE!"}},{"$f":"IF(MID(A166,N166+4,O166)=\"\",0,SUBSTITUTE(MID(A166,N166+4,O166),\".\",\",\"))","v":{"$error":"#VALUE!"}},{"$f":"TYPE(SEARCH(\"K\",A166,1))","v":16}]
[{"$f":"Feuil2!$L$13","v":0},null,{"$f":"IF(TYPE(SEARCH(\"(\",A167,1))=16,SEARCH(\"F\",A167,1)+1,SEARCH(\"(\",A167,1))","v":{"$error":"#VALUE!"}},{"$f":"REPLACE(MID(A167,1,C167-2),1,1,\"\")","v":{"$error":"#VALUE!"}},{"$f":"E160+H167","v":0},{"$f":"VALUE(D167)-J167","v":{"$error":"#VALUE!"}},16,0,{"$f":"IF(TYPE(SEARCH(\")\",A167,1))=16,K167,SEARCH(\")\",A167,1))","v":{"$error":"#VALUE!"}},{"$f":"IF(TYPE(SEARCH(\")\",A167,1))=16,0,MID(A167,K167,L167))","v":0},{"$f":"C167+2","v":{"$error":"#VALUE!"}},{"$f":"I167-K167","v":{"$error":"#VALUE!"}},null,null,null,{"$f":"P166","v":{"$error":"#VALUE!"}}]
[{"$f":"Feuil2!$L$15","v":0},null,{"$f":"IF(TYPE(SEARCH(\"(\",A168,1))=16,SEARCH(\"H\",A168,1)+1,SEARCH(\"(\",A168,1))","v":{"$error":"#VALUE!"}},{"$f":"REPLACE(MID(A168,1,C168-2),1,1,\"\")","v":{"$error":"#VALUE!"}},{"$f":"E167+H168","v":0},{"$f":"VALUE(D168)-J168","v":{"$error":"#VALUE!"}},16,0,{"$f":"IF(TYPE(SEARCH(\")\",A168,1))=16,K168,SEARCH(\")\",A168,1))","v":{"$error":"#VALUE!"}},{"$f":"IF(TYPE(SEARCH(\"(\",A168,1))=16,0,MID(A168,K168,L168))","v":0},{"$f":"C168+2","v":{"$error":"#VALUE!"}},{"$f":"I168-K168","v":{"$error":"#VALUE!"}}]
[{"$f":"Feuil2!$L$17","v":0},null,{"$f":"IF(TYPE(SEARCH(\"(\",A169,1))=16,SEARCH(\"V\",A169,1)+1,SEARCH(\"(\",A169,1))","v":{"$error":"#VALUE!"}},{"$f":"REPLACE(MID(A169,1,C169-2),1,1,\"\")","v":{"$error":"#VALUE!"}},{"$f":"E168+H169","v":0},{"$f":"VALUE(D169)-J169","v":{"$error":"#VALUE!"}},16,0,{"$f":"IF(TYPE(SEARCH(\")\",A169,1))=16,K169,SEARCH(\")\",A169,1))","v":{"$error":"#VALUE!"}},{"$f":"IF(TYPE(SEARCH(\"(\",A169,1))=16,0,MID(A169,K169,L169))","v":0},{"$f":"C169+2","v":{"$error":"#VALUE!"}},{"$f":"I169-K169","v":{"$error":"#VALUE!"}}]
[{"$f":"Feuil2!$L$19","v":0},null,{"$f":"IF(TYPE(SEARCH(\"(\",A170,1))=16,SEARCH(\"E\",A170,1)+1,SEARCH(\"(\",A170,1))","v":{"$error":"#VALUE!"}},{"$f":"REPLACE(MID(A170,1,C170-2),1,1,\"\")","v":{"$error":"#VALUE!"}},{"$f":"E169+H170","v":0},{"$f":"VALUE(D170)-J170","v":{"$error":"#VALUE!"}},16,0,{"$f":"IF(TYPE(SEARCH(\")\",A170,1))=16,K170,SEARCH(\")\",A170,1))","v":{"$error":"#VALUE!"}},{"$f":"IF(TYPE(SEARCH(\"(\",A170,1))=16,0,MID(A170,K170,L170))","v":0},{"$f":"C170+2","v":{"$error":"#VALUE!"}},{"$f":"I170-K170","v":{"$error":"#VALUE!"}}]
[{"$f":"Feuil2!$L$21","v":0},null,{"$f":"IF(TYPE(SEARCH(\"(\",A171,1))=16,SEARCH(\"I\",A171,1)+1,SEARCH(\"(\",A171,1))","v":{"$error":"#VALUE!"}},{"$f":"REPLACE(MID(A171,1,C171-2),1,1,\"\")","v":{"$error":"#VALUE!"}},{"$f":"E170+H171","v":0},{"$f":"VALUE(D171)-J171","v":{"$error":"#VALUE!"}},16,0,{"$f":"IF(TYPE(SEARCH(\")\",A171,1))=16,K171,SEARCH(\")\",A171,1))","v":{"$error":"#VALUE!"}},{"$f":"IF(TYPE(SEARCH(\"(\",A171,1))=16,0,MID(A171,K171,L171))","v":0},{"$f":"C171+2","v":{"$error":"#VALUE!"}},{"$f":"I171-K171","v":{"$error":"#VALUE!"}}]
[{"$f":"Feuil2!$L$24","v":0},null,{"$f":"SEARCH(\"E\",A172,1)","v":{"$error":"#VALUE!"}},{"$f":"REPLACE(MID(A172,1,C172-1),1,1,\"\")","v":{"$error":"#VALUE!"}}]
[{"$f":"Feuil2!$L$26","v":0},null,{"$f":"SEARCH(\"M\",A173,1)","v":{"$error":"#VALUE!"}},{"$f":"REPLACE(MID(A173,1,C173-1),1,1,\"\")","v":{"$error":"#VALUE!"}}]
[]
[{"$f":"Feuil2!$M$3","v":0}]
[{"$f":"Feuil2!$M$7","v":0},null,{"$f":"A175","v":0}]
[{"$f":"Feuil2!$M$9","v":0},null,null,{"$f":"P177","v":{"$error":"#VALUE!"}},null,{"$f":"VALUE(SUBSTITUTE(D177,\".\",\",\"))","v":{"$error":"#VALUE!"}},{"$f":"TYPE(F177)","v":16},{"$f":"IF(G177=1,1,0)","v":0},{"$f":"IF(TYPE(SEARCH(\"/\",A177,1))=16,SEARCH(\"Potentiel\",A177,1),SEARCH(\"/\",A177,1))","v":{"$error":"#VALUE!"}},{"$f":"IF(TYPE(SEARCH(\",\",A177,1))=16,0,SEARCH(\",\",A177,1))","v":0},{"$f":"IF(TYPE(SEARCH(\",\",A177,J177+1))=1,SEARCH(\",\",A177,J177+1),J177)","v":0},null,{"$f":"IF(TYPE(SEARCH(\",\",A177,K177+1))=1,SEARCH(\",\",A177,K177+1),K177)+IF(Q177=1,1,0)","v":0},{"$f":"IF(TYPE(SEARCH(\",\",#REF!,M177+1))=1,SEARCH(\",\",#REF!,M177+1),M177)","v":0},{"$f":"IF(I177-2-(N177+4)<0,0,I177-2-(N177+4)-IF(TYPE(SEARCH(\"/\",A177,1))=16,0,4))","v":{"$error":"#VALUE!"}},{"$f":"IF(MID(A177,N177+4,O177)=\"\",0,SUBSTITUTE(MID(A177,N177+4,O177),\".\",\",\"))","v":{"$error":"#VALUE!"}},{"$f":"TYPE(SEARCH(\"K\",A177,1))","v":16}]
[{"$f":"Feuil2!$M$13","v":0},null,{"$f":"IF(TYPE(SEARCH(\"(\",A178,1))=16,SEARCH(\"F\",A178,1)+1,SEARCH(\"(\",A178,1))","v":{"$error":"#VALUE!"}},{"$f":"REPLACE(MID(A178,1,C178-2),1,1,\"\")","v":{"$error":"#VALUE!"}},{"$f":"E171+H178","v":0},{"$f":"VALUE(D178)-J178","v":{"$error":"#VALUE!"}},16,0,{"$f":"IF(TYPE(SEARCH(\")\",A178,1))=16,K178,SEARCH(\")\",A178,1))","v":{"$error":"#VALUE!"}},{"$f":"IF(TYPE(SEARCH(\")\",A178,1))=16,0,MID(A178,K178,L178))","v":0},{"$f":"C178+2","v":{"$error":"#VALUE!"}},{"$f":"I178-K178","v":{"$error":"#VALUE!"}},null,null,null,{"$f":"P177","v":{"$error":"#VALUE!"}}]
[{"$f":"Feuil2!$M$15","v":0},null,{"$f":"IF(TYPE(SEARCH(\"(\",A179,1))=16,SEARCH(\"H\",A179,1)+1,SEARCH(\"(\",A179,1))","v":{"$error":"#VALUE!"}},{"$f":"REPLACE(MID(A179,1,C179-2),1,1,\"\")","v":{"$error":"#VALUE!"}},{"$f":"E178+H179","v":0},{"$f":"VALUE(D179)-J179","v":{"$error":"#VALUE!"}},16,0,{"$f":"IF(TYPE(SEARCH(\")\",A179,1))=16,K179,SEARCH(\")\",A179,1))","v":{"$error":"#VALUE!"}},{"$f":"IF(TYPE(SEARCH(\"(\",A179,1))=16,0,MID(A179,K179,L179))","v":0},{"$f":"C179+2","v":{"$error":"#VALUE!"}},{"$f":"I179-K179","v":{"$error":"#VALUE!"}}]
[{"$f":"Feuil2!$M$17","v":0},null,{"$f":"IF(TYPE(SEARCH(\"(\",A180,1))=16,SEARCH(\"V\",A180,1)+1,SEARCH(\"(\",A180,1))","v":{"$error":"#VALUE!"}},{"$f":"REPLACE(MID(A180,1,C180-2),1,1,\"\")","v":{"$error":"#VALUE!"}},{"$f":"E179+H180","v":0},{"$f":"VALUE(D180)-J180","v":{"$error":"#VALUE!"}},16,0,{"$f":"IF(TYPE(SEARCH(\")\",A180,1))=16,K180,SEARCH(\")\",A180,1))","v":{"$error":"#VALUE!"}},{"$f":"IF(TYPE(SEARCH(\"(\",A180,1))=16,0,MID(A180,K180,L180))","v":0},{"$f":"C180+2","v":{"$error":"#VALUE!"}},{"$f":"I180-K180","v":{"$error":"#VALUE!"}}]
[{"$f":"Feuil2!$M$19","v":0},null,{"$f":"IF(TYPE(SEARCH(\"(\",A181,1))=16,SEARCH(\"E\",A181,1)+1,SEARCH(\"(\",A181,1))","v":{"$error":"#VALUE!"}},{"$f":"REPLACE(MID(A181,1,C181-2),1,1,\"\")","v":{"$error":"#VALUE!"}},{"$f":"E180+H181","v":0},{"$f":"VALUE(D181)-J181","v":{"$error":"#VALUE!"}},16,0,{"$f":"IF(TYPE(SEARCH(\")\",A181,1))=16,K181,SEARCH(\")\",A181,1))","v":{"$error":"#VALUE!"}},{"$f":"IF(TYPE(SEARCH(\"(\",A181,1))=16,0,MID(A181,K181,L181))","v":0},{"$f":"C181+2","v":{"$error":"#VALUE!"}},{"$f":"I181-K181","v":{"$error":"#VALUE!"}}]
[{"$f":"Feuil2!$M$21","v":0},null,{"$f":"IF(TYPE(SEARCH(\"(\",A182,1))=16,SEARCH(\"I\",A182,1)+1,SEARCH(\"(\",A182,1))","v":{"$error":"#VALUE!"}},{"$f":"REPLACE(MID(A182,1,C182-2),1,1,\"\")","v":{"$error":"#VALUE!"}},{"$f":"E181+H182","v":0},{"$f":"VALUE(D182)-J182","v":{"$error":"#VALUE!"}},16,0,{"$f":"IF(TYPE(SEARCH(\")\",A182,1))=16,K182,SEARCH(\")\",A182,1))","v":{"$error":"#VALUE!"}},{"$f":"IF(TYPE(SEARCH(\"(\",A182,1))=16,0,MID(A182,K182,L182))","v":0},{"$f":"C182+2","v":{"$error":"#VALUE!"}},{"$f":"I182-K182","v":{"$error":"#VALUE!"}}]
[{"$f":"Feuil2!$M$24","v":0},null,{"$f":"SEARCH(\"E\",A183,1)","v":{"$error":"#VALUE!"}},{"$f":"REPLACE(MID(A183,1,C183-1),1,1,\"\")","v":{"$error":"#VALUE!"}}]
[{"$f":"Feuil2!$M$26","v":0},null,{"$f":"SEARCH(\"M\",A184,1)","v":{"$error":"#VALUE!"}},{"$f":"REPLACE(MID(A184,1,C184-1),1,1,\"\")","v":{"$error":"#VALUE!"}}]
[]
[{"$f":"Feuil2!$N$3","v":0}]
[{"$f":"Feuil2!$N$7","v":0},null,{"$f":"A186","v":0}]
[{"$f":"Feuil2!$N$9","v":0},null,null,{"$f":"P188","v":{"$error":"#VALUE!"}},null,{"$f":"VALUE(SUBSTITUTE(D188,\".\",\",\"))","v":{"$error":"#VALUE!"}},{"$f":"TYPE(F188)","v":16},{"$f":"IF(G188=1,1,0)","v":0},{"$f":"IF(TYPE(SEARCH(\"/\",A188,1))=16,SEARCH(\"Potentiel\",A188,1),SEARCH(\"/\",A188,1))","v":{"$error":"#VALUE!"}},{"$f":"IF(TYPE(SEARCH(\",\",A188,1))=16,0,SEARCH(\",\",A188,1))","v":0},{"$f":"IF(TYPE(SEARCH(\",\",A188,J188+1))=1,SEARCH(\",\",A188,J188+1),J188)","v":0},null,{"$f":"IF(TYPE(SEARCH(\",\",A188,K188+1))=1,SEARCH(\",\",A188,K188+1),K188)+IF(Q188=1,1,0)","v":0},{"$f":"IF(TYPE(SEARCH(\",\",#REF!,M188+1))=1,SEARCH(\",\",#REF!,M188+1),M188)","v":0},{"$f":"IF(I188-2-(N188+4)<0,0,I188-2-(N188+4)-IF(TYPE(SEARCH(\"/\",A188,1))=16,0,4))","v":{"$error":"#VALUE!"}},{"$f":"IF(MID(A188,N188+4,O188)=\"\",0,SUBSTITUTE(MID(A188,N188+4,O188),\".\",\",\"))","v":{"$error":"#VALUE!"}},{"$f":"TYPE(SEARCH(\"K\",A188,1))","v":16}]
[{"$f":"Feuil2!$N$13","v":0},null,{"$f":"IF(TYPE(SEARCH(\"(\",A189,1))=16,SEARCH(\"F\",A189,1)+1,SEARCH(\"(\",A189,1))","v":{"$error":"#VALUE!"}},{"$f":"REPLACE(MID(A189,1,C189-2),1,1,\"\")","v":{"$error":"#VALUE!"}},{"$f":"E182+H189","v":0},{"$f":"VALUE(D189)-J189","v":{"$error":"#VALUE!"}},16,0,{"$f":"IF(TYPE(SEARCH(\")\",A189,1))=16,K189,SEARCH(\")\",A189,1))","v":{"$error":"#VALUE!"}},{"$f":"IF(TYPE(SEARCH(\")\",A189,1))=16,0,MID(A189,K189,L189))","v":0},{"$f":"C189+2","v":{"$error":"#VALUE!"}},{"$f":"I189-K189","v":{"$error":"#VALUE!"}},null,null,null,{"$f":"P188","v":{"$error":"#VALUE!"}}]
[{"$f":"Feuil2!$N$15","v":0},null,{"$f":"IF(TYPE(SEARCH(\"(\",A190,1))=16,SEARCH(\"H\",A190,1)+1,SEARCH(\"(\",A190,1))","v":{"$error":"#VALUE!"}},{"$f":"REPLACE(MID(A190,1,C190-2),1,1,\"\")","v":{"$error":"#VALUE!"}},{"$f":"E189+H190","v":0},{"$f":"VALUE(D190)-J190","v":{"$error":"#VALUE!"}},16,0,{"$f":"IF(TYPE(SEARCH(\")\",A190,1))=16,K190,SEARCH(\")\",A190,1))","v":{"$error":"#VALUE!"}},{"$f":"IF(TYPE(SEARCH(\"(\",A190,1))=16,0,MID(A190,K190,L190))","v":0},{"$f":"C190+2","v":{"$error":"#VALUE!"}},{"$f":"I190-K190","v":{"$error":"#VALUE!"}}]
[{"$f":"Feuil2!$N$17","v":0},null,{"$f":"IF(TYPE(SEARCH(\"(\",A191,1))=16,SEARCH(\"V\",A191,1)+1,SEARCH(\"(\",A191,1))","v":{"$error":"#VALUE!"}},{"$f":"REPLACE(MID(A191,1,C191-2),1,1,\"\")","v":{"$error":"#VALUE!"}},{"$f":"E190+H191","v":0},{"$f":"VALUE(D191)-J191","v":{"$error":"#VALUE!"}},16,0,{"$f":"IF(TYPE(SEARCH(\")\",A191,1))=16,K191,SEARCH(\")\",A191,1))","v":{"$error":"#VALUE!"}},{"$f":"IF(TYPE(SEARCH(\"(\",A191,1))=16,0,MID(A191,K191,L191))","v":0},{"$f":"C191+2","v":{"$error":"#VALUE!"}},{"$f":"I191-K191","v":{"$error":"#VALUE!"}}]
[{"$f":"Feuil2!$N$19","v":0},null,{"$f":"IF(TYPE(SEARCH(\"(\",A192,1))=16,SEARCH(\"E\",A192,1)+1,SEARCH(\"(\",A192,1))","v":{"$error":"#VALUE!"}},{"$f":"REPLACE(MID(A192,1,C192-2),1,1,\"\")","v":{"$error":"#VALUE!"}},{"$f":"E191+H192","v":0},{"$f":"VALUE(D192)-J192","v":{"$error":"#VALUE!"}},16,0,{"$f":"IF(TYPE(SEARCH(\")\",A192,1))=16,K192,SEARCH(\")\",A192,1))","v":{"$error":"#VALUE!"}},{"$f":"IF(TYPE(SEARCH(\"(\",A192,1))=16,0,MID(A192,K192,L192))","v":0},{"$f":"C192+2","v":{"$error":"#VALUE!"}},{"$f":"I192-K192","v":{"$error":"#VALUE!"}}]
[{"$f":"Feuil2!$N$21","v":0},null,{"$f":"IF(TYPE(SEARCH(\"(\",A193,1))=16,SEARCH(\"I\",A193,1)+1,SEARCH(\"(\",A193,1))","v":{"$error":"#VALUE!"}},{"$f":"REPLACE(MID(A193,1,C193-2),1,1,\"\")","v":{"$error":"#VALUE!"}},{"$f":"E192+H193","v":0},{"$f":"VALUE(D193)-J193","v":{"$error":"#VALUE!"}},16,0,{"$f":"IF(TYPE(SEARCH(\")\",A193,1))=16,K193,SEARCH(\")\",A193,1))","v":{"$error":"#VALUE!"}},{"$f":"IF(TYPE(SEARCH(\"(\",A193,1))=16,0,MID(A193,K193,L193))","v":0},{"$f":"C193+2","v":{"$error":"#VALUE!"}},{"$f":"I193-K193","v":{"$error":"#VALUE!"}}]
[{"$f":"Feuil2!$N$24","v":0},null,{"$f":"SEARCH(\"E\",A194,1)","v":{"$error":"#VALUE!"}},{"$f":"REPLACE(MID(A194,1,C194-1),1,1,\"\")","v":{"$error":"#VALUE!"}}]
[{"$f":"Feuil2!$N$26","v":0},null,{"$f":"SEARCH(\"M\",A195,1)","v":{"$error":"#VALUE!"}},{"$f":"REPLACE(MID(A195,1,C195-1),1,1,\"\")","v":{"$error":"#VALUE!"}}]
[]
[{"$f":"Feuil2!$O$3","v":0}]
[{"$f":"Feuil2!$O$7","v":0},null,{"$f":"A197","v":0}]
[{"$f":"Feuil2!$O$9","v":0},null,null,{"$f":"P199","v":{"$error":"#VALUE!"}},null,{"$f":"VALUE(SUBSTITUTE(D199,\".\",\",\"))","v":{"$error":"#VALUE!"}},{"$f":"TYPE(F199)","v":16},{"$f":"IF(G199=1,1,0)","v":0},{"$f":"IF(TYPE(SEARCH(\"/\",A199,1))=16,SEARCH(\"Potentiel\",A199,1),SEARCH(\"/\",A199,1))","v":{"$error":"#VALUE!"}},{"$f":"IF(TYPE(SEARCH(\",\",A199,1))=16,0,SEARCH(\",\",A199,1))","v":0},{"$f":"IF(TYPE(SEARCH(\",\",A199,J199+1))=1,SEARCH(\",\",A199,J199+1),J199)","v":0},null,{"$f":"IF(TYPE(SEARCH(\",\",A199,K199+1))=1,SEARCH(\",\",A199,K199+1),K199)+IF(Q199=1,1,0)","v":0},{"$f":"IF(TYPE(SEARCH(\",\",#REF!,M199+1))=1,SEARCH(\",\",#REF!,M199+1),M199)","v":0},{"$f":"IF(I199-2-(N199+4)<0,0,I199-2-(N199+4)-IF(TYPE(SEARCH(\"/\",A199,1))=16,0,4))","v":{"$error":"#VALUE!"}},{"$f":"IF(MID(A199,N199+4,O199)=\"\",0,SUBSTITUTE(MID(A199,N199+4,O199),\".\",\",\"))","v":{"$error":"#VALUE!"}},{"$f":"TYPE(SEARCH(\"K\",A199,1))","v":16}]
[{"$f":"Feuil2!$O$13","v":0},null,{"$f":"IF(TYPE(SEARCH(\"(\",A200,1))=16,SEARCH(\"F\",A200,1)+1,SEARCH(\"(\",A200,1))","v":{"$error":"#VALUE!"}},{"$f":"REPLACE(MID(A200,1,C200-2),1,1,\"\")","v":{"$error":"#VALUE!"}},{"$f":"E193+H200","v":0},{"$f":"VALUE(D200)-J200","v":{"$error":"#VALUE!"}},16,0,{"$f":"IF(TYPE(SEARCH(\")\",A200,1))=16,K200,SEARCH(\")\",A200,1))","v":{"$error":"#VALUE!"}},{"$f":"IF(TYPE(SEARCH(\")\",A200,1))=16,0,MID(A200,K200,L200))","v":0},{"$f":"C200+2","v":{"$error":"#VALUE!"}},{"$f":"I200-K200","v":{"$error":"#VALUE!"}},null,null,null,{"$f":"P199","v":{"$error":"#VALUE!"}}]
[{"$f":"Feuil2!$O$15","v":0},null,{"$f":"IF(TYPE(SEARCH(\"(\",A201,1))=16,SEARCH(\"H\",A201,1)+1,SEARCH(\"(\",A201,1))","v":{"$error":"#VALUE!"}},{"$f":"REPLACE(MID(A201,1,C201-2),1,1,\"\")","v":{"$error":"#VALUE!"}},{"$f":"E200+H201","v":0},{"$f":"VALUE(D201)-J201","v":{"$error":"#VALUE!"}},16,0,{"$f":"IF(TYPE(SEARCH(\")\",A201,1))=16,K201,SEARCH(\")\",A201,1))","v":{"$error":"#VALUE!"}},{"$f":"IF(TYPE(SEARCH(\"(\",A201,1))=16,0,MID(A201,K201,L201))","v":0},{"$f":"C201+2","v":{"$error":"#VALUE!"}},{"$f":"I201-K201","v":{"$error":"#VALUE!"}}]
[{"$f":"Feuil2!$O$17","v":0},null,{"$f":"IF(TYPE(SEARCH(\"(\",A202,1))=16,SEARCH(\"V\",A202,1)+1,SEARCH(\"(\",A202,1))","v":{"$error":"#VALUE!"}},{"$f":"REPLACE(MID(A202,1,C202-2),1,1,\"\")","v":{"$error":"#VALUE!"}},{"$f":"E201+H202","v":0},{"$f":"VALUE(D202)-J202","v":{"$error":"#VALUE!"}},16,0,{"$f":"IF(TYPE(SEARCH(\")\",A202,1))=16,K202,SEARCH(\")\",A202,1))","v":{"$error":"#VALUE!"}},{"$f":"IF(TYPE(SEARCH(\"(\",A202,1))=16,0,MID(A202,K202,L202))","v":0},{"$f":"C202+2","v":{"$error":"#VALUE!"}},{"$f":"I202-K202","v":{"$error":"#VALUE!"}}]
[{"$f":"Feuil2!$O$19","v":0},null,{"$f":"IF(TYPE(SEARCH(\"(\",A203,1))=16,SEARCH(\"E\",A203,1)+1,SEARCH(\"(\",A203,1))","v":{"$error":"#VALUE!"}},{"$f":"REPLACE(MID(A203,1,C203-2),1,1,\"\")","v":{"$error":"#VALUE!"}},{"$f":"E202+H203","v":0},{"$f":"VALUE(D203)-J203","v":{"$error":"#VALUE!"}},16,0,{"$f":"IF(TYPE(SEARCH(\")\",A203,1))=16,K203,SEARCH(\")\",A203,1))","v":{"$error":"#VALUE!"}},{"$f":"IF(TYPE(SEARCH(\"(\",A203,1))=16,0,MID(A203,K203,L203))","v":0},{"$f":"C203+2","v":{"$error":"#VALUE!"}},{"$f":"I203-K203","v":{"$error":"#VALUE!"}}]
[{"$f":"Feuil2!$O$21","v":0},null,{"$f":"IF(TYPE(SEARCH(\"(\",A204,1))=16,SEARCH(\"I\",A204,1)+1,SEARCH(\"(\",A204,1))","v":{"$error":"#VALUE!"}},{"$f":"REPLACE(MID(A204,1,C204-2),1,1,\"\")","v":{"$error":"#VALUE!"}},{"$f":"E203+H204","v":0},{"$f":"VALUE(D204)-J204","v":{"$error":"#VALUE!"}},16,0,{"$f":"IF(TYPE(SEARCH(\")\",A204,1))=16,K204,SEARCH(\")\",A204,1))","v":{"$error":"#VALUE!"}},{"$f":"IF(TYPE(SEARCH(\"(\",A204,1))=16,0,MID(A204,K204,L204))","v":0},{"$f":"C204+2","v":{"$error":"#VALUE!"}},{"$f":"I204-K204","v":{"$error":"#VALUE!"}}]
[{"$f":"Feuil2!$O$24","v":0},null,{"$f":"SEARCH(\"E\",A205,1)","v":{"$error":"#VALUE!"}},{"$f":"REPLACE(MID(A205,1,C205-1),1,1,\"\")","v":{"$error":"#VALUE!"}}]
[{"$f":"Feuil2!$O$26","v":0},null,{"$f":"SEARCH(\"M\",A206,1)","v":{"$error":"#VALUE!"}},{"$f":"REPLACE(MID(A206,1,C206-1),1,1,\"\")","v":{"$error":"#VALUE!"}}]
[]
[{"$f":"Feuil2!$P$3","v":0}]
[{"$f":"Feuil2!$P$7","v":0},null,{"$f":"A208","v":0}]
[{"$f":"Feuil2!$P$9","v":0},null,null,{"$f":"P210","v":{"$error":"#VALUE!"}},null,{"$f":"VALUE(SUBSTITUTE(D210,\".\",\",\"))","v":{"$error":"#VALUE!"}},{"$f":"TYPE(F210)","v":16},{"$f":"IF(G210=1,1,0)","v":0},{"$f":"IF(TYPE(SEARCH(\"/\",A210,1))=16,SEARCH(\"Potentiel\",A210,1),SEARCH(\"/\",A210,1))","v":{"$error":"#VALUE!"}},{"$f":"IF(TYPE(SEARCH(\",\",A210,1))=16,0,SEARCH(\",\",A210,1))","v":0},{"$f":"IF(TYPE(SEARCH(\",\",A210,J210+1))=1,SEARCH(\",\",A210,J210+1),J210)","v":0},null,{"$f":"IF(TYPE(SEARCH(\",\",A210,K210+1))=1,SEARCH(\",\",A210,K210+1),K210)+IF(Q210=1,1,0)","v":0},{"$f":"IF(TYPE(SEARCH(\",\",#REF!,M210+1))=1,SEARCH(\",\",#REF!,M210+1),M210)","v":0},{"$f":"IF(I210-2-(N210+4)<0,0,I210-2-(N210+4)-IF(TYPE(SEARCH(\"/\",A210,1))=16,0,4))","v":{"$error":"#VALUE!"}},{"$f":"IF(MID(A210,N210+4,O210)=\"\",0,SUBSTITUTE(MID(A210,N210+4,O210),\".\",\",\"))","v":{"$error":"#VALUE!"}},{"$f":"TYPE(SEARCH(\"K\",A210,1))","v":16}]
[{"$f":"Feuil2!$P$13","v":0},null,{"$f":"IF(TYPE(SEARCH(\"(\",A211,1))=16,SEARCH(\"F\",A211,1)+1,SEARCH(\"(\",A211,1))","v":{"$error":"#VALUE!"}},{"$f":"REPLACE(MID(A211,1,C211-2),1,1,\"\")","v":{"$error":"#VALUE!"}},{"$f":"E204+H211","v":0},{"$f":"VALUE(D211)-J211","v":{"$error":"#VALUE!"}},16,0,{"$f":"IF(TYPE(SEARCH(\")\",A211,1))=16,K211,SEARCH(\")\",A211,1))","v":{"$error":"#VALUE!"}},{"$f":"IF(TYPE(SEARCH(\")\",A211,1))=16,0,MID(A211,K211,L211))","v":0},{"$f":"C211+2","v":{"$error":"#VALUE!"}},{"$f":"I211-K211","v":{"$error":"#VALUE!"}},null,null,null,{"$f":"P210","v":{"$error":"#VALUE!"}}]
[{"$f":"Feuil2!$P$15","v":0},null,{"$f":"IF(TYPE(SEARCH(\"(\",A212,1))=16,SEARCH(\"H\",A212,1)+1,SEARCH(\"(\",A212,1))","v":{"$error":"#VALUE!"}},{"$f":"REPLACE(MID(A212,1,C212-2),1,1,\"\")","v":{"$error":"#VALUE!"}},{"$f":"E211+H212","v":0},{"$f":"VALUE(D212)-J212","v":{"$error":"#VALUE!"}},16,0,{"$f":"IF(TYPE(SEARCH(\")\",A212,1))=16,K212,SEARCH(\")\",A212,1))","v":{"$error":"#VALUE!"}},{"$f":"IF(TYPE(SEARCH(\"(\",A212,1))=16,0,MID(A212,K212,L212))","v":0},{"$f":"C212+2","v":{"$error":"#VALUE!"}},{"$f":"I212-K212","v":{"$error":"#VALUE!"}}]
[{"$f":"Feuil2!$P$17","v":0},null,{"$f":"IF(TYPE(SEARCH(\"(\",A213,1))=16,SEARCH(\"V\",A213,1)+1,SEARCH(\"(\",A213,1))","v":{"$error":"#VALUE!"}},{"$f":"REPLACE(MID(A213,1,C213-2),1,1,\"\")","v":{"$error":"#VALUE!"}},{"$f":"E212+H213","v":0},{"$f":"VALUE(D213)-J213","v":{"$error":"#VALUE!"}},16,0,{"$f":"IF(TYPE(SEARCH(\")\",A213,1))=16,K213,SEARCH(\")\",A213,1))","v":{"$error":"#VALUE!"}},{"$f":"IF(TYPE(SEARCH(\"(\",A213,1))=16,0,MID(A213,K213,L213))","v":0},{"$f":"C213+2","v":{"$error":"#VALUE!"}},{"$f":"I213-K213","v":{"$error":"#VALUE!"}}]
[{"$f":"Feuil2!$P$19","v":0},null,{"$f":"IF(TYPE(SEARCH(\"(\",A214,1))=16,SEARCH(\"E\",A214,1)+1,SEARCH(\"(\",A214,1))","v":{"$error":"#VALUE!"}},{"$f":"REPLACE(MID(A214,1,C214-2),1,1,\"\")","v":{"$error":"#VALUE!"}},{"$f":"E213+H214","v":0},{"$f":"VALUE(D214)-J214","v":{"$error":"#VALUE!"}},16,0,{"$f":"IF(TYPE(SEARCH(\")\",A214,1))=16,K214,SEARCH(\")\",A214,1))","v":{"$error":"#VALUE!"}},{"$f":"IF(TYPE(SEARCH(\"(\",A214,1))=16,0,MID(A214,K214,L214))","v":0},{"$f":"C214+2","v":{"$error":"#VALUE!"}},{"$f":"I214-K214","v":{"$error":"#VALUE!"}}]
[{"$f":"Feuil2!$P$21","v":0},null,{"$f":"IF(TYPE(SEARCH(\"(\",A215,1))=16,SEARCH(\"I\",A215,1)+1,SEARCH(\"(\",A215,1))","v":{"$error":"#VALUE!"}},{"$f":"REPLACE(MID(A215,1,C215-2),1,1,\"\")","v":{"$error":"#VALUE!"}},{"$f":"E214+H215","v":0},{"$f":"VALUE(D215)-J215","v":{"$error":"#VALUE!"}},16,0,{"$f":"IF(TYPE(SEARCH(\")\",A215,1))=16,K215,SEARCH(\")\",A215,1))","v":{"$error":"#VALUE!"}},{"$f":"IF(TYPE(SEARCH(\"(\",A215,1))=16,0,MID(A215,K215,L215))","v":0},{"$f":"C215+2","v":{"$error":"#VALUE!"}},{"$f":"I215-K215","v":{"$error":"#VALUE!"}}]
[{"$f":"Feuil2!$P$24","v":0},null,{"$f":"SEARCH(\"E\",A216,1)","v":{"$error":"#VALUE!"}},{"$f":"REPLACE(MID(A216,1,C216-1),1,1,\"\")","v":{"$error":"#VALUE!"}}]
[{"$f":"Feuil2!$P$26","v":0},null,{"$f":"SEARCH(\"M\",A217,1)","v":{"$error":"#VALUE!"}},{"$f":"REPLACE(MID(A217,1,C217-1),1,1,\"\")","v":{"$error":"#VALUE!"}}]
[]
[{"$f":"Feuil2!$Q$3","v":0}]
[{"$f":"Feuil2!$Q$7","v":0},null,{"$f":"A219","v":0}]
[{"$f":"Feuil2!$Q$9","v":0},null,null,{"$f":"P221","v":{"$error":"#VALUE!"}},null,{"$f":"VALUE(SUBSTITUTE(D221,\".\",\",\"))","v":{"$error":"#VALUE!"}},{"$f":"TYPE(F221)","v":16},{"$f":"IF(G221=1,1,0)","v":0},{"$f":"IF(TYPE(SEARCH(\"/\",A221,1))=16,SEARCH(\"Potentiel\",A221,1),SEARCH(\"/\",A221,1))","v":{"$error":"#VALUE!"}},{"$f":"IF(TYPE(SEARCH(\",\",A221,1))=16,0,SEARCH(\",\",A221,1))","v":0},{"$f":"IF(TYPE(SEARCH(\",\",A221,J221+1))=1,SEARCH(\",\",A221,J221+1),J221)","v":0},null,{"$f":"IF(TYPE(SEARCH(\",\",A221,K221+1))=1,SEARCH(\",\",A221,K221+1),K221)+IF(Q221=1,1,0)","v":0},{"$f":"IF(TYPE(SEARCH(\",\",#REF!,M221+1))=1,SEARCH(\",\",#REF!,M221+1),M221)","v":0},{"$f":"IF(I221-2-(N221+4)<0,0,I221-2-(N221+4)-IF(TYPE(SEARCH(\"/\",A221,1))=16,0,4))","v":{"$error":"#VALUE!"}},{"$f":"IF(MID(A221,N221+4,O221)=\"\",0,SUBSTITUTE(MID(A221,N221+4,O221),\".\",\",\"))","v":{"$error":"#VALUE!"}},{"$f":"TYPE(SEARCH(\"K\",A221,1))","v":16}]
[{"$f":"Feuil2!$Q$13","v":0},null,{"$f":"IF(TYPE(SEARCH(\"(\",A222,1))=16,SEARCH(\"F\",A222,1)+1,SEARCH(\"(\",A222,1))","v":{"$error":"#VALUE!"}},{"$f":"REPLACE(MID(A222,1,C222-2),1,1,\"\")","v":{"$error":"#VALUE!"}},{"$f":"E215+H222","v":0},{"$f":"VALUE(D222)-J222","v":{"$error":"#VALUE!"}},16,0,{"$f":"IF(TYPE(SEARCH(\")\",A222,1))=16,K222,SEARCH(\")\",A222,1))","v":{"$error":"#VALUE!"}},{"$f":"IF(TYPE(SEARCH(\")\",A222,1))=16,0,MID(A222,K222,L222))","v":0},{"$f":"C222+2","v":{"$error":"#VALUE!"}},{"$f":"I222-K222","v":{"$error":"#VALUE!"}},null,null,null,{"$f":"P221","v":{"$error":"#VALUE!"}}]
[{"$f":"Feuil2!$Q$15","v":0},null,{"$f":"IF(TYPE(SEARCH(\"(\",A223,1))=16,SEARCH(\"H\",A223,1)+1,SEARCH(\"(\",A223,1))","v":{"$error":"#VALUE!"}},{"$f":"REPLACE(MID(A223,1,C223-2),1,1,\"\")","v":{"$error":"#VALUE!"}},{"$f":"E222+H223","v":0},{"$f":"VALUE(D223)-J223","v":{"$error":"#VALUE!"}},16,0,{"$f":"IF(TYPE(SEARCH(\")\",A223,1))=16,K223,SEARCH(\")\",A223,1))","v":{"$error":"#VALUE!"}},{"$f":"IF(TYPE(SEARCH(\"(\",A223,1))=16,0,MID(A223,K223,L223))","v":0},{"$f":"C223+2","v":{"$error":"#VALUE!"}},{"$f":"I223-K223","v":{"$error":"#VALUE!"}}]
[{"$f":"Feuil2!$Q$17","v":0},null,{"$f":"IF(TYPE(SEARCH(\"(\",A224,1))=16,SEARCH(\"V\",A224,1)+1,SEARCH(\"(\",A224,1))","v":{"$error":"#VALUE!"}},{"$f":"REPLACE(MID(A224,1,C224-2),1,1,\"\")","v":{"$error":"#VALUE!"}},{"$f":"E223+H224","v":0},{"$f":"VALUE(D224)-J224","v":{"$error":"#VALUE!"}},16,0,{"$f":"IF(TYPE(SEARCH(\")\",A224,1))=16,K224,SEARCH(\")\",A224,1))","v":{"$error":"#VALUE!"}},{"$f":"IF(TYPE(SEARCH(\"(\",A224,1))=16,0,MID(A224,K224,L224))","v":0},{"$f":"C224+2","v":{"$error":"#VALUE!"}},{"$f":"I224-K224","v":{"$error":"#VALUE!"}}]
[{"$f":"Feuil2!$Q$19","v":0},null,{"$f":"IF(TYPE(SEARCH(\"(\",A225,1))=16,SEARCH(\"E\",A225,1)+1,SEARCH(\"(\",A225,1))","v":{"$error":"#VALUE!"}},{"$f":"REPLACE(MID(A225,1,C225-2),1,1,\"\")","v":{"$error":"#VALUE!"}},{"$f":"E224+H225","v":0},{"$f":"VALUE(D225)-J225","v":{"$error":"#VALUE!"}},16,0,{"$f":"IF(TYPE(SEARCH(\")\",A225,1))=16,K225,SEARCH(\")\",A225,1))","v":{"$error":"#VALUE!"}},{"$f":"IF(TYPE(SEARCH(\"(\",A225,1))=16,0,MID(A225,K225,L225))","v":0},{"$f":"C225+2","v":{"$error":"#VALUE!"}},{"$f":"I225-K225","v":{"$error":"#VALUE!"}}]
[{"$f":"Feuil2!$Q$21","v":0},null,{"$f":"IF(TYPE(SEARCH(\"(\",A226,1))=16,SEARCH(\"I\",A226,1)+1,SEARCH(\"(\",A226,1))","v":{"$error":"#VALUE!"}},{"$f":"REPLACE(MID(A226,1,C226-2),1,1,\"\")","v":{"$error":"#VALUE!"}},{"$f":"E225+H226","v":0},{"$f":"VALUE(D226)-J226","v":{"$error":"#VALUE!"}},16,0,{"$f":"IF(TYPE(SEARCH(\")\",A226,1))=16,K226,SEARCH(\")\",A226,1))","v":{"$error":"#VALUE!"}},{"$f":"IF(TYPE(SEARCH(\"(\",A226,1))=16,0,MID(A226,K226,L226))","v":0},{"$f":"C226+2","v":{"$error":"#VALUE!"}},{"$f":"I226-K226","v":{"$error":"#VALUE!"}}]
[{"$f":"Feuil2!$Q$24","v":0},null,{"$f":"SEARCH(\"E\",A227,1)","v":{"$error":"#VALUE!"}},{"$f":"REPLACE(MID(A227,1,C227-1),1,1,\"\")","v":{"$error":"#VALUE!"}}]
[{"$f":"Feuil2!$Q$26","v":0},null,{"$f":"SEARCH(\"M\",A228,1)","v":{"$error":"#VALUE!"}},{"$f":"REPLACE(MID(A228,1,C228-1),1,1,\"\")","v":{"$error":"#VALUE!"}}]
[]
[{"$f":"Feuil2!$R$3","v":0}]
[{"$f":"Feuil2!$R$7","v":0},null,{"$f":"A230","v":0}]
[{"$f":"Feuil2!$R$9","v":0},null,null,{"$f":"P232","v":{"$error":"#VALUE!"}},null,{"$f":"VALUE(SUBSTITUTE(D232,\".\",\",\"))","v":{"$error":"#VALUE!"}},{"$f":"TYPE(F232)","v":16},{"$f":"IF(G232=1,1,0)","v":0},{"$f":"IF(TYPE(SEARCH(\"/\",A232,1))=16,SEARCH(\"Potentiel\",A232,1),SEARCH(\"/\",A232,1))","v":{"$error":"#VALUE!"}},{"$f":"IF(TYPE(SEARCH(\",\",A232,1))=16,0,SEARCH(\",\",A232,1))","v":0},{"$f":"IF(TYPE(SEARCH(\",\",A232,J232+1))=1,SEARCH(\",\",A232,J232+1),J232)","v":0},null,{"$f":"IF(TYPE(SEARCH(\",\",A232,K232+1))=1,SEARCH(\",\",A232,K232+1),K232)+IF(Q232=1,1,0)","v":0},{"$f":"IF(TYPE(SEARCH(\",\",#REF!,M232+1))=1,SEARCH(\",\",#REF!,M232+1),M232)","v":0},{"$f":"IF(I232-2-(N232+4)<0,0,I232-2-(N232+4)-IF(TYPE(SEARCH(\"/\",A232,1))=16,0,4))","v":{"$error":"#VALUE!"}},{"$f":"IF(MID(A232,N232+4,O232)=\"\",0,SUBSTITUTE(MID(A232,N232+4,O232),\".\",\",\"))","v":{"$error":"#VALUE!"}},{"$f":"TYPE(SEARCH(\"K\",A232,1))","v":16}]
[{"$f":"Feuil2!$R$13","v":0},null,{"$f":"IF(TYPE(SEARCH(\"(\",A233,1))=16,SEARCH(\"F\",A233,1)+1,SEARCH(\"(\",A233,1))","v":{"$error":"#VALUE!"}},{"$f":"REPLACE(MID(A233,1,C233-2),1,1,\"\")","v":{"$error":"#VALUE!"}},{"$f":"E226+H233","v":0},{"$f":"VALUE(D233)-J233","v":{"$error":"#VALUE!"}},16,0,{"$f":"IF(TYPE(SEARCH(\")\",A233,1))=16,K233,SEARCH(\")\",A233,1))","v":{"$error":"#VALUE!"}},{"$f":"IF(TYPE(SEARCH(\")\",A233,1))=16,0,MID(A233,K233,L233))","v":0},{"$f":"C233+2","v":{"$error":"#VALUE!"}},{"$f":"I233-K233","v":{"$error":"#VALUE!"}},null,null,null,{"$f":"P232","v":{"$error":"#VALUE!"}}]
[{"$f":"Feuil2!$R$15","v":0},null,{"$f":"IF(TYPE(SEARCH(\"(\",A234,1))=16,SEARCH(\"H\",A234,1)+1,SEARCH(\"(\",A234,1))","v":{"$error":"#VALUE!"}},{"$f":"REPLACE(MID(A234,1,C234-2),1,1,\"\")","v":{"$error":"#VALUE!"}},{"$f":"E233+H234","v":0},{"$f":"VALUE(D234)-J234","v":{"$error":"#VALUE!"}},16,0,{"$f":"IF(TYPE(SEARCH(\")\",A234,1))=16,K234,SEARCH(\")\",A234,1))","v":{"$error":"#VALUE!"}},{"$f":"IF(TYPE(SEARCH(\"(\",A234,1))=16,0,MID(A234,K234,L234))","v":0},{"$f":"C234+2","v":{"$error":"#VALUE!"}},{"$f":"I234-K234","v":{"$error":"#VALUE!"}}]
[{"$f":"Feuil2!$R$17","v":0},null,{"$f":"IF(TYPE(SEARCH(\"(\",A235,1))=16,SEARCH(\"V\",A235,1)+1,SEARCH(\"(\",A235,1))","v":{"$error":"#VALUE!"}},{"$f":"REPLACE(MID(A235,1,C235-2),1,1,\"\")","v":{"$error":"#VALUE!"}},{"$f":"E234+H235","v":0},{"$f":"VALUE(D235)-J235","v":{"$error":"#VALUE!"}},16,0,{"$f":"IF(TYPE(SEARCH(\")\",A235,1))=16,K235,SEARCH(\")\",A235,1))","v":{"$error":"#VALUE!"}},{"$f":"IF(TYPE(SEARCH(\"(\",A235,1))=16,0,MID(A235,K235,L235))","v":0},{"$f":"C235+2","v":{"$error":"#VALUE!"}},{"$f":"I235-K235","v":{"$error":"#VALUE!"}}]
[{"$f":"Feuil2!$R$19","v":0},null,{"$f":"IF(TYPE(SEARCH(\"(\",A236,1))=16,SEARCH(\"E\",A236,1)+1,SEARCH(\"(\",A236,1))","v":{"$error":"#VALUE!"}},{"$f":"REPLACE(MID(A236,1,C236-2),1,1,\"\")","v":{"$error":"#VALUE!"}},{"$f":"E235+H236","v":0},{"$f":"VALUE(D236)-J236","v":{"$error":"#VALUE!"}},16,0,{"$f":"IF(TYPE(SEARCH(\")\",A236,1))=16,K236,SEARCH(\")\",A236,1))","v":{"$error":"#VALUE!"}},{"$f":"IF(TYPE(SEARCH(\"(\",A236,1))=16,0,MID(A236,K236,L236))","v":0},{"$f":"C236+2","v":{"$error":"#VALUE!"}},{"$f":"I236-K236","v":{"$error":"#VALUE!"}}]
[{"$f":"Feuil2!$R$21","v":0},null,{"$f":"IF(TYPE(SEARCH(\"(\",A237,1))=16,SEARCH(\"I\",A237,1)+1,SEARCH(\"(\",A237,1))","v":{"$error":"#VALUE!"}},{"$f":"REPLACE(MID(A237,1,C237-2),1,1,\"\")","v":{"$error":"#VALUE!"}},{"$f":"E236+H237","v":0},{"$f":"VALUE(D237)-J237","v":{"$error":"#VALUE!"}},16,0,{"$f":"IF(TYPE(SEARCH(\")\",A237,1))=16,K237,SEARCH(\")\",A237,1))","v":{"$error":"#VALUE!"}},{"$f":"IF(TYPE(SEARCH(\"(\",A237,1))=16,0,MID(A237,K237,L237))","v":0},{"$f":"C237+2","v":{"$error":"#VALUE!"}},{"$f":"I237-K237","v":{"$error":"#VALUE!"}}]
[{"$f":"Feuil2!$R$24","v":0},null,{"$f":"SEARCH(\"E\",A238,1)","v":{"$error":"#VALUE!"}},{"$f":"REPLACE(MID(A238,1,C238-1),1,1,\"\")","v":{"$error":"#VALUE!"}}]
[{"$f":"Feuil2!$R$26","v":0},null,{"$f":"SEARCH(\"M\",A239,1)","v":{"$error":"#VALUE!"}},{"$f":"REPLACE(MID(A239,1,C239-1),1,1,\"\")","v":{"$error":"#VALUE!"}}]
[]
[{"$f":"Feuil2!$S$3","v":0}]
[{"$f":"Feuil2!$S$7","v":0},null,{"$f":"A241","v":0}]
[{"$f":"Feuil2!$S$9","v":0},null,null,{"$f":"P243","v":{"$error":"#VALUE!"}},null,{"$f":"VALUE(SUBSTITUTE(D243,\".\",\",\"))","v":{"$error":"#VALUE!"}},{"$f":"TYPE(F243)","v":16},{"$f":"IF(G243=1,1,0)","v":0},{"$f":"IF(TYPE(SEARCH(\"/\",A243,1))=16,SEARCH(\"Potentiel\",A243,1),SEARCH(\"/\",A243,1))","v":{"$error":"#VALUE!"}},{"$f":"IF(TYPE(SEARCH(\",\",A243,1))=16,0,SEARCH(\",\",A243,1))","v":0},{"$f":"IF(TYPE(SEARCH(\",\",A243,J243+1))=1,SEARCH(\",\",A243,J243+1),J243)","v":0},null,{"$f":"IF(TYPE(SEARCH(\",\",A243,K243+1))=1,SEARCH(\",\",A243,K243+1),K243)+IF(Q243=1,1,0)","v":0},{"$f":"IF(TYPE(SEARCH(\",\",#REF!,M243+1))=1,SEARCH(\",\",#REF!,M243+1),M243)","v":0},{"$f":"IF(I243-2-(N243+4)<0,0,I243-2-(N243+4)-IF(TYPE(SEARCH(\"/\",A243,1))=16,0,4))","v":{"$error":"#VALUE!"}},{"$f":"IF(MID(A243,N243+4,O243)=\"\",0,SUBSTITUTE(MID(A243,N243+4,O243),\".\",\",\"))","v":{"$error":"#VALUE!"}},{"$f":"TYPE(SEARCH(\"K\",A243,1))","v":16}]
[{"$f":"Feuil2!$S$13","v":0},null,{"$f":"IF(TYPE(SEARCH(\"(\",A244,1))=16,SEARCH(\"F\",A244,1)+1,SEARCH(\"(\",A244,1))","v":{"$error":"#VALUE!"}},{"$f":"REPLACE(MID(A244,1,C244-2),1,1,\"\")","v":{"$error":"#VALUE!"}},{"$f":"E237+H244","v":0},{"$f":"VALUE(D244)-J244","v":{"$error":"#VALUE!"}},16,0,{"$f":"IF(TYPE(SEARCH(\")\",A244,1))=16,K244,SEARCH(\")\",A244,1))","v":{"$error":"#VALUE!"}},{"$f":"IF(TYPE(SEARCH(\")\",A244,1))=16,0,MID(A244,K244,L244))","v":0},{"$f":"C244+2","v":{"$error":"#VALUE!"}},{"$f":"I244-K244","v":{"$error":"#VALUE!"}},null,null,null,{"$f":"P243","v":{"$error":"#VALUE!"}}]
[{"$f":"Feuil2!$S$15","v":0},null,{"$f":"IF(TYPE(SEARCH(\"(\",A245,1))=16,SEARCH(\"H\",A245,1)+1,SEARCH(\"(\",A245,1))","v":{"$error":"#VALUE!"}},{"$f":"REPLACE(MID(A245,1,C245-2),1,1,\"\")","v":{"$error":"#VALUE!"}},{"$f":"E244+H245","v":0},{"$f":"VALUE(D245)-J245","v":{"$error":"#VALUE!"}},16,0,{"$f":"IF(TYPE(SEARCH(\")\",A245,1))=16,K245,SEARCH(\")\",A245,1))","v":{"$error":"#VALUE!"}},{"$f":"IF(TYPE(SEARCH(\"(\",A245,1))=16,0,MID(A245,K245,L245))","v":0},{"$f":"C245+2","v":{"$error":"#VALUE!"}},{"$f":"I245-K245","v":{"$error":"#VALUE!"}}]
[{"$f":"Feuil2!$S$17","v":0},null,{"$f":"IF(TYPE(SEARCH(\"(\",A246,1))=16,SEARCH(\"V\",A246,1)+1,SEARCH(\"(\",A246,1))","v":{"$error":"#VALUE!"}},{"$f":"REPLACE(MID(A246,1,C246-2),1,1,\"\")","v":{"$error":"#VALUE!"}},{"$f":"E245+H246","v":0},{"$f":"VALUE(D246)-J246","v":{"$error":"#VALUE!"}},16,0,{"$f":"IF(TYPE(SEARCH(\")\",A246,1))=16,K246,SEARCH(\")\",A246,1))","v":{"$error":"#VALUE!"}},{"$f":"IF(TYPE(SEARCH(\"(\",A246,1))=16,0,MID(A246,K246,L246))","v":0},{"$f":"C246+2","v":{"$error":"#VALUE!"}},{"$f":"I246-K246","v":{"$error":"#VALUE!"}}]
[{"$f":"Feuil2!$S$19","v":0},null,{"$f":"IF(TYPE(SEARCH(\"(\",A247,1))=16,SEARCH(\"E\",A247,1)+1,SEARCH(\"(\",A247,1))","v":{"$error":"#VALUE!"}},{"$f":"REPLACE(MID(A247,1,C247-2),1,1,\"\")","v":{"$error":"#VALUE!"}},{"$f":"E246+H247","v":0},{"$f":"VALUE(D247)-J247","v":{"$error":"#VALUE!"}},16,0,{"$f":"IF(TYPE(SEARCH(\")\",A247,1))=16,K247,SEARCH(\")\",A247,1))","v":{"$error":"#VALUE!"}},{"$f":"IF(TYPE(SEARCH(\"(\",A247,1))=16,0,MID(A247,K247,L247))","v":0},{"$f":"C247+2","v":{"$error":"#VALUE!"}},{"$f":"I247-K247","v":{"$error":"#VALUE!"}}]
[{"$f":"Feuil2!$S$21","v":0},null,{"$f":"IF(TYPE(SEARCH(\"(\",A248,1))=16,SEARCH(\"I\",A248,1)+1,SEARCH(\"(\",A248,1))","v":{"$error":"#VALUE!"}},{"$f":"REPLACE(MID(A248,1,C248-2),1,1,\"\")","v":{"$error":"#VALUE!"}},{"$f":"E247+H248","v":0},{"$f":"VALUE(D248)-J248","v":{"$error":"#VALUE!"}},16,0,{"$f":"IF(TYPE(SEARCH(\")\",A248,1))=16,K248,SEARCH(\")\",A248,1))","v":{"$error":"#VALUE!"}},{"$f":"IF(TYPE(SEARCH(\"(\",A248,1))=16,0,MID(A248,K248,L248))","v":0},{"$f":"C248+2","v":{"$error":"#VALUE!"}},{"$f":"I248-K248","v":{"$error":"#VALUE!"}}]
[{"$f":"Feuil2!$S$24","v":0},null,{"$f":"SEARCH(\"E\",A249,1)","v":{"$error":"#VALUE!"}},{"$f":"REPLACE(MID(A249,1,C249-1),1,1,\"\")","v":{"$error":"#VALUE!"}}]
[{"$f":"Feuil2!$S$26","v":0},null,{"$f":"SEARCH(\"M\",A250,1)","v":{"$error":"#VALUE!"}},{"$f":"REPLACE(MID(A250,1,C250-1),1,1,\"\")","v":{"$error":"#VALUE!"}}]
[]
[{"$f":"Feuil2!$T$3","v":0}]
[{"$f":"Feuil2!$T$7","v":0},null,{"$f":"A252","v":0}]
[{"$f":"Feuil2!$T$9","v":0},null,null,{"$f":"P254","v":{"$error":"#VALUE!"}},null,{"$f":"VALUE(SUBSTITUTE(D254,\".\",\",\"))","v":{"$error":"#VALUE!"}},{"$f":"TYPE(F254)","v":16},{"$f":"IF(G254=1,1,0)","v":0},{"$f":"IF(TYPE(SEARCH(\"/\",A254,1))=16,SEARCH(\"Potentiel\",A254,1),SEARCH(\"/\",A254,1))","v":{"$error":"#VALUE!"}},{"$f":"IF(TYPE(SEARCH(\",\",A254,1))=16,0,SEARCH(\",\",A254,1))","v":0},{"$f":"IF(TYPE(SEARCH(\",\",A254,J254+1))=1,SEARCH(\",\",A254,J254+1),J254)","v":0},null,{"$f":"IF(TYPE(SEARCH(\",\",A254,K254+1))=1,SEARCH(\",\",A254,K254+1),K254)+IF(Q254=1,1,0)","v":0},{"$f":"IF(TYPE(SEARCH(\",\",#REF!,M254+1))=1,SEARCH(\",\",#REF!,M254+1),M254)","v":0},{"$f":"IF(I254-2-(N254+4)<0,0,I254-2-(N254+4)-IF(TYPE(SEARCH(\"/\",A254,1))=16,0,4))","v":{"$error":"#VALUE!"}},{"$f":"IF(MID(A254,N254+4,O254)=\"\",0,SUBSTITUTE(MID(A254,N254+4,O254),\".\",\",\"))","v":{"$error":"#VALUE!"}},{"$f":"TYPE(SEARCH(\"K\",A254,1))","v":16}]
[{"$f":"Feuil2!$T$13","v":0},null,{"$f":"IF(TYPE(SEARCH(\"(\",A255,1))=16,SEARCH(\"F\",A255,1)+1,SEARCH(\"(\",A255,1))","v":{"$error":"#VALUE!"}},{"$f":"REPLACE(MID(A255,1,C255-2),1,1,\"\")","v":{"$error":"#VALUE!"}},{"$f":"E248+H255","v":0},{"$f":"VALUE(D255)-J255","v":{"$error":"#VALUE!"}},16,0,{"$f":"IF(TYPE(SEARCH(\")\",A255,1))=16,K255,SEARCH(\")\",A255,1))","v":{"$error":"#VALUE!"}},{"$f":"IF(TYPE(SEARCH(\")\",A255,1))=16,0,MID(A255,K255,L255))","v":0},{"$f":"C255+2","v":{"$error":"#VALUE!"}},{"$f":"I255-K255","v":{"$error":"#VALUE!"}},null,null,null,{"$f":"P254","v":{"$error":"#VALUE!"}}]
[{"$f":"Feuil2!$T$15","v":0},null,{"$f":"IF(TYPE(SEARCH(\"(\",A256,1))=16,SEARCH(\"H\",A256,1)+1,SEARCH(\"(\",A256,1))","v":{"$error":"#VALUE!"}},{"$f":"REPLACE(MID(A256,1,C256-2),1,1,\"\")","v":{"$error":"#VALUE!"}},{"$f":"E255+H256","v":0},{"$f":"VALUE(D256)-J256","v":{"$error":"#VALUE!"}},16,0,{"$f":"IF(TYPE(SEARCH(\")\",A256,1))=16,K256,SEARCH(\")\",A256,1))","v":{"$error":"#VALUE!"}},{"$f":"IF(TYPE(SEARCH(\"(\",A256,1))=16,0,MID(A256,K256,L256))","v":0},{"$f":"C256+2","v":{"$error":"#VALUE!"}},{"$f":"I256-K256","v":{"$error":"#VALUE!"}}]
[{"$f":"Feuil2!$T$17","v":0},null,{"$f":"IF(TYPE(SEARCH(\"(\",A257,1))=16,SEARCH(\"V\",A257,1)+1,SEARCH(\"(\",A257,1))","v":{"$error":"#VALUE!"}},{"$f":"REPLACE(MID(A257,1,C257-2),1,1,\"\")","v":{"$error":"#VALUE!"}},{"$f":"E256+H257","v":0},{"$f":"VALUE(D257)-J257","v":{"$error":"#VALUE!"}},16,0,{"$f":"IF(TYPE(SEARCH(\")\",A257,1))=16,K257,SEARCH(\")\",A257,1))","v":{"$error":"#VALUE!"}},{"$f":"IF(TYPE(SEARCH(\"(\",A257,1))=16,0,MID(A257,K257,L257))","v":0},{"$f":"C257+2","v":{"$error":"#VALUE!"}},{"$f":"I257-K257","v":{"$error":"#VALUE!"}}]
[{"$f":"Feuil2!$T$19","v":0},null,{"$f":"IF(TYPE(SEARCH(\"(\",A258,1))=16,SEARCH(\"E\",A258,1)+1,SEARCH(\"(\",A258,1))","v":{"$error":"#VALUE!"}},{"$f":"REPLACE(MID(A258,1,C258-2),1,1,\"\")","v":{"$error":"#VALUE!"}},{"$f":"E257+H258","v":0},{"$f":"VALUE(D258)-J258","v":{"$error":"#VALUE!"}},16,0,{"$f":"IF(TYPE(SEARCH(\")\",A258,1))=16,K258,SEARCH(\")\",A258,1))","v":{"$error":"#VALUE!"}},{"$f":"IF(TYPE(SEARCH(\"(\",A258,1))=16,0,MID(A258,K258,L258))","v":0},{"$f":"C258+2","v":{"$error":"#VALUE!"}},{"$f":"I258-K258","v":{"$error":"#VALUE!"}}]
[{"$f":"Feuil2!$T$21","v":0},null,{"$f":"IF(TYPE(SEARCH(\"(\",A259,1))=16,SEARCH(\"I\",A259,1)+1,SEARCH(\"(\",A259,1))","v":{"$error":"#VALUE!"}},{"$f":"REPLACE(MID(A259,1,C259-2),1,1,\"\")","v":{"$error":"#VALUE!"}},{"$f":"E258+H259","v":0},{"$f":"VALUE(D259)-J259","v":{"$error":"#VALUE!"}},16,0,{"$f":"IF(TYPE(SEARCH(\")\",A259,1))=16,K259,SEARCH(\")\",A259,1))","v":{"$error":"#VALUE!"}},{"$f":"IF(TYPE(SEARCH(\"(\",A259,1))=16,0,MID(A259,K259,L259))","v":0},{"$f":"C259+2","v":{"$error":"#VALUE!"}},{"$f":"I259-K259","v":{"$error":"#VALUE!"}}]
[{"$f":"Feuil2!$T$24","v":0},null,{"$f":"SEARCH(\"E\",A260,1)","v":{"$error":"#VALUE!"}},{"$f":"REPLACE(MID(A260,1,C260-1),1,1,\"\")","v":{"$error":"#VALUE!"}}]
[{"$f":"Feuil2!$T$26","v":0},null,{"$f":"SEARCH(\"M\",A261,1)","v":{"$error":"#VALUE!"}},{"$f":"REPLACE(MID(A261,1,C261-1),1,1,\"\")","v":{"$error":"#VALUE!"}}]
[]
[{"$f":"Feuil2!$U$3","v":0}]
[{"$f":"Feuil2!$U$7","v":0},null,{"$f":"A263","v":0}]
[{"$f":"Feuil2!$U$9","v":0},null,null,{"$f":"P265","v":{"$error":"#VALUE!"}},null,{"$f":"VALUE(SUBSTITUTE(D265,\".\",\",\"))","v":{"$error":"#VALUE!"}},{"$f":"TYPE(F265)","v":16},{"$f":"IF(G265=1,1,0)","v":0},{"$f":"IF(TYPE(SEARCH(\"/\",A265,1))=16,SEARCH(\"Potentiel\",A265,1),SEARCH(\"/\",A265,1))","v":{"$error":"#VALUE!"}},{"$f":"IF(TYPE(SEARCH(\",\",A265,1))=16,0,SEARCH(\",\",A265,1))","v":0},{"$f":"IF(TYPE(SEARCH(\",\",A265,J265+1))=1,SEARCH(\",\",A265,J265+1),J265)","v":0},null,{"$f":"IF(TYPE(SEARCH(\",\",A265,K265+1))=1,SEARCH(\",\",A265,K265+1),K265)+IF(Q265=1,1,0)","v":0},{"$f":"IF(TYPE(SEARCH(\",\",#REF!,M265+1))=1,SEARCH(\",\",#REF!,M265+1),M265)","v":0},{"$f":"IF(I265-2-(N265+4)<0,0,I265-2-(N265+4)-IF(TYPE(SEARCH(\"/\",A265,1))=16,0,4))","v":{"$error":"#VALUE!"}},{"$f":"IF(MID(A265,N265+4,O265)=\"\",0,SUBSTITUTE(MID(A265,N265+4,O265),\".\",\",\"))","v":{"$error":"#VALUE!"}},{"$f":"TYPE(SEARCH(\"K\",A265,1))","v":16}]
[{"$f":"Feuil2!$U$13","v":0},null,{"$f":"IF(TYPE(SEARCH(\"(\",A266,1))=16,SEARCH(\"F\",A266,1)+1,SEARCH(\"(\",A266,1))","v":{"$error":"#VALUE!"}},{"$f":"REPLACE(MID(A266,1,C266-2),1,1,\"\")","v":{"$error":"#VALUE!"}},{"$f":"E259+H266","v":0},{"$f":"VALUE(D266)-J266","v":{"$error":"#VALUE!"}},16,0,{"$f":"IF(TYPE(SEARCH(\")\",A266,1))=16,K266,SEARCH(\")\",A266,1))","v":{"$error":"#VALUE!"}},{"$f":"IF(TYPE(SEARCH(\")\",A266,1))=16,0,MID(A266,K266,L266))","v":0},{"$f":"C266+2","v":{"$error":"#VALUE!"}},{"$f":"I266-K266","v":{"$error":"#VALUE!"}},null,null,null,{"$f":"P265","v":{"$error":"#VALUE!"}}]
[{"$f":"Feuil2!$U$15","v":0},null,{"$f":"IF(TYPE(SEARCH(\"(\",A267,1))=16,SEARCH(\"H\",A267,1)+1,SEARCH(\"(\",A267,1))","v":{"$error":"#VALUE!"}},{"$f":"REPLACE(MID(A267,1,C267-2),1,1,\"\")","v":{"$error":"#VALUE!"}},{"$f":"E266+H267","v":0},{"$f":"VALUE(D267)-J267","v":{"$error":"#VALUE!"}},16,0,{"$f":"IF(TYPE(SEARCH(\")\",A267,1))=16,K267,SEARCH(\")\",A267,1))","v":{"$error":"#VALUE!"}},{"$f":"IF(TYPE(SEARCH(\"(\",A267,1))=16,0,MID(A267,K267,L267))","v":0},{"$f":"C267+2","v":{"$error":"#VALUE!"}},{"$f":"I267-K267","v":{"$error":"#VALUE!"}}]
[{"$f":"Feuil2!$U$17","v":0},null,{"$f":"IF(TYPE(SEARCH(\"(\",A268,1))=16,SEARCH(\"V\",A268,1)+1,SEARCH(\"(\",A268,1))","v":{"$error":"#VALUE!"}},{"$f":"REPLACE(MID(A268,1,C268-2),1,1,\"\")","v":{"$error":"#VALUE!"}},{"$f":"E267+H268","v":0},{"$f":"VALUE(D268)-J268","v":{"$error":"#VALUE!"}},16,0,{"$f":"IF(TYPE(SEARCH(\")\",A268,1))=16,K268,SEARCH(\")\",A268,1))","v":{"$error":"#VALUE!"}},{"$f":"IF(TYPE(SEARCH(\"(\",A268,1))=16,0,MID(A268,K268,L268))","v":0},{"$f":"C268+2","v":{"$error":"#VALUE!"}},{"$f":"I268-K268","v":{"$error":"#VALUE!"}}]
[{"$f":"Feuil2!$U$19","v":0},null,{"$f":"IF(TYPE(SEARCH(\"(\",A269,1))=16,SEARCH(\"E\",A269,1)+1,SEARCH(\"(\",A269,1))","v":{"$error":"#VALUE!"}},{"$f":"REPLACE(MID(A269,1,C269-2),1,1,\"\")","v":{"$error":"#VALUE!"}},{"$f":"E268+H269","v":0},{"$f":"VALUE(D269)-J269","v":{"$error":"#VALUE!"}},16,0,{"$f":"IF(TYPE(SEARCH(\")\",A269,1))=16,K269,SEARCH(\")\",A269,1))","v":{"$error":"#VALUE!"}},{"$f":"IF(TYPE(SEARCH(\"(\",A269,1))=16,0,MID(A269,K269,L269))","v":0},{"$f":"C269+2","v":{"$error":"#VALUE!"}},{"$f":"I269-K269","v":{"$error":"#VALUE!"}}]
[{"$f":"Feuil2!$U$21","v":0},null,{"$f":"IF(TYPE(SEARCH(\"(\",A270,1))=16,SEARCH(\"I\",A270,1)+1,SEARCH(\"(\",A270,1))","v":{"$error":"#VALUE!"}},{"$f":"REPLACE(MID(A270,1,C270-2),1,1,\"\")","v":{"$error":"#VALUE!"}},{"$f":"E269+H270","v":0},{"$f":"VALUE(D270)-J270","v":{"$error":"#VALUE!"}},16,0,{"$f":"IF(TYPE(SEARCH(\")\",A270,1))=16,K270,SEARCH(\")\",A270,1))","v":{"$error":"#VALUE!"}},{"$f":"IF(TYPE(SEARCH(\"(\",A270,1))=16,0,MID(A270,K270,L270))","v":0},{"$f":"C270+2","v":{"$error":"#VALUE!"}},{"$f":"I270-K270","v":{"$error":"#VALUE!"}}]
[{"$f":"Feuil2!$U$24","v":0},null,{"$f":"SEARCH(\"E\",A271,1)","v":{"$error":"#VALUE!"}},{"$f":"REPLACE(MID(A271,1,C271-1),1,1,\"\")","v":{"$error":"#VALUE!"}}]
[{"$f":"Feuil2!$U$26","v":0},null,{"$f":"SEARCH(\"M\",A272,1)","v":{"$error":"#VALUE!"}},{"$f":"REPLACE(MID(A272,1,C272-1),1,1,\"\")","v":{"$error":"#VALUE!"}}]
[]
[{"$f":"Feuil2!$V$3","v":0}]
[{"$f":"Feuil2!$V$7","v":0},null,{"$f":"A274","v":0}]
[{"$f":"Feuil2!$V$9","v":0},null,null,{"$f":"P276","v":{"$error":"#VALUE!"}},null,{"$f":"VALUE(SUBSTITUTE(D276,\".\",\",\"))","v":{"$error":"#VALUE!"}},{"$f":"TYPE(F276)","v":16},{"$f":"IF(G276=1,1,0)","v":0},{"$f":"IF(TYPE(SEARCH(\"/\",A276,1))=16,SEARCH(\"Potentiel\",A276,1),SEARCH(\"/\",A276,1))","v":{"$error":"#VALUE!"}},{"$f":"IF(TYPE(SEARCH(\",\",A276,1))=16,0,SEARCH(\",\",A276,1))","v":0},{"$f":"IF(TYPE(SEARCH(\",\",A276,J276+1))=1,SEARCH(\",\",A276,J276+1),J276)","v":0},null,{"$f":"IF(TYPE(SEARCH(\",\",A276,K276+1))=1,SEARCH(\",\",A276,K276+1),K276)+IF(Q276=1,1,0)","v":0},{"$f":"IF(TYPE(SEARCH(\",\",#REF!,M276+1))=1,SEARCH(\",\",#REF!,M276+1),M276)","v":0},{"$f":"IF(I276-2-(N276+4)<0,0,I276-2-(N276+4)-IF(TYPE(SEARCH(\"/\",A276,1))=16,0,4))","v":{"$error":"#VALUE!"}},{"$f":"IF(MID(A276,N276+4,O276)=\"\",0,SUBSTITUTE(MID(A276,N276+4,O276),\".\",\",\"))","v":{"$error":"#VALUE!"}},{"$f":"TYPE(SEARCH(\"K\",A276,1))","v":16}]
[{"$f":"Feuil2!$V$13","v":0},null,{"$f":"IF(TYPE(SEARCH(\"(\",A277,1))=16,SEARCH(\"F\",A277,1)+1,SEARCH(\"(\",A277,1))","v":{"$error":"#VALUE!"}},{"$f":"REPLACE(MID(A277,1,C277-2),1,1,\"\")","v":{"$error":"#VALUE!"}},{"$f":"E270+H277","v":0},{"$f":"VALUE(D277)-J277","v":{"$error":"#VALUE!"}},16,0,{"$f":"IF(TYPE(SEARCH(\")\",A277,1))=16,K277,SEARCH(\")\",A277,1))","v":{"$error":"#VALUE!"}},{"$f":"IF(TYPE(SEARCH(\")\",A277,1))=16,0,MID(A277,K277,L277))","v":0},{"$f":"C277+2","v":{"$error":"#VALUE!"}},{"$f":"I277-K277","v":{"$error":"#VALUE!"}},null,null,null,{"$f":"P276","v":{"$error":"#VALUE!"}}]
[{"$f":"Feuil2!$V$15","v":0},null,{"$f":"IF(TYPE(SEARCH(\"(\",A278,1))=16,SEARCH(\"H\",A278,1)+1,SEARCH(\"(\",A278,1))","v":{"$error":"#VALUE!"}},{"$f":"REPLACE(MID(A278,1,C278-2),1,1,\"\")","v":{"$error":"#VALUE!"}},{"$f":"E277+H278","v":0},{"$f":"VALUE(D278)-J278","v":{"$error":"#VALUE!"}},16,0,{"$f":"IF(TYPE(SEARCH(\")\",A278,1))=16,K278,SEARCH(\")\",A278,1))","v":{"$error":"#VALUE!"}},{"$f":"IF(TYPE(SEARCH(\"(\",A278,1))=16,0,MID(A278,K278,L278))","v":0},{"$f":"C278+2","v":{"$error":"#VALUE!"}},{"$f":"I278-K278","v":{"$error":"#VALUE!"}}]
[{"$f":"Feuil2!$V$17","v":0},null,{"$f":"IF(TYPE(SEARCH(\"(\",A279,1))=16,SEARCH(\"V\",A279,1)+1,SEARCH(\"(\",A279,1))","v":{"$error":"#VALUE!"}},{"$f":"REPLACE(MID(A279,1,C279-2),1,1,\"\")","v":{"$error":"#VALUE!"}},{"$f":"E278+H279","v":0},{"$f":"VALUE(D279)-J279","v":{"$error":"#VALUE!"}},16,0,{"$f":"IF(TYPE(SEARCH(\")\",A279,1))=16,K279,SEARCH(\")\",A279,1))","v":{"$error":"#VALUE!"}},{"$f":"IF(TYPE(SEARCH(\"(\",A279,1))=16,0,MID(A279,K279,L279))","v":0},{"$f":"C279+2","v":{"$error":"#VALUE!"}},{"$f":"I279-K279","v":{"$error":"#VALUE!"}}]
[{"$f":"Feuil2!$V$19","v":0},null,{"$f":"IF(TYPE(SEARCH(\"(\",A280,1))=16,SEARCH(\"E\",A280,1)+1,SEARCH(\"(\",A280,1))","v":{"$error":"#VALUE!"}},{"$f":"REPLACE(MID(A280,1,C280-2),1,1,\"\")","v":{"$error":"#VALUE!"}},{"$f":"E279+H280","v":0},{"$f":"VALUE(D280)-J280","v":{"$error":"#VALUE!"}},16,0,{"$f":"IF(TYPE(SEARCH(\")\",A280,1))=16,K280,SEARCH(\")\",A280,1))","v":{"$error":"#VALUE!"}},{"$f":"IF(TYPE(SEARCH(\"(\",A280,1))=16,0,MID(A280,K280,L280))","v":0},{"$f":"C280+2","v":{"$error":"#VALUE!"}},{"$f":"I280-K280","v":{"$error":"#VALUE!"}}]
[{"$f":"Feuil2!$V$21","v":0},null,{"$f":"IF(TYPE(SEARCH(\"(\",A281,1))=16,SEARCH(\"I\",A281,1)+1,SEARCH(\"(\",A281,1))","v":{"$error":"#VALUE!"}},{"$f":"REPLACE(MID(A281,1,C281-2),1,1,\"\")","v":{"$error":"#VALUE!"}},{"$f":"E280+H281","v":0},{"$f":"VALUE(D281)-J281","v":{"$error":"#VALUE!"}},16,0,{"$f":"IF(TYPE(SEARCH(\")\",A281,1))=16,K281,SEARCH(\")\",A281,1))","v":{"$error":"#VALUE!"}},{"$f":"IF(TYPE(SEARCH(\"(\",A281,1))=16,0,MID(A281,K281,L281))","v":0},{"$f":"C281+2","v":{"$error":"#VALUE!"}},{"$f":"I281-K281","v":{"$error":"#VALUE!"}}]
[{"$f":"Feuil2!$V$24","v":0},null,{"$f":"SEARCH(\"E\",A282,1)","v":{"$error":"#VALUE!"}},{"$f":"REPLACE(MID(A282,1,C282-1),1,1,\"\")","v":{"$error":"#VALUE!"}}]
[{"$f":"Feuil2!$V$26","v":0},null,{"$f":"SEARCH(\"M\",A283,1)","v":{"$error":"#VALUE!"}},{"$f":"REPLACE(MID(A283,1,C283-1),1,1,\"\")","v":{"$error":"#VALUE!"}}]

{"sheet":"ExportCompo","index":4,"n_rows":32,"n_cols":17,"rows_kept":32,"cut":false,"hidden":true,"merged":[]}
[]
[null,null,{"$f":"IF(F4=A4,\"ok\",\"ko\")","v":"ko"}]
[null,null,{"$f":"IF(F7=A6,1,0)","v":0},null,null,"joueur à placer",null,"Code du joueur à placer","Code du joueur à déplacer",null,null,null,{"$f":"VLOOKUP(1,M4:N14,2,FALSE)","v":{"$error":"#N/A"}},{"$f":"VLOOKUP(1,M4:O14,3,FALSE)","v":{"$error":"#N/A"}}]
["Futur 8 - 636/720","<div class=\"strategy-dropdown-element\" value=\"91609\">Futur 8 - 636/720</div>",{"$f":"SEARCH(\"value=\",B4,1)","v":40},{"$f":"MID(B4,C4+7,P4-(C4+7))","v":"91609"},1,{"$f":"MID(VLOOKUP(1,Feuil1!$AZ$10:$BI$20,2,FALSE),1,100)","v":""},{"$f":"VLOOKUP(F4,$A$4:$E$32,5,FALSE)","v":{"$error":"#N/A"}},{"$f":"VLOOKUP(F4,$A$4:$D$25,4,FALSE)","v":{"$error":"#N/A"}},{"$f":"D4","v":"91609"},{"$f":"VLOOKUP(1,Feuil1!$AZ$10:$BJ$20,11,FALSE)","v":0},{"$f":"VLOOKUP(1,Feuil1!$AZ$10:$BJ$20,10,FALSE)","v":""},{"$f":"K4/100+J4/500","v":{"$error":"#VALUE!"}},{"$f":"IF(MAX($L$4:$L$14)=L4,1,0)","v":{"$error":"#VALUE!"}},{"$f":"I4","v":"91609"},{"$f":"F4","v":""},{"$f":"SEARCH(CHAR(34),B4,C4+7)","v":52},"strategy-dropdown-element"]
["aLuc","<div class=\"strategy-dropdown-element\" value=\"90768\">aLuc</div>",{"$f":"SEARCH(\"value=\",B5,1)","v":40},{"$f":"MID(B5,C5+7,P5-(C5+7))","v":"90768"},2,{"$f":"MID(VLOOKUP(2,Feuil1!$AZ$10:$BI$20,2,FALSE),1,100)","v":""},{"$error":"#N/A"},{"$f":"VLOOKUP(F5,$A$4:$D$25,4,FALSE)","v":{"$error":"#N/A"}},{"$f":"D5","v":"90768"},{"$f":"VLOOKUP(2,Feuil1!$AZ$10:$BJ$20,11,FALSE)","v":0},{"$f":"VLOOKUP(2,Feuil1!$AZ$10:$BJ$20,10,FALSE)","v":""},{"$f":"K5/100+J5/500","v":{"$error":"#VALUE!"}},{"$f":"IF(MAX($L$4:$L$14)=L5,1,0)","v":{"$error":"#VALUE!"}},{"$f":"I5","v":"90768"},{"$f":"F5","v":""},{"$f":"SEARCH(CHAR(34),B5,C5+7)","v":52},"strategy-dropdown-element"]
["Hélène","<div class=\"strategy-dropdown-element\" value=\"90736\">Hélène</div>",40,"90736",3,{"$f":"MID(VLOOKUP(3,Feuil1!$AZ$10:$BI$20,2,FALSE),1,100)","v":""},{"$f":"VLOOKUP(F6,$A$4:$E$32,5,FALSE)","v":{"$error":"#N/A"}},{"$error":"#N/A"},"90736",{"$f":"VLOOKUP(3,Feuil1!$AZ$10:$BJ$20,11,FALSE)","v":0},{"$f":"VLOOKUP(3,Feuil1!$AZ$10:$BJ$20,10,FALSE)","v":""},{"$error":"#VALUE!"},{"$error":"#VALUE!"},"90736","",52,"strategy-dropdown-element"]
["Gogod","<div class=\"strategy-dropdown-element\" value=\"77767\">Gogod</div>",40,"77767",4,{"$f":"MID(VLOOKUP(4,Feuil1!$AZ$10:$BI$20,2,FALSE),1,100)","v":""},{"$f":"VLOOKUP(F7,$A$4:$E$32,5,FALSE)","v":{"$error":"#N/A"}},{"$error":"#N/A"},"77767",{"$f":"VLOOKUP(4,Feuil1!$AZ$10:$BJ$20,11,FALSE)","v":0},{"$f":"VLOOKUP(4,Feuil1!$AZ$10:$BJ$20,10,FALSE)","v":""},{"$error":"#VALUE!"},{"$error":"#VALUE!"},"77767","",52,"strategy-dropdown-element"]
["Juan Luca","<div class=\"strategy-dropdown-element\" value=\"89506\">Juan Luca</div>",40,"89506",5,{"$f":"MID(VLOOKUP(5,Feuil1!$AZ$10:$BI$20,2,FALSE),1,100)","v":""},{"$error":"#N/A"},{"$error":"#N/A"},"89506",{"$f":"VLOOKUP(5,Feuil1!$AZ$10:$BJ$20,11,FALSE)","v":0},{"$f":"VLOOKUP(5,Feuil1!$AZ$10:$BJ$20,10,FALSE)","v":""},{"$error":"#VALUE!"},{"$error":"#VALUE!"},"89506","",{"$f":"SEARCH(CHAR(34),B8,C8+7)","v":52},"strategy-dropdown-element"]
["Boubouille","<div class=\"strategy-dropdown-element\" value=\"89474\">Boubouille</div>",40,"89474",6,{"$f":"MID(VLOOKUP(6,Feuil1!$AZ$10:$BI$20,2,FALSE),1,100)","v":""},{"$error":"#N/A"},{"$error":"#N/A"},"89474",{"$f":"VLOOKUP(6,Feuil1!$AZ$10:$BJ$20,11,FALSE)","v":0},{"$f":"VLOOKUP(6,Feuil1!$AZ$10:$BJ$20,10,FALSE)","v":""},{"$error":"#VALUE!"},{"$error":"#VALUE!"},"89474","",52,"strategy-dropdown-element"]
["Futur 6 - 662/709","<div class=\"strategy-dropdown-element\" value=\"91570\">Futur 6 - 662/709</div>",40,"91570",7,{"$f":"MID(VLOOKUP(7,Feuil1!$AZ$10:$BI$20,2,FALSE),1,100)","v":""},{"$error":"#N/A"},{"$error":"#N/A"},"91570",{"$f":"VLOOKUP(7,Feuil1!$AZ$10:$BJ$20,11,FALSE)","v":0},{"$f":"VLOOKUP(7,Feuil1!$AZ$10:$BJ$20,10,FALSE)","v":""},{"$error":"#VALUE!"},{"$error":"#VALUE!"},"91570","",52,"strategy-dropdown-element"]
["Ghislain","<div class=\"strategy-dropdown-element\" value=\"89453\">Ghislain</div>",40,"89453",8,{"$f":"MID(VLOOKUP(8,Feuil1!$AZ$10:$BI$20,2,FALSE),1,100)","v":""},{"$error":"#N/A"},{"$error":"#N/A"},"89453",{"$f":"VLOOKUP(8,Feuil1!$AZ$10:$BJ$20,11,FALSE)","v":0},{"$f":"VLOOKUP(8,Feuil1!$AZ$10:$BJ$20,10,FALSE)","v":""},{"$error":"#VALUE!"},{"$error":"#VALUE!"},"89453","",52,"strategy-dropdown-element"]
["Remp 2","<div class=\"strategy-dropdown-element\" value=\"90735\">Remp 2</div>",40,"90735",9,{"$f":"MID(VLOOKUP(9,Feuil1!$AZ$10:$BI$20,2,FALSE),1,100)","v":""},{"$error":"#N/A"},{"$error":"#N/A"},"90735",{"$f":"VLOOKUP(9,Feuil1!$AZ$10:$BJ$20,11,FALSE)","v":0},{"$f":"VLOOKUP(9,Feuil1!$AZ$10:$BJ$20,10,FALSE)","v":""},{"$error":"#VALUE!"},{"$error":"#VALUE!"},"90735","",52,"strategy-dropdown-element"]
["Céline","<div class=\"strategy-dropdown-element\" value=\"90769\">Céline</div>",40,"90769",10,{"$f":"MID(VLOOKUP(10,Feuil1!$AZ$10:$BI$20,2,FALSE),1,100)","v":""},{"$error":"#N/A"},{"$error":"#N/A"},"90769",{"$f":"VLOOKUP(10,Feuil1!$AZ$10:$BJ$20,11,FALSE)","v":0},{"$f":"VLOOKUP(10,Feuil1!$AZ$10:$BJ$20,10,FALSE)","v":""},{"$error":"#VALUE!"},{"$error":"#VALUE!"},"90769","",52,"strategy-dropdown-element"]
["Futur 8 - 626/723","<div class=\"strategy-dropdown-element\" value=\"91630\">Futur 8 - 626/723</div>",40,"91630",11,{"$f":"MID(VLOOKUP(11,Feuil1!$AZ$10:$BI$20,2,FALSE),1,100)","v":""},{"$error":"#N/A"},{"$error":"#N/A"},"91630",{"$f":"VLOOKUP(11,Feuil1!$AZ$10:$BJ$20,11,FALSE)","v":0},{"$f":"VLOOKUP(11,Feuil1!$AZ$10:$BJ$20,10,FALSE)","v":""},{"$error":"#VALUE!"},{"$error":"#VALUE!"},"91630","",52,"strategy-dropdown-element"]
["Charles","<div class=\"strategy-dropdown-element\" value=\"87528\">Charles</div>",40,"87528",12,null,null,null,null,null,null,null,null,null,null,52,"strategy-dropdown-element"]
["Futur 1 - 379/750","<div class=\"strategy-dropdown-element\" value=\"93809\">Futur 1 - 379/750</div>",40,"93809",13,null,null,null,null,null,null,null,null,null,null,52,"strategy-dropdown-element"]
["Futur 1 - 402/773","<div class=\"strategy-dropdown-element\" value=\"93815\">Futur 1 - 402/773</div>",40,"93815",14,null,null,null,null,null,null,null,null,null,null,52,"strategy-dropdown-element"]
["Futur 3 - 642/763","<div class=\"strategy-dropdown-element\" value=\"93855\">Futur 3 - 642/763</div>",40,"93855",15,null,null,null,null,null,null,null,null,null,null,52,"strategy-dropdown-element"]
["Futur 4 - 538/723","<div class=\"strategy-dropdown-element\" value=\"91647\">Futur 4 - 538/723</div>",40,"91647",16,null,null,null,null,null,null,null,null,null,null,52,"strategy-dropdown-element"]
["Futur 6 - 723/782","<div class=\"strategy-dropdown-element\" value=\"94274\">Futur 6 - 723/782</div>",40,"94274",17,null,null,null,null,null,null,null,null,null,null,52,"strategy-dropdown-element"]
["Futur 7 - 670/710","<div class=\"strategy-dropdown-element\" value=\"91629\">Futur 7 - 670/710</div>",40,"91629",18,null,null,null,null,null,null,null,null,null,null,52,"strategy-dropdown-element"]
["Futur 7 - 695/743","<div class=\"strategy-dropdown-element\" value=\"93808\">Futur 7 - 695/743</div>",40,"93808",19,null,null,null,null,null,null,null,null,null,null,52,"strategy-dropdown-element"]
["Gael","<div class=\"strategy-dropdown-element\" value=\"90733\">Gael</div>",40,"90733",20,null,null,null,null,null,null,null,null,null,null,52,"strategy-dropdown-element"]
["Rage","<div class=\"strategy-dropdown-element\" value=\"87972\">Rage</div>",40,"87972",21,null,null,null,null,null,null,null,null,null,null,52,"strategy-dropdown-element"]
["Remp 3","<div class=\"strategy-dropdown-element\" value=\"87551\">Remp 3</div>",{"$f":"SEARCH(\"value=\",B25,1)","v":40},"87551",22,null,null,null,null,null,null,null,null,null,null,52,"strategy-dropdown-element"]
[null,null,{"$error":"#VALUE!"},{"$error":"#VALUE!"},23,null,null,null,null,null,null,null,null,null,null,{"$error":"#VALUE!"},"strategy-dropdown-element"]
[null,null,{"$error":"#VALUE!"},{"$error":"#VALUE!"},24,null,null,null,null,null,null,null,null,null,null,{"$error":"#VALUE!"},"strategy-dropdown-element"]
[null,null,{"$error":"#VALUE!"},{"$error":"#VALUE!"},25,null,null,null,null,null,null,null,null,null,null,{"$error":"#VALUE!"},"strategy-dropdown-element"]
[null,null,{"$error":"#VALUE!"},{"$error":"#VALUE!"},26,null,null,null,null,null,null,null,null,null,null,{"$error":"#VALUE!"},"strategy-dropdown-element"]
[null,null,{"$error":"#VALUE!"},{"$error":"#VALUE!"},27,null,null,null,null,null,null,null,null,null,null,{"$error":"#VALUE!"}]
[null,null,{"$error":"#VALUE!"},{"$error":"#VALUE!"},28,null,null,null,null,null,null,null,null,null,null,{"$error":"#VALUE!"}]
[null,null,{"$error":"#VALUE!"},{"$error":"#VALUE!"},29,null,null,null,null,null,null,null,null,null,null,{"$error":"#VALUE!"}]

{"sheet":"Feuil2","index":5,"n_rows":105,"n_cols":8,"rows_kept":105,"cut":false,"hidden":true,"merged":[]}
[]
[]
[]
[]
[]
[]
[]
[]
[]
[]
[]
[]
[]
[]
[]
[]
[]
[]
[]
[]
[]
[]
[]
[]
[]
[]
[]
[]
[]
[]
[]
[]
[]
[]
[]
[]
[]
[]
[]
[]
[]
[]
[]
[]
[]
[]
[]
[]
[]
[]
[]
[]
[]
[]
[]
[]
[]
[]
[]
[]
[]
[]
[]
[]
[]
[]
[]
[]
[]
[]
[]
[]
[]
[]
[]
[]
[]
[]
[]
[]
[]
[]
[]
[]
[]
[]
[]
[]
[]
[null,null,null,null,null,null,"WebServicesLib"]
[null,null,null,null,null,null,"WebServices 1.0 Type Library"]
[null,null,null,null,null,null,"{453D7835-5495-48CD-8805-4020015CFAD4}"]
[null,null,null,null,null,null,1]
[null,null,null,null,null,null,0]
[null,null,null,null,null,null,"C:\\Program Files\\Common Files\\Autodesk Shared\\WebServices1.dll"]
[]
[]
[]
[]
["VBA","Excel","stdole","Office","MSForms","MSHTML",null,"SHDocVw"]
["Visual Basic For Applications","Microsoft Excel 14.0 Object Library","OLE Automation","Microsoft Office 14.0 Object Library","Microsoft Forms 2.0 Object Library","Microsoft HTML Object Library",null,"Microsoft Internet Controls"]
["{000204EF-0000-0000-C000-000000000046}","{00020813-0000-0000-C000-000000000046}","{00020430-0000-0000-C000-000000000046}","{2DF8D04C-5BFA-101B-BDE5-00AA0044DE52}","{0D452EE1-E08F-101A-852E-02608C4D0BB4}","{3050F1C5-98B5-11CF-BB82-00AA00BDCE0B}",null,"{EAB22AC0-30C1-11CF-A7EB-0000C05BAE0B}"]
[4,1,2,2,2,4,null,1]
[1,7,0,5,0,0,null,1]
["C:\\PROGRA~1\\COMMON~1\\MICROS~1\\VBA\\VBA7\\VBE7.DLL","C:\\Program Files\\Microsoft Office\\Office14\\EXCEL.EXE","C:\\Windows\\system32\\stdole2.tlb","C:\\Program Files\\Common Files\\Microsoft Shared\\OFFICE14\\MSO.DLL","C:\\Windows\\system32\\FM20.DLL","C:\\Windows\\system32\\MSHTML.TLB",null,"C:\\Windows\\System32\\ieframe.dll"]

{"sheet":"Feuil3","index":6,"n_rows":3,"n_cols":22,"rows_kept":3,"cut":false,"hidden":true,"merged":[]}
["Remp 3"]
[]
["sornette \r\n1 (1*) 498,327K45220362 / 743 470 (+208) Force \r\n1055 (+312) Habileté \r\n440 (+181) Vitesse \r\n254 (+168) Endurance \r\n717 (+258) Intelligence \r\n100 Energie \r\n100 Moral ","tarzan \r\n2 (2*) 1,161,567K93920605 / 751 1043 (+297) Force \r\n745 (+280) Habileté \r\n863 (+263) Vitesse \r\n1026 (+275) Endurance \r\n716 (+253) Intelligence \r\n96 Energie \r\n30s 100 Moral ","Pirouette \r\n3 (7*) 1,009,771K263521679 / 730 1023 (+299) Force \r\n899 (+220) Habileté \r\n932 (+202) Vitesse \r\n1006 (+276) Endurance \r\n726 (+192) Intelligence \r\n100 Energie \r\n100 Moral ","Cap. \r\n4 447,769K1089634478 / 605 751 (+298) Force \r\n666 (+219) Habileté \r\n751 (+262) Vitesse \r\n705 (+215) Endurance \r\n700 (+191) Intelligence \r\n100 Energie \r\n100 Moral ","faribole \r\n5 (6*) 605,834K88723680 / 741 1043 (+302) Force \r\n907 (+211) Habileté \r\n904 (+214) Vitesse \r\n890 (+208) Endurance \r\n776 (+183) Intelligence \r\n97 Energie \r\n27s 100 Moral ","foutaise \r\n6 (6*) 565,736K43321692 / 736 1008 (+303) Force \r\n980 (+273) Habileté \r\n1000 (+276) Vitesse \r\n1006 (+270) Endurance \r\n834 (+245) Intelligence \r\n100 Energie \r\n100 Moral ","samba \r\n7 (7*) 953,627K128021689 / 722 997 (+280) Force \r\n1002 (+294) Habileté \r\n990 (+276) Vitesse \r\n994 (+272) Endurance \r\n830 (+245) Intelligence \r\n100 Energie \r\n100 Moral ","rubicon \r\n8 (7*) 539,763K61221693 / 732 1012 (+280) Force \r\n1013 (+295) Habileté \r\n1005 (+275) Vitesse \r\n1001 (+271) Endurance \r\n738 (+184) Intelligence \r\n100 Energie \r\n100 Moral ","calembredaine \r\n9 (7*) 620,695K125224695 / 731 946 (+229) Force \r\n1028 (+297) Habileté \r\n996 (+270) Vitesse \r\n911 (+199) Endurance \r\n775 (+188) Intelligence \r\n97 Energie \r\n27s 100 Moral ","Bernard Menez \r\n10 414,880K981232465 / 554 636 (+208) Force \r\n788 (+312) Habileté \r\n647 (+181) Vitesse \r\n716 (+228) Endurance \r\n727 (+258) Intelligence \r\n99 Energie \r\n6s 100 Moral ","baldaquin \r\n11 (6*) 508,763K27919698 / 740 961 (+241) Force \r\n1013 (+273) Habileté \r\n1012 (+275) Vitesse \r\n1000 (+269) Endurance \r\n744 (+184) Intelligence \r\n94 Energie \r\n57s 100 Moral ","691/740 6 \r\nR (6*) 522,604K16620691 / 740 895 (+155) Force \r\n719 (+155) Habileté \r\n761 (+128) Vitesse \r\n844 (+132) Endurance \r\n587 (+127) Intelligence \r\n100 Energie \r\n100 Moral ","703/745 6 \r\nR (6*) 488,231K19703 / 745 889 (+155) Force \r\n700 (+155) Habileté \r\n691 (+128) Vitesse \r\n874 (+132) Endurance \r\n644 (+127) Intelligence \r\n100 Energie \r\n100 Moral ","pilou pilou \r\nR (6*) 651,846K110625682 / 732 948 (+216) Force \r\n876 (+155) Habileté \r\n858 (+128) Vitesse \r\n800 (+132) Endurance \r\n686 (+127) Intelligence \r\n100 Energie \r\n100 Moral ","Saltimbanque \r\nR (7*) 603,310K60823686 / 732 839 (+155) Force \r\n875 (+155) Habileté \r\n834 (+128) Vitesse \r\n864 (+132) Endurance \r\n715 (+127) Intelligence \r\n100 Energie \r\n100 Moral ","634/680 7 \r\nR (7*) 366,197K62722634 / 680 678 (+139) Force \r\n712 (+153) Habileté \r\n646 (+134) Vitesse \r\n661 (+124) Endurance \r\n549 (+124) Intelligence \r\n100 Energie \r\n100 Moral ","635/684 7 \r\nR (7*) 332,701K15519635 / 684 628 (+139) Force \r\n664 (+153) Habileté \r\n594 (+134) Vitesse \r\n644 (+176) Endurance \r\n478 (+124) Intelligence \r\n100 Energie \r\n100 Moral ","637/686 7 \r\nR (7*) 364,746K58222637 / 686 681 (+139) Force \r\n656 (+153) Habileté \r\n643 (+134) Vitesse \r\n679 (+124) Endurance \r\n530 (+124) Intelligence \r\n100 Energie \r\n100 Moral ","637/689 7 \r\nR (7*) 322,555K31420637 / 689 665 (+139) Force \r\n700 (+153) Habileté \r\n611 (+134) Vitesse \r\n672 (+176) Endurance \r\n525 (+124) Intelligence \r\n100 Energie \r\n100 Moral ","648/694 7 \r\nR (7*) 346,604K33020648 / 694 636 (+139) Force \r\n670 (+153) Habileté \r\n641 (+134) Vitesse \r\n613 (+124) Endurance \r\n494 (+124) Intelligence \r\n100 Energie \r\n100 Moral ","651/698 7 \r\nR (7*) 338,704K16819651 / 698 631 (+139) Force \r\n647 (+153) Habileté \r\n675 (+186) Vitesse \r\n624 (+124) Endurance \r\n500 (+124) Intelligence \r\n100 Energie \r\n100 Moral ","capitaine de rechange26m \r\nR 330,947K406925505 / 529 770 (+241) Force \r\n806 (+280) Habileté \r\n705 (+193) Vitesse \r\n697 (+242) Endurance \r\n744 (+243) Intelligence \r\n100 Energie \r\n100 Moral "]

{"sheet":"Ana Champ","index":7,"n_rows":27,"n_cols":13,"rows_kept":27,"cut":false,"hidden":false,"merged":[[15,2,15,3]]}
[]
["\n\n\n\n\n\n\n\n\n\n\n\n\n\n\n\n\n\n\n\n",{"$f":"IF(A3=\"\",\"\",A3)","v":""},{"$f":"IF(A4=\"\",\"\",A4)","v":""},{"$f":"IF(A5=\"\",\"\",A5)","v":""},{"$f":"IF(A6=\"\",\"\",A6)","v":""},{"$f":"IF(A7=\"\",\"\",A7)","v":""},{"$f":"IF(A8=\"\",\"\",A8)","v":""},{"$f":"IF(A9=\"\",\"\",A9)","v":""},{"$f":"IF(A10=\"\",\"\",A10)","v":""},{"$f":"IF(A11=\"\",\"\",A11)","v":""},{"$f":"IF(A12=\"\",\"\",A12)","v":""},{"$f":"IF(A13=\"\",\"\",A13)","v":""},{"$f":"IF(A14=\"\",\"\",A14)","v":""}]
[]
[]
[]
[]
[]
[]
[]
[]
[]
[]
[]
[]
[]
[null,null,"Journée"]
[null,null,1,12]
[null,null,2,13]
[null,null,3,14]
[null,null,4,15]
[null,null,5,16]
[null,null,6,17]
[null,null,7,18]
[null,null,8,19]
[null,null,9,20]
[null,null,10,21]
[null,null,11,22]

{"sheet":"Tuto","index":8,"n_rows":239,"n_cols":3,"rows_kept":239,"cut":false,"hidden":false,"merged":[[2,0,2,15],[9,0,9,15],[17,0,17,15]]}
[]
[]
["Informations de bases sur la présentation visuelle de l'outil"]
["Code couleur :"]
["Case jaune pâle : ces cases se rempliront automatiquement en fonction de vos données"]
["Case blanche : Seules ces cases sont à renseigner manuellement par l'utilisateur"]
["Case bleue : en cours de développement"]
[]
[]
["Premieres étapes"]
["Avant toute chose, il faut remplir manuellement les case suivantes :"]
["- Equipement de l'équipe : Les valeurs baby foot et body pump doivent être soit « 5 » soit « 0 » et le stage à la montagne « 0 » ou « 3 ». "]
["- Valeur des vitamines"]
["- Valeur max des objets, mieux vaut mettre la valeur max des objets que l'on a fréquemment. "]
["Si par miracle, vous trouvez un + 32 mais que tout les autres sont des + 31 au max, mieux vaut mettre + 31"]
[]
[]
["Utilisation "]
["Import des données de votre équipe :"]
["Un bouton \"import des données\" est à votre disposition pour importer les données de votre équipe. Cette fonctionnalité permet de récupérer les stats brutes de vos joueurs ainsi au les niveaux des batiments d'équipe"]
["- Utiliser le bouton \"import des données\" pour récupérer depuis le site FM les stats des joueurs de votre équipe"]
[null,"- Une fenêtre apparaitra pour vous demander de renseigner la version d'Internet Explorer installée sur votre P.C."]
[null,null,"(petite précision, IE étant installé par défaut sur votre P.C., l'outil l'utilise pour le raptriement des données cela ne vous oblige en rien à Internet Explorer)"]
[null,null,"(Vous avez également la possibilité de mémoriser la version d'IE en cochant la case présente sur cette fenêtre afin de ne plus voir apparaitre ce message)"]
[null,"- Ensuite une fenêtre de saisie de vos identifiants apparaitra. Veuillez y saisir le login et le MdP que vous utilisez pour vous connecter à FM"]
[null,null,"(De la même manièrevous aurez la possibilité de mémoriser vos identifiants pour ne plus avoir à les saisir à chaque import.)"]
[null,null,"(ATTENTION : en choississant de mémoriser vos identifiants, ceux-ci sont sauvegardés dans le fichier. Ils ne seront supprimer qu'après avoir décocher la case ou en faisant une raz des données importées)"]
[null,null,"Il est possible que vous obteniez un message d'erreur indiquant que vos identifiants sont érronées ou que le délais de connexion a été dépassé. Dans ce cas tenter d'augmenter le délai de connexion"]
[null,null,"en utilisant le bouton prévu à cet effet."]
[null,"- Après la phase de connexion, une nouvelle fenêtre apparaitra pour vous permettre de choisir parmis vos équipes celle que vous souhaitez importer."]
["Un message de confirmation vous indiquera que l'import est achevé."]
[]
[]
["Comparaison de futures recrues"]
["Située sous la zone d'import des stats des joueurs de votre équipe, une partie concerne de potentielles recrues \"joueurs à comparer\", cette zone est actuellement en cours de développement"]
["mais permettra à terme de comparer des joueurs due marché à vos joueurs actuels. En attendant la mise en place, vous pouvez saisir manuellement leurs caractéristiques pour les comparer visieullement"]
[]
[]
[]
[]
[]
["Caractéristiques des kits de joueurs"]
["Cette zone permet de choisir entre l'attribution de kits calculés de manière automatique ou entre les kits saisis par l'utilisateur. La seconde possibilité demande un peu plus de temps mais permet un calcul plus précis"]
["Pour choisir le type de kits à attribuer, il suffit de saisir dans la case \"choix du kit\" la valeur 0 pour utiliser l'approximation des kits ou la valeur 1 pour utiliser les valeurs déclarées par l'utilisateur"]
[]
[]
[]
[]
[]
[]
[]
[]
[]
[]
[]
[]
[]
[]
[]
[]
[]
[]
[]
[]
[]
["Positionnement des joueurs"]
["Le tableau suivant reprend l'ensemble des positions possibles pour chacun des joueurs."]
[]
["- choix de la stratégie et de la tactique"]
[null,"La première étape consiste à choisir la startégie ainsi que la tactique souhaitée à l'aide des listes déroulantes situées en haut à gauche du tableau"]
[]
[]
[]
[]
[]
[]
["- Choix du format d'affichage des données"]
[null,"Vous pouvez choisir le mode d'affichage des données dans le tableau, en effet, les données des joueurs peuvent être affichées en % an fonction du poste ou en valeur brute suivant la "]
[null,"stratégie choisie."]
[null,"Le choix est à réaliser en utilisant la case blanche tout en bas à droite du tableau"]
[]
[]
[]
[]
[]
[]
["- Attribution des vitamines"]
[null,"Les vitamines peuvent être attribuées soient en fonction du joueur ou en fonction du poste. Les deux simultanés n'étant pas compatibles, le choix n'est possible que sur l'une ou l'autre des attributions."]
[null,"Pour affecter une vitamine à un joueur ou un poste, il suffit de mettre la valeur 1 dans la case correspondante."]
[null,"Utilisez les cases vitamines verticales (joueur) si votre équipe est deja équipé et que vous souhaitez changer de stratégie pour un autre match."]
[null,"Utilisez les cases vitamines horizontales (position) si vous cherchez à optimiser une stratégie en utilisant des vitamines."]
[]
[]
[]
[]
[]
[]
[]
[]
[]
[]
[]
[]
[]
[]
[]
[]
[]
[]
[]
[]
[]
[]
[]
[]
[]
["Les valeurs affichées prennent en compte l'ensemble des bonus des joueurs à savoir :"]
[null,"- Il est considéré que les joueurs sont équipés de l'ensemble des objets à la valeur max "]
[null,"- Le meilleur kit au poste est également pris en compte"]
[null,"- Les objets d'équipes (baby foot, …) ainsi que les infra du stade"]
[null,"- Eventuellement les vitamines si vous avez choisi d'en affecter comme indiqué précédemment"]
[]
["- Positionnement des joueurs"]
[null,"La colonne à droite du tableau permet de positionner les joueurs suivant les places que vous souhaitez leurs attribuer."]
[null,"Il faut donc sélectionner à la main la place de ses joueurs. Ce n’est pas nécessairement les meilleurs au poste les plus importants qui donneront la meilleure équipe."]
[null,"Les stats sont triées par couleur, le tableau se lit verticalement poste par poste :"]
[null,"- En vert fluo, c'est la valeur du joueur sélectionné à ce poste."]
[null,"- En vert clair, ce sont les valeurs qui sont supérieures à celle sélectionnée."]
[null,"En haut à droite, c'est le total brut de votre équipe. C'est bien pratique pour comparer les changements effectués."]
[]
[]
[]
[]
[]
[]
[]
[]
[]
[]
[]
[]
[]
[]
[]
[]
[]
[]
[]
[]
[]
[]
[]
[]
[]
[]
[]
["- Suggestion de composition automatique"]
[null,"Lors d'un chagement de stratégie, la colonne sur fond jaune est réactualisée et vous propose la meilleure composition possible."]
[null,"Cette composition auto peut être rafraichie en utilisant le bouton \"Compo Auto\"."]
[]
[null,"Si vous souhaitez utiliser la composition automatique comme formation pour votre prochain match, le bouton \"Tranférer compo auto\" vous permet de basculer la compo auto comme formation servant "]
[null,"pour la base des calculs."]
[]
[null,"Il est possible de jouer sur deux paramètres pour réaliser la compo auto :"]
[null,null,"- Réaliser la compo auto en fonction des bonus optimums pour votre équipe ou la réaliser suivant les bonus réels de vos joueurs. Cela est possible grace à la case  (0 pour optimum et 1 pour réel)"]
[null,null,"- Exclusion de certains joueurs du calcul de la compo automatique. Pour cela vous avez à disposition une case à cocher à côté de chaque joueur. Il vous suffit de cocher cette case et d'inscrire \"x\" ou \"X\" à la place"]
[null,null,"de la position du joueur. En utilisant le bouton \"Compo auto\", le joueur sera retiré du calcul."]
[]
["- Choix du capitaine"]
[null,"Le tableau jaune sur la droite, reprend les pourcentage capitaine de chaque joueur."]
[]
[]
["Tableau récapitulatif"]
["Vous trouverez dans cette zone le récap de vos choix précédents."]
[null,"- Position et nom du joueur choisi"]
[null,"- Indication du kit optimum pour le joueur au poste indiqué (en plus des objets (coquille, gants,…)"]
[null,"- Stats d'attaque et défense comptabilisent les gains bruts que l’on trouve dans les rapports de matchs."]
[]
[null,"Il y a un écart avec la réalité du a deux critères : "]
[null,"- l’approximation des kits"]
[null,"- le coefficient multiplicateur pour passer des pourcentages aux gains bruts et arrondi au centième"]
[]
["A droite du tableau récapitulatif, une zone vous permet de modifier les bonus de matchs selon votre souhait pour réaliser des simulations."]
[]
[]
[]
[]
[]
[]
[]
[]
[]
[]
[]
[]
[]
[]
[]
[]
[]
[]
["Au dessus du tableau récapitulatif, vous trouverez 3 boutons qui vous permettrons d'exporter votre composition d'équipe sur le site FM."]
["-  1ère mi-temps"]
["-  2ème mi-temps en cas de difficulté"]
["-  2ème mi-temps en cas d'avantage"]
[]
[]
["Données adverse"]
["Lors de l'import des données de votre équipe, il vous est demandé si vous souhaiter importer les stats de votre prochaine adversaire, ces information se retrouveront dans ce tableau."]
[]
["Il vous est également possible d'importer les stats de n'importe quelle équipe en remplissant la case blanche prévue à cet effet et en utilisant le bouton \"importer les stats de l'équipe\""]
["En utilisant cette fonctionnalité, vous allez devoir ressaisir vos identifiant puis un message faisant apparaitre une liste déroulante vous permettra de choisir l'équipe que vous souhaitez analyser dans "]
["une liste de correspondance."]
["Il est également possible d'importer les stats d'une équipe en indiquant l'URL de la page de rapport de match au lieu du nom de l'équipe. Dans ce cas, pensez à préciser si l'équipe à analyser jouait à domicilie ou à l'extérieur"]
[]
["Suite à l'import des données adverse, vous avez la possibilité de modifier des paramètres tels que :"]
[null,"- La startégie de l'adversaire"]
[null,"- La tactique de l'adversaire"]
[null,"- Les bonus de l'adversaire (hormis les bonus expérience et capitaine qui sont renseigné automatiquement)"]
[]
[]
[]
[]
[]
[]
[]
[]
[]
[]
[]
[]
[]
[]
[]
[]
[]
[]
[]
["Des tableaux situées en dessous vous indiquent les résultats des matchs en fonctions des données saisies et importées"]

{"sheet":"Pauljo","index":9,"n_rows":357,"n_cols":249,"rows_kept":357,"cut":false,"hidden":true,"merged":[]}
[{"$f":"DF37","v":{"$error":"#N/A"}}]
[]
[null,null,null,null,null,null,null,null,"Remplacement",null,null,null,null,{"$f":"IF(A8=\"\",0,A8)","v":0},{"$f":"MAX(A19:A29)","v":0},{"$f":"IF(N3<O3,\"remplacement \"&N7&\" par \"&O4&\" \",0)","v":0},null,{"$f":"IF(B9=\"\",0,B9)","v":0},{"$f":"MAX(B19:B29)","v":0},{"$f":"IF(R3<S3,\"remplacement \"&R7&\" par \"&S4&\" \",0)","v":0},null,{"$f":"IF(C10=\"\",0,C10)","v":0},{"$f":"MAX(C19:C29)","v":0},{"$f":"IF(V3<W3,\"remplacement \"&V7&\" par \"&W4&\" \",0)","v":0},null,null,null,null,null,{"$f":"IF(D11=\"\",0,D11)","v":0},{"$f":"MAX(D19:D29)","v":0},{"$f":"IF(AD3<AE3,\"remplacement \"&AD7&\" par \"&AE4&\" \",0)","v":0},null,null,null,null,null,{"$f":"IF(E12=0,\"\",E12)","v":""},{"$f":"MAX(E19:E29)","v":0},{"$f":"IF(AL3<AM3,\"remplacement \"&AL7&\" par \"&AM4&\" \",0)","v":0},null,null,null,null,null,{"$f":"IF(F13=\"\",0,F13)","v":0},{"$f":"MAX(F19:F29)","v":0},{"$f":"IF(AT3<AU3,\"remplacement \"&AT7&\" par \"&AU4&\" \",0)","v":0},null,null,null,null,null,{"$f":"IF(G14=\"\",0,G14)","v":0},{"$f":"MAX(G19:G29)","v":0},{"$f":"IF(BB3<BC3,\"remplacement \"&BB7&\" par \"&BC4&\" \",0)","v":0},null,null,null,null,null,{"$f":"IF(H15=\"\",0,H15)","v":0},{"$f":"MAX(H19:H29)","v":0},{"$f":"IF(BJ3<BK3,\"remplacement \"&BJ7&\" par \"&BK4&\" \",0)","v":0},null,null,null,null,null,{"$f":"IF(I16=\"\",0,I16)","v":0},{"$f":"MAX(I19:I29)","v":0},{"$f":"IF(BR3<BS3,\"remplacement \"&BR7&\" par \"&BS4&\" \",0)","v":0},null,null,null,null,null,{"$f":"IF(J17=\"\",0,J17)","v":0},{"$f":"MAX(J19:J29)","v":0},{"$f":"IF(BZ3<CA3,\"remplacement \"&BZ7&\" par \"&CA4&\" \",0)","v":0},null,null,null,null,null,{"$f":"IF(K18=\"\",0,K18)","v":0},{"$f":"MAX(K19:K29)","v":0},{"$f":"IF(CH3<CI3,\"remplacement \"&CH7&\" par \"&CI4&\" \",0)","v":0}]
[null,null,null,null,null,null,null,null,null,null,null,null,null,null,{"$f":"(MATCH(O3,A19:A29,0)+11)","v":{"$error":"#N/A"}},{"$f":"IF($C$5=N7,0,P3)","v":{"$error":"#N/A"}},null,null,{"$f":"(MATCH(S3,B19:B29,0)+11)","v":{"$error":"#N/A"}},{"$f":"IF($C$5=R7,0,T3)","v":{"$error":"#N/A"}},null,null,{"$f":"(MATCH(W3,C19:C29,0)+11)","v":{"$error":"#N/A"}},{"$f":"IF($C$5=V7,0,X3)","v":{"$error":"#N/A"}},null,null,null,null,null,null,{"$f":"(MATCH(AE3,D19:D29,0)+11)","v":{"$error":"#N/A"}},{"$f":"IF($C$5=AD7,0,AF3)","v":{"$error":"#N/A"}},null,null,null,null,null,null,{"$f":"(MATCH(AM3,E19:E29,0)+11)","v":{"$error":"#N/A"}},{"$f":"IF($C$5=AL7,0,AN3)","v":{"$error":"#N/A"}},null,null,null,null,null,null,{"$f":"(MATCH(AU3,F19:F29,0)+11)","v":{"$error":"#N/A"}},{"$f":"IF($C$5=AT7,0,AV3)","v":{"$error":"#N/A"}},null,null,null,null,null,null,{"$f":"(MATCH(BC3,G19:G29,0)+11)","v":{"$error":"#N/A"}},{"$f":"IF($C$5=BB7,0,BD3)","v":{"$error":"#N/A"}},null,null,null,null,null,null,{"$f":"(MATCH(BK3,H19:H29,0)+11)","v":{"$error":"#N/A"}},{"$f":"IF($C$5=BJ7,0,BL3)","v":{"$error":"#N/A"}},null,null,null,null,null,null,{"$f":"(MATCH(BS3,I19:I29,0)+11)","v":{"$error":"#N/A"}},{"$f":"IF($C$5=BR7,0,BT3)","v":{"$error":"#N/A"}},null,null,null,null,null,null,{"$f":"(MATCH(CA3,J19:J29,0)+11)","v":{"$error":"#N/A"}},{"$f":"IF($C$5=BZ7,0,CB3)","v":{"$error":"#N/A"}},null,null,null,null,null,null,{"$f":"(MATCH(CI3,K19:K29,0)+11)","v":{"$error":"#N/A"}},{"$f":"IF($C$5=CH7,0,CJ3)","v":{"$error":"#N/A"}},null,null,null,null,null,null,null,null,null,null,null,null,null,null,null,null,null,null,null,{"$f":"IF(P4<>0,\" \"&P4&\" \",IF(T4<>0,\" \"&T4&\" \",IF(X4<>0,\" \"&X4&\" \",IF(AF4<>0,\" \"&AF4&\" \",IF(AN4<>0,\" \"&AN4&\" \",IF(AV4<>0,\" \"&AV4&\" \",IF(BD4<>0,\" \"&BD4&\" \",IF(BL4<>0,\" \"&BL4&\" \",0))))))))","v":{"$error":"#N/A"}},{"$f":"IF(BT4<>0,\" \"&BT4&\" \",IF(CB4<>0,\" \"&CB4&\" \",IF(CJ4<>0,\" \"&CJ4&\" \",0)))","v":{"$error":"#N/A"}}]
[{"$f":"IF(Feuil1!AX7=\"\",0,Feuil1!AX7)","v":"Gogod"},{"$f":"IF(A5=0,0,MATCH(Feuil1!AX7,Feuil1!AI8:AI30,0))","v":{"$error":"#N/A"}},{"$f":"IF(B5=0,0,INDEX(N60:N81,B5,1))","v":{"$error":"#N/A"}},null,null,null,null,"Rotation à 3",null,null,null,null,null,null,null,null,null,null,null,null,null,null,null,null,null,null,null,null,null,null,null,null,null,null,null,null,null,null,null,null,null,null,null,null,null,null,null,null,null,null,null,null,null,null,null,null,null,null,null,null,null,null,null,null,null,null,null,null,null,null,null,null,null,null,null,null,null,null,null,null,null,null,null,null,null,null,null,null,null,null,null,null,null,null,null,null,null,null,null,null,null,null,null,null,null,null,null,{"$f":"IF(DD4<>0,\" \"&DD4&\" \",IF(DE4<>0,\" \"&DE4&\" \",0))","v":{"$error":"#N/A"}}]
[]
[null,null,null,null,null,null,null,null,null,null,null,"xp",null,1,2,null,null,2,null,null,null,3,null,null,null,null,null,null,null,4,null,null,null,null,null,null,null,5,null,null,null,null,null,null,null,6,null,null,null,null,null,null,null,7,null,null,null,null,null,null,null,8,null,null,null,null,null,null,null,9,null,null,null,null,null,null,null,10,null,null,null,null,null,null,null,11,null,null,null,null,null,null,null,"10 11","11 10"]
[{"$f":"INDEX(Pauljo!$B$60:$L$81,MATCH(1,Pauljo!$N$60:$N$81,0),1)","v":""},{"$f":"INDEX(Pauljo!$B$60:$L$81,MATCH(1,Pauljo!$N$60:$N$81,0),2)","v":""},{"$f":"INDEX(Pauljo!$B$60:$N$81,MATCH(1,Pauljo!$N$60:$N$81,0),3)","v":""},{"$f":"INDEX(Pauljo!$B$60:$N$81,MATCH(1,Pauljo!$N$60:$N$81,0),4)","v":""},{"$f":"INDEX(Pauljo!$B$60:$N$81,MATCH(1,Pauljo!$N$60:$N$81,0),5)","v":""},{"$f":"INDEX(Pauljo!$B$60:$N$81,MATCH(1,Pauljo!$N$60:$N$81,0),6)","v":""},{"$f":"INDEX(Pauljo!$B$60:$N$81,MATCH(1,Pauljo!$N$60:$N$81,0),7)","v":""},{"$f":"INDEX(Pauljo!$B$60:$N$81,MATCH(1,Pauljo!$N$60:$N$81,0),8)","v":""},{"$f":"INDEX(Pauljo!$B$60:$N$81,MATCH(1,Pauljo!$N$60:$N$81,0),9)","v":""},{"$f":"INDEX(Pauljo!$B$60:$N$81,MATCH(1,Pauljo!$N$60:$N$81,0),10)","v":""},{"$f":"INDEX(Pauljo!$B$60:$N$81,MATCH(1,Pauljo!$N$60:$N$81,0),11)","v":""},{"$f":"INDEX(Pauljo!$B$60:$P$81,MATCH(1,Pauljo!$N$60:$N$81,0),15)","v":""},null,null,null,null,"1 2 ","2 1",null,null,null,{"$f":"$A$8+$B$9+C10","v":{"$error":"#VALUE!"}},{"$f":"$B$8+$C$9+MAX(A10,A19:A29)","v":{"$error":"#VALUE!"}},{"$f":"$A$10+$C$9+MAX(B8,B19:B29)","v":{"$error":"#VALUE!"}},{"$f":"$B$8+$A$10+MAX(C9,C19:C29)","v":{"$error":"#VALUE!"}},{"$f":"$A$9+$B$10+MAX(C8,C19:C29)","v":{"$error":"#VALUE!"}},{"$f":"$A$9+$C$8+MAX(B10,B19:B29)","v":{"$error":"#VALUE!"}},{"$f":"$C$8+$B$10+MAX(A9,A19:A29)","v":{"$error":"#VALUE!"}},{"$f":"IF(OR(V8<W8,V8<X8,V8<Y8),\"rotation \"&$Q8&\" \"&V$7&\" - \",IF(OR(V8<Z8,V8<AA8,V8<AB8),\"rotation \"&$R8&\" \"&V$7&\" -\",0))","v":{"$error":"#VALUE!"}},{"$f":"$A$8+$B$9+D11","v":{"$error":"#VALUE!"}},{"$f":"$B$8+$D$9+MAX(A11,A19:A29)","v":{"$error":"#VALUE!"}},{"$f":"$A$11+$D$9+MAX(B8,B19:B29)","v":{"$error":"#VALUE!"}},{"$f":"$B$8+$A$11+MAX(D9,D19:D29)","v":{"$error":"#VALUE!"}},{"$f":"$A$9+$B$11+MAX(D8,D19:D29)","v":{"$error":"#VALUE!"}},{"$f":"$A$9+$D$8+MAX(B11,B19:B29)","v":{"$error":"#VALUE!"}},{"$f":"$D$8+$B$11+MAX(A9,A19:A29)","v":{"$error":"#VALUE!"}},{"$f":"IF(OR(AD8<AE8,AD8<AF8,AD8<AG8),\"rotation \"&$Q8&\" \"&AD$7&\" - \",IF(OR(AD8<AH8,AD8<AI8,AD8<AJ8),\"rotation \"&$R8&\" \"&AD$7&\" -\",0))","v":{"$error":"#VALUE!"}},{"$f":"$A$8+$B$9+E12","v":{"$error":"#VALUE!"}},{"$f":"$B$8+$E$9+MAX(A12,A19:A29)","v":{"$error":"#VALUE!"}},{"$f":"$A$12+$E$9+MAX(B8,B19:B29)","v":{"$error":"#VALUE!"}},{"$f":"$B$8+$A$12+MAX(E9,E19:E29)","v":{"$error":"#VALUE!"}},{"$f":"$A$9+$B$12+MAX(E8,E19:E29)","v":{"$error":"#VALUE!"}},{"$f":"$A$9+$E$8+MAX(B12,B19:B29)","v":{"$error":"#VALUE!"}},{"$f":"$E$8+$B$12+MAX(A9,A19:A29)","v":{"$error":"#VALUE!"}},{"$f":"IF(OR(AL8<AM8,AL8<AN8,AL8<AO8),\"rotation \"&$Q8&\" \"&AL$7&\" - \",IF(OR(AL8<AP8,AL8<AQ8,AL8<AR8),\"rotation \"&$R8&\" \"&AL$7&\" -\",0))","v":{"$error":"#VALUE!"}},{"$f":"$A$8+$B$9+F13","v":{"$error":"#VALUE!"}},{"$f":"$B$8+$F$9+MAX(A19:A29,A13)","v":{"$error":"#VALUE!"}},{"$f":"$A$13+$F$9+MAX(B19:B29,B8)","v":{"$error":"#VALUE!"}},{"$f":"$B$8+$A$13+MAX(F19:F29,F9)","v":{"$error":"#VALUE!"}},{"$f":"$A$9+$B$13+MAX(F8,F19:F29)","v":{"$error":"#VALUE!"}},{"$f":"$A$9+$F$8+MAX(B13,B19:B29)","v":{"$error":"#VALUE!"}},{"$f":"$F$8+$B$13+MAX(A9,A19:A29)","v":{"$error":"#VALUE!"}},{"$f":"IF(OR(AT8<AU8,AT8<AV8,AT8<AW8),\"rotation \"&$Q8&\" \"&AT$7&\" - \",IF(OR(AT8<AX8,AT8<AY8,AT8<AZ8),\"rotation \"&$R8&\" \"&AT$7&\" -\",0))","v":{"$error":"#VALUE!"}},{"$f":"$A$8+$B$9+G14","v":{"$error":"#VALUE!"}},{"$f":"$B$8+$G$9+MAX(A19:A29,A14)","v":{"$error":"#VALUE!"}},{"$f":"$A$14+$G$9+MAX(B19:B29,B8)","v":{"$error":"#VALUE!"}},{"$f":"$B$8+$A$14+MAX(G19:G29,G9)","v":{"$error":"#VALUE!"}},{"$f":"$A$9+$B$14+MAX(G8,G19:G29)","v":{"$error":"#VALUE!"}},{"$f":"$A$9+$G$8+MAX(B14,B19:B29)","v":{"$error":"#VALUE!"}},{"$f":"$G$8+$B$14+MAX(A9,A19:A29)","v":{"$error":"#VALUE!"}},{"$f":"IF(OR(BB8<BC8,BB8<BD8,BB8<BE8),\"rotation \"&$Q8&\" \"&BB$7&\" - \",IF(OR(BB8<BF8,BB8<BG8,BB8<BH8),\"rotation \"&$R8&\" \"&BB$7&\" -\",0))","v":{"$error":"#VALUE!"}},{"$f":"$A$8+$B$9+H15","v":{"$error":"#VALUE!"}},{"$f":"$B$8+$H$9+MAX(A15,A19:A29)","v":{"$error":"#VALUE!"}},{"$f":"$A$15+$H$9+MAX(B8,B19:B29)","v":{"$error":"#VALUE!"}},{"$f":"$B$8+$A$15+MAX(H9,H19:H29)","v":{"$error":"#VALUE!"}},{"$f":"$A$9+$B$15+MAX(H8,H19:H29)","v":{"$error":"#VALUE!"}},{"$f":"$A$9+$H$8+MAX(B15,B19:B29)","v":{"$error":"#VALUE!"}},{"$f":"$H$8+$B$15+MAX(A9,A19:A29)","v":{"$error":"#VALUE!"}},{"$f":"IF(OR(BJ8<BK8,BJ8<BL8,BJ8<BM8),\"rotation \"&$Q8&\" \"&BJ$7&\" - \",IF(OR(BJ8<BN8,BJ8<BO8,BJ8<BP8),\"rotation \"&$R8&\" \"&BJ$7&\" -\",0))","v":{"$error":"#VALUE!"}},{"$f":"$A$8+$B$9+I16","v":{"$error":"#VALUE!"}},{"$f":"$B$8+$I$9+MAX(A16,A19:A29)","v":{"$error":"#VALUE!"}},{"$f":"$A$16+$I$9+MAX(B8,B19:B29)","v":{"$error":"#VALUE!"}},{"$f":"$B$8+$A$16+MAX(I9,I19:I29)","v":{"$error":"#VALUE!"}},{"$f":"$A$9+$B$16+MAX(I8,I19:I29)","v":{"$error":"#VALUE!"}},{"$f":"$A$9+$I$8+MAX(B16,B19:B29)","v":{"$error":"#VALUE!"}},{"$f":"$I$8+$B$16+MAX(A9,A19:A29)","v":{"$error":"#VALUE!"}},{"$f":"IF(OR(BR8<BS8,BR8<BT8,BR8<BU8),\"rotation \"&$Q8&\" \"&BR$7&\" - \",IF(OR(BR8<BV8,BR8<BW8,BR8<BX8),\"rotation \"&$R8&\" \"&BR$7&\" -\",0))","v":{"$error":"#VALUE!"}},{"$f":"$A$8+$B$9+J17","v":{"$error":"#VALUE!"}},{"$f":"$B$8+$J$9+MAX(A17,A19:A29)","v":{"$error":"#VALUE!"}},{"$f":"$A$17+$J$9+MAX(B8,B19:B29)","v":{"$error":"#VALUE!"}},{"$f":"$B$8+$A$17+MAX(J9,J19:J29)","v":{"$error":"#VALUE!"}},{"$f":"$A$9+$B$17+MAX(J8,J19:J29)","v":{"$error":"#VALUE!"}},{"$f":"$A$9+$J$8+MAX(B17,B19:B29)","v":{"$error":"#VALUE!"}},{"$f":"$J$8+$B$17+MAX(A9,A19:A29)","v":{"$error":"#VALUE!"}},{"$f":"IF(OR(BZ8<CA8,BZ8<CB8,BZ8<CC8),\"rotation \"&$Q8&\" \"&BZ$7&\" - \",IF(OR(BZ8<CD8,BZ8<CE8,BZ8<CF8),\"rotation \"&$R8&\" \"&BZ$7&\" -\",0))","v":{"$error":"#VALUE!"}},{"$f":"$A$8+$B$9+K18","v":{"$error":"#VALUE!"}},{"$f":"$B$8+$K$9+MAX($A18,A19:A29)","v":{"$error":"#VALUE!"}},{"$f":"$A$18+$K$9+MAX($B8,B19:B29)","v":{"$error":"#VALUE!"}},{"$f":"$B$8+$A$18+MAX($K9,K19:K29)","v":{"$error":"#VALUE!"}},{"$f":"$A$9+$B$18+MAX(K8,K19:K29)","v":{"$error":"#VALUE!"}},{"$f":"$K$8+$B$18+MAX(A9,A19:A29)","v":{"$error":"#VALUE!"}},{"$f":"$A$9+$K$8+MAX(B18,B19:B29)","v":{"$error":"#VALUE!"}},{"$f":"IF(OR(CH8<CI8,CH8<CJ8,CH8<CK8),\"rotation \"&$Q8&\" \"&CH$7&\" - \",IF(OR(CH8<CL8,CH8<CM8,CH8<CN8),\"rotation \"&$R8&\" \"&CH$7&\" -\",0))","v":{"$error":"#VALUE!"}},{"$f":"$J$17+$K$18+A8","v":{"$error":"#VALUE!"}},{"$f":"MAX($K$17,$K$19:$K$29)+A$18+$J8","v":{"$error":"#VALUE!"}},{"$f":"$K$17+MAX(B$18,B$19:B$29)+$J8","v":{"$error":"#VALUE!"}},{"$f":"$K$17+A$18+MAX($J8,$J$19:$J$29)","v":{"$error":"#VALUE!"}},{"$f":"MAX($A$17,A$19:A$29)+$J$18+K$8","v":{"$error":"#VALUE!"}},{"$f":"$A$17+MAX($J$18,J$19:J$29)+K$8","v":{"$error":"#VALUE!"}},{"$f":"$A$17+$J$18+MAX(K8,K$19:K$29)","v":{"$error":"#VALUE!"}},{"$f":"IF(OR(CP8<CQ8,CP8<CR8,CP8<CS8),\"rotation \"&$CP$7&\" \"&CX8&\" - \",IF(OR(CP8<CT8,CP8<CU8,CP8<CV8),\"rotation \"&$CQ$7&\" \"&CX8&\" -\",0))","v":{"$error":"#VALUE!"}},1,null,{"$f":"IF(AC8<>0,\" \"&AC8&\" \",IF(AK8<>0,\" \"&AK8&\" \",IF(AS8<>0,\" \"&AS8&\" \",IF(BA8<>0,\" \"&BA8&\" \",IF(BI8<>0,\" \"&BI8&\" \",IF(BQ8<>0,\" \"&BQ8&\" \",IF(BY8<>0,\" \"&BY8&\" \",IF(CG8<>0,\" \"&CG8&\" \",0))))))))","v":{"$error":"#VALUE!"}}]
[{"$f":"INDEX(Pauljo!$B$60:$L$81,MATCH(2,Pauljo!$N$60:$N$81,0),1)","v":""},{"$f":"INDEX(Pauljo!$B$60:$L$81,MATCH(2,Pauljo!$N$60:$N$81,0),2)","v":""},{"$f":"INDEX(Pauljo!$B$60:$N$81,MATCH(2,Pauljo!$N$60:$N$81,0),3)","v":""},{"$f":"INDEX(Pauljo!$B$60:$N$81,MATCH(2,Pauljo!$N$60:$N$81,0),4)","v":""},{"$f":"INDEX(Pauljo!$B$60:$N$81,MATCH(2,Pauljo!$N$60:$N$81,0),5)","v":""},{"$f":"INDEX(Pauljo!$B$60:$N$81,MATCH(2,Pauljo!$N$60:$N$81,0),6)","v":""},{"$f":"INDEX(Pauljo!$B$60:$N$81,MATCH(2,Pauljo!$N$60:$N$81,0),7)","v":""},{"$f":"INDEX(Pauljo!$B$60:$N$81,MATCH(2,Pauljo!$N$60:$N$81,0),8)","v":""},{"$f":"INDEX(Pauljo!$B$60:$N$81,MATCH(2,Pauljo!$N$60:$N$81,0),9)","v":""},{"$f":"INDEX(Pauljo!$B$60:$N$81,MATCH(2,Pauljo!$N$60:$N$81,0),10)","v":""},{"$f":"INDEX(Pauljo!$B$60:$N$81,MATCH(2,Pauljo!$N$60:$N$81,0),11)","v":""},{"$f":"INDEX(Pauljo!$B$60:$P$81,MATCH(2,Pauljo!$N$60:$N$81,0),15)","v":""},null,null,null,null,"2 3 ","3 2",null,null,null,null,null,null,null,null,null,null,null,{"$f":"B9+C10+D11","v":{"$error":"#VALUE!"}},{"$f":"$C$9+$D$10+MAX(B$11,B19:B29)","v":{"$error":"#VALUE!"}},{"$f":"$B$11+$D$10+MAX(C$9,C19:C29)","v":{"$error":"#VALUE!"}},{"$f":"$C$9+$B$11+MAX(D$10,D19:D29)","v":{"$error":"#VALUE!"}},{"$f":"$C$11+$B$10+MAX($D9,D19:D29)","v":{"$error":"#VALUE!"}},{"$f":"MAX($C$11,C19:C29)+$B$10+$D9","v":{"$error":"#VALUE!"}},{"$f":"$C$11+MAX($B$10,B19:B29)+$D9","v":{"$error":"#VALUE!"}},{"$f":"IF(OR(AD9<AE9,AD9<AF9,AD9<AG9),\"rotation \"&$Q9&\" \"&AD$7&\" - \",IF(OR(AD9<AH9,AD9<AI9,AD9<AJ9),\"rotation \"&$R9&\" \"&AD$7&\" -\",0))","v":{"$error":"#VALUE!"}},{"$f":"B9+C10+E12","v":{"$error":"#VALUE!"}},{"$f":"$C$9+$E$10+MAX(B$12,B19:B29)","v":{"$error":"#VALUE!"}},{"$f":"$C$9+MAX($E$10,E19:E29)+B$12","v":{"$error":"#VALUE!"}},{"$f":"MAX($C$9,C19:C29)+$E$10+B$12","v":{"$error":"#VALUE!"}},{"$f":"$C$12+$B$10+MAX($E9,E19:E29)","v":{"$error":"#VALUE!"}},{"$f":"$C$12+MAX($B$10,B19:B29)+$E9","v":{"$error":"#VALUE!"}},{"$f":"MAX($C$12,C19:C29)+$B$10+$E9","v":{"$error":"#VALUE!"}},{"$f":"IF(OR(AL9<AM9,AL9<AN9,AL9<AO9),\"rotation \"&$Q9&\" \"&AL$7&\" - \",IF(OR(AL9<AP9,AL9<AQ9,AL9<AR9),\"rotation \"&$R9&\" \"&AL$7&\" -\",0))","v":{"$error":"#VALUE!"}},{"$f":"B9+C10+F13","v":{"$error":"#VALUE!"}},{"$f":"$C$9+$F$10+MAX(B13,B19:B29)","v":{"$error":"#VALUE!"}},{"$f":"$C$9+MAX($F$10,F19:F29)+B13","v":{"$error":"#VALUE!"}},{"$f":"MAX($C$9,C19:C29)+$F$10+B13","v":{"$error":"#VALUE!"}},{"$f":"$C$13+$B$10+MAX($F9,F19:F29)","v":{"$error":"#VALUE!"}},{"$f":"$C$13+MAX($B$10,B19:B29)+$F9","v":{"$error":"#VALUE!"}},{"$f":"MAX($C$13,C19:C29)+$B$10+$F9","v":{"$error":"#VALUE!"}},{"$f":"IF(OR(AT9<AU9,AT9<AV9,AT9<AW9),\"rotation \"&$Q9&\" \"&AT$7&\" - \",IF(OR(AT9<AX9,AT9<AY9,AT9<AZ9),\"rotation \"&$R9&\" \"&AT$7&\" -\",0))","v":{"$error":"#VALUE!"}},{"$f":"B9+C10+G14","v":{"$error":"#VALUE!"}},{"$f":"$C$9+$G$10+MAX(B14,B19:B29)","v":{"$error":"#VALUE!"}},{"$f":"$C$9+MAX($G$10,G19:G29)+B14","v":{"$error":"#VALUE!"}},{"$f":"MAX($C$9,C19:C29)+$G$10+B14","v":{"$error":"#VALUE!"}},{"$f":"$C$14+$B$10+MAX($G9,G19:G29)","v":{"$error":"#VALUE!"}},{"$f":"$C$14+MAX($B$10,B19:B29)+$G9","v":{"$error":"#VALUE!"}},{"$f":"MAX($C$14,C19:C29)+$B$10+$G9","v":{"$error":"#VALUE!"}},{"$f":"IF(OR(BB9<BC9,BB9<BD9,BB9<BE9),\"rotation \"&$Q9&\" \"&BB$7&\" - \",IF(OR(BB9<BF9,BB9<BG9,BB9<BH9),\"rotation \"&$R9&\" \"&BB$7&\" -\",0))","v":{"$error":"#VALUE!"}},{"$f":"B9+C10+H15","v":{"$error":"#VALUE!"}},{"$f":"$C$9+$H$10+MAX(B15,B19:B29)","v":{"$error":"#VALUE!"}},{"$f":"$C$9+MAX($H$10,H19:H29)+B15","v":{"$error":"#VALUE!"}},{"$f":"MAX($C$9,C19:C29)+$H$10+B15","v":{"$error":"#VALUE!"}},{"$f":"$C$15+$B$10+MAX($H9,H19:H29)","v":{"$error":"#VALUE!"}},{"$f":"$C$15+MAX($B$10,B19:B29)+$H9","v":{"$error":"#VALUE!"}},{"$f":"MAX($C$15,C19:C29)+$B$10+$H9","v":{"$error":"#VALUE!"}},{"$error":"#VALUE!"},{"$f":"B9+C10+I16","v":{"$error":"#VALUE!"}},{"$f":"$C$9+$I$10+MAX(B16,B19:B29)","v":{"$error":"#VALUE!"}},{"$f":"$C$9+MAX($I$10,I19:I29)+B16","v":{"$error":"#VALUE!"}},{"$f":"MAX($C$9,C19:C29)+$I$10+B16","v":{"$error":"#VALUE!"}},{"$f":"$C$16+$B$10+MAX($I9,I19:I29)","v":{"$error":"#VALUE!"}},{"$f":"$C$16+MAX($B$10,B19:B29)+$I9","v":{"$error":"#VALUE!"}},{"$f":"MAX($C$16,C19:C29)+$B$10+$I9","v":{"$error":"#VALUE!"}},{"$error":"#VALUE!"},{"$f":"B9+C10+J17","v":{"$error":"#VALUE!"}},{"$f":"$C$9+$J$10+MAX(B17,B19:B29)","v":{"$error":"#VALUE!"}},{"$f":"$C$9+MAX($J$10,J19:J29)+B17","v":{"$error":"#VALUE!"}},{"$f":"MAX($C$9,C19:C29)+$J$10+B17","v":{"$error":"#VALUE!"}},{"$f":"$C$17+$B$10+MAX($J9,J19:J29)","v":{"$error":"#VALUE!"}},{"$f":"$C$17+MAX($B$10,B19:B29)+$J9","v":{"$error":"#VALUE!"}},{"$f":"MAX($C$17,C19:C29)+$B$10+$J9","v":{"$error":"#VALUE!"}},{"$error":"#VALUE!"},{"$f":"B9+C10+K18","v":{"$error":"#VALUE!"}},{"$f":"$C$9+$K$10+MAX(B18,B19:B29)","v":{"$error":"#VALUE!"}},{"$f":"$C$9+MAX($K$10,K19:K29)+B18","v":{"$error":"#VALUE!"}},{"$f":"MAX($C$9,C19:C29)+$K$10+B18","v":{"$error":"#VALUE!"}},{"$f":"$C$18+$B$10+MAX(K19:K29,$K9)","v":{"$error":"#VALUE!"}},{"$f":"$C$18+MAX($B$10,B19:B29)+$K9","v":{"$error":"#VALUE!"}},{"$f":"MAX($C$18,C19:C29)+$B$10+$K9","v":{"$error":"#VALUE!"}},{"$error":"#VALUE!"},{"$f":"$J$17+$K$18+B9","v":{"$error":"#VALUE!"}},{"$f":"MAX($K$17,$K$19:$K$29)+$B$18+$J9","v":{"$error":"#VALUE!"}},{"$f":"$K$17+MAX($B$18,B$19:B$29)+$J9","v":{"$error":"#VALUE!"}},{"$f":"$K$17+$B$18+MAX($J9,$J$19:$J$29)","v":{"$error":"#VALUE!"}},{"$f":"MAX($B$17,B$19:B$29)+$J$18+K$9","v":{"$error":"#VALUE!"}},{"$f":"$B$17+MAX($J$18,J$19:J$29)+K$9","v":{"$error":"#VALUE!"}},{"$f":"$B$17+$J$18+MAX(K$9,K$19:K$29)","v":{"$error":"#VALUE!"}},{"$error":"#VALUE!"},2,null,{"$f":"IF(AK9<>0,\" \"&AK9&\" \",IF(AS9<>0,\" \"&AS9&\" \",IF(BA9<>0,\" \"&BA9&\" \",IF(BI9<>0,\" \"&BI9&\" \",IF(BQ9<>0,\" \"&BQ9&\" \",IF(BY9<>0,\" \"&BY9&\" \",IF(CG9<>0,\" \"&CG9&\" \",IF(CO9<>0,\" \"&CO9&\" \",0))))))))","v":{"$error":"#VALUE!"}}]
[{"$f":"INDEX(Pauljo!$B$60:$L$81,MATCH(3,Pauljo!$N$60:$N$81,0),1)","v":""},{"$f":"INDEX(Pauljo!$B$60:$L$81,MATCH(3,Pauljo!$N$60:$N$81,0),2)","v":""},{"$f":"INDEX(Pauljo!$B$60:$N$81,MATCH(3,Pauljo!$N$60:$N$81,0),3)","v":""},{"$f":"INDEX(Pauljo!$B$60:$N$81,MATCH(3,Pauljo!$N$60:$N$81,0),4)","v":""},{"$f":"INDEX(Pauljo!$B$60:$N$81,MATCH(3,Pauljo!$N$60:$N$81,0),5)","v":""},{"$f":"INDEX(Pauljo!$B$60:$N$81,MATCH(3,Pauljo!$N$60:$N$81,0),6)","v":""},{"$f":"INDEX(Pauljo!$B$60:$N$81,MATCH(3,Pauljo!$N$60:$N$81,0),7)","v":""},{"$f":"INDEX(Pauljo!$B$60:$N$81,MATCH(3,Pauljo!$N$60:$N$81,0),8)","v":""},{"$f":"INDEX(Pauljo!$B$60:$N$81,MATCH(3,Pauljo!$N$60:$N$81,0),9)","v":""},{"$f":"INDEX(Pauljo!$B$60:$N$81,MATCH(3,Pauljo!$N$60:$N$81,0),10)","v":""},{"$f":"INDEX(Pauljo!$B$60:$N$81,MATCH(3,Pauljo!$N$60:$N$81,0),11)","v":""},{"$f":"INDEX(Pauljo!$B$60:$P$81,MATCH(3,Pauljo!$N$60:$N$81,0),15)","v":""},null,null,null,null,"3 4 ","4 3",null,null,null,null,null,null,null,null,null,null,null,null,null,null,null,null,null,null,null,{"$f":"C10+D11+E12","v":{"$error":"#VALUE!"}},{"$f":"D10+E11+MAX(C12,C19:C29)","v":{"$error":"#VALUE!"}},{"$f":"D10+MAX(E11,E19:E29)+C12","v":{"$error":"#VALUE!"}},{"$f":"MAX(D10,D19:D29)+E11+C12","v":{"$error":"#VALUE!"}},{"$f":"C11+D12+MAX(E10,E19:E29)","v":{"$error":"#VALUE!"}},{"$f":"C11+MAX(D12,D19:D29)+E10","v":{"$error":"#VALUE!"}},{"$f":"MAX(C11,C19:C29)+D12+E10","v":{"$error":"#VALUE!"}},{"$f":"IF(OR(AL10<AM10,AL10<AN10,AL10<AO10),\"rotation \"&$Q10&\" \"&AL$7&\" - \",IF(OR(AL10<AP10,AL10<AQ10,AL10<AR10),\"rotation \"&$R10&\" \"&AL$7&\" -\",0))","v":{"$error":"#VALUE!"}},{"$f":"C10+D11+F13","v":{"$error":"#VALUE!"}},{"$f":"D10+F11+MAX(C13,C19:C29)","v":{"$error":"#VALUE!"}},{"$f":"D10+MAX(F11,F19:F29)+C13","v":{"$error":"#VALUE!"}},{"$f":"MAX(D10,D19:D29)+F11+C13","v":{"$error":"#VALUE!"}},{"$f":"F10+C11+MAX(D13,D19:D29)","v":{"$error":"#VALUE!"}},{"$f":"F10+MAX(C11,C19:C29)+D13","v":{"$error":"#VALUE!"}},{"$f":"MAX(F10,F19:F29)+C11+D13","v":{"$error":"#VALUE!"}},{"$f":"IF(OR(AT10<AU10,AT10<AV10,AT10<AW10),\"rotation \"&$Q10&\" \"&AT$7&\" - \",IF(OR(AT10<AX10,AT10<AY10,AT10<AZ10),\"rotation \"&$R10&\" \"&AT$7&\" -\",0))","v":{"$error":"#VALUE!"}},{"$f":"C10+D11+G14","v":{"$error":"#VALUE!"}},{"$f":"D10+C14+MAX(G11,G19:G29)","v":{"$error":"#VALUE!"}},{"$f":"D10+MAX(C14,C19:C29)+G11","v":{"$error":"#VALUE!"}},{"$f":"MAX(D10,D19:D29)+C14+G11","v":{"$error":"#VALUE!"}},{"$f":"C11+G10+MAX(D14,D19:D29)","v":{"$error":"#VALUE!"}},{"$f":"C11+MAX(G10,G19:G29)+D14","v":{"$error":"#VALUE!"}},{"$f":"MAX(C11,C19:C29)+G10+D14","v":{"$error":"#VALUE!"}},{"$f":"IF(OR(BB10<BC10,BB10<BD10,BB10<BE10),\"rotation \"&$Q10&\" \"&BB$7&\" - \",IF(OR(BB10<BF10,BB10<BG10,BB10<BH10),\"rotation \"&$R10&\" \"&BB$7&\" -\",0))","v":{"$error":"#VALUE!"}},{"$f":"C10+D11+H15","v":{"$error":"#VALUE!"}},{"$f":"D10+C15+MAX(H11,H19:H29)","v":{"$error":"#VALUE!"}},{"$f":"D10+MAX(C15,C19:C29)+H11","v":{"$error":"#VALUE!"}},{"$f":"MAX(D10,D19:D29)+C15+H11","v":{"$error":"#VALUE!"}},{"$f":"C11+H10+MAX(D15,D19:D29)","v":{"$error":"#VALUE!"}},{"$f":"C11+MAX(H10,H19:H29)+D15","v":{"$error":"#VALUE!"}},{"$f":"MAX(C11,C19:C29)+H10+D15","v":{"$error":"#VALUE!"}},{"$error":"#VALUE!"},{"$f":"C10+D11+I16","v":{"$error":"#VALUE!"}},{"$f":"C11+D16+MAX(I10,I19:I29)","v":{"$error":"#VALUE!"}},{"$f":"C11+MAX(D16,D19:D29)+I10","v":{"$error":"#VALUE!"}},{"$f":"D16+MAX(C11,C19:C29)+I10","v":{"$error":"#VALUE!"}},{"$f":"C11+I10+MAX(D16,D19:D29)","v":{"$error":"#VALUE!"}},{"$f":"C11+MAX(I10,I19:I29)+D16","v":{"$error":"#VALUE!"}},{"$f":"MAX(C11,C19:C29)+I10+D16","v":{"$error":"#VALUE!"}},{"$error":"#VALUE!"},{"$f":"C10+D11+J17","v":{"$error":"#VALUE!"}},{"$f":"D10+J11+MAX(C17,C19:C29)","v":{"$error":"#VALUE!"}},{"$f":"D10+MAX(J11,J19:J29)+C17","v":{"$error":"#VALUE!"}},{"$f":"MAX(D10,D19:D29)+J11+C17","v":{"$error":"#VALUE!"}},{"$f":"C11+J10+MAX(D17,D19:D29)","v":{"$error":"#VALUE!"}},{"$f":"C11+MAX(J10,J19:J29)+D17","v":{"$error":"#VALUE!"}},{"$f":"MAX(C11,C19:C29)+J10+D17","v":{"$error":"#VALUE!"}},{"$error":"#VALUE!"},{"$f":"C10+D11+K18","v":{"$error":"#VALUE!"}},{"$f":"D10+K11+MAX(C18,C19:C29)","v":{"$error":"#VALUE!"}},{"$f":"D10+MAX(K11,K19:K29)+C18","v":{"$error":"#VALUE!"}},{"$f":"MAX(D10,D19:D29)+K11+C18","v":{"$error":"#VALUE!"}},{"$f":"C11+K10+MAX(D18,D19:D29)","v":{"$error":"#VALUE!"}},{"$f":"C11+MAX(K10,K19:K29)+D18","v":{"$error":"#VALUE!"}},{"$f":"MAX(C11,C19:C29)+K10+D18","v":{"$error":"#VALUE!"}},{"$error":"#VALUE!"},{"$f":"$J$17+$K$18+C10","v":{"$error":"#VALUE!"}},{"$f":"MAX($K$17,$K$19:$K$29)+$C$18+$J10","v":{"$error":"#VALUE!"}},{"$f":"$K$17+MAX($C$18,C$19:C$29)+$J10","v":{"$error":"#VALUE!"}},{"$f":"$K$17+$C$18+MAX($J10,$J$19:$J$29)","v":{"$error":"#VALUE!"}},{"$f":"MAX($C$17,C$19:C$29)+$J$18+K10","v":{"$error":"#VALUE!"}},{"$f":"$B$17+MAX($J$18,J$19:J$29)+K10","v":{"$error":"#VALUE!"}},{"$f":"$C$17+$J$18+MAX(K10,K$19:K$29)","v":{"$error":"#VALUE!"}},{"$error":"#VALUE!"},3,null,{"$f":"IF(AS10<>0,\" \"&AS10&\" \",IF(BA10<>0,\" \"&BA10&\" \",IF(BI10<>0,\" \"&BI10&\" \",IF(BQ10<>0,\" \"&BQ10&\" \",IF(BY10<>0,\" \"&BY10&\" \",IF(CG10<>0,\" \"&CG10&\" \",IF(CO10<>0,\" \"&CO10&\" \",0)))))))","v":{"$error":"#VALUE!"}}]
[{"$f":"INDEX(Pauljo!$B$60:$L$81,MATCH(4,Pauljo!$N$60:$N$81,0),1)","v":""},{"$f":"INDEX(Pauljo!$B$60:$L$81,MATCH(4,Pauljo!$N$60:$N$81,0),2)","v":""},{"$f":"INDEX(Pauljo!$B$60:$N$81,MATCH(4,Pauljo!$N$60:$N$81,0),3)","v":""},{"$f":"INDEX(Pauljo!$B$60:$N$81,MATCH(4,Pauljo!$N$60:$N$81,0),4)","v":""},{"$f":"INDEX(Pauljo!$B$60:$N$81,MATCH(4,Pauljo!$N$60:$N$81,0),5)","v":""},{"$f":"INDEX(Pauljo!$B$60:$N$81,MATCH(4,Pauljo!$N$60:$N$81,0),6)","v":""},{"$f":"INDEX(Pauljo!$B$60:$N$81,MATCH(4,Pauljo!$N$60:$N$81,0),7)","v":""},{"$f":"INDEX(Pauljo!$B$60:$N$81,MATCH(4,Pauljo!$N$60:$N$81,0),8)","v":""},{"$f":"INDEX(Pauljo!$B$60:$N$81,MATCH(4,Pauljo!$N$60:$N$81,0),9)","v":""},{"$f":"INDEX(Pauljo!$B$60:$N$81,MATCH(4,Pauljo!$N$60:$N$81,0),10)","v":""},{"$f":"INDEX(Pauljo!$B$60:$N$81,MATCH(4,Pauljo!$N$60:$N$81,0),11)","v":""},{"$f":"INDEX(Pauljo!$B$60:$P$81,MATCH(4,Pauljo!$N$60:$N$81,0),15)","v":""},null,null,null,null,"4 5 ","5 4",null,null,null,null,null,null,null,null,null,null,null,null,null,null,null,null,null,null,null,null,null,null,null,null,null,null,null,{"$f":"D11+E12+F13","v":{"$error":"#VALUE!"}},{"$f":"E11+F12+MAX(D13,D19:D29)","v":{"$error":"#VALUE!"}},{"$f":"E11+MAX(F12,F19:F29)+D13","v":{"$error":"#VALUE!"}},{"$f":"MAX(E11,E19:E29)+F12+D13","v":{"$error":"#VALUE!"}},{"$f":"D12+E13+MAX(F11,F19:F29)","v":{"$error":"#VALUE!"}},{"$f":"D12+MAX(E13,E19:E29)+F11","v":{"$error":"#VALUE!"}},{"$f":"MAX(D12,D19:D29)+E13+F11","v":{"$error":"#VALUE!"}},{"$f":"IF(OR(AT11<AU11,AT11<AV11,AT11<AW11),\"rotation \"&$Q11&\" \"&AT$7&\" - \",IF(OR(AT11<AX11,AT11<AY11,AT11<AZ11),\"rotation \"&$R11&\" \"&AT$7&\" -\",0))","v":{"$error":"#VALUE!"}},{"$f":"D11+E12+G14","v":{"$error":"#VALUE!"}},{"$f":"E11+G12+MAX(D14,D19:D29)","v":{"$error":"#VALUE!"}},{"$f":"E11+MAX(G12,G19:G29)+D14","v":{"$error":"#VALUE!"}},{"$f":"MAX(E11,E19:E29)+G12+D14","v":{"$error":"#VALUE!"}},{"$f":"D12+G11+MAX(E14,E19:E29)","v":{"$error":"#VALUE!"}},{"$f":"D12+MAX(G11,G19:G29)+E14","v":{"$error":"#VALUE!"}},{"$f":"MAX(D12,D19:D29)+G11+E14","v":{"$error":"#VALUE!"}},{"$f":"IF(OR(BB11<BC11,BB11<BD11,BB11<BE11),\"rotation \"&$Q11&\" \"&BB$7&\" - \",IF(OR(BB11<BF11,BB11<BG11,BB11<BH11),\"rotation \"&$R11&\" \"&BB$7&\" -\",0))","v":{"$error":"#VALUE!"}},{"$f":"D11+H15+E12","v":{"$error":"#VALUE!"}},{"$f":"E11+H12+MAX(D15,D19:D29)","v":{"$error":"#VALUE!"}},{"$f":"E11+MAX(H12,H19:H29)+D15","v":{"$error":"#VALUE!"}},{"$f":"MAX(E11,E19:E29)+H12+D15","v":{"$error":"#VALUE!"}},{"$f":"D12+H11+MAX(E15,E19:E29)","v":{"$error":"#VALUE!"}},{"$f":"D12+MAX(E15,E19:E29)+H11","v":{"$error":"#VALUE!"}},{"$f":"MAX(D12,D19:D29)+H11+E15","v":{"$error":"#VALUE!"}},{"$error":"#VALUE!"},{"$f":"D11+E12+I16","v":{"$error":"#VALUE!"}},{"$f":"E11+I12+MAX(D16,D19:D29)","v":{"$error":"#VALUE!"}},{"$f":"E11+MAX(I12,I19:I29)+D16","v":{"$error":"#VALUE!"}},{"$f":"MAX(E11,E19:E29)+I12+D16","v":{"$error":"#VALUE!"}},{"$f":"D12+I11+MAX(E16,E19:E29)","v":{"$error":"#VALUE!"}},{"$f":"D12+MAX(I11,I19:I29)+E16","v":{"$error":"#VALUE!"}},{"$f":"MAX(D12,D19:D29)+I11+E16","v":{"$error":"#VALUE!"}},{"$error":"#VALUE!"},{"$f":"D11+E12+J17","v":{"$error":"#VALUE!"}},{"$f":"E11+J12+MAX(D17,D19:D29)","v":{"$error":"#VALUE!"}},{"$f":"E11+MAX(J12,J19:J29)+D17","v":{"$error":"#VALUE!"}},{"$f":"MAX(E11,E19:E29)+J12+D17","v":{"$error":"#VALUE!"}},{"$f":"D12+J11+MAX(E17,E19:E29)","v":{"$error":"#VALUE!"}},{"$f":"D12+MAX(J11,J19:J29)+E17","v":{"$error":"#VALUE!"}},{"$f":"MAX(D12,D19:D29)+J11+E17","v":{"$error":"#VALUE!"}},{"$error":"#VALUE!"},{"$f":"D11+E12+K18","v":{"$error":"#VALUE!"}},{"$f":"E11+K12+MAX(D18,D19:D29)","v":{"$error":"#VALUE!"}},{"$f":"E11+MAX(K12,K19:K29)+D18","v":{"$error":"#VALUE!"}},{"$f":"MAX(E11,E19:E29)+K12+D18","v":{"$error":"#VALUE!"}},{"$f":"D12+K11+MAX(E18,E19:E29)","v":{"$error":"#VALUE!"}},{"$f":"D12+MAX(K11,K19:K29)+E18","v":{"$error":"#VALUE!"}},{"$f":"MAX(D12,D19:D29)+K11+E18","v":{"$error":"#VALUE!"}},{"$error":"#VALUE!"},{"$f":"$J$17+$K$18+D11","v":{"$error":"#VALUE!"}},{"$f":"MAX($K$17,$K$19:$K$29)+$D$18+$J11","v":{"$error":"#VALUE!"}},{"$f":"$K$17+MAX($D$18,D$19:D$29)+$J11","v":{"$error":"#VALUE!"}},{"$f":"$K$17+$D$18+MAX($J11,$J$19:$J$29)","v":{"$error":"#VALUE!"}},{"$f":"MAX($D$17,D$19:D$29)+$J$18+K11","v":{"$error":"#VALUE!"}},{"$f":"$D$17+MAX($J$18,J$19:J$29)+K11","v":{"$error":"#VALUE!"}},{"$f":"$D$17+$J$18+MAX(K11,K$19:K$29)","v":{"$error":"#VALUE!"}},{"$error":"#VALUE!"},4,null,{"$f":"IF(BA11<>0,\" \"&BA11&\" \",IF(BI11<>0,\" \"&BI11&\" \",IF(BQ11<>0,\" \"&BQ11&\" \",IF(BY11<>0,\" \"&BY11&\" \",IF(CG11<>0,\" \"&CG11&\" \",IF(CO11<>0,\" \"&CO11&\" \",0))))))","v":{"$error":"#VALUE!"}}]
[{"$f":"INDEX(Pauljo!$B$60:$L$81,MATCH(5,Pauljo!$N$60:$N$81,0),1)","v":""},{"$f":"INDEX(Pauljo!$B$60:$L$81,MATCH(5,Pauljo!$N$60:$N$81,0),2)","v":""},{"$f":"INDEX(Pauljo!$B$60:$N$81,MATCH(5,Pauljo!$N$60:$N$81,0),3)","v":""},{"$f":"INDEX(Pauljo!$B$60:$N$81,MATCH(5,Pauljo!$N$60:$N$81,0),4)","v":""},{"$f":"INDEX(Pauljo!$B$60:$N$81,MATCH(5,Pauljo!$N$60:$N$81,0),5)","v":""},{"$f":"INDEX(Pauljo!$B$60:$N$81,MATCH(5,Pauljo!$N$60:$N$81,0),6)","v":""},{"$f":"INDEX(Pauljo!$B$60:$N$81,MATCH(5,Pauljo!$N$60:$N$81,0),7)","v":""},{"$f":"INDEX(Pauljo!$B$60:$N$81,MATCH(5,Pauljo!$N$60:$N$81,0),8)","v":""},{"$f":"INDEX(Pauljo!$B$60:$N$81,MATCH(5,Pauljo!$N$60:$N$81,0),9)","v":""},{"$f":"INDEX(Pauljo!$B$60:$N$81,MATCH(5,Pauljo!$N$60:$N$81,0),10)","v":""},{"$f":"INDEX(Pauljo!$B$60:$N$81,MATCH(5,Pauljo!$N$60:$N$81,0),11)","v":""},{"$f":"INDEX(Pauljo!$B$60:$P$81,MATCH(5,Pauljo!$N$60:$N$81,0),15)","v":""},null,null,null,null,"5 6 ","6 5",null,null,null,null,null,null,null,null,null,null,null,null,null,null,null,null,null,null,null,null,null,null,null,null,null,null,null,null,null,null,null,null,null,null,null,{"$f":"E12+F13+G14","v":{"$error":"#VALUE!"}},{"$f":"F12+G13+MAX(E14,E19:E29)","v":{"$error":"#VALUE!"}},{"$f":"F12+MAX(G13,G19:G29)+E14","v":{"$error":"#VALUE!"}},{"$f":"MAX(F12,F19:F29)+G13+E14","v":{"$error":"#VALUE!"}},{"$f":"E13+G12+MAX(F14,F19:F29)","v":{"$error":"#VALUE!"}},{"$f":"E13+MAX(G12,G19:G29)+F14","v":{"$error":"#VALUE!"}},{"$f":"MAX(E13,E19:E29)+G12+F14","v":{"$error":"#VALUE!"}},{"$f":"IF(OR(BB12<BC12,BB12<BD12,BB12<BE12),\"rotation \"&$Q12&\" \"&BB$7&\" - \",IF(OR(BB12<BF12,BB12<BG12,BB12<BH12),\"rotation \"&$R12&\" \"&BB$7&\" -\",0))","v":{"$error":"#VALUE!"}},{"$f":"E12+F13+H15","v":{"$error":"#VALUE!"}},{"$f":"F12+H13+MAX(E15,E19:E29)","v":{"$error":"#VALUE!"}},{"$f":"F12+MAX(H13,H19:H29)+E15","v":{"$error":"#VALUE!"}},{"$f":"MAX(F12,F19:F29)+H13+E15","v":{"$error":"#VALUE!"}},{"$f":"E13+F15+MAX(H12,H19:H29)","v":{"$error":"#VALUE!"}},{"$f":"E13+MAX(F15,F19:F29)+H12","v":{"$error":"#VALUE!"}},{"$f":"MAX(E13,E19:E29)+F15+H12","v":{"$error":"#VALUE!"}},{"$error":"#VALUE!"},{"$f":"E12+F13+I16","v":{"$error":"#VALUE!"}},{"$f":"F12+I13+MAX(E16,E19:E29)","v":{"$error":"#VALUE!"}},{"$f":"F12+MAX(I13,I19:I29)+E16","v":{"$error":"#VALUE!"}},{"$f":"MAX(F12,F19:F29)+I13+E16","v":{"$error":"#VALUE!"}},{"$f":"E13+I12+MAX(F16,F19:F29)","v":{"$error":"#VALUE!"}},{"$f":"E13+MAX(I12,I19:I29)+F16","v":{"$error":"#VALUE!"}},{"$f":"MAX(E13,E19:E29)+I12+F16","v":{"$error":"#VALUE!"}},{"$error":"#VALUE!"},{"$f":"E12+F13+J17","v":{"$error":"#VALUE!"}},{"$f":"F12+J13+MAX(E17,E19:E29)","v":{"$error":"#VALUE!"}},{"$f":"F12+MAX(J13,J19:J29)+E17","v":{"$error":"#VALUE!"}},{"$f":"MAX(F12,F19:F29)+J13+E17","v":{"$error":"#VALUE!"}},{"$f":"E13+J12+MAX(F17,F19:F29)","v":{"$error":"#VALUE!"}},{"$f":"E13+MAX(J12,J19:J29)+F17","v":{"$error":"#VALUE!"}},{"$f":"MAX(E13,E19:E29)+J12+F17","v":{"$error":"#VALUE!"}},{"$error":"#VALUE!"},{"$f":"E12+F13+K18","v":{"$error":"#VALUE!"}},{"$f":"F12+K13+MAX(E18,E19:E29)","v":{"$error":"#VALUE!"}},{"$f":"F12+MAX(K13,K19:K29)+E18","v":{"$error":"#VALUE!"}},{"$f":"MAX(F12,F19:F29)+K13+E18","v":{"$error":"#VALUE!"}},{"$f":"E13+K12+MAX(F18,F19:F29)","v":{"$error":"#VALUE!"}},{"$f":"E13+MAX(K12,K19:K29)+F18","v":{"$error":"#VALUE!"}},{"$f":"MAX(E13,E19:E29)+K12+F18","v":{"$error":"#VALUE!"}},{"$error":"#VALUE!"},{"$f":"$J$17+$K$18+E12","v":{"$error":"#VALUE!"}},{"$f":"MAX($K$17,$K$19:$K$29)+$E$18+$J12","v":{"$error":"#VALUE!"}},{"$f":"$K$17+MAX($E$18,E$19:E$29)+$J12","v":{"$error":"#VALUE!"}},{"$f":"$K$17+$E$18+MAX($J12,$J$19:$J$29)","v":{"$error":"#VALUE!"}},{"$f":"MAX($E$17,E$19:E$29)+$J$18+K12","v":{"$error":"#VALUE!"}},{"$f":"$E$17+MAX($J$18,J$19:J$29)+K12","v":{"$error":"#VALUE!"}},{"$f":"$E$17+$J$18+MAX(K12,K$19:K$29)","v":{"$error":"#VALUE!"}},{"$error":"#VALUE!"},5,null,{"$f":"IF(BI12<>0,\" \"&BI12&\" \",IF(BQ12<>0,\" \"&BQ12&\" \",IF(BY12<>0,\" \"&BY12&\" \",IF(CG12<>0,\" \"&CG12&\" \",IF(CO12<>0,\" \"&CO12&\" \",0)))))","v":{"$error":"#VALUE!"}}]
[{"$f":"INDEX(Pauljo!$B$60:$L$81,MATCH(6,Pauljo!$N$60:$N$81,0),1)","v":""},{"$f":"INDEX(Pauljo!$B$60:$L$81,MATCH(6,Pauljo!$N$60:$N$81,0),2)","v":""},{"$f":"INDEX(Pauljo!$B$60:$N$81,MATCH(6,Pauljo!$N$60:$N$81,0),3)","v":""},{"$f":"INDEX(Pauljo!$B$60:$N$81,MATCH(6,Pauljo!$N$60:$N$81,0),4)","v":""},{"$f":"INDEX(Pauljo!$B$60:$N$81,MATCH(6,Pauljo!$N$60:$N$81,0),5)","v":""},{"$f":"INDEX(Pauljo!$B$60:$N$81,MATCH(6,Pauljo!$N$60:$N$81,0),6)","v":""},{"$f":"INDEX(Pauljo!$B$60:$N$81,MATCH(6,Pauljo!$N$60:$N$81,0),7)","v":""},{"$f":"INDEX(Pauljo!$B$60:$N$81,MATCH(6,Pauljo!$N$60:$N$81,0),8)","v":""},{"$f":"INDEX(Pauljo!$B$60:$N$81,MATCH(6,Pauljo!$N$60:$N$81,0),9)","v":""},{"$f":"INDEX(Pauljo!$B$60:$N$81,MATCH(6,Pauljo!$N$60:$N$81,0),10)","v":""},{"$f":"INDEX(Pauljo!$B$60:$N$81,MATCH(6,Pauljo!$N$60:$N$81,0),11)","v":""},{"$f":"INDEX(Pauljo!$B$60:$P$81,MATCH(6,Pauljo!$N$60:$N$81,0),15)","v":""},null,null,null,null,"6 7","7 6",null,null,null,null,null,null,null,null,null,null,null,null,null,null,null,null,null,null,null,null,null,null,null,null,null,null,null,null,null,null,null,null,null,null,null,null,null,null,null,null,null,null,null,{"$f":"F13+G14+H15","v":{"$error":"#VALUE!"}},{"$f":"G13+H14+MAX(F15,F19:F29)","v":{"$error":"#VALUE!"}},{"$f":"G13+MAX(H14,H19:H29)+F15","v":{"$error":"#VALUE!"}},{"$f":"MAX(G13,G19:G29)+H14+F15","v":{"$error":"#VALUE!"}},{"$f":"F14+G15+MAX(H13,H19:H29)","v":{"$error":"#VALUE!"}},{"$f":"F14+MAX(G15,G19:G29)+H13","v":{"$error":"#VALUE!"}},{"$f":"MAX(F14,F19:F29)+G15+H13","v":{"$error":"#VALUE!"}},{"$error":"#VALUE!"},{"$f":"F13+G14+I16","v":{"$error":"#VALUE!"}},{"$f":"G13+I14+MAX(F16,F19:F29)","v":{"$error":"#VALUE!"}},{"$f":"G13+MAX(I14,I19:I29)+F16","v":{"$error":"#VALUE!"}},{"$f":"MAX(G13,G19:G29)+I14+F16","v":{"$error":"#VALUE!"}},{"$f":"F14+I13+MAX(G16,G19:G29)","v":{"$error":"#VALUE!"}},{"$f":"F14+MAX(I13,I19:I29)+G16","v":{"$error":"#VALUE!"}},{"$f":"MAX(F14,F19:F29)+I13+G16","v":{"$error":"#VALUE!"}},{"$error":"#VALUE!"},{"$f":"F13+G14+J17","v":{"$error":"#VALUE!"}},{"$f":"G13+J14+MAX(F17,F19:F29)","v":{"$error":"#VALUE!"}},{"$f":"G13+MAX(J14,J19:J29)+F17","v":{"$error":"#VALUE!"}},{"$f":"MAX(G13,G19:G29)+J14+F17","v":{"$error":"#VALUE!"}},{"$f":"F14+J13+MAX(G17,G19:G29)","v":{"$error":"#VALUE!"}},{"$f":"F14+MAX(J13,J19:J29)+G17","v":{"$error":"#VALUE!"}},{"$f":"MAX(F14,F19:F29)+J13+G17","v":{"$error":"#VALUE!"}},{"$error":"#VALUE!"},{"$f":"F13+G14+K18","v":{"$error":"#VALUE!"}},{"$f":"G13+K14+MAX(F18,F19:F29)","v":{"$error":"#VALUE!"}},{"$f":"G13+MAX(K14,K19:K29)+F18","v":{"$error":"#VALUE!"}},{"$f":"MAX(G13,G19:G29)+K14+F18","v":{"$error":"#VALUE!"}},{"$f":"F14+K13+MAX(G18,G19:G29)","v":{"$error":"#VALUE!"}},{"$f":"F14+MAX(K13,K19:K29)+G18","v":{"$error":"#VALUE!"}},{"$f":"MAX(F14,F19:F29)+K13+G18","v":{"$error":"#VALUE!"}},{"$error":"#VALUE!"},{"$f":"$J$17+$K$18+F13","v":{"$error":"#VALUE!"}},{"$f":"MAX($K$17,$K$19:$K$29)+$F$18+$J13","v":{"$error":"#VALUE!"}},{"$f":"$K$17+MAX($F$18,F$19:F$29)+$J13","v":{"$error":"#VALUE!"}},{"$f":"$K$17+$F$18+MAX($J13,$J$19:$J$29)","v":{"$error":"#VALUE!"}},{"$f":"MAX($F$17,F$19:F$29)+$J$18+K13","v":{"$error":"#VALUE!"}},{"$f":"$F$17+MAX($J$18,J$19:J$29)+K13","v":{"$error":"#VALUE!"}},{"$f":"$F$17+$J$18+MAX(K13,K$19:K$29)","v":{"$error":"#VALUE!"}},{"$error":"#VALUE!"},6,null,{"$f":"IF(BQ13<>0,\" \"&BQ13&\" \",IF(BY13<>0,\" \"&BY13&\" \",IF(CG13<>0,\" \"&CG13&\" \",IF(CO13<>0,\" \"&CO13&\" \",0))))","v":{"$error":"#VALUE!"}}]
[{"$f":"INDEX(Pauljo!$B$60:$L$81,MATCH(7,Pauljo!$N$60:$N$81,0),1)","v":""},{"$f":"INDEX(Pauljo!$B$60:$L$81,MATCH(7,Pauljo!$N$60:$N$81,0),2)","v":""},{"$f":"INDEX(Pauljo!$B$60:$N$81,MATCH(7,Pauljo!$N$60:$N$81,0),3)","v":""},{"$f":"INDEX(Pauljo!$B$60:$N$81,MATCH(7,Pauljo!$N$60:$N$81,0),4)","v":""},{"$f":"INDEX(Pauljo!$B$60:$N$81,MATCH(7,Pauljo!$N$60:$N$81,0),5)","v":""},{"$f":"INDEX(Pauljo!$B$60:$N$81,MATCH(7,Pauljo!$N$60:$N$81,0),6)","v":""},{"$f":"INDEX(Pauljo!$B$60:$N$81,MATCH(7,Pauljo!$N$60:$N$81,0),7)","v":""},{"$f":"INDEX(Pauljo!$B$60:$N$81,MATCH(7,Pauljo!$N$60:$N$81,0),8)","v":""},{"$f":"INDEX(Pauljo!$B$60:$N$81,MATCH(7,Pauljo!$N$60:$N$81,0),9)","v":""},{"$f":"INDEX(Pauljo!$B$60:$N$81,MATCH(7,Pauljo!$N$60:$N$81,0),10)","v":""},{"$f":"INDEX(Pauljo!$B$60:$N$81,MATCH(7,Pauljo!$N$60:$N$81,0),11)","v":""},{"$f":"INDEX(Pauljo!$B$60:$P$81,MATCH(7,Pauljo!$N$60:$N$81,0),15)","v":""},null,null,null,null,"7 8","8 7",null,null,null,null,null,null,null,null,null,null,null,null,null,null,null,null,null,null,null,null,null,null,null,null,null,null,null,null,null,null,null,null,null,null,null,null,null,null,null,null,null,null,null,null,null,null,null,null,null,null,null,{"$f":"H15+G14+I16","v":{"$error":"#VALUE!"}},{"$f":"H14+I15+MAX(G16,G19:G29)","v":{"$error":"#VALUE!"}},{"$f":"H14+MAX(I15,I19:I29)+G16","v":{"$error":"#VALUE!"}},{"$f":"MAX(H14,H19:H29)+I15+G16","v":{"$error":"#VALUE!"}},{"$f":"G15+H16+MAX(I14,I19:I29)","v":{"$error":"#VALUE!"}},{"$f":"G15+MAX(H16,H19:H29)+I14","v":{"$error":"#VALUE!"}},{"$f":"MAX(G15,G19:G29)+H16+I14","v":{"$error":"#VALUE!"}},{"$error":"#VALUE!"},{"$f":"G14+H15+J17","v":{"$error":"#VALUE!"}},{"$f":"H14+J15+MAX(G17,G19:G29)","v":{"$error":"#VALUE!"}},{"$f":"H14+MAX(J15,J19:J29)+G17","v":{"$error":"#VALUE!"}},{"$f":"MAX(H14,H19:H29)+J15+G17","v":{"$error":"#VALUE!"}},{"$f":"G15+J14+MAX(H17,H19:H29)","v":{"$error":"#VALUE!"}},{"$f":"G15+MAX(J14,J19:J29)+H17","v":{"$error":"#VALUE!"}},{"$f":"MAX(G15,G19:G29)+J14+H17","v":{"$error":"#VALUE!"}},{"$error":"#VALUE!"},{"$f":"G14+H15+K18","v":{"$error":"#VALUE!"}},{"$f":"H14+K15+MAX(G18,G19:G29)","v":{"$error":"#VALUE!"}},{"$f":"H14+MAX(K15,K19:K29)+G18","v":{"$error":"#VALUE!"}},{"$f":"MAX(H14,H19:H29)+K15+G18","v":{"$error":"#VALUE!"}},{"$f":"G15+K14+MAX(H18,H19:H29)","v":{"$error":"#VALUE!"}},{"$f":"G15+MAX(K14,K19:K29)+H18","v":{"$error":"#VALUE!"}},{"$f":"MAX(G15,G19:G29)+K14+H18","v":{"$error":"#VALUE!"}},{"$error":"#VALUE!"},{"$f":"$J$17+$K$18+G14","v":{"$error":"#VALUE!"}},{"$f":"MAX($K$17,$K$19:$K$29)+$G$18+$J14","v":{"$error":"#VALUE!"}},{"$f":"$K$17+MAX($G$18,G$19:G$29)+$J14","v":{"$error":"#VALUE!"}},{"$f":"$K$17+$G$18+MAX($J14,$J$19:$J$29)","v":{"$error":"#VALUE!"}},{"$f":"MAX($G$17,G$19:G$29)+$J$18+K14","v":{"$error":"#VALUE!"}},{"$f":"$G$17+MAX($J$18,J$19:J$29)+K14","v":{"$error":"#VALUE!"}},{"$f":"$G$17+$J$18+MAX(K14,K$19:K$29)","v":{"$error":"#VALUE!"}},{"$error":"#VALUE!"},7,null,{"$f":"IF(BY14<>0,\" \"&BY14&\" \",IF(CG14<>0,\" \"&CG14&\" \",IF(CO14<>0,\" \"&CO14&\" \",0)))","v":{"$error":"#VALUE!"}}]
[{"$f":"INDEX(Pauljo!$B$60:$L$81,MATCH(8,Pauljo!$N$60:$N$81,0),1)","v":""},{"$f":"INDEX(Pauljo!$B$60:$L$81,MATCH(8,Pauljo!$N$60:$N$81,0),2)","v":""},{"$f":"INDEX(Pauljo!$B$60:$N$81,MATCH(8,Pauljo!$N$60:$N$81,0),3)","v":""},{"$f":"INDEX(Pauljo!$B$60:$N$81,MATCH(8,Pauljo!$N$60:$N$81,0),4)","v":""},{"$f":"INDEX(Pauljo!$B$60:$N$81,MATCH(8,Pauljo!$N$60:$N$81,0),5)","v":""},{"$f":"INDEX(Pauljo!$B$60:$N$81,MATCH(8,Pauljo!$N$60:$N$81,0),6)","v":""},{"$f":"INDEX(Pauljo!$B$60:$N$81,MATCH(8,Pauljo!$N$60:$N$81,0),7)","v":""},{"$f":"INDEX(Pauljo!$B$60:$N$81,MATCH(8,Pauljo!$N$60:$N$81,0),8)","v":""},{"$f":"INDEX(Pauljo!$B$60:$N$81,MATCH(8,Pauljo!$N$60:$N$81,0),9)","v":""},{"$f":"INDEX(Pauljo!$B$60:$N$81,MATCH(8,Pauljo!$N$60:$N$81,0),10)","v":""},{"$f":"INDEX(Pauljo!$B$60:$N$81,MATCH(8,Pauljo!$N$60:$N$81,0),11)","v":""},{"$f":"INDEX(Pauljo!$B$60:$P$81,MATCH(8,Pauljo!$N$60:$N$81,0),15)","v":""},null,null,null,null,"8 9","9 8",null,null,null,null,null,null,null,null,null,null,null,null,null,null,null,null,null,null,null,null,null,null,null,null,null,null,null,null,null,null,null,null,null,null,null,null,null,null,null,null,null,null,null,null,null,null,null,null,null,null,null,null,null,null,null,null,null,null,null,{"$f":"H15+I16+J17","v":{"$error":"#VALUE!"}},{"$f":"I15+J16+MAX(H17,H19:H29)","v":{"$error":"#VALUE!"}},{"$f":"I15+MAX(J16,J19:J29)+H17","v":{"$error":"#VALUE!"}},{"$f":"MAX(I15,I19:I29)+J16+H17","v":{"$error":"#VALUE!"}},{"$f":"H16+I17+MAX(J15,J19:J29)","v":{"$error":"#VALUE!"}},{"$f":"H16+MAX(I17,I19:I29)+J15","v":{"$error":"#VALUE!"}},{"$f":"MAX(H16,H19:H29)+I17+J15","v":{"$error":"#VALUE!"}},{"$error":"#VALUE!"},{"$f":"H15+I16+K18","v":{"$error":"#VALUE!"}},{"$f":"I15+K16+MAX(H18,H19:H29)","v":{"$error":"#VALUE!"}},{"$f":"I15+MAX(K16,K19:K29)+H18","v":{"$error":"#VALUE!"}},{"$f":"MAX(I15,I19:I29)+K16+H18","v":{"$error":"#VALUE!"}},{"$f":"H16+K15+MAX(I18,I19:I29)","v":{"$error":"#VALUE!"}},{"$f":"H16+MAX(K15,K19:K29)+I18","v":{"$error":"#VALUE!"}},{"$f":"MAX(H16,H19:H29)+K15+I18","v":{"$error":"#VALUE!"}},{"$error":"#VALUE!"},{"$f":"$J$17+$K$18+H15","v":{"$error":"#VALUE!"}},{"$f":"MAX($K$17,$K$19:$K$29)+$H$18+$J15","v":{"$error":"#VALUE!"}},{"$f":"$K$17+MAX($H$18,H$19:H$29)+$J15","v":{"$error":"#VALUE!"}},{"$f":"$K$17+$H$18+MAX($J15,$J$19:$J$29)","v":{"$error":"#VALUE!"}},{"$f":"MAX($H$17,H$19:H$29)+$J$18+K15","v":{"$error":"#VALUE!"}},{"$f":"$H$17+MAX($J$18,J$19:J$29)+K15","v":{"$error":"#VALUE!"}},{"$f":"$H$17+$J$18+MAX(K15,K$19:K$29)","v":{"$error":"#VALUE!"}},{"$error":"#VALUE!"},8,null,{"$f":"IF(CG15<>0,\" \"&CG15&\" \",IF(CO15<>0,\" \"&CO15&\" \",0))","v":{"$error":"#VALUE!"}}]
[{"$f":"INDEX(Pauljo!$B$60:$L$81,MATCH(9,Pauljo!$N$60:$N$81,0),1)","v":""},{"$f":"INDEX(Pauljo!$B$60:$L$81,MATCH(9,Pauljo!$N$60:$N$81,0),2)","v":""},{"$f":"INDEX(Pauljo!$B$60:$N$81,MATCH(9,Pauljo!$N$60:$N$81,0),3)","v":""},{"$f":"INDEX(Pauljo!$B$60:$N$81,MATCH(9,Pauljo!$N$60:$N$81,0),4)","v":""},{"$f":"INDEX(Pauljo!$B$60:$N$81,MATCH(9,Pauljo!$N$60:$N$81,0),5)","v":""},{"$f":"INDEX(Pauljo!$B$60:$N$81,MATCH(9,Pauljo!$N$60:$N$81,0),6)","v":""},{"$f":"INDEX(Pauljo!$B$60:$N$81,MATCH(9,Pauljo!$N$60:$N$81,0),7)","v":""},{"$f":"INDEX(Pauljo!$B$60:$N$81,MATCH(9,Pauljo!$N$60:$N$81,0),8)","v":""},{"$f":"INDEX(Pauljo!$B$60:$N$81,MATCH(9,Pauljo!$N$60:$N$81,0),9)","v":""},{"$f":"INDEX(Pauljo!$B$60:$N$81,MATCH(9,Pauljo!$N$60:$N$81,0),10)","v":""},{"$f":"INDEX(Pauljo!$B$60:$N$81,MATCH(9,Pauljo!$N$60:$N$81,0),11)","v":""},{"$f":"INDEX(Pauljo!$B$60:$P$81,MATCH(9,Pauljo!$N$60:$N$81,0),15)","v":""},null,null,null,null,"9 10","10 9",null,null,null,null,null,null,null,null,null,null,null,null,null,null,null,null,null,null,null,null,null,null,null,null,null,null,null,null,null,null,null,null,null,null,null,null,null,null,null,null,null,null,null,null,null,null,null,null,null,null,null,null,null,null,null,null,null,null,null,null,null,null,null,null,null,null,null,{"$f":"I16+J17+K18","v":{"$error":"#VALUE!"}},{"$f":"J16+K17+MAX(I18,I19:I29)","v":{"$error":"#VALUE!"}},{"$f":"J16+MAX(K17,K19:K29)+I18","v":{"$error":"#VALUE!"}},{"$f":"MAX(J16,J19:J29)+K17+I18","v":{"$error":"#VALUE!"}},{"$f":"I17+J18+MAX(K16,K19:K29)","v":{"$error":"#VALUE!"}},{"$f":"I17+MAX(J18,J19:J29)+K16","v":{"$error":"#VALUE!"}},{"$f":"MAX(I17,I19:I29)+J18+K16","v":{"$error":"#VALUE!"}},{"$error":"#VALUE!"},null,null,null,null,null,null,null,null,null,null,{"$f":"IF(CO16<>0,\" \"&CO16&\" \",0)","v":{"$error":"#VALUE!"}}]
[{"$f":"INDEX(Pauljo!$B$60:$L$81,MATCH(10,Pauljo!$N$60:$N$81,0),1)","v":""},{"$f":"INDEX(Pauljo!$B$60:$L$81,MATCH(10,Pauljo!$N$60:$N$81,0),2)","v":""},{"$f":"INDEX(Pauljo!$B$60:$N$81,MATCH(10,Pauljo!$N$60:$N$81,0),3)","v":""},{"$f":"INDEX(Pauljo!$B$60:$N$81,MATCH(10,Pauljo!$N$60:$N$81,0),4)","v":""},{"$f":"INDEX(Pauljo!$B$60:$N$81,MATCH(10,Pauljo!$N$60:$N$81,0),5)","v":""},{"$f":"INDEX(Pauljo!$B$60:$N$81,MATCH(10,Pauljo!$N$60:$N$81,0),6)","v":""},{"$f":"INDEX(Pauljo!$B$60:$N$81,MATCH(10,Pauljo!$N$60:$N$81,0),7)","v":""},{"$f":"INDEX(Pauljo!$B$60:$N$81,MATCH(10,Pauljo!$N$60:$N$81,0),8)","v":""},{"$f":"INDEX(Pauljo!$B$60:$N$81,MATCH(10,Pauljo!$N$60:$N$81,0),9)","v":""},{"$f":"INDEX(Pauljo!$B$60:$N$81,MATCH(10,Pauljo!$N$60:$N$81,0),10)","v":""},{"$f":"INDEX(Pauljo!$B$60:$N$81,MATCH(10,Pauljo!$N$60:$N$81,0),11)","v":""},{"$f":"INDEX(Pauljo!$B$60:$P$81,MATCH(10,Pauljo!$N$60:$N$81,0),15)","v":""},null,null,null,null,"1 3","3 1",null,null,"3 1",null,null,null,null,null,null,null,null,null,null,null,null,null,null,null,null,null,null,null,null,null,null,null,null,null,null,null,null,null,null,null,null,null,null,null,null,null,null,null,null,null,null,null,null,null,null,null,null,null,null,null,null,null,null,null,null,null,null,null,null,null,null,null,null,null,null,null,null,null,null,null,null,null,null,null,null,null,null,null,null,null,null,{"$f":"IF(CO8<>0,\" \"&CO8&\" \",0)","v":{"$error":"#VALUE!"}},{"$f":"IF(CW8<>0,\" \"&CW8&\" \",IF(CW9<>0,\" \"&CW9&\" \",IF(CW10<>0,\" \"&CW10&\" \",IF(CW11<>0,\" \"&CW11&\" \",IF(CW12<>0,\" \"&CW12&\" \",IF(CW13<>0,\" \"&CW13&\" \",IF(CW14<>0,\" \"&CW14&\" \",IF(CW15<>0,\" \"&CW15&\" \",0))))))))","v":{"$error":"#VALUE!"}},null,null,{"$f":"IF(CZ8<>0,\" \"&CZ8&\" \",IF(CZ9<>0,\" \"&CZ9&\" \",IF(CZ10<>0,\" \"&CZ10&\" \",IF(CZ11<>0,\" \"&CZ11&\" \",IF(CZ12<>0,\" \"&CZ12&\" \",IF(CZ13<>0,\" \"&CZ13&\" \",IF(CZ14<>0,\" \"&CZ14&\" \",IF(CZ15<>0,\" \"&CZ15&\" \",0))))))))","v":{"$error":"#VALUE!"}}]
[{"$f":"INDEX(Pauljo!$B$60:$L$81,MATCH(11,Pauljo!$N$60:$N$81,0),1)","v":""},{"$f":"INDEX(Pauljo!$B$60:$L$81,MATCH(11,Pauljo!$N$60:$N$81,0),2)","v":""},{"$f":"INDEX(Pauljo!$B$60:$N$81,MATCH(11,Pauljo!$N$60:$N$81,0),3)","v":""},{"$f":"INDEX(Pauljo!$B$60:$N$81,MATCH(11,Pauljo!$N$60:$N$81,0),4)","v":""},{"$f":"INDEX(Pauljo!$B$60:$N$81,MATCH(11,Pauljo!$N$60:$N$81,0),5)","v":""},{"$f":"INDEX(Pauljo!$B$60:$N$81,MATCH(11,Pauljo!$N$60:$N$81,0),6)","v":""},{"$f":"INDEX(Pauljo!$B$60:$N$81,MATCH(11,Pauljo!$N$60:$N$81,0),7)","v":""},{"$f":"INDEX(Pauljo!$B$60:$N$81,MATCH(11,Pauljo!$N$60:$N$81,0),8)","v":""},{"$f":"INDEX(Pauljo!$B$60:$N$81,MATCH(11,Pauljo!$N$60:$N$81,0),9)","v":""},{"$f":"INDEX(Pauljo!$B$60:$N$81,MATCH(11,Pauljo!$N$60:$N$81,0),10)","v":""},{"$f":"INDEX(Pauljo!$B$60:$N$81,MATCH(11,Pauljo!$N$60:$N$81,0),11)","v":""},{"$f":"INDEX(Pauljo!$B$60:$P$81,MATCH(11,Pauljo!$N$60:$N$81,0),15)","v":""},null,null,null,null,null,null,null,5,"1 3",{"$f":"$A$8+$C$10+E12","v":{"$error":"#VALUE!"}},{"$f":"$C$8+E$10+MAX($A12,$A$19:$A$29)","v":{"$error":"#VALUE!"}},{"$f":"$C$8+MAX(E$10,$E$19:$E$29)+$A12","v":{"$error":"#VALUE!"}},{"$f":"MAX($C$8,$C$19:$C$29)+E$10+$A12","v":{"$error":"#VALUE!"}},{"$f":"MAX($A$10,$A$19:$A$29)+$C12+E$8","v":{"$error":"#VALUE!"}},{"$f":"$A$10+MAX($C12,$C$19:$C$29)+E$8","v":{"$error":"#VALUE!"}},{"$f":"$A$10+$C12+MAX(E$8,E$19:E$29)","v":{"$error":"#VALUE!"}},{"$f":"IF(OR(V18<W18,V18<X18,V18<Y18),\"rotation \"&$T18&\" \"&U$18&\" - \",IF(OR(V18<Z18,V18<AA18,V18<AB18),\"rotation \"&$T18&\" \"&U$17&\" - \",0))","v":{"$error":"#VALUE!"}},null,"1 4",null,null,null,null,null,null,null,null,"1 5","5 1",null,null,null,null,null,null,null,"1 6","6 1",null,null,null,null,null,null,null,"1 7","7 1",null,null,null,null,null,null,null,"1 8","8 1",null,null,null,null,null,null,null,"1 9","9 1",null,null,null,null,null,"2 4","4 2",null,null,null,null,null,null,"2 5","5 2",null,null,null,null,null,null,"2 6","6 2",null,null,null,null,null,"7 2","2 7",{"$f":"IF(CZ17<>0,\" \"&CZ17&\" \",IF(DD17<>0,\" \"&DD17&\" \",IF(CZ16<>0,\" \"&CZ16&\" \",IF(DD19<>0,\" \"&DD19&\" \",IF(DA17<>0,\" \"&DA17&\" \",IF(DD20<>0,\" \"&DD20&\" \",0))))))","v":{"$error":"#VALUE!"}},null,null,null,null,null,null,"2 8","8 2",null,null,null,null,null,null,"2 9","9 2",null,null,null,null,null,null,"3 5","5 3",null,null,null,null,null,null,"3 6","6 3",null,null,null,null,null,null,"3 7","7 3",null,null,null,null,null,"3 8","8 3",null,null,null,null,null,null,null,"3 9","9 3",null,null,null,null,null,"4 6","6 4",null,null,null,null,null,null,"4 7","7 4",null,null,null,null,null,null,"4 8","8 4",null,null,null,null,null,null,"4 9","9 4",null,null,null,null,null,null,"5 7","7 5",null,null,null,null,null,null,"5 8","8 5",null,null,null,null,null,null,"5 9","9 5",null,null,null,null,null,null,"6 8","8 6",null,null,null,null,null,null,"6 9","9 6",null,null,null,null,null,null,"7 9","9 7"]
[{"$f":"INDEX(Pauljo!$B$60:$L$81,MATCH(12,Pauljo!$N$60:$N$81,0),1)","v":""},{"$f":"INDEX(Pauljo!$B$60:$L$81,MATCH(12,Pauljo!$N$60:$N$81,0),2)","v":""},{"$f":"INDEX(Pauljo!$B$60:$N$81,MATCH(12,Pauljo!$N$60:$N$81,0),3)","v":""},{"$f":"INDEX(Pauljo!$B$60:$N$81,MATCH(12,Pauljo!$N$60:$N$81,0),4)","v":""},{"$f":"INDEX(Pauljo!$B$60:$N$81,MATCH(12,Pauljo!$N$60:$N$81,0),5)","v":""},{"$f":"INDEX(Pauljo!$B$60:$N$81,MATCH(12,Pauljo!$N$60:$N$81,0),6)","v":""},{"$f":"INDEX(Pauljo!$B$60:$N$81,MATCH(12,Pauljo!$N$60:$N$81,0),7)","v":""},{"$f":"INDEX(Pauljo!$B$60:$N$81,MATCH(12,Pauljo!$N$60:$N$81,0),8)","v":""},{"$f":"INDEX(Pauljo!$B$60:$N$81,MATCH(12,Pauljo!$N$60:$N$81,0),9)","v":""},{"$f":"INDEX(Pauljo!$B$60:$N$81,MATCH(12,Pauljo!$N$60:$N$81,0),10)","v":""},{"$f":"INDEX(Pauljo!$B$60:$N$81,MATCH(12,Pauljo!$N$60:$N$81,0),11)","v":""},null,null,null,null,null,null,null,null,6,null,null,{"$f":"$A$8+$C$10+F13","v":{"$error":"#VALUE!"}},{"$f":"$C$8+F$10+MAX($A13,$A$19:$A$29)","v":{"$error":"#VALUE!"}},{"$f":"$C$8+MAX(F$10,$F$19:$F$29)+$A13","v":{"$error":"#VALUE!"}},{"$f":"MAX($C$8,$C$19:$C$29)+F$10+$A13","v":{"$error":"#VALUE!"}},{"$f":"MAX($A$10,$A$19:$A$29)+$C13+F$8","v":{"$error":"#VALUE!"}},{"$f":"$A$10+MAX($C13,$C$19:$C$29)+F$8","v":{"$error":"#VALUE!"}},{"$f":"$A$10+$C13+MAX(F$8,F$19:F$29)","v":{"$error":"#VALUE!"}},{"$f":"IF(OR(W19<X19,W19<Y19,W19<Z19),\"rotation \"&$T19&\" \"&U$18&\" - \",IF(OR(W19<AA19,W19<AB19,W19<AC19),\"rotation \"&$T19&\" \"&U$17&\" - \",0))","v":{"$error":"#VALUE!"}},{"$f":"$A$8+$D$11+F13","v":{"$error":"#VALUE!"}},{"$f":"$D$8+F$11+MAX($A13,$A$19:$A$29)","v":{"$error":"#VALUE!"}},{"$f":"$D$8+MAX(F$11,F$19:F$30)+$A13","v":{"$error":"#VALUE!"}},{"$f":"MAX($D$8,$D$19:$D$30)+F$11+$A13","v":{"$error":"#VALUE!"}},{"$f":"MAX($A$11,$A$19:$A$30)+$D13+F$8","v":{"$error":"#VALUE!"}},{"$f":"$A$11+MAX($D13,$D$19:$D$30)+F$8","v":{"$error":"#VALUE!"}},{"$f":"$A$11+$D13+MAX(F$8,F$19:F$30)","v":{"$error":"#VALUE!"}},{"$f":"IF(OR(AE19<AF19,AE19<AG19,AE19<AH19),\"rotation \"&$T19&\" \"&AE$18&\" - \",IF(OR(AE19<AI19,AE19<AJ19,AE19<AK19),\"rotation \"&$T19&\" \"&AE$18&\" - \",0))","v":{"$error":"#VALUE!"}},null,null,null,null,null,null,null,null,null,null,null,null,null,null,null,null,null,null,null,null,null,null,null,null,null,null,null,null,null,null,null,null,null,null,null,null,null,null,null,null,null,null,null,6,{"$f":"$B$9+$D$11+F13","v":{"$error":"#VALUE!"}},{"$f":"$D$9+F$11+MAX($B13,$B$19:$B$29)","v":{"$error":"#VALUE!"}},{"$f":"$D$9+MAX(F$11,F$19:F$30)+$B13","v":{"$error":"#VALUE!"}},{"$f":"MAX($D$9,$D$19:$D$30)+F$11+$B13","v":{"$error":"#VALUE!"}},{"$f":"MAX($B$11,$B$19:$B$30)+$D13+F$9","v":{"$error":"#VALUE!"}},{"$f":"$B$11+MAX($D13,$D$19:$D$30)+F$9","v":{"$error":"#VALUE!"}},{"$f":"$B$11+$D13+MAX(F$9,F$19:F$30)","v":{"$error":"#VALUE!"}},{"$f":"IF(OR(CE19<CF19,CE19<CG19,CE19<CH19),\"rotation \"&$CD19&\" \"&CE$18&\" - \",IF(OR(CE19<CI19,CE19<CJ19,CE19<CK19),\"rotation \"&$CD19&\" \"&CF$18&\" - \",0))","v":{"$error":"#VALUE!"}},null,null,null,null,null,null,null,null,null,null,null,null,null,null,null,null,null,{"$f":"IF(AK29<>0,\" \"&AK29&\" \",IF(AZ25<>0,\" \"&AZ25&\" \",IF(AR25<>0,\" \"&AR25&\" \",IF(BP25<>0,\" \"&BP25&\" \",IF(CQ25<>0,\" \"&CQ25&\" \",IF(DK25<>0,\" \"&DK25&\" \",IF(DT25<>0,\" \"&DT25&\" \",IF(EM26<>0,\" \"&EM26&\" \",0))))))))","v":{"$error":"#N/A"}}]
[{"$f":"INDEX(Pauljo!$B$60:$L$81,MATCH(13,Pauljo!$N$60:$N$81,0),1)","v":""},{"$f":"INDEX(Pauljo!$B$60:$L$81,MATCH(13,Pauljo!$N$60:$N$81,0),2)","v":""},{"$f":"INDEX(Pauljo!$B$60:$N$81,MATCH(13,Pauljo!$N$60:$N$81,0),3)","v":""},{"$f":"INDEX(Pauljo!$B$60:$N$81,MATCH(13,Pauljo!$N$60:$N$81,0),4)","v":""},{"$f":"INDEX(Pauljo!$B$60:$N$81,MATCH(13,Pauljo!$N$60:$N$81,0),5)","v":""},{"$f":"INDEX(Pauljo!$B$60:$N$81,MATCH(13,Pauljo!$N$60:$N$81,0),6)","v":""},{"$f":"INDEX(Pauljo!$B$60:$N$81,MATCH(13,Pauljo!$N$60:$N$81,0),7)","v":""},{"$f":"INDEX(Pauljo!$B$60:$N$81,MATCH(13,Pauljo!$N$60:$N$81,0),8)","v":""},{"$f":"INDEX(Pauljo!$B$60:$N$81,MATCH(13,Pauljo!$N$60:$N$81,0),9)","v":""},{"$f":"INDEX(Pauljo!$B$60:$N$81,MATCH(13,Pauljo!$N$60:$N$81,0),10)","v":""},{"$f":"INDEX(Pauljo!$B$60:$N$81,MATCH(13,Pauljo!$N$60:$N$81,0),11)","v":""},null,null,null,null,null,null,null,null,7,null,null,null,{"$f":"$A$8+$C$10+G14","v":{"$error":"#VALUE!"}},{"$f":"$C$8+G$10+MAX($A14,$A$19:$A$29)","v":{"$error":"#VALUE!"}},{"$f":"$C$8+MAX(G$10,$G$19:$G$29)+$A14","v":{"$error":"#VALUE!"}},{"$f":"MAX($C$8,$C$19:$C$29)+G$10+$A14","v":{"$error":"#VALUE!"}},{"$f":"MAX($A$10,$A$19:$A$29)+$C14+G$8","v":{"$error":"#VALUE!"}},{"$f":"$A$10+MAX($C14,$C$19:$C$29)+G$8","v":{"$error":"#VALUE!"}},{"$f":"$A$10+$C14+MAX(G$8,G$19:G$29)","v":{"$error":"#VALUE!"}},{"$f":"IF(OR(X20<Y20,X20<Z20,X20<AA20),\"rotation \"&$T20&\" \"&U$18&\" - \",IF(OR(X20<AB20,X20<AC20,X20<AD20),\"rotation \"&$T20&\" \"&U$17&\" - \",0))","v":{"$error":"#VALUE!"}},{"$f":"$A$8+$D$11+G14","v":{"$error":"#VALUE!"}},{"$f":"$D$8+G$11+MAX($A14,$A$19:$A$29)","v":{"$error":"#VALUE!"}},{"$f":"$D$8+MAX(G$11,G$19:G$30)+$A14","v":{"$error":"#VALUE!"}},{"$f":"MAX($D$8,$D$19:$D$30)+G$11+$A14","v":{"$error":"#VALUE!"}},{"$f":"MAX($A$11,$A$19:$A$30)+$D14+G$8","v":{"$error":"#VALUE!"}},{"$f":"$A$11+MAX($D14,$D$19:$D$30)+G$8","v":{"$error":"#VALUE!"}},{"$f":"$A$11+$D14+MAX(G$8,G$19:G$30)","v":{"$error":"#VALUE!"}},{"$f":"IF(OR(AF20<AG20,AF20<AH20,AF20<AI20),\"rotation \"&$T20&\" \"&AE$18&\" - \",IF(OR(AF20<AJ20,AF20<AK20,AF20<AL20),\"rotation \"&$T20&\" \"&AE$18&\" - \",0))","v":{"$error":"#VALUE!"}},{"$f":"$A$8+$E$12+G14","v":{"$error":"#VALUE!"}},{"$f":"MAX($E$8,$E$19:$E$29)+G$12+$A14","v":{"$error":"#VALUE!"}},{"$f":"$E$8+MAX(G$12,G$19:G$29)+$A14","v":{"$error":"#VALUE!"}},{"$f":"$E$8+G$12+MAX($A14,$A$19:$A$29)","v":{"$error":"#VALUE!"}},{"$f":"MAX($A$12,A$19:A$29)+$E14+G$8","v":{"$error":"#VALUE!"}},{"$f":"$A$12+MAX($E14,$E$19:$E$29)+G$8","v":{"$error":"#VALUE!"}},{"$f":"$A$12+$E14+MAX(G$8,G$19:G$30)","v":{"$error":"#VALUE!"}},{"$f":"IF(OR(AN20<AO20,AN20<AP20,AN20<AQ20),\"rotation \"&$T20&\" \"&AN$18&\" - \",IF(OR(AN20<AR20,AN20<AS20,AN20<AT20),\"rotation \"&$T20&\" \"&AO$18&\" - \",0))","v":{"$error":"#VALUE!"}},null,null,null,null,null,null,null,null,null,null,null,null,null,null,null,null,null,null,null,null,null,null,null,null,null,null,null,null,null,null,null,null,null,null,null,7,{"$f":"$B$9+$D$11+G14","v":{"$error":"#VALUE!"}},{"$f":"$D$9+G$11+MAX($B14,$B$19:$B$29)","v":{"$error":"#VALUE!"}},{"$f":"$D$9+MAX(G$11,G$19:G$30)+$B14","v":{"$error":"#VALUE!"}},{"$f":"MAX($D$9,$D$19:$D$30)+G$11+$B14","v":{"$error":"#VALUE!"}},{"$f":"MAX($B$11,$B$19:$B$30)+$D14+G$9","v":{"$error":"#VALUE!"}},{"$f":"$B$11+MAX($D14,$D$19:$D$30)+G$9","v":{"$error":"#VALUE!"}},{"$f":"$B$11+$D14+MAX(G$9,G$19:G$30)","v":{"$error":"#VALUE!"}},{"$f":"$B$9+$E$12+G14","v":{"$error":"#VALUE!"}},{"$f":"MAX($E$9,$E$19:$E$29)+G$12+$B14","v":{"$error":"#VALUE!"}},{"$f":"$E$9+MAX(G$12,G$19:G$29)+$B14","v":{"$error":"#VALUE!"}},{"$f":"$E$9+G$12+MAX($B14,$B$19:$B$29)","v":{"$error":"#VALUE!"}},{"$f":"MAX($B$12,B$19:B$29)+$E14+G$9","v":{"$error":"#VALUE!"}},{"$f":"$B$12+MAX($E14,$E$19:$E$29)+G$9","v":{"$error":"#VALUE!"}},{"$f":"$B$12+$E14+MAX(G$9,G$19:G$30)","v":{"$error":"#VALUE!"}},{"$f":"IF(OR(CM20<CN20,CM20<CO20,CM20<CP20),\"rotation \"&$CE20&\" \"&CM$18&\" - \",IF(OR(CM20<CQ20,CM20<CR20,CM20<CS20),\"rotation \"&$CE20&\" \"&CN$18&\" - \",0))","v":{"$error":"#VALUE!"}},{"$f":"IF(OR(CF20<CG20,CF20<CH20,CF20<CI20),\"rotation \"&$CE20&\" \"&CE$18&\" - \",IF(OR(CF20<CJ20,CF20<CK20,CF20<CL20),\"rotation \"&$CE20&\" \"&CF$18&\" - \",0))","v":{"$error":"#VALUE!"}},null,null,null,null,null,null,null,null,{"$f":"IF(FP27<>0,\" \"&FP27&\" \",IF(GV28<>0,\" \"&GV28&\" \",IF(FG26<>0,\" \"&FG26&\" \",IF(HU28<>0,\" \"&HU28&\" \",0))))","v":{"$error":"#VALUE!"}},null,null,null,null,null,null,null,null,null,null,null,null,null,null,null,null,null,null,null,null,null,null,{"$f":"$C$10+$E$12+G14","v":{"$error":"#VALUE!"}},{"$f":"MAX($E$10,$E$19:$E$29)+G$12+$C14","v":{"$error":"#VALUE!"}},{"$f":"$E$10+MAX(G$12,G$19:G$29)+$C14","v":{"$error":"#VALUE!"}},{"$f":"$E$10+G$12+MAX($C14,$C$19:$C$29)","v":{"$error":"#VALUE!"}},{"$f":"MAX($C$12,C$19:C$29)+$E14+G$10","v":{"$error":"#VALUE!"}},{"$f":"$C$12+MAX($E14,$E$19:$E$29)+G$10","v":{"$error":"#VALUE!"}},{"$f":"$C$12+$E14+MAX(G$10,G$19:G$30)","v":{"$error":"#VALUE!"}},{"$f":"IF(OR(EA20<EB20,EA20<EC20,EA20<ED20),\"rotation \"&CE20&\" \"&EA$18&\" - \",IF(OR(EA20<EE20,EA20<EF20,EA20<EG20),\"rotation \"&$CE20&\" \"&EB$18&\" - \",0))","v":{"$error":"#VALUE!"}}]
[{"$f":"INDEX(Pauljo!$B$60:$L$81,MATCH(14,Pauljo!$N$60:$N$81,0),1)","v":""},{"$f":"INDEX(Pauljo!$B$60:$L$81,MATCH(14,Pauljo!$N$60:$N$81,0),2)","v":""},{"$f":"INDEX(Pauljo!$B$60:$N$81,MATCH(14,Pauljo!$N$60:$N$81,0),3)","v":""},{"$f":"INDEX(Pauljo!$B$60:$N$81,MATCH(14,Pauljo!$N$60:$N$81,0),4)","v":""},{"$f":"INDEX(Pauljo!$B$60:$N$81,MATCH(14,Pauljo!$N$60:$N$81,0),5)","v":""},{"$f":"INDEX(Pauljo!$B$60:$N$81,MATCH(14,Pauljo!$N$60:$N$81,0),6)","v":""},{"$f":"INDEX(Pauljo!$B$60:$N$81,MATCH(14,Pauljo!$N$60:$N$81,0),7)","v":""},{"$f":"INDEX(Pauljo!$B$60:$N$81,MATCH(14,Pauljo!$N$60:$N$81,0),8)","v":""},{"$f":"INDEX(Pauljo!$B$60:$N$81,MATCH(14,Pauljo!$N$60:$N$81,0),9)","v":""},{"$f":"INDEX(Pauljo!$B$60:$N$81,MATCH(14,Pauljo!$N$60:$N$81,0),10)","v":""},{"$f":"INDEX(Pauljo!$B$60:$N$81,MATCH(14,Pauljo!$N$60:$N$81,0),11)","v":""},null,null,null,null,null,null,null,null,8,null,null,null,null,{"$f":"$A$8+$C$10+H15","v":{"$error":"#VALUE!"}},{"$f":"$C$8+H$10+MAX($A15,$A$19:$A$29)","v":{"$error":"#VALUE!"}},{"$f":"$C$8+MAX(H$10,$H$19:$H$29)+$A15","v":{"$error":"#VALUE!"}},{"$f":"MAX($C$8,$C$19:$C$29)+H$10+$A15","v":{"$error":"#VALUE!"}},{"$f":"MAX($A$10,$A$19:$A$29)+$C15+H$8","v":{"$error":"#VALUE!"}},{"$f":"$A$10+MAX($C15,$C$19:$C$29)+H$8","v":{"$error":"#VALUE!"}},{"$f":"$A$10+$C15+MAX(H$8,H$19:H$29)","v":{"$error":"#VALUE!"}},{"$f":"IF(OR(Y21<Z21,Y21<AA21,Y21<AB21),\"rotation \"&$T21&\" \"&U$18&\" - \",IF(OR(Y21<AC21,Y21<AD21,Y21<AE21),\"rotation \"&$T21&\" \"&U$17&\" - \",0))","v":{"$error":"#VALUE!"}},{"$f":"$A$8+$D$11+H15","v":{"$error":"#VALUE!"}},{"$f":"$D$8+H$11+MAX($A15,$A$19:$A$29)","v":{"$error":"#VALUE!"}},{"$f":"$D$8+MAX(H$11,H$19:H$30)+$A15","v":{"$error":"#VALUE!"}},{"$f":"MAX($D$8,$D$19:$D$30)+H$11+$A15","v":{"$error":"#VALUE!"}},{"$f":"MAX($A$11,$A$19:$A$30)+$D15+H$8","v":{"$error":"#VALUE!"}},{"$f":"$A$11+MAX($D15,$D$19:$D$30)+H$8","v":{"$error":"#VALUE!"}},{"$f":"$A$11+$D15+MAX(H$8,H$19:H$30)","v":{"$error":"#VALUE!"}},{"$f":"IF(OR(AG21<AH21,AG21<AI21,AG21<AJ21),\"rotation \"&$T21&\" \"&AE$18&\" - \",IF(OR(AG21<AK21,AG21<AL21,AG21<AM21),\"rotation \"&$T21&\" \"&AE$18&\" - \",0))","v":{"$error":"#VALUE!"}},{"$f":"$A$8+$E$12+H15","v":{"$error":"#VALUE!"}},{"$f":"MAX($E$8,$E$19:$E$29)+H$12+$A15","v":{"$error":"#VALUE!"}},{"$f":"$E$8+MAX(H$12,H$19:H$29)+$A15","v":{"$error":"#VALUE!"}},{"$f":"$E$8+H$12+MAX($A15,$A$19:$A$29)","v":{"$error":"#VALUE!"}},{"$f":"MAX($A$12,A$19:A$29)+$E15+H$8","v":{"$error":"#VALUE!"}},{"$f":"$A$12+MAX($E15,$E$19:$E$29)+H$8","v":{"$error":"#VALUE!"}},{"$f":"$A$12+$E15+MAX(H$8,H$19:H$30)","v":{"$error":"#VALUE!"}},{"$f":"IF(OR(AO21<AP21,AO21<AQ21,AO21<AR21),\"rotation \"&$T21&\" \"&AN$18&\" - \",IF(OR(AO21<AS21,AO21<AT21,AO21<AU21),\"rotation \"&$T21&\" \"&AO$18&\" - \",0))","v":{"$error":"#VALUE!"}},{"$f":"$A$8+$F$13+H15","v":{"$error":"#VALUE!"}},{"$f":"MAX($F$8,$F$19:$F$29)+H$13+$A15","v":{"$error":"#VALUE!"}},{"$f":"$F$8+MAX(H$13,H$19:H$29)+$A15","v":{"$error":"#VALUE!"}},{"$f":"$F$8+H$13+MAX($A15,$A$19:$A$29)","v":{"$error":"#VALUE!"}},{"$f":"MAX($A$13,$A$19:$A$29)+$F15+H$8","v":{"$error":"#VALUE!"}},{"$f":"$A$13+MAX($F15,$F$19:$F$29)+H$8","v":{"$error":"#VALUE!"}},{"$f":"$A$13+$F15+MAX(H$8,H$19:H$29)","v":{"$error":"#VALUE!"}},{"$f":"IF(OR(AW21<AX21,AW21<AY21,AW21<AZ21),\"rotation \"&$T21&\" \"&$AW$18&\" - \",IF(OR(AW21<BA21,AW21<BB21,AW21<BC21),\"rotation \"&$T21&\" \"&$AX$18&\" - \",0))","v":{"$error":"#VALUE!"}},null,null,null,null,null,null,null,null,null,null,null,null,null,null,null,null,null,null,null,null,null,null,null,null,null,null,null,8,{"$f":"$B$9+$D$11+H15","v":{"$error":"#VALUE!"}},{"$f":"$D$9+H$11+MAX($B15,$B$19:$B$29)","v":{"$error":"#VALUE!"}},{"$f":"$D$9+MAX(H$11,H$19:H$30)+$B15","v":{"$error":"#VALUE!"}},{"$f":"MAX($D$9,$D$19:$D$30)+H$11+$B15","v":{"$error":"#VALUE!"}},{"$f":"MAX($B$11,$B$19:$B$30)+$D15+H$9","v":{"$error":"#VALUE!"}},{"$f":"$B$11+MAX($D15,$D$19:$D$30)+H$9","v":{"$error":"#VALUE!"}},{"$f":"$B$11+$D15+MAX(H$9,H$19:H$30)","v":{"$error":"#VALUE!"}},{"$f":"$B$9+$E$12+H15","v":{"$error":"#VALUE!"}},{"$f":"MAX($E$9,$E$19:$E$29)+H$12+$B15","v":{"$error":"#VALUE!"}},{"$f":"$E$9+MAX(H$12,H$19:H$29)+$B15","v":{"$error":"#VALUE!"}},{"$f":"$E$9+H$12+MAX($B15,$B$19:$B$29)","v":{"$error":"#VALUE!"}},{"$f":"MAX($B$12,B$19:B$29)+$E15+H$9","v":{"$error":"#VALUE!"}},{"$f":"$B$12+MAX($E15,$E$19:$E$29)+H$9","v":{"$error":"#VALUE!"}},{"$f":"$B$12+$E15+MAX(H$9,H$19:H$30)","v":{"$error":"#VALUE!"}},{"$f":"$B$9+$F$13+H15","v":{"$error":"#VALUE!"}},{"$f":"MAX($F$9,$F$19:$F$29)+H$13+$B15","v":{"$error":"#VALUE!"}},{"$f":"$F$9+MAX(H$13,H$19:H$29)+$B15","v":{"$error":"#VALUE!"}},{"$f":"$F$9+H$13+MAX($B15,$B$19:$B$29)","v":{"$error":"#VALUE!"}},{"$f":"MAX($B$13,$B$19:$B$29)+$F15+H$9","v":{"$error":"#VALUE!"}},{"$f":"$B$13+MAX($F15,$F$19:$F$29)+H$9","v":{"$error":"#VALUE!"}},{"$f":"$B$13+$F15+MAX(H$9,H$19:H$29)","v":{"$error":"#VALUE!"}},{"$f":"IF(OR(CU21<CV21,CU21<CW21,CU21<CX21),\"rotation \"&CF21&\" \"&CU$18&\" - \",IF(OR(CU21<CY21,CU21<CZ21,CU21<DA21),\"rotation \"&$CF21&\" \"&CV$18&\" - \",0))","v":{"$error":"#VALUE!"}},{"$f":"IF(OR(CN21<CO21,CN21<CP21,CN21<CQ21),\"rotation \"&$CF21&\" \"&CM$18&\" - \",IF(OR(CN21<CR21,CN21<CS21,CN21<CT21),\"rotation \"&CF21&\" \"&CN$18&\" - \",0))","v":{"$error":"#VALUE!"}},{"$f":"IF(OR(CG21<CH21,CG21<CI21,CG21<CJ21),\"rotation \"&CF21&\" \"&CU$18&\" - \",IF(OR(CG21<CK21,CG21<CL21,CG21<CM21),\"rotation \"&CF21&\" \"&CV$18&\" - \",0))","v":{"$error":"#VALUE!"}},null,null,null,null,null,null,null,null,null,null,null,null,null,null,null,null,null,null,null,null,null,null,null,{"$f":"$C$10+$E$12+H15","v":{"$error":"#VALUE!"}},{"$f":"MAX($E$10,$E$19:$E$29)+H$12+$C15","v":{"$error":"#VALUE!"}},{"$f":"$E$10+MAX(H$12,H$19:H$29)+$C15","v":{"$error":"#VALUE!"}},{"$f":"$E$10+H$12+MAX($C15,$C$19:$C$29)","v":{"$error":"#VALUE!"}},{"$f":"MAX($C$12,C$19:C$29)+$E15+H$10","v":{"$error":"#VALUE!"}},{"$f":"$C$12+MAX($E15,$E$19:$E$29)+H$10","v":{"$error":"#VALUE!"}},{"$f":"$C$12+$E15+MAX(H$10,H$19:H$30)","v":{"$error":"#VALUE!"}},{"$f":"$C$10+$F$13+H15","v":{"$error":"#VALUE!"}},{"$f":"MAX($F$10,$F$19:$F$29)+H$13+$C15","v":{"$error":"#VALUE!"}},{"$f":"$F$10+MAX(H$13,H$19:H$29)+$C15","v":{"$error":"#VALUE!"}},{"$f":"$F$10+H$13+MAX($C15,$C$19:$C$29)","v":{"$error":"#VALUE!"}},{"$f":"MAX($C$13,$C$19:$C$29)+$F15+H$10","v":{"$error":"#VALUE!"}},{"$f":"$C$13+MAX($F15,$F$19:$F$29)+H$10","v":{"$error":"#VALUE!"}},{"$f":"$C$13+$F15+MAX(H$10,H$19:H$29)","v":{"$error":"#VALUE!"}},{"$f":"IF(OR(EI21<EJ21,EI21<EK21,EI21<EL21),\"rotation \"&CF21&\" \"&EI$18&\" - \",IF(OR(EI21<EM21,EI21<EN21,EI21<EO21),\"rotation \"&$CF21&\" \"&EJ$18&\" - \",0))","v":{"$error":"#VALUE!"}},{"$f":"IF(OR(EB21<EC21,EB21<ED21,EB21<EE21),\"rotation \"&$CF21&\" \"&EA$18&\" - \",IF(OR(EB21<EF21,EB21<EG21,EB21<EH21),\"rotation \"&CF21&\" \"&EB$18&\" - \",0))","v":{"$error":"#VALUE!"}},null,null,null,null,null,null,null,null,null,null,null,null,null,null,null,null,null,null,null,null,null,null,{"$f":"$D$11+$F$13+H15","v":{"$error":"#VALUE!"}},{"$f":"MAX($F$11,$F$19:$F$29)+H$13+$D15","v":{"$error":"#VALUE!"}},{"$f":"$F$11+MAX(H$13,H$19:H$29)+$D15","v":{"$error":"#VALUE!"}},{"$f":"$F$11+H$13+MAX($D15,$D$20:$D$30)","v":{"$error":"#VALUE!"}},{"$f":"MAX($D$13,$D$19:$D$29)+$F15+H$11","v":{"$error":"#VALUE!"}},{"$f":"$D$13+MAX($F15,$F$19:$F$29)+H$11","v":{"$error":"#VALUE!"}},{"$f":"$D$13+$F15+MAX(H$11,H$19:H$29)","v":{"$error":"#VALUE!"}},{"$f":"IF(OR(FN21<FO21,FN21<FP21,FN21<FQ21),\"rotation \"&CF$21&\" \"&FN$18&\" - \",IF(OR(FN21<FR21,FN21<FS21,FN21<FT21),\"rotation \"&$CF$21&\" \"&FO$18&\" - \",0))","v":{"$error":"#VALUE!"}}]
[{"$f":"INDEX(Pauljo!$B$60:$L$81,MATCH(15,Pauljo!$N$60:$N$81,0),1)","v":""},{"$f":"INDEX(Pauljo!$B$60:$L$81,MATCH(15,Pauljo!$N$60:$N$81,0),2)","v":""},{"$f":"INDEX(Pauljo!$B$60:$N$81,MATCH(15,Pauljo!$N$60:$N$81,0),3)","v":""},{"$f":"INDEX(Pauljo!$B$60:$N$81,MATCH(15,Pauljo!$N$60:$N$81,0),4)","v":""},{"$f":"INDEX(Pauljo!$B$60:$N$81,MATCH(15,Pauljo!$N$60:$N$81,0),5)","v":""},{"$f":"INDEX(Pauljo!$B$60:$N$81,MATCH(15,Pauljo!$N$60:$N$81,0),6)","v":""},{"$f":"INDEX(Pauljo!$B$60:$N$81,MATCH(15,Pauljo!$N$60:$N$81,0),7)","v":""},{"$f":"INDEX(Pauljo!$B$60:$N$81,MATCH(15,Pauljo!$N$60:$N$81,0),8)","v":""},{"$f":"INDEX(Pauljo!$B$60:$N$81,MATCH(15,Pauljo!$N$60:$N$81,0),9)","v":""},{"$f":"INDEX(Pauljo!$B$60:$N$81,MATCH(15,Pauljo!$N$60:$N$81,0),10)","v":""},{"$f":"INDEX(Pauljo!$B$60:$N$81,MATCH(15,Pauljo!$N$60:$N$81,0),11)","v":""},null,null,null,null,null,null,null,null,9,null,null,null,null,null,{"$f":"$A$8+$C$10+I16","v":{"$error":"#VALUE!"}},{"$f":"$C$8+I$10+MAX($A16,$A$19:$A$29)","v":{"$error":"#VALUE!"}},{"$f":"$C$8+MAX(I$10,$I$19:$I$29)+$A16","v":{"$error":"#VALUE!"}},{"$f":"MAX($C$8,$C$19:$C$29)+I$10+$A16","v":{"$error":"#VALUE!"}},{"$f":"MAX($A$10,$A$19:$A$29)+$C16+I$8","v":{"$error":"#VALUE!"}},{"$f":"$A$10+MAX($C16,$C$19:$C$29)+I$8","v":{"$error":"#VALUE!"}},{"$f":"$A$10+$C16+MAX(I$8,I$19:I$29)","v":{"$error":"#VALUE!"}},{"$f":"IF(OR(Z22<AA22,Z22<AB22,Z22<AC22),\"rotation \"&$T$22&\" \"&$U$18&\" - \",IF(OR(Z22<AD22,Z22<AE22,Z22<AF22),\"rotation \"&$T22&\" \"&U$17&\" - \",0))","v":{"$error":"#VALUE!"}},{"$f":"$A$8+$D$11+I16","v":{"$error":"#VALUE!"}},{"$f":"$D$8+I$11+MAX($A16,$A$19:$A$29)","v":{"$error":"#VALUE!"}},{"$f":"$D$8+MAX(I$11,I$19:I$30)+$A16","v":{"$error":"#VALUE!"}},{"$f":"MAX($D$8,$D$19:$D$30)+I$11+$A16","v":{"$error":"#VALUE!"}},{"$f":"MAX($A$11,$A$19:$A$30)+$D16+I$8","v":{"$error":"#VALUE!"}},{"$f":"$A$11+MAX($D16,$D$19:$D$30)+I$8","v":{"$error":"#VALUE!"}},{"$f":"$A$11+$D16+MAX(I$8,I$19:I$30)","v":{"$error":"#VALUE!"}},{"$f":"IF(OR(AH22<AI22,AH22<AJ22,AH22<AK22),\"rotation \"&$T$22&\" \"&$AE$18&\" - \",IF(OR(AH22<AL22,AH22<AM22,AH22<AN22),\"rotation \"&$T22&\" \"&$AE$18&\" - \",0))","v":{"$error":"#VALUE!"}},{"$f":"$A$8+$E$12+I16","v":{"$error":"#VALUE!"}},{"$f":"MAX($E$8,$E$19:$E$29)+I$12+$A16","v":{"$error":"#VALUE!"}},{"$f":"$E$8+MAX(I$12,I$19:I$29)+$A16","v":{"$error":"#VALUE!"}},{"$f":"$E$8+I$12+MAX($A16,$A$19:$A$29)","v":{"$error":"#VALUE!"}},{"$f":"MAX($A$12,A$19:A$29)+$E16+I$8","v":{"$error":"#VALUE!"}},{"$f":"$A$12+MAX($E16,$E$19:$E$29)+I$8","v":{"$error":"#VALUE!"}},{"$f":"$A$12+$E16+MAX(I$8,I$19:I$30)","v":{"$error":"#VALUE!"}},{"$f":"IF(OR(AP22<AQ22,AP22<AR22,AP22<AS22),\"rotation \"&$T$22&\" \"&$AN$18&\" - \",IF(OR(AP22<AT22,AP22<AU22,AP22<AV22),\"rotation \"&$T22&\" \"&$AO$18&\" - \",0))","v":{"$error":"#VALUE!"}},{"$f":"$A$8+$F$13+I16","v":{"$error":"#VALUE!"}},{"$f":"MAX($F$8,$F$19:$F$29)+I$13+$A16","v":{"$error":"#VALUE!"}},{"$f":"$F$8+MAX(I$13,I$19:I$29)+$A16","v":{"$error":"#VALUE!"}},{"$f":"$F$8+I$13+MAX($A16,$A$19:$A$29)","v":{"$error":"#VALUE!"}},{"$f":"MAX($A$13,$A$19:$A$29)+$F16+I$8","v":{"$error":"#VALUE!"}},{"$f":"$A$13+MAX($F16,$F$19:$F$29)+I$8","v":{"$error":"#VALUE!"}},{"$f":"$A$13+$F16+MAX(I$8,I$19:I$29)","v":{"$error":"#VALUE!"}},{"$f":"IF(OR(AX22<AY22,AX22<AZ22,AX22<BA22),\"rotation \"&$T$22&\" \"&$AW$18&\" - \",IF(OR(AX22<BB22,AX22<BC22,AX22<BD22),\"rotation \"&$T22&\" \"&$AX$18&\" - \",0))","v":{"$error":"#VALUE!"}},{"$f":"$A$8+$G$14+I16","v":{"$error":"#VALUE!"}},{"$f":"MAX($G$8,$G$19:$G$30)+I$14+$A16","v":{"$error":"#VALUE!"}},{"$f":"$G$8+MAX(I$14,I$19:I$30)+$A16","v":{"$error":"#VALUE!"}},{"$f":"$G$8+I$14+MAX($A16,$A$19:$A$30)","v":{"$error":"#VALUE!"}},{"$f":"MAX($A$14,$A$19:$A$30)+$G16+I$8","v":{"$error":"#VALUE!"}},{"$f":"$A$14+MAX($G16,$G$19:$G$30)+I$8","v":{"$error":"#VALUE!"}},{"$f":"$A$14+$G16+MAX(I$8,I$19:I$30)","v":{"$error":"#VALUE!"}},{"$f":"IF(OR(BF22<BG22,BF22<BH22,BF22<BI22),\"rotation \"&$T$22&\" \"&$BF$18&\" - \",IF(OR(BF22<BJ22,BF22<BK22,BF22<BL22),\"rotation \"&$T22&\" \"&$BG$18&\" - \",0))","v":{"$error":"#VALUE!"}},null,null,null,null,null,null,null,null,null,null,null,null,null,null,null,null,null,null,null,9,{"$f":"$B$9+$D$11+I16","v":{"$error":"#VALUE!"}},{"$f":"$D$9+I$11+MAX($B16,$B$19:$B$29)","v":{"$error":"#VALUE!"}},{"$f":"$D$9+MAX(I$11,I$19:I$30)+$B16","v":{"$error":"#VALUE!"}},{"$f":"MAX($D$9,$D$19:$D$30)+I$11+$B16","v":{"$error":"#VALUE!"}},{"$f":"MAX($B$11,$B$19:$B$30)+$D16+I$9","v":{"$error":"#VALUE!"}},{"$f":"$B$11+MAX($D16,$D$19:$D$30)+I$9","v":{"$error":"#VALUE!"}},{"$f":"$B$11+$D16+MAX(I$9,I$19:I$30)","v":{"$error":"#VALUE!"}},{"$f":"$B$9+$E$12+I16","v":{"$error":"#VALUE!"}},{"$f":"MAX($E$9,$E$19:$E$29)+I$12+$B16","v":{"$error":"#VALUE!"}},{"$f":"$E$9+MAX(I$12,I$19:I$29)+$B16","v":{"$error":"#VALUE!"}},{"$f":"$E$9+I$12+MAX($B16,$B$19:$B$29)","v":{"$error":"#VALUE!"}},{"$f":"MAX($B$12,B$19:B$29)+$E16+I$9","v":{"$error":"#VALUE!"}},{"$f":"$B$12+MAX($E16,$E$19:$E$29)+I$9","v":{"$error":"#VALUE!"}},{"$f":"$B$12+$E16+MAX(I$9,I$19:I$30)","v":{"$error":"#VALUE!"}},{"$f":"$B$9+$F$13+I16","v":{"$error":"#VALUE!"}},{"$f":"MAX($F$9,$F$19:$F$29)+I$13+$B16","v":{"$error":"#VALUE!"}},{"$f":"$F$9+MAX(I$13,I$19:I$29)+$B16","v":{"$error":"#VALUE!"}},{"$f":"$F$9+I$13+MAX($B16,$B$19:$B$29)","v":{"$error":"#VALUE!"}},{"$f":"MAX($B$13,$B$19:$B$29)+$F16+I$9","v":{"$error":"#VALUE!"}},{"$f":"$B$13+MAX($F16,$F$19:$F$29)+I$9","v":{"$error":"#VALUE!"}},{"$f":"$B$13+$F16+MAX(I$9,I$19:I$29)","v":{"$error":"#VALUE!"}},{"$f":"$B$9+$G$14+I16","v":{"$error":"#VALUE!"}},{"$f":"MAX($G$9,$G$19:$G$30)+I$14+$B16","v":{"$error":"#VALUE!"}},{"$f":"$G$9+MAX(I$14,I$19:I$30)+$B16","v":{"$error":"#VALUE!"}},{"$f":"$G$9+I$14+MAX($B16,$B$19:$B$30)","v":{"$error":"#VALUE!"}},{"$f":"MAX($B$14,$B$19:$B$30)+$G16+I$9","v":{"$error":"#VALUE!"}},{"$f":"$B$14+MAX($G16,$G$19:$G$30)+I$9","v":{"$error":"#VALUE!"}},{"$f":"$B$14+$G16+MAX(I$9,I$19:I$30)","v":{"$error":"#VALUE!"}},{"$f":"IF(OR(DC22<DD22,DC22<DE22,DC22<DF22),\"rotation \"&CG22&\" \"&DC$18&\" - \",IF(OR(DC22<DG22,DC22<DH22,DC22<DI22),\"rotation \"&$CG22&\" \"&DB$18&\" - \",0))","v":{"$error":"#VALUE!"}},{"$f":"IF(OR(CV22<CW22,CV22<CX22,CV22<CY22),\"rotation \"&$CG22&\" \"&CU$18&\" - \",IF(OR(CV22<CZ22,CV22<DA22,CV22<DB22),\"rotation \"&CG22&\" \"&CV$18&\" - \",0))","v":{"$error":"#VALUE!"}},{"$f":"IF(OR(CO22<CP22,CO22<CQ22,CO22<CR22),\"rotation \"&CG22&\" \"&CM$18&\" - \",IF(OR(CO22<CS22,CO22<CT22,CO22<CU22),\"rotation \"&CG22&\" \"&CN$18&\" - \",0))","v":{"$error":"#VALUE!"}},{"$f":"IF(OR(CH22<CI22,CH22<CJ22,CH22<CK22),\"rotation \"&$CG22&\" \"&CE$18&\" - \",IF(OR(CH22<CL22,CH22<CM22,CH22<CN22),\"rotation \"&$CG22&\" \"&CF$18&\" - \",0))","v":{"$error":"#VALUE!"}},null,null,null,null,null,null,null,null,null,null,null,null,null,null,null,{"$f":"$C$10+$E$12+I16","v":{"$error":"#VALUE!"}},{"$f":"MAX($E$10,$E$19:$E$29)+I$12+$C16","v":{"$error":"#VALUE!"}},{"$f":"$E$10+MAX(I$12,I$19:I$29)+$C16","v":{"$error":"#VALUE!"}},{"$f":"$E$10+I$12+MAX($C16,$C$19:$C$29)","v":{"$error":"#VALUE!"}},{"$f":"MAX($C$12,C$19:C$29)+$E16+I$10","v":{"$error":"#VALUE!"}},{"$f":"$C$12+MAX($E16,$E$19:$E$29)+I$10","v":{"$error":"#VALUE!"}},{"$f":"$C$12+$E16+MAX(I$10,I$19:I$30)","v":{"$error":"#VALUE!"}},{"$f":"$C$10+$F$13+I16","v":{"$error":"#VALUE!"}},{"$f":"MAX($F$10,$F$19:$F$29)+I$13+$C16","v":{"$error":"#VALUE!"}},{"$f":"$F$10+MAX(I$13,I$19:I$29)+$C16","v":{"$error":"#VALUE!"}},{"$f":"$F$10+I$13+MAX($C16,$C$19:$C$29)","v":{"$error":"#VALUE!"}},{"$f":"MAX($C$13,$C$19:$C$29)+$F16+I$10","v":{"$error":"#VALUE!"}},{"$f":"$C$13+MAX($F16,$F$19:$F$29)+I$10","v":{"$error":"#VALUE!"}},{"$f":"$C$13+$F16+MAX(I$10,I$19:I$29)","v":{"$error":"#VALUE!"}},{"$f":"$C$10+$G$14+I16","v":{"$error":"#VALUE!"}},{"$f":"MAX($G$10,$G$19:$G$30)+I$14+$C16","v":{"$error":"#VALUE!"}},{"$f":"$G$10+MAX(I$14,I$19:I$30)+$C16","v":{"$error":"#VALUE!"}},{"$f":"$G$10+I$14+MAX($C16,$C$19:$C$30)","v":{"$error":"#VALUE!"}},{"$f":"MAX($C$14,$C$19:$C$30)+$G16+I$10","v":{"$error":"#VALUE!"}},{"$f":"$C$14+MAX($G16,$G$19:$G$30)+I$10","v":{"$error":"#VALUE!"}},{"$f":"$C$14+$G16+MAX(I$10,I$19:I$30)","v":{"$error":"#VALUE!"}},{"$f":"IF(OR(EQ22<ER22,EQ22<ES22,EQ22<ET22),\"rotation \"&CG22&\" \"&EQ$18&\" - \",IF(OR(EQ22<EU22,EQ22<EV22,EQ22<EW22),\"rotation \"&$CG22&\" \"&ER$18&\" - \",0))","v":{"$error":"#VALUE!"}},{"$f":"IF(OR(EJ22<EK22,EJ22<EL22,EJ22<EM22),\"rotation \"&$CG$22&\" \"&EI$18&\" - \",IF(OR(EJ22<EN22,EJ22<EO22,EJ22<EP22),\"rotation \"&CG22&\" \"&EJ$18&\" - \",0))","v":{"$error":"#VALUE!"}},{"$f":"IF(OR(EC22<ED22,EC22<EE22,EC22<EF22),\"rotation \"&T22&\" \"&EA$18&\" - \",IF(OR(EC22<EG22,EC22<EH22,EC22<EI22),\"rotation \"&T22&\" \"&EB$18&\" - \",0))","v":{"$error":"#VALUE!"}},null,null,null,null,null,null,null,null,null,null,null,null,null,null,{"$f":"$D$11+$F$13+I16","v":{"$error":"#VALUE!"}},{"$f":"MAX($F$11,$F$19:$F$29)+I$13+$D16","v":{"$error":"#VALUE!"}},{"$f":"$F$11+MAX(I$13,I$19:I$29)+$D16","v":{"$error":"#VALUE!"}},{"$f":"$F$11+I$13+MAX($D16,$D$20:$D$30)","v":{"$error":"#VALUE!"}},{"$f":"MAX($D$13,$D$19:$D$29)+$F16+I$11","v":{"$error":"#VALUE!"}},{"$f":"$D$13+MAX($F16,$F$19:$F$29)+I$11","v":{"$error":"#VALUE!"}},{"$f":"$D$13+$F16+MAX(I$11,I$19:I$29)","v":{"$error":"#VALUE!"}},{"$f":"$D$11+$G$14+I16","v":{"$error":"#VALUE!"}},{"$f":"MAX($G$11,$G$19:$G$30)+I$14+$D16","v":{"$error":"#VALUE!"}},{"$f":"$G$11+MAX(I$14,I$19:I$30)+$D16","v":{"$error":"#VALUE!"}},{"$f":"$G$11+I$14+MAX($D16,$D$19:$D$30)","v":{"$error":"#VALUE!"}},{"$f":"MAX($D$14,$D$19:$D$30)+$G16+I$11","v":{"$error":"#VALUE!"}},{"$f":"$D$14+MAX($G16,$G$19:$G$30)+I$11","v":{"$error":"#VALUE!"}},{"$f":"$D$14+$G16+MAX(I$11,I$19:I$30)","v":{"$error":"#VALUE!"}},{"$f":"IF(OR(FV22<FW22,FV22<FX22,FV22<FY22),\"rotation \"&CG22&\" \"&FV$18&\" - \",IF(OR(FV22<FZ22,FV22<GA22,FV22<GB22),\"rotation \"&$CG$22&\" \"&FW$18&\" - \",0))","v":{"$error":"#VALUE!"}},{"$f":"IF(OR(FO22<FP22,FO22<FQ22,FO22<FR22),\"rotation \"&$CG$22&\" \"&FN$18&\" - \",IF(OR(FO22<FS22,FO22<FT22,FO22<FU22),\"rotation \"&CG$22&\" \"&FO$18&\" - \",0))","v":{"$error":"#VALUE!"}},null,null,null,null,null,null,null,null,null,null,null,null,null,null,null,{"$f":"$E$12+$G$14+I16","v":{"$error":"#VALUE!"}},{"$f":"MAX($G$12,$G$19:$G$30)+I$14+$E16","v":{"$error":"#VALUE!"}},{"$f":"$G$12+MAX(I$14,I$19:I$30)+$E16","v":{"$error":"#VALUE!"}},{"$f":"$G$12+I$14+MAX($E16,$E$19:$E$30)","v":{"$error":"#VALUE!"}},{"$f":"MAX($E$14,$E$19:$E$30)+$G16+I$12","v":{"$error":"#VALUE!"}},{"$f":"$E$14+MAX($G16,$G$19:$G$30)+I$12","v":{"$error":"#VALUE!"}},{"$f":"$E$14+$G16+MAX(I$12,I$19:I$30)","v":{"$error":"#VALUE!"}},{"$f":"IF(OR(GT22<GU22,GT22<GV22,GT22<GW22),\"rotation \"&DE22&\" \"&GT$18&\" - \",IF(OR(GT22<GX22,GT22<GY22,GT22<GZ22),\"rotation \"&$CG$22&\" \"&GU$18&\" - \",0))","v":{"$error":"#VALUE!"}}]
[{"$f":"INDEX(Pauljo!$B$60:$L$81,MATCH(16,Pauljo!$N$60:$N$81,0),1)","v":""},{"$f":"INDEX(Pauljo!$B$60:$L$81,MATCH(16,Pauljo!$N$60:$N$81,0),2)","v":""},{"$f":"INDEX(Pauljo!$B$60:$N$81,MATCH(16,Pauljo!$N$60:$N$81,0),3)","v":""},{"$f":"INDEX(Pauljo!$B$60:$N$81,MATCH(16,Pauljo!$N$60:$N$81,0),4)","v":""},{"$f":"INDEX(Pauljo!$B$60:$N$81,MATCH(16,Pauljo!$N$60:$N$81,0),5)","v":""},{"$f":"INDEX(Pauljo!$B$60:$N$81,MATCH(16,Pauljo!$N$60:$N$81,0),6)","v":""},{"$f":"INDEX(Pauljo!$B$60:$N$81,MATCH(16,Pauljo!$N$60:$N$81,0),7)","v":""},{"$f":"INDEX(Pauljo!$B$60:$N$81,MATCH(16,Pauljo!$N$60:$N$81,0),8)","v":""},{"$f":"INDEX(Pauljo!$B$60:$N$81,MATCH(16,Pauljo!$N$60:$N$81,0),9)","v":""},{"$f":"INDEX(Pauljo!$B$60:$N$81,MATCH(16,Pauljo!$N$60:$N$81,0),10)","v":""},{"$f":"INDEX(Pauljo!$B$60:$N$81,MATCH(16,Pauljo!$N$60:$N$81,0),11)","v":""},null,null,null,null,null,null,null,null,10,null,null,null,null,null,null,{"$f":"$A$8+$C$10+J17","v":{"$error":"#VALUE!"}},{"$f":"$C$8+J$10+MAX($A17,$A$19:$A$29)","v":{"$error":"#VALUE!"}},{"$f":"$C$8+MAX(J$10,$J$19:$J$29)+$A17","v":{"$error":"#VALUE!"}},{"$f":"MAX($C$8,$C$19:$C$29)+J$10+$A17","v":{"$error":"#VALUE!"}},{"$f":"MAX($A$10,$A$19:$A$29)+$C17+J$8","v":{"$error":"#VALUE!"}},{"$f":"$A$10+MAX($C17,$C$19:$C$29)+J$8","v":{"$error":"#VALUE!"}},{"$f":"$A$10+$C17+MAX(J$8,J$19:J$29)","v":{"$error":"#VALUE!"}},{"$f":"IF(OR(AA23<AB23,AA23<AC23,AA23<AD23),\"rotation \"&$T23&\" \"&$U$18&\" - \",IF(OR(AA23<AE23,AA23<AF23,AA23<AG23),\"rotation \"&$T23&\" \"&U$17&\" - \",0))","v":{"$error":"#VALUE!"}},{"$f":"$A$8+$D$11+J17","v":{"$error":"#VALUE!"}},{"$f":"$D$8+J$11+MAX($A17,$A$19:$A$29)","v":{"$error":"#VALUE!"}},{"$f":"$D$8+MAX(J$11,J$19:J$30)+$A17","v":{"$error":"#VALUE!"}},{"$f":"MAX($D$8,$D$19:$D$30)+J$11+$A17","v":{"$error":"#VALUE!"}},{"$f":"MAX($A$11,$A$19:$A$30)+$D17+J$8","v":{"$error":"#VALUE!"}},{"$f":"$A$11+MAX($D17,$D$19:$D$30)+J$8","v":{"$error":"#VALUE!"}},{"$f":"$A$11+$D17+MAX(J$8,J$19:J$30)","v":{"$error":"#VALUE!"}},{"$f":"IF(OR(AI23<AJ23,AI23<AK23,AI23<AL23),\"rotation \"&$T23&\" \"&$AE$18&\" - \",IF(OR(AI23<AM23,AI23<AN23,AI23<AO23),\"rotation \"&$T23&\" \"&$AE$18&\" - \",0))","v":{"$error":"#VALUE!"}},{"$f":"$A$8+$E$12+J17","v":{"$error":"#VALUE!"}},{"$f":"MAX($E$8,$E$19:$E$29)+J$12+$A17","v":{"$error":"#VALUE!"}},{"$f":"$E$8+MAX(J$12,J$19:J$29)+$A17","v":{"$error":"#VALUE!"}},{"$f":"$E$8+J$12+MAX($A17,$A$19:$A$29)","v":{"$error":"#VALUE!"}},{"$f":"MAX($A$12,A$19:A$29)+$E17+J$8","v":{"$error":"#VALUE!"}},{"$f":"$A$12+MAX($E17,$E$19:$E$29)+J$8","v":{"$error":"#VALUE!"}},{"$f":"$A$12+$E17+MAX(J$8,J$19:J$30)","v":{"$error":"#VALUE!"}},{"$f":"IF(OR(AQ23<AR23,AQ23<AS23,AQ23<AT23),\"rotation \"&$T23&\" \"&$AN$18&\" - \",IF(OR(AQ23<AU23,AQ23<AV23,AQ23<AW23),\"rotation \"&$T23&\" \"&$AO$18&\" - \",0))","v":{"$error":"#VALUE!"}},{"$f":"$A$8+$F$13+J17","v":{"$error":"#VALUE!"}},{"$f":"MAX($F$8,$F$19:$F$29)+J$13+$A17","v":{"$error":"#VALUE!"}},{"$f":"$F$8+MAX(J$13,J$19:J$29)+$A17","v":{"$error":"#VALUE!"}},{"$f":"$F$8+J$13+MAX($A17,$A$19:$A$29)","v":{"$error":"#VALUE!"}},{"$f":"MAX($A$13,$A$19:$A$29)+$F17+J$8","v":{"$error":"#VALUE!"}},{"$f":"$A$13+MAX($F17,$F$19:$F$29)+J$8","v":{"$error":"#VALUE!"}},{"$f":"$A$13+$F17+MAX(J$8,J$19:J$29)","v":{"$error":"#VALUE!"}},{"$f":"IF(OR(AY23<AZ23,AY23<BA23,AY23<BB23),\"rotation \"&$T23&\" \"&$AW$18&\" - \",IF(OR(AY23<BC23,AY23<BD23,AY23<BE23),\"rotation \"&$T23&\" \"&$AX$18&\" - \",0))","v":{"$error":"#VALUE!"}},{"$f":"$A$8+$G$14+J17","v":{"$error":"#VALUE!"}},{"$f":"MAX($G$8,$G$19:$G$30)+J$14+$A17","v":{"$error":"#VALUE!"}},{"$f":"$G$8+MAX(J$14,J$19:J$30)+$A17","v":{"$error":"#VALUE!"}},{"$f":"$G$8+J$14+MAX($A17,$A$19:$A$30)","v":{"$error":"#VALUE!"}},{"$f":"MAX($A$14,$A$19:$A$30)+$G17+J$8","v":{"$error":"#VALUE!"}},{"$f":"$A$14+MAX($G17,$G$19:$G$30)+J$8","v":{"$error":"#VALUE!"}},{"$f":"$A$14+$G17+MAX(J$8,J$19:J$30)","v":{"$error":"#VALUE!"}},{"$f":"IF(OR(BG23<BH23,BG23<BI23,BG23<BJ23),\"rotation \"&$T23&\" \"&$BF$18&\" - \",IF(OR(BG23<BK23,BG23<BL23,BG23<BM23),\"rotation \"&$T23&\" \"&$BG$18&\" - \",0))","v":{"$error":"#VALUE!"}},{"$f":"$A$8+$H$15+J17","v":{"$error":"#VALUE!"}},{"$f":"MAX($H$8,$H$19:$H$30)+J$14+$A17","v":{"$error":"#VALUE!"}},{"$f":"$H$8+MAX(J$15,J$19:J$30)+$A17","v":{"$error":"#VALUE!"}},{"$f":"$H$8+J$15+MAX($A17,$A$19:$A$30)","v":{"$error":"#VALUE!"}},{"$f":"MAX($A$15,$A$19:$A$30)+$H17+J$8","v":{"$error":"#VALUE!"}},{"$f":"$A$15+MAX($H17,$H$19:$H$30)+J$8","v":{"$error":"#VALUE!"}},{"$f":"$A$15+$H17+MAX(J$8,J$19:J$30)","v":{"$error":"#VALUE!"}},{"$f":"IF(OR(BO23<BP23,BO23<BQ23,BO23<BR23),\"rotation \"&$T23&\" \"&$BO$18&\" - \",IF(OR(BO23<BS23,BO23<BT23,BO23<BU23),\"rotation \"&$T23&\" \"&$BP$18&\" - \",0))","v":{"$error":"#VALUE!"}},null,null,null,null,null,null,null,null,null,null,null,10,{"$f":"$B$9+$D$11+J17","v":{"$error":"#VALUE!"}},{"$f":"$D$9+J$11+MAX($B17,$B$19:$B$29)","v":{"$error":"#VALUE!"}},{"$f":"$D$9+MAX(J$11,J$19:J$30)+$B17","v":{"$error":"#VALUE!"}},{"$f":"MAX($D$9,$D$19:$D$30)+J$11+$B17","v":{"$error":"#VALUE!"}},{"$f":"MAX($B$11,$B$19:$B$30)+$D17+J$9","v":{"$error":"#VALUE!"}},{"$f":"$B$11+MAX($D17,$D$19:$D$30)+J$9","v":{"$error":"#VALUE!"}},{"$f":"$B$11+$D17+MAX(J$9,J$19:J$30)","v":{"$error":"#VALUE!"}},{"$f":"$B$9+$E$12+J17","v":{"$error":"#VALUE!"}},{"$f":"MAX($E$9,$E$19:$E$29)+J$12+$B17","v":{"$error":"#VALUE!"}},{"$f":"$E$9+MAX(J$12,J$19:J$29)+$B17","v":{"$error":"#VALUE!"}},{"$f":"$E$9+J$12+MAX($B17,$B$19:$B$29)","v":{"$error":"#VALUE!"}},{"$f":"MAX($B$12,B$19:B$29)+$E17+J$9","v":{"$error":"#VALUE!"}},{"$f":"$B$12+MAX($E17,$E$19:$E$29)+J$9","v":{"$error":"#VALUE!"}},{"$f":"$B$12+$E17+MAX(J$9,J$19:J$30)","v":{"$error":"#VALUE!"}},{"$f":"$B$9+$F$13+J17","v":{"$error":"#VALUE!"}},{"$f":"MAX($F$9,$F$19:$F$29)+J$13+$B17","v":{"$error":"#VALUE!"}},{"$f":"$F$9+MAX(J$13,J$19:J$29)+$B17","v":{"$error":"#VALUE!"}},{"$f":"$F$9+J$13+MAX($B17,$B$19:$B$29)","v":{"$error":"#VALUE!"}},{"$f":"MAX($B$13,$B$19:$B$29)+$F17+J$9","v":{"$error":"#VALUE!"}},{"$f":"$B$13+MAX($F17,$F$19:$F$29)+J$9","v":{"$error":"#VALUE!"}},{"$f":"$B$13+$F17+MAX(J$9,J$19:J$29)","v":{"$error":"#VALUE!"}},{"$f":"$B$9+$G$14+J17","v":{"$error":"#VALUE!"}},{"$f":"MAX($G$9,$G$19:$G$30)+J$14+$B17","v":{"$error":"#VALUE!"}},{"$f":"$G$9+MAX(J$14,J$19:J$30)+$B17","v":{"$error":"#VALUE!"}},{"$f":"$G$9+J$14+MAX($B17,$B$19:$B$30)","v":{"$error":"#VALUE!"}},{"$f":"MAX($B$14,$B$19:$B$30)+$G17+J$9","v":{"$error":"#VALUE!"}},{"$f":"$B$14+MAX($G17,$G$19:$G$30)+J$9","v":{"$error":"#VALUE!"}},{"$f":"$B$14+$G17+MAX(J$9,J$19:J$30)","v":{"$error":"#VALUE!"}},{"$f":"$B$9+$H$15+J17","v":{"$error":"#VALUE!"}},{"$f":"MAX($H$9,$H$19:$H$30)+J$15+$B17","v":{"$error":"#VALUE!"}},{"$f":"$H$9+MAX(J$15,J$19:J$30)+$B17","v":{"$error":"#VALUE!"}},{"$f":"$H$9+J$15+MAX($B17,$B$19:$B$30)","v":{"$error":"#VALUE!"}},{"$f":"MAX($B$15,$B$19:$B$30)+$H17+J$9","v":{"$error":"#VALUE!"}},{"$f":"$B$15+MAX($H17,$H$19:$H$30)+J$9","v":{"$error":"#VALUE!"}},{"$f":"$B$15+$H17+MAX(J$9,J$19:J$30)","v":{"$error":"#VALUE!"}},{"$f":"IF(OR(DK23<DL23,DK23<DM23,DK23<DN23),\"rotation \"&$T23&\" \"&DK$18&\" - \",IF(OR(DK23<DO23,DK23<DP23,DK23<DQ23),\"rotation \"&$T23&\" \"&DL$18&\" - \",0))","v":{"$error":"#VALUE!"}},{"$f":"IF(OR(DD23<DE23,DD23<DF23,DD23<DG23),\"rotation \"&$T23&\" \"&DC$18&\" - \",IF(OR(DD23<DH23,DD23<DI23,DD23<DJ23),\"rotation \"&$T23&\" \"&DB$18&\" - \",0))","v":{"$error":"#VALUE!"}},{"$f":"IF(OR(CW23<CX23,CW23<CY23,CW23<CZ23),\"rotation \"&$T23&\" \"&CU$18&\" - \",IF(OR(CW23<DA23,CW23<DB23,CW23<DC23),\"rotation \"&$T23&\" \"&CV$18&\" - \",0))","v":{"$error":"#VALUE!"}},{"$f":"IF(OR(CP23<CQ23,CP23<CR23,CP23<CS23),\"rotation \"&$T23&\" \"&CM$18&\" - \",IF(OR(CP23<CT23,CP23<CU23,CP23<CV23),\"rotation \"&$T23&\" \"&CN$18&\" - \",0))","v":{"$error":"#VALUE!"}},{"$f":"IF(OR(CI23<CJ23,CI23<CK23,CI23<CL23),\"rotation \"&$T23&\" \"&CE$18&\" - \",IF(OR(CI23<CM23,CI23<CN23,CI23<CO23),\"rotation \"&$T23&\" \"&CF$18&\" - \",0))","v":{"$error":"#VALUE!"}},null,null,null,null,null,null,null,{"$f":"$C$10+$E$12+J17","v":{"$error":"#VALUE!"}},{"$f":"MAX($E$10,$E$19:$E$29)+J$12+$C17","v":{"$error":"#VALUE!"}},{"$f":"$E$10+MAX(J$12,J$19:J$29)+$C17","v":{"$error":"#VALUE!"}},{"$f":"$E$10+J$12+MAX($C17,$C$19:$C$29)","v":{"$error":"#VALUE!"}},{"$f":"MAX($C$12,C$19:C$29)+$E17+J$10","v":{"$error":"#VALUE!"}},{"$f":"$C$12+MAX($E17,$E$19:$E$29)+J$10","v":{"$error":"#VALUE!"}},{"$f":"$C$12+$E17+MAX(J$10,J$19:J$30)","v":{"$error":"#VALUE!"}},{"$f":"$C$10+$F$13+J17","v":{"$error":"#VALUE!"}},{"$f":"MAX($F$10,$F$19:$F$29)+J$13+$C17","v":{"$error":"#VALUE!"}},{"$f":"$F$10+MAX(J$13,J$19:J$29)+$C17","v":{"$error":"#VALUE!"}},{"$f":"$F$10+J$13+MAX($C17,$C$19:$C$29)","v":{"$error":"#VALUE!"}},{"$f":"MAX($C$13,$C$19:$C$29)+$F17+J$10","v":{"$error":"#VALUE!"}},{"$f":"$C$13+MAX($F17,$F$19:$F$29)+J$10","v":{"$error":"#VALUE!"}},{"$f":"$C$13+$F17+MAX(J$10,J$19:J$29)","v":{"$error":"#VALUE!"}},{"$f":"$C$10+$G$14+J17","v":{"$error":"#VALUE!"}},{"$f":"MAX($G$10,$G$19:$G$30)+J$14+$C17","v":{"$error":"#VALUE!"}},{"$f":"$G$10+MAX(J$14,J$19:J$30)+$C17","v":{"$error":"#VALUE!"}},{"$f":"$G$10+J$14+MAX($C17,$C$19:$C$30)","v":{"$error":"#VALUE!"}},{"$f":"MAX($C$14,$C$19:$C$30)+$G17+J$10","v":{"$error":"#VALUE!"}},{"$f":"$C$14+MAX($G17,$G$19:$G$30)+J$10","v":{"$error":"#VALUE!"}},{"$f":"$C$14+$G17+MAX(J$10,J$19:J$30)","v":{"$error":"#VALUE!"}},{"$f":"$C$10+$H$15+J17","v":{"$error":"#VALUE!"}},{"$f":"MAX($H$10,$H$19:$H$30)+J$15+$C17","v":{"$error":"#VALUE!"}},{"$f":"$H$10+MAX(J$15,J$19:J$30)+$C17","v":{"$error":"#VALUE!"}},{"$f":"$H$10+J$15+MAX($C17,$C$19:$C$30)","v":{"$error":"#VALUE!"}},{"$f":"MAX($C$15,$C$19:$C$30)+$H17+J$10","v":{"$error":"#VALUE!"}},{"$f":"$C$15+MAX($H17,$H$19:$H$30)+J$10","v":{"$error":"#VALUE!"}},{"$f":"$C$15+$H17+MAX(J$10,J$19:J$30)","v":{"$error":"#VALUE!"}},{"$f":"IF(OR(EY23<EZ23,EY23<FA23,EY23<FB23),\"rotation \"&$T23&\" \"&EX$18&\" - \",IF(OR(EY23<FC23,EY23<FD23,EY23<FE23),\"rotation \"&$T23&\" \"&EY$18&\" - \",0))","v":{"$error":"#VALUE!"}},{"$f":"IF(OR(ER23<ES23,ER23<ET23,ER23<EU23),\"rotation \"&$T23&\" \"&EQ$18&\" - \",IF(OR(ER23<EV23,ER23<EW23,ER23<EX23),\"rotation \"&$T23&\" \"&ER$18&\" - \",0))","v":{"$error":"#VALUE!"}},{"$f":"IF(OR(EK23<EL23,EK23<EM23,EK23<EN23),\"rotation \"&$T23&\" \"&EI$18&\" - \",IF(OR(EK23<EO23,EK23<EP23,EK23<EQ23),\"rotation \"&$T23&\" \"&EJ$18&\" - \",0))","v":{"$error":"#VALUE!"}},{"$f":"IF(OR(ED23<EE23,ED23<EF23,ED23<EG23),\"rotation \"&$T23&\" \"&EA$18&\" - \",IF(OR(ED23<EH23,ED23<EI23,ED23<EJ23),\"rotation \"&$T23&\" \"&EB$18&\" - \",0))","v":{"$error":"#VALUE!"}},null,null,null,null,null,null,{"$f":"$D$11+$F$13+J17","v":{"$error":"#VALUE!"}},{"$f":"MAX($F$11,$F$19:$F$29)+J$13+$D17","v":{"$error":"#VALUE!"}},{"$f":"$F$11+MAX(J$13,J$19:J$29)+$D17","v":{"$error":"#VALUE!"}},{"$f":"$F$11+J$13+MAX($D17,$D$20:$D$30)","v":{"$error":"#VALUE!"}},{"$f":"MAX($D$13,$D$19:$D$29)+$F17+J$11","v":{"$error":"#VALUE!"}},{"$f":"$D$13+MAX($F17,$F$19:$F$29)+J$11","v":{"$error":"#VALUE!"}},{"$f":"$D$13+$F17+MAX(J$11,J$19:J$29)","v":{"$error":"#VALUE!"}},{"$f":"$D$11+$G$14+J17","v":{"$error":"#VALUE!"}},{"$f":"MAX($G$11,$G$19:$G$30)+J$14+$D17","v":{"$error":"#VALUE!"}},{"$f":"$G$11+MAX(J$14,J$19:J$30)+$D17","v":{"$error":"#VALUE!"}},{"$f":"$G$11+J$14+MAX($D17,$D$19:$D$30)","v":{"$error":"#VALUE!"}},{"$f":"MAX($D$14,$D$19:$D$30)+$G17+J$11","v":{"$error":"#VALUE!"}},{"$f":"$D$14+MAX($G17,$G$19:$G$30)+J$11","v":{"$error":"#VALUE!"}},{"$f":"$D$14+$G17+MAX(J$11,J$19:J$30)","v":{"$error":"#VALUE!"}},{"$f":"$D$11+$H$15+J17","v":{"$error":"#VALUE!"}},{"$f":"MAX($H$11,$H$19:$H$30)+J$15+$D17","v":{"$error":"#VALUE!"}},{"$f":"$H$11+MAX(J$15,J$19:J$30)+$D17","v":{"$error":"#VALUE!"}},{"$f":"$H$11+J$15+MAX($D17,$D$19:$D$30)","v":{"$error":"#VALUE!"}},{"$f":"MAX($D$15,$D$19:$D$30)+$H17+J$11","v":{"$error":"#VALUE!"}},{"$f":"$D$15+MAX($H17,$H$19:$H$30)+J$11","v":{"$error":"#VALUE!"}},{"$f":"$D$15+$H17+MAX(J$11,J$19:J$30)","v":{"$error":"#VALUE!"}},{"$f":"IF(OR(GD23<GE23,GD23<GF23,GD23<GG23),\"rotation \"&$T23&\" \"&GD$18&\" - \",IF(OR(GD23<GH23,GD23<GI23,GD23<GJ23),\"rotation \"&$T23&\" \"&GE$18&\" - \",0))","v":{"$error":"#VALUE!"}},{"$f":"IF(OR(FW23<FX23,FW23<FY23,FW23<FZ23),\"rotation \"&$T23&\" \"&FV$18&\" - \",IF(OR(FW23<GA23,FW23<GB23,FW23<GC23),\"rotation \"&$T23&\" \"&FW$18&\" - \",0))","v":{"$error":"#VALUE!"}},{"$f":"IF(OR(FP23<FQ23,FP23<FR23,FP23<FS23),\"rotation \"&$T23&\" \"&FN$18&\" - \",IF(OR(FP23<FT23,FP23<FU23,FP23<FV23),\"rotation \"&$T23&\" \"&FO$18&\" - \",0))","v":{"$error":"#VALUE!"}},null,null,null,null,null,null,null,{"$f":"$E$12+$G$14+J17","v":{"$error":"#VALUE!"}},{"$f":"MAX($G$12,$G$19:$G$30)+J$14+$E17","v":{"$error":"#VALUE!"}},{"$f":"$G$12+MAX(J$14,J$19:J$30)+$E17","v":{"$error":"#VALUE!"}},{"$f":"$G$12+J$14+MAX($E17,$E$19:$E$30)","v":{"$error":"#VALUE!"}},{"$f":"MAX($E$14,$E$19:$E$30)+$G17+J$12","v":{"$error":"#VALUE!"}},{"$f":"$E$14+MAX($G17,$G$19:$G$30)+J$12","v":{"$error":"#VALUE!"}},{"$f":"$E$14+$G17+MAX(J$12,J$19:J$30)","v":{"$error":"#VALUE!"}},{"$f":"$E$12+$H$15+J17","v":{"$error":"#VALUE!"}},{"$f":"MAX($H$12,$H$19:$H$30)+J$15+$E17","v":{"$error":"#VALUE!"}},{"$f":"$H$12+MAX(J$15,J$19:J$30)+$E17","v":{"$error":"#VALUE!"}},{"$f":"$H$12+J$15+MAX($E17,$E$19:$E$30)","v":{"$error":"#VALUE!"}},{"$f":"MAX($E$15,$E$19:$E$30)+$H17+J$12","v":{"$error":"#VALUE!"}},{"$f":"$E$15+MAX($H17,$H$19:$H$30)+J$12","v":{"$error":"#VALUE!"}},{"$f":"$E$15+$H17+MAX(J$12,J$19:J$30)","v":{"$error":"#VALUE!"}},{"$f":"IF(OR(HB23<HC23,HB23<HD23,HB23<HE23),\"rotation \"&$T23&\" \"&HB$18&\" - \",IF(OR(HB23<HF23,HB23<HG23,HB23<HH23),\"rotation \"&$T23&\" \"&HC$18&\" - \",0))","v":{"$error":"#VALUE!"}},{"$f":"IF(OR(GU23<GV23,GU23<GW23,GU23<GX23),\"rotation \"&$T23&\" \"&GT$18&\" - \",IF(OR(GU23<GY23,GU23<GZ23,GU23<HA23),\"rotation \"&$T23&\" \"&GU$18&\" - \",0))","v":{"$error":"#VALUE!"}},null,null,null,null,null,null,null,{"$f":"$F$13+$H$15+J17","v":{"$error":"#VALUE!"}},{"$f":"MAX($H$13,$H$19:$H$30)+J$15+$F17","v":{"$error":"#VALUE!"}},{"$f":"$H$13+MAX(J$15,J$19:J$30)+$F17","v":{"$error":"#VALUE!"}},{"$f":"$H$13+J$15+MAX($F17,$F$19:$F$30)","v":{"$error":"#VALUE!"}},{"$f":"MAX($F$15,$F$19:$F$30)+$H17+J$13","v":{"$error":"#VALUE!"}},{"$f":"$F$15+MAX($H17,$H$19:$H$30)+J$13","v":{"$error":"#VALUE!"}},{"$f":"$F$15+$H17+MAX(J$13,J$19:J$30)","v":{"$error":"#VALUE!"}},{"$f":"IF(OR(HR23<HS23,HR23<HT23,HR23<HU23),\"rotation \"&$T23&\" \"&HR$18&\" - \",IF(OR(HR23<HV23,HR23<HW23,HR23<HX23),\"rotation \"&$T23&\" \"&HS$18&\" - \",0))","v":{"$error":"#VALUE!"}}]
[{"$f":"INDEX(Pauljo!$B$60:$L$81,MATCH(17,Pauljo!$N$60:$N$81,0),1)","v":""},{"$f":"INDEX(Pauljo!$B$60:$L$81,MATCH(17,Pauljo!$N$60:$N$81,0),2)","v":""},{"$f":"INDEX(Pauljo!$B$60:$N$81,MATCH(17,Pauljo!$N$60:$N$81,0),3)","v":""},{"$f":"INDEX(Pauljo!$B$60:$N$81,MATCH(17,Pauljo!$N$60:$N$81,0),4)","v":""},{"$f":"INDEX(Pauljo!$B$60:$N$81,MATCH(17,Pauljo!$N$60:$N$81,0),5)","v":""},{"$f":"INDEX(Pauljo!$B$60:$N$81,MATCH(17,Pauljo!$N$60:$N$81,0),6)","v":""},{"$f":"INDEX(Pauljo!$B$60:$N$81,MATCH(17,Pauljo!$N$60:$N$81,0),7)","v":""},{"$f":"INDEX(Pauljo!$B$60:$N$81,MATCH(17,Pauljo!$N$60:$N$81,0),8)","v":""},{"$f":"INDEX(Pauljo!$B$60:$N$81,MATCH(17,Pauljo!$N$60:$N$81,0),9)","v":""},{"$f":"INDEX(Pauljo!$B$60:$N$81,MATCH(17,Pauljo!$N$60:$N$81,0),10)","v":""},{"$f":"INDEX(Pauljo!$B$60:$N$81,MATCH(17,Pauljo!$N$60:$N$81,0),11)","v":""},null,null,null,null,null,null,null,null,11,null,null,null,null,null,null,null,{"$f":"$A$8+$C$10+K18","v":{"$error":"#VALUE!"}},{"$f":"$C$8+K$10+MAX($A18,$A$19:$A$29)","v":{"$error":"#VALUE!"}},{"$f":"$C$8+MAX(K$10,$K$19:$K$29)+$A18","v":{"$error":"#VALUE!"}},{"$f":"MAX($C$8,$C$19:$C$29)+K$10+$A18","v":{"$error":"#VALUE!"}},{"$f":"MAX($A$10,$A$19:$A$29)+$C18+K$8","v":{"$error":"#VALUE!"}},{"$f":"$A$10+MAX($C18,$C$19:$C$29)+K$8","v":{"$error":"#VALUE!"}},{"$f":"$A$10+$C18+MAX(K$8,K$19:K$29)","v":{"$error":"#VALUE!"}},{"$f":"IF(OR(AB24<AC24,AB24<AD24,AB24<AE24),\"rotation \"&$T24&\" \"&U$18&\" - \",IF(OR(AB24<AF24,AB24<AG24,AB24<AH24),\"rotation \"&$T24&\" \"&U$17&\" - \",0))","v":{"$error":"#VALUE!"}},{"$f":"$A$8+$D$11+K18","v":{"$error":"#VALUE!"}},{"$f":"$D$8+K$11+MAX($A18,$A$19:$A$29)","v":{"$error":"#VALUE!"}},{"$f":"$D$8+MAX(K$11,K$19:K$30)+$A18","v":{"$error":"#VALUE!"}},{"$f":"MAX($D$8,$D$19:$D$30)+K$11+$A18","v":{"$error":"#VALUE!"}},{"$f":"MAX($A$11,$A$19:$A$30)+$D18+K$8","v":{"$error":"#VALUE!"}},{"$f":"$A$11+MAX($D18,$D$19:$D$30)+K$8","v":{"$error":"#VALUE!"}},{"$f":"$A$11+$D18+MAX(K$8,K$19:K$30)","v":{"$error":"#VALUE!"}},{"$f":"IF(OR(AJ24<AK24,AJ24<AL24,AJ24<AM24),\"rotation \"&$T24&\" \"&AE$18&\" - \",IF(OR(AJ24<AN24,AJ24<AO24,AJ24<AP24),\"rotation \"&$T24&\" \"&$AE$18&\" - \",0))","v":{"$error":"#VALUE!"}},{"$f":"$A$8+$E$12+K18","v":{"$error":"#VALUE!"}},{"$f":"MAX($E$8,$E$19:$E$29)+K$12+$A18","v":{"$error":"#VALUE!"}},{"$f":"$E$8+MAX(K$12,K$19:K$29)+$A18","v":{"$error":"#VALUE!"}},{"$f":"$E$8+K$12+MAX($A18,$A$19:$A$29)","v":{"$error":"#VALUE!"}},{"$f":"MAX($A$12,A$19:A$29)+$E18+K$8","v":{"$error":"#VALUE!"}},{"$f":"$A$12+MAX($E18,$E$19:$E$29)+K$8","v":{"$error":"#VALUE!"}},{"$f":"$A$12+$E18+MAX(K$8,K$19:K$30)","v":{"$error":"#VALUE!"}},{"$f":"IF(OR(AR24<AS24,AR24<AT24,AR24<AU24),\"rotation \"&$T24&\" \"&AN$18&\" - \",IF(OR(AR24<AV24,AR24<AW24,AR24<AX24),\"rotation \"&$T24&\" \"&$AO$18&\" - \",0))","v":{"$error":"#VALUE!"}},{"$f":"$A$8+$F$13+K18","v":{"$error":"#VALUE!"}},{"$f":"MAX($F$8,$F$19:$F$29)+K$13+$A18","v":{"$error":"#VALUE!"}},{"$f":"$F$8+MAX(K$13,K$19:K$29)+$A18","v":{"$error":"#VALUE!"}},{"$f":"$F$8+K$13+MAX($A18,$A$19:$A$29)","v":{"$error":"#VALUE!"}},{"$f":"MAX($A$13,$A$19:$A$29)+$F18+K$8","v":{"$error":"#VALUE!"}},{"$f":"$A$13+MAX($F18,$F$19:$F$29)+K$8","v":{"$error":"#VALUE!"}},{"$f":"$A$13+$F18+MAX(K$8,K$19:K$29)","v":{"$error":"#VALUE!"}},{"$f":"IF(OR(AZ24<BA24,AZ24<BB24,AZ24<BC24),\"rotation \"&$T24&\" \"&$AW$18&\" - \",IF(OR(AZ24<BD24,AZ24<BE24,AZ24<BF24),\"rotation \"&$T24&\" \"&$AX$18&\" - \",0))","v":{"$error":"#VALUE!"}},{"$f":"$A$8+$G$14+K18","v":{"$error":"#VALUE!"}},{"$f":"MAX($G$8,$G$19:$G$30)+K$14+$A18","v":{"$error":"#VALUE!"}},{"$f":"$G$8+MAX(K$14,K$19:K$30)+$A18","v":{"$error":"#VALUE!"}},{"$f":"$G$8+K$14+MAX($A18,$A$19:$A$30)","v":{"$error":"#VALUE!"}},{"$f":"MAX($A$14,$A$19:$A$30)+$G18+K$8","v":{"$error":"#VALUE!"}},{"$f":"$A$14+MAX($G18,$G$19:$G$30)+K$8","v":{"$error":"#VALUE!"}},{"$f":"$A$14+$G18+MAX(K$8,K$19:K$30)","v":{"$error":"#VALUE!"}},{"$f":"IF(OR(BH24<BI24,BH24<BJ24,BH24<BK24),\"rotation \"&$T24&\" \"&$BF$18&\" - \",IF(OR(BH24<BL24,BH24<BM24,BH24<BN24),\"rotation \"&$T24&\" \"&$BG$18&\" - \",0))","v":{"$error":"#VALUE!"}},{"$f":"$A$8+$H$15+K18","v":{"$error":"#VALUE!"}},{"$f":"MAX($H$8,$H$19:$H$30)+K$15+$A18","v":{"$error":"#VALUE!"}},{"$f":"$H$8+MAX(K$15,K$19:K$30)+$A18","v":{"$error":"#VALUE!"}},{"$f":"$H$8+K$15+MAX($A18,$A$19:$A$30)","v":{"$error":"#VALUE!"}},{"$f":"MAX($A$15,$A$19:$A$30)+$H18+K$8","v":{"$error":"#VALUE!"}},{"$f":"$A$15+MAX($H18,$H$19:$H$30)+K$8","v":{"$error":"#VALUE!"}},{"$f":"$A$15+$H18+MAX(K$8,K$19:K$30)","v":{"$error":"#VALUE!"}},{"$f":"IF(OR(BP24<BQ24,BP24<BR24,BP24<BS24),\"rotation \"&$Q24&\" \"&BO$18&\" - \",IF(OR(BP24<BT24,BP24<BU24,BP24<BV24),\"rotation \"&$Q24&\" \"&BP$18&\" - \",0))","v":{"$error":"#VALUE!"}},{"$f":"$A$8+$I$16+K18","v":{"$error":"#VALUE!"}},{"$f":"MAX($I$8,$I$19:$I$30)+K$16+$A18","v":{"$error":"#VALUE!"}},{"$f":"$I$8+MAX(K$16,K$19:K$30)+$A18","v":{"$error":"#VALUE!"}},{"$f":"$I$8+K$16+MAX($A18,$A$19:$A$30)","v":{"$error":"#VALUE!"}},{"$f":"MAX($A$16,$A$19:$A$30)+$I18+K$8","v":{"$error":"#VALUE!"}},{"$f":"$A$16+MAX($I18,$I$19:$I$30)+K$8","v":{"$error":"#VALUE!"}},{"$f":"$A$16+$I18+MAX(K$8,K$19:K$30)","v":{"$error":"#VALUE!"}},{"$f":"IF(OR(BX24<BY24,BX24<BZ24,BX24<CA24),\"rotation \"&$T24&\" \"&$BX$18&\" - \",IF(OR(BX24<CB24,BX24<CC24,BX24<CD24),\"rotation \"&$T24&\" \"&$BY$18&\" - \",0))","v":{"$error":"#VALUE!"}},null,null,null,11,{"$f":"$B$9+$D$11+K18","v":{"$error":"#VALUE!"}},{"$f":"$D$9+K$11+MAX($B18,$B$19:$B$29)","v":{"$error":"#VALUE!"}},{"$f":"$D$9+MAX(K$11,K$19:K$30)+$B18","v":{"$error":"#VALUE!"}},{"$f":"MAX($D$9,$D$19:$D$30)+K$11+$B18","v":{"$error":"#VALUE!"}},{"$f":"MAX($B$11,$B$19:$B$30)+$D18+K$9","v":{"$error":"#VALUE!"}},{"$f":"$B$11+MAX($D18,$D$19:$D$30)+K$9","v":{"$error":"#VALUE!"}},{"$f":"$B$11+$D18+MAX(K$9,K$19:K$30)","v":{"$error":"#VALUE!"}},{"$f":"$B$9+$E$12+K18","v":{"$error":"#VALUE!"}},{"$f":"MAX($E$9,$E$19:$E$29)+K$12+$B18","v":{"$error":"#VALUE!"}},{"$f":"$E$9+MAX(K$12,K$19:K$29)+$B18","v":{"$error":"#VALUE!"}},{"$f":"$E$9+K$12+MAX($B18,$B$19:$B$29)","v":{"$error":"#VALUE!"}},{"$f":"MAX($B$12,B$19:B$29)+$E18+K$9","v":{"$error":"#VALUE!"}},{"$f":"$B$12+MAX($E18,$E$19:$E$29)+K$9","v":{"$error":"#VALUE!"}},{"$f":"$B$12+$E18+MAX(K$9,K$19:K$30)","v":{"$error":"#VALUE!"}},{"$f":"$B$9+$F$13+K18","v":{"$error":"#VALUE!"}},{"$f":"MAX($F$9,$F$19:$F$29)+K$13+$B18","v":{"$error":"#VALUE!"}},{"$f":"$F$9+MAX(K$13,K$19:K$29)+$B18","v":{"$error":"#VALUE!"}},{"$f":"$F$9+K$13+MAX($B18,$B$19:$B$29)","v":{"$error":"#VALUE!"}},{"$f":"MAX($B$13,$B$19:$B$29)+$F18+K$9","v":{"$error":"#VALUE!"}},{"$f":"$B$13+MAX($F18,$F$19:$F$29)+K$9","v":{"$error":"#VALUE!"}},{"$f":"$B$13+$F18+MAX(K$9,K$19:K$29)","v":{"$error":"#VALUE!"}},{"$f":"$B$9+$G$14+K18","v":{"$error":"#VALUE!"}},{"$f":"MAX($G$9,$G$19:$G$30)+K$14+$B18","v":{"$error":"#VALUE!"}},{"$f":"$G$9+MAX(K$14,K$19:K$30)+$B18","v":{"$error":"#VALUE!"}},{"$f":"$G$9+K$14+MAX($B18,$B$19:$B$30)","v":{"$error":"#VALUE!"}},{"$f":"MAX($B$14,$B$19:$B$30)+$G18+K$9","v":{"$error":"#VALUE!"}},{"$f":"$B$14+MAX($G18,$G$19:$G$30)+K$9","v":{"$error":"#VALUE!"}},{"$f":"$B$14+$G18+MAX(K$9,K$19:K$30)","v":{"$error":"#VALUE!"}},{"$f":"$B$9+$H$15+K18","v":{"$error":"#VALUE!"}},{"$f":"MAX($H$9,$H$19:$H$30)+K$15+$B18","v":{"$error":"#VALUE!"}},{"$f":"$H$9+MAX(K$15,K$19:K$30)+$B18","v":{"$error":"#VALUE!"}},{"$f":"$H$9+K$15+MAX($B18,$B$19:$B$30)","v":{"$error":"#VALUE!"}},{"$f":"MAX($B$15,$B$19:$B$30)+$H18+K$9","v":{"$error":"#VALUE!"}},{"$f":"$B$15+MAX($H18,$H$19:$H$30)+K$9","v":{"$error":"#VALUE!"}},{"$f":"$B$15+$H18+MAX(K$9,K$19:K$30)","v":{"$error":"#VALUE!"}},{"$f":"$B$9+$I$16+K18","v":{"$error":"#VALUE!"}},{"$f":"MAX($I$9,$I$19:$I$30)+K$16+$B18","v":{"$error":"#VALUE!"}},{"$f":"$I$9+MAX(K$16,K$19:K$30)+$B18","v":{"$error":"#VALUE!"}},{"$f":"$I$9+K$16+MAX($B18,$B$19:$B$30)","v":{"$error":"#VALUE!"}},{"$f":"MAX($B$16,$B$19:$B$30)+$I18+K$9","v":{"$error":"#VALUE!"}},{"$f":"$B$16+MAX($I18,$I$19:$I$30)+K$9","v":{"$error":"#VALUE!"}},{"$f":"$B$16+$I18+MAX(K$9,K$19:K$30)","v":{"$error":"#VALUE!"}},{"$f":"IF(OR(DS24<DT24,DS24<DU24,DS24<DV24),\"rotation \"&$T24&\" \"&DS$18&\" - \",IF(OR(DS24<DW24,DS24<DX24,DS24<DY24),\"rotation \"&$T24&\" \"&DT$18&\" - \",0))","v":{"$error":"#VALUE!"}},{"$f":"IF(OR(DL24<DM24,DL24<DN24,DL24<DO24),\"rotation \"&$T24&\" \"&DK$18&\" - \",IF(OR(DL24<DP24,DL24<DQ24,DL24<DR24),\"rotation \"&$T24&\" \"&DL$18&\" - \",0))","v":{"$error":"#VALUE!"}},{"$f":"IF(OR(DE24<DF24,DE24<DG24,DE24<DH24),\"rotation \"&$T24&\" \"&DC$18&\" - \",IF(OR(DE24<DI24,DE24<DJ24,DE24<DK24),\"rotation \"&$T24&\" \"&DB$18&\" - \",0))","v":{"$error":"#VALUE!"}},{"$f":"IF(OR(CX24<CY24,CX24<CZ24,CX24<DA24),\"rotation \"&$T24&\" \"&CU$18&\" - \",IF(OR(CX24<DB24,CX24<DC24,CX24<DD24),\"rotation \"&$T24&\" \"&CV$18&\" - \",0))","v":{"$error":"#VALUE!"}},{"$f":"IF(OR(CQ24<CR24,CQ24<CS24,CQ24<CT24),\"rotation \"&$T24&\" \"&CM$18&\" - \",IF(OR(CQ24<CU24,CQ24<CV24,CQ24<CW24),\"rotation \"&$T24&\" \"&CN$18&\" - \",0))","v":{"$error":"#VALUE!"}},{"$f":"$C$10+$E$12+K18","v":{"$error":"#VALUE!"}},{"$f":"MAX($E$10,$E$19:$E$29)+K$12+$C18","v":{"$error":"#VALUE!"}},{"$f":"$E$10+MAX(K$12,K$19:K$29)+$C18","v":{"$error":"#VALUE!"}},{"$f":"$E$10+K$12+MAX($C18,$C$19:$C$29)","v":{"$error":"#VALUE!"}},{"$f":"MAX($C$12,C$19:C$29)+$E18+K$10","v":{"$error":"#VALUE!"}},{"$f":"$C$12+MAX($E18,$E$19:$E$29)+K$10","v":{"$error":"#VALUE!"}},{"$f":"$C$12+$E18+MAX(K$10,K$19:K$30)","v":{"$error":"#VALUE!"}},{"$f":"$C$10+$F$13+K18","v":{"$error":"#VALUE!"}},{"$f":"MAX($F$10,$F$19:$F$29)+K$13+$C18","v":{"$error":"#VALUE!"}},{"$f":"$F$10+MAX(K$13,K$19:K$29)+$C18","v":{"$error":"#VALUE!"}},{"$f":"$F$10+K$13+MAX($C18,$C$19:$C$29)","v":{"$error":"#VALUE!"}},{"$f":"MAX($C$13,$C$19:$C$29)+$F18+K$10","v":{"$error":"#VALUE!"}},{"$f":"$C$13+MAX($F18,$F$19:$F$29)+K$10","v":{"$error":"#VALUE!"}},{"$f":"$C$13+$F18+MAX(K$10,K$19:K$29)","v":{"$error":"#VALUE!"}},{"$f":"$C$10+$G$14+K18","v":{"$error":"#VALUE!"}},{"$f":"MAX($G$10,$G$19:$G$30)+K$14+$C18","v":{"$error":"#VALUE!"}},{"$f":"$G$10+MAX(K$14,K$19:K$30)+$C18","v":{"$error":"#VALUE!"}},{"$f":"$G$10+K$14+MAX($C18,$C$19:$C$30)","v":{"$error":"#VALUE!"}},{"$f":"MAX($C$14,$C$19:$C$30)+$G18+K$10","v":{"$error":"#VALUE!"}},{"$f":"$C$14+MAX($G18,$G$19:$G$30)+K$10","v":{"$error":"#VALUE!"}},{"$f":"$C$14+$G18+MAX(K$10,K$19:K$30)","v":{"$error":"#VALUE!"}},{"$f":"$C$10+$H$15+K18","v":{"$error":"#VALUE!"}},{"$f":"MAX($H$10,$H$19:$H$30)+K$15+$C18","v":{"$error":"#VALUE!"}},{"$f":"$H$10+MAX(K$15,K$19:K$30)+$C18","v":{"$error":"#VALUE!"}},{"$f":"$H$10+K$15+MAX($C18,$C$19:$C$30)","v":{"$error":"#VALUE!"}},{"$f":"MAX($C$15,$C$19:$C$30)+$H18+K$10","v":{"$error":"#VALUE!"}},{"$f":"$C$15+MAX($H18,$H$19:$H$30)+K$10","v":{"$error":"#VALUE!"}},{"$f":"$C$15+$H18+MAX(K$10,K$19:K$30)","v":{"$error":"#VALUE!"}},{"$f":"$C$10+$I$16+K18","v":{"$error":"#VALUE!"}},{"$f":"MAX($I$10,$I$19:$I$30)+K$16+$C18","v":{"$error":"#VALUE!"}},{"$f":"$I$10+MAX(K$16,K$19:K$30)+$C18","v":{"$error":"#VALUE!"}},{"$f":"$I$10+K$16+MAX($C18,$C$19:$C$30)","v":{"$error":"#VALUE!"}},{"$f":"MAX($C$16,$C$19:$C$30)+$I18+K$10","v":{"$error":"#VALUE!"}},{"$f":"$C$16+MAX($I18,$I$19:$I$30)+K$10","v":{"$error":"#VALUE!"}},{"$f":"$C$16+$I18+MAX(K$10,K$19:K$30)","v":{"$error":"#VALUE!"}},null,null,null,{"$f":"$D$11+$F$13+K18","v":{"$error":"#VALUE!"}},{"$f":"MAX($F$11,$F$19:$F$29)+K$13+$D18","v":{"$error":"#VALUE!"}},{"$f":"$F$11+MAX(K$13,K$19:K$29)+$D18","v":{"$error":"#VALUE!"}},{"$f":"$F$11+K$13+MAX($D18,$D$20:$D$30)","v":{"$error":"#VALUE!"}},{"$f":"MAX($D$13,$D$19:$D$29)+$F18+K$11","v":{"$error":"#VALUE!"}},{"$f":"$D$13+MAX($F18,$F$19:$F$29)+K$11","v":{"$error":"#VALUE!"}},{"$f":"$D$13+$F18+MAX(K$11,K$19:K$29)","v":{"$error":"#VALUE!"}},{"$f":"$D$11+$G$14+K18","v":{"$error":"#VALUE!"}},{"$f":"MAX($G$11,$G$19:$G$30)+K$14+$D18","v":{"$error":"#VALUE!"}},{"$f":"$G$11+MAX(K$14,K$19:K$30)+$D18","v":{"$error":"#VALUE!"}},{"$f":"$G$11+K$14+MAX($D18,$D$19:$D$30)","v":{"$error":"#VALUE!"}},{"$f":"MAX($D$14,$D$19:$D$30)+$G18+K$11","v":{"$error":"#VALUE!"}},{"$f":"$D$14+MAX($G18,$G$19:$G$30)+K$11","v":{"$error":"#VALUE!"}},{"$f":"$D$14+$G18+MAX(K$11,K$19:K$30)","v":{"$error":"#VALUE!"}},{"$f":"$D$11+$H$15+K18","v":{"$error":"#VALUE!"}},{"$f":"MAX($H$11,$H$19:$H$30)+K$15+$D18","v":{"$error":"#VALUE!"}},{"$f":"$H$11+MAX(K$15,K$19:K$30)+$D18","v":{"$error":"#VALUE!"}},{"$f":"$H$11+K$15+MAX($D18,$D$19:$D$30)","v":{"$error":"#VALUE!"}},{"$f":"MAX($D$15,$D$19:$D$30)+$H18+K$11","v":{"$error":"#VALUE!"}},{"$f":"$D$15+MAX($H18,$H$19:$H$30)+K$11","v":{"$error":"#VALUE!"}},{"$f":"$D$15+$H18+MAX(K$11,K$19:K$30)","v":{"$error":"#VALUE!"}},{"$f":"$D$11+$I$16+K18","v":{"$error":"#VALUE!"}},{"$f":"MAX($I$11,$I$19:$I$30)+K$16+$D18","v":{"$error":"#VALUE!"}},{"$f":"$I$11+MAX(K$16,K$19:K$30)+$D18","v":{"$error":"#VALUE!"}},{"$f":"$I$11+K$16+MAX($D18,$D$19:$D$30)","v":{"$error":"#VALUE!"}},{"$f":"MAX($D$16,$D$19:$D$30)+$I18+K$11","v":{"$error":"#VALUE!"}},{"$f":"$D$16+MAX($I18,$I$19:$I$30)+K$11","v":{"$error":"#VALUE!"}},{"$f":"$D$16+$I18+MAX(K$11,K$19:K$30)","v":{"$error":"#VALUE!"}},null,null,null,{"$f":"$E$12+$G$14+K18","v":{"$error":"#VALUE!"}},{"$f":"MAX($G$12,$G$19:$G$30)+K$14+$E18","v":{"$error":"#VALUE!"}},{"$f":"$G$12+MAX(K$14,K$19:K$30)+$E18","v":{"$error":"#VALUE!"}},{"$f":"$G$12+K$14+MAX($E18,$E$19:$E$30)","v":{"$error":"#VALUE!"}},{"$f":"MAX($E$14,$E$19:$E$30)+$G18+K$12","v":{"$error":"#VALUE!"}},{"$f":"$E$14+MAX($G18,$G$19:$G$30)+K$12","v":{"$error":"#VALUE!"}},{"$f":"$E$14+$G18+MAX(K$12,K$19:K$30)","v":{"$error":"#VALUE!"}},{"$f":"$E$12+$H$15+K18","v":{"$error":"#VALUE!"}},{"$f":"MAX($H$12,$H$19:$H$30)+K$15+$E18","v":{"$error":"#VALUE!"}},{"$f":"$H$12+MAX(K$15,K$19:K$30)+$E18","v":{"$error":"#VALUE!"}},{"$f":"$H$12+K$15+MAX($E18,$E$19:$E$30)","v":{"$error":"#VALUE!"}},{"$f":"MAX($E$15,$E$19:$E$30)+$H18+K$12","v":{"$error":"#VALUE!"}},{"$f":"$E$15+MAX($H18,$H$19:$H$30)+K$12","v":{"$error":"#VALUE!"}},{"$f":"$E$15+$H18+MAX(K$12,K$19:K$30)","v":{"$error":"#VALUE!"}},{"$f":"$E$12+$I$16+K18","v":{"$error":"#VALUE!"}},{"$f":"MAX($I$12,$I$19:$I$30)+K$16+$E18","v":{"$error":"#VALUE!"}},{"$f":"$I$12+MAX(K$16,K$19:K$30)+$E18","v":{"$error":"#VALUE!"}},{"$f":"$I$12+K$16+MAX($E18,$E$19:$E$30)","v":{"$error":"#VALUE!"}},{"$f":"MAX($E$16,$E$19:$E$30)+$I18+K$12","v":{"$error":"#VALUE!"}},{"$f":"$E$16+MAX($I18,$I$19:$I$30)+K$12","v":{"$error":"#VALUE!"}},{"$f":"$E$16+$I18+MAX(K$12,K$19:K$30)","v":{"$error":"#VALUE!"}},null,null,{"$f":"$F$13+$H$15+K18","v":{"$error":"#VALUE!"}},{"$f":"MAX($H$13,$H$19:$H$30)+K$15+$F18","v":{"$error":"#VALUE!"}},{"$f":"$H$13+MAX(K$15,K$19:K$30)+$F18","v":{"$error":"#VALUE!"}},{"$f":"$H$13+K$15+MAX($F18,$F$19:$F$30)","v":{"$error":"#VALUE!"}},{"$f":"MAX($F$15,$F$19:$F$30)+$H18+K$13","v":{"$error":"#VALUE!"}},{"$f":"$F$15+MAX($H18,$H$19:$H$30)+K$13","v":{"$error":"#VALUE!"}},{"$f":"$F$15+$H18+MAX(K$13,K$19:K$30)","v":{"$error":"#VALUE!"}},{"$f":"$F$13+$I$16+K18","v":{"$error":"#VALUE!"}},{"$f":"MAX($I$13,$I$19:$I$30)+K$16+$F18","v":{"$error":"#VALUE!"}},{"$f":"$I$13+MAX(K$16,K$19:K$30)+$F18","v":{"$error":"#VALUE!"}},{"$f":"$I$13+K$16+MAX($F18,$F$19:$F$30)","v":{"$error":"#VALUE!"}},{"$f":"MAX($F$16,$F$19:$F$30)+$I18+K$13","v":{"$error":"#VALUE!"}},{"$f":"$F$16+MAX($I18,$I$19:$I$30)+K$13","v":{"$error":"#VALUE!"}},{"$f":"$F$16+$I18+MAX(K$13,K$19:K$30)","v":{"$error":"#VALUE!"}},null,{"$f":"$G$14+$I$16+K18","v":{"$error":"#VALUE!"}},{"$f":"MAX($I$14,$I$19:$I$30)+K$16+$G18","v":{"$error":"#VALUE!"}},{"$f":"$I$14+MAX(K$16,K$19:K$30)+$G18","v":{"$error":"#VALUE!"}},{"$f":"$I$14+K$16+MAX($G18,$G$19:$G$30)","v":{"$error":"#VALUE!"}},{"$f":"MAX($G$16,$G$19:$G$30)+$I18+K$14","v":{"$error":"#VALUE!"}},{"$f":"$G$16+MAX($I18,$I$19:$I$30)+K$14","v":{"$error":"#VALUE!"}},{"$f":"$G$16+$I18+MAX(K$14,K$19:K$30)","v":{"$error":"#VALUE!"}}]
[{"$f":"INDEX(Pauljo!$B$60:$L$81,MATCH(18,Pauljo!$N$60:$N$81,0),1)","v":""},{"$f":"INDEX(Pauljo!$B$60:$L$81,MATCH(18,Pauljo!$N$60:$N$81,0),2)","v":""},{"$f":"INDEX(Pauljo!$B$60:$N$81,MATCH(18,Pauljo!$N$60:$N$81,0),3)","v":""},{"$f":"INDEX(Pauljo!$B$60:$N$81,MATCH(18,Pauljo!$N$60:$N$81,0),4)","v":""},{"$f":"INDEX(Pauljo!$B$60:$N$81,MATCH(18,Pauljo!$N$60:$N$81,0),5)","v":""},{"$f":"INDEX(Pauljo!$B$60:$N$81,MATCH(18,Pauljo!$N$60:$N$81,0),6)","v":""},{"$f":"INDEX(Pauljo!$B$60:$N$81,MATCH(18,Pauljo!$N$60:$N$81,0),7)","v":""},{"$f":"INDEX(Pauljo!$B$60:$N$81,MATCH(18,Pauljo!$N$60:$N$81,0),8)","v":""},{"$f":"INDEX(Pauljo!$B$60:$N$81,MATCH(18,Pauljo!$N$60:$N$81,0),9)","v":""},{"$f":"INDEX(Pauljo!$B$60:$N$81,MATCH(18,Pauljo!$N$60:$N$81,0),10)","v":""},{"$f":"INDEX(Pauljo!$B$60:$N$81,MATCH(18,Pauljo!$N$60:$N$81,0),11)","v":""},null,null,null,null,null,null,null,null,null,null,null,null,null,null,null,null,null,null,null,null,null,null,null,null,{"$f":"IF(AC18<>0,\" \"&AC18&\" \",IF(AD19<>0,\" \"&AD19&\" \",IF(AE20<>0,\" \"&AE20&\" \",IF(AF21<>0,\" \"&AF21&\" \",IF(AG22<>0,\" \"&AG22&\" \",IF(AH23<>0,\" \"&AH23&\" \",IF(AI24<>0,\" \"&AI24&\" \",0)))))))","v":{"$error":"#VALUE!"}},null,null,null,null,null,null,null,{"$f":"IF(AK18<>0,\" \"&AK18&\" \",IF(AL19<>0,\" \"&AL19&\" \",IF(AM20<>0,\" \"&AM20&\" \",IF(AN21<>0,\" \"&AN21&\" \",IF(AO22<>0,\" \"&AO22&\" \",IF(AP23<>0,\" \"&AP23&\" \",IF(AQ24<>0,\" \"&AQ24&\" \",0)))))))","v":{"$error":"#VALUE!"}},null,null,null,null,null,null,null,{"$f":"IF(BD21<>0,\" \"&BD21&\" \",IF(BE22<>0,\" \"&BE22&\" \",IF(AU20<>0,\" \"&AU20&\" \",IF(AV21<>0,\" \"&AV21&\" \",IF(AW22<>0,\" \"&AW22&\" \",IF(AX23<>0,\" \"&AX23&\" \",IF(AY24<>0,\" \"&AY24&\" \",0)))))))","v":{"$error":"#VALUE!"}},null,null,null,null,null,null,null,null,null,null,null,null,null,null,null,{"$f":"IF(BV23<>0,\" \"&BV23&\" \",IF(BW24<>0,\" \"&BW24&\" \",IF(BF23<>0,\" \"&BF23&\" \",IF(BG24<>0,\" \"&BG24&\" \",IF(BM22<>0,\" \"&BM22&\" \",IF(BN23<>0,\" \"&BN23&\" \",IF(BO24<>0,\" \"&BO24&\" \",0)))))))","v":{"$error":"#VALUE!"}},null,null,null,null,null,null,null,null,null,null,null,null,null,null,null,null,null,null,null,null,null,null,null,null,null,null,{"$f":"IF(CE24<>0,\" \"&CE24&\" \",IF(CL19<>0,\" \"&CL19&\" \",IF(CT20<>0,\" \"&CT20&\" \",IF(CT20<>0,\" \"&CT20&\" \",IF(CT20<>0,\" \"&CT20&\" \",IF(CU20<>0,\" \"&CU20&\" \",IF(DB21<>0,\" \"&DB21&\" \",IF(DC21<>0,\" \"&DC21&\" \",0))))))))","v":{"$error":"#VALUE!"}},null,null,null,null,null,null,null,null,null,null,null,null,null,null,null,null,null,null,null,{"$f":"IF(DD21<>0,\" \"&DD21&\" \",IF(DJ22<>0,\" \"&DJ22&\" \",IF(DK22<>0,\" \"&DK22&\" \",IF(DL22<>0,\" \"&DL22&\" \",IF(DM22<>0,\" \"&DM22&\" \",IF(DR23<>0,\" \"&DR23&\" \",IF(DS23<>0,\" \"&DS23&\" \",IF(DT23<>0,\" \"&DT23&\" \",0))))))))","v":{"$error":"#VALUE!"}},null,null,null,null,null,null,null,null,{"$f":"IF(DU23<>0,\" \"&DU23&\" \",IF(DV23<>0,\" \"&DV23&\" \",IF(DZ24<>0,\" \"&DZ24&\" \",IF(EA24<>0,\" \"&EA24&\" \",IF(EB24<>0,\" \"&EB24&\" \",IF(EC24<>0,\" \"&EC24&\" \",IF(ED24<>0,\" \"&ED24&\" \",IF(EE29<>0,\" \"&EE29&\" \",0))))))))","v":{"$error":"#VALUE!"}},null,null,null,null,null,null,null,null,null,null,{"$f":"IF(OR(CJ24<CK24,CJ24<CL24,CJ24<CM24),\"rotation \"&$T24&\" \"&CE$18&\" - \",IF(OR(CJ24<CN24,CJ24<CO24,CJ24<CP24),\"rotation \"&$T24&\" \"&CF$18&\" - \",0))","v":{"$error":"#VALUE!"}},null,null,null,null,null,null,null,null,null,null,null,null,null,null,null,null,null,null,null,null,null,null,null,null,null,null,null,null,null,null,null,null,null,null,{"$f":"IF(OR(FG24<FH24,FG24<FI24,FG24<FJ24),\"rotation \"&$T24&\" \"&FG$18&\" - \",IF(OR(FG24<FK24,FG24<FL24,FG24<FM24),\"rotation \"&$T24&\" \"&FH$18&\" - \",0))","v":{"$error":"#VALUE!"}},{"$f":"IF(OR(EZ24<FA24,EZ24<FB24,EZ24<FC24),\"rotation \"&$T24&\" \"&EX$18&\" - \",IF(OR(EZ24<FD24,EZ24<FE24,EZ24<FF24),\"rotation \"&$T24&\" \"&EY$18&\" - \",0))","v":{"$error":"#VALUE!"}},{"$f":"IF(OR(ES24<ET24,ES24<EU24,ES24<EV24),\"rotation \"&$T24&\" \"&EQ$18&\" - \",IF(OR(ES24<EW24,ES24<EX24,ES24<EY24),\"rotation \"&$T24&\" \"&ER$18&\" - \",0))","v":{"$error":"#VALUE!"}},{"$f":"IF(OR(EL24<EM24,EL24<EN24,EL24<EO24),\"rotation \"&$T24&\" \"&EI$18&\" - \",IF(OR(EL24<EP24,EL24<EQ24,EL24<ER24),\"rotation \"&$T24&\" \"&EJ$18&\" - \",0))","v":{"$error":"#VALUE!"}},{"$f":"IF(OR(EE24<EF24,EE24<EG24,EE24<EH24),\"rotation \"&$T24&\" \"&EA$18&\" - \",IF(OR(EE24<EI24,EE24<EJ24,EE24<EK24),\"rotation \"&$T24&\" \"&EB$18&\" - \",0))","v":{"$error":"#VALUE!"}},null,null,null,null,null,null,null,null,null,null,null,null,null,null,null,null,null,null,null,null,null,null,null,null,null,null,{"$f":"IF(OR(GL24<GM24,GL24<GN24,GL24<GO24),\"rotation \"&$T24&\" \"&GL$18&\" - \",IF(OR(GL24<GP24,GL24<GQ24,GL24<GR24),\"rotation \"&$T24&\" \"&GM$18&\" - \",0))","v":{"$error":"#VALUE!"}},{"$f":"IF(OR(GE24<GF24,GE24<GG24,GE24<GH24),\"rotation \"&$T24&\" \"&GD$18&\" - \",IF(OR(GE24<GI24,GE24<GJ24,GE24<GK24),\"rotation \"&$T24&\" \"&GE$18&\" - \",0))","v":{"$error":"#VALUE!"}},{"$f":"IF(OR(FX24<FY24,FX24<FZ24,FX24<GA24),\"rotation \"&$T24&\" \"&FV$18&\" - \",IF(OR(FX24<GB24,FX24<GC24,FX24<GD24),\"rotation \"&$T24&\" \"&FW$18&\" - \",0))","v":{"$error":"#VALUE!"}},{"$f":"IF(OR(FQ24<FR24,FQ24<FS24,FQ24<FT24),\"rotation \"&$T24&\" \"&FN$18&\" - \",IF(OR(FQ24<FU24,FQ24<FV24,FQ24<FW24),\"rotation \"&$T24&\" \"&FO$18&\" - \",0))","v":{"$error":"#VALUE!"}},null,null,null,null,null,null,null,null,null,null,null,null,null,null,null,null,null,null,null,null,{"$f":"IF(OR(HJ24<HK24,HJ24<HL24,HJ24<HM24),\"rotation \"&$T24&\" \"&HJ$18&\" - \",IF(OR(HJ24<HN24,HJ24<HO24,HJ24<HP24),\"rotation \"&$T24&\" \"&HK$18&\" - \",0))","v":{"$error":"#VALUE!"}},{"$f":"IF(OR(HC24<HD24,HC24<HE24,HC24<HF24),\"rotation \"&$T24&\" \"&HB$18&\" - \",IF(OR(HC24<HG24,HC24<HH24,HC24<HI24),\"rotation \"&$T24&\" \"&HC$18&\" - \",0))","v":{"$error":"#VALUE!"}},{"$f":"IF(OR(GV24<GW24,GV24<GX24,GV24<GY24),\"rotation \"&$T24&\" \"&GT$18&\" - \",IF(OR(GV24<GZ24,GV24<HA24,GV24<HB24),\"rotation \"&$T24&\" \"&GU$18&\" - \",0))","v":{"$error":"#VALUE!"}},null,null,null,null,null,null,null,null,null,null,null,null,null,{"$f":"IF(OR(HZ24<IA24,HZ24<IB24,HZ24<IC24),\"rotation \"&$T24&\" \"&HZ$18&\" - \",IF(OR(HZ24<ID24,HZ24<IE24,HZ24<IF24),\"rotation \"&$T24&\" \"&IA$18&\" - \",0))","v":{"$error":"#VALUE!"}},{"$f":"IF(OR(HS24<HT24,HS24<HU24,HS24<HV24),\"rotation \"&$T24&\" \"&HR$18&\" - \",IF(OR(HS24<HW24,HS24<HX24,HS24<HY24),\"rotation \"&$T24&\" \"&HS$18&\" - \",0))","v":{"$error":"#VALUE!"}},null,null,null,null,null,null,{"$f":"IF(OR(IH24<II24,IH24<IJ24,IH24<IK24),\"rotation \"&$T24&\" \"&IH$18&\" - \",IF(OR(IH24<IL24,IH24<IM24,IH24<IN24),\"rotation \"&$T24&\" \"&II$18&\" - \",0))","v":{"$error":"#VALUE!"}}]
[{"$f":"INDEX(Pauljo!$B$60:$L$81,MATCH(19,Pauljo!$N$60:$N$81,0),1)","v":""},{"$f":"INDEX(Pauljo!$B$60:$L$81,MATCH(19,Pauljo!$N$60:$N$81,0),2)","v":""},{"$f":"INDEX(Pauljo!$B$60:$N$81,MATCH(19,Pauljo!$N$60:$N$81,0),3)","v":""},{"$f":"INDEX(Pauljo!$B$60:$N$81,MATCH(19,Pauljo!$N$60:$N$81,0),4)","v":""},{"$f":"INDEX(Pauljo!$B$60:$N$81,MATCH(19,Pauljo!$N$60:$N$81,0),5)","v":""},{"$f":"INDEX(Pauljo!$B$60:$N$81,MATCH(19,Pauljo!$N$60:$N$81,0),6)","v":""},{"$f":"INDEX(Pauljo!$B$60:$N$81,MATCH(19,Pauljo!$N$60:$N$81,0),7)","v":""},{"$f":"INDEX(Pauljo!$B$60:$N$81,MATCH(19,Pauljo!$N$60:$N$81,0),8)","v":""},{"$f":"INDEX(Pauljo!$B$60:$N$81,MATCH(19,Pauljo!$N$60:$N$81,0),9)","v":""},{"$f":"INDEX(Pauljo!$B$60:$N$81,MATCH(19,Pauljo!$N$60:$N$81,0),10)","v":""},{"$f":"INDEX(Pauljo!$B$60:$N$81,MATCH(19,Pauljo!$N$60:$N$81,0),11)","v":""},null,null,null,null,null,null,null,null,null,null,null,null,null,null,null,null,null,null,null,null,null,null,null,null,null,null,null,null,null,null,null,null,null,null,null,null,null,null,null,null,null,null,null,null,null,null,null,null,null,null,null,null,null,null,null,null,null,null,null,null,null,null,null,null,null,null,null,null,null,null,null,null,null,null,null,null,null,null,null,null,null,null,null,null,null,null,null,null,null,null,null,null,null,null,null,null,null,null,null,null,null,null,null,null,null,null,null,null,null,null,null,null,null,null,null,null,null,null,null,null,null,null,null,null,null,null,null,null,null,null,null,{"$f":"IF(EZ22<>0,\" \"&EZ22&\" \",IF(EH20<>0,\" \"&EH20&\" \",IF(EP21<>0,\" \"&EP21&\" \",IF(EP21<>0,\" \"&EP21&\" \",IF(EP21<>0,\" \"&EP21&\" \",IF(EQ21<>0,\" \"&EQ21&\" \",IF(EX22<>0,\" \"&EX22&\" \",IF(EY22<>0,\" \"&EY22&\" \",0))))))))","v":{"$error":"#VALUE!"}},null,null,null,null,null,null,null,null,null,null,null,null,null,null,null,null,null,null,null,{"$f":"IF(EZ22<>0,\" \"&EZ22&\" \",IF(FF23<>0,\" \"&FF23&\" \",IF(FG23<>0,\" \"&FG23&\" \",IF(FH23<>0,\" \"&FH23&\" \",IF(FI23<>0,\" \"&FI23&\" \",IF(FN25<>0,\" \"&FN25&\" \",IF(FO25<>0,\" \"&FO25&\" \",IF(FP25<>0,\" \"&FP25&\" \",0))))))))","v":{"$error":"#VALUE!"}}]
[{"$f":"INDEX(Pauljo!$B$60:$L$81,MATCH(20,Pauljo!$N$60:$N$81,0),1)","v":""},{"$f":"INDEX(Pauljo!$B$60:$L$81,MATCH(20,Pauljo!$N$60:$N$81,0),2)","v":""},{"$f":"INDEX(Pauljo!$B$60:$N$81,MATCH(20,Pauljo!$N$60:$N$81,0),3)","v":""},{"$f":"INDEX(Pauljo!$B$60:$N$81,MATCH(20,Pauljo!$N$60:$N$81,0),4)","v":""},{"$f":"INDEX(Pauljo!$B$60:$N$81,MATCH(20,Pauljo!$N$60:$N$81,0),5)","v":""},{"$f":"INDEX(Pauljo!$B$60:$N$81,MATCH(20,Pauljo!$N$60:$N$81,0),6)","v":""},{"$f":"INDEX(Pauljo!$B$60:$N$81,MATCH(20,Pauljo!$N$60:$N$81,0),7)","v":""},{"$f":"INDEX(Pauljo!$B$60:$N$81,MATCH(20,Pauljo!$N$60:$N$81,0),8)","v":""},{"$f":"INDEX(Pauljo!$B$60:$N$81,MATCH(20,Pauljo!$N$60:$N$81,0),9)","v":""},{"$f":"INDEX(Pauljo!$B$60:$N$81,MATCH(20,Pauljo!$N$60:$N$81,0),10)","v":""},{"$f":"INDEX(Pauljo!$B$60:$N$81,MATCH(20,Pauljo!$N$60:$N$81,0),11)","v":""},null,1,{"$f":"IF($C$5=1,S27,(IF($C$5=O$7,T27,R27)))","v":{"$error":"#N/A"}},{"$f":"A8+B9","v":{"$error":"#VALUE!"}},{"$f":"B8+MAX(A9,A19:A29)","v":{"$error":"#VALUE!"}},{"$f":"A9+MAX(B8,B19:B29)","v":{"$error":"#VALUE!"}},{"$f":"IF(OR(O27<P27,O27<Q27),\"inversion \"&$M27&\" \"&O$7&\" \",0)","v":{"$error":"#VALUE!"}},{"$f":"IF(OR(O27<P27),\"inversion \"&$M27&\" \"&O$7&\" \",0)","v":{"$error":"#VALUE!"}},{"$f":"IF(OR(O27<Q27),\"inversion \"&$M27&\" \"&O$7&\" \",0)","v":{"$error":"#VALUE!"}},{"$f":"IF($C$5=$M27,Z27,(IF($C$5=V$7,AA27,Y27)))","v":{"$error":"#N/A"}},{"$f":"A8+C10","v":{"$error":"#VALUE!"}},{"$f":"C8+MAX(A10,A19:A29)","v":{"$error":"#VALUE!"}},{"$f":"A10+MAX(C8,C19:C29)","v":{"$error":"#VALUE!"}},{"$f":"IF(OR(V27<W27,V27<X27),\"inversion \"&$M27&\" \"&V$7&\" \",0)","v":{"$error":"#VALUE!"}},{"$f":"IF(OR(V27<W27),\"inversion \"&$M27&\" \"&V$7&\" \",0)","v":{"$error":"#VALUE!"}},{"$f":"IF(OR(V27<X27),\"inversion \"&$M27&\" \"&V$7&\" \",0)","v":{"$error":"#VALUE!"}},null,{"$f":"IF($C$5=$M27,AH27,(IF($C$5=AD$7,AI27,AG27)))","v":{"$error":"#N/A"}},{"$f":"A8+D11","v":{"$error":"#VALUE!"}},{"$f":"D8+MAX(A11,A19:A29)","v":{"$error":"#VALUE!"}},{"$f":"A11+MAX(D8,D19:D29)","v":{"$error":"#VALUE!"}},{"$f":"IF(OR(AD27<AE27,AD27<AF27),\"inversion \"&$M27&\" \"&AD$7&\" \",0)","v":{"$error":"#VALUE!"}},{"$f":"IF(OR(AD27<AE27),\"inversion \"&$M27&\" \"&AD$7&\" \",0)","v":{"$error":"#VALUE!"}},{"$f":"IF(OR(AD27<AF27),\"inversion \"&$M27&\" \"&AD$7&\" \",0)","v":{"$error":"#VALUE!"}},null,{"$f":"IF($C$5=$M27,AP27,(IF($C$5=AL$7,AQ27,AO27)))","v":{"$error":"#N/A"}},{"$f":"E12+A8","v":{"$error":"#VALUE!"}},{"$f":"A12+MAX(D8,D19:D29)","v":{"$error":"#VALUE!"}},{"$f":"E8+MAX(A12,A19:A29)","v":{"$error":"#VALUE!"}},{"$f":"IF(OR(AL27<AM27,AL27<AN27),\"inversion \"&$M27&\" \"&AL$7&\" \",0)","v":{"$error":"#VALUE!"}},{"$f":"IF(OR(AL27<AM27),\"inversion \"&$M27&\" \"&AL$7&\" \",0)","v":{"$error":"#VALUE!"}},{"$f":"IF(OR(AL27<AN27),\"inversion \"&$M27&\" \"&AL$7&\" \",0)","v":{"$error":"#VALUE!"}},null,{"$f":"IF($C$5=$M27,AX27,(IF($C$5=AT$7,AY27,AW27)))","v":{"$error":"#N/A"}},{"$f":"A8+F13","v":{"$error":"#VALUE!"}},{"$f":"F8+MAX(A13,A19:A29)","v":{"$error":"#VALUE!"}},{"$f":"A13+MAX(F8,F19:F29)","v":{"$error":"#VALUE!"}},{"$f":"IF(OR(AT27<AU27,AT27<AV27),\"inversion \"&$M27&\" \"&AT$7&\" \",0)","v":{"$error":"#VALUE!"}},{"$f":"IF(OR(AT27<AU27),\"inversion \"&$M27&\" \"&AT$7&\" \",0)","v":{"$error":"#VALUE!"}},{"$f":"IF(OR(AT27<AV27),\"inversion \"&$M27&\" \"&AT$7&\" \",0)","v":{"$error":"#VALUE!"}},null,{"$f":"IF($C$5=$M27,BF27,(IF($C$5=BB$7,BG27,BE27)))","v":{"$error":"#N/A"}},{"$f":"A8+G14","v":{"$error":"#VALUE!"}},{"$f":"G8+MAX(A14,A19:A29)","v":{"$error":"#VALUE!"}},{"$f":"A14+MAX(G8,G19:G29)","v":{"$error":"#VALUE!"}},{"$f":"IF(OR(BB27<BC27,BB27<BD27),\"inversion \"&$M27&\" \"&BB$7&\" \",0)","v":{"$error":"#VALUE!"}},{"$f":"IF(OR(BB27<BC27),\"inversion \"&$M27&\" \"&BB$7&\" \",0)","v":{"$error":"#VALUE!"}},{"$f":"IF(OR(BB27<BD27),\"inversion \"&$M27&\" \"&BB$7&\" \",0)","v":{"$error":"#VALUE!"}},null,{"$f":"IF($C$5=$M27,BN27,(IF($C$5=BJ$7,BO27,BM27)))","v":{"$error":"#N/A"}},{"$f":"A8+H15","v":{"$error":"#VALUE!"}},{"$f":"H8+MAX(A15,A19:A29)","v":{"$error":"#VALUE!"}},{"$f":"A15+MAX(H8,H19:H29)","v":{"$error":"#VALUE!"}},{"$f":"IF(OR(BJ27<BK27,BJ27<BL27),\"inversion \"&$M27&\" \"&BJ$7&\" \",0)","v":{"$error":"#VALUE!"}},{"$f":"IF(OR(BJ27<BK27),\"inversion \"&$M27&\" \"&BJ$7&\" \",0)","v":{"$error":"#VALUE!"}},{"$f":"IF(OR(BJ27<BL27),\"inversion \"&$M27&\" \"&BJ$7&\" \",0)","v":{"$error":"#VALUE!"}},null,{"$f":"IF($C$5=$M27,BV27,(IF($C$5=BR$7,BW27,BU27)))","v":{"$error":"#N/A"}},{"$f":"A8+I16","v":{"$error":"#VALUE!"}},{"$f":"I8+MAX(A16,A19:A29)","v":{"$error":"#VALUE!"}},{"$f":"A16+MAX(I8,I19:I29)","v":{"$error":"#VALUE!"}},{"$f":"IF(OR(BR27<BS27,BR27<BT27),\"inversion \"&$M27&\" \"&BR$7&\" \",0)","v":{"$error":"#VALUE!"}},{"$f":"IF(OR(BR27<BS27),\"inversion \"&$M27&\" \"&BR$7&\" \",0)","v":{"$error":"#VALUE!"}},{"$f":"IF(OR(BR27<BT27),\"inversion \"&$M27&\" \"&BR$7&\" \",0)","v":{"$error":"#VALUE!"}},null,{"$f":"IF($C$5=$M27,CD27,(IF($C$5=BZ$7,CE27,CC27)))","v":{"$error":"#N/A"}},{"$f":"A8+J17","v":{"$error":"#VALUE!"}},{"$f":"J8+MAX(A17,A19:A29)","v":{"$error":"#VALUE!"}},{"$f":"A17+MAX(J8,J19:J29)","v":{"$error":"#VALUE!"}},{"$f":"IF(OR(BZ27<CA27,BZ27<CB27),\"inversion \"&$M27&\" \"&BZ$7&\" \",0)","v":{"$error":"#VALUE!"}},{"$f":"IF(OR(BZ27<CA27),\"inversion \"&$M27&\" \"&BZ$7&\" \",0)","v":{"$error":"#VALUE!"}},{"$f":"IF(OR(BZ27<CB27),\"inversion \"&$M27&\" \"&BZ$7&\" \",0)","v":{"$error":"#VALUE!"}},null,{"$f":"IF($C$5=$M27,CL27,(IF($C$5=CH$7,CM27,CK27)))","v":{"$error":"#N/A"}},{"$f":"A8+K18","v":{"$error":"#VALUE!"}},{"$f":"K8+MAX(A18,A19:A29)","v":{"$error":"#VALUE!"}},{"$f":"A18+MAX(K8,K19:K29)","v":{"$error":"#VALUE!"}},{"$f":"IF(OR(CH27<CI27,CH27<CJ27),\"inversion \"&$M27&\" \"&CH$7&\" \",0)","v":{"$error":"#VALUE!"}},{"$f":"IF(OR(CH27<CI27),\"inversion \"&$M27&\" \"&CH$7&\" \",0)","v":{"$error":"#VALUE!"}},{"$f":"IF(OR(CH27<CJ27),\"inversion \"&$M27&\" \"&CH$7&\" \",0)","v":{"$error":"#VALUE!"}},null,null,null,null,null,null,null,null,null,null,null,null,{"$f":"IF(U27<>0,\" \"&U27&\" \",IF(AC27<>0,\" \"&AC27&\" \",IF(AK27<>0,\" \"&AK27&\" \",IF(AS27<>0,\" \"&AS27&\" \",IF(BA27<>0,\" \"&BA27&\" \",IF(BI27<>0,\" \"&BI27&\" \",IF(BQ27<>0,\" \"&BQ27&\" \",IF(BY27<>0,\" \"&BY27&\" \",0))))))))","v":{"$error":"#N/A"}},null,null,null,null,null,null,null,null,null,null,null,null,null,null,null,null,null,null,null,null,null,null,null,null,null,null,null,null,null,null,null,null,null,null,null,null,null,null,null,null,null,null,null,null,null,null,null,null,null,null,null,null,null,null,null,null,null,null,null,null,null,null,null,null,null,null,null,{"$f":"IF(FQ25<>0,\" \"&FQ25&\" \",IF(FR25<>0,\" \"&FR25&\" \",IF(FU21<>0,\" \"&FU21&\" \",IF(GC22<>0,\" \"&GC22&\" \",IF(GD22<>0,\" \"&GD22&\" \",IF(GK23<>0,\" \"&GK23&\" \",IF(GL23<>0,\" \"&GL23&\" \",IF(GM23<>0,\" \"&GM23&\" \",0))))))))","v":{"$error":"#VALUE!"}}]
[{"$f":"INDEX(Pauljo!$B$60:$L$81,MATCH(21,Pauljo!$N$60:$N$81,0),1)","v":""},{"$f":"INDEX(Pauljo!$B$60:$L$81,MATCH(21,Pauljo!$N$60:$N$81,0),2)","v":""},{"$f":"INDEX(Pauljo!$B$60:$N$81,MATCH(21,Pauljo!$N$60:$N$81,0),3)","v":""},{"$f":"INDEX(Pauljo!$B$60:$N$81,MATCH(21,Pauljo!$N$60:$N$81,0),4)","v":""},{"$f":"INDEX(Pauljo!$B$60:$N$81,MATCH(21,Pauljo!$N$60:$N$81,0),5)","v":""},{"$f":"INDEX(Pauljo!$B$60:$N$81,MATCH(21,Pauljo!$N$60:$N$81,0),6)","v":""},{"$f":"INDEX(Pauljo!$B$60:$N$81,MATCH(21,Pauljo!$N$60:$N$81,0),7)","v":""},{"$f":"INDEX(Pauljo!$B$60:$N$81,MATCH(21,Pauljo!$N$60:$N$81,0),8)","v":""},{"$f":"INDEX(Pauljo!$B$60:$N$81,MATCH(21,Pauljo!$N$60:$N$81,0),9)","v":""},{"$f":"INDEX(Pauljo!$B$60:$N$81,MATCH(21,Pauljo!$N$60:$N$81,0),10)","v":""},{"$f":"INDEX(Pauljo!$B$60:$N$81,MATCH(21,Pauljo!$N$60:$N$81,0),11)","v":""},null,2,null,null,null,null,null,null,null,{"$f":"IF($C$5=$M28,Z28,(IF($C$5=V$7,AA28,Y28)))","v":{"$error":"#N/A"}},{"$f":"B9+C10","v":{"$error":"#VALUE!"}},{"$f":"C9+MAX(B10,B19:B29)","v":{"$error":"#VALUE!"}},{"$f":"B10+MAX(C9,C19:C29)","v":{"$error":"#VALUE!"}},{"$f":"IF(OR(V28<W28,V28<X28),\"inversion \"&$M28&\" \"&V$7&\" \",0)","v":{"$error":"#VALUE!"}},{"$f":"IF(OR(V28<W28),\"inversion \"&$M28&\" \"&V$7&\" \",0)","v":{"$error":"#VALUE!"}},{"$f":"IF(OR(V28<X28),\"inversion \"&$M28&\" \"&V$7&\" \",0)","v":{"$error":"#VALUE!"}},null,{"$f":"IF($C$5=$M28,AH28,(IF($C$5=AD$7,AI28,AG28)))","v":{"$error":"#N/A"}},{"$f":"B9+D11","v":{"$error":"#VALUE!"}},{"$f":"D9+MAX(B11,B19:B29)","v":{"$error":"#VALUE!"}},{"$f":"B11+MAX(D9,D19:D29)","v":{"$error":"#VALUE!"}},{"$f":"IF(OR(AD28<AE28,AD28<AF28),\"inversion \"&$M28&\" \"&AD$7&\" \",0)","v":{"$error":"#VALUE!"}},{"$f":"IF(OR(AD28<AE28),\"inversion \"&$M28&\" \"&AD$7&\" \",0)","v":{"$error":"#VALUE!"}},{"$f":"IF(OR(AD28<AF28),\"inversion \"&$M28&\" \"&AD$7&\" \",0)","v":{"$error":"#VALUE!"}},null,{"$f":"IF($C$5=$M28,AP28,(IF($C$5=AL$7,AQ28,AO28)))","v":{"$error":"#N/A"}},{"$f":"B9+E12","v":{"$error":"#VALUE!"}},{"$f":"E9+MAX(B12,B19:B29)","v":{"$error":"#VALUE!"}},{"$f":"B12+MAX(E9,E19:E29)","v":{"$error":"#VALUE!"}},{"$f":"IF(OR(AL28<AM28,AL28<AN28),\"inversion \"&$M28&\" \"&AL$7&\" \",0)","v":{"$error":"#VALUE!"}},{"$f":"IF(OR(AL28<AM28),\"inversion \"&$M28&\" \"&AL$7&\" \",0)","v":{"$error":"#VALUE!"}},{"$f":"IF(OR(AL28<AN28),\"inversion \"&$M28&\" \"&AL$7&\" \",0)","v":{"$error":"#VALUE!"}},null,{"$f":"IF($C$5=$M28,AX28,(IF($C$5=AT$7,AY28,AW28)))","v":{"$error":"#N/A"}},{"$f":"B9+F13","v":{"$error":"#VALUE!"}},{"$f":"F9+MAX(B13,B19:B29)","v":{"$error":"#VALUE!"}},{"$f":"B13+MAX(F9,F19:F29)","v":{"$error":"#VALUE!"}},{"$f":"IF(OR(AT28<AU28,AT28<AV28),\"inversion \"&$M28&\" \"&AT$7&\" \",0)","v":{"$error":"#VALUE!"}},{"$f":"IF(OR(AT28<AU28),\"inversion \"&$M28&\" \"&AT$7&\" \",0)","v":{"$error":"#VALUE!"}},{"$f":"IF(OR(AT28<AV28),\"inversion \"&$M28&\" \"&AT$7&\" \",0)","v":{"$error":"#VALUE!"}},null,{"$error":"#N/A"},{"$f":"B9+G14","v":{"$error":"#VALUE!"}},{"$f":"G9+MAX(C14,C19:C29)","v":{"$error":"#VALUE!"}},{"$f":"B14+MAX(G9,G19:G29)","v":{"$error":"#VALUE!"}},{"$error":"#VALUE!"},{"$error":"#VALUE!"},{"$error":"#VALUE!"},null,{"$error":"#N/A"},{"$f":"B9+H15","v":{"$error":"#VALUE!"}},{"$f":"H9+MAX(B15,B19:B29)","v":{"$error":"#VALUE!"}},{"$f":"B15+MAX(H9,H19:H29)","v":{"$error":"#VALUE!"}},{"$error":"#VALUE!"},{"$error":"#VALUE!"},{"$error":"#VALUE!"},null,{"$error":"#N/A"},{"$f":"B9+I16","v":{"$error":"#VALUE!"}},{"$f":"I9+MAX(B16,B19:B29)","v":{"$error":"#VALUE!"}},{"$f":"B16+MAX(I9,I19:I29)","v":{"$error":"#VALUE!"}},{"$error":"#VALUE!"},{"$error":"#VALUE!"},{"$error":"#VALUE!"},null,{"$error":"#N/A"},{"$f":"B9+J17","v":{"$error":"#VALUE!"}},{"$f":"J9+MAX(B17,B19:B29)","v":{"$error":"#VALUE!"}},{"$f":"B17+MAX(J9,J19:J29)","v":{"$error":"#VALUE!"}},{"$error":"#VALUE!"},{"$error":"#VALUE!"},{"$error":"#VALUE!"},null,{"$error":"#N/A"},{"$f":"B9+K18","v":{"$error":"#VALUE!"}},{"$f":"K9+MAX(B18,B19:B29)","v":{"$error":"#VALUE!"}},{"$f":"B18+MAX(K9,K19:K29)","v":{"$error":"#VALUE!"}},{"$error":"#VALUE!"},{"$error":"#VALUE!"},{"$error":"#VALUE!"},null,null,null,null,null,null,null,null,null,null,null,null,{"$f":"IF(U28<>0,\" \"&U28&\" \",IF(AC28<>0,\" \"&AC28&\" \",IF(AK28<>0,\" \"&AK28&\" \",IF(AS28<>0,\" \"&AS28&\" \",IF(BA28<>0,\" \"&BA28&\" \",IF(BI28<>0,\" \"&BI28&\" \",IF(BQ28<>0,\" \"&BQ28&\" \",IF(BY28<>0,\" \"&BY28&\" \",0))))))))","v":{"$error":"#N/A"}},null,null,null,null,null,null,null,null,null,null,null,null,null,null,null,null,null,null,null,null,null,null,null,null,null,null,null,null,null,null,null,null,null,null,null,null,null,null,null,null,null,null,null,null,null,null,null,null,null,null,null,null,null,null,null,null,null,null,null,null,null,null,null,null,null,null,null,null,null,null,null,null,null,null,null,null,null,null,null,null,null,null,null,null,null,null,null,null,null,null,null,null,null,null,null,null,null,null,null,{"$f":"IF(GS25<>0,\" \"&GS25&\" \",IF(GT25<>0,\" \"&GT25&\" \",IF(HA22<>0,\" \"&HA22&\" \",IF(HI23<>0,\" \"&HI23&\" \",IF(HJ23<>0,\" \"&HJ23&\" \",IF(GU25<>0,\" \"&GU25&\" \",IF(GV25<>0,\" \"&GV25&\" \",IF(HQ25<>0,\" \"&HQ25&\" \",0))))))))","v":{"$error":"#VALUE!"}},null,null,null,null,null,null,null,null,null,null,null,null,null,null,null,null,null,null,null,null,null,null,null,null,{"$f":"IF(HR25<>0,\" \"&HR25&\" \",IF(HS25<>0,\" \"&HS25&\" \",IF(HY23<>0,\" \"&HY23&\" \",IF(IG25<>0,\" \"&IG25&\" \",IF(IH25<>0,\" \"&IH25&\" \",IF(IO25<>0,\" \"&IO25&\" \",IF(HQ25<>0,\" \"&HQ25&\" \",IF(HQ26<>0,\" \"&HQ26&\" \",0))))))))","v":{"$error":"#VALUE!"}}]
[{"$f":"INDEX(Pauljo!$B$60:$L$81,MATCH(22,Pauljo!$N$60:$N$81,0),1)","v":""},{"$f":"INDEX(Pauljo!$B$60:$L$81,MATCH(22,Pauljo!$N$60:$N$81,0),2)","v":""},{"$f":"INDEX(Pauljo!$B$60:$N$81,MATCH(22,Pauljo!$N$60:$N$81,0),3)","v":""},{"$f":"INDEX(Pauljo!$B$60:$N$81,MATCH(22,Pauljo!$N$60:$N$81,0),4)","v":""},{"$f":"INDEX(Pauljo!$B$60:$N$81,MATCH(22,Pauljo!$N$60:$N$81,0),5)","v":""},{"$f":"INDEX(Pauljo!$B$60:$N$81,MATCH(22,Pauljo!$N$60:$N$81,0),6)","v":""},{"$f":"INDEX(Pauljo!$B$60:$N$81,MATCH(22,Pauljo!$N$60:$N$81,0),7)","v":""},{"$f":"INDEX(Pauljo!$B$60:$N$81,MATCH(22,Pauljo!$N$60:$N$81,0),8)","v":""},{"$f":"INDEX(Pauljo!$B$60:$N$81,MATCH(22,Pauljo!$N$60:$N$81,0),9)","v":""},{"$f":"INDEX(Pauljo!$B$60:$N$81,MATCH(22,Pauljo!$N$60:$N$81,0),10)","v":""},{"$f":"INDEX(Pauljo!$B$60:$N$81,MATCH(22,Pauljo!$N$60:$N$81,0),11)","v":""},null,3,null,null,null,null,null,null,null,null,null,null,null,null,null,null,null,{"$f":"IF($C$5=$M29,AH29,(IF($C$5=AD$7,AI29,AG29)))","v":{"$error":"#N/A"}},{"$f":"C10+D11","v":{"$error":"#VALUE!"}},{"$f":"D10+MAX(C11,C19:C29)","v":{"$error":"#VALUE!"}},{"$f":"C11+MAX(D10,D19:D29)","v":{"$error":"#VALUE!"}},{"$f":"IF(OR(AD29<AE29,AD29<AF29),\"inversion \"&$M29&\" \"&AD$7&\" \",0)","v":{"$error":"#VALUE!"}},{"$f":"IF(OR(AD29<AE29),\"inversion \"&$M29&\" \"&AD$7&\" \",0)","v":{"$error":"#VALUE!"}},{"$f":"IF(OR(AD29<AF29),\"inversion \"&$M29&\" \"&AD$7&\" \",0)","v":{"$error":"#VALUE!"}},null,{"$f":"IF($C$5=$M29,AP29,(IF($C$5=AL$7,AQ29,AO29)))","v":{"$error":"#N/A"}},{"$f":"C10+E12","v":{"$error":"#VALUE!"}},{"$f":"E10+MAX(C12,C19:C29)","v":{"$error":"#VALUE!"}},{"$f":"C12+MAX(E10,E19:E29)","v":{"$error":"#VALUE!"}},{"$f":"IF(OR(AL29<AM29,AL29<AN29),\"inversion \"&$M29&\" \"&AL$7&\" \",0)","v":{"$error":"#VALUE!"}},{"$f":"IF(OR(AL29<AM29),\"inversion \"&$M29&\" \"&AL$7&\" \",0)","v":{"$error":"#VALUE!"}},{"$f":"IF(OR(AL29<AN29),\"inversion \"&$M29&\" \"&AL$7&\" \",0)","v":{"$error":"#VALUE!"}},null,{"$f":"IF($C$5=$M29,AX29,(IF($C$5=AT$7,AY29,AW29)))","v":{"$error":"#N/A"}},{"$f":"C10+F13","v":{"$error":"#VALUE!"}},{"$f":"F10+MAX(B13,B19:B29)","v":{"$error":"#VALUE!"}},{"$f":"C13+MAX(F10,F19:F29)","v":{"$error":"#VALUE!"}},{"$f":"IF(OR(AT29<AU29,AT29<AV29),\"inversion \"&$M29&\" \"&AT$7&\" \",0)","v":{"$error":"#VALUE!"}},{"$f":"IF(OR(AT29<AU29),\"inversion \"&$M29&\" \"&AT$7&\" \",0)","v":{"$error":"#VALUE!"}},{"$f":"IF(OR(AT29<AV29),\"inversion \"&$M29&\" \"&AT$7&\" \",0)","v":{"$error":"#VALUE!"}},null,{"$error":"#N/A"},{"$f":"C10+G14","v":{"$error":"#VALUE!"}},{"$f":"G10+MAX(C14,C19:C29)","v":{"$error":"#VALUE!"}},{"$f":"C14+MAX(G10,G19:G29)","v":{"$error":"#VALUE!"}},{"$error":"#VALUE!"},{"$error":"#VALUE!"},{"$error":"#VALUE!"},null,{"$error":"#N/A"},{"$f":"C10+H15","v":{"$error":"#VALUE!"}},{"$f":"H10+MAX(C15,C19:C29)","v":{"$error":"#VALUE!"}},{"$f":"C15+MAX(H10,H19:H29)","v":{"$error":"#VALUE!"}},{"$error":"#VALUE!"},{"$error":"#VALUE!"},{"$error":"#VALUE!"},null,{"$error":"#N/A"},{"$f":"C10+I16","v":{"$error":"#VALUE!"}},{"$f":"I10+MAX(C16,C19:C29)","v":{"$error":"#VALUE!"}},{"$f":"C16+MAX(I10,I19:I29)","v":{"$error":"#VALUE!"}},{"$error":"#VALUE!"},{"$error":"#VALUE!"},{"$error":"#VALUE!"},null,{"$error":"#N/A"},{"$f":"C10+J17","v":{"$error":"#VALUE!"}},{"$f":"J10+MAX(B17,B19:B29)","v":{"$error":"#VALUE!"}},{"$f":"C17+MAX(J10,J19:J29)","v":{"$error":"#VALUE!"}},{"$error":"#VALUE!"},{"$error":"#VALUE!"},{"$error":"#VALUE!"},null,{"$error":"#N/A"},{"$f":"C10+K18","v":{"$error":"#VALUE!"}},{"$f":"K10+MAX(C18,C19:C29)","v":{"$error":"#VALUE!"}},{"$f":"C18+MAX(K10,K19:K29)","v":{"$error":"#VALUE!"}},{"$error":"#VALUE!"},{"$error":"#VALUE!"},{"$error":"#VALUE!"},null,null,null,null,null,null,null,null,null,null,null,null,{"$f":"IF(AC29<>0,\" \"&AC29&\" \",IF(AK29<>0,\" \"&AK29&\" \",IF(AS29<>0,\" \"&AS29&\" \",IF(BA29<>0,\" \"&BA29&\" \",IF(BI29<>0,\" \"&BI29&\" \",IF(BQ29<>0,\" \"&BQ29&\" \",IF(BY29<>0,\" \"&BY29&\" \",IF(CG29<>0,\" \"&CG29&\" \",0))))))))","v":{"$error":"#N/A"}}]
[null,null,null,null,null,null,null,null,null,null,null,null,4,null,null,null,null,null,null,null,null,null,null,null,null,null,null,null,null,null,null,null,null,null,null,null,{"$f":"IF($C$5=$M30,AP30,(IF($C$5=AL$7,AQ30,AO30)))","v":{"$error":"#N/A"}},{"$f":"D11+E12","v":{"$error":"#VALUE!"}},{"$f":"E11+MAX(D12,D19:D29)","v":{"$error":"#VALUE!"}},{"$f":"D12+MAX(E11,E19:E29)","v":{"$error":"#VALUE!"}},{"$f":"IF(OR(AL30<AM30,AL30<AN30),\"inversion \"&$M30&\" \"&AL$7&\" \",0)","v":{"$error":"#VALUE!"}},{"$f":"IF(OR(AL30<AM30),\"inversion \"&$M30&\" \"&AL$7&\" \",0)","v":{"$error":"#VALUE!"}},{"$f":"IF(OR(AL30<AN30),\"inversion \"&$M30&\" \"&AL$7&\" \",0)","v":{"$error":"#VALUE!"}},null,{"$f":"IF($C$5=$M30,AX30,(IF($C$5=AT$7,AY30,AW30)))","v":{"$error":"#N/A"}},{"$f":"D11+F13","v":{"$error":"#VALUE!"}},{"$f":"F11+MAX(D13,D19:D29)","v":{"$error":"#VALUE!"}},{"$f":"D13+MAX(F11,F19:F29)","v":{"$error":"#VALUE!"}},{"$f":"IF(OR(AT30<AU30,AT30<AV30),\"inversion \"&$M30&\" \"&AT$7&\" \",0)","v":{"$error":"#VALUE!"}},{"$f":"IF(OR(AT30<AU30),\"inversion \"&$M30&\" \"&AT$7&\" \",0)","v":{"$error":"#VALUE!"}},{"$f":"IF(OR(AT30<AV30),\"inversion \"&$M30&\" \"&AT$7&\" \",0)","v":{"$error":"#VALUE!"}},null,{"$error":"#N/A"},{"$f":"D11+G14","v":{"$error":"#VALUE!"}},{"$f":"G11+MAX(D14,D19:D29)","v":{"$error":"#VALUE!"}},{"$f":"D14+MAX(G11,G19:G29)","v":{"$error":"#VALUE!"}},{"$error":"#VALUE!"},{"$error":"#VALUE!"},{"$error":"#VALUE!"},null,{"$error":"#N/A"},{"$f":"D11+H15","v":{"$error":"#VALUE!"}},{"$f":"H11+MAX(D15,D19:D29)","v":{"$error":"#VALUE!"}},{"$f":"D15+MAX(H11,H19:H29)","v":{"$error":"#VALUE!"}},{"$error":"#VALUE!"},{"$error":"#VALUE!"},{"$error":"#VALUE!"},null,{"$error":"#N/A"},{"$f":"D11+I16","v":{"$error":"#VALUE!"}},{"$f":"I11+MAX(D16,D19:D29)","v":{"$error":"#VALUE!"}},{"$f":"D16+MAX(I11,I19:I29)","v":{"$error":"#VALUE!"}},{"$error":"#VALUE!"},{"$error":"#VALUE!"},{"$error":"#VALUE!"},null,{"$error":"#N/A"},{"$f":"D11+J17","v":{"$error":"#VALUE!"}},{"$f":"J11+MAX(D17,D19:D29)","v":{"$error":"#VALUE!"}},{"$f":"J11+MAX(D17,D19:D29)","v":{"$error":"#VALUE!"}},{"$error":"#VALUE!"},{"$error":"#VALUE!"},{"$error":"#VALUE!"},null,{"$error":"#N/A"},{"$f":"D11+K18","v":{"$error":"#VALUE!"}},{"$f":"K11+MAX(D18,D19:D29)","v":{"$error":"#VALUE!"}},{"$f":"D18+MAX(K11,K19:K29)","v":{"$error":"#VALUE!"}},{"$error":"#VALUE!"},{"$error":"#VALUE!"},{"$error":"#VALUE!"},null,null,null,null,null,null,null,null,null,null,null,null,{"$f":"IF(AK30<>0,\" \"&AK30&\" \",IF(AS30<>0,\" \"&AS30&\" \",IF(BA30<>0,\" \"&BA30&\" \",IF(BI30<>0,\" \"&BI30&\" \",IF(BQ30<>0,\" \"&BQ30&\" \",IF(BY30<>0,\" \"&BY30&\" \",IF(CG30<>0,\" \"&CG30&\" \",0)))))))","v":{"$error":"#N/A"}}]
[null,null,null,null,null,null,null,null,null,null,null,null,5,null,null,null,null,null,null,null,null,null,null,null,null,null,null,null,null,null,null,null,null,null,null,null,null,null,null,null,null,null,null,null,{"$f":"IF($C$5=$M31,AX31,(IF($C$5=AT$7,AY31,AW31)))","v":{"$error":"#N/A"}},{"$f":"E12+F13","v":{"$error":"#VALUE!"}},{"$f":"F12+MAX(E13,E19:E29)","v":{"$error":"#VALUE!"}},{"$f":"E13+MAX(F12,F19:F29)","v":{"$error":"#VALUE!"}},{"$f":"IF(OR(AT31<AU31,AT31<AV31),\"inversion \"&$M31&\" \"&AT$7&\" \",0)","v":{"$error":"#VALUE!"}},{"$f":"IF(OR(AT31<AU31),\"inversion \"&$M31&\" \"&AT$7&\" \",0)","v":{"$error":"#VALUE!"}},{"$f":"IF(OR(AT31<AV31),\"inversion \"&$M31&\" \"&AT$7&\" \",0)","v":{"$error":"#VALUE!"}},null,{"$error":"#N/A"},{"$f":"E12+G14","v":{"$error":"#VALUE!"}},{"$f":"G12+MAX(E14,E19:E29)","v":{"$error":"#VALUE!"}},{"$f":"E14+MAX(G12,G19:G29)","v":{"$error":"#VALUE!"}},{"$error":"#VALUE!"},{"$error":"#VALUE!"},{"$error":"#VALUE!"},null,{"$error":"#N/A"},{"$f":"E12+H15","v":{"$error":"#VALUE!"}},{"$f":"H12+MAX(E15,E19:E29)","v":{"$error":"#VALUE!"}},{"$f":"E15+MAX(H12,H19:H29)","v":{"$error":"#VALUE!"}},{"$error":"#VALUE!"},{"$error":"#VALUE!"},{"$error":"#VALUE!"},null,{"$error":"#N/A"},{"$f":"E12+I16","v":{"$error":"#VALUE!"}},{"$f":"I12+MAX(E16,E19:E29)","v":{"$error":"#VALUE!"}},{"$f":"E16+MAX(I12,I19:I29)","v":{"$error":"#VALUE!"}},{"$error":"#VALUE!"},{"$error":"#VALUE!"},{"$error":"#VALUE!"},null,{"$error":"#N/A"},{"$f":"E12+J17","v":{"$error":"#VALUE!"}},{"$f":"J12+MAX(E17,E19:E29)","v":{"$error":"#VALUE!"}},{"$f":"E17+MAX(J12,J19:J29)","v":{"$error":"#VALUE!"}},{"$error":"#VALUE!"},{"$error":"#VALUE!"},{"$error":"#VALUE!"},null,{"$error":"#N/A"},{"$f":"E12+K18","v":{"$error":"#VALUE!"}},{"$f":"K12+MAX(E18,E19:E29)","v":{"$error":"#VALUE!"}},{"$f":"E18+MAX(K12,K19:K29)","v":{"$error":"#VALUE!"}},{"$error":"#VALUE!"},{"$error":"#VALUE!"},{"$error":"#VALUE!"},null,null,null,null,null,null,null,null,null,null,null,null,{"$f":"IF(AS31<>0,\" \"&AS31&\" \",IF(BA31<>0,\" \"&BA31&\" \",IF(BI31<>0,\" \"&BI31&\" \",IF(BQ31<>0,\" \"&BQ31&\" \",IF(BY31<>0,\" \"&BY31&\" \",IF(CG31<>0,\" \"&CG31&\" \",0))))))","v":{"$error":"#N/A"}}]
[null,null,null,null,null,null,null,null,null,null,null,null,6,null,null,null,null,null,null,null,null,null,null,null,null,null,null,null,null,null,null,null,null,{"$f":"IF(OR(AD32<AE32),\"inversion \"&$M32&\" \"&AD$7&\" \",0)","v":0},{"$f":"IF(OR(AD32<AF32),\"inversion \"&$M32&\" \"&AD$7&\" \",0)","v":0},null,null,null,null,null,null,null,null,null,null,null,null,null,null,null,null,null,{"$error":"#N/A"},{"$f":"F13+G14","v":{"$error":"#VALUE!"}},{"$f":"G13+MAX(F14,F19:F29)","v":{"$error":"#VALUE!"}},{"$f":"F14+MAX(G13,G19:G29)","v":{"$error":"#VALUE!"}},{"$error":"#VALUE!"},{"$error":"#VALUE!"},{"$error":"#VALUE!"},null,{"$error":"#N/A"},{"$f":"F13+H15","v":{"$error":"#VALUE!"}},{"$f":"H13+MAX(F15,F19:F29)","v":{"$error":"#VALUE!"}},{"$f":"F15+MAX(H13,H19:H29)","v":{"$error":"#VALUE!"}},{"$error":"#VALUE!"},{"$error":"#VALUE!"},{"$error":"#VALUE!"},null,{"$error":"#N/A"},{"$f":"F13+I16","v":{"$error":"#VALUE!"}},{"$f":"I13+MAX(F16,F20:F24)","v":{"$error":"#VALUE!"}},{"$f":"F16+MAX(I13,I19:I29)","v":{"$error":"#VALUE!"}},{"$error":"#VALUE!"},{"$error":"#VALUE!"},{"$error":"#VALUE!"},null,{"$error":"#N/A"},{"$f":"F13+J17","v":{"$error":"#VALUE!"}},{"$f":"J13+MAX(F17,F19:F29)","v":{"$error":"#VALUE!"}},{"$f":"F17+MAX(J13,J19:J29)","v":{"$error":"#VALUE!"}},{"$error":"#VALUE!"},{"$error":"#VALUE!"},{"$error":"#VALUE!"},null,{"$error":"#N/A"},{"$f":"F13+K18","v":{"$error":"#VALUE!"}},{"$f":"K13+MAX(F18,F19:F29)","v":{"$error":"#VALUE!"}},{"$f":"F18+MAX(K13,K19:K29)","v":{"$error":"#VALUE!"}},{"$error":"#VALUE!"},{"$error":"#VALUE!"},{"$error":"#VALUE!"},null,null,null,null,null,null,null,null,null,null,null,null,{"$f":"IF(BA32<>0,\" \"&BA32&\" \",IF(BI32<>0,\" \"&BI32&\" \",IF(BQ32<>0,\" \"&BQ32&\" \",IF(BY32<>0,\" \"&BY32&\" \",IF(CG32<>0,\" \"&CG32&\" \",0)))))","v":{"$error":"#N/A"}}]
[{"$f":"Feuil1!AI8","v":""},{"$f":"IF(C33,Feuil1!AV8,\"\")","v":""},null,{"$f":"IF(AND(C33,OR(B33=\"X\",B33=\"x\")),1,0)","v":0},null,null,null,null,null,null,null,null,7,null,null,null,null,null,null,null,null,null,null,null,null,null,null,null,null,null,null,null,null,null,null,null,null,null,null,null,null,null,null,null,null,null,null,null,null,null,null,null,null,null,null,null,null,null,null,null,{"$error":"#N/A"},{"$f":"G14+H15","v":{"$error":"#VALUE!"}},{"$f":"H14+MAX(G15,G19:G29)","v":{"$error":"#VALUE!"}},{"$f":"G15+MAX(H14,H19:H29)","v":{"$error":"#VALUE!"}},{"$error":"#VALUE!"},{"$error":"#VALUE!"},{"$error":"#VALUE!"},null,{"$error":"#N/A"},{"$f":"G14+I16","v":{"$error":"#VALUE!"}},{"$f":"I14+MAX(G16,G19:G29)","v":{"$error":"#VALUE!"}},{"$f":"G16+MAX(I14,I19:I29)","v":{"$error":"#VALUE!"}},{"$error":"#VALUE!"},{"$error":"#VALUE!"},{"$error":"#VALUE!"},null,{"$error":"#N/A"},{"$f":"G14+J17","v":{"$error":"#VALUE!"}},{"$f":"J14+MAX(G17,G19:G29)","v":{"$error":"#VALUE!"}},{"$f":"G17+MAX(J14,J19:J29)","v":{"$error":"#VALUE!"}},{"$error":"#VALUE!"},{"$error":"#VALUE!"},{"$error":"#VALUE!"},null,{"$error":"#N/A"},{"$f":"G14+K18","v":{"$error":"#VALUE!"}},{"$f":"K14+MAX(G18,G19:G29)","v":{"$error":"#VALUE!"}},{"$f":"G18+MAX(K14,K19:K29)","v":{"$error":"#VALUE!"}},{"$error":"#VALUE!"},{"$error":"#VALUE!"},{"$error":"#VALUE!"},null,null,null,null,null,null,null,null,null,null,null,null,{"$f":"IF(BI33<>0,\" \"&BI33&\" \",IF(BQ33<>0,\" \"&BQ33&\" \",IF(BY33<>0,\" \"&BY33&\" \",IF(CG33<>0,\" \"&CG33&\" \",0))))","v":{"$error":"#N/A"}},null,null,null,null,null,null,{"$f":"IF(DD5<>0,\" \"&DD5&\" \",\"parfait\")","v":{"$error":"#N/A"}},{"$f":"IF(DE4<>0,\" \"&DE4&\" \",\"parfait\")","v":{"$error":"#N/A"}},{"$f":"IF(DD4<>0,\" \"&DD4&\" \",\"parfait\")","v":{"$error":"#N/A"}}]
[{"$f":"Feuil1!AI9","v":""},{"$f":"IF(C34,Feuil1!AV9,\"\")","v":""},null,{"$f":"IF(AND(C34,OR(B34=\"X\",B34=\"x\")),1,0)","v":0},null,null,null,null,null,null,null,null,8,null,null,null,null,null,null,null,null,null,null,null,null,null,null,null,null,null,null,null,null,null,null,null,null,null,null,null,null,null,null,null,null,null,null,null,null,null,null,null,null,null,null,null,null,null,null,null,null,null,null,null,null,null,null,null,{"$error":"#N/A"},{"$f":"H15+I16","v":{"$error":"#VALUE!"}},{"$f":"I15+MAX(H16,H19:H29)","v":{"$error":"#VALUE!"}},{"$f":"H16+MAX(I15,I19:I29)","v":{"$error":"#VALUE!"}},{"$error":"#VALUE!"},{"$error":"#VALUE!"},{"$error":"#VALUE!"},null,{"$error":"#N/A"},{"$f":"H15+J17","v":{"$error":"#VALUE!"}},{"$f":"J15+MAX(H17,H19:H29)","v":{"$error":"#VALUE!"}},{"$f":"H17+MAX(J15,J19:J29)","v":{"$error":"#VALUE!"}},{"$error":"#VALUE!"},{"$error":"#VALUE!"},{"$error":"#VALUE!"},null,{"$error":"#N/A"},{"$f":"H15+K18","v":{"$error":"#VALUE!"}},{"$f":"K15+MAX(H18,H19:H29)","v":{"$error":"#VALUE!"}},{"$f":"H18+MAX(K15,K19:K29)","v":{"$error":"#VALUE!"}},{"$error":"#VALUE!"},{"$error":"#VALUE!"},{"$error":"#VALUE!"},null,null,null,null,null,null,null,null,null,null,null,null,{"$f":"IF(BQ34<>0,\" \"&BQ34&\" \",IF(BY34<>0,\" \"&BY34&\" \",IF(CG34<>0,\" \"&CG34&\" \",0)))","v":{"$error":"#N/A"}}]
[{"$f":"Feuil1!AI10","v":""},{"$f":"IF(C35,Feuil1!AV10,\"\")","v":3},true,0,null,null,null,null,null,null,null,null,9,null,null,null,null,null,null,null,null,null,null,null,null,null,null,null,null,null,null,null,null,null,null,null,null,null,null,null,null,null,null,null,null,null,null,null,null,null,null,null,null,null,null,null,null,null,null,null,null,null,null,null,null,null,null,null,null,null,null,null,null,null,null,null,{"$error":"#N/A"},{"$f":"I16+J17","v":{"$error":"#VALUE!"}},{"$f":"J16+MAX(I17,I19:I29)","v":{"$error":"#VALUE!"}},{"$f":"I17+MAX(J16,J19:J29)","v":{"$error":"#VALUE!"}},{"$error":"#VALUE!"},{"$error":"#VALUE!"},{"$error":"#VALUE!"},null,{"$error":"#N/A"},{"$f":"I16+K18","v":{"$error":"#VALUE!"}},{"$f":"K16+MAX(I18,I19:I29)","v":{"$error":"#VALUE!"}},{"$f":"I18+MAX(K16,K19:K29)","v":{"$error":"#VALUE!"}},{"$error":"#VALUE!"},{"$error":"#VALUE!"},{"$error":"#VALUE!"},null,null,null,null,null,null,null,null,null,null,null,null,{"$f":"IF(BY35<>0,\" \"&BY35&\" \",IF(CG35<>0,\" \"&CG35&\" \",0))","v":{"$error":"#N/A"}}]
[{"$f":"Feuil1!AI11","v":""},{"$f":"IF(C36,Feuil1!AV11,\"\")","v":""},null,0,null,null,null,null,null,null,null,null,10,null,null,null,null,null,null,null,null,null,null,null,null,null,null,null,null,null,null,null,null,null,null,null,null,null,null,null,null,null,null,null,null,null,null,null,null,null,null,null,null,null,null,null,null,null,null,null,null,null,null,null,null,null,null,null,null,null,null,null,null,null,null,null,null,null,null,null,null,null,null,null,{"$f":"IF($C$5=$M36,CL36,(IF($C$5=CH$7,CM36,CK36)))","v":{"$error":"#N/A"}},{"$f":"J17+K18","v":{"$error":"#VALUE!"}},{"$f":"K17+MAX(J18,J19:J29)","v":{"$error":"#VALUE!"}},{"$f":"J18+MAX(K17,K19:K29)","v":{"$error":"#VALUE!"}},{"$error":"#VALUE!"},{"$error":"#VALUE!"},{"$error":"#VALUE!"},null,null,null,null,null,null,null,null,null,null,null,null,{"$f":"IF(CG36<>0,\" \"&CG36&\" \",0)","v":{"$error":"#N/A"}},null,null,null,{"$f":"IF(CZ27<>0,\" \"&CZ27&\" \",IF(CZ28<>0,\" \"&CZ28&\" \",IF(CZ29<>0,\" \"&CZ29&\" \",IF(CZ30<>0,\" \"&CZ30&\" \",IF(CZ31<>0,\" \"&CZ31&\" \",IF(CZ32<>0,\" \"&CZ32&\" \",IF(CZ33<>0,\" \"&CZ33&\" \",IF(CZ34<>0,\" \"&CZ34&\" \",0))))))))","v":{"$error":"#N/A"}}]
[{"$f":"Feuil1!AI12","v":""},{"$f":"IF(C37,Feuil1!AV12,\"\")","v":""},null,0,null,null,null,null,null,null,null,null,null,null,null,null,null,null,null,null,null,null,null,null,null,null,null,null,null,null,null,null,null,null,null,null,null,null,null,null,null,null,null,null,null,null,null,null,null,null,null,null,null,null,null,null,null,null,null,null,null,null,null,null,null,null,null,null,null,null,null,null,null,null,null,null,null,null,null,null,null,null,null,null,null,null,null,null,null,null,null,null,null,null,null,null,null,null,null,null,null,null,null,{"$f":"IF(N27<>0,\" \"&N27&\" \",IF(U27<>0,\" \"&U27&\" \",IF(U28<>0,\" \"&U28&\" \",0)))","v":{"$error":"#N/A"}},null,null,null,{"$f":"IF(CZ36<>0,\" \"&CZ36&\" \",IF(DD36<>0,\" \"&DD36&\" \",IF(CZ35<>0,\" \"&CZ35&\" \",IF(CZ37<>0,\" \"&CZ37&\" \",0))))","v":{"$error":"#N/A"}},{"$f":"BA63","v":{"$error":"#VALUE!"}},{"$f":"IF(MAX(A85:A357)=1,VLOOKUP(1,A85:E357,5,),IF(B5=0,DH37,DG37))","v":{"$error":"#N/A"}},{"$f":"IF(DD5<>0,\" \"&DD5&\" \",IF(DD37<>0,\" \"&DD37&\" \",\"parfait\"))","v":{"$error":"#N/A"}},{"$f":"IF(DD5<>0,\" \"&DD5&\" \",IF(DD37<>0,\" \"&DD37&\" \",IF(DD18<>0,\" \"&DD18&\" \",IF(DE37<>0,\" \"&DE37&\" \",\"parfait\"))))","v":{"$error":"#N/A"}}]
[{"$f":"Feuil1!AI13","v":""},{"$f":"IF(C38,Feuil1!AV13,\"\")","v":""},null,0]
[{"$f":"Feuil1!AI14","v":""},{"$f":"IF(C39,Feuil1!AV14,\"\")","v":""},null,0,null,null,null,null,null,null,null,null,null,null,null,null,null,null,null,null,null,4,5,6,7,8,9,10,11,1,2,3,4,5,6,7,8,9,5,6,7,8,9,10,11,null,null,null,null,null,null,null,null,null,null,6,7,8,9,10,11,null,null,null,null,null,null,null,null,null,null,null,7,8,9,10,11,null,null,null,null,null,null,null,null,null,null,null,null,8,9,10,11,null,null,null,null,null,null,null,null,null,null,null,9,10,11,null,null,null,null,null,null,null,null,null,null,10,11,null,null,null,null,null,null,null,null,null,11]
[{"$f":"Feuil1!AI15","v":""},{"$f":"IF(C40,Feuil1!AV15,\"\")","v":""},null,0,null,null,null,null,null,null,null,null,null,null,null,null,null,"1 2 3",null,null,null,{"$f":"A8+B9+C10+D11","v":{"$error":"#VALUE!"}},{"$f":"B8+C9+D10+MAX(A11,A$19:A$29)","v":{"$error":"#VALUE!"}},{"$f":"MAX(B8,B$19:B$29)+C9+D10+A11","v":{"$error":"#VALUE!"}},{"$f":"B8+MAX(C9,C$19:C$29)+D10+A11","v":{"$error":"#VALUE!"}},{"$f":"B8+C9+MAX(D10,D$19:D$29)+A11","v":{"$error":"#VALUE!"}},{"$f":"A9+B10+C11+MAX(D8,D$19:D$29)","v":{"$error":"#VALUE!"}},{"$f":"MAX(A9,A$19:A$29)+B10+C11+D8","v":{"$error":"#VALUE!"}},{"$f":"A9+MAX(B10,B$19:B$29)+C11+D8","v":{"$error":"#VALUE!"}},{"$f":"A9+B10+MAX(C11,C$19:C$29)+D8","v":{"$error":"#VALUE!"}},{"$f":"IF(OR(V40<W40,V40<X40,V40<Y40,V40<Z40),\"rotation \"&$R40&\" \"&V$39&\" + \",IF(OR(V40<AA40,V40<AB40,V40<AC40,V40<AD40),\"rotation \"&$R40&\" \"&V$39&\" -\",0))","v":{"$error":"#VALUE!"}},null,null,null,null,null,null,null,{"$f":"A8+B9+C10+E12","v":{"$error":"#VALUE!"}},{"$f":"B8+C9+E10+MAX(A12,A$19:A$29)","v":{"$error":"#VALUE!"}},{"$f":"MAX(B8,B$19:B$29)+C9+E10+A12","v":{"$error":"#VALUE!"}},{"$f":"B8+MAX(C$9,C$19:C24)+E10+A12","v":{"$error":"#VALUE!"}},{"$f":"B8+C9+MAX(E10,E$19:E$29)+A12","v":{"$error":"#VALUE!"}},{"$f":"A9+B10+C12+MAX(E8,E$19:E$29)","v":{"$error":"#VALUE!"}},{"$f":"MAX(A9,A$19:A$29)+B10+C12+E8","v":{"$error":"#VALUE!"}},{"$f":"A9+MAX(B10,B$19:B$29)+C12+E8","v":{"$error":"#VALUE!"}},{"$f":"A9+B10+MAX(C12,C$19:C$29)+E8","v":{"$error":"#VALUE!"}},{"$f":"IF(OR(AM40<AN40,AM40<AO40,AM40<AP40,AM40<AQ40),\"rotation \"&$R40&\" \"&AM$39&\" + \",IF(OR(AM40<AR40,AM40<AS40,AM40<AT40,AM40<AU40),\"rotation \"&$R40&\" \"&AM$39&\" -\",0))","v":{"$error":"#VALUE!"}},null,null,null,null,null,null,null,{"$f":"A8+B9+C10+F13","v":{"$error":"#VALUE!"}},{"$f":"B8+C9+F10+MAX(A13,A$19:A$29)","v":{"$error":"#VALUE!"}},{"$f":"MAX(B8,B$19:B$29)+C9+F10+A13","v":{"$error":"#VALUE!"}},{"$f":"B8+MAX(C$9,C$19:C24)+F10+A13","v":{"$error":"#VALUE!"}},{"$f":"B8+C9+MAX(F10,F$19:F$29)+A13","v":{"$error":"#VALUE!"}},{"$f":"A9+B10+C13+MAX(F8,F$19:F$29)","v":{"$error":"#VALUE!"}},{"$f":"MAX(A9,A$19:A$29)+B10+C13+F8","v":{"$error":"#VALUE!"}},{"$f":"A9+MAX(B10,B$19:B$29)+C13+F8","v":{"$error":"#VALUE!"}},{"$f":"A9+B10+MAX(C13,C$19:C$29)+F8","v":{"$error":"#VALUE!"}},{"$f":"IF(OR(BD40<BE40,BD40<BF40,BD40<BG40,BD40<BH40),\"rotation \"&$R40&\" \"&BD$39&\" + \",IF(OR(BD40<BI40,BD40<BJ40,BD40<BK40,BD40<BL40),\"rotation \"&$R40&\" \"&BD$39&\" -\",0))","v":{"$error":"#VALUE!"}},null,null,null,null,null,null,null,{"$f":"A8+B9+C10+G14","v":{"$error":"#VALUE!"}},{"$f":"B8+C9+G10+MAX(A14,A$19:A$29)","v":{"$error":"#VALUE!"}},{"$f":"MAX(B8,B$19:B$29)+C9+G10+A14","v":{"$error":"#VALUE!"}},{"$f":"B8+MAX(C$9,C$19:C24)+G10+A14","v":{"$error":"#VALUE!"}},{"$f":"B8+C9+MAX(G10,G$19:G$29)+A14","v":{"$error":"#VALUE!"}},{"$f":"A9+B10+C14+MAX(G8,G$19:G$29)","v":{"$error":"#VALUE!"}},{"$f":"MAX(A9,A$19:A$29)+B10+C14+G8","v":{"$error":"#VALUE!"}},{"$f":"A9+MAX(B10,B$19:B$29)+C14+G8","v":{"$error":"#VALUE!"}},{"$f":"A9+B10+MAX(C14,C$19:C$29)+G8","v":{"$error":"#VALUE!"}},{"$f":"IF(OR(BU40<BV40,BU40<BW40,BU40<BX40,BU40<BY40),\"rotation \"&$R40&\" \"&BU$39&\" + \",IF(OR(BU40<BZ40,BU40<CA40,BU40<CB40,BU40<CC40),\"rotation \"&$R40&\" \"&BU$39&\" -\",0))","v":{"$error":"#VALUE!"}},null,null,null,null,null,null,null,{"$f":"A8+B9+C10+H15","v":{"$error":"#VALUE!"}},{"$f":"B8+C9+H10+MAX(A15,A$19:A$29)","v":{"$error":"#VALUE!"}},{"$f":"MAX(B8,B$19:B$29)+C9+H10+A15","v":{"$error":"#VALUE!"}},{"$f":"B8+MAX(C$9,C$19:C24)+H10+A15","v":{"$error":"#VALUE!"}},{"$f":"B8+C9+MAX(H10,H$19:H$29)+A15","v":{"$error":"#VALUE!"}},{"$f":"A9+B10+C15+MAX(H8,H$19:H$29)","v":{"$error":"#VALUE!"}},{"$f":"MAX(A9,A$19:A$29)+B10+C15+H8","v":{"$error":"#VALUE!"}},{"$f":"A9+MAX(B10,B$19:B$29)+C15+H8","v":{"$error":"#VALUE!"}},{"$f":"A9+B10+MAX(C15,C$19:C$29)+H8","v":{"$error":"#VALUE!"}},{"$f":"IF(OR(CL40<CM40,CL40<CN40,CL40<CO40,CL40<CP40),\"rotation \"&$R40&\" \"&CL$39&\" + \",IF(OR(CL40<CQ40,CL40<CR40,CL40<CS40,CL40<CT40),\"rotation \"&$R40&\" \"&CL$39&\" -\",0))","v":{"$error":"#VALUE!"}},null,null,null,null,null,{"$f":"A8+B9+C10+I16","v":{"$error":"#VALUE!"}},{"$f":"B8+C9+I10+MAX(A16,A$19:A$29)","v":{"$error":"#VALUE!"}},{"$f":"MAX(B8,B$19:B$29)+C9+I10+A16","v":{"$error":"#VALUE!"}},{"$f":"B8+MAX(C$9,C$19:C24)+I10+A16","v":{"$error":"#VALUE!"}},{"$f":"B8+C9+MAX(I10,I$19:I$29)+A16","v":{"$error":"#VALUE!"}},{"$f":"A9+B10+C16+MAX(I8,I$19:I$29)","v":{"$error":"#VALUE!"}},{"$f":"MAX(A9,A$19:A$29)+B10+C16+I8","v":{"$error":"#VALUE!"}},{"$f":"A9+MAX(B10,B$19:B$29)+C16+I8","v":{"$error":"#VALUE!"}},{"$f":"A9+B10+MAX(C16,C$19:C$29)+I8","v":{"$error":"#VALUE!"}},{"$f":"IF(OR(DA40<DB40,DA40<DC40,DA40<DD40,DA40<DE40),\"rotation \"&$R40&\" \"&DA$39&\" + \",IF(OR(DA40<DF40,DA40<DG40,DA40<DH40,DA40<DI40),\"rotation \"&$R40&\" \"&DA$39&\" -\",0))","v":{"$error":"#VALUE!"}},null,null,null,{"$f":"A8+B9+C10+J17","v":{"$error":"#VALUE!"}},{"$f":"B8+C9+J10+MAX(A17,A$19:A$29)","v":{"$error":"#VALUE!"}},{"$f":"MAX(B8,B$19:B$29)+C9+J10+A17","v":{"$error":"#VALUE!"}},{"$f":"B8+MAX(C$9,C$19:C24)+J10+A17","v":{"$error":"#VALUE!"}},{"$f":"B8+C9+MAX(J10,J$19:J$29)+A17","v":{"$error":"#VALUE!"}},{"$f":"A9+B10+C17+MAX(J8,J$19:J$29)","v":{"$error":"#VALUE!"}},{"$f":"MAX(A9,A$19:A$29)+B10+C17+J8","v":{"$error":"#VALUE!"}},{"$f":"A9+MAX(B10,B$19:B$29)+C17+J8","v":{"$error":"#VALUE!"}},{"$f":"A9+B10+MAX(C17,C$19:C$29)+J8","v":{"$error":"#VALUE!"}},{"$f":"IF(OR(DN40<DO40,DN40<DP40,DN40<DQ40,DN40<DR40),\"rotation \"&$R40&\" \"&DN$39&\" + \",IF(OR(DN40<DS40,DN40<DT40,DN40<DU40,DN40<DV40),\"rotation \"&$R40&\" \"&DN$39&\" -\",0))","v":{"$error":"#VALUE!"}},null,{"$f":"A8+B9+C10+K18","v":{"$error":"#VALUE!"}},{"$f":"B8+C9+K10+MAX(A18,A$19:A$29)","v":{"$error":"#VALUE!"}},{"$f":"MAX(B8,B$19:B$29)+C9+K10+A18","v":{"$error":"#VALUE!"}},{"$f":"B8+MAX(C$9,C$19:C29)+K10+A18","v":{"$error":"#VALUE!"}},{"$f":"B8+C9+MAX(K10,K$19:K$29)+A18","v":{"$error":"#VALUE!"}},{"$f":"A9+B10+C18+MAX(K8,K$19:K$29)","v":{"$error":"#VALUE!"}},{"$f":"MAX(A9,A$19:A$29)+B10+C18+K8","v":{"$error":"#VALUE!"}},{"$f":"A9+MAX(B10,B$19:B$29)+C18+K8","v":{"$error":"#VALUE!"}},{"$f":"A9+B10+MAX(C18,C$19:C$29)+K8","v":{"$error":"#VALUE!"}},{"$f":"IF(OR(DY40<DZ40,DY40<EA40,DY40<EB40,DY40<EC40),\"rotation \"&$R40&\" \"&DY$39&\" + \",IF(OR(DY40<ED40,DY40<EE40,DY40<EF40,DY40<EG40),\"rotation \"&$R40&\" \"&DY$39&\" -\",0))","v":{"$error":"#VALUE!"}}]
[{"$f":"Feuil1!AI16","v":""},{"$f":"IF(C41,Feuil1!AV16,\"\")","v":""},null,0,null,null,null,null,null,null,"inversion",null,null,null,null,null,null,"2 3 4",null,null,null,null,{"$f":"B9+C10+D11+E12","v":{"$error":"#VALUE!"}},{"$f":"C9+D10+E11+MAX(B12,B$19:B$29)","v":{"$error":"#VALUE!"}},{"$f":"MAX(C9,C$19:C$29)+D10+E11+B12","v":{"$error":"#VALUE!"}},{"$f":"C9+MAX(D10,D$19:D$29)+E11+B12","v":{"$error":"#VALUE!"}},{"$f":"C9+D10+MAX(E11,E$19:E$29)+B12","v":{"$error":"#VALUE!"}},{"$f":"B10+C11+D12+MAX(E9,E$19:E$29)","v":{"$error":"#VALUE!"}},{"$f":"MAX(B10,B$19:B$29)+C11+D12+E9","v":{"$error":"#VALUE!"}},{"$f":"B10+MAX(C11,C$19:C$29)+D12+E9","v":{"$error":"#VALUE!"}},{"$f":"B10+C11+MAX(D12,D$19:D$29)+E9","v":{"$error":"#VALUE!"}},{"$f":"IF(OR(W41<X41,W41<Y41,W41<Z41,W41<AA41),\"rotation \"&$R41&\" \"&W$39&\" + \",IF(OR(W41<AB41,W41<AC41,W41<AD41,W41<AE41),\"rotation \"&$R41&\" \"&W$39&\" -\",0))","v":{"$error":"#VALUE!"}},null,null,null,null,null,null,null,{"$f":"B9+C10+D11+F13","v":{"$error":"#VALUE!"}},{"$f":"C9+D10+F11+MAX(B13,B$19:B$29)","v":{"$error":"#VALUE!"}},{"$f":"MAX(C9,C$19:C$29)+D10+F11+B13","v":{"$error":"#VALUE!"}},{"$f":"C9+MAX(D$10,D$19:D24)+F11+B13","v":{"$error":"#VALUE!"}},{"$f":"C9+D10+MAX(F11,F$19:F$29)+B13","v":{"$error":"#VALUE!"}},{"$f":"B10+C11+D13+MAX(F9,F$19:F$29)","v":{"$error":"#VALUE!"}},{"$f":"MAX(B10,B$19:B$29)+C11+D13+F9","v":{"$error":"#VALUE!"}},{"$f":"B10+MAX(C11,C$19:C$29)+D13+F9","v":{"$error":"#VALUE!"}},{"$f":"B10+C11+MAX(D13,D$19:D$29)+F9","v":{"$error":"#VALUE!"}},{"$f":"IF(OR(AN41<AO41,AN41<AP41,AN41<AQ41,AN41<AR41),\"rotation \"&$R41&\" \"&AN$39&\" + \",IF(OR(AN41<AS41,AN41<AT41,AN41<AU41,AN41<AV41),\"rotation \"&$R41&\" \"&AN$39&\" -\",0))","v":{"$error":"#VALUE!"}},null,null,null,null,null,null,null,{"$f":"B9+C10+D11+G14","v":{"$error":"#VALUE!"}},{"$f":"C9+D10+G11+MAX(B14,B$19:B$29)","v":{"$error":"#VALUE!"}},{"$f":"MAX(C9,C$19:C$29)+D10+G11+B14","v":{"$error":"#VALUE!"}},{"$f":"C9+MAX(D$10,D$19:D24)+G11+B14","v":{"$error":"#VALUE!"}},{"$f":"C9+D10+MAX(G11,G$19:G$29)+B14","v":{"$error":"#VALUE!"}},{"$f":"B10+C11+D14+MAX(G9,G$19:G$29)","v":{"$error":"#VALUE!"}},{"$f":"MAX(B10,B$19:B$29)+C11+D14+G9","v":{"$error":"#VALUE!"}},{"$f":"B10+MAX(C11,C$19:C$29)+D14+G9","v":{"$error":"#VALUE!"}},{"$f":"B10+C11+MAX(D14,D$19:D$29)+G9","v":{"$error":"#VALUE!"}},{"$f":"IF(OR(BE41<BF41,BE41<BG41,BE41<BH41,BE41<BI41),\"rotation \"&$R41&\" \"&BE$39&\" + \",IF(OR(BE41<BJ41,BE41<BK41,BE41<BL41,BE41<BM41),\"rotation \"&$R41&\" \"&BE$39&\" -\",0))","v":{"$error":"#VALUE!"}},null,null,null,null,null,null,null,{"$f":"B9+C10+D11+H15","v":{"$error":"#VALUE!"}},{"$f":"C9+D10+H11+MAX(B15,B$19:B$29)","v":{"$error":"#VALUE!"}},{"$f":"MAX(C9,C$19:C$29)+D10+H11+B15","v":{"$error":"#VALUE!"}},{"$f":"C9+MAX(D10,D$19:D$29)+H11+B15","v":{"$error":"#VALUE!"}},{"$f":"C9+D10+MAX(H11,H$19:H$29)+B15","v":{"$error":"#VALUE!"}},{"$f":"B10+C11+D15+MAX(H9,H$19:H$29)","v":{"$error":"#VALUE!"}},{"$f":"MAX(B10,B$19:B$29)+C11+D15+H9","v":{"$error":"#VALUE!"}},{"$f":"B10+MAX(C11,C$19:C$29)+D15+H9","v":{"$error":"#VALUE!"}},{"$f":"B10+C11+MAX(D15,D$19:D$29)+H9","v":{"$error":"#VALUE!"}},{"$f":"IF(OR(BV41<BW41,BV41<BX41,BV41<BY41,BV41<BZ41),\"rotation \"&$R41&\" \"&BV$39&\" + \",IF(OR(BV41<CA41,BV41<CB41,BV41<CC41,BV41<CD41),\"rotation \"&$R41&\" \"&BV$39&\" -\",0))","v":{"$error":"#VALUE!"}},null,null,null,null,null,null,null,{"$f":"B9+C10+D11+I16","v":{"$error":"#VALUE!"}},{"$f":"C9+D10+I11+MAX(B16,B$19:B$29)","v":{"$error":"#VALUE!"}},{"$f":"MAX(C9,C$19:C$29)+D10+I11+B16","v":{"$error":"#VALUE!"}},{"$f":"C9+MAX(D$10,D$19:D24)+I11+B16","v":{"$error":"#VALUE!"}},{"$f":"C9+D10+MAX(I11,I$19:I$29)+B16","v":{"$error":"#VALUE!"}},{"$f":"B10+C11+D16+MAX(I9,I$19:I$29)","v":{"$error":"#VALUE!"}},{"$f":"MAX(B10,B$19:B$29)+C11+D16+I9","v":{"$error":"#VALUE!"}},{"$f":"B10+MAX(C11,C$19:C$29)+D16+I9","v":{"$error":"#VALUE!"}},{"$f":"B10+C11+MAX(D16,D$19:D$29)+I9","v":{"$error":"#VALUE!"}},{"$f":"IF(OR(CM41<CN41,CM41<CO41,CM41<CP41,CM41<CQ41),\"rotation \"&$R41&\" \"&CM$39&\" + \",IF(OR(CM41<CR41,CM41<CS41,CM41<CT41,CM41<CU41),\"rotation \"&$R41&\" \"&CM$39&\" -\",0))","v":{"$error":"#VALUE!"}},null,null,null,null,null,{"$f":"B9+C10+D11+J17","v":{"$error":"#VALUE!"}},{"$f":"C9+D10+J11+MAX(B17,B$19:B$29)","v":{"$error":"#VALUE!"}},{"$f":"MAX(C9,C$19:C$29)+D10+J11+B17","v":{"$error":"#VALUE!"}},{"$f":"C9+MAX(D$10,D$19:D24)+J11+B17","v":{"$error":"#VALUE!"}},{"$f":"C9+D10+MAX(J11,J$19:J$29)+B17","v":{"$error":"#VALUE!"}},{"$f":"B10+C11+D17+MAX(J9,J$19:J$29)","v":{"$error":"#VALUE!"}},{"$f":"MAX(B10,B$19:B$29)+C11+D17+J9","v":{"$error":"#VALUE!"}},{"$f":"B10+MAX(C11,C$19:C$29)+D17+J9","v":{"$error":"#VALUE!"}},{"$f":"B10+C11+MAX(D17,D$19:D$29)+J9","v":{"$error":"#VALUE!"}},{"$f":"IF(OR(DB41<DC41,DB41<DD41,DB41<DE41,DB41<DF41),\"rotation \"&$R41&\" \"&DB$39&\" + \",IF(OR(DB41<DG41,DB41<DH41,DB41<DI41,DB41<DJ41),\"rotation \"&$R41&\" \"&DB$39&\" -\",0))","v":{"$error":"#VALUE!"}},null,null,null,{"$f":"B9+C10+D11+K18","v":{"$error":"#VALUE!"}},{"$f":"C9+D10+K11+MAX(B18,B$19:B$29)","v":{"$error":"#VALUE!"}},{"$f":"MAX(C9,C$19:C$29)+D10+K11+B18","v":{"$error":"#VALUE!"}},{"$f":"C9+MAX(D$10,D$19:D24)+K11+B18","v":{"$error":"#VALUE!"}},{"$f":"C9+D10+MAX(K11,K$19:K$29)+B18","v":{"$error":"#VALUE!"}},{"$f":"B10+C11+D18+MAX(K9,K$19:K$29)","v":{"$error":"#VALUE!"}},{"$f":"MAX(B10,B$19:B$29)+C11+D18+K9","v":{"$error":"#VALUE!"}},{"$f":"B10+MAX(C11,C$19:C$29)+D18+K9","v":{"$error":"#VALUE!"}},{"$f":"B10+C11+MAX(D18,D$19:D$29)+K9","v":{"$error":"#VALUE!"}},{"$f":"IF(OR(DO41<DP41,DO41<DQ41,DO41<DR41,DO41<DS41),\"rotation \"&$R41&\" \"&DO$39&\" + \",IF(OR(DO41<DT41,DO41<DU41,DO41<DV41,DO41<DW41),\"rotation \"&$R41&\" \"&DO$39&\" -\",0))","v":{"$error":"#VALUE!"}},{"$f":"IF(DW40<>0,\" \"&DW40&\" \",IF(DX41<>0,\" \"&DX41&\" \",0))","v":{"$error":"#VALUE!"}}]
[{"$f":"Feuil1!AI17","v":""},{"$f":"IF(C42,Feuil1!AV17,\"\")","v":""},null,0,null,null,null,null,null,null,null,null,null,null,null,null,null,"3 4 5",null,null,null,null,null,{"$f":"C10+D11+E12+F13","v":{"$error":"#VALUE!"}},{"$f":"D10+E11+F12+MAX(C13,C$19:C$29)","v":{"$error":"#VALUE!"}},{"$f":"MAX(D10,D$19:D$29)+E11+F12+C13","v":{"$error":"#VALUE!"}},{"$f":"D10+MAX(E11,E$19:E$29)+F12+C13","v":{"$error":"#VALUE!"}},{"$f":"D10+E11+MAX(F12,F$19:F$29)+C13","v":{"$error":"#VALUE!"}},{"$f":"C11+D12+E13+MAX(F10,F$19:F$29)","v":{"$error":"#VALUE!"}},{"$f":"MAX(C11,C$19:C$29)+D12+E13+F10","v":{"$error":"#VALUE!"}},{"$f":"C11+MAX(D12,D$19:D$29)+E13+F10","v":{"$error":"#VALUE!"}},{"$f":"C11+D12+MAX(E13,E$19:E$29)+F10","v":{"$error":"#VALUE!"}},{"$f":"IF(OR(X42<Y42,X42<Z42,X42<AA42,X42<AB42),\"rotation \"&$R42&\" \"&X$39&\" + \",IF(OR(X42<AC42,X42<AD42,X42<AE42,X42<AF42),\"rotation \"&$R42&\" \"&X$39&\" -\",0))","v":{"$error":"#VALUE!"}},null,null,null,null,null,null,null,{"$f":"C10+D11+E12+G14","v":{"$error":"#VALUE!"}},{"$f":"D10+E11+G12+MAX(C14,C$19:C$29)","v":{"$error":"#VALUE!"}},{"$f":"MAX(D10,D$19:D$29)+E11+G12+C14","v":{"$error":"#VALUE!"}},{"$f":"D10+MAX(E11,E$19:E$29)+G12+C14","v":{"$error":"#VALUE!"}},{"$f":"D10+E11+MAX(G12,G$19:G$29)+C14","v":{"$error":"#VALUE!"}},{"$f":"C11+D12+E14+MAX(G10,G$19:G$29)","v":{"$error":"#VALUE!"}},{"$f":"MAX(C11,C$19:C$29)+D12+E14+G10","v":{"$error":"#VALUE!"}},{"$f":"C11+MAX(D12,D$19:D$29)+E14+G10","v":{"$error":"#VALUE!"}},{"$f":"C11+D12+MAX(E14,E$19:E$29)+G10","v":{"$error":"#VALUE!"}},{"$f":"IF(OR(AO42<AP42,AO42<AQ42,AO42<AR42,AO42<AS42),\"rotation \"&$R42&\" \"&AO$39&\" + \",IF(OR(AO42<AT42,AO42<AU42,AO42<AV42,AO42<AW42),\"rotation \"&$R42&\" \"&AO$39&\" -\",0))","v":{"$error":"#VALUE!"}},null,null,null,null,null,null,null,{"$f":"C10+D11+E12+H15","v":{"$error":"#VALUE!"}},{"$f":"D10+E11+H12+MAX(C15,C$19:C$29)","v":{"$error":"#VALUE!"}},{"$f":"MAX(D10,D$19:D$29)+E11+H12+C15","v":{"$error":"#VALUE!"}},{"$f":"D10+MAX(E$11,E$19:E24)+H12+C15","v":{"$error":"#VALUE!"}},{"$f":"D10+E11+MAX(H12,H$19:H$29)+C15","v":{"$error":"#VALUE!"}},{"$f":"C11+D12+E15+MAX(H10,H$19:H$29)","v":{"$error":"#VALUE!"}},{"$f":"MAX(C11,C$19:C$29)+D12+E15+H10","v":{"$error":"#VALUE!"}},{"$f":"C11+MAX(D12,D$19:D$29)+E15+H10","v":{"$error":"#VALUE!"}},{"$f":"C11+D12+MAX(E15,E$19:E$29)+H10","v":{"$error":"#VALUE!"}},{"$f":"IF(OR(BF42<BG42,BF42<BH42,BF42<BI42,BF42<BJ42),\"rotation \"&$R42&\" \"&BF$39&\" + \",IF(OR(BF42<BK42,BF42<BL42,BF42<BM42,BF42<BN42),\"rotation \"&$R42&\" \"&BF$39&\" -\",0))","v":{"$error":"#VALUE!"}},null,null,null,null,null,null,null,{"$f":"C10+D11+E12+I16","v":{"$error":"#VALUE!"}},{"$f":"D10+E11+I12+MAX(C16,C$19:C$29)","v":{"$error":"#VALUE!"}},{"$f":"MAX(D10,D$19:D$29)+E11+I12+C16","v":{"$error":"#VALUE!"}},{"$f":"D10+MAX(E11,E$19:E$29)+I12+C16","v":{"$error":"#VALUE!"}},{"$f":"D10+E11+MAX(I12,I$19:I$29)+C16","v":{"$error":"#VALUE!"}},{"$f":"C11+D12+E16+MAX(I10,I$19:I$29)","v":{"$error":"#VALUE!"}},{"$f":"MAX(C11,C$19:C$29)+D12+E16+I10","v":{"$error":"#VALUE!"}},{"$f":"C11+MAX(D12,D$19:D$29)+E16+I10","v":{"$error":"#VALUE!"}},{"$f":"C11+D12+MAX(E16,E$19:E$29)+I10","v":{"$error":"#VALUE!"}},{"$f":"IF(OR(BW42<BX42,BW42<BY42,BW42<BZ42,BW42<CA42),\"rotation \"&$R42&\" \"&BW$39&\" + \",IF(OR(BW42<CB42,BW42<CC42,BW42<CD42,BW42<CE42),\"rotation \"&$R42&\" \"&BW$39&\" -\",0))","v":{"$error":"#VALUE!"}},null,null,null,null,null,null,null,{"$f":"C10+D11+E12+J17","v":{"$error":"#VALUE!"}},{"$f":"D10+E11+J12+MAX(C17,C$19:C$29)","v":{"$error":"#VALUE!"}},{"$f":"MAX(D10,D$19:D$29)+E11+J12+C17","v":{"$error":"#VALUE!"}},{"$f":"D10+MAX(E$11,E$19:E24)+J12+C17","v":{"$error":"#VALUE!"}},{"$f":"D10+E11+MAX(J12,J$19:J$29)+C17","v":{"$error":"#VALUE!"}},{"$f":"C11+D12+E17+MAX(J10,J$19:J$29)","v":{"$error":"#VALUE!"}},{"$f":"MAX(C11,C$19:C$29)+D12+E17+J10","v":{"$error":"#VALUE!"}},{"$f":"C11+MAX(D12,D$19:D$29)+E17+J10","v":{"$error":"#VALUE!"}},{"$f":"C11+D12+MAX(E17,E$19:E$29)+J10","v":{"$error":"#VALUE!"}},{"$f":"IF(OR(CN42<CO42,CN42<CP42,CN42<CQ42,CN42<CR42),\"rotation \"&$R42&\" \"&CN$39&\" + \",IF(OR(CN42<CS42,CN42<CT42,CN42<CU42,CN42<CV42),\"rotation \"&$R42&\" \"&CN$39&\" -\",0))","v":{"$error":"#VALUE!"}},null,null,null,null,null,{"$f":"C10+D11+E12+K18","v":{"$error":"#VALUE!"}},{"$f":"D10+E11+K12+MAX(C18,C$19:C$29)","v":{"$error":"#VALUE!"}},{"$f":"MAX(D10,D$19:D$29)+E11+K12+C18","v":{"$error":"#VALUE!"}},{"$f":"D10+MAX(E$11,E$19:E24)+K12+C18","v":{"$error":"#VALUE!"}},{"$f":"D10+E11+MAX(K12,K$19:K$29)+C18","v":{"$error":"#VALUE!"}},{"$f":"C11+D12+E18+MAX(K10,K$19:K$29)","v":{"$error":"#VALUE!"}},{"$f":"MAX(C11,C$19:C$29)+D12+E18+K10","v":{"$error":"#VALUE!"}},{"$f":"C11+MAX(D12,D$19:D$29)+E18+K10","v":{"$error":"#VALUE!"}},{"$f":"C11+D12+MAX(E18,E$19:E$29)+K10","v":{"$error":"#VALUE!"}},{"$f":"IF(OR(DC42<DD42,DC42<DE42,DC42<DF42,DC42<DG42),\"rotation \"&$R42&\" \"&DC$39&\" + \",IF(OR(DC42<DH42,DC42<DI42,DC42<DJ42,DC42<DK42),\"rotation \"&$R42&\" \"&DC$39&\" -\",0))","v":{"$error":"#VALUE!"}},{"$f":"IF(DJ40<>0,\" \"&DJ40&\" \",IF(DK41<>0,\" \"&DK41&\" \",IF(DL42<>0,\" \"&DL42&\" \",0)))","v":{"$error":"#VALUE!"}}]
[{"$f":"Feuil1!AI18","v":""},{"$f":"IF(C43,Feuil1!AV18,\"\")","v":""},null,0,null,null,null,null,null,null,null,null,null,null,null,null,null,"4 5 6",null,null,null,null,null,null,{"$f":"D11+E12+F13+G14","v":{"$error":"#VALUE!"}},{"$f":"E11+F12+G13+MAX(D14,D$19:D$29)","v":{"$error":"#VALUE!"}},{"$f":"MAX(E11,E$19:E$29)+F12+G13+D14","v":{"$error":"#VALUE!"}},{"$f":"E11+MAX(F12,F$19:F$29)+G13+D14","v":{"$error":"#VALUE!"}},{"$f":"E11+F12+MAX(G13,G$19:G$29)+D14","v":{"$error":"#VALUE!"}},{"$f":"D12+E13+F14+MAX(G11,G$19:G$29)","v":{"$error":"#VALUE!"}},{"$f":"MAX(D12,D$19:D$29)+E13+F14+G11","v":{"$error":"#VALUE!"}},{"$f":"D12+MAX(E13,E$19:E$29)+F14+G11","v":{"$error":"#VALUE!"}},{"$f":"D12+E13+MAX(F14,F$19:F$29)+G11","v":{"$error":"#VALUE!"}},{"$f":"IF(OR(Y43<Z43,Y43<AA43,Y43<AB43,Y43<AC43),\"rotation \"&$R43&\" \"&Y$39&\" + \",IF(OR(Y43<AD43,Y43<AE43,Y43<AF43,Y43<AG43),\"rotation \"&$R43&\" \"&Y$39&\" -\",0))","v":{"$error":"#VALUE!"}},null,null,null,null,null,null,null,{"$f":"D11+E12+F13+H15","v":{"$error":"#VALUE!"}},{"$f":"E11+F12+H13+MAX(D15,D$19:D$29)","v":{"$error":"#VALUE!"}},{"$f":"MAX(E11,E$19:E$29)+F12+H13+D15","v":{"$error":"#VALUE!"}},{"$f":"E11+MAX(F12,F$19:F$29)+H13+D15","v":{"$error":"#VALUE!"}},{"$f":"E11+F12+MAX(H13,H$19:H$29)+D15","v":{"$error":"#VALUE!"}},{"$f":"D12+E13+F15+MAX(H11,H$19:H$29)","v":{"$error":"#VALUE!"}},{"$f":"MAX(D12,D$19:D$29)+E13+F15+H11","v":{"$error":"#VALUE!"}},{"$f":"D12+MAX(E13,E$19:E$29)+F15+H11","v":{"$error":"#VALUE!"}},{"$f":"D12+E13+MAX(F15,F$19:F$29)+H11","v":{"$error":"#VALUE!"}},{"$f":"IF(OR(AP43<AQ43,AP43<AR43,AP43<AS43,AP43<AT43),\"rotation \"&$R43&\" \"&AP$39&\" + \",IF(OR(AP43<AU43,AP43<AV43,AP43<AW43,AP43<AX43),\"rotation \"&$R43&\" \"&AP$39&\" -\",0))","v":{"$error":"#VALUE!"}},null,null,null,null,null,null,null,{"$f":"D11+E12+F13+I16","v":{"$error":"#VALUE!"}},{"$f":"E11+F12+I13+MAX(D16,D$19:D$29)","v":{"$error":"#VALUE!"}},{"$f":"MAX(E11,E$19:E$29)+F12+I13+D16","v":{"$error":"#VALUE!"}},{"$f":"E11+MAX(F$12,F$19:F24)+I13+D16","v":{"$error":"#VALUE!"}},{"$f":"E11+F12+MAX(I13,I$19:I$29)+D16","v":{"$error":"#VALUE!"}},{"$f":"D12+E13+F16+MAX(I11,I$19:I$29)","v":{"$error":"#VALUE!"}},{"$f":"MAX(D12,D$19:D$29)+E13+F16+I11","v":{"$error":"#VALUE!"}},{"$f":"D12+MAX(E13,E$19:E$29)+F16+I11","v":{"$error":"#VALUE!"}},{"$f":"D12+E13+MAX(F16,F$19:F$29)+I11","v":{"$error":"#VALUE!"}},{"$f":"IF(OR(BG43<BH43,BG43<BI43,BG43<BJ43,BG43<BK43),\"rotation \"&$R43&\" \"&BG$39&\" + \",IF(OR(BG43<BL43,BG43<BM43,BG43<BN43,BG43<BO43),\"rotation \"&$R43&\" \"&BG$39&\" -\",0))","v":{"$error":"#VALUE!"}},null,null,null,null,null,null,null,{"$f":"D11+E12+F13+J17","v":{"$error":"#VALUE!"}},{"$f":"E11+F12+J13+MAX(D17,D$19:D$29)","v":{"$error":"#VALUE!"}},{"$f":"MAX(E11,E$19:E$29)+F12+J13+D17","v":{"$error":"#VALUE!"}},{"$f":"E11+MAX(F12,F$19:F$29)+J13+D17","v":{"$error":"#VALUE!"}},{"$f":"E11+F12+MAX(J13,J$19:J$29)+D17","v":{"$error":"#VALUE!"}},{"$f":"D12+E13+F17+MAX(J11,J$19:J$29)","v":{"$error":"#VALUE!"}},{"$f":"MAX(D12,D$19:D$29)+E13+F17+J11","v":{"$error":"#VALUE!"}},{"$f":"D12+MAX(E13,E$19:E$29)+F17+J11","v":{"$error":"#VALUE!"}},{"$f":"D12+E13+MAX(F17,F$19:F$29)+J11","v":{"$error":"#VALUE!"}},{"$f":"IF(OR(BX43<BY43,BX43<BZ43,BX43<CA43,BX43<CB43),\"rotation \"&$R43&\" \"&BX$39&\" + \",IF(OR(BX43<CC43,BX43<CD43,BX43<CE43,BX43<CF43),\"rotation \"&$R43&\" \"&BX$39&\" -\",0))","v":{"$error":"#VALUE!"}},null,null,null,null,null,null,null,{"$f":"D11+E12+F13+K18","v":{"$error":"#VALUE!"}},{"$f":"E11+F12+K13+MAX(D18,D$19:D$29)","v":{"$error":"#VALUE!"}},{"$f":"MAX(E11,E$19:E$29)+F12+K13+D18","v":{"$error":"#VALUE!"}},{"$f":"E11+MAX(F$12,F$19:F24)+K13+D18","v":{"$error":"#VALUE!"}},{"$f":"E11+F12+MAX(K13,K$19:K$29)+D18","v":{"$error":"#VALUE!"}},{"$f":"D12+E13+F18+MAX(K11,K$19:K$29)","v":{"$error":"#VALUE!"}},{"$f":"MAX(D12,D$19:D$29)+E13+F18+K11","v":{"$error":"#VALUE!"}},{"$f":"D12+MAX(E13,E$19:E$29)+F18+K11","v":{"$error":"#VALUE!"}},{"$f":"D12+E13+MAX(F18,F$19:F$29)+K11","v":{"$error":"#VALUE!"}},{"$f":"IF(OR(CO43<CP43,CO43<CQ43,CO43<CR43,CO43<CS43),\"rotation \"&$R43&\" \"&CO$39&\" + \",IF(OR(CO43<CT43,CO43<CU43,CO43<CV43,CO43<CW43),\"rotation \"&$R43&\" \"&CO$39&\" -\",0))","v":{"$error":"#VALUE!"}},{"$f":"IF(CU40<>0,\" \"&CU40&\" \",IF(CV41<>0,\" \"&CV41&\" \",IF(CW42<>0,\" \"&CW42&\" \",IF(CX43<>0,\" \"&CX43&\" \",0))))","v":{"$error":"#VALUE!"}}]
[{"$f":"Feuil1!AI19","v":""},{"$f":"IF(C44,Feuil1!AV19,\"\")","v":""},null,0,null,null,null,null,null,null,null,null,null,null,null,null,null,"5 6 7",null,null,null,null,null,null,null,{"$f":"E12+F13+G14+H15","v":{"$error":"#VALUE!"}},{"$f":"F12+G13+H14+MAX(E15,E$19:E$29)","v":{"$error":"#VALUE!"}},{"$f":"MAX(F12,F$19:F$29)+G13+H14+E15","v":{"$error":"#VALUE!"}},{"$f":"F12+MAX(G13,G$19:G$29)+H14+E15","v":{"$error":"#VALUE!"}},{"$f":"F12+G13+MAX(H14,H$19:H$29)+E15","v":{"$error":"#VALUE!"}},{"$f":"E13+F14+G15+MAX(H12,H$19:H$29)","v":{"$error":"#VALUE!"}},{"$f":"MAX(E13,E$19:E$29)+F14+G15+H12","v":{"$error":"#VALUE!"}},{"$f":"E13+MAX(F14,F$19:F$29)+G15+H12","v":{"$error":"#VALUE!"}},{"$f":"E13+F14+MAX(G15,G$19:G$29)+H12","v":{"$error":"#VALUE!"}},{"$f":"IF(OR(Z44<AA44,Z44<AB44,Z44<AC44,Z44<AD44),\"rotation \"&$R44&\" \"&Z$39&\" + \",IF(OR(Z44<AE44,Z44<AF44,Z44<AG44,Z44<AH44),\"rotation \"&$R44&\" \"&Z$39&\" -\",0))","v":{"$error":"#VALUE!"}},null,null,null,null,null,null,null,{"$f":"E12+F13+G14+I16","v":{"$error":"#VALUE!"}},{"$f":"F12+G13+I14+MAX(E16,E$19:E$29)","v":{"$error":"#VALUE!"}},{"$f":"MAX(F12,F$19:F$29)+G13+I14+E16","v":{"$error":"#VALUE!"}},{"$f":"F12+MAX(G13,G$19:G$29)+I14+E16","v":{"$error":"#VALUE!"}},{"$f":"F12+G13+MAX(I14,I$19:I$29)+E16","v":{"$error":"#VALUE!"}},{"$f":"E13+F14+G16+MAX(I12,I$19:I$29)","v":{"$error":"#VALUE!"}},{"$f":"MAX(E13,E$19:E$29)+F14+G16+I12","v":{"$error":"#VALUE!"}},{"$f":"E13+MAX(F14,F$19:F$29)+G16+I12","v":{"$error":"#VALUE!"}},{"$f":"E13+F14+MAX(G16,G$19:G$29)+I12","v":{"$error":"#VALUE!"}},{"$f":"IF(OR(AQ44<AR44,AQ44<AS44,AQ44<AT44,AQ44<AU44),\"rotation \"&$R44&\" \"&AQ$39&\" + \",IF(OR(AQ44<AV44,AQ44<AW44,AQ44<AX44,AQ44<AY44),\"rotation \"&$R44&\" \"&AQ$39&\" -\",0))","v":{"$error":"#VALUE!"}},null,null,null,null,null,null,null,{"$f":"E12+F13+G14+J17","v":{"$error":"#VALUE!"}},{"$f":"F12+G13+J14+MAX(E17,E$19:E$29)","v":{"$error":"#VALUE!"}},{"$f":"MAX(F12,F$19:F$29)+G13+J14+E17","v":{"$error":"#VALUE!"}},{"$f":"F12+MAX(G$13,G$19:G24)+J14+E17","v":{"$error":"#VALUE!"}},{"$f":"F12+G13+MAX(J14,J$19:J$29)+E17","v":{"$error":"#VALUE!"}},{"$f":"E13+F14+G17+MAX(J12,J$19:J$29)","v":{"$error":"#VALUE!"}},{"$f":"MAX(E13,E$19:E$29)+F14+G17+J12","v":{"$error":"#VALUE!"}},{"$f":"E13+MAX(F14,F$19:F$29)+G17+J12","v":{"$error":"#VALUE!"}},{"$f":"E13+F14+MAX(G17,G$19:G$29)+J12","v":{"$error":"#VALUE!"}},{"$f":"IF(OR(BH44<BI44,BH44<BJ44,BH44<BK44,BH44<BL44),\"rotation \"&$R44&\" \"&BH$39&\" + \",IF(OR(BH44<BM44,BH44<BN44,BH44<BO44,BH44<BP44),\"rotation \"&$R44&\" \"&BH$39&\" -\",0))","v":{"$error":"#VALUE!"}},null,null,null,null,null,null,null,{"$f":"E12+F13+G14+K18","v":{"$error":"#VALUE!"}},{"$f":"F12+G13+K14+MAX(E18,E$19:E$29)","v":{"$error":"#VALUE!"}},{"$f":"MAX(F12,F$19:F$29)+G13+K14+E18","v":{"$error":"#VALUE!"}},{"$f":"F12+MAX(G13,G$19:G$29)+K14+E18","v":{"$error":"#VALUE!"}},{"$f":"F12+G13+MAX(K14,K$19:K$29)+E18","v":{"$error":"#VALUE!"}},{"$f":"E13+F14+G18+MAX(K12,K$19:K$29)","v":{"$error":"#VALUE!"}},{"$f":"MAX(E13,E$19:E$29)+F14+G18+K12","v":{"$error":"#VALUE!"}},{"$f":"E13+MAX(F14,F$19:F$29)+G18+K12","v":{"$error":"#VALUE!"}},{"$f":"E13+F14+MAX(G18,G$19:G$29)+K12","v":{"$error":"#VALUE!"}},{"$f":"IF(OR(BY44<BZ44,BY44<CA44,BY44<CB44,BY44<CC44),\"rotation \"&$R44&\" \"&BY$39&\" + \",IF(OR(BY44<CD44,BY44<CE44,BY44<CF44,BY44<CG44),\"rotation \"&$R44&\" \"&BY$39&\" -\",0))","v":{"$error":"#VALUE!"}},{"$f":"IF(CD40<>0,\" \"&CD40&\" \",IF(CE41<>0,\" \"&CE41&\" \",IF(CF42<>0,\" \"&CF42&\" \",IF(CG43<>0,\" \"&CG43&\" \",IF(CH44<>0,\" \"&CH44&\" \",0)))))","v":{"$error":"#VALUE!"}}]
[{"$f":"Feuil1!AI20","v":""},{"$f":"IF(C45,Feuil1!AV20,\"\")","v":""},null,0,null,null,null,null,null,null,null,null,null,null,null,null,null,"6 7 8",null,null,null,null,null,null,null,null,{"$f":"F13+G14+H15+I16","v":{"$error":"#VALUE!"}},{"$f":"G13+H14+I15+MAX(F16,F$19:F$29)","v":{"$error":"#VALUE!"}},{"$f":"MAX(G13,G$19:G$29)+H14+I15+F16","v":{"$error":"#VALUE!"}},{"$f":"G13+MAX(H14,H$19:H$29)+I15+F16","v":{"$error":"#VALUE!"}},{"$f":"G13+H14+MAX(I15,I$19:I$29)+F16","v":{"$error":"#VALUE!"}},{"$f":"F14+G15+H16+MAX(I13,I$19:I$29)","v":{"$error":"#VALUE!"}},{"$f":"MAX(F14,F$19:F$29)+G15+H16+I13","v":{"$error":"#VALUE!"}},{"$f":"F14+MAX(G15,G$19:G$29)+H16+I13","v":{"$error":"#VALUE!"}},{"$f":"F14+G15+MAX(H16,H$19:H$29)+I13","v":{"$error":"#VALUE!"}},{"$f":"IF(OR(AA45<AB45,AA45<AC45,AA45<AD45,AA45<AE45),\"rotation \"&$R45&\" \"&AA$39&\" + \",IF(OR(AA45<AF45,AA45<AG45,AA45<AH45,AA45<AI45),\"rotation \"&$R45&\" \"&AA$39&\" -\",0))","v":{"$error":"#VALUE!"}},null,null,null,null,null,null,null,{"$f":"F13+G14+H15+J17","v":{"$error":"#VALUE!"}},{"$f":"G13+H14+J15+MAX(F17,F$19:F$29)","v":{"$error":"#VALUE!"}},{"$f":"MAX(G13,G$19:G$29)+H14+J15+F17","v":{"$error":"#VALUE!"}},{"$f":"G13+MAX(H14,H$19:H$29)+J15+F17","v":{"$error":"#VALUE!"}},{"$f":"G13+H14+MAX(J15,J$19:J$29)+F17","v":{"$error":"#VALUE!"}},{"$f":"F14+G15+H17+MAX(J13,J$19:J$29)","v":{"$error":"#VALUE!"}},{"$f":"MAX(F14,F$19:F$29)+G15+H17+J13","v":{"$error":"#VALUE!"}},{"$f":"F14+MAX(G15,G$19:G$29)+H17+J13","v":{"$error":"#VALUE!"}},{"$f":"F14+G15+MAX(H17,H$19:H$29)+J13","v":{"$error":"#VALUE!"}},{"$f":"IF(OR(AR45<AS45,AR45<AT45,AR45<AU45,AR45<AV45),\"rotation \"&$R45&\" \"&AR$39&\" + \",IF(OR(AR45<AW45,AR45<AX45,AR45<AY45,AR45<AZ45),\"rotation \"&$R45&\" \"&AR$39&\" -\",0))","v":{"$error":"#VALUE!"}},null,null,null,null,null,null,null,{"$f":"F13+G14+H15+K18","v":{"$error":"#VALUE!"}},{"$f":"G13+H14+K15+MAX(F18,F$19:F$29)","v":{"$error":"#VALUE!"}},{"$f":"MAX(G13,G$19:G$29)+H14+K15+F18","v":{"$error":"#VALUE!"}},{"$f":"G13+MAX(H$14,H$19:H24)+K15+F18","v":{"$error":"#VALUE!"}},{"$f":"G13+H14+MAX(K15,K$19:K$29)+F18","v":{"$error":"#VALUE!"}},{"$f":"F14+G15+H18+MAX(K13,K$19:K$29)","v":{"$error":"#VALUE!"}},{"$f":"MAX(F14,F$19:F$29)+G15+H18+K13","v":{"$error":"#VALUE!"}},{"$f":"F14+MAX(G15,G$19:G$29)+H18+K13","v":{"$error":"#VALUE!"}},{"$f":"F14+G15+MAX(H18,H$19:H$29)+K13","v":{"$error":"#VALUE!"}},{"$f":"IF(OR(BI45<BJ45,BI45<BK45,BI45<BL45,BI45<BM45),\"rotation \"&$R45&\" \"&BI$39&\" + \",IF(OR(BI45<BN45,BI45<BO45,BI45<BP45,BI45<BQ45),\"rotation \"&$R45&\" \"&BI$39&\" -\",0))","v":{"$error":"#VALUE!"}},{"$f":"IF(BM40<>0,\" \"&BM40&\" \",IF(BN41<>0,\" \"&BN41&\" \",IF(BO42<>0,\" \"&BO42&\" \",IF(BP43<>0,\" \"&BP43&\" \",IF(BQ44<>0,\" \"&BQ44&\" \",IF(BR45<>0,\" \"&BR45&\" \",0))))))","v":{"$error":"#VALUE!"}}]
[{"$f":"Feuil1!AI21","v":""},{"$f":"IF(C46,Feuil1!AV21,\"\")","v":""},null,0,null,null,null,null,null,null,null,null,null,null,null,null,null,"7 8 9",null,null,null,null,null,null,null,null,null,{"$f":"G14+H15+I16+J17","v":{"$error":"#VALUE!"}},{"$f":"H14+I15+J16+MAX(G17,G$19:G$29)","v":{"$error":"#VALUE!"}},{"$f":"MAX(H14,H$19:H$29)+I15+J16+G17","v":{"$error":"#VALUE!"}},{"$f":"H14+MAX(I15,I$19:I$29)+J16+G17","v":{"$error":"#VALUE!"}},{"$f":"H14+I15+MAX(J16,J$19:J$29)+G17","v":{"$error":"#VALUE!"}},{"$f":"G15+H16+I17+MAX(J14,J$19:J$29)","v":{"$error":"#VALUE!"}},{"$f":"MAX(G15,G$19:G$29)+H16+I17+J14","v":{"$error":"#VALUE!"}},{"$f":"G15+MAX(H16,H$19:H$29)+I17+J14","v":{"$error":"#VALUE!"}},{"$f":"G15+H16+MAX(I17,I$19:I$29)+J14","v":{"$error":"#VALUE!"}},{"$f":"IF(OR(AB46<AC46,AB46<AD46,AB46<AE46,AB46<AF46),\"rotation \"&$R46&\" \"&AB$39&\" + \",IF(OR(AB46<AG46,AB46<AH46,AB46<AI46,AB46<AJ46),\"rotation \"&$R46&\" \"&AB$39&\" -\",0))","v":{"$error":"#VALUE!"}},null,null,null,null,null,null,null,{"$f":"G14+H15+I16+K18","v":{"$error":"#VALUE!"}},{"$f":"H14+I15+K16+MAX(G18,G$19:G$29)","v":{"$error":"#VALUE!"}},{"$f":"MAX(H14,H$19:H$29)+I15+K16+G18","v":{"$error":"#VALUE!"}},{"$f":"H14+MAX(I15,I$19:I$29)+K16+G18","v":{"$error":"#VALUE!"}},{"$f":"H14+I15+MAX(K16,K$19:K$29)+G18","v":{"$error":"#VALUE!"}},{"$f":"G15+H16+I18+MAX(K14,K$19:K$29)","v":{"$error":"#VALUE!"}},{"$f":"MAX(G15,G$19:G$29)+H16+I18+K14","v":{"$error":"#VALUE!"}},{"$f":"G15+MAX(H16,H$19:H$29)+I18+K14","v":{"$error":"#VALUE!"}},{"$f":"G15+H16+MAX(I18,I$19:I$29)+K14","v":{"$error":"#VALUE!"}},{"$f":"IF(OR(AS46<AT46,AS46<AU46,AS46<AV46,AS46<AW46),\"rotation \"&$R46&\" \"&AS$39&\" + \",IF(OR(AS46<AX46,AS46<AY46,AS46<AZ46,AS46<BA46),\"rotation \"&$R46&\" \"&AS$39&\" -\",0))","v":{"$error":"#VALUE!"}},{"$f":"IF(AV40<>0,\" \"&AV40&\" \",IF(AW41<>0,\" \"&AW41&\" \",IF(AX42<>0,\" \"&AX42&\" \",IF(AY43<>0,\" \"&AY43&\" \",IF(AZ44<>0,\" \"&AZ44&\" \",IF(BA45<>0,\" \"&BA45&\" \",IF(BB46<>0,\" \"&BB46&\" \",0)))))))","v":{"$error":"#VALUE!"}}]
[{"$f":"Feuil1!AI22","v":""},{"$f":"IF(C47,Feuil1!AV22,\"\")","v":""},null,0,null,null,null,null,null,null,null,null,null,null,null,null,null,"8 9 10",null,null,null,null,null,null,null,null,null,null,{"$f":"H15+I16+J17+K18","v":{"$error":"#VALUE!"}},{"$f":"I15+J16+K17+MAX(H18,H$19:H$29)","v":{"$error":"#VALUE!"}},{"$f":"MAX(I15,I$19:I$29)+J16+K17+H18","v":{"$error":"#VALUE!"}},{"$f":"I15+MAX(J$16,J$19:J24)+K17+H18","v":{"$error":"#VALUE!"}},{"$f":"I15+J16+MAX(K17,K$19:K$29)+H18","v":{"$error":"#VALUE!"}},{"$f":"H16+I17+J18+MAX(K15,K$19:K$29)","v":{"$error":"#VALUE!"}},{"$f":"MAX(H16,H$19:H$29)+I17+J18+K15","v":{"$error":"#VALUE!"}},{"$f":"H16+MAX(I17,I$19:I$29)+J18+K15","v":{"$error":"#VALUE!"}},{"$f":"H16+I17+MAX(J18,J$19:J$29)+K15","v":{"$error":"#VALUE!"}},{"$f":"IF(OR(AC47<AD47,AC47<AE47,AC47<AF47,AC47<AG47),\"rotation \"&$R47&\" \"&AC$39&\" + \",IF(OR(AC47<AH47,AC47<AI47,AC47<AJ47,AC47<AK47),\"rotation \"&$R47&\" \"&AC$39&\" -\",0))","v":{"$error":"#VALUE!"}},{"$f":"IF(AE40<>0,\" \"&AE40&\" \",IF(AF41<>0,\" \"&AF41&\" \",IF(AG42<>0,\" \"&AG42&\" \",IF(AH43<>0,\" \"&AH43&\" \",IF(AI44<>0,\" \"&AI44&\" \",IF(AJ45<>0,\" \"&AJ45&\" \",IF(AK46<>0,\" \"&AK46&\" \",IF(AL47<>0,\" \"&AL47&\" \",0))))))))","v":{"$error":"#VALUE!"}}]
[{"$f":"Feuil1!AI23","v":""},{"$f":"IF(C48,Feuil1!AV23,\"\")","v":16},true,0,null,null,null,null,null,null,null,null,null,null,null,null,null,"9 10 11 ",null,null,null,null,null,null,null,null,null,null,null,{"$f":"$I$16+$J$17+$K$18+A8","v":{"$error":"#VALUE!"}},{"$f":"$J$16+$K$17+A$18+MAX($I8,$I$19:$I$29)","v":{"$error":"#VALUE!"}},{"$f":"$J$16+$K$17+MAX(A$18,A$19:A$29)+$I8","v":{"$error":"#VALUE!"}},{"$f":"$J$16+MAX($K$17,$K$19:$K$29)+A$18+$I8","v":{"$error":"#VALUE!"}},{"$f":"$K$17+MAX($J$19:$J$29,$J$16)+A$18+$I8","v":{"$error":"#VALUE!"}},{"$f":"$I$17+$J$18+$K8+MAX(A$16,A$19:A$29)","v":{"$error":"#VALUE!"}},{"$f":"MAX($I$17,$I$19:$I$29)+$J$18+$K8+A$16","v":{"$error":"#VALUE!"}},{"$f":"$I$17+MAX($J$18,$J$19:$J$29)+A$16+$K8","v":{"$error":"#VALUE!"}},{"$f":"$I$17+$J$18+MAX($K8,$K$19:$K$29)+A$16","v":{"$error":"#VALUE!"}},{"$f":"IF(OR(AD48<AE48,AD48<AF48,AD48<AG48,AD48<AH48),\"rotation \"&$R48&\" \"&AD$39&\" + \",IF(OR(AD48<AI48,AD48<AJ48,AD48<AK48,AD48<AL48),\"rotation \"&$R48&\" \"&AD$39&\" -\",0))","v":{"$error":"#VALUE!"}}]
[{"$f":"Feuil1!AI24","v":""},{"$f":"IF(C49,Feuil1!AV24,\"\")","v":""},null,0,null,null,null,null,null,null,"Rotation à 4",null,null,null,null,null,null,"9 10 11 ",null,null,null,null,null,null,null,null,null,null,null,null,{"$f":"$I$16+$J$17+$K$18+B9","v":{"$error":"#VALUE!"}},{"$f":"$J$16+$K$17+B$18+MAX($I9,$I$19:$I$29)","v":{"$error":"#VALUE!"}},{"$f":"$J$16+$K$17+MAX(B$18,B$19:B$29)+$I9","v":{"$error":"#VALUE!"}},{"$f":"$J$16+MAX($K$17,$K$19:$K$29)+B$18+$I9","v":{"$error":"#VALUE!"}},{"$f":"$K$17+MAX($J$19:$J$29,$J$16)+B$18+$I9","v":{"$error":"#VALUE!"}},{"$f":"$I$17+$J$18+$K9+MAX(B$16,B$19:B$29)","v":{"$error":"#VALUE!"}},{"$f":"MAX($I$17,$I$19:$I$29)+$J$18+$K9+B$16","v":{"$error":"#VALUE!"}},{"$f":"$I$17+MAX($J$18,$J$19:$J$29)+B$16+$K9","v":{"$error":"#VALUE!"}},{"$f":"$I$17+$J$18+MAX($K9,$K$19:$K$29)+B$16","v":{"$error":"#VALUE!"}},{"$f":"IF(OR(AE49<AF49,AE49<AG49,AE49<AH49,AE49<AI49),\"rotation \"&$R49&\" \"&AE$39&\" + \",IF(OR(AE49<AJ49,AE49<AK49,AE49<AL49,AE49<AM49),\"rotation \"&$R49&\" \"&AE$39&\" -\",0))","v":{"$error":"#VALUE!"}}]
[{"$f":"Feuil1!AI25","v":""},{"$f":"IF(C50,Feuil1!AV25,\"\")","v":""},null,0,null,null,null,null,null,null,null,null,null,null,null,null,null,"9 10 11 ",null,null,null,null,null,null,null,null,null,null,null,null,null,{"$f":"$I$16+$J$17+$K$18+C10","v":{"$error":"#VALUE!"}},{"$f":"$J$16+$K$17+C$18+MAX($I10,$I$19:$I$29)","v":{"$error":"#VALUE!"}},{"$f":"$J$16+$K$17+MAX(C$18,C$19:C$29)+$I10","v":{"$error":"#VALUE!"}},{"$f":"$J$16+MAX($K$17,$K$19:$K$29)+C$18+$I10","v":{"$error":"#VALUE!"}},{"$f":"$K$17+MAX($J$19:$J$29,$J$16)+C$18+$I10","v":{"$error":"#VALUE!"}},{"$f":"$I$17+$J$18+$K10+MAX(C$16,C$19:C$29)","v":{"$error":"#VALUE!"}},{"$f":"MAX($I$17,$I$19:$I$29)+$J$18+$K10+C$16","v":{"$error":"#VALUE!"}},{"$f":"$I$17+MAX($J$18,$J$19:$J$29)+C$16+$K10","v":{"$error":"#VALUE!"}},{"$f":"$I$17+$J$18+MAX($K10,$K$19:$K$29)+C$16","v":{"$error":"#VALUE!"}},{"$f":"IF(OR(AF50<AG50,AF50<AH50,AF50<AI50,AF50<AJ50),\"rotation \"&$R50&\" \"&AF$39&\" + \",IF(OR(AF50<AK50,AF50<AL50,AF50<AM50,AF50<AN50),\"rotation \"&$R50&\" \"&AF$39&\" -\",0))","v":{"$error":"#VALUE!"}}]
[{"$f":"Feuil1!AI26","v":""},{"$f":"IF(C51,Feuil1!AV26,\"\")","v":19},true,0,null,null,null,null,null,null,null,null,null,null,null,null,null,"9 10 11 ",null,null,null,null,null,null,null,null,null,null,null,null,null,null,{"$f":"$I$16+$J$17+$K$18+D11","v":{"$error":"#VALUE!"}},{"$f":"$J$16+$K$17+D$18+MAX($I11,$I$19:$I$29)","v":{"$error":"#VALUE!"}},{"$f":"$J$16+$K$17+MAX(D$18,D$19:D$29)+$I11","v":{"$error":"#VALUE!"}},{"$f":"$J$16+MAX($K$17,$K$19:$K$29)+D$18+$I11","v":{"$error":"#VALUE!"}},{"$f":"$K$17+MAX($J$19:$J$29,$J$16)+D$18+$I11","v":{"$error":"#VALUE!"}},{"$f":"$I$17+$J$18+$K11+MAX(D$16,D$19:D$29)","v":{"$error":"#VALUE!"}},{"$f":"MAX($I$17,$I$19:$I$29)+$J$18+$K11+D$16","v":{"$error":"#VALUE!"}},{"$f":"$I$17+MAX($J$18,$J$19:$J$29)+D$16+$K11","v":{"$error":"#VALUE!"}},{"$f":"$I$17+$J$18+MAX($K11,$K$19:$K$29)+D$16","v":{"$error":"#VALUE!"}},{"$f":"IF(OR(AG51<AH51,AG51<AI51,AG51<AJ51,AG51<AK51),\"rotation \"&$R51&\" \"&AG$39&\" + \",IF(OR(AG51<AL51,AG51<AM51,AG51<AN51,AG51<AO51),\"rotation \"&$R51&\" \"&AG$39&\" -\",0))","v":{"$error":"#VALUE!"}}]
[{"$f":"Feuil1!AI27","v":""},{"$f":"IF(C52,Feuil1!AV27,\"\")","v":""},null,0,null,null,null,null,null,null,null,null,null,null,null,null,null,"9 10 11 ",null,null,null,null,null,null,null,null,null,null,null,null,null,null,null,{"$f":"$I$16+$J$17+$K$18+E12","v":{"$error":"#VALUE!"}},{"$f":"$J$16+$K$17+E$18+MAX($I12,$I$19:$I$29)","v":{"$error":"#VALUE!"}},{"$f":"$J$16+$K$17+MAX(E$18,E$19:E$29)+$I12","v":{"$error":"#VALUE!"}},{"$f":"$J$16+MAX($K$17,$K$19:$K$29)+E$18+$I12","v":{"$error":"#VALUE!"}},{"$f":"$K$17+MAX($J$19:$J$29,$J$16)+E$18+$I12","v":{"$error":"#VALUE!"}},{"$f":"$I$17+$J$18+$K12+MAX(E$16,E$19:E$29)","v":{"$error":"#VALUE!"}},{"$f":"MAX($I$17,$I$19:$I$29)+$J$18+$K12+E$16","v":{"$error":"#VALUE!"}},{"$f":"$I$17+MAX($J$18,$J$19:$J$29)+E$16+$K12","v":{"$error":"#VALUE!"}},{"$f":"$I$17+$J$18+MAX($K12,$K$19:$K$29)+E$16","v":{"$error":"#VALUE!"}},{"$f":"IF(OR(AH52<AI52,AH52<AJ52,AH52<AK52,AH52<AL52),\"rotation \"&$R52&\" \"&AH$39&\" + \",IF(OR(AH52<AM52,AH52<AN52,AH52<AO52,AH52<AP52),\"rotation \"&$R52&\" \"&AH$39&\" -\",0))","v":{"$error":"#VALUE!"}}]
[{"$f":"Feuil1!AI28","v":""},{"$f":"IF(C53,Feuil1!AV28,\"\")","v":""},null,0,null,null,null,null,null,null,null,null,null,null,null,null,null,"9 10 11 ",null,null,null,null,null,null,null,null,null,null,null,null,null,null,null,null,{"$f":"$I$16+$J$17+$K$18+F13","v":{"$error":"#VALUE!"}},{"$f":"$J$16+$K$17+F$18+MAX($I13,$I$19:$I$29)","v":{"$error":"#VALUE!"}},{"$f":"$J$16+$K$17+MAX(F$18,F$19:F$29)+$I13","v":{"$error":"#VALUE!"}},{"$f":"$J$16+MAX($K$17,$K$19:$K$29)+F$18+$I13","v":{"$error":"#VALUE!"}},{"$f":"$K$17+MAX($J$19:$J$29,$J$16)+F$18+$I13","v":{"$error":"#VALUE!"}},{"$f":"$I$17+$J$18+$K13+MAX(F$16,F$19:F$29)","v":{"$error":"#VALUE!"}},{"$f":"MAX($I$17,$I$19:$I$29)+$J$18+$K13+F$16","v":{"$error":"#VALUE!"}},{"$f":"$I$17+MAX($J$18,$J$19:$J$29)+F$16+$K13","v":{"$error":"#VALUE!"}},{"$f":"$I$17+$J$18+MAX($K13,$K$19:$K$29)+F$16","v":{"$error":"#VALUE!"}},{"$f":"IF(OR(AI53<AJ53,AI53<AK53,AI53<AL53,AI53<AM53),\"rotation \"&$R53&\" \"&AI$39&\" + \",IF(OR(AI53<AN53,AI53<AO53,AI53<AP53,AI53<AQ53),\"rotation \"&$R53&\" \"&AI$39&\" -\",0))","v":{"$error":"#VALUE!"}}]
[{"$f":"Feuil1!AI29","v":""},{"$f":"IF(C54,Feuil1!AV29,\"\")","v":""},null,0,null,null,null,null,null,null,null,null,null,null,null,null,null,"9 10 11 ",null,null,null,null,null,null,null,null,null,null,null,null,null,null,null,null,null,{"$f":"$I$16+$J$17+$K$18+G14","v":{"$error":"#VALUE!"}},{"$f":"$J$16+$K$17+G$18+MAX($I14,$I$19:$I$29)","v":{"$error":"#VALUE!"}},{"$f":"$J$16+$K$17+MAX(G$18,G$19:G$29)+$I14","v":{"$error":"#VALUE!"}},{"$f":"$J$16+MAX($K$17,$K$19:$K$29)+G$18+$I14","v":{"$error":"#VALUE!"}},{"$f":"$K$17+MAX($J$19:$J$29,$J$16)+G$18+$I14","v":{"$error":"#VALUE!"}},{"$f":"$I$17+$J$18+$K14+MAX(G$16,G$19:G$29)","v":{"$error":"#VALUE!"}},{"$f":"MAX($I$17,$I$19:$I$29)+$J$18+$K14+G$16","v":{"$error":"#VALUE!"}},{"$f":"$I$17+MAX($J$18,$J$19:$J$29)+G$16+$K14","v":{"$error":"#VALUE!"}},{"$f":"$I$17+$J$18+MAX($K14,$K$19:$K$29)+G$16","v":{"$error":"#VALUE!"}},{"$f":"IF(OR(AJ54<AK54,AJ54<AL54,AJ54<AM54,AJ54<AN54),\"rotation \"&$R54&\" \"&AJ$39&\" + \",IF(OR(AJ54<AO54,AJ54<AP54,AJ54<AQ54,AJ54<AR54),\"rotation \"&$R54&\" \"&AJ$39&\" -\",0))","v":{"$error":"#VALUE!"}},{"$f":"IF(AL47<>0,\" \"&AL47&\" \",IF(AM48<>0,\" \"&AM48&\" \",IF(AN49<>0,\" \"&AN49&\" \",IF(AO50<>0,\" \"&AO50&\" \",IF(AP51<>0,\" \"&AP51&\" \",IF(AQ52<>0,\" \"&AQ52&\" \",IF(AR53<>0,\" \"&AR53&\" \",IF(AS54<>0,\" \"&AS54&\" \",0))))))))","v":{"$error":"#VALUE!"}}]
[null,null,null,null,null,null,null,null,null,null,null,null,null,null,null,null,null,null,null,"test","ok",null,null,null,null,null,null,null,null,null,null,null,null,null,null,null,{"$f":"$I$16+$J$17+$K$18+H15","v":{"$error":"#VALUE!"}},{"$f":"$J$16+$K$17+H$18+MAX($I15,$I$19:$I$29)","v":{"$error":"#VALUE!"}},{"$f":"$J$16+$K$17+MAX(H$18,H$19:H$29)+$I15","v":{"$error":"#VALUE!"}},{"$f":"$J$16+MAX($K$17,$K$19:$K$29)+H$18+$I15","v":{"$error":"#VALUE!"}},{"$f":"$K$17+MAX($J$19:$J$29,$J$16)+H$18+$I15","v":{"$error":"#VALUE!"}},{"$f":"$I$17+$J$18+$K15+MAX(H$16,H$19:H$29)","v":{"$error":"#VALUE!"}},{"$f":"MAX($I$17,$I$19:$I$29)+$J$18+$K15+H$16","v":{"$error":"#VALUE!"}},{"$f":"$I$17+MAX($J$18,$J$19:$J$29)+H$16+$K15","v":{"$error":"#VALUE!"}},{"$f":"$I$17+$J$18+MAX($K15,$K$19:$K$29)+H$16","v":{"$error":"#VALUE!"}}]
[null,null,null,null,null,null,null,null,null,null,null,null,null,null,null,null,null,"10 11 1",null,null,null,null,null,null,null,null,null,null,null,null,{"$f":"$A$8+$J$17+$K$18+B9","v":{"$error":"#VALUE!"}},{"$f":"$A$18+$K$17+MAX(B$8,B$19:B$29)+$J9","v":{"$error":"#VALUE!"}},{"$f":"$A$18+$K$17+B$8+MAX($J9,$J$19:$J$29)","v":{"$error":"#VALUE!"}},{"$f":"MAX($A$18,$A$19:$A$29)+$K$17+B$8+$J9","v":{"$error":"#VALUE!"}},{"$f":"$A$18+MAX($K$17,$K$19:$K$29)+B$8+$J9","v":{"$error":"#VALUE!"}},{"$f":"$K$8+$J$18+$A9+MAX(B$17,B$19:B$29)","v":{"$error":"#VALUE!"}},{"$f":"$K$8+$J$18+MAX($A9,$A$19:$A$29)+B$17","v":{"$error":"#VALUE!"}},{"$f":"$K$8+MAX($J$18,$J$19:$J$29)+$A9+B$17","v":{"$error":"#VALUE!"}},{"$f":"MAX($K$8,$K$19:$K$29)+$J$18+$A9+B$17","v":{"$error":"#VALUE!"}},{"$f":"IF(OR(AE56<AF56,AE56<AG56,AE56<AH56,AE56<AI56),\"rotation \"&$R56&\" \"&AE$39&\" + \",IF(OR(AE56<AJ56,AE56<AK56,AE56<AL56,AE56<AM56),\"rotation \"&$R56&\" \"&AE$39&\" -\",0))","v":{"$error":"#VALUE!"}}]
[null,null,null,null,null,null,null,null,null,null,null,null,null,null,null,null,null,"10 11 1",null,null,null,null,null,null,null,null,null,null,null,null,null,{"$f":"$A$8+$J$17+$K$18+C10","v":{"$error":"#VALUE!"}},{"$f":"$A$18+$K$17+MAX(C$8,C$19:C$29)+$J10","v":{"$error":"#VALUE!"}},{"$f":"$A$18+$K$17+C$8+MAX($J10,$J$19:$J$29)","v":{"$error":"#VALUE!"}},{"$f":"MAX($A$18,$A$19:$A$29)+$K$17+C$8+$J10","v":{"$error":"#VALUE!"}},{"$f":"$A$18+MAX($K$17,$K$19:$K$29)+C$8+$J10","v":{"$error":"#VALUE!"}},{"$f":"$K$8+$J$18+$A10+MAX(C$17,C$19:C$29)","v":{"$error":"#VALUE!"}},{"$f":"$K$8+$J$18+MAX($A10,$A$19:$A$29)+C$17","v":{"$error":"#VALUE!"}},{"$f":"$K$8+MAX($J$18,$J$19:$J$29)+$A10+C$17","v":{"$error":"#VALUE!"}},{"$f":"MAX($K$8,$K$19:$K$29)+$J$18+$A10+C$17","v":{"$error":"#VALUE!"}},{"$f":"IF(OR(AF57<AG57,AF57<AH57,AF57<AI57,AF57<AJ57),\"rotation \"&$R57&\" \"&AF$39&\" + \",IF(OR(AF57<AK57,AF57<AL57,AF57<AM57,AF57<AN57),\"rotation \"&$R57&\" \"&AF$39&\" -\",0))","v":{"$error":"#VALUE!"}},null,null,null,null,null,null,null,null,{"$f":"IF(EH40<>0,\" \"&EH40&\" \",IF(DY41<>0,\" \"&DY41&\" \",IF(DM42<>0,\" \"&DM42&\" \",IF(CY43<>0,\" \"&CY43&\" \",IF(CI44<>0,\" \"&CI44&\" \",IF(BS45<>0,\" \"&BS45&\" \",IF(BC46<>0,\" \"&BC46&\" \",IF(AM47<>0,\" \"&AM47&\" \",0))))))))","v":{"$error":"#VALUE!"}}]
[null,null,null,null,null,null,null,null,null,null,null,null,{"$f":"DF37","v":{"$error":"#N/A"}},null,null,null,null,"10 11 1",null,null,null,null,null,null,null,null,null,null,null,null,null,null,{"$f":"$A$8+$J$17+$K$18+D11","v":{"$error":"#VALUE!"}},{"$f":"$A$18+$K$17+MAX(D$8,D$19:D$29)+$J11","v":{"$error":"#VALUE!"}},{"$f":"$A$18+$K$17+D$8+MAX($J11,$J$19:$J$29)","v":{"$error":"#VALUE!"}},{"$f":"MAX($A$18,$A$19:$A$29)+$K$17+D$8+$J11","v":{"$error":"#VALUE!"}},{"$f":"$A$18+MAX($K$17,$K$19:$K$29)+D$8+$J11","v":{"$error":"#VALUE!"}},{"$f":"$K$8+$J$18+$A11+MAX(D$17,D$19:D$29)","v":{"$error":"#VALUE!"}},{"$f":"$K$8+$J$18+MAX($A11,$A$19:$A$29)+D$17","v":{"$error":"#VALUE!"}},{"$f":"$K$8+MAX($J$18,$J$19:$J$29)+$A11+D$17","v":{"$error":"#VALUE!"}},{"$f":"MAX($K$8,$K$19:$K$29)+$J$18+$A11+D$17","v":{"$error":"#VALUE!"}},{"$f":"IF(OR(AG58<AH58,AG58<AI58,AG58<AJ58,AG58<AK58),\"rotation \"&$R58&\" \"&AG$39&\" + \",IF(OR(AG58<AL58,AG58<AM58,AG58<AN58,AG58<AO58),\"rotation \"&$R58&\" \"&AG$39&\" -\",0))","v":{"$error":"#VALUE!"}}]
[null,null,null,null,null,null,null,null,null,null,null,null,null,null,null,null,null,"10 11 1",null,null,null,null,null,null,null,null,null,null,null,null,null,null,null,{"$f":"$A$8+$J$17+$K$18+E12","v":{"$error":"#VALUE!"}},{"$f":"$A$18+$K$17+MAX(E$8,E$19:E$29)+$J12","v":{"$error":"#VALUE!"}},{"$f":"$A$18+$K$17+E$8+MAX($J12,$J$19:$J$29)","v":{"$error":"#VALUE!"}},{"$f":"MAX($A$18,$A$19:$A$29)+$K$17+E$8+$J12","v":{"$error":"#VALUE!"}},{"$f":"$A$18+MAX($K$17,$K$19:$K$29)+E$8+$J12","v":{"$error":"#VALUE!"}},{"$f":"$K$8+$J$18+$A12+MAX(E$17,E$19:E$29)","v":{"$error":"#VALUE!"}},{"$f":"$K$8+$J$18+MAX($A12,$A$19:$A$29)+E$17","v":{"$error":"#VALUE!"}},{"$f":"$K$8+MAX($J$18,$J$19:$J$29)+$A12+E$17","v":{"$error":"#VALUE!"}},{"$f":"MAX($K$8,$K$19:$K$29)+$J$18+$A12+E$17","v":{"$error":"#VALUE!"}},{"$f":"IF(OR(AH59<AI59,AH59<AJ59,AH59<AK59,AH59<AL59),\"rotation \"&$R59&\" \"&AH$39&\" + \",IF(OR(AH59<AM59,AH59<AN59,AH59<AO59,AH59<AP59),\"rotation \"&$R59&\" \"&AH$39&\" -\",0))","v":{"$error":"#VALUE!"}}]
[{"$f":"Feuil1!AI8","v":""},{"$f":"IF($O60,0,Feuil1!AJ8)","v":""},{"$f":"IF($O60,0,Feuil1!AK8)","v":""},{"$f":"IF($O60,0,Feuil1!AL8)","v":""},{"$f":"IF($O60,0,Feuil1!AM8)","v":""},{"$f":"IF($O60,0,Feuil1!AN8)","v":""},{"$f":"IF($O60,0,Feuil1!AO8)","v":""},{"$f":"IF($O60,0,Feuil1!AP8)","v":""},{"$f":"IF($O60,0,Feuil1!AQ8)","v":""},{"$f":"IF($O60,0,Feuil1!AR8)","v":""},{"$f":"IF($O60,0,Feuil1!AS8)","v":""},{"$f":"IF($O60,0,Feuil1!AT8)","v":""},null,1,{"$f":"D33","v":0},{"$f":"Feuil1!AX8","v":""},null,"10 11 1",null,null,null,null,null,null,null,null,null,null,null,null,null,null,null,null,{"$f":"$A$8+$J$17+$K$18+F13","v":{"$error":"#VALUE!"}},{"$f":"$A$18+$K$17+MAX(F$8,F$19:F$29)+$J13","v":{"$error":"#VALUE!"}},{"$f":"$A$18+$K$17+F$8+MAX($J13,$J$19:$J$29)","v":{"$error":"#VALUE!"}},{"$f":"MAX($A$18,$A$19:$A$29)+$K$17+F$8+$J13","v":{"$error":"#VALUE!"}},{"$f":"$A$18+MAX($K$17,$K$19:$K$29)+F$8+$J13","v":{"$error":"#VALUE!"}},{"$f":"$K$8+$J$18+$A13+MAX(F$17,F$19:F$29)","v":{"$error":"#VALUE!"}},{"$f":"$K$8+$J$18+MAX($A13,$A$19:$A$29)+F$17","v":{"$error":"#VALUE!"}},{"$f":"$K$8+MAX($J$18,$J$19:$J$29)+$A13+F$17","v":{"$error":"#VALUE!"}},{"$f":"MAX($K$8,$K$19:$K$29)+$J$18+$A13+F$17","v":{"$error":"#VALUE!"}},{"$f":"IF(OR(AI60<AJ60,AI60<AK60,AI60<AL60,AI60<AM60),\"rotation \"&$R60&\" \"&AI$39&\" + \",IF(OR(AI60<AN60,AI60<AO60,AI60<AP60,AI60<AQ60),\"rotation \"&$R60&\" \"&AI$39&\" -\",0))","v":{"$error":"#VALUE!"}}]
[{"$f":"Feuil1!AI9","v":""},{"$f":"IF($O61,0,Feuil1!AJ9)","v":""},{"$f":"IF($O61,0,Feuil1!AK9)","v":""},{"$f":"IF($O61,0,Feuil1!AL9)","v":""},{"$f":"IF($O61,0,Feuil1!AM9)","v":""},{"$f":"IF($O61,0,Feuil1!AN9)","v":""},{"$f":"IF($O61,0,Feuil1!AO9)","v":""},{"$f":"IF($O61,0,Feuil1!AP9)","v":""},{"$f":"IF($O61,0,Feuil1!AQ9)","v":""},{"$f":"IF($O61,0,Feuil1!AR9)","v":""},{"$f":"IF($O61,0,Feuil1!AS9)","v":""},{"$f":"IF($O61,0,Feuil1!AT9)","v":""},null,2,{"$f":"D34","v":0},{"$f":"Feuil1!AX9","v":""},null,"10 11 1",null,null,null,null,null,null,null,null,null,null,null,null,null,null,null,null,null,{"$f":"$A$8+$J$17+$K$18+G14","v":{"$error":"#VALUE!"}},{"$f":"$A$18+$K$17+MAX(G$8,G$19:G$29)+$J14","v":{"$error":"#VALUE!"}},{"$f":"$A$18+$K$17+G$8+MAX($J14,$J$19:$J$29)","v":{"$error":"#VALUE!"}},{"$f":"MAX($A$18,$A$19:$A$29)+$K$17+G$8+$J14","v":{"$error":"#VALUE!"}},{"$f":"$A$18+MAX($K$17,$K$19:$K$29)+G$8+$J14","v":{"$error":"#VALUE!"}},{"$f":"$K$8+$J$18+$A14+MAX(G$17,G$19:G$29)","v":{"$error":"#VALUE!"}},{"$f":"$K$8+$J$18+MAX($A14,$A$19:$A$29)+G$17","v":{"$error":"#VALUE!"}},{"$f":"$K$8+MAX($J$18,$J$19:$J$29)+$A14+G$17","v":{"$error":"#VALUE!"}},{"$f":"MAX($K$8,$K$19:$K$29)+$J$18+$A14+G$17","v":{"$error":"#VALUE!"}},{"$f":"IF(OR(AJ61<AK61,AJ61<AL61,AJ61<AM61,AJ61<AN61),\"rotation \"&$R61&\" \"&AJ$39&\" + \",IF(OR(AJ61<AO61,AJ61<AP61,AJ61<AQ61,AJ61<AR61),\"rotation \"&$R61&\" \"&AJ$39&\" -\",0))","v":{"$error":"#VALUE!"}}]
[{"$f":"Feuil1!AI10","v":""},{"$f":"IF($O62,0,Feuil1!AJ10)","v":""},{"$f":"IF($O62,0,Feuil1!AK10)","v":""},{"$f":"IF($O62,0,Feuil1!AL10)","v":""},{"$f":"IF($O62,0,Feuil1!AM10)","v":""},{"$f":"IF($O62,0,Feuil1!AN10)","v":""},{"$f":"IF($O62,0,Feuil1!AO10)","v":""},{"$f":"IF($O62,0,Feuil1!AP10)","v":""},{"$f":"IF($O62,0,Feuil1!AQ10)","v":""},{"$f":"IF($O62,0,Feuil1!AR10)","v":""},{"$f":"IF($O62,0,Feuil1!AS10)","v":""},{"$f":"IF($O62,0,Feuil1!AT10)","v":""},null,3,{"$f":"D35","v":0},{"$f":"Feuil1!AX10","v":""},null,"10 11 1",null,null,null,null,null,null,null,null,null,null,null,null,null,null,null,null,null,null,{"$f":"$A$8+$J$17+$K$18+H15","v":{"$error":"#VALUE!"}},{"$f":"$A$18+$K$17+MAX(H$8,H$19:H$29)+$J15","v":{"$error":"#VALUE!"}},{"$f":"$A$18+$K$17+H$8+MAX($J15,$J$19:$J$29)","v":{"$error":"#VALUE!"}},{"$f":"MAX($A$18,$A$19:$A$29)+$K$17+H$8+$J15","v":{"$error":"#VALUE!"}},{"$f":"$A$18+MAX($K$17,$K$19:$K$29)+H$8+$J15","v":{"$error":"#VALUE!"}},{"$f":"$K$8+$J$18+$A15+MAX(H$17,H$19:H$29)","v":{"$error":"#VALUE!"}},{"$f":"$K$8+$J$18+MAX($A15,$A$19:$A$29)+H$17","v":{"$error":"#VALUE!"}},{"$f":"$K$8+MAX($J$18,$J$19:$J$29)+$A15+H$17","v":{"$error":"#VALUE!"}},{"$f":"MAX($K$8,$K$19:$K$29)+$J$18+$A15+H$17","v":{"$error":"#VALUE!"}},{"$f":"IF(OR(AK62<AL62,AK62<AM62,AK62<AN62,AK62<AO62),\"rotation \"&$R62&\" \"&AK$39&\" + \",IF(OR(AK62<AP62,AK62<AQ62,AK62<AR62,AK62<AS62),\"rotation \"&$R62&\" \"&AK$39&\" -\",0))","v":{"$error":"#VALUE!"}},{"$f":"IF(AN56<>0,\" \"&AN56&\" \",IF(AO57<>0,\" \"&AO57&\" \",IF(AP58<>0,\" \"&AP58&\" \",IF(AQ59<>0,\" \"&AQ59&\" \",IF(AR60<>0,\" \"&AR60&\" \",IF(AS61<>0,\" \"&AS61&\" \",IF(AT62<>0,\" \"&AT62&\" \",0)))))))","v":{"$error":"#VALUE!"}}]
[{"$f":"Feuil1!AI11","v":""},{"$f":"IF($O63,0,Feuil1!AJ11)","v":""},{"$f":"IF($O63,0,Feuil1!AK11)","v":""},{"$f":"IF($O63,0,Feuil1!AL11)","v":""},{"$f":"IF($O63,0,Feuil1!AM11)","v":""},{"$f":"IF($O63,0,Feuil1!AN11)","v":""},{"$f":"IF($O63,0,Feuil1!AO11)","v":""},{"$f":"IF($O63,0,Feuil1!AP11)","v":""},{"$f":"IF($O63,0,Feuil1!AQ11)","v":""},{"$f":"IF($O63,0,Feuil1!AR11)","v":""},{"$f":"IF($O63,0,Feuil1!AS11)","v":""},{"$f":"IF($O63,0,Feuil1!AT11)","v":""},null,4,0,{"$f":"Feuil1!AX11","v":""},null,null,null,"test ok",null,null,null,null,null,null,null,null,null,null,null,null,null,null,null,null,null,{"$f":"$A$8+$J$17+$K$18+I16","v":{"$error":"#VALUE!"}},{"$f":"$A$18+$K$17+MAX(I$8,I$19:I$29)+$J16","v":{"$error":"#VALUE!"}},{"$f":"$A$18+$K$17+I$8+MAX($J16,$J$19:$J$29)","v":{"$error":"#VALUE!"}},{"$f":"MAX($A$18,$A$19:$A$29)+$K$17+I$8+$J16","v":{"$error":"#VALUE!"}},{"$f":"$A$18+MAX($K$17,$K$19:$K$29)+I$8+$J16","v":{"$error":"#VALUE!"}},{"$f":"$K$8+$J$18+$A16+MAX(I$17,I$19:I$29)","v":{"$error":"#VALUE!"}},{"$f":"$K$8+$J$18+MAX($A16,$A$19:$A$29)+I$17","v":{"$error":"#VALUE!"}},{"$f":"$K$8+MAX($J$18,$J$19:$J$29)+$A16+I$17","v":{"$error":"#VALUE!"}},{"$f":"MAX($K$8,$K$19:$K$29)+$J$18+$A16+I$17","v":{"$error":"#VALUE!"}},null,null,null,null,null,null,{"$f":"IF(AT54<>0,\" \"&AT54&\" \",IF(AX57<>0,\" \"&AX57&\" \",IF(AU62<>0,\" \"&AU62&\" \",IF(AV70<>0,\" \"&AV70&\" \",0))))","v":{"$error":"#VALUE!"}}]
[{"$f":"Feuil1!AI12","v":""},{"$f":"IF($O64,0,Feuil1!AJ12)","v":""},{"$f":"IF($O64,0,Feuil1!AK12)","v":""},{"$f":"IF($O64,0,Feuil1!AL12)","v":""},{"$f":"IF($O64,0,Feuil1!AM12)","v":""},{"$f":"IF($O64,0,Feuil1!AN12)","v":""},{"$f":"IF($O64,0,Feuil1!AO12)","v":""},{"$f":"IF($O64,0,Feuil1!AP12)","v":""},{"$f":"IF($O64,0,Feuil1!AQ12)","v":""},{"$f":"IF($O64,0,Feuil1!AR12)","v":""},{"$f":"IF($O64,0,Feuil1!AS12)","v":""},{"$f":"IF($O64,0,Feuil1!AT12)","v":""},null,5,0,{"$f":"Feuil1!AX12","v":""},null,"11 1 2",null,null,null,null,null,null,null,null,null,null,null,null,null,{"$f":"$B$9+$A$8+$K$18+C10","v":{"$error":"#VALUE!"}},{"$f":"$A$18+$B$8+MAX(C$9,C$19:C$29)+$K10","v":{"$error":"#VALUE!"}},{"$f":"$A$18+$B$8+C$9+MAX($K10,$K$19:$K$29)","v":{"$error":"#VALUE!"}},{"$f":"MAX($A$18,$A$19:$A$29)+$B$8+C$9+$K10","v":{"$error":"#VALUE!"}},{"$f":"$A$18+MAX($B$8,$B$19:$B$29)+C$9+$K10","v":{"$error":"#VALUE!"}},{"$f":"$K$8+$A$9+$B10+MAX(C$18,C$19:C$29)","v":{"$error":"#VALUE!"}},{"$f":"$K$8+$A$9+MAX($B10,$B$19:$B$29)+C$18","v":{"$error":"#VALUE!"}},{"$f":"$K$8+MAX($A$9,$A$19:$A$29)+$B10+C$18","v":{"$error":"#VALUE!"}},{"$f":"MAX($K$8,$K$19:$K$29)+$A$9+$B10+C$18","v":{"$error":"#VALUE!"}},{"$f":"IF(OR(AF64<AG64,AF64<AH64,AF64<AI64,AF64<AJ64),\"rotation \"&$R64&\" \"&AF$39&\" + \",IF(OR(AF64<AK64,AF64<AL64,AF64<AM64,AF64<AN64),\"rotation \"&$R64&\" \"&AF$39&\" -\",0))","v":{"$error":"#VALUE!"}}]
[{"$f":"Feuil1!AI13","v":""},{"$f":"IF($O65,0,Feuil1!AJ13)","v":""},{"$f":"IF($O65,0,Feuil1!AK13)","v":""},{"$f":"IF($O65,0,Feuil1!AL13)","v":""},{"$f":"IF($O65,0,Feuil1!AM13)","v":""},{"$f":"IF($O65,0,Feuil1!AN13)","v":""},{"$f":"IF($O65,0,Feuil1!AO13)","v":""},{"$f":"IF($O65,0,Feuil1!AP13)","v":""},{"$f":"IF($O65,0,Feuil1!AQ13)","v":""},{"$f":"IF($O65,0,Feuil1!AR13)","v":""},{"$f":"IF($O65,0,Feuil1!AS13)","v":""},{"$f":"IF($O65,0,Feuil1!AT13)","v":""},null,6,0,{"$f":"Feuil1!AX13","v":""},null,"11 1 2",null,null,null,null,null,null,null,null,null,null,null,null,null,null,{"$f":"$B$9+$A$8+$K$18+D11","v":{"$error":"#VALUE!"}},{"$f":"$A$18+$B$8+MAX(D$9,D$19:D$29)+$K11","v":{"$error":"#VALUE!"}},{"$f":"$A$18+$B$8+D$9+MAX($K11,$K$19:$K$29)","v":{"$error":"#VALUE!"}},{"$f":"MAX($A$18,$A$19:$A$29)+$B$8+D$9+$K11","v":{"$error":"#VALUE!"}},{"$f":"$A$18+MAX($B$8,$B$19:$B$29)+D$9+$K11","v":{"$error":"#VALUE!"}},{"$f":"$K$8+$A$9+$B11+MAX(D$18,D$19:D$29)","v":{"$error":"#VALUE!"}},{"$f":"$K$8+$A$9+MAX($B11,$B$19:$B$29)+D$18","v":{"$error":"#VALUE!"}},{"$f":"$K$8+MAX($A$9,$A$19:$A$29)+$B11+D$18","v":{"$error":"#VALUE!"}},{"$f":"MAX($K$8,$K$19:$K$29)+$A$9+$B11+D$18","v":{"$error":"#VALUE!"}},{"$f":"IF(OR(AG65<AH65,AG65<AI65,AG65<AJ65,AG65<AK65),\"rotation \"&$R65&\" \"&AG$39&\" + \",IF(OR(AG65<AL65,AG65<AM65,AG65<AN65,AG65<AO65),\"rotation \"&$R65&\" \"&AG$39&\" -\",0))","v":{"$error":"#VALUE!"}}]
[{"$f":"Feuil1!AI14","v":""},{"$f":"IF($O66,0,Feuil1!AJ14)","v":""},{"$f":"IF($O66,0,Feuil1!AK14)","v":""},{"$f":"IF($O66,0,Feuil1!AL14)","v":""},{"$f":"IF($O66,0,Feuil1!AM14)","v":""},{"$f":"IF($O66,0,Feuil1!AN14)","v":""},{"$f":"IF($O66,0,Feuil1!AO14)","v":""},{"$f":"IF($O66,0,Feuil1!AP14)","v":""},{"$f":"IF($O66,0,Feuil1!AQ14)","v":""},{"$f":"IF($O66,0,Feuil1!AR14)","v":""},{"$f":"IF($O66,0,Feuil1!AS14)","v":""},{"$f":"IF($O66,0,Feuil1!AT14)","v":""},null,7,0,{"$f":"Feuil1!AX14","v":""},null,"11 1 2",null,null,null,null,null,null,null,null,null,null,null,null,null,null,null,{"$f":"$B$9+$A$8+$K$18+E12","v":{"$error":"#VALUE!"}},{"$f":"$A$18+$B$8+MAX(E$9,E$19:E$29)+$K12","v":{"$error":"#VALUE!"}},{"$f":"$A$18+$B$8+E$9+MAX($K12,$K$19:$K$29)","v":{"$error":"#VALUE!"}},{"$f":"MAX($A$18,$A$19:$A$29)+$B$8+E$9+$K12","v":{"$error":"#VALUE!"}},{"$f":"$A$18+MAX($B$8,$B$19:$B$29)+E$9+$K12","v":{"$error":"#VALUE!"}},{"$f":"$K$8+$A$9+$B12+MAX(E$18,E$19:E$29)","v":{"$error":"#VALUE!"}},{"$f":"$K$8+$A$9+MAX($B12,$B$19:$B$29)+E$18","v":{"$error":"#VALUE!"}},{"$f":"$K$8+MAX($A$9,$A$19:$A$29)+$B12+E$18","v":{"$error":"#VALUE!"}},{"$f":"MAX($K$8,$K$19:$K$29)+$A$9+$B12+E$18","v":{"$error":"#VALUE!"}},{"$f":"IF(OR(AH66<AI66,AH66<AJ66,AH66<AK66,AH66<AL66),\"rotation \"&$R66&\" \"&AH$39&\" + \",IF(OR(AH66<AM66,AH66<AN66,AH66<AO66,AH66<AP66),\"rotation \"&$R66&\" \"&AH$39&\" -\",0))","v":{"$error":"#VALUE!"}}]
[{"$f":"Feuil1!AI15","v":""},{"$f":"IF($O67,0,Feuil1!AJ15)","v":""},{"$f":"IF($O67,0,Feuil1!AK15)","v":""},{"$f":"IF($O67,0,Feuil1!AL15)","v":""},{"$f":"IF($O67,0,Feuil1!AM15)","v":""},{"$f":"IF($O67,0,Feuil1!AN15)","v":""},{"$f":"IF($O67,0,Feuil1!AO15)","v":""},{"$f":"IF($O67,0,Feuil1!AP15)","v":""},{"$f":"IF($O67,0,Feuil1!AQ15)","v":""},{"$f":"IF($O67,0,Feuil1!AR15)","v":""},{"$f":"IF($O67,0,Feuil1!AS15)","v":""},{"$f":"IF($O67,0,Feuil1!AT15)","v":""},null,8,0,{"$f":"Feuil1!AX15","v":""},null,"11 1 2",null,null,null,null,null,null,null,null,null,null,null,null,null,null,null,null,{"$f":"$B$9+$A$8+$K$18+F13","v":{"$error":"#VALUE!"}},{"$f":"$A$18+$B$8+MAX(F$9,F$19:F$29)+$K13","v":{"$error":"#VALUE!"}},{"$f":"$A$18+$B$8+F$9+MAX($K13,$K$19:$K$29)","v":{"$error":"#VALUE!"}},{"$f":"MAX($A$18,$A$19:$A$29)+$B$8+F$9+$K13","v":{"$error":"#VALUE!"}},{"$f":"$A$18+MAX($B$8,$B$19:$B$29)+F$9+$K13","v":{"$error":"#VALUE!"}},{"$f":"$K$8+$A$9+$B13+MAX(F$18,F$19:F$29)","v":{"$error":"#VALUE!"}},{"$f":"$K$8+$A$9+MAX($B13,$B$19:$B$29)+F$18","v":{"$error":"#VALUE!"}},{"$f":"$K$8+MAX($A$9,$A$19:$A$29)+$B13+F$18","v":{"$error":"#VALUE!"}},{"$f":"MAX($K$8,$K$19:$K$29)+$A$9+$B13+F$18","v":{"$error":"#VALUE!"}},{"$f":"IF(OR(AI67<AJ67,AI67<AK67,AI67<AL67,AI67<AM67),\"rotation \"&$R67&\" \"&AI$39&\" + \",IF(OR(AI67<AN67,AI67<AO67,AI67<AP67,AI67<AQ67),\"rotation \"&$R67&\" \"&AI$39&\" -\",0))","v":{"$error":"#VALUE!"}}]
[{"$f":"Feuil1!AI16","v":""},{"$f":"IF($O68,0,Feuil1!AJ16)","v":""},{"$f":"IF($O68,0,Feuil1!AK16)","v":""},{"$f":"IF($O68,0,Feuil1!AL16)","v":""},{"$f":"IF($O68,0,Feuil1!AM16)","v":""},{"$f":"IF($O68,0,Feuil1!AN16)","v":""},{"$f":"IF($O68,0,Feuil1!AO16)","v":""},{"$f":"IF($O68,0,Feuil1!AP16)","v":""},{"$f":"IF($O68,0,Feuil1!AQ16)","v":""},{"$f":"IF($O68,0,Feuil1!AR16)","v":""},{"$f":"IF($O68,0,Feuil1!AS16)","v":""},{"$f":"IF($O68,0,Feuil1!AT16)","v":""},null,9,0,{"$f":"Feuil1!AX16","v":""},null,"11 1 2",null,null,null,null,null,null,null,null,null,null,null,null,null,null,null,null,null,{"$f":"$B$9+$A$8+$K$18+G14","v":{"$error":"#VALUE!"}},{"$f":"$A$18+$B$8+MAX(G$9,G$19:G$29)+$K14","v":{"$error":"#VALUE!"}},{"$f":"$A$18+$B$8+G$9+MAX($K14,$K$19:$K$29)","v":{"$error":"#VALUE!"}},{"$f":"MAX($A$18,$A$19:$A$29)+$B$8+G$9+$K14","v":{"$error":"#VALUE!"}},{"$f":"$A$18+MAX($B$8,$B$19:$B$29)+G$9+$K14","v":{"$error":"#VALUE!"}},{"$f":"$K$8+$A$9+$B14+MAX(G$18,G$19:G$29)","v":{"$error":"#VALUE!"}},{"$f":"$K$8+$A$9+MAX($B14,$B$19:$B$29)+G$18","v":{"$error":"#VALUE!"}},{"$f":"$K$8+MAX($A$9,$A$19:$A$29)+$B14+G$18","v":{"$error":"#VALUE!"}},{"$f":"MAX($K$8,$K$19:$K$29)+$A$9+$B14+G$18","v":{"$error":"#VALUE!"}},{"$f":"IF(OR(AJ68<AK68,AJ68<AL68,AJ68<AM68,AJ68<AN68),\"rotation \"&$R68&\" \"&AJ$39&\" + \",IF(OR(AJ68<AO68,AJ68<AP68,AJ68<AQ68,AJ68<AR68),\"rotation \"&$R68&\" \"&AJ$39&\" -\",0))","v":{"$error":"#VALUE!"}}]
[{"$f":"Feuil1!AI17","v":""},{"$f":"IF($O69,0,Feuil1!AJ17)","v":""},{"$f":"IF($O69,0,Feuil1!AK17)","v":""},{"$f":"IF($O69,0,Feuil1!AL17)","v":""},{"$f":"IF($O69,0,Feuil1!AM17)","v":""},{"$f":"IF($O69,0,Feuil1!AN17)","v":""},{"$f":"IF($O69,0,Feuil1!AO17)","v":""},{"$f":"IF($O69,0,Feuil1!AP17)","v":""},{"$f":"IF($O69,0,Feuil1!AQ17)","v":""},{"$f":"IF($O69,0,Feuil1!AR17)","v":""},{"$f":"IF($O69,0,Feuil1!AS17)","v":""},{"$f":"IF($O69,0,Feuil1!AT17)","v":""},null,10,0,{"$f":"Feuil1!AX17","v":""},null,"11 1 2",null,null,null,null,null,null,null,null,null,null,null,null,null,null,null,null,null,null,{"$f":"$B$9+$A$8+$K$18+H15","v":{"$error":"#VALUE!"}},{"$f":"$A$18+$B$8+MAX(H$9,H$19:H$29)+$K15","v":{"$error":"#VALUE!"}},{"$f":"$A$18+$B$8+H$9+MAX($K15,$K$19:$K$29)","v":{"$error":"#VALUE!"}},{"$f":"MAX($A$18,$A$19:$A$29)+$B$8+H$9+$K15","v":{"$error":"#VALUE!"}},{"$f":"$A$18+MAX($B$8,$B$19:$B$29)+H$9+$K15","v":{"$error":"#VALUE!"}},{"$f":"$K$8+$A$9+$B15+MAX(H$18,H$19:H$29)","v":{"$error":"#VALUE!"}},{"$f":"$K$8+$A$9+MAX($B15,$B$19:$B$29)+H$18","v":{"$error":"#VALUE!"}},{"$f":"$K$8+MAX($A$9,$A$19:$A$29)+$B15+H$18","v":{"$error":"#VALUE!"}},{"$f":"MAX($K$8,$K$19:$K$29)+$A$9+$B15+H$18","v":{"$error":"#VALUE!"}},{"$f":"IF(OR(AK69<AL69,AK69<AM69,AK69<AN69,AK69<AO69),\"rotation \"&$R69&\" \"&AK$39&\" + \",IF(OR(AK69<AP69,AK69<AQ69,AK69<AR69,AK69<AS69),\"rotation \"&$R69&\" \"&AK$39&\" -\",0))","v":{"$error":"#VALUE!"}}]
[{"$f":"Feuil1!AI18","v":""},{"$f":"IF($O70,0,Feuil1!AJ18)","v":""},{"$f":"IF($O70,0,Feuil1!AK18)","v":""},{"$f":"IF($O70,0,Feuil1!AL18)","v":""},{"$f":"IF($O70,0,Feuil1!AM18)","v":""},{"$f":"IF($O70,0,Feuil1!AN18)","v":""},{"$f":"IF($O70,0,Feuil1!AO18)","v":""},{"$f":"IF($O70,0,Feuil1!AP18)","v":""},{"$f":"IF($O70,0,Feuil1!AQ18)","v":""},{"$f":"IF($O70,0,Feuil1!AR18)","v":""},{"$f":"IF($O70,0,Feuil1!AS18)","v":""},{"$f":"IF($O70,0,Feuil1!AT18)","v":""},null,11,0,{"$f":"Feuil1!AX18","v":""},null,"11 1 2",null,null,null,null,null,null,null,null,null,null,null,null,null,null,null,null,null,null,null,{"$f":"$B$9+$A$8+$K$18+I16","v":{"$error":"#VALUE!"}},{"$f":"$A$18+$B$8+MAX(I$9,I$19:I$29)+$K16","v":{"$error":"#VALUE!"}},{"$f":"$A$18+$B$8+I$9+MAX($K16,$K$19:$K$29)","v":{"$error":"#VALUE!"}},{"$f":"MAX($A$18,$A$19:$A$29)+$B$8+I$9+$K16","v":{"$error":"#VALUE!"}},{"$f":"$A$18+MAX($B$8,$B$19:$B$29)+I$9+$K16","v":{"$error":"#VALUE!"}},{"$f":"$K$8+$A$9+$B16+MAX(I$18,I$19:I$29)","v":{"$error":"#VALUE!"}},{"$f":"$K$8+$A$9+MAX($B16,$B$19:$B$29)+I$18","v":{"$error":"#VALUE!"}},{"$f":"$K$8+MAX($A$9,$A$19:$A$29)+$B16+I$18","v":{"$error":"#VALUE!"}},{"$f":"MAX($K$8,$K$19:$K$29)+$A$9+$B16+I$18","v":{"$error":"#VALUE!"}},{"$f":"IF(OR(AL70<AM70,AL70<AN70,AL70<AO70,AL70<AP70),\"rotation \"&$R70&\" \"&AL$39&\" + \",IF(OR(AL70<AQ70,AL70<AR70,AL70<AS70,AL70<AT70),\"rotation \"&$R70&\" \"&AL$39&\" -\",0))","v":{"$error":"#VALUE!"}},{"$f":"IF(AO64<>0,\" \"&AO64&\" \",IF(AP65<>0,\" \"&AP65&\" \",IF(AQ66<>0,\" \"&AQ66&\" \",IF(AR67<>0,\" \"&AR67&\" \",IF(AS68<>0,\" \"&AS68&\" \",IF(AT69<>0,\" \"&AT69&\" \",IF(AU70<>0,\" \"&AU70&\" \",0)))))))","v":{"$error":"#VALUE!"}}]
[{"$f":"Feuil1!AI19","v":""},{"$f":"IF($O71,0,Feuil1!AJ19)","v":""},{"$f":"IF($O71,0,Feuil1!AK19)","v":""},{"$f":"IF($O71,0,Feuil1!AL19)","v":""},{"$f":"IF($O71,0,Feuil1!AM19)","v":""},{"$f":"IF($O71,0,Feuil1!AN19)","v":""},{"$f":"IF($O71,0,Feuil1!AO19)","v":""},{"$f":"IF($O71,0,Feuil1!AP19)","v":""},{"$f":"IF($O71,0,Feuil1!AQ19)","v":""},{"$f":"IF($O71,0,Feuil1!AR19)","v":""},{"$f":"IF($O71,0,Feuil1!AS19)","v":""},{"$f":"IF($O71,0,Feuil1!AT19)","v":""},null,12,0,{"$f":"Feuil1!AX19","v":""},null,null,null,"test ok ",null,null,null,null,null,null,null,null,null,null,null,null,null,null,null,null,null,null,{"$f":"$B$9+$A$8+$K$18+J17","v":{"$error":"#VALUE!"}},{"$f":"$A$18+$B$8+MAX(J$9,J$19:J$29)+$K17","v":{"$error":"#VALUE!"}},{"$f":"$A$18+$B$8+J$9+MAX($K17,$K$19:$K$29)","v":{"$error":"#VALUE!"}},{"$f":"MAX($A$18,$A$19:$A$29)+$B$8+J$9+$K17","v":{"$error":"#VALUE!"}},{"$f":"$A$18+MAX($B$8,$B$19:$B$29)+J$9+$K17","v":{"$error":"#VALUE!"}},{"$f":"$K$8+$A$9+$B17+MAX(J$18,J$19:J$29)","v":{"$error":"#VALUE!"}},{"$f":"$K$8+$A$9+MAX($B17,$B$19:$B$29)+J$18","v":{"$error":"#VALUE!"}},{"$f":"$K$8+MAX($A$9,$A$19:$A$29)+$B17+J$18","v":{"$error":"#VALUE!"}},{"$f":"MAX($K$8,$K$19:$K$29)+$A$9+$B17+J$18","v":{"$error":"#VALUE!"}}]
[{"$f":"Feuil1!AI20","v":""},{"$f":"IF($O72,0,Feuil1!AJ20)","v":""},{"$f":"IF($O72,0,Feuil1!AK20)","v":""},{"$f":"IF($O72,0,Feuil1!AL20)","v":""},{"$f":"IF($O72,0,Feuil1!AM20)","v":""},{"$f":"IF($O72,0,Feuil1!AN20)","v":""},{"$f":"IF($O72,0,Feuil1!AO20)","v":""},{"$f":"IF($O72,0,Feuil1!AP20)","v":""},{"$f":"IF($O72,0,Feuil1!AQ20)","v":""},{"$f":"IF($O72,0,Feuil1!AR20)","v":""},{"$f":"IF($O72,0,Feuil1!AS20)","v":""},{"$f":"IF($O72,0,Feuil1!AT20)","v":""},null,13,0,{"$f":"Feuil1!AX20","v":""}]
[{"$f":"Feuil1!AI21","v":""},{"$f":"IF($O73,0,Feuil1!AJ21)","v":""},{"$f":"IF($O73,0,Feuil1!AK21)","v":""},{"$f":"IF($O73,0,Feuil1!AL21)","v":""},{"$f":"IF($O73,0,Feuil1!AM21)","v":""},{"$f":"IF($O73,0,Feuil1!AN21)","v":""},{"$f":"IF($O73,0,Feuil1!AO21)","v":""},{"$f":"IF($O73,0,Feuil1!AP21)","v":""},{"$f":"IF($O73,0,Feuil1!AQ21)","v":""},{"$f":"IF($O73,0,Feuil1!AR21)","v":""},{"$f":"IF($O73,0,Feuil1!AS21)","v":""},{"$f":"IF($O73,0,Feuil1!AT21)","v":""},null,14,0,{"$f":"Feuil1!AX21","v":""}]
[{"$f":"Feuil1!AI22","v":""},{"$f":"IF($O74,0,Feuil1!AJ22)","v":""},{"$f":"IF($O74,0,Feuil1!AK22)","v":""},{"$f":"IF($O74,0,Feuil1!AL22)","v":""},{"$f":"IF($O74,0,Feuil1!AM22)","v":""},{"$f":"IF($O74,0,Feuil1!AN22)","v":""},{"$f":"IF($O74,0,Feuil1!AO22)","v":""},{"$f":"IF($O74,0,Feuil1!AP22)","v":""},{"$f":"IF($O74,0,Feuil1!AQ22)","v":""},{"$f":"IF($O74,0,Feuil1!AR22)","v":""},{"$f":"IF($O74,0,Feuil1!AS22)","v":""},{"$f":"IF($O74,0,Feuil1!AT22)","v":""},null,15,0,{"$f":"Feuil1!AX22","v":""}]
[{"$f":"Feuil1!AI23","v":""},{"$f":"IF($O75,0,Feuil1!AJ23)","v":""},{"$f":"IF($O75,0,Feuil1!AK23)","v":""},{"$f":"IF($O75,0,Feuil1!AL23)","v":""},{"$f":"IF($O75,0,Feuil1!AM23)","v":""},{"$f":"IF($O75,0,Feuil1!AN23)","v":""},{"$f":"IF($O75,0,Feuil1!AO23)","v":""},{"$f":"IF($O75,0,Feuil1!AP23)","v":""},{"$f":"IF($O75,0,Feuil1!AQ23)","v":""},{"$f":"IF($O75,0,Feuil1!AR23)","v":""},{"$f":"IF($O75,0,Feuil1!AS23)","v":""},{"$f":"IF($O75,0,Feuil1!AT23)","v":""},null,16,0,{"$f":"Feuil1!AX23","v":""}]
[{"$f":"Feuil1!AI24","v":""},{"$f":"IF($O76,0,Feuil1!AJ24)","v":""},{"$f":"IF($O76,0,Feuil1!AK24)","v":""},{"$f":"IF($O76,0,Feuil1!AL24)","v":""},{"$f":"IF($O76,0,Feuil1!AM24)","v":""},{"$f":"IF($O76,0,Feuil1!AN24)","v":""},{"$f":"IF($O76,0,Feuil1!AO24)","v":""},{"$f":"IF($O76,0,Feuil1!AP24)","v":""},{"$f":"IF($O76,0,Feuil1!AQ24)","v":""},{"$f":"IF($O76,0,Feuil1!AR24)","v":""},{"$f":"IF($O76,0,Feuil1!AS24)","v":""},{"$f":"IF($O76,0,Feuil1!AT24)","v":""},null,17,0,{"$f":"Feuil1!AX24","v":""}]
[{"$f":"Feuil1!AI25","v":""},{"$f":"IF($O77,0,Feuil1!AJ25)","v":""},{"$f":"IF($O77,0,Feuil1!AK25)","v":""},{"$f":"IF($O77,0,Feuil1!AL25)","v":""},{"$f":"IF($O77,0,Feuil1!AM25)","v":""},{"$f":"IF($O77,0,Feuil1!AN25)","v":""},{"$f":"IF($O77,0,Feuil1!AO25)","v":""},{"$f":"IF($O77,0,Feuil1!AP25)","v":""},{"$f":"IF($O77,0,Feuil1!AQ25)","v":""},{"$f":"IF($O77,0,Feuil1!AR25)","v":""},{"$f":"IF($O77,0,Feuil1!AS25)","v":""},{"$f":"IF($O77,0,Feuil1!AT25)","v":""},null,18,0,{"$f":"Feuil1!AX25","v":""}]
[{"$f":"Feuil1!AI26","v":""},{"$f":"IF($O78,0,Feuil1!AJ26)","v":""},{"$f":"IF($O78,0,Feuil1!AK26)","v":""},{"$f":"IF($O78,0,Feuil1!AL26)","v":""},{"$f":"IF($O78,0,Feuil1!AM26)","v":""},{"$f":"IF($O78,0,Feuil1!AN26)","v":""},{"$f":"IF($O78,0,Feuil1!AO26)","v":""},{"$f":"IF($O78,0,Feuil1!AP26)","v":""},{"$f":"IF($O78,0,Feuil1!AQ26)","v":""},{"$f":"IF($O78,0,Feuil1!AR26)","v":""},{"$f":"IF($O78,0,Feuil1!AS26)","v":""},{"$f":"IF($O78,0,Feuil1!AT26)","v":""},null,19,0,{"$f":"Feuil1!AX26","v":""}]
[{"$f":"Feuil1!AI27","v":""},{"$f":"IF($O79,0,Feuil1!AJ27)","v":""},{"$f":"IF($O79,0,Feuil1!AK27)","v":""},{"$f":"IF($O79,0,Feuil1!AL27)","v":""},{"$f":"IF($O79,0,Feuil1!AM27)","v":""},{"$f":"IF($O79,0,Feuil1!AN27)","v":""},{"$f":"IF($O79,0,Feuil1!AO27)","v":""},{"$f":"IF($O79,0,Feuil1!AP27)","v":""},{"$f":"IF($O79,0,Feuil1!AQ27)","v":""},{"$f":"IF($O79,0,Feuil1!AR27)","v":""},{"$f":"IF($O79,0,Feuil1!AS27)","v":""},{"$f":"IF($O79,0,Feuil1!AT27)","v":""},null,20,0,{"$f":"Feuil1!AX27","v":""}]
[{"$f":"Feuil1!AI28","v":""},{"$f":"IF($O80,0,Feuil1!AJ28)","v":""},{"$f":"IF($O80,0,Feuil1!AK28)","v":""},{"$f":"IF($O80,0,Feuil1!AL28)","v":""},{"$f":"IF($O80,0,Feuil1!AM28)","v":""},{"$f":"IF($O80,0,Feuil1!AN28)","v":""},{"$f":"IF($O80,0,Feuil1!AO28)","v":""},{"$f":"IF($O80,0,Feuil1!AP28)","v":""},{"$f":"IF($O80,0,Feuil1!AQ28)","v":""},{"$f":"IF($O80,0,Feuil1!AR28)","v":""},{"$f":"IF($O80,0,Feuil1!AS28)","v":""},{"$f":"IF($O80,0,Feuil1!AT28)","v":""},null,21,0,{"$f":"Feuil1!AX28","v":""}]
[{"$f":"Feuil1!AI29","v":""},{"$f":"IF($O81,0,Feuil1!AJ29)","v":""},{"$f":"IF($O81,0,Feuil1!AK29)","v":""},{"$f":"IF($O81,0,Feuil1!AL29)","v":""},{"$f":"IF($O81,0,Feuil1!AM29)","v":""},{"$f":"IF($O81,0,Feuil1!AN29)","v":""},{"$f":"IF($O81,0,Feuil1!AO29)","v":""},{"$f":"IF($O81,0,Feuil1!AP29)","v":""},{"$f":"IF($O81,0,Feuil1!AQ29)","v":""},{"$f":"IF($O81,0,Feuil1!AR29)","v":""},{"$f":"IF($O81,0,Feuil1!AS29)","v":""},{"$f":"IF($O81,0,Feuil1!AT29)","v":""},null,22,0,{"$f":"Feuil1!AX29","v":""}]
[]
[]
["exclusion joueurs "]
[null,null,"remp 1",1]
[{"$f":"IF(E86<>0,1,0)","v":0},{"$f":"N60","v":1},{"$f":"IF(AND(N60<11,D33=1),1,0)","v":0},{"$f":"IF(AND($D$33=0,$N$60>11),0,1)","v":1},{"$f":"IF(D86<$C$86,\" remplacement \"&D85&\" par \"&B86&\"   \",0)","v":0}]
[0,{"$f":"N61","v":2},null,{"$f":"IF(AND($D$34=0,$N$61>11),0,1)","v":1},{"$f":"IF(D87<$C$86,\" remplacement \"&$D$85&\" par \"&B87&\"   \",0)","v":0}]
[0,3,null,{"$f":"IF(AND($D$35=0,$N$62>11),0,1)","v":1},0]
[0,4,null,{"$f":"IF(AND($D$36=0,$N$63>11),0,1)","v":1},0]
[0,5,null,{"$f":"IF(AND($D$37=0,$N$64>11),0,1)","v":1},0]
[0,6,null,{"$f":"IF(AND($D$38=0,$N$65>11),0,1)","v":1},0]
[0,7,null,{"$f":"IF(AND($D$39=0,$N$66>11),0,1)","v":1},0]
[0,8,null,{"$f":"IF(AND($D$40=0,$N$67>11),0,1)","v":1},0]
[0,9,null,{"$f":"IF(AND($D$41=0,$N$68>11),0,1)","v":1},0]
[0,10,null,{"$f":"IF(AND($D$42=0,$N$69>11),0,1)","v":1},0]
[0,11,null,{"$f":"IF(AND($D$43=0,$N$70>11),0,1)","v":1},0]
[0,12,null,{"$f":"IF(AND($D$44=0,$N$71>11),0,1)","v":0},{"$f":"IF(D97<$C$86,\" remplacement \"&$D$85&\" par \"&B97&\"   \",0)","v":0}]
[0,13,null,{"$f":"IF(AND($D$45=0,$N$72>11),0,1)","v":0},0]
[0,14,null,{"$f":"IF(AND($D$46=0,$N$73>11),0,1)","v":0},0]
[0,15,null,{"$f":"IF(AND($D$47=0,$N$74>11),0,1)","v":0},0]
[0,16,null,{"$f":"IF(AND($D$48=0,$N$75>11),0,1)","v":0},0]
[0,17,null,{"$f":"IF(AND($D$49=0,$N$76>11),0,1)","v":0},0]
[0,18,null,{"$f":"IF(AND($D$50=0,$N$77>11),0,1)","v":0},0]
[0,19,null,{"$f":"IF(AND($D$51=0,$N$78>11),0,1)","v":0},0]
[0,20,null,{"$f":"IF(AND($D$52=0,$N$79>11),0,1)","v":0},0]
[0,21,null,{"$f":"IF(AND($D$53=0,$N$80>11),0,1)","v":0},0]
[0,22,null,{"$f":"IF(AND($D$54=0,$N$81>11),0,1)","v":0},0]
[]
[]
[null,null,"remp 2",2]
[{"$f":"IF(E111<>0,1,0)","v":0},{"$f":"B86","v":1},{"$f":"IF(AND(N61<11,D34=1),1,0)","v":0},{"$f":"IF(AND($D$33=0,$N$60>11),0,1)","v":1},{"$f":"IF(D111<C111,\" remplacement \"&D110&\" par \"&B111&\"   \",0)","v":0}]
[0,{"$f":"B87","v":2},null,{"$f":"IF(AND($D$34=0,$N$61>11),0,1)","v":1},{"$f":"IF(D112<C111,\" remplacement \"&D110&\" par \"&B112&\"   \",0)","v":0}]
[0,3,null,{"$f":"IF(AND($D$35=0,$N$62>11),0,1)","v":1},{"$f":"IF(D113<C111,\" remplacement \"&D110&\" par \"&B113&\"   \",0)","v":0}]
[0,4,null,{"$f":"IF(AND($D$36=0,$N$63>11),0,1)","v":1},{"$f":"IF(D114<C111,\" remplacement \"&D110&\" par \"&B114&\"   \",0)","v":0}]
[0,5,null,{"$f":"IF(AND($D$37=0,$N$64>11),0,1)","v":1},{"$f":"IF(D115<C111,\" remplacement \"&D110&\" par \"&B115&\"   \",0)","v":0}]
[0,6,null,{"$f":"IF(AND($D$38=0,$N$65>11),0,1)","v":1},{"$f":"IF(D116<C111,\" remplacement \"&D110&\" par \"&B116&\"   \",0)","v":0}]
[0,7,null,{"$f":"IF(AND($D$39=0,$N$66>11),0,1)","v":1},{"$f":"IF(D117<C111,\" remplacement \"&D110&\" par \"&B117&\"   \",0)","v":0}]
[0,8,null,{"$f":"IF(AND($D$40=0,$N$67>11),0,1)","v":1},{"$f":"IF(D118<C111,\" remplacement \"&D110&\" par \"&B118&\"   \",0)","v":0}]
[0,9,null,{"$f":"IF(AND($D$41=0,$N$68>11),0,1)","v":1},{"$f":"IF(D119<C111,\" remplacement \"&D110&\" par \"&B119&\"   \",0)","v":0}]
[0,10,null,{"$f":"IF(AND($D$42=0,$N$69>11),0,1)","v":1},{"$f":"IF(D120<C111,\" remplacement \"&D110&\" par \"&B120&\"   \",0)","v":0}]
[0,11,null,{"$f":"IF(AND($D$43=0,$N$70>11),0,1)","v":1},{"$f":"IF(D121<C111,\" remplacement \"&D110&\" par \"&B121&\"   \",0)","v":0}]
[0,12,null,{"$f":"IF(AND($D$44=0,$N$71>11),0,1)","v":0},{"$f":"IF(D122<C111,\" remplacement \"&D110&\" par \"&B122&\"   \",0)","v":0}]
[0,13,null,{"$f":"IF(AND($D$45=0,$N$72>11),0,1)","v":0},{"$f":"IF(D123<C111,\" remplacement \"&D110&\" par \"&B123&\"   \",0)","v":0}]
[0,14,null,{"$f":"IF(AND($D$46=0,$N$73>11),0,1)","v":0},{"$f":"IF(D124<C111,\" remplacement \"&D110&\" par \"&B124&\"   \",0)","v":0}]
[0,15,null,{"$f":"IF(AND($D$47=0,$N$74>11),0,1)","v":0},{"$f":"IF(D125<C111,\" remplacement \"&D110&\" par \"&B125&\"   \",0)","v":0}]
[0,16,null,{"$f":"IF(AND($D$48=0,$N$75>11),0,1)","v":0},{"$f":"IF(D126<C111,\" remplacement \"&D110&\" par \"&B126&\"   \",0)","v":0}]
[0,17,null,{"$f":"IF(AND($D$49=0,$N$76>11),0,1)","v":0},{"$f":"IF(D127<C111,\" remplacement \"&D110&\" par \"&B127&\"   \",0)","v":0}]
[0,18,null,{"$f":"IF(AND($D$50=0,$N$77>11),0,1)","v":0},{"$f":"IF(D128<C111,\" remplacement \"&D110&\" par \"&B128&\"   \",0)","v":0}]
[0,19,null,{"$f":"IF(AND($D$51=0,$N$78>11),0,1)","v":0},{"$f":"IF(D129<C111,\" remplacement \"&D110&\" par \"&B129&\"   \",0)","v":0}]
[0,20,null,{"$f":"IF(AND($D$52=0,$N$79>11),0,1)","v":0},{"$f":"IF(D130<C111,\" remplacement \"&D110&\" par \"&B130&\"   \",0)","v":0}]
[0,21,null,{"$f":"IF(AND($D$53=0,$N$80>11),0,1)","v":0},{"$f":"IF(D131<C111,\" remplacement \"&D110&\" par \"&B131&\"   \",0)","v":0}]
[0,22,null,{"$f":"IF(AND($D$54=0,$N$81>11),0,1)","v":0},{"$f":"IF(D132<C111,\" remplacement \"&D110&\" par \"&B132&\"   \",0)","v":0}]
[]
[]
[null,null,"remp 3",3]
[{"$f":"IF(E136<>0,1,0)","v":0},{"$f":"B111","v":1},{"$f":"IF(AND(N62<11,D35=1),1,0)","v":0},{"$f":"IF(AND($D$33=0,$N$60>11),0,1)","v":1},{"$f":"IF(D136<$C$136,\" remplacement \"&$D$135&\" par \"&B136&\"   \",0)","v":0}]
[0,2,null,{"$f":"IF(AND($D$34=0,$N$61>11),0,1)","v":1},{"$f":"IF(D137<$C$136,\" remplacement \"&$D$135&\" par \"&B137&\"   \",0)","v":0}]
[0,3,null,{"$f":"IF(AND($D$35=0,$N$62>11),0,1)","v":1},0]
[0,4,null,{"$f":"IF(AND($D$36=0,$N$63>11),0,1)","v":1},0]
[0,5,null,{"$f":"IF(AND($D$37=0,$N$64>11),0,1)","v":1},0]
[0,6,null,{"$f":"IF(AND($D$38=0,$N$65>11),0,1)","v":1},0]
[0,7,null,{"$f":"IF(AND($D$39=0,$N$66>11),0,1)","v":1},0]
[0,8,null,{"$f":"IF(AND($D$40=0,$N$67>11),0,1)","v":1},0]
[0,9,null,{"$f":"IF(AND($D$41=0,$N$68>11),0,1)","v":1},0]
[0,10,null,{"$f":"IF(AND($D$42=0,$N$69>11),0,1)","v":1},0]
[0,11,null,{"$f":"IF(AND($D$43=0,$N$70>11),0,1)","v":1},0]
[0,12,null,{"$f":"IF(AND($D$44=0,$N$71>11),0,1)","v":0},0]
[0,13,null,{"$f":"IF(AND($D$45=0,$N$72>11),0,1)","v":0},0]
[0,14,null,{"$f":"IF(AND($D$46=0,$N$73>11),0,1)","v":0},0]
[0,15,null,{"$f":"IF(AND($D$47=0,$N$74>11),0,1)","v":0},0]
[0,16,null,{"$f":"IF(AND($D$48=0,$N$75>11),0,1)","v":0},0]
[0,17,null,{"$f":"IF(AND($D$49=0,$N$76>11),0,1)","v":0},0]
[0,18,null,{"$f":"IF(AND($D$50=0,$N$77>11),0,1)","v":0},0]
[0,19,null,{"$f":"IF(AND($D$51=0,$N$78>11),0,1)","v":0},0]
[0,20,null,{"$f":"IF(AND($D$52=0,$N$79>11),0,1)","v":0},0]
[0,21,null,{"$f":"IF(AND($D$53=0,$N$80>11),0,1)","v":0},0]
[0,22,null,{"$f":"IF(AND($D$54=0,$N$81>11),0,1)","v":0},0]
[]
[]
[{"$f":"IF(E160<>0,1,0)","v":0},null,"remp 4",4]
[0,{"$f":"B136","v":1},{"$f":"IF(AND(N63<11,D36=1),1,0)","v":0},{"$f":"IF(AND($D$33=0,$N$60>11),0,1)","v":1},{"$f":"IF(D161<$C$161,\" remplacement \"&$D$160&\" par \"&B161&\"   \",0)","v":0}]
[0,{"$f":"B137","v":2},null,{"$f":"IF(AND($D$34=0,$N$61>11),0,1)","v":1},{"$f":"IF(D162<$C$161,\" remplacement \"&$D$160&\" par \"&B162&\"   \",0)","v":0}]
[0,3,null,{"$f":"IF(AND($D$35=0,$N$62>11),0,1)","v":1},0]
[0,4,null,{"$f":"IF(AND($D$36=0,$N$63>11),0,1)","v":1},0]
[0,5,null,{"$f":"IF(AND($D$37=0,$N$64>11),0,1)","v":1},0]
[0,6,null,{"$f":"IF(AND($D$38=0,$N$65>11),0,1)","v":1},0]
[0,7,null,{"$f":"IF(AND($D$39=0,$N$66>11),0,1)","v":1},0]
[0,8,null,{"$f":"IF(AND($D$40=0,$N$67>11),0,1)","v":1},0]
[0,9,null,{"$f":"IF(AND($D$41=0,$N$68>11),0,1)","v":1},0]
[0,10,null,{"$f":"IF(AND($D$42=0,$N$69>11),0,1)","v":1},0]
[0,11,null,{"$f":"IF(AND($D$43=0,$N$70>11),0,1)","v":1},0]
[0,12,null,{"$f":"IF(AND($D$44=0,$N$71>11),0,1)","v":0},0]
[0,13,null,{"$f":"IF(AND($D$45=0,$N$72>11),0,1)","v":0},0]
[0,14,null,{"$f":"IF(AND($D$46=0,$N$73>11),0,1)","v":0},0]
[0,15,null,{"$f":"IF(AND($D$47=0,$N$74>11),0,1)","v":0},0]
[0,16,null,{"$f":"IF(AND($D$48=0,$N$75>11),0,1)","v":0},0]
[0,17,null,{"$f":"IF(AND($D$49=0,$N$76>11),0,1)","v":0},0]
[0,18,null,{"$f":"IF(AND($D$50=0,$N$77>11),0,1)","v":0},0]
[0,19,null,{"$f":"IF(AND($D$51=0,$N$78>11),0,1)","v":0},0]
[0,20,null,{"$f":"IF(AND($D$52=0,$N$79>11),0,1)","v":0},0]
[0,21,null,{"$f":"IF(AND($D$53=0,$N$80>11),0,1)","v":0},0]
[0,22,null,{"$f":"IF(AND($D$54=0,$N$81>11),0,1)","v":0},0]
[]
[]
[{"$f":"IF(E185<>0,1,0)","v":0},null,"remp 5",5]
[0,{"$f":"B161","v":1},{"$f":"IF(AND(N64<11,D37=1),1,0)","v":0},{"$f":"IF(AND($D$33=0,$N$60>11),0,1)","v":1},{"$f":"IF(D186<$C$186,\" remplacement \"&$D$185&\" par \"&B186&\"   \",0)","v":0}]
[0,{"$f":"B162","v":2},null,{"$f":"IF(AND($D$34=0,$N$61>11),0,1)","v":1},{"$f":"IF(D187<$C$186,\" remplacement \"&$D$185&\" par \"&B187&\"   \",0)","v":0}]
[0,3,null,{"$f":"IF(AND($D$35=0,$N$62>11),0,1)","v":1},0]
[0,4,null,{"$f":"IF(AND($D$36=0,$N$63>11),0,1)","v":1},0]
[0,5,null,{"$f":"IF(AND($D$37=0,$N$64>11),0,1)","v":1},0]
[0,6,null,{"$f":"IF(AND($D$38=0,$N$65>11),0,1)","v":1},0]
[0,7,null,{"$f":"IF(AND($D$39=0,$N$66>11),0,1)","v":1},0]
[0,8,null,{"$f":"IF(AND($D$40=0,$N$67>11),0,1)","v":1},0]
[0,9,null,{"$f":"IF(AND($D$41=0,$N$68>11),0,1)","v":1},0]
[0,10,null,{"$f":"IF(AND($D$42=0,$N$69>11),0,1)","v":1},0]
[0,11,null,{"$f":"IF(AND($D$43=0,$N$70>11),0,1)","v":1},0]
[0,12,null,{"$f":"IF(AND($D$44=0,$N$71>11),0,1)","v":0},0]
[0,13,null,{"$f":"IF(AND($D$45=0,$N$72>11),0,1)","v":0},0]
[0,14,null,{"$f":"IF(AND($D$46=0,$N$73>11),0,1)","v":0},0]
[0,15,null,{"$f":"IF(AND($D$47=0,$N$74>11),0,1)","v":0},0]
[0,16,null,{"$f":"IF(AND($D$48=0,$N$75>11),0,1)","v":0},0]
[0,17,null,{"$f":"IF(AND($D$49=0,$N$76>11),0,1)","v":0},0]
[0,18,null,{"$f":"IF(AND($D$50=0,$N$77>11),0,1)","v":0},0]
[0,19,null,{"$f":"IF(AND($D$51=0,$N$78>11),0,1)","v":0},0]
[0,20,null,{"$f":"IF(AND($D$52=0,$N$79>11),0,1)","v":0},0]
[0,21,null,{"$f":"IF(AND($D$53=0,$N$80>11),0,1)","v":0},0]
[0,22,null,{"$f":"IF(AND($D$54=0,$N$81>11),0,1)","v":0},0]
[]
[]
[{"$f":"IF(E210<>0,1,0)","v":0},null,"remp 6",6]
[0,{"$f":"B186","v":1},{"$f":"IF(AND(N65<11,D38=1),1,0)","v":0},{"$f":"IF(AND($D$33=0,$N$60>11),0,1)","v":1},{"$f":"IF(D211<$C$211,\" remplacement \"&$D$210&\" par \"&B211&\"   \",0)","v":0}]
[0,{"$f":"B187","v":2},null,{"$f":"IF(AND($D$34=0,$N$61>11),0,1)","v":1},{"$f":"IF(D212<$C$211,\" remplacement \"&$D$210&\" par \"&B212&\"   \",0)","v":0}]
[0,3,null,{"$f":"IF(AND($D$35=0,$N$62>11),0,1)","v":1},0]
[0,4,null,{"$f":"IF(AND($D$36=0,$N$63>11),0,1)","v":1},0]
[0,5,null,{"$f":"IF(AND($D$37=0,$N$64>11),0,1)","v":1},0]
[0,6,null,{"$f":"IF(AND($D$38=0,$N$65>11),0,1)","v":1},0]
[0,7,null,{"$f":"IF(AND($D$39=0,$N$66>11),0,1)","v":1},0]
[0,8,null,{"$f":"IF(AND($D$40=0,$N$67>11),0,1)","v":1},0]
[0,9,null,{"$f":"IF(AND($D$41=0,$N$68>11),0,1)","v":1},0]
[0,10,null,{"$f":"IF(AND($D$42=0,$N$69>11),0,1)","v":1},0]
[0,11,null,{"$f":"IF(AND($D$43=0,$N$70>11),0,1)","v":1},0]
[0,12,null,{"$f":"IF(AND($D$44=0,$N$71>11),0,1)","v":0},0]
[0,13,null,{"$f":"IF(AND($D$45=0,$N$72>11),0,1)","v":0},0]
[0,14,null,{"$f":"IF(AND($D$46=0,$N$73>11),0,1)","v":0},0]
[0,15,null,{"$f":"IF(AND($D$47=0,$N$74>11),0,1)","v":0},0]
[0,16,null,{"$f":"IF(AND($D$48=0,$N$75>11),0,1)","v":0},0]
[0,17,null,{"$f":"IF(AND($D$49=0,$N$76>11),0,1)","v":0},0]
[0,18,null,{"$f":"IF(AND($D$50=0,$N$77>11),0,1)","v":0},{"$f":"IF(D228<$C$211,\" remplacement \"&$D$210&\" par \"&B228&\"   \",0)","v":0}]
[0,19,null,{"$f":"IF(AND($D$51=0,$N$78>11),0,1)","v":0},0]
[0,20,null,{"$f":"IF(AND($D$52=0,$N$79>11),0,1)","v":0},0]
[0,21,null,{"$f":"IF(AND($D$53=0,$N$80>11),0,1)","v":0},0]
[0,22,null,{"$f":"IF(AND($D$54=0,$N$81>11),0,1)","v":0},0]
[]
[]
[{"$f":"IF(E235<>0,1,0)","v":0},null,"remp 7",7]
[0,{"$f":"B211","v":1},{"$f":"IF(AND(N66<11,D39=1),1,0)","v":0},{"$f":"IF(AND($D$33=0,$N$60>11),0,1)","v":1},{"$f":"IF(D236<$C$236,\" remplacement \"&$D$235&\" par \"&B236&\"   \",0)","v":0}]
[0,{"$f":"B212","v":2},null,{"$f":"IF(AND($D$34=0,$N$61>11),0,1)","v":1},{"$f":"IF(D237<$C$236,\" remplacement \"&$D$235&\" par \"&B237&\"   \",0)","v":0}]
[0,3,null,{"$f":"IF(AND($D$35=0,$N$62>11),0,1)","v":1},0]
[0,4,null,{"$f":"IF(AND($D$36=0,$N$63>11),0,1)","v":1},0]
[0,5,null,{"$f":"IF(AND($D$37=0,$N$64>11),0,1)","v":1},0]
[0,6,null,{"$f":"IF(AND($D$38=0,$N$65>11),0,1)","v":1},0]
[0,7,null,{"$f":"IF(AND($D$39=0,$N$66>11),0,1)","v":1},0]
[0,8,null,{"$f":"IF(AND($D$40=0,$N$67>11),0,1)","v":1},0]
[0,9,null,{"$f":"IF(AND($D$41=0,$N$68>11),0,1)","v":1},0]
[0,10,null,{"$f":"IF(AND($D$42=0,$N$69>11),0,1)","v":1},0]
[0,11,null,{"$f":"IF(AND($D$43=0,$N$70>11),0,1)","v":1},0]
[0,12,null,{"$f":"IF(AND($D$44=0,$N$71>11),0,1)","v":0},0]
[0,13,null,{"$f":"IF(AND($D$45=0,$N$72>11),0,1)","v":0},0]
[0,14,null,{"$f":"IF(AND($D$46=0,$N$73>11),0,1)","v":0},0]
[0,15,null,{"$f":"IF(AND($D$47=0,$N$74>11),0,1)","v":0},0]
[0,16,null,{"$f":"IF(AND($D$48=0,$N$75>11),0,1)","v":0},0]
[0,17,null,{"$f":"IF(AND($D$49=0,$N$76>11),0,1)","v":0},0]
[0,18,null,{"$f":"IF(AND($D$50=0,$N$77>11),0,1)","v":0},0]
[0,19,null,{"$f":"IF(AND($D$51=0,$N$78>11),0,1)","v":0},0]
[0,20,null,{"$f":"IF(AND($D$52=0,$N$79>11),0,1)","v":0},0]
[0,21,null,{"$f":"IF(AND($D$53=0,$N$80>11),0,1)","v":0},0]
[0,22,null,{"$f":"IF(AND($D$54=0,$N$81>11),0,1)","v":0},0]
[]
[]
[{"$f":"IF(E260<>0,1,0)","v":0},null,"remp 8",8]
[0,{"$f":"B236","v":1},{"$f":"IF(AND(N67<11,D40=1),1,0)","v":0},{"$f":"IF(AND($D$33=0,$N$60>11),0,1)","v":1},{"$f":"IF(D261<$C$261,\" remplacement \"&$D$260&\" par \"&B261&\"   \",0)","v":0}]
[0,{"$f":"B237","v":2},null,{"$f":"IF(AND($D$34=0,$N$61>11),0,1)","v":1},{"$f":"IF(D262<$C$261,\" remplacement \"&$D$260&\" par \"&B262&\"   \",0)","v":0}]
[0,3,null,{"$f":"IF(AND($D$35=0,$N$62>11),0,1)","v":1},0]
[0,4,null,{"$f":"IF(AND($D$36=0,$N$63>11),0,1)","v":1},0]
[0,5,null,{"$f":"IF(AND($D$37=0,$N$64>11),0,1)","v":1},0]
[0,6,null,{"$f":"IF(AND($D$38=0,$N$65>11),0,1)","v":1},0]
[0,7,null,{"$f":"IF(AND($D$39=0,$N$66>11),0,1)","v":1},0]
[0,8,null,{"$f":"IF(AND($D$40=0,$N$67>11),0,1)","v":1},0]
[0,9,null,{"$f":"IF(AND($D$41=0,$N$68>11),0,1)","v":1},0]
[0,10,null,{"$f":"IF(AND($D$42=0,$N$69>11),0,1)","v":1},0]
[0,11,null,{"$f":"IF(AND($D$43=0,$N$70>11),0,1)","v":1},0]
[0,12,null,{"$f":"IF(AND($D$44=0,$N$71>11),0,1)","v":0},0]
[0,13,null,{"$f":"IF(AND($D$45=0,$N$72>11),0,1)","v":0},0]
[0,14,null,{"$f":"IF(AND($D$46=0,$N$73>11),0,1)","v":0},0]
[0,15,null,{"$f":"IF(AND($D$47=0,$N$74>11),0,1)","v":0},0]
[0,16,null,{"$f":"IF(AND($D$48=0,$N$75>11),0,1)","v":0},0]
[0,17,null,{"$f":"IF(AND($D$49=0,$N$76>11),0,1)","v":0},0]
[0,18,null,{"$f":"IF(AND($D$50=0,$N$77>11),0,1)","v":0},0]
[0,19,null,{"$f":"IF(AND($D$51=0,$N$78>11),0,1)","v":0},0]
[0,20,null,{"$f":"IF(AND($D$52=0,$N$79>11),0,1)","v":0},0]
[0,21,null,{"$f":"IF(AND($D$53=0,$N$80>11),0,1)","v":0},0]
[0,22,null,{"$f":"IF(AND($D$54=0,$N$81>11),0,1)","v":0},0]
[]
[]
[{"$f":"IF(E285<>0,1,0)","v":0},null,"remp 9",9]
[0,{"$f":"B261","v":1},{"$f":"IF(AND(N68<11,D41=1),1,0)","v":0},{"$f":"IF(AND($D$33=0,$N$60>11),0,1)","v":1},{"$f":"IF(D286<$C$286,\" remplacement \"&$D$285&\" par \"&B286&\"   \",0)","v":0}]
[0,{"$f":"B262","v":2},null,{"$f":"IF(AND($D$34=0,$N$61>11),0,1)","v":1},{"$f":"IF(D287<$C$286,\" remplacement \"&$D$285&\" par \"&B287&\"   \",0)","v":0}]
[0,3,null,{"$f":"IF(AND($D$35=0,$N$62>11),0,1)","v":1},0]
[0,4,null,{"$f":"IF(AND($D$36=0,$N$63>11),0,1)","v":1},0]
[0,5,null,{"$f":"IF(AND($D$37=0,$N$64>11),0,1)","v":1},0]
[0,6,null,{"$f":"IF(AND($D$38=0,$N$65>11),0,1)","v":1},0]
[0,7,null,{"$f":"IF(AND($D$39=0,$N$66>11),0,1)","v":1},0]
[0,8,null,{"$f":"IF(AND($D$40=0,$N$67>11),0,1)","v":1},0]
[0,9,null,{"$f":"IF(AND($D$41=0,$N$68>11),0,1)","v":1},0]
[0,10,null,{"$f":"IF(AND($D$42=0,$N$69>11),0,1)","v":1},0]
[0,11,null,{"$f":"IF(AND($D$43=0,$N$70>11),0,1)","v":1},0]
[0,12,null,{"$f":"IF(AND($D$44=0,$N$71>11),0,1)","v":0},0]
[0,13,null,{"$f":"IF(AND($D$45=0,$N$72>11),0,1)","v":0},0]
[0,14,null,{"$f":"IF(AND($D$46=0,$N$73>11),0,1)","v":0},0]
[0,15,null,{"$f":"IF(AND($D$47=0,$N$74>11),0,1)","v":0},0]
[0,16,null,{"$f":"IF(AND($D$48=0,$N$75>11),0,1)","v":0},0]
[0,17,null,{"$f":"IF(AND($D$49=0,$N$76>11),0,1)","v":0},0]
[0,18,null,{"$f":"IF(AND($D$50=0,$N$77>11),0,1)","v":0},0]
[0,19,null,{"$f":"IF(AND($D$51=0,$N$78>11),0,1)","v":0},0]
[0,20,null,{"$f":"IF(AND($D$52=0,$N$79>11),0,1)","v":0},0]
[0,21,null,{"$f":"IF(AND($D$53=0,$N$80>11),0,1)","v":0},0]
[0,22,null,{"$f":"IF(AND($D$54=0,$N$81>11),0,1)","v":0},0]
[]
[]
[{"$f":"IF(E310<>0,1,0)","v":0},null,"remp 10",10]
[0,{"$f":"B286","v":1},{"$f":"IF(AND(N69<11,D42=1),1,0)","v":0},{"$f":"IF(AND($D$33=0,$N$60>11),0,1)","v":1},{"$f":"IF(D311<$C$311,\" remplacement \"&$D$310&\" par \"&B311&\"   \",0)","v":0}]
[0,{"$f":"B287","v":2},null,{"$f":"IF(AND($D$34=0,$N$61>11),0,1)","v":1},{"$f":"IF(D312<$C$311,\" remplacement \"&$D$310&\" par \"&B312&\"   \",0)","v":0}]
[0,3,null,{"$f":"IF(AND($D$35=0,$N$62>11),0,1)","v":1},0]
[0,4,null,{"$f":"IF(AND($D$36=0,$N$63>11),0,1)","v":1},0]
[0,5,null,{"$f":"IF(AND($D$37=0,$N$64>11),0,1)","v":1},0]
[0,6,null,{"$f":"IF(AND($D$38=0,$N$65>11),0,1)","v":1},0]
[0,7,null,{"$f":"IF(AND($D$39=0,$N$66>11),0,1)","v":1},0]
[0,8,null,{"$f":"IF(AND($D$40=0,$N$67>11),0,1)","v":1},0]
[0,9,null,{"$f":"IF(AND($D$41=0,$N$68>11),0,1)","v":1},0]
[0,10,null,{"$f":"IF(AND($D$42=0,$N$69>11),0,1)","v":1},0]
[0,11,null,{"$f":"IF(AND($D$43=0,$N$70>11),0,1)","v":1},0]
[0,12,null,{"$f":"IF(AND($D$44=0,$N$71>11),0,1)","v":0},0]
[0,13,null,{"$f":"IF(AND($D$45=0,$N$72>11),0,1)","v":0},0]
[0,14,null,{"$f":"IF(AND($D$46=0,$N$73>11),0,1)","v":0},0]
[0,15,null,{"$f":"IF(AND($D$47=0,$N$74>11),0,1)","v":0},0]
[0,16,null,{"$f":"IF(AND($D$48=0,$N$75>11),0,1)","v":0},0]
[0,17,null,{"$f":"IF(AND($D$49=0,$N$76>11),0,1)","v":0},0]
[0,18,null,{"$f":"IF(AND($D$50=0,$N$77>11),0,1)","v":0},0]
[0,19,null,{"$f":"IF(AND($D$51=0,$N$78>11),0,1)","v":0},0]
[0,20,null,{"$f":"IF(AND($D$52=0,$N$79>11),0,1)","v":0},0]
[0,21,null,{"$f":"IF(AND($D$53=0,$N$80>11),0,1)","v":0},0]
[0,22,null,{"$f":"IF(AND($D$54=0,$N$81>11),0,1)","v":0},0]
[]
[]
[{"$f":"IF(E335<>0,1,0)","v":0},null,"remp 11",11]
[0,{"$f":"B311","v":1},{"$f":"IF(AND(N70<11,D43=1),1,0)","v":0},{"$f":"IF(AND($D$33=0,$N$60>11),0,1)","v":1},{"$f":"IF(D336<$C$336,\" remplacement \"&$D$335&\" par \"&B336&\"   \",0)","v":0}]
[0,{"$f":"B312","v":2},null,{"$f":"IF(AND($D$34=0,$N$61>11),0,1)","v":1},{"$f":"IF(D337<$C$336,\" remplacement \"&$D$335&\" par \"&B337&\"   \",0)","v":0}]
[0,3,null,{"$f":"IF(AND($D$35=0,$N$62>11),0,1)","v":1},0]
[0,4,null,{"$f":"IF(AND($D$36=0,$N$63>11),0,1)","v":1},0]
[0,5,null,{"$f":"IF(AND($D$37=0,$N$64>11),0,1)","v":1},0]
[0,6,null,{"$f":"IF(AND($D$38=0,$N$65>11),0,1)","v":1},0]
[0,7,null,{"$f":"IF(AND($D$39=0,$N$66>11),0,1)","v":1},0]
[0,8,null,{"$f":"IF(AND($D$40=0,$N$67>11),0,1)","v":1},0]
[0,9,null,{"$f":"IF(AND($D$41=0,$N$68>11),0,1)","v":1},0]
[0,10,null,{"$f":"IF(AND($D$42=0,$N$69>11),0,1)","v":1},0]
[0,11,null,{"$f":"IF(AND($D$43=0,$N$70>11),0,1)","v":1},0]
[0,12,null,{"$f":"IF(AND($D$44=0,$N$71>11),0,1)","v":0},0]
[0,13,null,{"$f":"IF(AND($D$45=0,$N$72>11),0,1)","v":0},0]
[0,14,null,{"$f":"IF(AND($D$46=0,$N$73>11),0,1)","v":0},0]
[0,15,null,{"$f":"IF(AND($D$47=0,$N$74>11),0,1)","v":0},0]
[0,16,null,{"$f":"IF(AND($D$48=0,$N$75>11),0,1)","v":0},0]
[0,17,null,{"$f":"IF(AND($D$49=0,$N$76>11),0,1)","v":0},0]
[0,18,null,{"$f":"IF(AND($D$50=0,$N$77>11),0,1)","v":0},0]
[0,19,null,{"$f":"IF(AND($D$51=0,$N$78>11),0,1)","v":0},0]
[0,20,null,{"$f":"IF(AND($D$52=0,$N$79>11),0,1)","v":0},0]
[0,21,null,{"$f":"IF(AND($D$53=0,$N$80>11),0,1)","v":0},0]
[0,22,null,{"$f":"IF(AND($D$54=0,$N$81>11),0,1)","v":0},0]

{"sheet":"Problemes connus","index":10,"n_rows":16,"n_cols":1,"rows_kept":16,"cut":false,"hidden":false,"merged":[]}
[]
["############################################################"]
["############### Excel 2010 - Activation des projets VBA  #################"]
["############################################################"]
[]
["Voici la démarche pour activer les projets VBA sous Excel 2010"]
["Cette manipulation sera nécessaire si vous obtenez l'erreur suivante :"]
["\"erreur d'éxécution 1004.l'accés par programme au projet visual basic n'est pas fiable\""]
[]
["1) dans le menu \"Fichier\" cliquez sur \"Options\""]
["2) Dans la fenêtre qui apparait, cliquez sur \"Centre de gestion de la "]
["confidentialité\" puis sur le bouton (dans la partie droite) \"Paramètres "]
["du centre de gestion de la confidentialité\""]
["3) Dans la nouvelle fenêtre, cliquez sur \"Paramètres des macros\""]
["4)Assurez vous que les macros sont bien activées et que la case \"Accès "]
["approuvé au modèle d'objet du projet VBA\" soit bien cochée."]

{"sheet":"541","index":11,"n_rows":47,"n_cols":16,"rows_kept":47,"cut":false,"hidden":true,"merged":[]}
[]
[]
[]
[]
[]
[]
[]
[]
[]
[]
[]
[]
[]
[]
[]
[]
[]
[]
[]
[]
[]
[]
["ordre importance",1,9,6,10,7,5,4,11,8,2,3]
[null,"position"]
["Joueur",1,2,3,4,5,6,7,8,9,10,11,null,null,"Forcé ???"]
[{"$f":"Feuil1!AI8","v":""},{"$f":"VLOOKUP(A26,Feuil1!$AI$8:$AT$29,2,FALSE)","v":""},{"$f":"VLOOKUP(A26,Feuil1!$AI$8:$AT$29,3,FALSE)","v":""},{"$f":"VLOOKUP(A26,Feuil1!$AI$8:$AT$29,4,FALSE)","v":""},{"$f":"VLOOKUP(A26,Feuil1!$AI$8:$AT$29,5,FALSE)","v":""},{"$f":"VLOOKUP(A26,Feuil1!$AI$8:$AT$29,6,FALSE)","v":""},{"$f":"VLOOKUP(A26,Feuil1!$AI$8:$AT$29,7,FALSE)","v":""},{"$f":"VLOOKUP(A26,Feuil1!$AI$8:$AT$29,8,FALSE)","v":""},{"$f":"VLOOKUP(A26,Feuil1!$AI$8:$AT$29,9,FALSE)","v":""},{"$f":"VLOOKUP(A26,Feuil1!$AI$8:$AT$29,10,FALSE)","v":""},{"$f":"VLOOKUP(A26,Feuil1!$AI$8:$AT$29,11,FALSE)","v":""},{"$f":"VLOOKUP(A26,Feuil1!$AI$8:$AT$29,12,FALSE)","v":""},null,null,null,false]
[{"$f":"Feuil1!AI9","v":""},{"$f":"VLOOKUP(A27,Feuil1!$AI$8:$AT$29,2,FALSE)","v":""},{"$f":"VLOOKUP(A27,Feuil1!$AI$8:$AT$29,3,FALSE)","v":""},{"$f":"VLOOKUP(A27,Feuil1!$AI$8:$AT$29,4,FALSE)","v":""},{"$f":"VLOOKUP(A27,Feuil1!$AI$8:$AT$29,5,FALSE)","v":""},{"$f":"VLOOKUP(A27,Feuil1!$AI$8:$AT$29,6,FALSE)","v":""},{"$f":"VLOOKUP(A27,Feuil1!$AI$8:$AT$29,7,FALSE)","v":""},{"$f":"VLOOKUP(A27,Feuil1!$AI$8:$AT$29,8,FALSE)","v":""},{"$f":"VLOOKUP(A27,Feuil1!$AI$8:$AT$29,9,FALSE)","v":""},{"$f":"VLOOKUP(A27,Feuil1!$AI$8:$AT$29,10,FALSE)","v":""},{"$f":"VLOOKUP(A27,Feuil1!$AI$8:$AT$29,11,FALSE)","v":""},{"$f":"VLOOKUP(A27,Feuil1!$AI$8:$AT$29,12,FALSE)","v":""},null,{"$f":"IF(ISNA($AA$2*VLOOKUP(M27,$B$10:$N$20,13,FALSE)*HLOOKUP($M27,$B$25:$L$43,3,FALSE)/100),\"\",$AA$2*VLOOKUP(M27,$B$10:$N$20,13,FALSE)*HLOOKUP($M27,$B$25:$L$43,3,FALSE)/100)","v":""},null,false]
[{"$f":"Feuil1!AI10","v":""},{"$f":"VLOOKUP(A28,Feuil1!$AI$8:$AT$29,2,FALSE)","v":""},{"$f":"VLOOKUP(A28,Feuil1!$AI$8:$AT$29,3,FALSE)","v":""},{"$f":"VLOOKUP(A28,Feuil1!$AI$8:$AT$29,4,FALSE)","v":""},{"$f":"VLOOKUP(A28,Feuil1!$AI$8:$AT$29,5,FALSE)","v":""},{"$f":"VLOOKUP(A28,Feuil1!$AI$8:$AT$29,6,FALSE)","v":""},{"$f":"VLOOKUP(A28,Feuil1!$AI$8:$AT$29,7,FALSE)","v":""},{"$f":"VLOOKUP(A28,Feuil1!$AI$8:$AT$29,8,FALSE)","v":""},{"$f":"VLOOKUP(A28,Feuil1!$AI$8:$AT$29,9,FALSE)","v":""},{"$f":"VLOOKUP(A28,Feuil1!$AI$8:$AT$29,10,FALSE)","v":""},{"$f":"VLOOKUP(A28,Feuil1!$AI$8:$AT$29,11,FALSE)","v":""},{"$f":"VLOOKUP(A28,Feuil1!$AI$8:$AT$29,12,FALSE)","v":""},null,{"$f":"IF(ISNA($AA$2*VLOOKUP(M28,$B$10:$N$20,13,FALSE)*HLOOKUP($M28,$B$25:$L$43,4,FALSE)/100),\"\",$AA$2*VLOOKUP(M28,$B$10:$N$20,13,FALSE)*HLOOKUP($M28,$B$25:$L$43,4,FALSE)/100)","v":""},null,false]
[{"$f":"Feuil1!AI11","v":""},{"$f":"VLOOKUP(A29,Feuil1!$AI$8:$AT$29,2,FALSE)","v":""},{"$f":"VLOOKUP(A29,Feuil1!$AI$8:$AT$29,3,FALSE)","v":""},{"$f":"VLOOKUP(A29,Feuil1!$AI$8:$AT$29,4,FALSE)","v":""},{"$f":"VLOOKUP(A29,Feuil1!$AI$8:$AT$29,5,FALSE)","v":""},{"$f":"VLOOKUP(A29,Feuil1!$AI$8:$AT$29,6,FALSE)","v":""},{"$f":"VLOOKUP(A29,Feuil1!$AI$8:$AT$29,7,FALSE)","v":""},{"$f":"VLOOKUP(A29,Feuil1!$AI$8:$AT$29,8,FALSE)","v":""},{"$f":"VLOOKUP(A29,Feuil1!$AI$8:$AT$29,9,FALSE)","v":""},{"$f":"VLOOKUP(A29,Feuil1!$AI$8:$AT$29,10,FALSE)","v":""},{"$f":"VLOOKUP(A29,Feuil1!$AI$8:$AT$29,11,FALSE)","v":""},{"$f":"VLOOKUP(A29,Feuil1!$AI$8:$AT$29,12,FALSE)","v":""},null,{"$f":"IF(ISNA($AA$2*VLOOKUP(M29,$B$10:$N$20,13,FALSE)*HLOOKUP($M29,$B$25:$L$43,5,FALSE)/100),\"\",$AA$2*VLOOKUP(M29,$B$10:$N$20,13,FALSE)*HLOOKUP($M29,$B$25:$L$43,5,FALSE)/100)","v":""},null,false]
[{"$f":"Feuil1!AI12","v":""},{"$f":"VLOOKUP(A30,Feuil1!$AI$8:$AT$29,2,FALSE)","v":""},{"$f":"VLOOKUP(A30,Feuil1!$AI$8:$AT$29,3,FALSE)","v":""},{"$f":"VLOOKUP(A30,Feuil1!$AI$8:$AT$29,4,FALSE)","v":""},{"$f":"VLOOKUP(A30,Feuil1!$AI$8:$AT$29,5,FALSE)","v":""},{"$f":"VLOOKUP(A30,Feuil1!$AI$8:$AT$29,6,FALSE)","v":""},{"$f":"VLOOKUP(A30,Feuil1!$AI$8:$AT$29,7,FALSE)","v":""},{"$f":"VLOOKUP(A30,Feuil1!$AI$8:$AT$29,8,FALSE)","v":""},{"$f":"VLOOKUP(A30,Feuil1!$AI$8:$AT$29,9,FALSE)","v":""},{"$f":"VLOOKUP(A30,Feuil1!$AI$8:$AT$29,10,FALSE)","v":""},{"$f":"VLOOKUP(A30,Feuil1!$AI$8:$AT$29,11,FALSE)","v":""},{"$f":"VLOOKUP(A30,Feuil1!$AI$8:$AT$29,12,FALSE)","v":""},null,{"$f":"IF(ISNA($AA$2*VLOOKUP(M30,$B$10:$N$20,13,FALSE)*HLOOKUP($M30,$B$25:$L$43,6,FALSE)/100),\"\",$AA$2*VLOOKUP(M30,$B$10:$N$20,13,FALSE)*HLOOKUP($M30,$B$25:$L$43,6,FALSE)/100)","v":""},null,false]
[{"$f":"Feuil1!AI13","v":""},{"$f":"VLOOKUP(A31,Feuil1!$AI$8:$AT$29,2,FALSE)","v":""},{"$f":"VLOOKUP(A31,Feuil1!$AI$8:$AT$29,3,FALSE)","v":""},{"$f":"VLOOKUP(A31,Feuil1!$AI$8:$AT$29,4,FALSE)","v":""},{"$f":"VLOOKUP(A31,Feuil1!$AI$8:$AT$29,5,FALSE)","v":""},{"$f":"VLOOKUP(A31,Feuil1!$AI$8:$AT$29,6,FALSE)","v":""},{"$f":"VLOOKUP(A31,Feuil1!$AI$8:$AT$29,7,FALSE)","v":""},{"$f":"VLOOKUP(A31,Feuil1!$AI$8:$AT$29,8,FALSE)","v":""},{"$f":"VLOOKUP(A31,Feuil1!$AI$8:$AT$29,9,FALSE)","v":""},{"$f":"VLOOKUP(A31,Feuil1!$AI$8:$AT$29,10,FALSE)","v":""},{"$f":"VLOOKUP(A31,Feuil1!$AI$8:$AT$29,11,FALSE)","v":""},{"$f":"VLOOKUP(A31,Feuil1!$AI$8:$AT$29,12,FALSE)","v":""},null,{"$f":"IF(ISNA($AA$2*VLOOKUP(M31,$B$10:$N$20,13,FALSE)*HLOOKUP($M31,$B$25:$L$43,7,FALSE)/100),\"\",$AA$2*VLOOKUP(M31,$B$10:$N$20,13,FALSE)*HLOOKUP($M31,$B$25:$L$43,7,FALSE)/100)","v":""},null,false]
[{"$f":"Feuil1!AI14","v":""},{"$f":"VLOOKUP(A32,Feuil1!$AI$8:$AT$29,2,FALSE)","v":""},{"$f":"VLOOKUP(A32,Feuil1!$AI$8:$AT$29,3,FALSE)","v":""},{"$f":"VLOOKUP(A32,Feuil1!$AI$8:$AT$29,4,FALSE)","v":""},{"$f":"VLOOKUP(A32,Feuil1!$AI$8:$AT$29,5,FALSE)","v":""},{"$f":"VLOOKUP(A32,Feuil1!$AI$8:$AT$29,6,FALSE)","v":""},{"$f":"VLOOKUP(A32,Feuil1!$AI$8:$AT$29,7,FALSE)","v":""},{"$f":"VLOOKUP(A32,Feuil1!$AI$8:$AT$29,8,FALSE)","v":""},{"$f":"VLOOKUP(A32,Feuil1!$AI$8:$AT$29,9,FALSE)","v":""},{"$f":"VLOOKUP(A32,Feuil1!$AI$8:$AT$29,10,FALSE)","v":""},{"$f":"VLOOKUP(A32,Feuil1!$AI$8:$AT$29,11,FALSE)","v":""},{"$f":"VLOOKUP(A32,Feuil1!$AI$8:$AT$29,12,FALSE)","v":""},null,{"$f":"IF(ISNA($AA$2*VLOOKUP(M32,$B$10:$N$20,13,FALSE)*HLOOKUP($M32,$B$25:$L$43,8,FALSE)/100),\"\",$AA$2*VLOOKUP(M32,$B$10:$N$20,13,FALSE)*HLOOKUP($M32,$B$25:$L$43,8,FALSE)/100)","v":""},null,false]
[{"$f":"Feuil1!AI15","v":""},{"$f":"VLOOKUP(A33,Feuil1!$AI$8:$AT$29,2,FALSE)","v":""},{"$f":"VLOOKUP(A33,Feuil1!$AI$8:$AT$29,3,FALSE)","v":""},{"$f":"VLOOKUP(A33,Feuil1!$AI$8:$AT$29,4,FALSE)","v":""},{"$f":"VLOOKUP(A33,Feuil1!$AI$8:$AT$29,5,FALSE)","v":""},{"$f":"VLOOKUP(A33,Feuil1!$AI$8:$AT$29,6,FALSE)","v":""},{"$f":"VLOOKUP(A33,Feuil1!$AI$8:$AT$29,7,FALSE)","v":""},{"$f":"VLOOKUP(A33,Feuil1!$AI$8:$AT$29,8,FALSE)","v":""},{"$f":"VLOOKUP(A33,Feuil1!$AI$8:$AT$29,9,FALSE)","v":""},{"$f":"VLOOKUP(A33,Feuil1!$AI$8:$AT$29,10,FALSE)","v":""},{"$f":"VLOOKUP(A33,Feuil1!$AI$8:$AT$29,11,FALSE)","v":""},{"$f":"VLOOKUP(A33,Feuil1!$AI$8:$AT$29,12,FALSE)","v":""},null,{"$f":"IF(ISNA($AA$2*VLOOKUP(M33,$B$10:$N$20,13,FALSE)*HLOOKUP($M33,$B$25:$L$43,9,FALSE)/100),\"\",$AA$2*VLOOKUP(M33,$B$10:$N$20,13,FALSE)*HLOOKUP($M33,$B$25:$L$43,9,FALSE)/100)","v":""},null,false]
[{"$f":"Feuil1!AI16","v":""},{"$f":"VLOOKUP(A34,Feuil1!$AI$8:$AT$29,2,FALSE)","v":""},{"$f":"VLOOKUP(A34,Feuil1!$AI$8:$AT$29,3,FALSE)","v":""},{"$f":"VLOOKUP(A34,Feuil1!$AI$8:$AT$29,4,FALSE)","v":""},{"$f":"VLOOKUP(A34,Feuil1!$AI$8:$AT$29,5,FALSE)","v":""},{"$f":"VLOOKUP(A34,Feuil1!$AI$8:$AT$29,6,FALSE)","v":""},{"$f":"VLOOKUP(A34,Feuil1!$AI$8:$AT$29,7,FALSE)","v":""},{"$f":"VLOOKUP(A34,Feuil1!$AI$8:$AT$29,8,FALSE)","v":""},{"$f":"VLOOKUP(A34,Feuil1!$AI$8:$AT$29,9,FALSE)","v":""},{"$f":"VLOOKUP(A34,Feuil1!$AI$8:$AT$29,10,FALSE)","v":""},{"$f":"VLOOKUP(A34,Feuil1!$AI$8:$AT$29,11,FALSE)","v":""},{"$f":"VLOOKUP(A34,Feuil1!$AI$8:$AT$29,12,FALSE)","v":""},null,{"$f":"IF(ISNA($AA$2*VLOOKUP(M34,$B$10:$N$20,13,FALSE)*HLOOKUP($M34,$B$25:$L$43,10,FALSE)/100),\"\",$AA$2*VLOOKUP(M34,$B$10:$N$20,13,FALSE)*HLOOKUP($M34,$B$25:$L$43,10,FALSE)/100)","v":""},null,false]
[{"$f":"Feuil1!AI17","v":""},{"$f":"VLOOKUP(A35,Feuil1!$AI$8:$AT$29,2,FALSE)","v":""},{"$f":"VLOOKUP(A35,Feuil1!$AI$8:$AT$29,3,FALSE)","v":""},{"$f":"VLOOKUP(A35,Feuil1!$AI$8:$AT$29,4,FALSE)","v":""},{"$f":"VLOOKUP(A35,Feuil1!$AI$8:$AT$29,5,FALSE)","v":""},{"$f":"VLOOKUP(A35,Feuil1!$AI$8:$AT$29,6,FALSE)","v":""},{"$f":"VLOOKUP(A35,Feuil1!$AI$8:$AT$29,7,FALSE)","v":""},{"$f":"VLOOKUP(A35,Feuil1!$AI$8:$AT$29,8,FALSE)","v":""},{"$f":"VLOOKUP(A35,Feuil1!$AI$8:$AT$29,9,FALSE)","v":""},{"$f":"VLOOKUP(A35,Feuil1!$AI$8:$AT$29,10,FALSE)","v":""},{"$f":"VLOOKUP(A35,Feuil1!$AI$8:$AT$29,11,FALSE)","v":""},{"$f":"VLOOKUP(A35,Feuil1!$AI$8:$AT$29,12,FALSE)","v":""},null,{"$f":"IF(ISNA($AA$2*VLOOKUP(M35,$B$10:$N$20,13,FALSE)*HLOOKUP($M35,$B$25:$L$43,11,FALSE)/100),\"\",$AA$2*VLOOKUP(M35,$B$10:$N$20,13,FALSE)*HLOOKUP($M35,$B$25:$L$43,11,FALSE)/100)","v":""},null,false]
[{"$f":"Feuil1!AI18","v":""},{"$f":"VLOOKUP(A36,Feuil1!$AI$8:$AT$29,2,FALSE)","v":""},{"$f":"VLOOKUP(A36,Feuil1!$AI$8:$AT$29,3,FALSE)","v":""},{"$f":"VLOOKUP(A36,Feuil1!$AI$8:$AT$29,4,FALSE)","v":""},{"$f":"VLOOKUP(A36,Feuil1!$AI$8:$AT$29,5,FALSE)","v":""},{"$f":"VLOOKUP(A36,Feuil1!$AI$8:$AT$29,6,FALSE)","v":""},{"$f":"VLOOKUP(A36,Feuil1!$AI$8:$AT$29,7,FALSE)","v":""},{"$f":"VLOOKUP(A36,Feuil1!$AI$8:$AT$29,8,FALSE)","v":""},{"$f":"VLOOKUP(A36,Feuil1!$AI$8:$AT$29,9,FALSE)","v":""},{"$f":"VLOOKUP(A36,Feuil1!$AI$8:$AT$29,10,FALSE)","v":""},{"$f":"VLOOKUP(A36,Feuil1!$AI$8:$AT$29,11,FALSE)","v":""},{"$f":"VLOOKUP(A36,Feuil1!$AI$8:$AT$29,12,FALSE)","v":""},null,{"$f":"IF(ISNA($AA$2*VLOOKUP(M36,$B$10:$N$20,13,FALSE)*HLOOKUP($M36,$B$25:$L$43,12,FALSE)/100),\"\",$AA$2*VLOOKUP(M36,$B$10:$N$20,13,FALSE)*HLOOKUP($M36,$B$25:$L$43,12,FALSE)/100)","v":""},null,false]
[{"$f":"Feuil1!AI19","v":""},{"$f":"VLOOKUP(A37,Feuil1!$AI$8:$AT$29,2,FALSE)","v":""},{"$f":"VLOOKUP(A37,Feuil1!$AI$8:$AT$29,3,FALSE)","v":""},{"$f":"VLOOKUP(A37,Feuil1!$AI$8:$AT$29,4,FALSE)","v":""},{"$f":"VLOOKUP(A37,Feuil1!$AI$8:$AT$29,5,FALSE)","v":""},{"$f":"VLOOKUP(A37,Feuil1!$AI$8:$AT$29,6,FALSE)","v":""},{"$f":"VLOOKUP(A37,Feuil1!$AI$8:$AT$29,7,FALSE)","v":""},{"$f":"VLOOKUP(A37,Feuil1!$AI$8:$AT$29,8,FALSE)","v":""},{"$f":"VLOOKUP(A37,Feuil1!$AI$8:$AT$29,9,FALSE)","v":""},{"$f":"VLOOKUP(A37,Feuil1!$AI$8:$AT$29,10,FALSE)","v":""},{"$f":"VLOOKUP(A37,Feuil1!$AI$8:$AT$29,11,FALSE)","v":""},{"$f":"VLOOKUP(A37,Feuil1!$AI$8:$AT$29,12,FALSE)","v":""},null,{"$f":"IF(ISNA($AA$2*VLOOKUP(M37,$B$10:$N$20,13,FALSE)*HLOOKUP($M37,$B$25:$L$43,13,FALSE)/100),\"\",$AA$2*VLOOKUP(M37,$B$10:$N$20,13,FALSE)*HLOOKUP($M37,$B$25:$L$43,13,FALSE)/100)","v":""},null,false]
[{"$f":"Feuil1!AI20","v":""},{"$f":"VLOOKUP(A38,Feuil1!$AI$8:$AT$29,2,FALSE)","v":""},{"$f":"VLOOKUP(A38,Feuil1!$AI$8:$AT$29,3,FALSE)","v":""},{"$f":"VLOOKUP(A38,Feuil1!$AI$8:$AT$29,4,FALSE)","v":""},{"$f":"VLOOKUP(A38,Feuil1!$AI$8:$AT$29,5,FALSE)","v":""},{"$f":"VLOOKUP(A38,Feuil1!$AI$8:$AT$29,6,FALSE)","v":""},{"$f":"VLOOKUP(A38,Feuil1!$AI$8:$AT$29,7,FALSE)","v":""},{"$f":"VLOOKUP(A38,Feuil1!$AI$8:$AT$29,8,FALSE)","v":""},{"$f":"VLOOKUP(A38,Feuil1!$AI$8:$AT$29,9,FALSE)","v":""},{"$f":"VLOOKUP(A38,Feuil1!$AI$8:$AT$29,10,FALSE)","v":""},{"$f":"VLOOKUP(A38,Feuil1!$AI$8:$AT$29,11,FALSE)","v":""},{"$f":"VLOOKUP(A38,Feuil1!$AI$8:$AT$29,12,FALSE)","v":""},null,{"$f":"IF(ISNA($AA$2*VLOOKUP(M38,$B$10:$N$20,13,FALSE)*HLOOKUP($M38,$B$25:$L$43,14,FALSE)/100),\"\",$AA$2*VLOOKUP(M38,$B$10:$N$20,13,FALSE)*HLOOKUP($M38,$B$25:$L$43,14,FALSE)/100)","v":""},null,false]
[{"$f":"Feuil1!AI21","v":""},{"$f":"VLOOKUP(A39,Feuil1!$AI$8:$AT$29,2,FALSE)","v":""},{"$f":"VLOOKUP(A39,Feuil1!$AI$8:$AT$29,3,FALSE)","v":""},{"$f":"VLOOKUP(A39,Feuil1!$AI$8:$AT$29,4,FALSE)","v":""},{"$f":"VLOOKUP(A39,Feuil1!$AI$8:$AT$29,5,FALSE)","v":""},{"$f":"VLOOKUP(A39,Feuil1!$AI$8:$AT$29,6,FALSE)","v":""},{"$f":"VLOOKUP(A39,Feuil1!$AI$8:$AT$29,7,FALSE)","v":""},{"$f":"VLOOKUP(A39,Feuil1!$AI$8:$AT$29,8,FALSE)","v":""},{"$f":"VLOOKUP(A39,Feuil1!$AI$8:$AT$29,9,FALSE)","v":""},{"$f":"VLOOKUP(A39,Feuil1!$AI$8:$AT$29,10,FALSE)","v":""},{"$f":"VLOOKUP(A39,Feuil1!$AI$8:$AT$29,11,FALSE)","v":""},{"$f":"VLOOKUP(A39,Feuil1!$AI$8:$AT$29,12,FALSE)","v":""},null,{"$f":"IF(ISNA($AA$2*VLOOKUP(M39,$B$10:$N$20,13,FALSE)*HLOOKUP($M39,$B$25:$L$43,15,FALSE)/100),\"\",$AA$2*VLOOKUP(M39,$B$10:$N$20,13,FALSE)*HLOOKUP($M39,$B$25:$L$43,15,FALSE)/100)","v":""},null,false]
[{"$f":"Feuil1!AI22","v":""},{"$f":"VLOOKUP(A40,Feuil1!$AI$8:$AT$29,2,FALSE)","v":""},{"$f":"VLOOKUP(A40,Feuil1!$AI$8:$AT$29,3,FALSE)","v":""},{"$f":"VLOOKUP(A40,Feuil1!$AI$8:$AT$29,4,FALSE)","v":""},{"$f":"VLOOKUP(A40,Feuil1!$AI$8:$AT$29,5,FALSE)","v":""},{"$f":"VLOOKUP(A40,Feuil1!$AI$8:$AT$29,6,FALSE)","v":""},{"$f":"VLOOKUP(A40,Feuil1!$AI$8:$AT$29,7,FALSE)","v":""},{"$f":"VLOOKUP(A40,Feuil1!$AI$8:$AT$29,8,FALSE)","v":""},{"$f":"VLOOKUP(A40,Feuil1!$AI$8:$AT$29,9,FALSE)","v":""},{"$f":"VLOOKUP(A40,Feuil1!$AI$8:$AT$29,10,FALSE)","v":""},{"$f":"VLOOKUP(A40,Feuil1!$AI$8:$AT$29,11,FALSE)","v":""},{"$f":"VLOOKUP(A40,Feuil1!$AI$8:$AT$29,12,FALSE)","v":""},null,{"$f":"IF(ISNA($AA$2*VLOOKUP(M40,$B$10:$N$20,13,FALSE)*HLOOKUP($M40,$B$25:$L$43,16,FALSE)/100),\"\",$AA$2*VLOOKUP(M40,$B$10:$N$20,13,FALSE)*HLOOKUP($M40,$B$25:$L$43,16,FALSE)/100)","v":""},null,false]
[{"$f":"Feuil1!AI23","v":""},{"$f":"VLOOKUP(A41,Feuil1!$AI$8:$AT$29,2,FALSE)","v":""},{"$f":"VLOOKUP(A41,Feuil1!$AI$8:$AT$29,3,FALSE)","v":""},{"$f":"VLOOKUP(A41,Feuil1!$AI$8:$AT$29,4,FALSE)","v":""},{"$f":"VLOOKUP(A41,Feuil1!$AI$8:$AT$29,5,FALSE)","v":""},{"$f":"VLOOKUP(A41,Feuil1!$AI$8:$AT$29,6,FALSE)","v":""},{"$f":"VLOOKUP(A41,Feuil1!$AI$8:$AT$29,7,FALSE)","v":""},{"$f":"VLOOKUP(A41,Feuil1!$AI$8:$AT$29,8,FALSE)","v":""},{"$f":"VLOOKUP(A41,Feuil1!$AI$8:$AT$29,9,FALSE)","v":""},{"$f":"VLOOKUP(A41,Feuil1!$AI$8:$AT$29,10,FALSE)","v":""},{"$f":"VLOOKUP(A41,Feuil1!$AI$8:$AT$29,11,FALSE)","v":""},{"$f":"VLOOKUP(A41,Feuil1!$AI$8:$AT$29,12,FALSE)","v":""},null,{"$f":"IF(ISNA($AA$2*VLOOKUP(M41,$B$10:$N$20,13,FALSE)*HLOOKUP($M41,$B$25:$L$43,17,FALSE)/100),\"\",$AA$2*VLOOKUP(M41,$B$10:$N$20,13,FALSE)*HLOOKUP($M41,$B$25:$L$43,17,FALSE)/100)","v":""},null,false]
[{"$f":"Feuil1!AI24","v":""},{"$f":"VLOOKUP(A42,Feuil1!$AI$8:$AT$29,2,FALSE)","v":""},{"$f":"VLOOKUP(A42,Feuil1!$AI$8:$AT$29,3,FALSE)","v":""},{"$f":"VLOOKUP(A42,Feuil1!$AI$8:$AT$29,4,FALSE)","v":""},{"$f":"VLOOKUP(A42,Feuil1!$AI$8:$AT$29,5,FALSE)","v":""},{"$f":"VLOOKUP(A42,Feuil1!$AI$8:$AT$29,6,FALSE)","v":""},{"$f":"VLOOKUP(A42,Feuil1!$AI$8:$AT$29,7,FALSE)","v":""},{"$f":"VLOOKUP(A42,Feuil1!$AI$8:$AT$29,8,FALSE)","v":""},{"$f":"VLOOKUP(A42,Feuil1!$AI$8:$AT$29,9,FALSE)","v":""},{"$f":"VLOOKUP(A42,Feuil1!$AI$8:$AT$29,10,FALSE)","v":""},{"$f":"VLOOKUP(A42,Feuil1!$AI$8:$AT$29,11,FALSE)","v":""},{"$f":"VLOOKUP(A42,Feuil1!$AI$8:$AT$29,12,FALSE)","v":""},null,{"$f":"IF(ISNA($AA$2*VLOOKUP(M42,$B$10:$N$20,13,FALSE)*HLOOKUP($M42,$B$25:$L$43,18,FALSE)/100),\"\",$AA$2*VLOOKUP(M42,$B$10:$N$20,13,FALSE)*HLOOKUP($M42,$B$25:$L$43,18,FALSE)/100)","v":""},null,false]
[{"$f":"Feuil1!AI25","v":""},{"$f":"VLOOKUP(A43,Feuil1!$AI$8:$AT$29,2,FALSE)","v":""},{"$f":"VLOOKUP(A43,Feuil1!$AI$8:$AT$29,3,FALSE)","v":""},{"$f":"VLOOKUP(A43,Feuil1!$AI$8:$AT$29,4,FALSE)","v":""},{"$f":"VLOOKUP(A43,Feuil1!$AI$8:$AT$29,5,FALSE)","v":""},{"$f":"VLOOKUP(A43,Feuil1!$AI$8:$AT$29,6,FALSE)","v":""},{"$f":"VLOOKUP(A43,Feuil1!$AI$8:$AT$29,7,FALSE)","v":""},{"$f":"VLOOKUP(A43,Feuil1!$AI$8:$AT$29,8,FALSE)","v":""},{"$f":"VLOOKUP(A43,Feuil1!$AI$8:$AT$29,9,FALSE)","v":""},{"$f":"VLOOKUP(A43,Feuil1!$AI$8:$AT$29,10,FALSE)","v":""},{"$f":"VLOOKUP(A43,Feuil1!$AI$8:$AT$29,11,FALSE)","v":""},{"$f":"VLOOKUP(A43,Feuil1!$AI$8:$AT$29,12,FALSE)","v":""},null,{"$f":"IF(ISNA($AA$2*VLOOKUP(M43,$B$10:$N$20,13,FALSE)*HLOOKUP($M43,$B$25:$L$43,19,FALSE)/100),\"\",$AA$2*VLOOKUP(M43,$B$10:$N$20,13,FALSE)*HLOOKUP($M43,$B$25:$L$43,19,FALSE)/100)","v":""},null,false]
[{"$f":"Feuil1!AI26","v":""},{"$f":"VLOOKUP(A44,Feuil1!$AI$8:$AT$29,2,FALSE)","v":""},{"$f":"VLOOKUP(A44,Feuil1!$AI$8:$AT$29,3,FALSE)","v":""},{"$f":"VLOOKUP(A44,Feuil1!$AI$8:$AT$29,4,FALSE)","v":""},{"$f":"VLOOKUP(A44,Feuil1!$AI$8:$AT$29,5,FALSE)","v":""},{"$f":"VLOOKUP(A44,Feuil1!$AI$8:$AT$29,6,FALSE)","v":""},{"$f":"VLOOKUP(A44,Feuil1!$AI$8:$AT$29,7,FALSE)","v":""},{"$f":"VLOOKUP(A44,Feuil1!$AI$8:$AT$29,8,FALSE)","v":""},{"$f":"VLOOKUP(A44,Feuil1!$AI$8:$AT$29,9,FALSE)","v":""},{"$f":"VLOOKUP(A44,Feuil1!$AI$8:$AT$29,10,FALSE)","v":""},{"$f":"VLOOKUP(A44,Feuil1!$AI$8:$AT$29,11,FALSE)","v":""},{"$f":"VLOOKUP(A44,Feuil1!$AI$8:$AT$29,12,FALSE)","v":""},null,null,null,false]
[{"$f":"Feuil1!AI27","v":""},{"$f":"VLOOKUP(A45,Feuil1!$AI$8:$AT$29,2,FALSE)","v":""},{"$f":"VLOOKUP(A45,Feuil1!$AI$8:$AT$29,3,FALSE)","v":""},{"$f":"VLOOKUP(A45,Feuil1!$AI$8:$AT$29,4,FALSE)","v":""},{"$f":"VLOOKUP(A45,Feuil1!$AI$8:$AT$29,5,FALSE)","v":""},{"$f":"VLOOKUP(A45,Feuil1!$AI$8:$AT$29,6,FALSE)","v":""},{"$f":"VLOOKUP(A45,Feuil1!$AI$8:$AT$29,7,FALSE)","v":""},{"$f":"VLOOKUP(A45,Feuil1!$AI$8:$AT$29,8,FALSE)","v":""},{"$f":"VLOOKUP(A45,Feuil1!$AI$8:$AT$29,9,FALSE)","v":""},{"$f":"VLOOKUP(A45,Feuil1!$AI$8:$AT$29,10,FALSE)","v":""},{"$f":"VLOOKUP(A45,Feuil1!$AI$8:$AT$29,11,FALSE)","v":""},{"$f":"VLOOKUP(A45,Feuil1!$AI$8:$AT$29,12,FALSE)","v":""},null,null,null,false]
[{"$f":"Feuil1!AI28","v":""},{"$f":"VLOOKUP(A46,Feuil1!$AI$8:$AT$29,2,FALSE)","v":""},{"$f":"VLOOKUP(A46,Feuil1!$AI$8:$AT$29,3,FALSE)","v":""},{"$f":"VLOOKUP(A46,Feuil1!$AI$8:$AT$29,4,FALSE)","v":""},{"$f":"VLOOKUP(A46,Feuil1!$AI$8:$AT$29,5,FALSE)","v":""},{"$f":"VLOOKUP(A46,Feuil1!$AI$8:$AT$29,6,FALSE)","v":""},{"$f":"VLOOKUP(A46,Feuil1!$AI$8:$AT$29,7,FALSE)","v":""},{"$f":"VLOOKUP(A46,Feuil1!$AI$8:$AT$29,8,FALSE)","v":""},{"$f":"VLOOKUP(A46,Feuil1!$AI$8:$AT$29,9,FALSE)","v":""},{"$f":"VLOOKUP(A46,Feuil1!$AI$8:$AT$29,10,FALSE)","v":""},{"$f":"VLOOKUP(A46,Feuil1!$AI$8:$AT$29,11,FALSE)","v":""},{"$f":"VLOOKUP(A46,Feuil1!$AI$8:$AT$29,12,FALSE)","v":""},null,null,null,false]
[{"$f":"Feuil1!AI29","v":""},{"$f":"VLOOKUP(A47,Feuil1!$AI$8:$AT$29,2,FALSE)","v":""},{"$f":"VLOOKUP(A47,Feuil1!$AI$8:$AT$29,3,FALSE)","v":""},{"$f":"VLOOKUP(A47,Feuil1!$AI$8:$AT$29,4,FALSE)","v":""},{"$f":"VLOOKUP(A47,Feuil1!$AI$8:$AT$29,5,FALSE)","v":""},{"$f":"VLOOKUP(A47,Feuil1!$AI$8:$AT$29,6,FALSE)","v":""},{"$f":"VLOOKUP(A47,Feuil1!$AI$8:$AT$29,7,FALSE)","v":""},{"$f":"VLOOKUP(A47,Feuil1!$AI$8:$AT$29,8,FALSE)","v":""},{"$f":"VLOOKUP(A47,Feuil1!$AI$8:$AT$29,9,FALSE)","v":""},{"$f":"VLOOKUP(A47,Feuil1!$AI$8:$AT$29,10,FALSE)","v":""},{"$f":"VLOOKUP(A47,Feuil1!$AI$8:$AT$29,11,FALSE)","v":""},{"$f":"VLOOKUP(A47,Feuil1!$AI$8:$AT$29,12,FALSE)","v":""},null,null,null,false]

{"sheet":"433","index":12,"n_rows":47,"n_cols":15,"rows_kept":47,"cut":false,"hidden":true,"merged":[]}
[]
[]
[]
[]
[]
[]
[]
[]
[]
[]
[]
[]
[]
[]
[]
[]
[]
[]
[]
[]
[]
[]
["ordre importance",8,11,1,9,10,7,6,5,3,2,4]
[null,"position"]
["Joueur",1,2,3,4,5,6,7,8,9,10,11,null,null,"Forcé ???"]
[{"$f":"Feuil1!AI8","v":""},{"$f":"VLOOKUP(A26,Feuil1!$AI$8:$AT$29,2,FALSE)","v":""},{"$f":"VLOOKUP(A26,Feuil1!$AI$8:$AT$29,3,FALSE)","v":""},{"$f":"VLOOKUP(A26,Feuil1!$AI$8:$AT$29,4,FALSE)","v":""},{"$f":"VLOOKUP(A26,Feuil1!$AI$8:$AT$29,5,FALSE)","v":""},{"$f":"VLOOKUP(A26,Feuil1!$AI$8:$AT$29,6,FALSE)","v":""},{"$f":"VLOOKUP(A26,Feuil1!$AI$8:$AT$29,7,FALSE)","v":""},{"$f":"VLOOKUP(A26,Feuil1!$AI$8:$AT$29,8,FALSE)","v":""},{"$f":"VLOOKUP(A26,Feuil1!$AI$8:$AT$29,9,FALSE)","v":""},{"$f":"VLOOKUP(A26,Feuil1!$AI$8:$AT$29,10,FALSE)","v":""},{"$f":"VLOOKUP(A26,Feuil1!$AI$8:$AT$29,11,FALSE)","v":""},{"$f":"VLOOKUP(A26,Feuil1!$AI$8:$AT$29,12,FALSE)","v":""},null,{"$f":"IF(ISNA($AA$2*VLOOKUP(M26,$B$10:$N$20,13,FALSE)*HLOOKUP($M26,$B$25:$L$43,2,FALSE)/100),\"\",$AA$2*VLOOKUP(M26,$B$10:$N$20,13,FALSE)*HLOOKUP($M26,$B$25:$L$43,,FALSE)/100)","v":""},{"$f":"IF('541'!O26=0,\"\",'541'!O26)","v":""}]
[{"$f":"Feuil1!AI9","v":""},{"$f":"VLOOKUP(A27,Feuil1!$AI$8:$AT$29,2,FALSE)","v":""},{"$f":"VLOOKUP(A27,Feuil1!$AI$8:$AT$29,3,FALSE)","v":""},{"$f":"VLOOKUP(A27,Feuil1!$AI$8:$AT$29,4,FALSE)","v":""},{"$f":"VLOOKUP(A27,Feuil1!$AI$8:$AT$29,5,FALSE)","v":""},{"$f":"VLOOKUP(A27,Feuil1!$AI$8:$AT$29,6,FALSE)","v":""},{"$f":"VLOOKUP(A27,Feuil1!$AI$8:$AT$29,7,FALSE)","v":""},{"$f":"VLOOKUP(A27,Feuil1!$AI$8:$AT$29,8,FALSE)","v":""},{"$f":"VLOOKUP(A27,Feuil1!$AI$8:$AT$29,9,FALSE)","v":""},{"$f":"VLOOKUP(A27,Feuil1!$AI$8:$AT$29,10,FALSE)","v":""},{"$f":"VLOOKUP(A27,Feuil1!$AI$8:$AT$29,11,FALSE)","v":""},{"$f":"VLOOKUP(A27,Feuil1!$AI$8:$AT$29,12,FALSE)","v":""},null,{"$f":"IF(ISNA($AA$2*VLOOKUP(M27,$B$10:$N$20,13,FALSE)*HLOOKUP($M27,$B$25:$L$43,3,FALSE)/100),\"\",$AA$2*VLOOKUP(M27,$B$10:$N$20,13,FALSE)*HLOOKUP($M27,$B$25:$L$43,3,FALSE)/100)","v":""},{"$f":"IF('541'!O27=0,\"\",'541'!O27)","v":""}]
[{"$f":"Feuil1!AI10","v":""},{"$f":"VLOOKUP(A28,Feuil1!$AI$8:$AT$29,2,FALSE)","v":""},{"$f":"VLOOKUP(A28,Feuil1!$AI$8:$AT$29,3,FALSE)","v":""},{"$f":"VLOOKUP(A28,Feuil1!$AI$8:$AT$29,4,FALSE)","v":""},{"$f":"VLOOKUP(A28,Feuil1!$AI$8:$AT$29,5,FALSE)","v":""},{"$f":"VLOOKUP(A28,Feuil1!$AI$8:$AT$29,6,FALSE)","v":""},{"$f":"VLOOKUP(A28,Feuil1!$AI$8:$AT$29,7,FALSE)","v":""},{"$f":"VLOOKUP(A28,Feuil1!$AI$8:$AT$29,8,FALSE)","v":""},{"$f":"VLOOKUP(A28,Feuil1!$AI$8:$AT$29,9,FALSE)","v":""},{"$f":"VLOOKUP(A28,Feuil1!$AI$8:$AT$29,10,FALSE)","v":""},{"$f":"VLOOKUP(A28,Feuil1!$AI$8:$AT$29,11,FALSE)","v":""},{"$f":"VLOOKUP(A28,Feuil1!$AI$8:$AT$29,12,FALSE)","v":""},null,{"$f":"IF(ISNA($AA$2*VLOOKUP(M28,$B$10:$N$20,13,FALSE)*HLOOKUP($M28,$B$25:$L$43,4,FALSE)/100),\"\",$AA$2*VLOOKUP(M28,$B$10:$N$20,13,FALSE)*HLOOKUP($M28,$B$25:$L$43,4,FALSE)/100)","v":""},{"$f":"IF('541'!O28=0,\"\",'541'!O28)","v":""}]
[{"$f":"Feuil1!AI11","v":""},{"$f":"VLOOKUP(A29,Feuil1!$AI$8:$AT$29,2,FALSE)","v":""},{"$f":"VLOOKUP(A29,Feuil1!$AI$8:$AT$29,3,FALSE)","v":""},{"$f":"VLOOKUP(A29,Feuil1!$AI$8:$AT$29,4,FALSE)","v":""},{"$f":"VLOOKUP(A29,Feuil1!$AI$8:$AT$29,5,FALSE)","v":""},{"$f":"VLOOKUP(A29,Feuil1!$AI$8:$AT$29,6,FALSE)","v":""},{"$f":"VLOOKUP(A29,Feuil1!$AI$8:$AT$29,7,FALSE)","v":""},{"$f":"VLOOKUP(A29,Feuil1!$AI$8:$AT$29,8,FALSE)","v":""},{"$f":"VLOOKUP(A29,Feuil1!$AI$8:$AT$29,9,FALSE)","v":""},{"$f":"VLOOKUP(A29,Feuil1!$AI$8:$AT$29,10,FALSE)","v":""},{"$f":"VLOOKUP(A29,Feuil1!$AI$8:$AT$29,11,FALSE)","v":""},{"$f":"VLOOKUP(A29,Feuil1!$AI$8:$AT$29,12,FALSE)","v":""},null,{"$f":"IF(ISNA($AA$2*VLOOKUP(M29,$B$10:$N$20,13,FALSE)*HLOOKUP($M29,$B$25:$L$43,5,FALSE)/100),\"\",$AA$2*VLOOKUP(M29,$B$10:$N$20,13,FALSE)*HLOOKUP($M29,$B$25:$L$43,5,FALSE)/100)","v":""},{"$f":"IF('541'!O29=0,\"\",'541'!O29)","v":""}]
[{"$f":"Feuil1!AI12","v":""},{"$f":"VLOOKUP(A30,Feuil1!$AI$8:$AT$29,2,FALSE)","v":""},{"$f":"VLOOKUP(A30,Feuil1!$AI$8:$AT$29,3,FALSE)","v":""},{"$f":"VLOOKUP(A30,Feuil1!$AI$8:$AT$29,4,FALSE)","v":""},{"$f":"VLOOKUP(A30,Feuil1!$AI$8:$AT$29,5,FALSE)","v":""},{"$f":"VLOOKUP(A30,Feuil1!$AI$8:$AT$29,6,FALSE)","v":""},{"$f":"VLOOKUP(A30,Feuil1!$AI$8:$AT$29,7,FALSE)","v":""},{"$f":"VLOOKUP(A30,Feuil1!$AI$8:$AT$29,8,FALSE)","v":""},{"$f":"VLOOKUP(A30,Feuil1!$AI$8:$AT$29,9,FALSE)","v":""},{"$f":"VLOOKUP(A30,Feuil1!$AI$8:$AT$29,10,FALSE)","v":""},{"$f":"VLOOKUP(A30,Feuil1!$AI$8:$AT$29,11,FALSE)","v":""},{"$f":"VLOOKUP(A30,Feuil1!$AI$8:$AT$29,12,FALSE)","v":""},null,{"$f":"IF(ISNA($AA$2*VLOOKUP(M30,$B$10:$N$20,13,FALSE)*HLOOKUP($M30,$B$25:$L$43,6,FALSE)/100),\"\",$AA$2*VLOOKUP(M30,$B$10:$N$20,13,FALSE)*HLOOKUP($M30,$B$25:$L$43,6,FALSE)/100)","v":""},{"$f":"IF('541'!O30=0,\"\",'541'!O30)","v":""}]
[{"$f":"Feuil1!AI13","v":""},{"$f":"VLOOKUP(A31,Feuil1!$AI$8:$AT$29,2,FALSE)","v":""},{"$f":"VLOOKUP(A31,Feuil1!$AI$8:$AT$29,3,FALSE)","v":""},{"$f":"VLOOKUP(A31,Feuil1!$AI$8:$AT$29,4,FALSE)","v":""},{"$f":"VLOOKUP(A31,Feuil1!$AI$8:$AT$29,5,FALSE)","v":""},{"$f":"VLOOKUP(A31,Feuil1!$AI$8:$AT$29,6,FALSE)","v":""},{"$f":"VLOOKUP(A31,Feuil1!$AI$8:$AT$29,7,FALSE)","v":""},{"$f":"VLOOKUP(A31,Feuil1!$AI$8:$AT$29,8,FALSE)","v":""},{"$f":"VLOOKUP(A31,Feuil1!$AI$8:$AT$29,9,FALSE)","v":""},{"$f":"VLOOKUP(A31,Feuil1!$AI$8:$AT$29,10,FALSE)","v":""},{"$f":"VLOOKUP(A31,Feuil1!$AI$8:$AT$29,11,FALSE)","v":""},{"$f":"VLOOKUP(A31,Feuil1!$AI$8:$AT$29,12,FALSE)","v":""},null,{"$f":"IF(ISNA($AA$2*VLOOKUP(M31,$B$10:$N$20,13,FALSE)*HLOOKUP($M31,$B$25:$L$43,7,FALSE)/100),\"\",$AA$2*VLOOKUP(M31,$B$10:$N$20,13,FALSE)*HLOOKUP($M31,$B$25:$L$43,7,FALSE)/100)","v":""},{"$f":"IF('541'!O31=0,\"\",'541'!O31)","v":""}]
[{"$f":"Feuil1!AI14","v":""},{"$f":"VLOOKUP(A32,Feuil1!$AI$8:$AT$29,2,FALSE)","v":""},{"$f":"VLOOKUP(A32,Feuil1!$AI$8:$AT$29,3,FALSE)","v":""},{"$f":"VLOOKUP(A32,Feuil1!$AI$8:$AT$29,4,FALSE)","v":""},{"$f":"VLOOKUP(A32,Feuil1!$AI$8:$AT$29,5,FALSE)","v":""},{"$f":"VLOOKUP(A32,Feuil1!$AI$8:$AT$29,6,FALSE)","v":""},{"$f":"VLOOKUP(A32,Feuil1!$AI$8:$AT$29,7,FALSE)","v":""},{"$f":"VLOOKUP(A32,Feuil1!$AI$8:$AT$29,8,FALSE)","v":""},{"$f":"VLOOKUP(A32,Feuil1!$AI$8:$AT$29,9,FALSE)","v":""},{"$f":"VLOOKUP(A32,Feuil1!$AI$8:$AT$29,10,FALSE)","v":""},{"$f":"VLOOKUP(A32,Feuil1!$AI$8:$AT$29,11,FALSE)","v":""},{"$f":"VLOOKUP(A32,Feuil1!$AI$8:$AT$29,12,FALSE)","v":""},null,{"$f":"IF(ISNA($AA$2*VLOOKUP(M32,$B$10:$N$20,13,FALSE)*HLOOKUP($M32,$B$25:$L$43,8,FALSE)/100),\"\",$AA$2*VLOOKUP(M32,$B$10:$N$20,13,FALSE)*HLOOKUP($M32,$B$25:$L$43,8,FALSE)/100)","v":""},{"$f":"IF('541'!O32=0,\"\",'541'!O32)","v":""}]
[{"$f":"Feuil1!AI15","v":""},{"$f":"VLOOKUP(A33,Feuil1!$AI$8:$AT$29,2,FALSE)","v":""},{"$f":"VLOOKUP(A33,Feuil1!$AI$8:$AT$29,3,FALSE)","v":""},{"$f":"VLOOKUP(A33,Feuil1!$AI$8:$AT$29,4,FALSE)","v":""},{"$f":"VLOOKUP(A33,Feuil1!$AI$8:$AT$29,5,FALSE)","v":""},{"$f":"VLOOKUP(A33,Feuil1!$AI$8:$AT$29,6,FALSE)","v":""},{"$f":"VLOOKUP(A33,Feuil1!$AI$8:$AT$29,7,FALSE)","v":""},{"$f":"VLOOKUP(A33,Feuil1!$AI$8:$AT$29,8,FALSE)","v":""},{"$f":"VLOOKUP(A33,Feuil1!$AI$8:$AT$29,9,FALSE)","v":""},{"$f":"VLOOKUP(A33,Feuil1!$AI$8:$AT$29,10,FALSE)","v":""},{"$f":"VLOOKUP(A33,Feuil1!$AI$8:$AT$29,11,FALSE)","v":""},{"$f":"VLOOKUP(A33,Feuil1!$AI$8:$AT$29,12,FALSE)","v":""},null,{"$f":"IF(ISNA($AA$2*VLOOKUP(M33,$B$10:$N$20,13,FALSE)*HLOOKUP($M33,$B$25:$L$43,9,FALSE)/100),\"\",$AA$2*VLOOKUP(M33,$B$10:$N$20,13,FALSE)*HLOOKUP($M33,$B$25:$L$43,9,FALSE)/100)","v":""},{"$f":"IF('541'!O33=0,\"\",'541'!O33)","v":""}]
[{"$f":"Feuil1!AI16","v":""},{"$f":"VLOOKUP(A34,Feuil1!$AI$8:$AT$29,2,FALSE)","v":""},{"$f":"VLOOKUP(A34,Feuil1!$AI$8:$AT$29,3,FALSE)","v":""},{"$f":"VLOOKUP(A34,Feuil1!$AI$8:$AT$29,4,FALSE)","v":""},{"$f":"VLOOKUP(A34,Feuil1!$AI$8:$AT$29,5,FALSE)","v":""},{"$f":"VLOOKUP(A34,Feuil1!$AI$8:$AT$29,6,FALSE)","v":""},{"$f":"VLOOKUP(A34,Feuil1!$AI$8:$AT$29,7,FALSE)","v":""},{"$f":"VLOOKUP(A34,Feuil1!$AI$8:$AT$29,8,FALSE)","v":""},{"$f":"VLOOKUP(A34,Feuil1!$AI$8:$AT$29,9,FALSE)","v":""},{"$f":"VLOOKUP(A34,Feuil1!$AI$8:$AT$29,10,FALSE)","v":""},{"$f":"VLOOKUP(A34,Feuil1!$AI$8:$AT$29,11,FALSE)","v":""},{"$f":"VLOOKUP(A34,Feuil1!$AI$8:$AT$29,12,FALSE)","v":""},null,{"$f":"IF(ISNA($AA$2*VLOOKUP(M34,$B$10:$N$20,13,FALSE)*HLOOKUP($M34,$B$25:$L$43,10,FALSE)/100),\"\",$AA$2*VLOOKUP(M34,$B$10:$N$20,13,FALSE)*HLOOKUP($M34,$B$25:$L$43,10,FALSE)/100)","v":""},{"$f":"IF('541'!O34=0,\"\",'541'!O34)","v":""}]
[{"$f":"Feuil1!AI17","v":""},{"$f":"VLOOKUP(A35,Feuil1!$AI$8:$AT$29,2,FALSE)","v":""},{"$f":"VLOOKUP(A35,Feuil1!$AI$8:$AT$29,3,FALSE)","v":""},{"$f":"VLOOKUP(A35,Feuil1!$AI$8:$AT$29,4,FALSE)","v":""},{"$f":"VLOOKUP(A35,Feuil1!$AI$8:$AT$29,5,FALSE)","v":""},{"$f":"VLOOKUP(A35,Feuil1!$AI$8:$AT$29,6,FALSE)","v":""},{"$f":"VLOOKUP(A35,Feuil1!$AI$8:$AT$29,7,FALSE)","v":""},{"$f":"VLOOKUP(A35,Feuil1!$AI$8:$AT$29,8,FALSE)","v":""},{"$f":"VLOOKUP(A35,Feuil1!$AI$8:$AT$29,9,FALSE)","v":""},{"$f":"VLOOKUP(A35,Feuil1!$AI$8:$AT$29,10,FALSE)","v":""},{"$f":"VLOOKUP(A35,Feuil1!$AI$8:$AT$29,11,FALSE)","v":""},{"$f":"VLOOKUP(A35,Feuil1!$AI$8:$AT$29,12,FALSE)","v":""},null,{"$f":"IF(ISNA($AA$2*VLOOKUP(M35,$B$10:$N$20,13,FALSE)*HLOOKUP($M35,$B$25:$L$43,11,FALSE)/100),\"\",$AA$2*VLOOKUP(M35,$B$10:$N$20,13,FALSE)*HLOOKUP($M35,$B$25:$L$43,11,FALSE)/100)","v":""},{"$f":"IF('541'!O35=0,\"\",'541'!O35)","v":""}]
[{"$f":"Feuil1!AI18","v":""},{"$f":"VLOOKUP(A36,Feuil1!$AI$8:$AT$29,2,FALSE)","v":""},{"$f":"VLOOKUP(A36,Feuil1!$AI$8:$AT$29,3,FALSE)","v":""},{"$f":"VLOOKUP(A36,Feuil1!$AI$8:$AT$29,4,FALSE)","v":""},{"$f":"VLOOKUP(A36,Feuil1!$AI$8:$AT$29,5,FALSE)","v":""},{"$f":"VLOOKUP(A36,Feuil1!$AI$8:$AT$29,6,FALSE)","v":""},{"$f":"VLOOKUP(A36,Feuil1!$AI$8:$AT$29,7,FALSE)","v":""},{"$f":"VLOOKUP(A36,Feuil1!$AI$8:$AT$29,8,FALSE)","v":""},{"$f":"VLOOKUP(A36,Feuil1!$AI$8:$AT$29,9,FALSE)","v":""},{"$f":"VLOOKUP(A36,Feuil1!$AI$8:$AT$29,10,FALSE)","v":""},{"$f":"VLOOKUP(A36,Feuil1!$AI$8:$AT$29,11,FALSE)","v":""},{"$f":"VLOOKUP(A36,Feuil1!$AI$8:$AT$29,12,FALSE)","v":""},null,{"$f":"IF(ISNA($AA$2*VLOOKUP(M36,$B$10:$N$20,13,FALSE)*HLOOKUP($M36,$B$25:$L$43,12,FALSE)/100),\"\",$AA$2*VLOOKUP(M36,$B$10:$N$20,13,FALSE)*HLOOKUP($M36,$B$25:$L$43,12,FALSE)/100)","v":""},{"$f":"IF('541'!O36=0,\"\",'541'!O36)","v":""}]
[{"$f":"Feuil1!AI19","v":""},{"$f":"VLOOKUP(A37,Feuil1!$AI$8:$AT$29,2,FALSE)","v":""},{"$f":"VLOOKUP(A37,Feuil1!$AI$8:$AT$29,3,FALSE)","v":""},{"$f":"VLOOKUP(A37,Feuil1!$AI$8:$AT$29,4,FALSE)","v":""},{"$f":"VLOOKUP(A37,Feuil1!$AI$8:$AT$29,5,FALSE)","v":""},{"$f":"VLOOKUP(A37,Feuil1!$AI$8:$AT$29,6,FALSE)","v":""},{"$f":"VLOOKUP(A37,Feuil1!$AI$8:$AT$29,7,FALSE)","v":""},{"$f":"VLOOKUP(A37,Feuil1!$AI$8:$AT$29,8,FALSE)","v":""},{"$f":"VLOOKUP(A37,Feuil1!$AI$8:$AT$29,9,FALSE)","v":""},{"$f":"VLOOKUP(A37,Feuil1!$AI$8:$AT$29,10,FALSE)","v":""},{"$f":"VLOOKUP(A37,Feuil1!$AI$8:$AT$29,11,FALSE)","v":""},{"$f":"VLOOKUP(A37,Feuil1!$AI$8:$AT$29,12,FALSE)","v":""},null,{"$f":"IF(ISNA($AA$2*VLOOKUP(M37,$B$10:$N$20,13,FALSE)*HLOOKUP($M37,$B$25:$L$43,13,FALSE)/100),\"\",$AA$2*VLOOKUP(M37,$B$10:$N$20,13,FALSE)*HLOOKUP($M37,$B$25:$L$43,13,FALSE)/100)","v":""},{"$f":"IF('541'!O37=0,\"\",'541'!O37)","v":""}]
[{"$f":"Feuil1!AI20","v":""},{"$f":"VLOOKUP(A38,Feuil1!$AI$8:$AT$29,2,FALSE)","v":""},{"$f":"VLOOKUP(A38,Feuil1!$AI$8:$AT$29,3,FALSE)","v":""},{"$f":"VLOOKUP(A38,Feuil1!$AI$8:$AT$29,4,FALSE)","v":""},{"$f":"VLOOKUP(A38,Feuil1!$AI$8:$AT$29,5,FALSE)","v":""},{"$f":"VLOOKUP(A38,Feuil1!$AI$8:$AT$29,6,FALSE)","v":""},{"$f":"VLOOKUP(A38,Feuil1!$AI$8:$AT$29,7,FALSE)","v":""},{"$f":"VLOOKUP(A38,Feuil1!$AI$8:$AT$29,8,FALSE)","v":""},{"$f":"VLOOKUP(A38,Feuil1!$AI$8:$AT$29,9,FALSE)","v":""},{"$f":"VLOOKUP(A38,Feuil1!$AI$8:$AT$29,10,FALSE)","v":""},{"$f":"VLOOKUP(A38,Feuil1!$AI$8:$AT$29,11,FALSE)","v":""},{"$f":"VLOOKUP(A38,Feuil1!$AI$8:$AT$29,12,FALSE)","v":""},null,{"$f":"IF(ISNA($AA$2*VLOOKUP(M38,$B$10:$N$20,13,FALSE)*HLOOKUP($M38,$B$25:$L$43,14,FALSE)/100),\"\",$AA$2*VLOOKUP(M38,$B$10:$N$20,13,FALSE)*HLOOKUP($M38,$B$25:$L$43,14,FALSE)/100)","v":""},{"$f":"IF('541'!O38=0,\"\",'541'!O38)","v":""}]
[{"$f":"Feuil1!AI21","v":""},{"$f":"VLOOKUP(A39,Feuil1!$AI$8:$AT$29,2,FALSE)","v":""},{"$f":"VLOOKUP(A39,Feuil1!$AI$8:$AT$29,3,FALSE)","v":""},{"$f":"VLOOKUP(A39,Feuil1!$AI$8:$AT$29,4,FALSE)","v":""},{"$f":"VLOOKUP(A39,Feuil1!$AI$8:$AT$29,5,FALSE)","v":""},{"$f":"VLOOKUP(A39,Feuil1!$AI$8:$AT$29,6,FALSE)","v":""},{"$f":"VLOOKUP(A39,Feuil1!$AI$8:$AT$29,7,FALSE)","v":""},{"$f":"VLOOKUP(A39,Feuil1!$AI$8:$AT$29,8,FALSE)","v":""},{"$f":"VLOOKUP(A39,Feuil1!$AI$8:$AT$29,9,FALSE)","v":""},{"$f":"VLOOKUP(A39,Feuil1!$AI$8:$AT$29,10,FALSE)","v":""},{"$f":"VLOOKUP(A39,Feuil1!$AI$8:$AT$29,11,FALSE)","v":""},{"$f":"VLOOKUP(A39,Feuil1!$AI$8:$AT$29,12,FALSE)","v":""},null,{"$f":"IF(ISNA($AA$2*VLOOKUP(M39,$B$10:$N$20,13,FALSE)*HLOOKUP($M39,$B$25:$L$43,15,FALSE)/100),\"\",$AA$2*VLOOKUP(M39,$B$10:$N$20,13,FALSE)*HLOOKUP($M39,$B$25:$L$43,15,FALSE)/100)","v":""},{"$f":"IF('541'!O39=0,\"\",'541'!O39)","v":""}]
[{"$f":"Feuil1!AI22","v":""},{"$f":"VLOOKUP(A40,Feuil1!$AI$8:$AT$29,2,FALSE)","v":""},{"$f":"VLOOKUP(A40,Feuil1!$AI$8:$AT$29,3,FALSE)","v":""},{"$f":"VLOOKUP(A40,Feuil1!$AI$8:$AT$29,4,FALSE)","v":""},{"$f":"VLOOKUP(A40,Feuil1!$AI$8:$AT$29,5,FALSE)","v":""},{"$f":"VLOOKUP(A40,Feuil1!$AI$8:$AT$29,6,FALSE)","v":""},{"$f":"VLOOKUP(A40,Feuil1!$AI$8:$AT$29,7,FALSE)","v":""},{"$f":"VLOOKUP(A40,Feuil1!$AI$8:$AT$29,8,FALSE)","v":""},{"$f":"VLOOKUP(A40,Feuil1!$AI$8:$AT$29,9,FALSE)","v":""},{"$f":"VLOOKUP(A40,Feuil1!$AI$8:$AT$29,10,FALSE)","v":""},{"$f":"VLOOKUP(A40,Feuil1!$AI$8:$AT$29,11,FALSE)","v":""},{"$f":"VLOOKUP(A40,Feuil1!$AI$8:$AT$29,12,FALSE)","v":""},null,{"$f":"IF(ISNA($AA$2*VLOOKUP(M40,$B$10:$N$20,13,FALSE)*HLOOKUP($M40,$B$25:$L$43,16,FALSE)/100),\"\",$AA$2*VLOOKUP(M40,$B$10:$N$20,13,FALSE)*HLOOKUP($M40,$B$25:$L$43,16,FALSE)/100)","v":""},{"$f":"IF('541'!O40=0,\"\",'541'!O40)","v":""}]
[{"$f":"Feuil1!AI23","v":""},{"$f":"VLOOKUP(A41,Feuil1!$AI$8:$AT$29,2,FALSE)","v":""},{"$f":"VLOOKUP(A41,Feuil1!$AI$8:$AT$29,3,FALSE)","v":""},{"$f":"VLOOKUP(A41,Feuil1!$AI$8:$AT$29,4,FALSE)","v":""},{"$f":"VLOOKUP(A41,Feuil1!$AI$8:$AT$29,5,FALSE)","v":""},{"$f":"VLOOKUP(A41,Feuil1!$AI$8:$AT$29,6,FALSE)","v":""},{"$f":"VLOOKUP(A41,Feuil1!$AI$8:$AT$29,7,FALSE)","v":""},{"$f":"VLOOKUP(A41,Feuil1!$AI$8:$AT$29,8,FALSE)","v":""},{"$f":"VLOOKUP(A41,Feuil1!$AI$8:$AT$29,9,FALSE)","v":""},{"$f":"VLOOKUP(A41,Feuil1!$AI$8:$AT$29,10,FALSE)","v":""},{"$f":"VLOOKUP(A41,Feuil1!$AI$8:$AT$29,11,FALSE)","v":""},{"$f":"VLOOKUP(A41,Feuil1!$AI$8:$AT$29,12,FALSE)","v":""},null,{"$f":"IF(ISNA($AA$2*VLOOKUP(M41,$B$10:$N$20,13,FALSE)*HLOOKUP($M41,$B$25:$L$43,17,FALSE)/100),\"\",$AA$2*VLOOKUP(M41,$B$10:$N$20,13,FALSE)*HLOOKUP($M41,$B$25:$L$43,17,FALSE)/100)","v":""},{"$f":"IF('541'!O41=0,\"\",'541'!O41)","v":""}]
[{"$f":"Feuil1!AI24","v":""},{"$f":"VLOOKUP(A42,Feuil1!$AI$8:$AT$29,2,FALSE)","v":""},{"$f":"VLOOKUP(A42,Feuil1!$AI$8:$AT$29,3,FALSE)","v":""},{"$f":"VLOOKUP(A42,Feuil1!$AI$8:$AT$29,4,FALSE)","v":""},{"$f":"VLOOKUP(A42,Feuil1!$AI$8:$AT$29,5,FALSE)","v":""},{"$f":"VLOOKUP(A42,Feuil1!$AI$8:$AT$29,6,FALSE)","v":""},{"$f":"VLOOKUP(A42,Feuil1!$AI$8:$AT$29,7,FALSE)","v":""},{"$f":"VLOOKUP(A42,Feuil1!$AI$8:$AT$29,8,FALSE)","v":""},{"$f":"VLOOKUP(A42,Feuil1!$AI$8:$AT$29,9,FALSE)","v":""},{"$f":"VLOOKUP(A42,Feuil1!$AI$8:$AT$29,10,FALSE)","v":""},{"$f":"VLOOKUP(A42,Feuil1!$AI$8:$AT$29,11,FALSE)","v":""},{"$f":"VLOOKUP(A42,Feuil1!$AI$8:$AT$29,12,FALSE)","v":""},null,{"$f":"IF(ISNA($AA$2*VLOOKUP(M42,$B$10:$N$20,13,FALSE)*HLOOKUP($M42,$B$25:$L$43,18,FALSE)/100),\"\",$AA$2*VLOOKUP(M42,$B$10:$N$20,13,FALSE)*HLOOKUP($M42,$B$25:$L$43,18,FALSE)/100)","v":""},{"$f":"IF('541'!O42=0,\"\",'541'!O42)","v":""}]
[{"$f":"Feuil1!AI25","v":""},{"$f":"VLOOKUP(A43,Feuil1!$AI$8:$AT$29,2,FALSE)","v":""},{"$f":"VLOOKUP(A43,Feuil1!$AI$8:$AT$29,3,FALSE)","v":""},{"$f":"VLOOKUP(A43,Feuil1!$AI$8:$AT$29,4,FALSE)","v":""},{"$f":"VLOOKUP(A43,Feuil1!$AI$8:$AT$29,5,FALSE)","v":""},{"$f":"VLOOKUP(A43,Feuil1!$AI$8:$AT$29,6,FALSE)","v":""},{"$f":"VLOOKUP(A43,Feuil1!$AI$8:$AT$29,7,FALSE)","v":""},{"$f":"VLOOKUP(A43,Feuil1!$AI$8:$AT$29,8,FALSE)","v":""},{"$f":"VLOOKUP(A43,Feuil1!$AI$8:$AT$29,9,FALSE)","v":""},{"$f":"VLOOKUP(A43,Feuil1!$AI$8:$AT$29,10,FALSE)","v":""},{"$f":"VLOOKUP(A43,Feuil1!$AI$8:$AT$29,11,FALSE)","v":""},{"$f":"VLOOKUP(A43,Feuil1!$AI$8:$AT$29,12,FALSE)","v":""},null,{"$f":"IF(ISNA($AA$2*VLOOKUP(M43,$B$10:$N$20,13,FALSE)*HLOOKUP($M43,$B$25:$L$43,19,FALSE)/100),\"\",$AA$2*VLOOKUP(M43,$B$10:$N$20,13,FALSE)*HLOOKUP($M43,$B$25:$L$43,19,FALSE)/100)","v":""},{"$f":"IF('541'!O43=0,\"\",'541'!O43)","v":""}]
[{"$f":"Feuil1!AI26","v":""},{"$f":"VLOOKUP(A44,Feuil1!$AI$8:$AT$29,2,FALSE)","v":""},{"$f":"VLOOKUP(A44,Feuil1!$AI$8:$AT$29,3,FALSE)","v":""},{"$f":"VLOOKUP(A44,Feuil1!$AI$8:$AT$29,4,FALSE)","v":""},{"$f":"VLOOKUP(A44,Feuil1!$AI$8:$AT$29,5,FALSE)","v":""},{"$f":"VLOOKUP(A44,Feuil1!$AI$8:$AT$29,6,FALSE)","v":""},{"$f":"VLOOKUP(A44,Feuil1!$AI$8:$AT$29,7,FALSE)","v":""},{"$f":"VLOOKUP(A44,Feuil1!$AI$8:$AT$29,8,FALSE)","v":""},{"$f":"VLOOKUP(A44,Feuil1!$AI$8:$AT$29,9,FALSE)","v":""},{"$f":"VLOOKUP(A44,Feuil1!$AI$8:$AT$29,10,FALSE)","v":""},{"$f":"VLOOKUP(A44,Feuil1!$AI$8:$AT$29,11,FALSE)","v":""},{"$f":"VLOOKUP(A44,Feuil1!$AI$8:$AT$29,12,FALSE)","v":""},null,null,{"$f":"IF('541'!O44=0,\"\",'541'!O44)","v":""}]
[{"$f":"Feuil1!AI27","v":""},{"$f":"VLOOKUP(A45,Feuil1!$AI$8:$AT$29,2,FALSE)","v":""},{"$f":"VLOOKUP(A45,Feuil1!$AI$8:$AT$29,3,FALSE)","v":""},{"$f":"VLOOKUP(A45,Feuil1!$AI$8:$AT$29,4,FALSE)","v":""},{"$f":"VLOOKUP(A45,Feuil1!$AI$8:$AT$29,5,FALSE)","v":""},{"$f":"VLOOKUP(A45,Feuil1!$AI$8:$AT$29,6,FALSE)","v":""},{"$f":"VLOOKUP(A45,Feuil1!$AI$8:$AT$29,7,FALSE)","v":""},{"$f":"VLOOKUP(A45,Feuil1!$AI$8:$AT$29,8,FALSE)","v":""},{"$f":"VLOOKUP(A45,Feuil1!$AI$8:$AT$29,9,FALSE)","v":""},{"$f":"VLOOKUP(A45,Feuil1!$AI$8:$AT$29,10,FALSE)","v":""},{"$f":"VLOOKUP(A45,Feuil1!$AI$8:$AT$29,11,FALSE)","v":""},{"$f":"VLOOKUP(A45,Feuil1!$AI$8:$AT$29,12,FALSE)","v":""},null,null,{"$f":"IF('541'!O45=0,\"\",'541'!O45)","v":""}]
[{"$f":"Feuil1!AI28","v":""},{"$f":"VLOOKUP(A46,Feuil1!$AI$8:$AT$29,2,FALSE)","v":""},{"$f":"VLOOKUP(A46,Feuil1!$AI$8:$AT$29,3,FALSE)","v":""},{"$f":"VLOOKUP(A46,Feuil1!$AI$8:$AT$29,4,FALSE)","v":""},{"$f":"VLOOKUP(A46,Feuil1!$AI$8:$AT$29,5,FALSE)","v":""},{"$f":"VLOOKUP(A46,Feuil1!$AI$8:$AT$29,6,FALSE)","v":""},{"$f":"VLOOKUP(A46,Feuil1!$AI$8:$AT$29,7,FALSE)","v":""},{"$f":"VLOOKUP(A46,Feuil1!$AI$8:$AT$29,8,FALSE)","v":""},{"$f":"VLOOKUP(A46,Feuil1!$AI$8:$AT$29,9,FALSE)","v":""},{"$f":"VLOOKUP(A46,Feuil1!$AI$8:$AT$29,10,FALSE)","v":""},{"$f":"VLOOKUP(A46,Feuil1!$AI$8:$AT$29,11,FALSE)","v":""},{"$f":"VLOOKUP(A46,Feuil1!$AI$8:$AT$29,12,FALSE)","v":""},null,null,{"$f":"IF('541'!O46=0,\"\",'541'!O46)","v":""}]
[{"$f":"Feuil1!AI29","v":""},{"$f":"VLOOKUP(A47,Feuil1!$AI$8:$AT$29,2,FALSE)","v":""},{"$f":"VLOOKUP(A47,Feuil1!$AI$8:$AT$29,3,FALSE)","v":""},{"$f":"VLOOKUP(A47,Feuil1!$AI$8:$AT$29,4,FALSE)","v":""},{"$f":"VLOOKUP(A47,Feuil1!$AI$8:$AT$29,5,FALSE)","v":""},{"$f":"VLOOKUP(A47,Feuil1!$AI$8:$AT$29,6,FALSE)","v":""},{"$f":"VLOOKUP(A47,Feuil1!$AI$8:$AT$29,7,FALSE)","v":""},{"$f":"VLOOKUP(A47,Feuil1!$AI$8:$AT$29,8,FALSE)","v":""},{"$f":"VLOOKUP(A47,Feuil1!$AI$8:$AT$29,9,FALSE)","v":""},{"$f":"VLOOKUP(A47,Feuil1!$AI$8:$AT$29,10,FALSE)","v":""},{"$f":"VLOOKUP(A47,Feuil1!$AI$8:$AT$29,11,FALSE)","v":""},{"$f":"VLOOKUP(A47,Feuil1!$AI$8:$AT$29,12,FALSE)","v":""},null,null,{"$f":"IF('541'!O47=0,\"\",'541'!O47)","v":""}]

{"sheet":"352","index":13,"n_rows":47,"n_cols":15,"rows_kept":47,"cut":false,"hidden":true,"merged":[]}
[]
[]
[]
[]
[]
[]
[]
[]
[]
[]
[]
[]
[]
[]
[]
[]
[]
[]
[]
[]
[]
[]
["ordre importance",7,1,3,2,9,11,6,10,8,5,4]
[null,"position"]
["Joueur",1,2,3,4,5,6,7,8,9,10,11,null,null,"Forcé ???"]
[{"$f":"Feuil1!AI8","v":""},{"$f":"VLOOKUP(A26,Feuil1!$AI$8:$AT$29,2,FALSE)","v":""},{"$f":"VLOOKUP(A26,Feuil1!$AI$8:$AT$29,3,FALSE)","v":""},{"$f":"VLOOKUP(A26,Feuil1!$AI$8:$AT$29,4,FALSE)","v":""},{"$f":"VLOOKUP(A26,Feuil1!$AI$8:$AT$29,5,FALSE)","v":""},{"$f":"VLOOKUP(A26,Feuil1!$AI$8:$AT$29,6,FALSE)","v":""},{"$f":"VLOOKUP(A26,Feuil1!$AI$8:$AT$29,7,FALSE)","v":""},{"$f":"VLOOKUP(A26,Feuil1!$AI$8:$AT$29,8,FALSE)","v":""},{"$f":"VLOOKUP(A26,Feuil1!$AI$8:$AT$29,9,FALSE)","v":""},{"$f":"VLOOKUP(A26,Feuil1!$AI$8:$AT$29,10,FALSE)","v":""},{"$f":"VLOOKUP(A26,Feuil1!$AI$8:$AT$29,11,FALSE)","v":""},{"$f":"VLOOKUP(A26,Feuil1!$AI$8:$AT$29,12,FALSE)","v":""},null,{"$f":"IF(ISNA($AA$2*VLOOKUP(M26,$B$10:$N$20,13,FALSE)*HLOOKUP($M26,$B$25:$L$43,2,FALSE)/100),\"\",$AA$2*VLOOKUP(M26,$B$10:$N$20,13,FALSE)*HLOOKUP($M26,$B$25:$L$43,,FALSE)/100)","v":""},{"$f":"IF('541'!O26=0,\"\",'541'!O26)","v":""}]
[{"$f":"Feuil1!AI9","v":""},{"$f":"VLOOKUP(A27,Feuil1!$AI$8:$AT$29,2,FALSE)","v":""},{"$f":"VLOOKUP(A27,Feuil1!$AI$8:$AT$29,3,FALSE)","v":""},{"$f":"VLOOKUP(A27,Feuil1!$AI$8:$AT$29,4,FALSE)","v":""},{"$f":"VLOOKUP(A27,Feuil1!$AI$8:$AT$29,5,FALSE)","v":""},{"$f":"VLOOKUP(A27,Feuil1!$AI$8:$AT$29,6,FALSE)","v":""},{"$f":"VLOOKUP(A27,Feuil1!$AI$8:$AT$29,7,FALSE)","v":""},{"$f":"VLOOKUP(A27,Feuil1!$AI$8:$AT$29,8,FALSE)","v":""},{"$f":"VLOOKUP(A27,Feuil1!$AI$8:$AT$29,9,FALSE)","v":""},{"$f":"VLOOKUP(A27,Feuil1!$AI$8:$AT$29,10,FALSE)","v":""},{"$f":"VLOOKUP(A27,Feuil1!$AI$8:$AT$29,11,FALSE)","v":""},{"$f":"VLOOKUP(A27,Feuil1!$AI$8:$AT$29,12,FALSE)","v":""},null,{"$f":"IF(ISNA($AA$2*VLOOKUP(M27,$B$10:$N$20,13,FALSE)*HLOOKUP($M27,$B$25:$L$43,3,FALSE)/100),\"\",$AA$2*VLOOKUP(M27,$B$10:$N$20,13,FALSE)*HLOOKUP($M27,$B$25:$L$43,3,FALSE)/100)","v":""},{"$f":"IF('541'!O27=0,\"\",'541'!O27)","v":""}]
[{"$f":"Feuil1!AI10","v":""},{"$f":"VLOOKUP(A28,Feuil1!$AI$8:$AT$29,2,FALSE)","v":""},{"$f":"VLOOKUP(A28,Feuil1!$AI$8:$AT$29,3,FALSE)","v":""},{"$f":"VLOOKUP(A28,Feuil1!$AI$8:$AT$29,4,FALSE)","v":""},{"$f":"VLOOKUP(A28,Feuil1!$AI$8:$AT$29,5,FALSE)","v":""},{"$f":"VLOOKUP(A28,Feuil1!$AI$8:$AT$29,6,FALSE)","v":""},{"$f":"VLOOKUP(A28,Feuil1!$AI$8:$AT$29,7,FALSE)","v":""},{"$f":"VLOOKUP(A28,Feuil1!$AI$8:$AT$29,8,FALSE)","v":""},{"$f":"VLOOKUP(A28,Feuil1!$AI$8:$AT$29,9,FALSE)","v":""},{"$f":"VLOOKUP(A28,Feuil1!$AI$8:$AT$29,10,FALSE)","v":""},{"$f":"VLOOKUP(A28,Feuil1!$AI$8:$AT$29,11,FALSE)","v":""},{"$f":"VLOOKUP(A28,Feuil1!$AI$8:$AT$29,12,FALSE)","v":""},null,{"$f":"IF(ISNA($AA$2*VLOOKUP(M28,$B$10:$N$20,13,FALSE)*HLOOKUP($M28,$B$25:$L$43,4,FALSE)/100),\"\",$AA$2*VLOOKUP(M28,$B$10:$N$20,13,FALSE)*HLOOKUP($M28,$B$25:$L$43,4,FALSE)/100)","v":""},{"$f":"IF('541'!O28=0,\"\",'541'!O28)","v":""}]
[{"$f":"Feuil1!AI11","v":""},{"$f":"VLOOKUP(A29,Feuil1!$AI$8:$AT$29,2,FALSE)","v":""},{"$f":"VLOOKUP(A29,Feuil1!$AI$8:$AT$29,3,FALSE)","v":""},{"$f":"VLOOKUP(A29,Feuil1!$AI$8:$AT$29,4,FALSE)","v":""},{"$f":"VLOOKUP(A29,Feuil1!$AI$8:$AT$29,5,FALSE)","v":""},{"$f":"VLOOKUP(A29,Feuil1!$AI$8:$AT$29,6,FALSE)","v":""},{"$f":"VLOOKUP(A29,Feuil1!$AI$8:$AT$29,7,FALSE)","v":""},{"$f":"VLOOKUP(A29,Feuil1!$AI$8:$AT$29,8,FALSE)","v":""},{"$f":"VLOOKUP(A29,Feuil1!$AI$8:$AT$29,9,FALSE)","v":""},{"$f":"VLOOKUP(A29,Feuil1!$AI$8:$AT$29,10,FALSE)","v":""},{"$f":"VLOOKUP(A29,Feuil1!$AI$8:$AT$29,11,FALSE)","v":""},{"$f":"VLOOKUP(A29,Feuil1!$AI$8:$AT$29,12,FALSE)","v":""},null,{"$f":"IF(ISNA($AA$2*VLOOKUP(M29,$B$10:$N$20,13,FALSE)*HLOOKUP($M29,$B$25:$L$43,5,FALSE)/100),\"\",$AA$2*VLOOKUP(M29,$B$10:$N$20,13,FALSE)*HLOOKUP($M29,$B$25:$L$43,5,FALSE)/100)","v":""},{"$f":"IF('541'!O29=0,\"\",'541'!O29)","v":""}]
[{"$f":"Feuil1!AI12","v":""},{"$f":"VLOOKUP(A30,Feuil1!$AI$8:$AT$29,2,FALSE)","v":""},{"$f":"VLOOKUP(A30,Feuil1!$AI$8:$AT$29,3,FALSE)","v":""},{"$f":"VLOOKUP(A30,Feuil1!$AI$8:$AT$29,4,FALSE)","v":""},{"$f":"VLOOKUP(A30,Feuil1!$AI$8:$AT$29,5,FALSE)","v":""},{"$f":"VLOOKUP(A30,Feuil1!$AI$8:$AT$29,6,FALSE)","v":""},{"$f":"VLOOKUP(A30,Feuil1!$AI$8:$AT$29,7,FALSE)","v":""},{"$f":"VLOOKUP(A30,Feuil1!$AI$8:$AT$29,8,FALSE)","v":""},{"$f":"VLOOKUP(A30,Feuil1!$AI$8:$AT$29,9,FALSE)","v":""},{"$f":"VLOOKUP(A30,Feuil1!$AI$8:$AT$29,10,FALSE)","v":""},{"$f":"VLOOKUP(A30,Feuil1!$AI$8:$AT$29,11,FALSE)","v":""},{"$f":"VLOOKUP(A30,Feuil1!$AI$8:$AT$29,12,FALSE)","v":""},null,{"$f":"IF(ISNA($AA$2*VLOOKUP(M30,$B$10:$N$20,13,FALSE)*HLOOKUP($M30,$B$25:$L$43,6,FALSE)/100),\"\",$AA$2*VLOOKUP(M30,$B$10:$N$20,13,FALSE)*HLOOKUP($M30,$B$25:$L$43,6,FALSE)/100)","v":""},{"$f":"IF('541'!O30=0,\"\",'541'!O30)","v":""}]
[{"$f":"Feuil1!AI13","v":""},{"$f":"VLOOKUP(A31,Feuil1!$AI$8:$AT$29,2,FALSE)","v":""},{"$f":"VLOOKUP(A31,Feuil1!$AI$8:$AT$29,3,FALSE)","v":""},{"$f":"VLOOKUP(A31,Feuil1!$AI$8:$AT$29,4,FALSE)","v":""},{"$f":"VLOOKUP(A31,Feuil1!$AI$8:$AT$29,5,FALSE)","v":""},{"$f":"VLOOKUP(A31,Feuil1!$AI$8:$AT$29,6,FALSE)","v":""},{"$f":"VLOOKUP(A31,Feuil1!$AI$8:$AT$29,7,FALSE)","v":""},{"$f":"VLOOKUP(A31,Feuil1!$AI$8:$AT$29,8,FALSE)","v":""},{"$f":"VLOOKUP(A31,Feuil1!$AI$8:$AT$29,9,FALSE)","v":""},{"$f":"VLOOKUP(A31,Feuil1!$AI$8:$AT$29,10,FALSE)","v":""},{"$f":"VLOOKUP(A31,Feuil1!$AI$8:$AT$29,11,FALSE)","v":""},{"$f":"VLOOKUP(A31,Feuil1!$AI$8:$AT$29,12,FALSE)","v":""},null,{"$f":"IF(ISNA($AA$2*VLOOKUP(M31,$B$10:$N$20,13,FALSE)*HLOOKUP($M31,$B$25:$L$43,7,FALSE)/100),\"\",$AA$2*VLOOKUP(M31,$B$10:$N$20,13,FALSE)*HLOOKUP($M31,$B$25:$L$43,7,FALSE)/100)","v":""},{"$f":"IF('541'!O31=0,\"\",'541'!O31)","v":""}]
[{"$f":"Feuil1!AI14","v":""},{"$f":"VLOOKUP(A32,Feuil1!$AI$8:$AT$29,2,FALSE)","v":""},{"$f":"VLOOKUP(A32,Feuil1!$AI$8:$AT$29,3,FALSE)","v":""},{"$f":"VLOOKUP(A32,Feuil1!$AI$8:$AT$29,4,FALSE)","v":""},{"$f":"VLOOKUP(A32,Feuil1!$AI$8:$AT$29,5,FALSE)","v":""},{"$f":"VLOOKUP(A32,Feuil1!$AI$8:$AT$29,6,FALSE)","v":""},{"$f":"VLOOKUP(A32,Feuil1!$AI$8:$AT$29,7,FALSE)","v":""},{"$f":"VLOOKUP(A32,Feuil1!$AI$8:$AT$29,8,FALSE)","v":""},{"$f":"VLOOKUP(A32,Feuil1!$AI$8:$AT$29,9,FALSE)","v":""},{"$f":"VLOOKUP(A32,Feuil1!$AI$8:$AT$29,10,FALSE)","v":""},{"$f":"VLOOKUP(A32,Feuil1!$AI$8:$AT$29,11,FALSE)","v":""},{"$f":"VLOOKUP(A32,Feuil1!$AI$8:$AT$29,12,FALSE)","v":""},null,{"$f":"IF(ISNA($AA$2*VLOOKUP(M32,$B$10:$N$20,13,FALSE)*HLOOKUP($M32,$B$25:$L$43,8,FALSE)/100),\"\",$AA$2*VLOOKUP(M32,$B$10:$N$20,13,FALSE)*HLOOKUP($M32,$B$25:$L$43,8,FALSE)/100)","v":""},{"$f":"IF('541'!O32=0,\"\",'541'!O32)","v":""}]
[{"$f":"Feuil1!AI15","v":""},{"$f":"VLOOKUP(A33,Feuil1!$AI$8:$AT$29,2,FALSE)","v":""},{"$f":"VLOOKUP(A33,Feuil1!$AI$8:$AT$29,3,FALSE)","v":""},{"$f":"VLOOKUP(A33,Feuil1!$AI$8:$AT$29,4,FALSE)","v":""},{"$f":"VLOOKUP(A33,Feuil1!$AI$8:$AT$29,5,FALSE)","v":""},{"$f":"VLOOKUP(A33,Feuil1!$AI$8:$AT$29,6,FALSE)","v":""},{"$f":"VLOOKUP(A33,Feuil1!$AI$8:$AT$29,7,FALSE)","v":""},{"$f":"VLOOKUP(A33,Feuil1!$AI$8:$AT$29,8,FALSE)","v":""},{"$f":"VLOOKUP(A33,Feuil1!$AI$8:$AT$29,9,FALSE)","v":""},{"$f":"VLOOKUP(A33,Feuil1!$AI$8:$AT$29,10,FALSE)","v":""},{"$f":"VLOOKUP(A33,Feuil1!$AI$8:$AT$29,11,FALSE)","v":""},{"$f":"VLOOKUP(A33,Feuil1!$AI$8:$AT$29,12,FALSE)","v":""},null,{"$f":"IF(ISNA($AA$2*VLOOKUP(M33,$B$10:$N$20,13,FALSE)*HLOOKUP($M33,$B$25:$L$43,9,FALSE)/100),\"\",$AA$2*VLOOKUP(M33,$B$10:$N$20,13,FALSE)*HLOOKUP($M33,$B$25:$L$43,9,FALSE)/100)","v":""},{"$f":"IF('541'!O33=0,\"\",'541'!O33)","v":""}]
[{"$f":"Feuil1!AI16","v":""},{"$f":"VLOOKUP(A34,Feuil1!$AI$8:$AT$29,2,FALSE)","v":""},{"$f":"VLOOKUP(A34,Feuil1!$AI$8:$AT$29,3,FALSE)","v":""},{"$f":"VLOOKUP(A34,Feuil1!$AI$8:$AT$29,4,FALSE)","v":""},{"$f":"VLOOKUP(A34,Feuil1!$AI$8:$AT$29,5,FALSE)","v":""},{"$f":"VLOOKUP(A34,Feuil1!$AI$8:$AT$29,6,FALSE)","v":""},{"$f":"VLOOKUP(A34,Feuil1!$AI$8:$AT$29,7,FALSE)","v":""},{"$f":"VLOOKUP(A34,Feuil1!$AI$8:$AT$29,8,FALSE)","v":""},{"$f":"VLOOKUP(A34,Feuil1!$AI$8:$AT$29,9,FALSE)","v":""},{"$f":"VLOOKUP(A34,Feuil1!$AI$8:$AT$29,10,FALSE)","v":""},{"$f":"VLOOKUP(A34,Feuil1!$AI$8:$AT$29,11,FALSE)","v":""},{"$f":"VLOOKUP(A34,Feuil1!$AI$8:$AT$29,12,FALSE)","v":""},null,{"$f":"IF(ISNA($AA$2*VLOOKUP(M34,$B$10:$N$20,13,FALSE)*HLOOKUP($M34,$B$25:$L$43,10,FALSE)/100),\"\",$AA$2*VLOOKUP(M34,$B$10:$N$20,13,FALSE)*HLOOKUP($M34,$B$25:$L$43,10,FALSE)/100)","v":""},{"$f":"IF('541'!O34=0,\"\",'541'!O34)","v":""}]
[{"$f":"Feuil1!AI17","v":""},{"$f":"VLOOKUP(A35,Feuil1!$AI$8:$AT$29,2,FALSE)","v":""},{"$f":"VLOOKUP(A35,Feuil1!$AI$8:$AT$29,3,FALSE)","v":""},{"$f":"VLOOKUP(A35,Feuil1!$AI$8:$AT$29,4,FALSE)","v":""},{"$f":"VLOOKUP(A35,Feuil1!$AI$8:$AT$29,5,FALSE)","v":""},{"$f":"VLOOKUP(A35,Feuil1!$AI$8:$AT$29,6,FALSE)","v":""},{"$f":"VLOOKUP(A35,Feuil1!$AI$8:$AT$29,7,FALSE)","v":""},{"$f":"VLOOKUP(A35,Feuil1!$AI$8:$AT$29,8,FALSE)","v":""},{"$f":"VLOOKUP(A35,Feuil1!$AI$8:$AT$29,9,FALSE)","v":""},{"$f":"VLOOKUP(A35,Feuil1!$AI$8:$AT$29,10,FALSE)","v":""},{"$f":"VLOOKUP(A35,Feuil1!$AI$8:$AT$29,11,FALSE)","v":""},{"$f":"VLOOKUP(A35,Feuil1!$AI$8:$AT$29,12,FALSE)","v":""},null,{"$f":"IF(ISNA($AA$2*VLOOKUP(M35,$B$10:$N$20,13,FALSE)*HLOOKUP($M35,$B$25:$L$43,11,FALSE)/100),\"\",$AA$2*VLOOKUP(M35,$B$10:$N$20,13,FALSE)*HLOOKUP($M35,$B$25:$L$43,11,FALSE)/100)","v":""},{"$f":"IF('541'!O35=0,\"\",'541'!O35)","v":""}]
[{"$f":"Feuil1!AI18","v":""},{"$f":"VLOOKUP(A36,Feuil1!$AI$8:$AT$29,2,FALSE)","v":""},{"$f":"VLOOKUP(A36,Feuil1!$AI$8:$AT$29,3,FALSE)","v":""},{"$f":"VLOOKUP(A36,Feuil1!$AI$8:$AT$29,4,FALSE)","v":""},{"$f":"VLOOKUP(A36,Feuil1!$AI$8:$AT$29,5,FALSE)","v":""},{"$f":"VLOOKUP(A36,Feuil1!$AI$8:$AT$29,6,FALSE)","v":""},{"$f":"VLOOKUP(A36,Feuil1!$AI$8:$AT$29,7,FALSE)","v":""},{"$f":"VLOOKUP(A36,Feuil1!$AI$8:$AT$29,8,FALSE)","v":""},{"$f":"VLOOKUP(A36,Feuil1!$AI$8:$AT$29,9,FALSE)","v":""},{"$f":"VLOOKUP(A36,Feuil1!$AI$8:$AT$29,10,FALSE)","v":""},{"$f":"VLOOKUP(A36,Feuil1!$AI$8:$AT$29,11,FALSE)","v":""},{"$f":"VLOOKUP(A36,Feuil1!$AI$8:$AT$29,12,FALSE)","v":""},null,{"$f":"IF(ISNA($AA$2*VLOOKUP(M36,$B$10:$N$20,13,FALSE)*HLOOKUP($M36,$B$25:$L$43,12,FALSE)/100),\"\",$AA$2*VLOOKUP(M36,$B$10:$N$20,13,FALSE)*HLOOKUP($M36,$B$25:$L$43,12,FALSE)/100)","v":""},{"$f":"IF('541'!O36=0,\"\",'541'!O36)","v":""}]
[{"$f":"Feuil1!AI19","v":""},{"$f":"VLOOKUP(A37,Feuil1!$AI$8:$AT$29,2,FALSE)","v":""},{"$f":"VLOOKUP(A37,Feuil1!$AI$8:$AT$29,3,FALSE)","v":""},{"$f":"VLOOKUP(A37,Feuil1!$AI$8:$AT$29,4,FALSE)","v":""},{"$f":"VLOOKUP(A37,Feuil1!$AI$8:$AT$29,5,FALSE)","v":""},{"$f":"VLOOKUP(A37,Feuil1!$AI$8:$AT$29,6,FALSE)","v":""},{"$f":"VLOOKUP(A37,Feuil1!$AI$8:$AT$29,7,FALSE)","v":""},{"$f":"VLOOKUP(A37,Feuil1!$AI$8:$AT$29,8,FALSE)","v":""},{"$f":"VLOOKUP(A37,Feuil1!$AI$8:$AT$29,9,FALSE)","v":""},{"$f":"VLOOKUP(A37,Feuil1!$AI$8:$AT$29,10,FALSE)","v":""},{"$f":"VLOOKUP(A37,Feuil1!$AI$8:$AT$29,11,FALSE)","v":""},{"$f":"VLOOKUP(A37,Feuil1!$AI$8:$AT$29,12,FALSE)","v":""},null,{"$f":"IF(ISNA($AA$2*VLOOKUP(M37,$B$10:$N$20,13,FALSE)*HLOOKUP($M37,$B$25:$L$43,13,FALSE)/100),\"\",$AA$2*VLOOKUP(M37,$B$10:$N$20,13,FALSE)*HLOOKUP($M37,$B$25:$L$43,13,FALSE)/100)","v":""},{"$f":"IF('541'!O37=0,\"\",'541'!O37)","v":""}]
[{"$f":"Feuil1!AI20","v":""},{"$f":"VLOOKUP(A38,Feuil1!$AI$8:$AT$29,2,FALSE)","v":""},{"$f":"VLOOKUP(A38,Feuil1!$AI$8:$AT$29,3,FALSE)","v":""},{"$f":"VLOOKUP(A38,Feuil1!$AI$8:$AT$29,4,FALSE)","v":""},{"$f":"VLOOKUP(A38,Feuil1!$AI$8:$AT$29,5,FALSE)","v":""},{"$f":"VLOOKUP(A38,Feuil1!$AI$8:$AT$29,6,FALSE)","v":""},{"$f":"VLOOKUP(A38,Feuil1!$AI$8:$AT$29,7,FALSE)","v":""},{"$f":"VLOOKUP(A38,Feuil1!$AI$8:$AT$29,8,FALSE)","v":""},{"$f":"VLOOKUP(A38,Feuil1!$AI$8:$AT$29,9,FALSE)","v":""},{"$f":"VLOOKUP(A38,Feuil1!$AI$8:$AT$29,10,FALSE)","v":""},{"$f":"VLOOKUP(A38,Feuil1!$AI$8:$AT$29,11,FALSE)","v":""},{"$f":"VLOOKUP(A38,Feuil1!$AI$8:$AT$29,12,FALSE)","v":""},null,{"$f":"IF(ISNA($AA$2*VLOOKUP(M38,$B$10:$N$20,13,FALSE)*HLOOKUP($M38,$B$25:$L$43,14,FALSE)/100),\"\",$AA$2*VLOOKUP(M38,$B$10:$N$20,13,FALSE)*HLOOKUP($M38,$B$25:$L$43,14,FALSE)/100)","v":""},{"$f":"IF('541'!O38=0,\"\",'541'!O38)","v":""}]
[{"$f":"Feuil1!AI21","v":""},{"$f":"VLOOKUP(A39,Feuil1!$AI$8:$AT$29,2,FALSE)","v":""},{"$f":"VLOOKUP(A39,Feuil1!$AI$8:$AT$29,3,FALSE)","v":""},{"$f":"VLOOKUP(A39,Feuil1!$AI$8:$AT$29,4,FALSE)","v":""},{"$f":"VLOOKUP(A39,Feuil1!$AI$8:$AT$29,5,FALSE)","v":""},{"$f":"VLOOKUP(A39,Feuil1!$AI$8:$AT$29,6,FALSE)","v":""},{"$f":"VLOOKUP(A39,Feuil1!$AI$8:$AT$29,7,FALSE)","v":""},{"$f":"VLOOKUP(A39,Feuil1!$AI$8:$AT$29,8,FALSE)","v":""},{"$f":"VLOOKUP(A39,Feuil1!$AI$8:$AT$29,9,FALSE)","v":""},{"$f":"VLOOKUP(A39,Feuil1!$AI$8:$AT$29,10,FALSE)","v":""},{"$f":"VLOOKUP(A39,Feuil1!$AI$8:$AT$29,11,FALSE)","v":""},{"$f":"VLOOKUP(A39,Feuil1!$AI$8:$AT$29,12,FALSE)","v":""},null,{"$f":"IF(ISNA($AA$2*VLOOKUP(M39,$B$10:$N$20,13,FALSE)*HLOOKUP($M39,$B$25:$L$43,15,FALSE)/100),\"\",$AA$2*VLOOKUP(M39,$B$10:$N$20,13,FALSE)*HLOOKUP($M39,$B$25:$L$43,15,FALSE)/100)","v":""},{"$f":"IF('541'!O39=0,\"\",'541'!O39)","v":""}]
[{"$f":"Feuil1!AI22","v":""},{"$f":"VLOOKUP(A40,Feuil1!$AI$8:$AT$29,2,FALSE)","v":""},{"$f":"VLOOKUP(A40,Feuil1!$AI$8:$AT$29,3,FALSE)","v":""},{"$f":"VLOOKUP(A40,Feuil1!$AI$8:$AT$29,4,FALSE)","v":""},{"$f":"VLOOKUP(A40,Feuil1!$AI$8:$AT$29,5,FALSE)","v":""},{"$f":"VLOOKUP(A40,Feuil1!$AI$8:$AT$29,6,FALSE)","v":""},{"$f":"VLOOKUP(A40,Feuil1!$AI$8:$AT$29,7,FALSE)","v":""},{"$f":"VLOOKUP(A40,Feuil1!$AI$8:$AT$29,8,FALSE)","v":""},{"$f":"VLOOKUP(A40,Feuil1!$AI$8:$AT$29,9,FALSE)","v":""},{"$f":"VLOOKUP(A40,Feuil1!$AI$8:$AT$29,10,FALSE)","v":""},{"$f":"VLOOKUP(A40,Feuil1!$AI$8:$AT$29,11,FALSE)","v":""},{"$f":"VLOOKUP(A40,Feuil1!$AI$8:$AT$29,12,FALSE)","v":""},null,{"$f":"IF(ISNA($AA$2*VLOOKUP(M40,$B$10:$N$20,13,FALSE)*HLOOKUP($M40,$B$25:$L$43,16,FALSE)/100),\"\",$AA$2*VLOOKUP(M40,$B$10:$N$20,13,FALSE)*HLOOKUP($M40,$B$25:$L$43,16,FALSE)/100)","v":""},{"$f":"IF('541'!O40=0,\"\",'541'!O40)","v":""}]
[{"$f":"Feuil1!AI23","v":""},{"$f":"VLOOKUP(A41,Feuil1!$AI$8:$AT$29,2,FALSE)","v":""},{"$f":"VLOOKUP(A41,Feuil1!$AI$8:$AT$29,3,FALSE)","v":""},{"$f":"VLOOKUP(A41,Feuil1!$AI$8:$AT$29,4,FALSE)","v":""},{"$f":"VLOOKUP(A41,Feuil1!$AI$8:$AT$29,5,FALSE)","v":""},{"$f":"VLOOKUP(A41,Feuil1!$AI$8:$AT$29,6,FALSE)","v":""},{"$f":"VLOOKUP(A41,Feuil1!$AI$8:$AT$29,7,FALSE)","v":""},{"$f":"VLOOKUP(A41,Feuil1!$AI$8:$AT$29,8,FALSE)","v":""},{"$f":"VLOOKUP(A41,Feuil1!$AI$8:$AT$29,9,FALSE)","v":""},{"$f":"VLOOKUP(A41,Feuil1!$AI$8:$AT$29,10,FALSE)","v":""},{"$f":"VLOOKUP(A41,Feuil1!$AI$8:$AT$29,11,FALSE)","v":""},{"$f":"VLOOKUP(A41,Feuil1!$AI$8:$AT$29,12,FALSE)","v":""},null,{"$f":"IF(ISNA($AA$2*VLOOKUP(M41,$B$10:$N$20,13,FALSE)*HLOOKUP($M41,$B$25:$L$43,17,FALSE)/100),\"\",$AA$2*VLOOKUP(M41,$B$10:$N$20,13,FALSE)*HLOOKUP($M41,$B$25:$L$43,17,FALSE)/100)","v":""},{"$f":"IF('541'!O41=0,\"\",'541'!O41)","v":""}]
[{"$f":"Feuil1!AI24","v":""},{"$f":"VLOOKUP(A42,Feuil1!$AI$8:$AT$29,2,FALSE)","v":""},{"$f":"VLOOKUP(A42,Feuil1!$AI$8:$AT$29,3,FALSE)","v":""},{"$f":"VLOOKUP(A42,Feuil1!$AI$8:$AT$29,4,FALSE)","v":""},{"$f":"VLOOKUP(A42,Feuil1!$AI$8:$AT$29,5,FALSE)","v":""},{"$f":"VLOOKUP(A42,Feuil1!$AI$8:$AT$29,6,FALSE)","v":""},{"$f":"VLOOKUP(A42,Feuil1!$AI$8:$AT$29,7,FALSE)","v":""},{"$f":"VLOOKUP(A42,Feuil1!$AI$8:$AT$29,8,FALSE)","v":""},{"$f":"VLOOKUP(A42,Feuil1!$AI$8:$AT$29,9,FALSE)","v":""},{"$f":"VLOOKUP(A42,Feuil1!$AI$8:$AT$29,10,FALSE)","v":""},{"$f":"VLOOKUP(A42,Feuil1!$AI$8:$AT$29,11,FALSE)","v":""},{"$f":"VLOOKUP(A42,Feuil1!$AI$8:$AT$29,12,FALSE)","v":""},null,{"$f":"IF(ISNA($AA$2*VLOOKUP(M42,$B$10:$N$20,13,FALSE)*HLOOKUP($M42,$B$25:$L$43,18,FALSE)/100),\"\",$AA$2*VLOOKUP(M42,$B$10:$N$20,13,FALSE)*HLOOKUP($M42,$B$25:$L$43,18,FALSE)/100)","v":""},{"$f":"IF('541'!O42=0,\"\",'541'!O42)","v":""}]
[{"$f":"Feuil1!AI25","v":""},{"$f":"VLOOKUP(A43,Feuil1!$AI$8:$AT$29,2,FALSE)","v":""},{"$f":"VLOOKUP(A43,Feuil1!$AI$8:$AT$29,3,FALSE)","v":""},{"$f":"VLOOKUP(A43,Feuil1!$AI$8:$AT$29,4,FALSE)","v":""},{"$f":"VLOOKUP(A43,Feuil1!$AI$8:$AT$29,5,FALSE)","v":""},{"$f":"VLOOKUP(A43,Feuil1!$AI$8:$AT$29,6,FALSE)","v":""},{"$f":"VLOOKUP(A43,Feuil1!$AI$8:$AT$29,7,FALSE)","v":""},{"$f":"VLOOKUP(A43,Feuil1!$AI$8:$AT$29,8,FALSE)","v":""},{"$f":"VLOOKUP(A43,Feuil1!$AI$8:$AT$29,9,FALSE)","v":""},{"$f":"VLOOKUP(A43,Feuil1!$AI$8:$AT$29,10,FALSE)","v":""},{"$f":"VLOOKUP(A43,Feuil1!$AI$8:$AT$29,11,FALSE)","v":""},{"$f":"VLOOKUP(A43,Feuil1!$AI$8:$AT$29,12,FALSE)","v":""},null,{"$f":"IF(ISNA($AA$2*VLOOKUP(M43,$B$10:$N$20,13,FALSE)*HLOOKUP($M43,$B$25:$L$43,19,FALSE)/100),\"\",$AA$2*VLOOKUP(M43,$B$10:$N$20,13,FALSE)*HLOOKUP($M43,$B$25:$L$43,19,FALSE)/100)","v":""},{"$f":"IF('541'!O43=0,\"\",'541'!O43)","v":""}]
[{"$f":"Feuil1!AI26","v":""},{"$f":"VLOOKUP(A44,Feuil1!$AI$8:$AT$29,2,FALSE)","v":""},{"$f":"VLOOKUP(A44,Feuil1!$AI$8:$AT$29,3,FALSE)","v":""},{"$f":"VLOOKUP(A44,Feuil1!$AI$8:$AT$29,4,FALSE)","v":""},{"$f":"VLOOKUP(A44,Feuil1!$AI$8:$AT$29,5,FALSE)","v":""},{"$f":"VLOOKUP(A44,Feuil1!$AI$8:$AT$29,6,FALSE)","v":""},{"$f":"VLOOKUP(A44,Feuil1!$AI$8:$AT$29,7,FALSE)","v":""},{"$f":"VLOOKUP(A44,Feuil1!$AI$8:$AT$29,8,FALSE)","v":""},{"$f":"VLOOKUP(A44,Feuil1!$AI$8:$AT$29,9,FALSE)","v":""},{"$f":"VLOOKUP(A44,Feuil1!$AI$8:$AT$29,10,FALSE)","v":""},{"$f":"VLOOKUP(A44,Feuil1!$AI$8:$AT$29,11,FALSE)","v":""},{"$f":"VLOOKUP(A44,Feuil1!$AI$8:$AT$29,12,FALSE)","v":""},null,null,{"$f":"IF('541'!O44=0,\"\",'541'!O44)","v":""}]
[{"$f":"Feuil1!AI27","v":""},{"$f":"VLOOKUP(A45,Feuil1!$AI$8:$AT$29,2,FALSE)","v":""},{"$f":"VLOOKUP(A45,Feuil1!$AI$8:$AT$29,3,FALSE)","v":""},{"$f":"VLOOKUP(A45,Feuil1!$AI$8:$AT$29,4,FALSE)","v":""},{"$f":"VLOOKUP(A45,Feuil1!$AI$8:$AT$29,5,FALSE)","v":""},{"$f":"VLOOKUP(A45,Feuil1!$AI$8:$AT$29,6,FALSE)","v":""},{"$f":"VLOOKUP(A45,Feuil1!$AI$8:$AT$29,7,FALSE)","v":""},{"$f":"VLOOKUP(A45,Feuil1!$AI$8:$AT$29,8,FALSE)","v":""},{"$f":"VLOOKUP(A45,Feuil1!$AI$8:$AT$29,9,FALSE)","v":""},{"$f":"VLOOKUP(A45,Feuil1!$AI$8:$AT$29,10,FALSE)","v":""},{"$f":"VLOOKUP(A45,Feuil1!$AI$8:$AT$29,11,FALSE)","v":""},{"$f":"VLOOKUP(A45,Feuil1!$AI$8:$AT$29,12,FALSE)","v":""},null,null,{"$f":"IF('541'!O45=0,\"\",'541'!O45)","v":""}]
[{"$f":"Feuil1!AI28","v":""},{"$f":"VLOOKUP(A46,Feuil1!$AI$8:$AT$29,2,FALSE)","v":""},{"$f":"VLOOKUP(A46,Feuil1!$AI$8:$AT$29,3,FALSE)","v":""},{"$f":"VLOOKUP(A46,Feuil1!$AI$8:$AT$29,4,FALSE)","v":""},{"$f":"VLOOKUP(A46,Feuil1!$AI$8:$AT$29,5,FALSE)","v":""},{"$f":"VLOOKUP(A46,Feuil1!$AI$8:$AT$29,6,FALSE)","v":""},{"$f":"VLOOKUP(A46,Feuil1!$AI$8:$AT$29,7,FALSE)","v":""},{"$f":"VLOOKUP(A46,Feuil1!$AI$8:$AT$29,8,FALSE)","v":""},{"$f":"VLOOKUP(A46,Feuil1!$AI$8:$AT$29,9,FALSE)","v":""},{"$f":"VLOOKUP(A46,Feuil1!$AI$8:$AT$29,10,FALSE)","v":""},{"$f":"VLOOKUP(A46,Feuil1!$AI$8:$AT$29,11,FALSE)","v":""},{"$f":"VLOOKUP(A46,Feuil1!$AI$8:$AT$29,12,FALSE)","v":""},null,null,{"$f":"IF('541'!O46=0,\"\",'541'!O46)","v":""}]
[{"$f":"Feuil1!AI29","v":""},{"$f":"VLOOKUP(A47,Feuil1!$AI$8:$AT$29,2,FALSE)","v":""},{"$f":"VLOOKUP(A47,Feuil1!$AI$8:$AT$29,3,FALSE)","v":""},{"$f":"VLOOKUP(A47,Feuil1!$AI$8:$AT$29,4,FALSE)","v":""},{"$f":"VLOOKUP(A47,Feuil1!$AI$8:$AT$29,5,FALSE)","v":""},{"$f":"VLOOKUP(A47,Feuil1!$AI$8:$AT$29,6,FALSE)","v":""},{"$f":"VLOOKUP(A47,Feuil1!$AI$8:$AT$29,7,FALSE)","v":""},{"$f":"VLOOKUP(A47,Feuil1!$AI$8:$AT$29,8,FALSE)","v":""},{"$f":"VLOOKUP(A47,Feuil1!$AI$8:$AT$29,9,FALSE)","v":""},{"$f":"VLOOKUP(A47,Feuil1!$AI$8:$AT$29,10,FALSE)","v":""},{"$f":"VLOOKUP(A47,Feuil1!$AI$8:$AT$29,11,FALSE)","v":""},{"$f":"VLOOKUP(A47,Feuil1!$AI$8:$AT$29,12,FALSE)","v":""},null,null,{"$f":"IF('541'!O47=0,\"\",'541'!O47)","v":""}]

{"sheet":"442","index":14,"n_rows":47,"n_cols":15,"rows_kept":47,"cut":false,"hidden":true,"merged":[]}
[]
[]
[]
[]
[]
[]
[]
[]
[]
[]
[]
[]
[]
[]
[]
[]
[]
[]
[]
[]
[]
[]
["ordre importance",10,1,9,11,6,5,4,8,7,2,3]
[null,"position"]
["Joueur",1,2,3,4,5,6,7,8,9,10,11,null,null,"Forcé ???"]
[{"$f":"Feuil1!AI8","v":""},{"$f":"VLOOKUP(A26,Feuil1!$AI$8:$AT$29,2,FALSE)","v":""},{"$f":"VLOOKUP(A26,Feuil1!$AI$8:$AT$29,3,FALSE)","v":""},{"$f":"VLOOKUP(A26,Feuil1!$AI$8:$AT$29,4,FALSE)","v":""},{"$f":"VLOOKUP(A26,Feuil1!$AI$8:$AT$29,5,FALSE)","v":""},{"$f":"VLOOKUP(A26,Feuil1!$AI$8:$AT$29,6,FALSE)","v":""},{"$f":"VLOOKUP(A26,Feuil1!$AI$8:$AT$29,7,FALSE)","v":""},{"$f":"VLOOKUP(A26,Feuil1!$AI$8:$AT$29,8,FALSE)","v":""},{"$f":"VLOOKUP(A26,Feuil1!$AI$8:$AT$29,9,FALSE)","v":""},{"$f":"VLOOKUP(A26,Feuil1!$AI$8:$AT$29,10,FALSE)","v":""},{"$f":"VLOOKUP(A26,Feuil1!$AI$8:$AT$29,11,FALSE)","v":""},{"$f":"VLOOKUP(A26,Feuil1!$AI$8:$AT$29,12,FALSE)","v":""},4,{"$f":"IF(ISNA($AA$2*VLOOKUP(M26,$B$10:$N$20,13,FALSE)*HLOOKUP($M26,$B$25:$L$43,2,FALSE)/100),\"\",$AA$2*VLOOKUP(M26,$B$10:$N$20,13,FALSE)*HLOOKUP($M26,$B$25:$L$43,,FALSE)/100)","v":""},{"$f":"IF('541'!O26=0,\"\",'541'!O26)","v":""}]
[{"$f":"Feuil1!AI9","v":""},{"$f":"VLOOKUP(A27,Feuil1!$AI$8:$AT$29,2,FALSE)","v":""},{"$f":"VLOOKUP(A27,Feuil1!$AI$8:$AT$29,3,FALSE)","v":""},{"$f":"VLOOKUP(A27,Feuil1!$AI$8:$AT$29,4,FALSE)","v":""},{"$f":"VLOOKUP(A27,Feuil1!$AI$8:$AT$29,5,FALSE)","v":""},{"$f":"VLOOKUP(A27,Feuil1!$AI$8:$AT$29,6,FALSE)","v":""},{"$f":"VLOOKUP(A27,Feuil1!$AI$8:$AT$29,7,FALSE)","v":""},{"$f":"VLOOKUP(A27,Feuil1!$AI$8:$AT$29,8,FALSE)","v":""},{"$f":"VLOOKUP(A27,Feuil1!$AI$8:$AT$29,9,FALSE)","v":""},{"$f":"VLOOKUP(A27,Feuil1!$AI$8:$AT$29,10,FALSE)","v":""},{"$f":"VLOOKUP(A27,Feuil1!$AI$8:$AT$29,11,FALSE)","v":""},{"$f":"VLOOKUP(A27,Feuil1!$AI$8:$AT$29,12,FALSE)","v":""},2,{"$f":"IF(ISNA($AA$2*VLOOKUP(M27,$B$10:$N$20,13,FALSE)*HLOOKUP($M27,$B$25:$L$43,3,FALSE)/100),\"\",$AA$2*VLOOKUP(M27,$B$10:$N$20,13,FALSE)*HLOOKUP($M27,$B$25:$L$43,3,FALSE)/100)","v":""},{"$f":"IF('541'!O27=0,\"\",'541'!O27)","v":""}]
[{"$f":"Feuil1!AI10","v":""},{"$f":"VLOOKUP(A28,Feuil1!$AI$8:$AT$29,2,FALSE)","v":""},{"$f":"VLOOKUP(A28,Feuil1!$AI$8:$AT$29,3,FALSE)","v":""},{"$f":"VLOOKUP(A28,Feuil1!$AI$8:$AT$29,4,FALSE)","v":""},{"$f":"VLOOKUP(A28,Feuil1!$AI$8:$AT$29,5,FALSE)","v":""},{"$f":"VLOOKUP(A28,Feuil1!$AI$8:$AT$29,6,FALSE)","v":""},{"$f":"VLOOKUP(A28,Feuil1!$AI$8:$AT$29,7,FALSE)","v":""},{"$f":"VLOOKUP(A28,Feuil1!$AI$8:$AT$29,8,FALSE)","v":""},{"$f":"VLOOKUP(A28,Feuil1!$AI$8:$AT$29,9,FALSE)","v":""},{"$f":"VLOOKUP(A28,Feuil1!$AI$8:$AT$29,10,FALSE)","v":""},{"$f":"VLOOKUP(A28,Feuil1!$AI$8:$AT$29,11,FALSE)","v":""},{"$f":"VLOOKUP(A28,Feuil1!$AI$8:$AT$29,12,FALSE)","v":""},11,{"$f":"IF(ISNA($AA$2*VLOOKUP(M28,$B$10:$N$20,13,FALSE)*HLOOKUP($M28,$B$25:$L$43,4,FALSE)/100),\"\",$AA$2*VLOOKUP(M28,$B$10:$N$20,13,FALSE)*HLOOKUP($M28,$B$25:$L$43,4,FALSE)/100)","v":""},{"$f":"IF('541'!O28=0,\"\",'541'!O28)","v":""}]
[{"$f":"Feuil1!AI11","v":""},{"$f":"VLOOKUP(A29,Feuil1!$AI$8:$AT$29,2,FALSE)","v":""},{"$f":"VLOOKUP(A29,Feuil1!$AI$8:$AT$29,3,FALSE)","v":""},{"$f":"VLOOKUP(A29,Feuil1!$AI$8:$AT$29,4,FALSE)","v":""},{"$f":"VLOOKUP(A29,Feuil1!$AI$8:$AT$29,5,FALSE)","v":""},{"$f":"VLOOKUP(A29,Feuil1!$AI$8:$AT$29,6,FALSE)","v":""},{"$f":"VLOOKUP(A29,Feuil1!$AI$8:$AT$29,7,FALSE)","v":""},{"$f":"VLOOKUP(A29,Feuil1!$AI$8:$AT$29,8,FALSE)","v":""},{"$f":"VLOOKUP(A29,Feuil1!$AI$8:$AT$29,9,FALSE)","v":""},{"$f":"VLOOKUP(A29,Feuil1!$AI$8:$AT$29,10,FALSE)","v":""},{"$f":"VLOOKUP(A29,Feuil1!$AI$8:$AT$29,11,FALSE)","v":""},{"$f":"VLOOKUP(A29,Feuil1!$AI$8:$AT$29,12,FALSE)","v":""},"",{"$f":"IF(ISNA($AA$2*VLOOKUP(M29,$B$10:$N$20,13,FALSE)*HLOOKUP($M29,$B$25:$L$43,5,FALSE)/100),\"\",$AA$2*VLOOKUP(M29,$B$10:$N$20,13,FALSE)*HLOOKUP($M29,$B$25:$L$43,5,FALSE)/100)","v":""},{"$f":"IF('541'!O29=0,\"\",'541'!O29)","v":""}]
[{"$f":"Feuil1!AI12","v":""},{"$f":"VLOOKUP(A30,Feuil1!$AI$8:$AT$29,2,FALSE)","v":""},{"$f":"VLOOKUP(A30,Feuil1!$AI$8:$AT$29,3,FALSE)","v":""},{"$f":"VLOOKUP(A30,Feuil1!$AI$8:$AT$29,4,FALSE)","v":""},{"$f":"VLOOKUP(A30,Feuil1!$AI$8:$AT$29,5,FALSE)","v":""},{"$f":"VLOOKUP(A30,Feuil1!$AI$8:$AT$29,6,FALSE)","v":""},{"$f":"VLOOKUP(A30,Feuil1!$AI$8:$AT$29,7,FALSE)","v":""},{"$f":"VLOOKUP(A30,Feuil1!$AI$8:$AT$29,8,FALSE)","v":""},{"$f":"VLOOKUP(A30,Feuil1!$AI$8:$AT$29,9,FALSE)","v":""},{"$f":"VLOOKUP(A30,Feuil1!$AI$8:$AT$29,10,FALSE)","v":""},{"$f":"VLOOKUP(A30,Feuil1!$AI$8:$AT$29,11,FALSE)","v":""},{"$f":"VLOOKUP(A30,Feuil1!$AI$8:$AT$29,12,FALSE)","v":""},5,{"$f":"IF(ISNA($AA$2*VLOOKUP(M30,$B$10:$N$20,13,FALSE)*HLOOKUP($M30,$B$25:$L$43,6,FALSE)/100),\"\",$AA$2*VLOOKUP(M30,$B$10:$N$20,13,FALSE)*HLOOKUP($M30,$B$25:$L$43,6,FALSE)/100)","v":""},{"$f":"IF('541'!O30=0,\"\",'541'!O30)","v":""}]
[{"$f":"Feuil1!AI13","v":""},{"$f":"VLOOKUP(A31,Feuil1!$AI$8:$AT$29,2,FALSE)","v":""},{"$f":"VLOOKUP(A31,Feuil1!$AI$8:$AT$29,3,FALSE)","v":""},{"$f":"VLOOKUP(A31,Feuil1!$AI$8:$AT$29,4,FALSE)","v":""},{"$f":"VLOOKUP(A31,Feuil1!$AI$8:$AT$29,5,FALSE)","v":""},{"$f":"VLOOKUP(A31,Feuil1!$AI$8:$AT$29,6,FALSE)","v":""},{"$f":"VLOOKUP(A31,Feuil1!$AI$8:$AT$29,7,FALSE)","v":""},{"$f":"VLOOKUP(A31,Feuil1!$AI$8:$AT$29,8,FALSE)","v":""},{"$f":"VLOOKUP(A31,Feuil1!$AI$8:$AT$29,9,FALSE)","v":""},{"$f":"VLOOKUP(A31,Feuil1!$AI$8:$AT$29,10,FALSE)","v":""},{"$f":"VLOOKUP(A31,Feuil1!$AI$8:$AT$29,11,FALSE)","v":""},{"$f":"VLOOKUP(A31,Feuil1!$AI$8:$AT$29,12,FALSE)","v":""},6,{"$f":"IF(ISNA($AA$2*VLOOKUP(M31,$B$10:$N$20,13,FALSE)*HLOOKUP($M31,$B$25:$L$43,7,FALSE)/100),\"\",$AA$2*VLOOKUP(M31,$B$10:$N$20,13,FALSE)*HLOOKUP($M31,$B$25:$L$43,7,FALSE)/100)","v":""},{"$f":"IF('541'!O31=0,\"\",'541'!O31)","v":""}]
[{"$f":"Feuil1!AI14","v":""},{"$f":"VLOOKUP(A32,Feuil1!$AI$8:$AT$29,2,FALSE)","v":""},{"$f":"VLOOKUP(A32,Feuil1!$AI$8:$AT$29,3,FALSE)","v":""},{"$f":"VLOOKUP(A32,Feuil1!$AI$8:$AT$29,4,FALSE)","v":""},{"$f":"VLOOKUP(A32,Feuil1!$AI$8:$AT$29,5,FALSE)","v":""},{"$f":"VLOOKUP(A32,Feuil1!$AI$8:$AT$29,6,FALSE)","v":""},{"$f":"VLOOKUP(A32,Feuil1!$AI$8:$AT$29,7,FALSE)","v":""},{"$f":"VLOOKUP(A32,Feuil1!$AI$8:$AT$29,8,FALSE)","v":""},{"$f":"VLOOKUP(A32,Feuil1!$AI$8:$AT$29,9,FALSE)","v":""},{"$f":"VLOOKUP(A32,Feuil1!$AI$8:$AT$29,10,FALSE)","v":""},{"$f":"VLOOKUP(A32,Feuil1!$AI$8:$AT$29,11,FALSE)","v":""},{"$f":"VLOOKUP(A32,Feuil1!$AI$8:$AT$29,12,FALSE)","v":""},8,{"$f":"IF(ISNA($AA$2*VLOOKUP(M32,$B$10:$N$20,13,FALSE)*HLOOKUP($M32,$B$25:$L$43,8,FALSE)/100),\"\",$AA$2*VLOOKUP(M32,$B$10:$N$20,13,FALSE)*HLOOKUP($M32,$B$25:$L$43,8,FALSE)/100)","v":""},{"$f":"IF('541'!O32=0,\"\",'541'!O32)","v":""}]
[{"$f":"Feuil1!AI15","v":""},{"$f":"VLOOKUP(A33,Feuil1!$AI$8:$AT$29,2,FALSE)","v":""},{"$f":"VLOOKUP(A33,Feuil1!$AI$8:$AT$29,3,FALSE)","v":""},{"$f":"VLOOKUP(A33,Feuil1!$AI$8:$AT$29,4,FALSE)","v":""},{"$f":"VLOOKUP(A33,Feuil1!$AI$8:$AT$29,5,FALSE)","v":""},{"$f":"VLOOKUP(A33,Feuil1!$AI$8:$AT$29,6,FALSE)","v":""},{"$f":"VLOOKUP(A33,Feuil1!$AI$8:$AT$29,7,FALSE)","v":""},{"$f":"VLOOKUP(A33,Feuil1!$AI$8:$AT$29,8,FALSE)","v":""},{"$f":"VLOOKUP(A33,Feuil1!$AI$8:$AT$29,9,FALSE)","v":""},{"$f":"VLOOKUP(A33,Feuil1!$AI$8:$AT$29,10,FALSE)","v":""},{"$f":"VLOOKUP(A33,Feuil1!$AI$8:$AT$29,11,FALSE)","v":""},{"$f":"VLOOKUP(A33,Feuil1!$AI$8:$AT$29,12,FALSE)","v":""},10,{"$f":"IF(ISNA($AA$2*VLOOKUP(M33,$B$10:$N$20,13,FALSE)*HLOOKUP($M33,$B$25:$L$43,9,FALSE)/100),\"\",$AA$2*VLOOKUP(M33,$B$10:$N$20,13,FALSE)*HLOOKUP($M33,$B$25:$L$43,9,FALSE)/100)","v":""},{"$f":"IF('541'!O33=0,\"\",'541'!O33)","v":""}]
[{"$f":"Feuil1!AI16","v":""},{"$f":"VLOOKUP(A34,Feuil1!$AI$8:$AT$29,2,FALSE)","v":""},{"$f":"VLOOKUP(A34,Feuil1!$AI$8:$AT$29,3,FALSE)","v":""},{"$f":"VLOOKUP(A34,Feuil1!$AI$8:$AT$29,4,FALSE)","v":""},{"$f":"VLOOKUP(A34,Feuil1!$AI$8:$AT$29,5,FALSE)","v":""},{"$f":"VLOOKUP(A34,Feuil1!$AI$8:$AT$29,6,FALSE)","v":""},{"$f":"VLOOKUP(A34,Feuil1!$AI$8:$AT$29,7,FALSE)","v":""},{"$f":"VLOOKUP(A34,Feuil1!$AI$8:$AT$29,8,FALSE)","v":""},{"$f":"VLOOKUP(A34,Feuil1!$AI$8:$AT$29,9,FALSE)","v":""},{"$f":"VLOOKUP(A34,Feuil1!$AI$8:$AT$29,10,FALSE)","v":""},{"$f":"VLOOKUP(A34,Feuil1!$AI$8:$AT$29,11,FALSE)","v":""},{"$f":"VLOOKUP(A34,Feuil1!$AI$8:$AT$29,12,FALSE)","v":""},1,{"$f":"IF(ISNA($AA$2*VLOOKUP(M34,$B$10:$N$20,13,FALSE)*HLOOKUP($M34,$B$25:$L$43,10,FALSE)/100),\"\",$AA$2*VLOOKUP(M34,$B$10:$N$20,13,FALSE)*HLOOKUP($M34,$B$25:$L$43,10,FALSE)/100)","v":""},{"$f":"IF('541'!O34=0,\"\",'541'!O34)","v":""}]
[{"$f":"Feuil1!AI17","v":""},{"$f":"VLOOKUP(A35,Feuil1!$AI$8:$AT$29,2,FALSE)","v":""},{"$f":"VLOOKUP(A35,Feuil1!$AI$8:$AT$29,3,FALSE)","v":""},{"$f":"VLOOKUP(A35,Feuil1!$AI$8:$AT$29,4,FALSE)","v":""},{"$f":"VLOOKUP(A35,Feuil1!$AI$8:$AT$29,5,FALSE)","v":""},{"$f":"VLOOKUP(A35,Feuil1!$AI$8:$AT$29,6,FALSE)","v":""},{"$f":"VLOOKUP(A35,Feuil1!$AI$8:$AT$29,7,FALSE)","v":""},{"$f":"VLOOKUP(A35,Feuil1!$AI$8:$AT$29,8,FALSE)","v":""},{"$f":"VLOOKUP(A35,Feuil1!$AI$8:$AT$29,9,FALSE)","v":""},{"$f":"VLOOKUP(A35,Feuil1!$AI$8:$AT$29,10,FALSE)","v":""},{"$f":"VLOOKUP(A35,Feuil1!$AI$8:$AT$29,11,FALSE)","v":""},{"$f":"VLOOKUP(A35,Feuil1!$AI$8:$AT$29,12,FALSE)","v":""},"",{"$f":"IF(ISNA($AA$2*VLOOKUP(M35,$B$10:$N$20,13,FALSE)*HLOOKUP($M35,$B$25:$L$43,11,FALSE)/100),\"\",$AA$2*VLOOKUP(M35,$B$10:$N$20,13,FALSE)*HLOOKUP($M35,$B$25:$L$43,11,FALSE)/100)","v":""},{"$f":"IF('541'!O35=0,\"\",'541'!O35)","v":""}]
[{"$f":"Feuil1!AI18","v":""},{"$f":"VLOOKUP(A36,Feuil1!$AI$8:$AT$29,2,FALSE)","v":""},{"$f":"VLOOKUP(A36,Feuil1!$AI$8:$AT$29,3,FALSE)","v":""},{"$f":"VLOOKUP(A36,Feuil1!$AI$8:$AT$29,4,FALSE)","v":""},{"$f":"VLOOKUP(A36,Feuil1!$AI$8:$AT$29,5,FALSE)","v":""},{"$f":"VLOOKUP(A36,Feuil1!$AI$8:$AT$29,6,FALSE)","v":""},{"$f":"VLOOKUP(A36,Feuil1!$AI$8:$AT$29,7,FALSE)","v":""},{"$f":"VLOOKUP(A36,Feuil1!$AI$8:$AT$29,8,FALSE)","v":""},{"$f":"VLOOKUP(A36,Feuil1!$AI$8:$AT$29,9,FALSE)","v":""},{"$f":"VLOOKUP(A36,Feuil1!$AI$8:$AT$29,10,FALSE)","v":""},{"$f":"VLOOKUP(A36,Feuil1!$AI$8:$AT$29,11,FALSE)","v":""},{"$f":"VLOOKUP(A36,Feuil1!$AI$8:$AT$29,12,FALSE)","v":""},9,{"$f":"IF(ISNA($AA$2*VLOOKUP(M36,$B$10:$N$20,13,FALSE)*HLOOKUP($M36,$B$25:$L$43,12,FALSE)/100),\"\",$AA$2*VLOOKUP(M36,$B$10:$N$20,13,FALSE)*HLOOKUP($M36,$B$25:$L$43,12,FALSE)/100)","v":""},{"$f":"IF('541'!O36=0,\"\",'541'!O36)","v":""}]
[{"$f":"Feuil1!AI19","v":""},{"$f":"VLOOKUP(A37,Feuil1!$AI$8:$AT$29,2,FALSE)","v":""},{"$f":"VLOOKUP(A37,Feuil1!$AI$8:$AT$29,3,FALSE)","v":""},{"$f":"VLOOKUP(A37,Feuil1!$AI$8:$AT$29,4,FALSE)","v":""},{"$f":"VLOOKUP(A37,Feuil1!$AI$8:$AT$29,5,FALSE)","v":""},{"$f":"VLOOKUP(A37,Feuil1!$AI$8:$AT$29,6,FALSE)","v":""},{"$f":"VLOOKUP(A37,Feuil1!$AI$8:$AT$29,7,FALSE)","v":""},{"$f":"VLOOKUP(A37,Feuil1!$AI$8:$AT$29,8,FALSE)","v":""},{"$f":"VLOOKUP(A37,Feuil1!$AI$8:$AT$29,9,FALSE)","v":""},{"$f":"VLOOKUP(A37,Feuil1!$AI$8:$AT$29,10,FALSE)","v":""},{"$f":"VLOOKUP(A37,Feuil1!$AI$8:$AT$29,11,FALSE)","v":""},{"$f":"VLOOKUP(A37,Feuil1!$AI$8:$AT$29,12,FALSE)","v":""},"",{"$f":"IF(ISNA($AA$2*VLOOKUP(M37,$B$10:$N$20,13,FALSE)*HLOOKUP($M37,$B$25:$L$43,13,FALSE)/100),\"\",$AA$2*VLOOKUP(M37,$B$10:$N$20,13,FALSE)*HLOOKUP($M37,$B$25:$L$43,13,FALSE)/100)","v":""},{"$f":"IF('541'!O37=0,\"\",'541'!O37)","v":""}]
[{"$f":"Feuil1!AI20","v":""},{"$f":"VLOOKUP(A38,Feuil1!$AI$8:$AT$29,2,FALSE)","v":""},{"$f":"VLOOKUP(A38,Feuil1!$AI$8:$AT$29,3,FALSE)","v":""},{"$f":"VLOOKUP(A38,Feuil1!$AI$8:$AT$29,4,FALSE)","v":""},{"$f":"VLOOKUP(A38,Feuil1!$AI$8:$AT$29,5,FALSE)","v":""},{"$f":"VLOOKUP(A38,Feuil1!$AI$8:$AT$29,6,FALSE)","v":""},{"$f":"VLOOKUP(A38,Feuil1!$AI$8:$AT$29,7,FALSE)","v":""},{"$f":"VLOOKUP(A38,Feuil1!$AI$8:$AT$29,8,FALSE)","v":""},{"$f":"VLOOKUP(A38,Feuil1!$AI$8:$AT$29,9,FALSE)","v":""},{"$f":"VLOOKUP(A38,Feuil1!$AI$8:$AT$29,10,FALSE)","v":""},{"$f":"VLOOKUP(A38,Feuil1!$AI$8:$AT$29,11,FALSE)","v":""},{"$f":"VLOOKUP(A38,Feuil1!$AI$8:$AT$29,12,FALSE)","v":""},"",{"$f":"IF(ISNA($AA$2*VLOOKUP(M38,$B$10:$N$20,13,FALSE)*HLOOKUP($M38,$B$25:$L$43,14,FALSE)/100),\"\",$AA$2*VLOOKUP(M38,$B$10:$N$20,13,FALSE)*HLOOKUP($M38,$B$25:$L$43,14,FALSE)/100)","v":""},{"$f":"IF('541'!O38=0,\"\",'541'!O38)","v":""}]
[{"$f":"Feuil1!AI21","v":""},{"$f":"VLOOKUP(A39,Feuil1!$AI$8:$AT$29,2,FALSE)","v":""},{"$f":"VLOOKUP(A39,Feuil1!$AI$8:$AT$29,3,FALSE)","v":""},{"$f":"VLOOKUP(A39,Feuil1!$AI$8:$AT$29,4,FALSE)","v":""},{"$f":"VLOOKUP(A39,Feuil1!$AI$8:$AT$29,5,FALSE)","v":""},{"$f":"VLOOKUP(A39,Feuil1!$AI$8:$AT$29,6,FALSE)","v":""},{"$f":"VLOOKUP(A39,Feuil1!$AI$8:$AT$29,7,FALSE)","v":""},{"$f":"VLOOKUP(A39,Feuil1!$AI$8:$AT$29,8,FALSE)","v":""},{"$f":"VLOOKUP(A39,Feuil1!$AI$8:$AT$29,9,FALSE)","v":""},{"$f":"VLOOKUP(A39,Feuil1!$AI$8:$AT$29,10,FALSE)","v":""},{"$f":"VLOOKUP(A39,Feuil1!$AI$8:$AT$29,11,FALSE)","v":""},{"$f":"VLOOKUP(A39,Feuil1!$AI$8:$AT$29,12,FALSE)","v":""},7,{"$f":"IF(ISNA($AA$2*VLOOKUP(M39,$B$10:$N$20,13,FALSE)*HLOOKUP($M39,$B$25:$L$43,15,FALSE)/100),\"\",$AA$2*VLOOKUP(M39,$B$10:$N$20,13,FALSE)*HLOOKUP($M39,$B$25:$L$43,15,FALSE)/100)","v":""},{"$f":"IF('541'!O39=0,\"\",'541'!O39)","v":""}]
[{"$f":"Feuil1!AI22","v":""},{"$f":"VLOOKUP(A40,Feuil1!$AI$8:$AT$29,2,FALSE)","v":""},{"$f":"VLOOKUP(A40,Feuil1!$AI$8:$AT$29,3,FALSE)","v":""},{"$f":"VLOOKUP(A40,Feuil1!$AI$8:$AT$29,4,FALSE)","v":""},{"$f":"VLOOKUP(A40,Feuil1!$AI$8:$AT$29,5,FALSE)","v":""},{"$f":"VLOOKUP(A40,Feuil1!$AI$8:$AT$29,6,FALSE)","v":""},{"$f":"VLOOKUP(A40,Feuil1!$AI$8:$AT$29,7,FALSE)","v":""},{"$f":"VLOOKUP(A40,Feuil1!$AI$8:$AT$29,8,FALSE)","v":""},{"$f":"VLOOKUP(A40,Feuil1!$AI$8:$AT$29,9,FALSE)","v":""},{"$f":"VLOOKUP(A40,Feuil1!$AI$8:$AT$29,10,FALSE)","v":""},{"$f":"VLOOKUP(A40,Feuil1!$AI$8:$AT$29,11,FALSE)","v":""},{"$f":"VLOOKUP(A40,Feuil1!$AI$8:$AT$29,12,FALSE)","v":""},"",{"$f":"IF(ISNA($AA$2*VLOOKUP(M40,$B$10:$N$20,13,FALSE)*HLOOKUP($M40,$B$25:$L$43,16,FALSE)/100),\"\",$AA$2*VLOOKUP(M40,$B$10:$N$20,13,FALSE)*HLOOKUP($M40,$B$25:$L$43,16,FALSE)/100)","v":""},{"$f":"IF('541'!O40=0,\"\",'541'!O40)","v":""}]
[{"$f":"Feuil1!AI23","v":""},{"$f":"VLOOKUP(A41,Feuil1!$AI$8:$AT$29,2,FALSE)","v":""},{"$f":"VLOOKUP(A41,Feuil1!$AI$8:$AT$29,3,FALSE)","v":""},{"$f":"VLOOKUP(A41,Feuil1!$AI$8:$AT$29,4,FALSE)","v":""},{"$f":"VLOOKUP(A41,Feuil1!$AI$8:$AT$29,5,FALSE)","v":""},{"$f":"VLOOKUP(A41,Feuil1!$AI$8:$AT$29,6,FALSE)","v":""},{"$f":"VLOOKUP(A41,Feuil1!$AI$8:$AT$29,7,FALSE)","v":""},{"$f":"VLOOKUP(A41,Feuil1!$AI$8:$AT$29,8,FALSE)","v":""},{"$f":"VLOOKUP(A41,Feuil1!$AI$8:$AT$29,9,FALSE)","v":""},{"$f":"VLOOKUP(A41,Feuil1!$AI$8:$AT$29,10,FALSE)","v":""},{"$f":"VLOOKUP(A41,Feuil1!$AI$8:$AT$29,11,FALSE)","v":""},{"$f":"VLOOKUP(A41,Feuil1!$AI$8:$AT$29,12,FALSE)","v":""},"",{"$f":"IF(ISNA($AA$2*VLOOKUP(M41,$B$10:$N$20,13,FALSE)*HLOOKUP($M41,$B$25:$L$43,17,FALSE)/100),\"\",$AA$2*VLOOKUP(M41,$B$10:$N$20,13,FALSE)*HLOOKUP($M41,$B$25:$L$43,17,FALSE)/100)","v":""},{"$f":"IF('541'!O41=0,\"\",'541'!O41)","v":""}]
[{"$f":"Feuil1!AI24","v":""},{"$f":"VLOOKUP(A42,Feuil1!$AI$8:$AT$29,2,FALSE)","v":""},{"$f":"VLOOKUP(A42,Feuil1!$AI$8:$AT$29,3,FALSE)","v":""},{"$f":"VLOOKUP(A42,Feuil1!$AI$8:$AT$29,4,FALSE)","v":""},{"$f":"VLOOKUP(A42,Feuil1!$AI$8:$AT$29,5,FALSE)","v":""},{"$f":"VLOOKUP(A42,Feuil1!$AI$8:$AT$29,6,FALSE)","v":""},{"$f":"VLOOKUP(A42,Feuil1!$AI$8:$AT$29,7,FALSE)","v":""},{"$f":"VLOOKUP(A42,Feuil1!$AI$8:$AT$29,8,FALSE)","v":""},{"$f":"VLOOKUP(A42,Feuil1!$AI$8:$AT$29,9,FALSE)","v":""},{"$f":"VLOOKUP(A42,Feuil1!$AI$8:$AT$29,10,FALSE)","v":""},{"$f":"VLOOKUP(A42,Feuil1!$AI$8:$AT$29,11,FALSE)","v":""},{"$f":"VLOOKUP(A42,Feuil1!$AI$8:$AT$29,12,FALSE)","v":""},"",{"$f":"IF(ISNA($AA$2*VLOOKUP(M42,$B$10:$N$20,13,FALSE)*HLOOKUP($M42,$B$25:$L$43,18,FALSE)/100),\"\",$AA$2*VLOOKUP(M42,$B$10:$N$20,13,FALSE)*HLOOKUP($M42,$B$25:$L$43,18,FALSE)/100)","v":""},{"$f":"IF('541'!O42=0,\"\",'541'!O42)","v":""}]
[{"$f":"Feuil1!AI25","v":""},{"$f":"VLOOKUP(A43,Feuil1!$AI$8:$AT$29,2,FALSE)","v":""},{"$f":"VLOOKUP(A43,Feuil1!$AI$8:$AT$29,3,FALSE)","v":""},{"$f":"VLOOKUP(A43,Feuil1!$AI$8:$AT$29,4,FALSE)","v":""},{"$f":"VLOOKUP(A43,Feuil1!$AI$8:$AT$29,5,FALSE)","v":""},{"$f":"VLOOKUP(A43,Feuil1!$AI$8:$AT$29,6,FALSE)","v":""},{"$f":"VLOOKUP(A43,Feuil1!$AI$8:$AT$29,7,FALSE)","v":""},{"$f":"VLOOKUP(A43,Feuil1!$AI$8:$AT$29,8,FALSE)","v":""},{"$f":"VLOOKUP(A43,Feuil1!$AI$8:$AT$29,9,FALSE)","v":""},{"$f":"VLOOKUP(A43,Feuil1!$AI$8:$AT$29,10,FALSE)","v":""},{"$f":"VLOOKUP(A43,Feuil1!$AI$8:$AT$29,11,FALSE)","v":""},{"$f":"VLOOKUP(A43,Feuil1!$AI$8:$AT$29,12,FALSE)","v":""},"",{"$f":"IF(ISNA($AA$2*VLOOKUP(M43,$B$10:$N$20,13,FALSE)*HLOOKUP($M43,$B$25:$L$43,19,FALSE)/100),\"\",$AA$2*VLOOKUP(M43,$B$10:$N$20,13,FALSE)*HLOOKUP($M43,$B$25:$L$43,19,FALSE)/100)","v":""},{"$f":"IF('541'!O43=0,\"\",'541'!O43)","v":""}]
[{"$f":"Feuil1!AI26","v":""},{"$f":"VLOOKUP(A44,Feuil1!$AI$8:$AT$29,2,FALSE)","v":""},{"$f":"VLOOKUP(A44,Feuil1!$AI$8:$AT$29,3,FALSE)","v":""},{"$f":"VLOOKUP(A44,Feuil1!$AI$8:$AT$29,4,FALSE)","v":""},{"$f":"VLOOKUP(A44,Feuil1!$AI$8:$AT$29,5,FALSE)","v":""},{"$f":"VLOOKUP(A44,Feuil1!$AI$8:$AT$29,6,FALSE)","v":""},{"$f":"VLOOKUP(A44,Feuil1!$AI$8:$AT$29,7,FALSE)","v":""},{"$f":"VLOOKUP(A44,Feuil1!$AI$8:$AT$29,8,FALSE)","v":""},{"$f":"VLOOKUP(A44,Feuil1!$AI$8:$AT$29,9,FALSE)","v":""},{"$f":"VLOOKUP(A44,Feuil1!$AI$8:$AT$29,10,FALSE)","v":""},{"$f":"VLOOKUP(A44,Feuil1!$AI$8:$AT$29,11,FALSE)","v":""},{"$f":"VLOOKUP(A44,Feuil1!$AI$8:$AT$29,12,FALSE)","v":""},"",null,{"$f":"IF('541'!O44=0,\"\",'541'!O44)","v":""}]
[{"$f":"Feuil1!AI27","v":""},{"$f":"VLOOKUP(A45,Feuil1!$AI$8:$AT$29,2,FALSE)","v":""},{"$f":"VLOOKUP(A45,Feuil1!$AI$8:$AT$29,3,FALSE)","v":""},{"$f":"VLOOKUP(A45,Feuil1!$AI$8:$AT$29,4,FALSE)","v":""},{"$f":"VLOOKUP(A45,Feuil1!$AI$8:$AT$29,5,FALSE)","v":""},{"$f":"VLOOKUP(A45,Feuil1!$AI$8:$AT$29,6,FALSE)","v":""},{"$f":"VLOOKUP(A45,Feuil1!$AI$8:$AT$29,7,FALSE)","v":""},{"$f":"VLOOKUP(A45,Feuil1!$AI$8:$AT$29,8,FALSE)","v":""},{"$f":"VLOOKUP(A45,Feuil1!$AI$8:$AT$29,9,FALSE)","v":""},{"$f":"VLOOKUP(A45,Feuil1!$AI$8:$AT$29,10,FALSE)","v":""},{"$f":"VLOOKUP(A45,Feuil1!$AI$8:$AT$29,11,FALSE)","v":""},{"$f":"VLOOKUP(A45,Feuil1!$AI$8:$AT$29,12,FALSE)","v":""},"",null,{"$f":"IF('541'!O45=0,\"\",'541'!O45)","v":""}]
[{"$f":"Feuil1!AI28","v":""},{"$f":"VLOOKUP(A46,Feuil1!$AI$8:$AT$29,2,FALSE)","v":""},{"$f":"VLOOKUP(A46,Feuil1!$AI$8:$AT$29,3,FALSE)","v":""},{"$f":"VLOOKUP(A46,Feuil1!$AI$8:$AT$29,4,FALSE)","v":""},{"$f":"VLOOKUP(A46,Feuil1!$AI$8:$AT$29,5,FALSE)","v":""},{"$f":"VLOOKUP(A46,Feuil1!$AI$8:$AT$29,6,FALSE)","v":""},{"$f":"VLOOKUP(A46,Feuil1!$AI$8:$AT$29,7,FALSE)","v":""},{"$f":"VLOOKUP(A46,Feuil1!$AI$8:$AT$29,8,FALSE)","v":""},{"$f":"VLOOKUP(A46,Feuil1!$AI$8:$AT$29,9,FALSE)","v":""},{"$f":"VLOOKUP(A46,Feuil1!$AI$8:$AT$29,10,FALSE)","v":""},{"$f":"VLOOKUP(A46,Feuil1!$AI$8:$AT$29,11,FALSE)","v":""},{"$f":"VLOOKUP(A46,Feuil1!$AI$8:$AT$29,12,FALSE)","v":""},"",null,{"$f":"IF('541'!O46=0,\"\",'541'!O46)","v":""}]
[{"$f":"Feuil1!AI29","v":""},{"$f":"VLOOKUP(A47,Feuil1!$AI$8:$AT$29,2,FALSE)","v":""},{"$f":"VLOOKUP(A47,Feuil1!$AI$8:$AT$29,3,FALSE)","v":""},{"$f":"VLOOKUP(A47,Feuil1!$AI$8:$AT$29,4,FALSE)","v":""},{"$f":"VLOOKUP(A47,Feuil1!$AI$8:$AT$29,5,FALSE)","v":""},{"$f":"VLOOKUP(A47,Feuil1!$AI$8:$AT$29,6,FALSE)","v":""},{"$f":"VLOOKUP(A47,Feuil1!$AI$8:$AT$29,7,FALSE)","v":""},{"$f":"VLOOKUP(A47,Feuil1!$AI$8:$AT$29,8,FALSE)","v":""},{"$f":"VLOOKUP(A47,Feuil1!$AI$8:$AT$29,9,FALSE)","v":""},{"$f":"VLOOKUP(A47,Feuil1!$AI$8:$AT$29,10,FALSE)","v":""},{"$f":"VLOOKUP(A47,Feuil1!$AI$8:$AT$29,11,FALSE)","v":""},{"$f":"VLOOKUP(A47,Feuil1!$AI$8:$AT$29,12,FALSE)","v":""},"",null,{"$f":"IF('541'!O47=0,\"\",'541'!O47)","v":""}]

{"sheet":"Feuil4","index":15,"n_rows":100,"n_cols":12,"rows_kept":100,"cut":false,"hidden":true,"merged":[]}
[null,null,null,"dom 1T","ext 1T","dom 2T","ext 2T",null,"Result 1T",{"$f":"MAX(D2:D100) & \" - \" & MAX(E2:E100)","v":"1 - 1"},"Result 2T",{"$f":"MAX(F2:F100) & \" - \" & MAX(G2:G100)","v":"2 - 3"}]
["\r\n\r\n11m 33s\r\n\r\n0/1\r\n\r\nMercutioloose récupère au milieu de terrain et lance son attaquant en profondeur, petit enroulé pied gauche et buuuuuut ! ",{"$f":"SEARCH(\"m\",A2,1)-5","v":2},{"$f":"VALUE(MID(A2,5,B2))","v":11},{"$f":"IF(A2<>\"\",VALUE(TRIM((IF(C2<45,MID(A2,SEARCH(\"/\",A2,1)-1,SEARCH(\"/\",A2,1)-(SEARCH(\"/\",A2,1)-1)),0)))),0)","v":0},{"$f":"IF(A2<>\"\",VALUE(IF(C2<45,MID(A2,SEARCH(\"/\",A2,1)+1,1),0)),0)","v":1},{"$f":"IF(A2<>\"\",VALUE(TRIM((IF(C2>=45,MID(A2,SEARCH(\"/\",A2,1)-1,SEARCH(\"/\",A2,1)-(SEARCH(\"/\",A2,1)-1)),0)))),0)","v":0},{"$f":"IF(A2<>\"\",VALUE(IF(C2>=45,MID(A2,SEARCH(\"/\",A2,1)+1,1),0)),0)","v":0}]
["\r\n\r\n21m 2s\r\n\r\n1/1\r\n\r\nFrappe surpuissante d'un attaquant de Baîla, le gardien se troue, c'est but !!! ",{"$f":"SEARCH(\"m\",A3,1)-5","v":2},{"$f":"VALUE(MID(A3,5,B3))","v":21},{"$f":"IF(A3<>\"\",VALUE(TRIM((IF(C3<45,MID(A3,SEARCH(\"/\",A3,1)-1,SEARCH(\"/\",A3,1)-(SEARCH(\"/\",A3,1)-1)),0)))),0)","v":1},{"$f":"IF(A3<>\"\",VALUE(IF(C3<45,MID(A3,SEARCH(\"/\",A3,1)+1,1),0)),0)","v":1},{"$f":"IF(A3<>\"\",VALUE(TRIM((IF(C3>=45,MID(A3,SEARCH(\"/\",A3,1)-1,SEARCH(\"/\",A3,1)-(SEARCH(\"/\",A3,1)-1)),0)))),0)","v":0},{"$f":"IF(A3<>\"\",VALUE(IF(C3>=45,MID(A3,SEARCH(\"/\",A3,1)+1,1),0)),0)","v":0},null,null,null,{"$f":"MAX(D2:D100) & \" - \" & MAX(E2:E100)","v":"1 - 1"}]
["\r\n\r\n26m 8s\r\n\r\n1/1\r\n\r\nBouboum reçoit un carton jaune pour son comportement ! ",{"$f":"SEARCH(\"m\",A4,1)-5","v":2},{"$f":"VALUE(MID(A4,5,B4))","v":26},1,1,0,0]
["\r\n\r\n26m 34s\r\n\r\n1/1\r\n\r\nAprenti 4 reçoit un carton jaune pour son comportement ! ",{"$f":"SEARCH(\"m\",A5,1)-5","v":2},{"$f":"VALUE(MID(A5,5,B5))","v":26},1,1,0,0]
["\r\n\r\n44m 37s\r\n\r\n1/1\r\n\r\nBank reçoit un carton jaune pour son comportement ! ",{"$f":"SEARCH(\"m\",A6,1)-5","v":2},{"$f":"VALUE(MID(A6,5,B6))","v":44},1,1,0,0]
["\r\n\r\n47m 5.5s\r\n\r\n1/2\r\n\r\nDébordement sur le flan droit des joueurs de Mercutioloose, centre, reprise de volée imparable pour le gardien, c'est but ! ",{"$f":"SEARCH(\"m\",A7,1)-5","v":2},{"$f":"VALUE(MID(A7,5,B7))","v":47},0,0,1,2]
["\r\n\r\n58m 15s\r\n\r\n1/2\r\n\r\nPaquerette 8 reçoit un carton jaune pour son comportement ! ",2,58,0,0,1,2]
["\r\n\r\n64m 30s\r\n\r\n2/2\r\n\r\nFrappe lourde de Paquerette 8 des 18m qui vient se loger en pleine lucarne malgré la bonne détente du gardien. Magnifique. ",2,64,0,0,2,2]
["\r\n\r\n68m 49s\r\n\r\n2/2\r\n\r\nMean reçoit un carton jaune pour son comportement ! ",2,68,0,0,2,2]
["\r\n\r\n75m 28s\r\n\r\n2/2\r\n\r\nCitronelle 5 reçoit un carton jaune pour son comportement ! ",2,75,0,0,2,2]
["\r\n\r\n86m 53s\r\n\r\n2/3\r\n\r\nContre-attaque fulgurante des joueurs de Mercutioloose qui marquent un but ! ",2,86,0,0,2,3]
["\r\n\r\n86m 45s\r\n\r\n2/3\r\n\r\nTogether reçoit un carton jaune pour son comportement ! ",2,86,0,0,2,3]
["\r\n\r\n94m 9s\r\n\r\n2/3\r\n\r\nFloral reçoit un carton jaune pour son comportement ! ",2,94,0,0,2,3]
[null,{"$error":"#VALUE!"},{"$error":"#VALUE!"},0,0,0,0]
[null,{"$error":"#VALUE!"},{"$error":"#VALUE!"},0,0,0,0]
[null,{"$error":"#VALUE!"},{"$error":"#VALUE!"},0,0,0,0]
[null,{"$error":"#VALUE!"},{"$error":"#VALUE!"},0,0,0,0]
[null,{"$error":"#VALUE!"},{"$error":"#VALUE!"},0,0,0,0]
[null,{"$error":"#VALUE!"},{"$error":"#VALUE!"},0,0,0,0]
[null,{"$error":"#VALUE!"},{"$error":"#VALUE!"},0,0,0,0]
[null,{"$error":"#VALUE!"},{"$error":"#VALUE!"},0,0,0,0]
[null,{"$error":"#VALUE!"},{"$error":"#VALUE!"},0,0,0,0]
[null,{"$error":"#VALUE!"},{"$error":"#VALUE!"},0,0,0,0]
[null,{"$error":"#VALUE!"},{"$error":"#VALUE!"},0,0,0,0]
[null,{"$error":"#VALUE!"},{"$error":"#VALUE!"},0,0,0,0]
[null,{"$error":"#VALUE!"},{"$error":"#VALUE!"},0,0,0,0]
[null,{"$error":"#VALUE!"},{"$error":"#VALUE!"},0,0,0,0]
[null,{"$error":"#VALUE!"},{"$error":"#VALUE!"},0,0,0,0]
[null,{"$error":"#VALUE!"},{"$error":"#VALUE!"},0,0,0,0]
[null,{"$error":"#VALUE!"},{"$error":"#VALUE!"},0,0,0,0]
[null,{"$error":"#VALUE!"},{"$error":"#VALUE!"},0,0,0,0]
[null,{"$error":"#VALUE!"},{"$error":"#VALUE!"},0,0,0,0]
[null,{"$error":"#VALUE!"},{"$error":"#VALUE!"},0,0,0,0]
[null,{"$error":"#VALUE!"},{"$error":"#VALUE!"},0,0,0,0]
[null,{"$error":"#VALUE!"},{"$error":"#VALUE!"},0,0,0,0]
[null,{"$error":"#VALUE!"},{"$error":"#VALUE!"},0,0,0,0]
[null,{"$error":"#VALUE!"},{"$error":"#VALUE!"},0,0,0,0]
[null,{"$error":"#VALUE!"},{"$error":"#VALUE!"},0,0,0,0]
[null,{"$error":"#VALUE!"},{"$error":"#VALUE!"},0,0,0,0]
[null,{"$error":"#VALUE!"},{"$error":"#VALUE!"},0,0,0,0]
[null,{"$error":"#VALUE!"},{"$error":"#VALUE!"},0,0,0,0]
[null,{"$error":"#VALUE!"},{"$error":"#VALUE!"},0,0,0,0]
[null,{"$error":"#VALUE!"},{"$error":"#VALUE!"},0,0,0,0]
[null,{"$error":"#VALUE!"},{"$error":"#VALUE!"},0,0,0,0]
[null,{"$error":"#VALUE!"},{"$error":"#VALUE!"},0,0,0,0]
[null,{"$error":"#VALUE!"},{"$error":"#VALUE!"},0,0,0,0]
[null,{"$error":"#VALUE!"},{"$error":"#VALUE!"},0,0,0,0]
[null,{"$error":"#VALUE!"},{"$error":"#VALUE!"},0,0,0,0]
[null,{"$error":"#VALUE!"},{"$error":"#VALUE!"},0,0,0,0]
[null,{"$error":"#VALUE!"},{"$error":"#VALUE!"},0,0,0,0]
[null,{"$error":"#VALUE!"},{"$error":"#VALUE!"},0,0,0,0]
[null,{"$error":"#VALUE!"},{"$error":"#VALUE!"},0,0,0,0]
[null,{"$error":"#VALUE!"},{"$error":"#VALUE!"},0,0,0,0]
[null,{"$error":"#VALUE!"},{"$error":"#VALUE!"},0,0,0,0]
[null,{"$error":"#VALUE!"},{"$error":"#VALUE!"},0,0,0,0]
[null,{"$error":"#VALUE!"},{"$error":"#VALUE!"},0,0,0,0]
[null,{"$error":"#VALUE!"},{"$error":"#VALUE!"},0,0,0,0]
[null,{"$error":"#VALUE!"},{"$error":"#VALUE!"},0,0,0,0]
[null,{"$error":"#VALUE!"},{"$error":"#VALUE!"},0,0,0,0]
[null,{"$error":"#VALUE!"},{"$error":"#VALUE!"},0,0,0,0]
[null,{"$error":"#VALUE!"},{"$error":"#VALUE!"},0,0,0,0]
[null,{"$error":"#VALUE!"},{"$error":"#VALUE!"},0,0,0,0]
[null,{"$error":"#VALUE!"},{"$error":"#VALUE!"},0,0,0,0]
[null,{"$error":"#VALUE!"},{"$error":"#VALUE!"},0,0,0,0]
[null,{"$error":"#VALUE!"},{"$error":"#VALUE!"},0,0,0,0]
[null,{"$error":"#VALUE!"},{"$error":"#VALUE!"},{"$f":"IF(A67<>\"\",VALUE(TRIM((IF(C67<45,MID(A67,SEARCH(\"/\",A67,1)-1,SEARCH(\"/\",A67,1)-(SEARCH(\"/\",A67,1)-1)),0)))),0)","v":0},{"$f":"IF(A67<>\"\",VALUE(IF(C67<45,MID(A67,SEARCH(\"/\",A67,1)+1,1),0)),0)","v":0},{"$f":"IF(A67<>\"\",VALUE(TRIM((IF(C67>=45,MID(A67,SEARCH(\"/\",A67,1)-1,SEARCH(\"/\",A67,1)-(SEARCH(\"/\",A67,1)-1)),0)))),0)","v":0},{"$f":"IF(A67<>\"\",VALUE(IF(C67>=45,MID(A67,SEARCH(\"/\",A67,1)+1,1),0)),0)","v":0}]
[null,{"$error":"#VALUE!"},{"$error":"#VALUE!"},0,0,0,0]
[null,{"$error":"#VALUE!"},{"$error":"#VALUE!"},0,0,0,0]
[null,{"$error":"#VALUE!"},{"$error":"#VALUE!"},0,0,0,0]
[null,{"$f":"SEARCH(\"m\",A71,1)-5","v":{"$error":"#VALUE!"}},{"$f":"VALUE(MID(A71,5,B71))","v":{"$error":"#VALUE!"}},0,0,0,0]
[null,{"$error":"#VALUE!"},{"$error":"#VALUE!"},0,0,0,0]
[null,{"$error":"#VALUE!"},{"$error":"#VALUE!"},0,0,0,0]
[null,{"$error":"#VALUE!"},{"$error":"#VALUE!"},0,0,0,0]
[null,{"$error":"#VALUE!"},{"$error":"#VALUE!"},0,0,0,0]
[null,{"$error":"#VALUE!"},{"$error":"#VALUE!"},0,0,0,0]
[null,{"$error":"#VALUE!"},{"$error":"#VALUE!"},0,0,0,0]
[null,{"$error":"#VALUE!"},{"$error":"#VALUE!"},0,0,0,0]
[null,{"$error":"#VALUE!"},{"$error":"#VALUE!"},0,0,0,0]
[null,{"$error":"#VALUE!"},{"$error":"#VALUE!"},0,0,0,0]
[null,{"$error":"#VALUE!"},{"$error":"#VALUE!"},0,0,0,0]
[null,{"$error":"#VALUE!"},{"$error":"#VALUE!"},0,0,0,0]
[null,{"$error":"#VALUE!"},{"$error":"#VALUE!"},0,0,0,0]
[null,{"$error":"#VALUE!"},{"$error":"#VALUE!"},0,0,0,0]
[null,{"$error":"#VALUE!"},{"$error":"#VALUE!"},0,0,0,0]
[null,{"$error":"#VALUE!"},{"$error":"#VALUE!"},0,0,0,0]
[null,{"$error":"#VALUE!"},{"$error":"#VALUE!"},0,0,0,0]
[null,{"$error":"#VALUE!"},{"$error":"#VALUE!"},0,0,0,0]
[null,{"$error":"#VALUE!"},{"$error":"#VALUE!"},0,0,0,0]
[null,{"$error":"#VALUE!"},{"$error":"#VALUE!"},0,0,0,0]
[null,{"$error":"#VALUE!"},{"$error":"#VALUE!"},0,0,0,0]
[null,{"$error":"#VALUE!"},{"$error":"#VALUE!"},0,0,0,0]
[null,{"$error":"#VALUE!"},{"$error":"#VALUE!"},0,0,0,0]
[null,{"$error":"#VALUE!"},{"$error":"#VALUE!"},0,0,0,0]
[null,{"$error":"#VALUE!"},{"$error":"#VALUE!"},0,0,0,0]
[null,{"$error":"#VALUE!"},{"$error":"#VALUE!"},0,0,0,0]
[null,{"$error":"#VALUE!"},{"$error":"#VALUE!"},0,0,0,0]
[null,{"$error":"#VALUE!"},{"$error":"#VALUE!"},0,0,0,0]
[null,{"$error":"#VALUE!"},{"$error":"#VALUE!"},0,0,0,0]
[null,{"$error":"#VALUE!"},{"$error":"#VALUE!"},0,0,0,0]

{"sheet":"Feuil5","index":16,"n_rows":100,"n_cols":34,"rows_kept":100,"cut":false,"hidden":true,"merged":[[0,9,0,16]]}
[null,null,null,null,"23/07/13",null,null,null,null,"Rapport",null,null,null,null,null,null,null,null,null,null,null,"Dom","Strat 1T","Strat 2T","Aggr 1T","Aggr 2T","Ext","Strat 1T","Strat 2T","Aggr 1T","Aggr 2T","Score 1T","Score 2T"]
["\n23/07/13 13:10 ","\nFC DRAGON","\n3 / 0 ","\nles gabs79",{"$f":"MID(A2,2,8)","v":"23/07/13"},"<div class=\"element click small\" onclick=\"setUrl('./matchreport.php?id1=18797&amp;id2=78121&amp;date=1374577800&amp;server=1');\">\n\t\t\t<div class=\"innerElement\">\n\t\t\t\t<div class=\"match-result\">\n\t\t\t\t\t<div class=\"match-result-date\">\n\t\t\t\t\t\t23/07/13 13:10\n\t\t\t\t\t</div>\n\t\t\t\t\t<div class=\"match-result-dom\">\n\t\t<span style='background: url(\"http://web-static2.sublinet.prosoluce.fr/fmnew/1.1/public/images/game/icones/icones_pays_14.png\") no-repeat 0px -58px;' class=\"pays\">FC DRAGON</span>\n\t\t\t\t\t</div>\n\t\t\t\t\t<div class=\"match-result-score\">3 / 0\n\t\t\t\t\t</div>\n\t\t\t\t\t<div class=\"match-result-ext\">\n\t\t\t\t\tles gabs79\n\t\t<span style='background: url(\"http://web-static2.sublinet.prosoluce.fr/fmnew/1.1/public/images/game/icones/icones_pays_14.png\") no-repeat 0px -58px;' class=\"pays\">&nbsp;</span>\n\t\t\t\t\t</div>\n\t\t\t\t</div>\n\t\t\t</div>\n\t\t</div>",{"$f":"IF(E2=$E$1,1,0)","v":1},{"$f":"SEARCH(\"'\",F2,1)","v":50},{"$f":"SEARCH(\"'\",F2,H2+1)","v":125},{"$f":"SUBSTITUTE(M2,\"amp;\",\"\")","v":"./matchreport.php?id1=18797&id2=78121&date=1374577800&server=1"},{"$f":"J2&\"&tab=1\"","v":"./matchreport.php?id1=18797&id2=78121&date=1374577800&server=1&tab=1"},null,{"$f":"MID(F2,H2+1,I2-H2-1)","v":"./matchreport.php?id1=18797&amp;id2=78121&amp;date=1374577800&amp;server=1"},"\n\t\t<div class=\"sketch\">\n\t\t\t<img alt=\"\" src=\"http://web-static2.sublinet.prosoluce.fr/fmnew/1.1/public/images/game/foot/strategies/5-4-1.jpg\" width=\"300\" height=\"300\">\n\t\t</div>\n\t\t<div class=\"list\">\n\t\t\t<table class=\"silverTable\">\n\t\t\t\t<tbody><tr class=\"silverTableHeader\">\n\t\t\t\t\t<td class=\"number\">#</td>\n\t\t\t\t\t<td class=\"name\">les gabs79\n\t\t\t\t\t</td>\n\t\t\t\t</tr>\n\t\t\t\t\t\t\t<tr class=\"silverTableActive\">\n\t\t\t\t\t\t\t\t<td class=\"number\">1.</td>\n\t\t\t\t\t\t\t\t<td class=\"name\"><div style=\"display: block;\" id=\"rel_joueur94511Debut\" class=\"htmltip\">10-761</div></td>\n\t\t\t\t\t\t\t</tr>\n\t\t\t\t\t\t\t<tr class=\"silverTableActive\">\n\t\t\t\t\t\t\t\t<td class=\"number\">2.</td>\n\t\t\t\t\t\t\t\t<td class=\"name\"><div style=\"display: block;\" id=\"rel_joueur89852Debut\" class=\"htmltip\">SUPER-CAPTAIN!!!!!!!!!</div></td>\n\t\t\t\t\t\t\t</tr>\n\t\t\t\t\t\t\t<tr class=\"silverTableActive\">\n\t\t\t\t\t\t\t\t<td class=\"number\">3.</td>\n\t\t\t\t\t\t\t\t<td class=\"name\"><div style=\"display: block;\" id=\"rel_joueur94530Debut\" class=\"htmltip\">2-772</div></td>\n\t\t\t\t\t\t\t</tr>\n\t\t\t\t\t\t\t<tr class=\"silverTableActive\">\n\t\t\t\t\t\t\t\t<td class=\"number\">4.</td>\n\t\t\t\t\t\t\t\t<td class=\"name\"><div style=\"display: block;\" id=\"rel_joueur93246Debut\" class=\"htmltip\">4 :      767.741</div></td>\n\t\t\t\t\t\t\t</tr>\n\t\t\t\t\t\t\t<tr class=\"silverTableActive\">\n\t\t\t\t\t\t\t\t<td class=\"number\">5.</td>\n\t\t\t\t\t\t\t\t<td class=\"name\"><div style=\"display: block;\" id=\"rel_joueur91651Debut\" class=\"htmltip\">VARANE!!!!!!!!!!!!!!!!!</div></td>\n\t\t\t\t\t\t\t</tr>\n\t\t\t\t\t\t\t<tr class=\"silverTableActive\">\n\t\t\t\t\t\t\t\t<td class=\"number\">6.</td>\n\t\t\t\t\t\t\t\t<td class=\"name\"><div style=\"display: block;\" id=\"rel_joueur91768Debut\" class=\"htmltip\">MEXI  KOOL</div></td>\n\t\t\t\t\t\t\t</tr>\n\t\t\t\t\t\t\t<tr class=\"silverTableActive\">\n\t\t\t\t\t\t\t\t<td class=\"number\">7.</td>\n\t\t\t\t\t\t\t\t<td class=\"name\"><div style=\"display: block;\" id=\"rel_joueur93893Debut\" class=\"htmltip\">Remplaçant*</div></td>\n\t\t\t\t\t\t\t</tr>\n\t\t\t\t\t\t\t<tr class=\"silverTableActive\">\n\t\t\t\t\t\t\t\t<td class=\"number\">8.</td>\n\t\t\t\t\t\t\t\t<td class=\"name\"><div style=\"display: block;\" id=\"rel_joueur93872Debut\" class=\"htmltip\">Extra!!!!!!!!!!!</div></td>\n\t\t\t\t\t\t\t</tr>\n\t\t\t\t\t\t\t<tr class=\"silverTableActive\">\n\t\t\t\t\t\t\t\t<td class=\"number\">9.</td>\n\t\t\t\t\t\t\t\t<td class=\"name\"><div style=\"display: block;\" id=\"rel_joueur93073Debut\" class=\"htmltip\">8 35553 a</div></td>\n\t\t\t\t\t\t\t</tr>\n\t\t\t\t\t\t\t<tr class=\"silverTableActive\">\n\t\t\t\t\t\t\t\t<td class=\"number\">10.</td>\n\t\t\t\t\t\t\t\t<td class=\"name\"><div style=\"display: block;\" id=\"rel_joueur93735Debut\" class=\"htmltip\">Extra!!!!!!!!!!!</div></td>\n\t\t\t\t\t\t\t</tr>\n\t\t\t\t\t\t\t<tr class=\"silverTableActive\">\n\t\t\t\t\t\t\t\t<td class=\"number\">11.</td>\n\t\t\t\t\t\t\t\t<td class=\"name\"><div style=\"display: block;\" id=\"rel_joueur93516Debut\" class=\"htmltip\">bon l</div></td>\n\t\t\t\t\t\t\t</tr>\n\t\t\t</tbody></table>\n\t\t</div>\n\t","\n\t\t<div class=\"sketch\">\n\t\t\t<img alt=\"\" src=\"http://web-static2.sublinet.prosoluce.fr/fmnew/1.1/public/images/game/foot/strategies/4-3-3.jpg\" width=\"300\" height=\"300\">\n\t\t</div>\n\t\t<div class=\"list\">\n\t\t\t<table class=\"silverTable\">\n\t\t\t\t<tbody><tr class=\"silverTableHeader\">\n\t\t\t\t\t<td class=\"number\">#</td>\n\t\t\t\t\t<td class=\"name\">FC DRAGON\n\t\t\t\t\t</td>\n\t\t\t\t</tr>\n\t\t\t\t\t\t\t<tr class=\"silverTableActive\">\n\t\t\t\t\t\t\t\t<td class=\"number\">1.</td>\n\t\t\t\t\t\t\t\t<td class=\"name\"><div style=\"display: block;\" id=\"rel_joueur92116Debut\" class=\"htmltip\">jameA01</div></td>\n\t\t\t\t\t\t\t</tr>\n\t\t\t\t\t\t\t<tr class=\"silverTableActive\">\n\t\t\t\t\t\t\t\t<td class=\"number\">2.</td>\n\t\t\t\t\t\t\t\t<td class=\"name\"><div style=\"display: block;\" id=\"rel_joueur94847Debut\" class=\"htmltip\">jameA02</div></td>\n\t\t\t\t\t\t\t</tr>\n\t\t\t\t\t\t\t<tr class=\"silverTableActive\">\n\t\t\t\t\t\t\t\t<td class=\"number\">3.</td>\n\t\t\t\t\t\t\t\t<td class=\"name\"><div style=\"display: block;\" id=\"rel_joueur94601Debut\" class=\"htmltip\">jameA02-03 / 777</div></td>\n\t\t\t\t\t\t\t</tr>\n\t\t\t\t\t\t\t<tr class=\"silverTableActive\">\n\t\t\t\t\t\t\t\t<td class=\"number\">4.</td>\n\t\t\t\t\t\t\t\t<td class=\"name\"><div style=\"display: block;\" id=\"rel_joueur79745Debut\" class=\"htmltip\">CAPITAINE 16%</div></td>\n\t\t\t\t\t\t\t</tr>\n\t\t\t\t\t\t\t<tr class=\"silverTableActive\">\n\t\t\t\t\t\t\t\t<td class=\"number\">5.</td>\n\t\t\t\t\t\t\t\t<td class=\"name\"><div style=\"display: block;\" id=\"rel_joueur94581Debut\" class=\"htmltip\">james07 junior /778 entraîner </div></td>\n\t\t\t\t\t\t\t</tr>\n\t\t\t\t\t\t\t<tr class=\"silverTableActive\">\n\t\t\t\t\t\t\t\t<td class=\"number\">6.</td>\n\t\t\t\t\t\t\t\t<td class=\"name\"><div style=\"display: block;\" id=\"rel_joueur94857Debut\" class=\"htmltip\">james06</div></td>\n\t\t\t\t\t\t\t</tr>\n\t\t\t\t\t\t\t<tr class=\"silverTableActive\">\n\t\t\t\t\t\t\t\t<td class=\"number\">7.</td>\n\t\t\t\t\t\t\t\t<td class=\"name\"><div style=\"display: block;\" id=\"rel_joueur94862Debut\" class=\"htmltip\">james07</div></td>\n\t\t\t\t\t\t\t</tr>\n\t\t\t\t\t\t\t<tr class=\"silverTableActive\">\n\t\t\t\t\t\t\t\t<td class=\"number\">8.</td>\n\t\t\t\t\t\t\t\t<td class=\"name\"><div style=\"display: block;\" id=\"rel_joueur94500Debut\" class=\"htmltip\">junior 6-7  / 778</div></td>\n\t\t\t\t\t\t\t</tr>\n\t\t\t\t\t\t\t<tr class=\"silverTableActive\">\n\t\t\t\t\t\t\t\t<td class=\"number\">9.</td>\n\t\t\t\t\t\t\t\t<td class=\"name\"><div style=\"display: block;\" id=\"rel_joueur94758Debut\" class=\"htmltip\">7</div></td>\n\t\t\t\t\t\t\t</tr>\n\t\t\t\t\t\t\t<tr class=\"silverTableActive\">\n\t\t\t\t\t\t\t\t<td class=\"number\">10.</td>\n\t\t\t\t\t\t\t\t<td class=\"name\"><div style=\"display: block;\" id=\"rel_joueur94261Debut\" class=\"htmltip\">jamesA7</div></td>\n\t\t\t\t\t\t\t</tr>\n\t\t\t\t\t\t\t<tr class=\"silverTableActive\">\n\t\t\t\t\t\t\t\t<td class=\"number\">11.</td>\n\t\t\t\t\t\t\t\t<td class=\"name\"><div style=\"display: block;\" id=\"rel_joueur93883Debut\" class=\"htmltip\">SCL 7 / 771</div></td>\n\t\t\t\t\t\t\t</tr>\n\t\t\t</tbody></table>\n\t\t</div>\n\t","\n\t\t<div class=\"sketch\">\n\t\t\t<img alt=\"\" src=\"http://web-static2.sublinet.prosoluce.fr/fmnew/1.1/public/images/game/foot/strategies/3-5-2.jpg\" width=\"300\" height=\"300\">\n\t\t</div>\n\t\t<div class=\"list\">\n\t\t\t<table class=\"silverTable\">\n\t\t\t\t<tbody><tr class=\"silverTableHeader\">\n\t\t\t\t\t<td class=\"number\">#</td>\n\t\t\t\t\t<td class=\"name\">les gabs79\n\t\t\t\t\t</td>\n\t\t\t\t</tr>\n\t\t\t\t\t\t\t<tr class=\"silverTableActive\">\n\t\t\t\t\t\t\t\t<td class=\"number\">1.</td>\n\t\t\t\t\t\t\t\t<td class=\"name\"><div style=\"display: block;\" id=\"rel_joueur94511Debut\" class=\"htmltip\">10-761</div></td>\n\t\t\t\t\t\t\t</tr>\n\t\t\t\t\t\t\t<tr class=\"silverTableActive\">\n\t\t\t\t\t\t\t\t<td class=\"number\">2.</td>\n\t\t\t\t\t\t\t\t<td class=\"name\"><div style=\"display: block;\" id=\"rel_joueur89852Debut\" class=\"htmltip\">SUPER-CAPTAIN!!!!!!!!!</div></td>\n\t\t\t\t\t\t\t</tr>\n\t\t\t\t\t\t\t<tr class=\"silverTableActive\">\n\t\t\t\t\t\t\t\t<td class=\"number\">3.</td>\n\t\t\t\t\t\t\t\t<td class=\"name\"><div style=\"display: block;\" id=\"rel_joueur94530Debut\" class=\"htmltip\">2-772</div></td>\n\t\t\t\t\t\t\t</tr>\n\t\t\t\t\t\t\t<tr class=\"silverTableActive\">\n\t\t\t\t\t\t\t\t<td class=\"number\">4.</td>\n\t\t\t\t\t\t\t\t<td class=\"name\"><div style=\"display: block;\" id=\"rel_joueur93246Debut\" class=\"htmltip\">4 :      767.741</div></td>\n\t\t\t\t\t\t\t</tr>\n\t\t\t\t\t\t\t<tr class=\"silverTableActive\">\n\t\t\t\t\t\t\t\t<td class=\"number\">5.</td>\n\t\t\t\t\t\t\t\t<td class=\"name\"><div style=\"display: block;\" id=\"rel_joueur91651Debut\" class=\"htmltip\">VARANE!!!!!!!!!!!!!!!!!</div></td>\n\t\t\t\t\t\t\t</tr>\n\t\t\t\t\t\t\t<tr class=\"silverTableActive\">\n\t\t\t\t\t\t\t\t<td class=\"number\">6.</td>\n\t\t\t\t\t\t\t\t<td class=\"name\"><div style=\"display: block;\" id=\"rel_joueur91768Debut\" class=\"htmltip\">MEXI  KOOL</div></td>\n\t\t\t\t\t\t\t</tr>\n\t\t\t\t\t\t\t<tr class=\"silverTableActive\">\n\t\t\t\t\t\t\t\t<td class=\"number\">7.</td>\n\t\t\t\t\t\t\t\t<td class=\"name\"><div style=\"display: block;\" id=\"rel_joueur93893Debut\" class=\"htmltip\">Remplaçant*</div></td>\n\t\t\t\t\t\t\t</tr>\n\t\t\t\t\t\t\t<tr class=\"silverTableActive\">\n\t\t\t\t\t\t\t\t<td class=\"number\">8.</td>\n\t\t\t\t\t\t\t\t<td class=\"name\"><div style=\"display: block;\" id=\"rel_joueur93872Debut\" class=\"htmltip\">Extra!!!!!!!!!!!</div></td>\n\t\t\t\t\t\t\t</tr>\n\t\t\t\t\t\t\t<tr class=\"silverTableActive\">\n\t\t\t\t\t\t\t\t<td class=\"number\">9.</td>\n\t\t\t\t\t\t\t\t<td class=\"name\"><div style=\"display: block;\" id=\"rel_joueur93073Debut\" class=\"htmltip\">8 35553 a</div></td>\n\t\t\t\t\t\t\t</tr>\n\t\t\t\t\t\t\t<tr class=\"silverTableActive\">\n\t\t\t\t\t\t\t\t<td class=\"number\">10.</td>\n\t\t\t\t\t\t\t\t<td class=\"name\"><div style=\"display: block;\" id=\"rel_joueur93735Debut\" class=\"htmltip\">Extra!!!!!!!!!!!</div></td>\n\t\t\t\t\t\t\t</tr>\n\t\t\t\t\t\t\t<tr class=\"silverTableActive\">\n\t\t\t\t\t\t\t\t<td class=\"number\">11.</td>\n\t\t\t\t\t\t\t\t<td class=\"name\"><div style=\"display: block;\" id=\"rel_joueur93516Debut\" class=\"htmltip\">bon l</div></td>\n\t\t\t\t\t\t\t</tr>\n\t\t\t</tbody></table>\n\t\t</div>\n\t","\n\t\t<div class=\"sketch\">\n\t\t\t<img alt=\"\" src=\"http://web-static2.sublinet.prosoluce.fr/fmnew/1.1/public/images/game/foot/strategies/3-5-2.jpg\" width=\"300\" height=\"300\">\n\t\t</div>\n\t\t<div class=\"list\">\n\t\t\t<table class=\"silverTable\">\n\t\t\t\t<tbody><tr class=\"silverTableHeader\">\n\t\t\t\t\t<td class=\"number\">#</td>\n\t\t\t\t\t<td class=\"name\">FC DRAGON\n\t\t\t\t\t</td>\n\t\t\t\t</tr>\n\t\t\t\t\t\t\t<tr class=\"silverTableActive\">\n\t\t\t\t\t\t\t\t<td class=\"number\">1.</td>\n\t\t\t\t\t\t\t\t<td class=\"name\"><div style=\"display: block;\" id=\"rel_joueur92116Debut\" class=\"htmltip\">jameA01</div></td>\n\t\t\t\t\t\t\t</tr>\n\t\t\t\t\t\t\t<tr class=\"silverTableActive\">\n\t\t\t\t\t\t\t\t<td class=\"number\">2.</td>\n\t\t\t\t\t\t\t\t<td class=\"name\"><div style=\"display: block;\" id=\"rel_joueur94847Debut\" class=\"htmltip\">jameA02</div></td>\n\t\t\t\t\t\t\t</tr>\n\t\t\t\t\t\t\t<tr class=\"silverTableActive\">\n\t\t\t\t\t\t\t\t<td class=\"number\">3.</td>\n\t\t\t\t\t\t\t\t<td class=\"name\"><div style=\"display: block;\" id=\"rel_joueur94601Debut\" class=\"htmltip\">jameA02-03 / 777</div></td>\n\t\t\t\t\t\t\t</tr>\n\t\t\t\t\t\t\t<tr class=\"silverTableActive\">\n\t\t\t\t\t\t\t\t<td class=\"number\">4.</td>\n\t\t\t\t\t\t\t\t<td class=\"name\"><div style=\"display: block;\" id=\"rel_joueur79745Debut\" class=\"htmltip\">CAPITAINE 16%</div></td>\n\t\t\t\t\t\t\t</tr>\n\t\t\t\t\t\t\t<tr class=\"silverTableActive\">\n\t\t\t\t\t\t\t\t<td class=\"number\">5.</td>\n\t\t\t\t\t\t\t\t<td class=\"name\"><div style=\"display: block;\" id=\"rel_joueur94581Debut\" class=\"htmltip\">james07 junior /778 entraîner </div></td>\n\t\t\t\t\t\t\t</tr>\n\t\t\t\t\t\t\t<tr class=\"silverTableActive\">\n\t\t\t\t\t\t\t\t<td class=\"number\">6.</td>\n\t\t\t\t\t\t\t\t<td class=\"name\"><div style=\"display: block;\" id=\"rel_joueur94857Debut\" class=\"htmltip\">james06</div></td>\n\t\t\t\t\t\t\t</tr>\n\t\t\t\t\t\t\t<tr class=\"silverTableActive\">\n\t\t\t\t\t\t\t\t<td class=\"number\">7.</td>\n\t\t\t\t\t\t\t\t<td class=\"name\"><div style=\"display: block;\" id=\"rel_joueur94862Debut\" class=\"htmltip\">james07</div></td>\n\t\t\t\t\t\t\t</tr>\n\t\t\t\t\t\t\t<tr class=\"silverTableActive\">\n\t\t\t\t\t\t\t\t<td class=\"number\">8.</td>\n\t\t\t\t\t\t\t\t<td class=\"name\"><div style=\"display: block;\" id=\"rel_joueur94500Debut\" class=\"htmltip\">junior 6-7  / 778</div></td>\n\t\t\t\t\t\t\t</tr>\n\t\t\t\t\t\t\t<tr class=\"silverTableActive\">\n\t\t\t\t\t\t\t\t<td class=\"number\">9.</td>\n\t\t\t\t\t\t\t\t<td class=\"name\"><div style=\"display: block;\" id=\"rel_joueur94758Debut\" class=\"htmltip\">7</div></td>\n\t\t\t\t\t\t\t</tr>\n\t\t\t\t\t\t\t<tr class=\"silverTableActive\">\n\t\t\t\t\t\t\t\t<td class=\"number\">10.</td>\n\t\t\t\t\t\t\t\t<td class=\"name\"><div style=\"display: block;\" id=\"rel_joueur94261Debut\" class=\"htmltip\">jamesA7</div></td>\n\t\t\t\t\t\t\t</tr>\n\t\t\t\t\t\t\t<tr class=\"silverTableActive\">\n\t\t\t\t\t\t\t\t<td class=\"number\">11.</td>\n\t\t\t\t\t\t\t\t<td class=\"name\"><div style=\"display: block;\" id=\"rel_joueur93883Debut\" class=\"htmltip\">SCL 7 / 771</div></td>\n\t\t\t\t\t\t\t</tr>\n\t\t\t</tbody></table>\n\t\t</div>\n\t","Bonus d'agressivité\r\n\r\n+16%","Bonus d'agressivité\r\n\r\n+16%","Bonus d'agressivité\r\n\r\n+16%","Bonus d'agressivité\r\n\r\n+16%",{"$f":"B2","v":"\nFC DRAGON"},{"$f":"SUBSTITUTE(SUBSTITUTE(MID(O2,SEARCH(\".jpg\",O2,1)-5,5),\"-\",\"\",1),\"-\",\"\",1)","v":"433"},{"$f":"SUBSTITUTE(SUBSTITUTE(MID(Q2,SEARCH(\".jpg\",Q2,1)-5,5),\"-\",\"\",1),\"-\",\"\",1)","v":"352"},{"$f":"MID(S2,SEARCH(\"+\",S2,1)+1,3)","v":"16%"},{"$f":"MID(U2,SEARCH(\"+\",U2,1)+1,3)","v":"16%"},{"$f":"D2","v":"\nles gabs79"},{"$f":"SUBSTITUTE(SUBSTITUTE(MID(N2,SEARCH(\".jpg\",N2,1)-5,5),\"-\",\"\",1),\"-\",\"\",1)","v":"541"},{"$f":"SUBSTITUTE(SUBSTITUTE(MID(P2,SEARCH(\".jpg\",P2,1)-5,5),\"-\",\"\",1),\"-\",\"\",1)","v":"352"},{"$f":"MID(R2,SEARCH(\"+\",R2,1)+1,5)","v":"16%"},{"$f":"MID(T2,SEARCH(\"+\",T2,1)+1,5)","v":"16%"},{"$f":"Feuil4!$J$1","v":"1 - 1"},{"$f":"Feuil4!$L$1","v":"2 - 3"},{"$f":"W2 &\" / \" &AB2 & CHAR(13) & AF2 & \" - \" &AG2 & CHAR(13) & Y2 & \"/\" & AD2 & \" - \" & Z2 & \"/\" &AE2","v":"433 / 541\r1 - 1 - 2 - 3\r16%/16% - 16%/16%"}]
["\n23/07/13 13:10 ","\nPtit Mat Killers","\n0 / 0 ","\nFC Allan",{"$f":"MID(A3,2,8)","v":"23/07/13"},"<div class=\"element click small highlight\" onclick=\"setUrl('./matchreport.php?id1=36460&amp;id2=48895&amp;date=1374577800&amp;server=1');\">\n\t\t\t<div class=\"innerElement\">\n\t\t\t\t<div class=\"match-result\">\n\t\t\t\t\t<div class=\"match-result-date\">\n\t\t\t\t\t\t23/07/13 13:10\n\t\t\t\t\t</div>\n\t\t\t\t\t<div class=\"match-result-dom\">\n\t\t<span style='background: url(\"http://web-static2.sublinet.prosoluce.fr/fmnew/1.1/public/images/game/icones/icones_pays_14.png\") no-repeat 0px -58px;' class=\"pays\">Ptit Mat Killers</span>\n\t\t\t\t\t</div>\n\t\t\t\t\t<div class=\"match-result-score\">0 / 0\n\t\t\t\t\t</div>\n\t\t\t\t\t<div class=\"match-result-ext\">\n\t\t\t\t\tFC Allan \n\t\t<span style='background: url(\"http://web-static2.sublinet.prosoluce.fr/fmnew/1.1/public/images/game/icones/icones_pays_14.png\") no-repeat 0px -58px;' class=\"pays\">&nbsp;</span>\n\t\t\t\t\t</div>\n\t\t\t\t</div>\n\t\t\t</div>\n\t\t</div>",{"$f":"IF(E3=$E$1,1,0)","v":1},{"$f":"SEARCH(\"'\",F3,1)","v":60},{"$f":"SEARCH(\"'\",F3,H3+1)","v":135},{"$f":"SUBSTITUTE(M3,\"amp;\",\"\")","v":"./matchreport.php?id1=36460&id2=48895&date=1374577800&server=1"},{"$f":"J3&\"&tab=1\"","v":"./matchreport.php?id1=36460&id2=48895&date=1374577800&server=1&tab=1"},null,{"$f":"MID(F3,H3+1,I3-H3-1)","v":"./matchreport.php?id1=36460&amp;id2=48895&amp;date=1374577800&amp;server=1"},"\n\t\t<div class=\"sketch\">\n\t\t\t<img alt=\"\" src=\"http://web-static2.sublinet.prosoluce.fr/fmnew/1.1/public/images/game/foot/strategies/3-5-2.jpg\" width=\"300\" height=\"300\">\n\t\t</div>\n\t\t<div class=\"list\">\n\t\t\t<table class=\"silverTable\">\n\t\t\t\t<tbody><tr class=\"silverTableHeader\">\n\t\t\t\t\t<td class=\"number\">#</td>\n\t\t\t\t\t<td class=\"name\">FC Allan \n\t\t\t\t\t</td>\n\t\t\t\t</tr>\n\t\t\t\t\t\t\t<tr class=\"silverTableActive\">\n\t\t\t\t\t\t\t\t<td class=\"number\">1.</td>\n\t\t\t\t\t\t\t\t<td class=\"name\"><div style=\"display: block;\" id=\"rel_joueur93605Debut\" class=\"htmltip\">Gardien</div></td>\n\t\t\t\t\t\t\t</tr>\n\t\t\t\t\t\t\t<tr class=\"silverTableActive\">\n\t\t\t\t\t\t\t\t<td class=\"number\">2.</td>\n\t\t\t\t\t\t\t\t<td class=\"name\"><div style=\"display: block;\" id=\"rel_joueur87260Debut\" class=\"htmltip\">Honda</div></td>\n\t\t\t\t\t\t\t</tr>\n\t\t\t\t\t\t\t<tr class=\"silverTableActive\">\n\t\t\t\t\t\t\t\t<td class=\"number\">3.</td>\n\t\t\t\t\t\t\t\t<td class=\"name\"><div style=\"display: block;\" id=\"rel_joueur91780Debut\" class=\"htmltip\">Boudebouz</div></td>\n\t\t\t\t\t\t\t</tr>\n\t\t\t\t\t\t\t<tr class=\"silverTableActive\">\n\t\t\t\t\t\t\t\t<td class=\"number\">4.</td>\n\t\t\t\t\t\t\t\t<td class=\"name\"><div style=\"display: block;\" id=\"rel_joueur92938Debut\" class=\"htmltip\">Van Buyten</div></td>\n\t\t\t\t\t\t\t</tr>\n\t\t\t\t\t\t\t<tr class=\"silverTableActive\">\n\t\t\t\t\t\t\t\t<td class=\"number\">5.</td>\n\t\t\t\t\t\t\t\t<td class=\"name\"><div style=\"display: block;\" id=\"rel_joueur92268Debut\" class=\"htmltip\">Wass</div></td>\n\t\t\t\t\t\t\t</tr>\n\t\t\t\t\t\t\t<tr class=\"silverTableActive\">\n\t\t\t\t\t\t\t\t<td class=\"number\">6.</td>\n\t\t\t\t\t\t\t\t<td class=\"name\"><div style=\"display: block;\" id=\"rel_joueur91092Debut\" class=\"htmltip\">Messi</div></td>\n\t\t\t\t\t\t\t</tr>\n\t\t\t\t\t\t\t<tr class=\"silverTableActive\">\n\t\t\t\t\t\t\t\t<td class=\"number\">7.</td>\n\t\t\t\t\t\t\t\t<td class=\"name\"><div style=\"display: block;\" id=\"rel_joueur93145Debut\" class=\"htmltip\">Rooney</div></td>\n\t\t\t\t\t\t\t</tr>\n\t\t\t\t\t\t\t<tr class=\"silverTableActive\">\n\t\t\t\t\t\t\t\t<td class=\"number\">8.</td>\n\t\t\t\t\t\t\t\t<td class=\"name\"><div style=\"display: block;\" id=\"rel_joueur93209Debut\" class=\"htmltip\">Del Piero</div></td>\n\t\t\t\t\t\t\t</tr>\n\t\t\t\t\t\t\t<tr class=\"silverTableActive\">\n\t\t\t\t\t\t\t\t<td class=\"number\">9.</td>\n\t\t\t\t\t\t\t\t<td class=\"name\"><div style=\"display: block;\" id=\"rel_joueur93712Debut\" class=\"htmltip\">Taiwo</div></td>\n\t\t\t\t\t\t\t</tr>\n\t\t\t\t\t\t\t<tr class=\"silverTableActive\">\n\t\t\t\t\t\t\t\t<td class=\"number\">10.</td>\n\t\t\t\t\t\t\t\t<td class=\"name\"><div style=\"display: block;\" id=\"rel_joueur92699Debut\" class=\"htmltip\">Van Persie</div></td>\n\t\t\t\t\t\t\t</tr>\n\t\t\t\t\t\t\t<tr class=\"silverTableActive\">\n\t\t\t\t\t\t\t\t<td class=\"number\">11.</td>\n\t\t\t\t\t\t\t\t<td class=\"name\"><div style=\"display: block;\" id=\"rel_joueur93579Debut\" class=\"htmltip\">Verratti</div></td>\n\t\t\t\t\t\t\t</tr>\n\t\t\t</tbody></table>\n\t\t</div>\n\t","\n\t\t<div class=\"sketch\">\n\t\t\t<img alt=\"\" src=\"http://web-static2.sublinet.prosoluce.fr/fmnew/1.1/public/images/game/foot/strategies/5-4-1.jpg\" width=\"300\" height=\"300\">\n\t\t</div>\n\t\t<div class=\"list\">\n\t\t\t<table class=\"silverTable\">\n\t\t\t\t<tbody><tr class=\"silverTableHeader\">\n\t\t\t\t\t<td class=\"number\">#</td>\n\t\t\t\t\t<td class=\"name\">Ptit Mat Killers\n\t\t\t\t\t</td>\n\t\t\t\t</tr>\n\t\t\t\t\t\t\t<tr class=\"silverTableActive\">\n\t\t\t\t\t\t\t\t<td class=\"number\">1.</td>\n\t\t\t\t\t\t\t\t<td class=\"name\"><div style=\"display: block;\" id=\"rel_joueur91609Debut\" class=\"htmltip\">Futur 8 - 636/720</div></td>\n\t\t\t\t\t\t\t</tr>\n\t\t\t\t\t\t\t<tr class=\"silverTableActive\">\n\t\t\t\t\t\t\t\t<td class=\"number\">2.</td>\n\t\t\t\t\t\t\t\t<td class=\"name\"><div style=\"display: block;\" id=\"rel_joueur90736Debut\" class=\"htmltip\">Hélène</div></td>\n\t\t\t\t\t\t\t</tr>\n\t\t\t\t\t\t\t<tr class=\"silverTableActive\">\n\t\t\t\t\t\t\t\t<td class=\"number\">3.</td>\n\t\t\t\t\t\t\t\t<td class=\"name\"><div style=\"display: block;\" id=\"rel_joueur91630Debut\" class=\"htmltip\">Futur 8 - 626/723</div></td>\n\t\t\t\t\t\t\t</tr>\n\t\t\t\t\t\t\t<tr class=\"silverTableActive\">\n\t\t\t\t\t\t\t\t<td class=\"number\">4.</td>\n\t\t\t\t\t\t\t\t<td class=\"name\"><div style=\"display: block;\" id=\"rel_joueur77767Debut\" class=\"htmltip\">Gogod</div></td>\n\t\t\t\t\t\t\t</tr>\n\t\t\t\t\t\t\t<tr class=\"silverTableActive\">\n\t\t\t\t\t\t\t\t<td class=\"number\">5.</td>\n\t\t\t\t\t\t\t\t<td class=\"name\"><div style=\"display: block;\" id=\"rel_joueur91570Debut\" class=\"htmltip\">Futur 6 - 662/709</div></td>\n\t\t\t\t\t\t\t</tr>\n\t\t\t\t\t\t\t<tr class=\"silverTableActive\">\n\t\t\t\t\t\t\t\t<td class=\"number\">6.</td>\n\t\t\t\t\t\t\t\t<td class=\"name\"><div style=\"display: block;\" id=\"rel_joueur89474Debut\" class=\"htmltip\">Boubouille</div></td>\n\t\t\t\t\t\t\t</tr>\n\t\t\t\t\t\t\t<tr class=\"silverTableActive\">\n\t\t\t\t\t\t\t\t<td class=\"number\">7.</td>\n\t\t\t\t\t\t\t\t<td class=\"name\"><div style=\"display: block;\" id=\"rel_joueur89506Debut\" class=\"htmltip\">Juan Luca</div></td>\n\t\t\t\t\t\t\t</tr>\n\t\t\t\t\t\t\t<tr class=\"silverTableActive\">\n\t\t\t\t\t\t\t\t<td class=\"number\">8.</td>\n\t\t\t\t\t\t\t\t<td class=\"name\"><div style=\"display: block;\" id=\"rel_joueur90733Debut\" class=\"htmltip\">Gael</div></td>\n\t\t\t\t\t\t\t</tr>\n\t\t\t\t\t\t\t<tr class=\"silverTableActive\">\n\t\t\t\t\t\t\t\t<td class=\"number\">9.</td>\n\t\t\t\t\t\t\t\t<td class=\"name\"><div style=\"display: block;\" id=\"rel_joueur90735Debut\" class=\"htmltip\">Remp 2</div></td>\n\t\t\t\t\t\t\t</tr>\n\t\t\t\t\t\t\t<tr class=\"silverTableActive\">\n\t\t\t\t\t\t\t\t<td class=\"number\">10.</td>\n\t\t\t\t\t\t\t\t<td class=\"name\"><div style=\"display: block;\" id=\"rel_joueur90769Debut\" class=\"htmltip\">Céline</div></td>\n\t\t\t\t\t\t\t</tr>\n\t\t\t\t\t\t\t<tr class=\"silverTableActive\">\n\t\t\t\t\t\t\t\t<td class=\"number\">11.</td>\n\t\t\t\t\t\t\t\t<td class=\"name\"><div style=\"display: block;\" id=\"rel_joueur89453Debut\" class=\"htmltip\">Ghislain</div></td>\n\t\t\t\t\t\t\t</tr>\n\t\t\t</tbody></table>\n\t\t</div>\n\t","\n\t\t<div class=\"sketch\">\n\t\t\t<img alt=\"\" src=\"http://web-static2.sublinet.prosoluce.fr/fmnew/1.1/public/images/game/foot/strategies/5-4-1.jpg\" width=\"300\" height=\"300\">\n\t\t</div>\n\t\t<div class=\"list\">\n\t\t\t<table class=\"silverTable\">\n\t\t\t\t<tbody><tr class=\"silverTableHeader\">\n\t\t\t\t\t<td class=\"number\">#</td>\n\t\t\t\t\t<td class=\"name\">FC Allan \n\t\t\t\t\t</td>\n\t\t\t\t</tr>\n\t\t\t\t\t\t\t<tr class=\"silverTableActive\">\n\t\t\t\t\t\t\t\t<td class=\"number\">1.</td>\n\t\t\t\t\t\t\t\t<td class=\"name\"><div style=\"display: block;\" id=\"rel_joueur93605Debut\" class=\"htmltip\">Gardien</div></td>\n\t\t\t\t\t\t\t</tr>\n\t\t\t\t\t\t\t<tr class=\"silverTableActive\">\n\t\t\t\t\t\t\t\t<td class=\"number\">2.</td>\n\t\t\t\t\t\t\t\t<td class=\"name\"><div style=\"display: block;\" id=\"rel_joueur87260Debut\" class=\"htmltip\">Honda</div></td>\n\t\t\t\t\t\t\t</tr>\n\t\t\t\t\t\t\t<tr class=\"silverTableActive\">\n\t\t\t\t\t\t\t\t<td class=\"number\">3.</td>\n\t\t\t\t\t\t\t\t<td class=\"name\"><div style=\"display: block;\" id=\"rel_joueur92938Debut\" class=\"htmltip\">Van Buyten</div></td>\n\t\t\t\t\t\t\t</tr>\n\t\t\t\t\t\t\t<tr class=\"silverTableActive\">\n\t\t\t\t\t\t\t\t<td class=\"number\">4.</td>\n\t\t\t\t\t\t\t\t<td class=\"name\"><div style=\"display: block;\" id=\"rel_joueur91092Debut\" class=\"htmltip\">Messi</div></td>\n\t\t\t\t\t\t\t</tr>\n\t\t\t\t\t\t\t<tr class=\"silverTableActive\">\n\t\t\t\t\t\t\t\t<td class=\"number\">5.</td>\n\t\t\t\t\t\t\t\t<td class=\"name\"><div style=\"display: block;\" id=\"rel_joueur92268Debut\" class=\"htmltip\">Wass</div></td>\n\t\t\t\t\t\t\t</tr>\n\t\t\t\t\t\t\t<tr class=\"silverTableActive\">\n\t\t\t\t\t\t\t\t<td class=\"number\">6.</td>\n\t\t\t\t\t\t\t\t<td class=\"name\"><div style=\"display: block;\" id=\"rel_joueur93145Debut\" class=\"htmltip\">Rooney</div></td>\n\t\t\t\t\t\t\t</tr>\n\t\t\t\t\t\t\t<tr class=\"silverTableActive\">\n\t\t\t\t\t\t\t\t<td class=\"number\">7.</td>\n\t\t\t\t\t\t\t\t<td class=\"name\"><div style=\"display: block;\" id=\"rel_joueur93579Debut\" class=\"htmltip\">Verratti</div></td>\n\t\t\t\t\t\t\t</tr>\n\t\t\t\t\t\t\t<tr class=\"silverTableActive\">\n\t\t\t\t\t\t\t\t<td class=\"number\">8.</td>\n\t\t\t\t\t\t\t\t<td class=\"name\"><div style=\"display: block;\" id=\"rel_joueur93209Debut\" class=\"htmltip\">Del Piero</div></td>\n\t\t\t\t\t\t\t</tr>\n\t\t\t\t\t\t\t<tr class=\"silverTableActive\">\n\t\t\t\t\t\t\t\t<td class=\"number\">9.</td>\n\t\t\t\t\t\t\t\t<td class=\"name\"><div style=\"display: block;\" id=\"rel_joueur93712Debut\" class=\"htmltip\">Taiwo</div></td>\n\t\t\t\t\t\t\t</tr>\n\t\t\t\t\t\t\t<tr class=\"silverTableActive\">\n\t\t\t\t\t\t\t\t<td class=\"number\">10.</td>\n\t\t\t\t\t\t\t\t<td class=\"name\"><div style=\"display: block;\" id=\"rel_joueur92699Debut\" class=\"htmltip\">Van Persie</div></td>\n\t\t\t\t\t\t\t</tr>\n\t\t\t\t\t\t\t<tr class=\"silverTableActive\">\n\t\t\t\t\t\t\t\t<td class=\"number\">11.</td>\n\t\t\t\t\t\t\t\t<td class=\"name\"><div style=\"display: block;\" id=\"rel_joueur91780Debut\" class=\"htmltip\">Boudebouz</div></td>\n\t\t\t\t\t\t\t</tr>\n\t\t\t</tbody></table>\n\t\t</div>\n\t","\n\t\t<div class=\"sketch\">\n\t\t\t<img alt=\"\" src=\"http://web-static2.sublinet.prosoluce.fr/fmnew/1.1/public/images/game/foot/strategies/5-4-1.jpg\" width=\"300\" height=\"300\">\n\t\t</div>\n\t\t<div class=\"list\">\n\t\t\t<table class=\"silverTable\">\n\t\t\t\t<tbody><tr class=\"silverTableHeader\">\n\t\t\t\t\t<td class=\"number\">#</td>\n\t\t\t\t\t<td class=\"name\">Ptit Mat Killers\n\t\t\t\t\t</td>\n\t\t\t\t</tr>\n\t\t\t\t\t\t\t<tr class=\"silverTableActive\">\n\t\t\t\t\t\t\t\t<td class=\"number\">1.</td>\n\t\t\t\t\t\t\t\t<td class=\"name\"><div style=\"display: block;\" id=\"rel_joueur91609Debut\" class=\"htmltip\">Futur 8 - 636/720</div></td>\n\t\t\t\t\t\t\t</tr>\n\t\t\t\t\t\t\t<tr class=\"silverTableActive\">\n\t\t\t\t\t\t\t\t<td class=\"number\">2.</td>\n\t\t\t\t\t\t\t\t<td class=\"name\"><div style=\"display: block;\" id=\"rel_joueur90736Debut\" class=\"htmltip\">Hélène</div></td>\n\t\t\t\t\t\t\t</tr>\n\t\t\t\t\t\t\t<tr class=\"silverTableActive\">\n\t\t\t\t\t\t\t\t<td class=\"number\">3.</td>\n\t\t\t\t\t\t\t\t<td class=\"name\"><div style=\"display: block;\" id=\"rel_joueur91630Debut\" class=\"htmltip\">Futur 8 - 626/723</div></td>\n\t\t\t\t\t\t\t</tr>\n\t\t\t\t\t\t\t<tr class=\"silverTableActive\">\n\t\t\t\t\t\t\t\t<td class=\"number\">4.</td>\n\t\t\t\t\t\t\t\t<td class=\"name\"><div style=\"display: block;\" id=\"rel_joueur77767Debut\" class=\"htmltip\">Gogod</div></td>\n\t\t\t\t\t\t\t</tr>\n\t\t\t\t\t\t\t<tr class=\"silverTableActive\">\n\t\t\t\t\t\t\t\t<td class=\"number\">5.</td>\n\t\t\t\t\t\t\t\t<td class=\"name\"><div style=\"display: block;\" id=\"rel_joueur91570Debut\" class=\"htmltip\">Futur 6 - 662/709</div></td>\n\t\t\t\t\t\t\t</tr>\n\t\t\t\t\t\t\t<tr class=\"silverTableActive\">\n\t\t\t\t\t\t\t\t<td class=\"number\">6.</td>\n\t\t\t\t\t\t\t\t<td class=\"name\"><div style=\"display: block;\" id=\"rel_joueur89474Debut\" class=\"htmltip\">Boubouille</div></td>\n\t\t\t\t\t\t\t</tr>\n\t\t\t\t\t\t\t<tr class=\"silverTableActive\">\n\t\t\t\t\t\t\t\t<td class=\"number\">7.</td>\n\t\t\t\t\t\t\t\t<td class=\"name\"><div style=\"display: block;\" id=\"rel_joueur89506Debut\" class=\"htmltip\">Juan Luca</div></td>\n\t\t\t\t\t\t\t</tr>\n\t\t\t\t\t\t\t<tr class=\"silverTableActive\">\n\t\t\t\t\t\t\t\t<td class=\"number\">8.</td>\n\t\t\t\t\t\t\t\t<td class=\"name\"><div style=\"display: block;\" id=\"rel_joueur90733Debut\" class=\"htmltip\">Gael</div></td>\n\t\t\t\t\t\t\t</tr>\n\t\t\t\t\t\t\t<tr class=\"silverTableActive\">\n\t\t\t\t\t\t\t\t<td class=\"number\">9.</td>\n\t\t\t\t\t\t\t\t<td class=\"name\"><div style=\"display: block;\" id=\"rel_joueur90735Debut\" class=\"htmltip\">Remp 2</div></td>\n\t\t\t\t\t\t\t</tr>\n\t\t\t\t\t\t\t<tr class=\"silverTableActive\">\n\t\t\t\t\t\t\t\t<td class=\"number\">10.</td>\n\t\t\t\t\t\t\t\t<td class=\"name\"><div style=\"display: block;\" id=\"rel_joueur90769Debut\" class=\"htmltip\">Céline</div></td>\n\t\t\t\t\t\t\t</tr>\n\t\t\t\t\t\t\t<tr class=\"silverTableActive\">\n\t\t\t\t\t\t\t\t<td class=\"number\">11.</td>\n\t\t\t\t\t\t\t\t<td class=\"name\"><div style=\"display: block;\" id=\"rel_joueur89453Debut\" class=\"htmltip\">Ghislain</div></td>\n\t\t\t\t\t\t\t</tr>\n\t\t\t</tbody></table>\n\t\t</div>\n\t","Bonus d'agressivité\r\n\r\n+0%","Bonus d'agressivité\r\n\r\n+0%","Bonus d'agressivité\r\n\r\n+0%","Bonus d'agressivité\r\n\r\n+0%",{"$f":"B3","v":"\nPtit Mat Killers"},{"$f":"SUBSTITUTE(SUBSTITUTE(MID(O3,SEARCH(\".jpg\",O3,1)-5,5),\"-\",\"\",1),\"-\",\"\",1)","v":"541"},{"$f":"SUBSTITUTE(SUBSTITUTE(MID(Q3,SEARCH(\".jpg\",Q3,1)-5,5),\"-\",\"\",1),\"-\",\"\",1)","v":"541"},{"$f":"MID(S3,SEARCH(\"+\",S3,1)+1,3)","v":"0%"},{"$f":"MID(U3,SEARCH(\"+\",U3,1)+1,3)","v":"0%"},{"$f":"D3","v":"\nFC Allan"},{"$f":"SUBSTITUTE(SUBSTITUTE(MID(N3,SEARCH(\".jpg\",N3,1)-5,5),\"-\",\"\",1),\"-\",\"\",1)","v":"352"},{"$f":"SUBSTITUTE(SUBSTITUTE(MID(P3,SEARCH(\".jpg\",P3,1)-5,5),\"-\",\"\",1),\"-\",\"\",1)","v":"541"},{"$f":"MID(R3,SEARCH(\"+\",R3,1)+1,5)","v":"0%"},{"$f":"MID(T3,SEARCH(\"+\",T3,1)+1,5)","v":"0%"},{"$f":"Feuil4!$J$1","v":"1 - 1"},{"$f":"Feuil4!$L$1","v":"2 - 3"},{"$f":"W3 &\" / \" &AB3 & CHAR(13) & AF3 & \" - \" &AG3 & CHAR(13) & Y3 & \"/\" & AD3 & \" - \" & Z3 & \"/\" &AE3","v":"541 / 352\r1 - 1 - 2 - 3\r0%/0% - 0%/0%"}]
["\n23/07/13 13:10 ","\ntiptop972","\n1 / 0 ","\nHermerswiller","23/07/13","<div class=\"element click small\" onclick=\"setUrl('./matchreport.php?id1=110825&amp;id2=17799&amp;date=1374577800&amp;server=1');\">\n\t\t\t<div class=\"innerElement\">\n\t\t\t\t<div class=\"match-result\">\n\t\t\t\t\t<div class=\"match-result-date\">\n\t\t\t\t\t\t23/07/13 13:10\n\t\t\t\t\t</div>\n\t\t\t\t\t<div class=\"match-result-dom\">\n\t\t<span style='background: url(\"http://web-static2.sublinet.prosoluce.fr/fmnew/1.1/public/images/game/icones/icones_pays_14.png\") no-repeat 0px -58px;' class=\"pays\">tiptop972</span>\n\t\t\t\t\t</div>\n\t\t\t\t\t<div class=\"match-result-score\">1 / 0\n\t\t\t\t\t</div>\n\t\t\t\t\t<div class=\"match-result-ext\">\n\t\t\t\t\tHermerswiller\n\t\t<span style='background: url(\"http://web-static2.sublinet.prosoluce.fr/fmnew/1.1/public/images/game/icones/icones_pays_14.png\") no-repeat 0px -58px;' class=\"pays\">&nbsp;</span>\n\t\t\t\t\t</div>\n\t\t\t\t</div>\n\t\t\t</div>\n\t\t</div>",1,50,126,"./matchreport.php?id1=110825&id2=17799&date=1374577800&server=1","./matchreport.php?id1=110825&id2=17799&date=1374577800&server=1&tab=1",null,"./matchreport.php?id1=110825&amp;id2=17799&amp;date=1374577800&amp;server=1","\n\t\t<div class=\"sketch\">\n\t\t\t<img alt=\"\" src=\"http://web-static2.sublinet.prosoluce.fr/fmnew/1.1/public/images/game/foot/strategies/3-5-2.jpg\" width=\"300\" height=\"300\">\n\t\t</div>\n\t\t<div class=\"list\">\n\t\t\t<table class=\"silverTable\">\n\t\t\t\t<tbody><tr class=\"silverTableHeader\">\n\t\t\t\t\t<td class=\"number\">#</td>\n\t\t\t\t\t<td class=\"name\">Hermerswiller\n\t\t\t\t\t</td>\n\t\t\t\t</tr>\n\t\t\t\t\t\t\t<tr class=\"silverTableActive\">\n\t\t\t\t\t\t\t\t<td class=\"number\">1.</td>\n\t\t\t\t\t\t\t\t<td class=\"name\"><div style=\"display: block;\" id=\"rel_joueur93281Debut\" class=\"htmltip\">1.Samir Handanovič</div></td>\n\t\t\t\t\t\t\t</tr>\n\t\t\t\t\t\t\t<tr class=\"silverTableActive\">\n\t\t\t\t\t\t\t\t<td class=\"number\">2.</td>\n\t\t\t\t\t\t\t\t<td class=\"name\"><div style=\"display: block;\" id=\"rel_joueur92414Debut\" class=\"htmltip\">2.Lee Jung-soo</div></td>\n\t\t\t\t\t\t\t</tr>\n\t\t\t\t\t\t\t<tr class=\"silverTableActive\">\n\t\t\t\t\t\t\t\t<td class=\"number\">3.</td>\n\t\t\t\t\t\t\t\t<td class=\"name\"><div style=\"display: block;\" id=\"rel_joueur90639Debut\" class=\"htmltip\">3.Boštjan Cesar</div></td>\n\t\t\t\t\t\t\t</tr>\n\t\t\t\t\t\t\t<tr class=\"silverTableActive\">\n\t\t\t\t\t\t\t\t<td class=\"number\">4.</td>\n\t\t\t\t\t\t\t\t<td class=\"name\"><div style=\"display: block;\" id=\"rel_joueur89114Debut\" class=\"htmltip\">4.Joleon Lescott</div></td>\n\t\t\t\t\t\t\t</tr>\n\t\t\t\t\t\t\t<tr class=\"silverTableActive\">\n\t\t\t\t\t\t\t\t<td class=\"number\">5.</td>\n\t\t\t\t\t\t\t\t<td class=\"name\"><div style=\"display: block;\" id=\"rel_joueur91049Debut\" class=\"htmltip\">5.Víctor Bernárdez</div></td>\n\t\t\t\t\t\t\t</tr>\n\t\t\t\t\t\t\t<tr class=\"silverTableActive\">\n\t\t\t\t\t\t\t\t<td class=\"number\">6.</td>\n\t\t\t\t\t\t\t\t<td class=\"name\"><div style=\"display: block;\" id=\"rel_joueur93504Debut\" class=\"htmltip\">6.Manuel Negrete</div></td>\n\t\t\t\t\t\t\t</tr>\n\t\t\t\t\t\t\t<tr class=\"silverTableActive\">\n\t\t\t\t\t\t\t\t<td class=\"number\">7.</td>\n\t\t\t\t\t\t\t\t<td class=\"name\"><div style=\"display: block;\" id=\"rel_joueur94244Debut\" class=\"htmltip\">7.Luiz Gustavo</div></td>\n\t\t\t\t\t\t\t</tr>\n\t\t\t\t\t\t\t<tr class=\"silverTableActive\">\n\t\t\t\t\t\t\t\t<td class=\"number\">8.</td>\n\t\t\t\t\t\t\t\t<td class=\"name\"><div style=\"display: block;\" id=\"rel_joueur93582Debut\" class=\"htmltip\">8.Xavi Hernández</div></td>\n\t\t\t\t\t\t\t</tr>\n\t\t\t\t\t\t\t<tr class=\"silverTableActive\">\n\t\t\t\t\t\t\t\t<td class=\"number\">9.</td>\n\t\t\t\t\t\t\t\t<td class=\"name\"><div style=\"display: block;\" id=\"rel_joueur90458Debut\" class=\"htmltip\">9.Cole Peverley</div></td>\n\t\t\t\t\t\t\t</tr>\n\t\t\t\t\t\t\t<tr class=\"silverTableActive\">\n\t\t\t\t\t\t\t\t<td class=\"number\">10.</td>\n\t\t\t\t\t\t\t\t<td class=\"name\"><div style=\"display: block;\" id=\"rel_joueur92425Debut\" class=\"htmltip\">10.José Francisco Torres</div></td>\n\t\t\t\t\t\t\t</tr>\n\t\t\t\t\t\t\t<tr class=\"silverTableActive\">\n\t\t\t\t\t\t\t\t<td class=\"number\">11.</td>\n\t\t\t\t\t\t\t\t<td class=\"name\"><div style=\"display: block;\" id=\"rel_joueur91081Debut\" class=\"htmltip\">11.Eduardo Salvio</div></td>\n\t\t\t\t\t\t\t</tr>\n\t\t\t</tbody></table>\n\t\t</div>\n\t","\n\t\t<div class=\"sketch\">\n\t\t\t<img alt=\"\" src=\"http://web-static2.sublinet.prosoluce.fr/fmnew/1.1/public/images/game/foot/strategies/5-4-1.jpg\" width=\"300\" height=\"300\">\n\t\t</div>\n\t\t<div class=\"list\">\n\t\t\t<table class=\"silverTable\">\n\t\t\t\t<tbody><tr class=\"silverTableHeader\">\n\t\t\t\t\t<td class=\"number\">#</td>\n\t\t\t\t\t<td class=\"name\">tiptop972\n\t\t\t\t\t</td>\n\t\t\t\t</tr>\n\t\t\t\t\t\t\t<tr class=\"silverTableActive\">\n\t\t\t\t\t\t\t\t<td class=\"number\">1.</td>\n\t\t\t\t\t\t\t\t<td class=\"name\"><div style=\"display: block;\" id=\"rel_joueur92749Debut\" class=\"htmltip\">1 </div></td>\n\t\t\t\t\t\t\t</tr>\n\t\t\t\t\t\t\t<tr class=\"silverTableActive\">\n\t\t\t\t\t\t\t\t<td class=\"number\">2.</td>\n\t\t\t\t\t\t\t\t<td class=\"name\"><div style=\"display: block;\" id=\"rel_joueur92748Debut\" class=\"htmltip\">2</div></td>\n\t\t\t\t\t\t\t</tr>\n\t\t\t\t\t\t\t<tr class=\"silverTableActive\">\n\t\t\t\t\t\t\t\t<td class=\"number\">3.</td>\n\t\t\t\t\t\t\t\t<td class=\"name\"><div style=\"display: block;\" id=\"rel_joueur92738Debut\" class=\"htmltip\"> 3 junior</div></td>\n\t\t\t\t\t\t\t</tr>\n\t\t\t\t\t\t\t<tr class=\"silverTableActive\">\n\t\t\t\t\t\t\t\t<td class=\"number\">4.</td>\n\t\t\t\t\t\t\t\t<td class=\"name\"><div style=\"display: block;\" id=\"rel_joueur93700Debut\" class=\"htmltip\">4</div></td>\n\t\t\t\t\t\t\t</tr>\n\t\t\t\t\t\t\t<tr class=\"silverTableActive\">\n\t\t\t\t\t\t\t\t<td class=\"number\">5.</td>\n\t\t\t\t\t\t\t\t<td class=\"name\"><div style=\"display: block;\" id=\"rel_joueur92730Debut\" class=\"htmltip\">5</div></td>\n\t\t\t\t\t\t\t</tr>\n\t\t\t\t\t\t\t<tr class=\"silverTableActive\">\n\t\t\t\t\t\t\t\t<td class=\"number\">6.</td>\n\t\t\t\t\t\t\t\t<td class=\"name\"><div style=\"display: block;\" id=\"rel_joueur89255Debut\" class=\"htmltip\">6</div></td>\n\t\t\t\t\t\t\t</tr>\n\t\t\t\t\t\t\t<tr class=\"silverTableActive\">\n\t\t\t\t\t\t\t\t<td class=\"number\">7.</td>\n\t\t\t\t\t\t\t\t<td class=\"name\"><div style=\"display: block;\" id=\"rel_joueur92430Debut\" class=\"htmltip\">7</div></td>\n\t\t\t\t\t\t\t</tr>\n\t\t\t\t\t\t\t<tr class=\"silverTableActive\">\n\t\t\t\t\t\t\t\t<td class=\"number\">8.</td>\n\t\t\t\t\t\t\t\t<td class=\"name\"><div style=\"display: block;\" id=\"rel_joueur92332Debut\" class=\"htmltip\">8</div></td>\n\t\t\t\t\t\t\t</tr>\n\t\t\t\t\t\t\t<tr class=\"silverTableActive\">\n\t\t\t\t\t\t\t\t<td class=\"number\">9.</td>\n\t\t\t\t\t\t\t\t<td class=\"name\"><div style=\"display: block;\" id=\"rel_joueur92896Debut\" class=\"htmltip\">9</div></td>\n\t\t\t\t\t\t\t</tr>\n\t\t\t\t\t\t\t<tr class=\"silverTableActive\">\n\t\t\t\t\t\t\t\t<td class=\"number\">10.</td>\n\t\t\t\t\t\t\t\t<td class=\"name\"><div style=\"display: block;\" id=\"rel_joueur92677Debut\" class=\"htmltip\">Palombe</div></td>\n\t\t\t\t\t\t\t</tr>\n\t\t\t\t\t\t\t<tr class=\"silverTableActive\">\n\t\t\t\t\t\t\t\t<td class=\"number\">11.</td>\n\t\t\t\t\t\t\t\t<td class=\"name\"><div style=\"display: block;\" id=\"rel_joueur92739Debut\" class=\"htmltip\">11</div></td>\n\t\t\t\t\t\t\t</tr>\n\t\t\t</tbody></table>\n\t\t</div>\n\t","\n\t\t<div class=\"sketch\">\n\t\t\t<img alt=\"\" src=\"http://web-static2.sublinet.prosoluce.fr/fmnew/1.1/public/images/game/foot/strategies/3-5-2.jpg\" width=\"300\" height=\"300\">\n\t\t</div>\n\t\t<div class=\"list\">\n\t\t\t<table class=\"silverTable\">\n\t\t\t\t<tbody><tr class=\"silverTableHeader\">\n\t\t\t\t\t<td class=\"number\">#</td>\n\t\t\t\t\t<td class=\"name\">Hermerswiller\n\t\t\t\t\t</td>\n\t\t\t\t</tr>\n\t\t\t\t\t\t\t<tr class=\"silverTableActive\">\n\t\t\t\t\t\t\t\t<td class=\"number\">1.</td>\n\t\t\t\t\t\t\t\t<td class=\"name\"><div style=\"display: block;\" id=\"rel_joueur93281Debut\" class=\"htmltip\">1.Samir Handanovič</div></td>\n\t\t\t\t\t\t\t</tr>\n\t\t\t\t\t\t\t<tr class=\"silverTableActive\">\n\t\t\t\t\t\t\t\t<td class=\"number\">2.</td>\n\t\t\t\t\t\t\t\t<td class=\"name\"><div style=\"display: block;\" id=\"rel_joueur92414Debut\" class=\"htmltip\">2.Lee Jung-soo</div></td>\n\t\t\t\t\t\t\t</tr>\n\t\t\t\t\t\t\t<tr class=\"silverTableActive\">\n\t\t\t\t\t\t\t\t<td class=\"number\">3.</td>\n\t\t\t\t\t\t\t\t<td class=\"name\"><div style=\"display: block;\" id=\"rel_joueur90639Debut\" class=\"htmltip\">3.Boštjan Cesar</div></td>\n\t\t\t\t\t\t\t</tr>\n\t\t\t\t\t\t\t<tr class=\"silverTableActive\">\n\t\t\t\t\t\t\t\t<td class=\"number\">4.</td>\n\t\t\t\t\t\t\t\t<td class=\"name\"><div style=\"display: block;\" id=\"rel_joueur89114Debut\" class=\"htmltip\">4.Joleon Lescott</div></td>\n\t\t\t\t\t\t\t</tr>\n\t\t\t\t\t\t\t<tr class=\"silverTableActive\">\n\t\t\t\t\t\t\t\t<td class=\"number\">5.</td>\n\t\t\t\t\t\t\t\t<td class=\"name\"><div style=\"display: block;\" id=\"rel_joueur91049Debut\" class=\"htmltip\">5.Víctor Bernárdez</div></td>\n\t\t\t\t\t\t\t</tr>\n\t\t\t\t\t\t\t<tr class=\"silverTableActive\">\n\t\t\t\t\t\t\t\t<td class=\"number\">6.</td>\n\t\t\t\t\t\t\t\t<td class=\"name\"><div style=\"display: block;\" id=\"rel_joueur93504Debut\" class=\"htmltip\">6.Manuel Negrete</div></td>\n\t\t\t\t\t\t\t</tr>\n\t\t\t\t\t\t\t<tr class=\"silverTableActive\">\n\t\t\t\t\t\t\t\t<td class=\"number\">7.</td>\n\t\t\t\t\t\t\t\t<td class=\"name\"><div style=\"display: block;\" id=\"rel_joueur94244Debut\" class=\"htmltip\">7.Luiz Gustavo</div></td>\n\t\t\t\t\t\t\t</tr>\n\t\t\t\t\t\t\t<tr class=\"silverTableActive\">\n\t\t\t\t\t\t\t\t<td class=\"number\">8.</td>\n\t\t\t\t\t\t\t\t<td class=\"name\"><div style=\"display: block;\" id=\"rel_joueur93582Debut\" class=\"htmltip\">8.Xavi Hernández</div></td>\n\t\t\t\t\t\t\t</tr>\n\t\t\t\t\t\t\t<tr class=\"silverTableActive\">\n\t\t\t\t\t\t\t\t<td class=\"number\">9.</td>\n\t\t\t\t\t\t\t\t<td class=\"name\"><div style=\"display: block;\" id=\"rel_joueur90458Debut\" class=\"htmltip\">9.Cole Peverley</div></td>\n\t\t\t\t\t\t\t</tr>\n\t\t\t\t\t\t\t<tr class=\"silverTableActive\">\n\t\t\t\t\t\t\t\t<td class=\"number\">10.</td>\n\t\t\t\t\t\t\t\t<td class=\"name\"><div style=\"display: block;\" id=\"rel_joueur92425Debut\" class=\"htmltip\">10.José Francisco Torres</div></td>\n\t\t\t\t\t\t\t</tr>\n\t\t\t\t\t\t\t<tr class=\"silverTableActive\">\n\t\t\t\t\t\t\t\t<td class=\"number\">11.</td>\n\t\t\t\t\t\t\t\t<td class=\"name\"><div style=\"display: block;\" id=\"rel_joueur91081Debut\" class=\"htmltip\">11.Eduardo Salvio</div></td>\n\t\t\t\t\t\t\t</tr>\n\t\t\t</tbody></table>\n\t\t</div>\n\t","\n\t\t<div class=\"sketch\">\n\t\t\t<img alt=\"\" src=\"http://web-static2.sublinet.prosoluce.fr/fmnew/1.1/public/images/game/foot/strategies/5-4-1.jpg\" width=\"300\" height=\"300\">\n\t\t</div>\n\t\t<div class=\"list\">\n\t\t\t<table class=\"silverTable\">\n\t\t\t\t<tbody><tr class=\"silverTableHeader\">\n\t\t\t\t\t<td class=\"number\">#</td>\n\t\t\t\t\t<td class=\"name\">tiptop972\n\t\t\t\t\t</td>\n\t\t\t\t</tr>\n\t\t\t\t\t\t\t<tr class=\"silverTableActive\">\n\t\t\t\t\t\t\t\t<td class=\"number\">1.</td>\n\t\t\t\t\t\t\t\t<td class=\"name\"><div style=\"display: block;\" id=\"rel_joueur92749Debut\" class=\"htmltip\">1 </div></td>\n\t\t\t\t\t\t\t</tr>\n\t\t\t\t\t\t\t<tr class=\"silverTableActive\">\n\t\t\t\t\t\t\t\t<td class=\"number\">2.</td>\n\t\t\t\t\t\t\t\t<td class=\"name\"><div style=\"display: block;\" id=\"rel_joueur92748Debut\" class=\"htmltip\">2</div></td>\n\t\t\t\t\t\t\t</tr>\n\t\t\t\t\t\t\t<tr class=\"silverTableActive\">\n\t\t\t\t\t\t\t\t<td class=\"number\">3.</td>\n\t\t\t\t\t\t\t\t<td class=\"name\"><div style=\"display: block;\" id=\"rel_joueur92738Debut\" class=\"htmltip\"> 3 junior</div></td>\n\t\t\t\t\t\t\t</tr>\n\t\t\t\t\t\t\t<tr class=\"silverTableActive\">\n\t\t\t\t\t\t\t\t<td class=\"number\">4.</td>\n\t\t\t\t\t\t\t\t<td class=\"name\"><div style=\"display: block;\" id=\"rel_joueur93700Debut\" class=\"htmltip\">4</div></td>\n\t\t\t\t\t\t\t</tr>\n\t\t\t\t\t\t\t<tr class=\"silverTableActive\">\n\t\t\t\t\t\t\t\t<td class=\"number\">5.</td>\n\t\t\t\t\t\t\t\t<td class=\"name\"><div style=\"display: block;\" id=\"rel_joueur92730Debut\" class=\"htmltip\">5</div></td>\n\t\t\t\t\t\t\t</tr>\n\t\t\t\t\t\t\t<tr class=\"silverTableActive\">\n\t\t\t\t\t\t\t\t<td class=\"number\">6.</td>\n\t\t\t\t\t\t\t\t<td class=\"name\"><div style=\"display: block;\" id=\"rel_joueur89255Debut\" class=\"htmltip\">6</div></td>\n\t\t\t\t\t\t\t</tr>\n\t\t\t\t\t\t\t<tr class=\"silverTableActive\">\n\t\t\t\t\t\t\t\t<td class=\"number\">7.</td>\n\t\t\t\t\t\t\t\t<td class=\"name\"><div style=\"display: block;\" id=\"rel_joueur92430Debut\" class=\"htmltip\">7</div></td>\n\t\t\t\t\t\t\t</tr>\n\t\t\t\t\t\t\t<tr class=\"silverTableActive\">\n\t\t\t\t\t\t\t\t<td class=\"number\">8.</td>\n\t\t\t\t\t\t\t\t<td class=\"name\"><div style=\"display: block;\" id=\"rel_joueur92332Debut\" class=\"htmltip\">8</div></td>\n\t\t\t\t\t\t\t</tr>\n\t\t\t\t\t\t\t<tr class=\"silverTableActive\">\n\t\t\t\t\t\t\t\t<td class=\"number\">9.</td>\n\t\t\t\t\t\t\t\t<td class=\"name\"><div style=\"display: block;\" id=\"rel_joueur92896Debut\" class=\"htmltip\">9</div></td>\n\t\t\t\t\t\t\t</tr>\n\t\t\t\t\t\t\t<tr class=\"silverTableActive\">\n\t\t\t\t\t\t\t\t<td class=\"number\">10.</td>\n\t\t\t\t\t\t\t\t<td class=\"name\"><div style=\"display: block;\" id=\"rel_joueur92677Debut\" class=\"htmltip\">Palombe</div></td>\n\t\t\t\t\t\t\t</tr>\n\t\t\t\t\t\t\t<tr class=\"silverTableActive\">\n\t\t\t\t\t\t\t\t<td class=\"number\">11.</td>\n\t\t\t\t\t\t\t\t<td class=\"name\"><div style=\"display: block;\" id=\"rel_joueur92739Debut\" class=\"htmltip\">11</div></td>\n\t\t\t\t\t\t\t</tr>\n\t\t\t</tbody></table>\n\t\t</div>\n\t","Bonus d'agressivité\r\n\r\n+0%","Bonus d'agressivité\r\n\r\n+0%","Bonus d'agressivité\r\n\r\n+0%","Bonus d'agressivité\r\n\r\n+0%","\ntiptop972",{"$f":"SUBSTITUTE(SUBSTITUTE(MID(O4,SEARCH(\".jpg\",O4,1)-5,5),\"-\",\"\",1),\"-\",\"\",1)","v":"541"},{"$f":"SUBSTITUTE(SUBSTITUTE(MID(Q4,SEARCH(\".jpg\",Q4,1)-5,5),\"-\",\"\",1),\"-\",\"\",1)","v":"541"},{"$f":"MID(S4,SEARCH(\"+\",S4,1)+1,3)","v":"0%"},{"$f":"MID(U4,SEARCH(\"+\",U4,1)+1,3)","v":"0%"},{"$f":"D4","v":"\nHermerswiller"},{"$f":"SUBSTITUTE(SUBSTITUTE(MID(N4,SEARCH(\".jpg\",N4,1)-5,5),\"-\",\"\",1),\"-\",\"\",1)","v":"352"},{"$f":"SUBSTITUTE(SUBSTITUTE(MID(P4,SEARCH(\".jpg\",P4,1)-5,5),\"-\",\"\",1),\"-\",\"\",1)","v":"352"},{"$f":"MID(R4,SEARCH(\"+\",R4,1)+1,5)","v":"0%"},{"$f":"MID(T4,SEARCH(\"+\",T4,1)+1,5)","v":"0%"},{"$f":"Feuil4!$J$1","v":"1 - 1"},{"$f":"Feuil4!$L$1","v":"2 - 3"},"541 / 352\r1 - 1 - 2 - 3\r0%/0% - 0%/0%"]
["\n23/07/13 13:10 ","\nFC PUYGOUZON","\n3 / 0 ","\nMSK Dijon","23/07/13","<div class=\"element click small\" onclick=\"setUrl('./matchreport.php?id1=85187&amp;id2=80955&amp;date=1374577800&amp;server=1');\">\n\t\t\t<div class=\"innerElement\">\n\t\t\t\t<div class=\"match-result\">\n\t\t\t\t\t<div class=\"match-result-date\">\n\t\t\t\t\t\t23/07/13 13:10\n\t\t\t\t\t</div>\n\t\t\t\t\t<div class=\"match-result-dom\">\n\t\t<span style='background: url(\"http://web-static2.sublinet.prosoluce.fr/fmnew/1.1/public/images/game/icones/icones_pays_14.png\") no-repeat 0px -58px;' class=\"pays\">FC PUYGOUZON</span>\n\t\t\t\t\t</div>\n\t\t\t\t\t<div class=\"match-result-score\">3 / 0\n\t\t\t\t\t</div>\n\t\t\t\t\t<div class=\"match-result-ext\">\n\t\t\t\t\tMSK Dijon\n\t\t<span style='background: url(\"http://web-static2.sublinet.prosoluce.fr/fmnew/1.1/public/images/game/icones/icones_pays_14.png\") no-repeat 0px -58px;' class=\"pays\">&nbsp;</span>\n\t\t\t\t\t</div>\n\t\t\t\t</div>\n\t\t\t</div>\n\t\t</div>",1,50,125,"./matchreport.php?id1=85187&id2=80955&date=1374577800&server=1","./matchreport.php?id1=85187&id2=80955&date=1374577800&server=1&tab=1",null,"./matchreport.php?id1=85187&amp;id2=80955&amp;date=1374577800&amp;server=1","\n\t\t<div class=\"sketch\">\n\t\t\t<img alt=\"\" src=\"http://web-static2.sublinet.prosoluce.fr/fmnew/1.1/public/images/game/foot/strategies/4-3-3.jpg\" width=\"300\" height=\"300\">\n\t\t</div>\n\t\t<div class=\"list\">\n\t\t\t<table class=\"silverTable\">\n\t\t\t\t<tbody><tr class=\"silverTableHeader\">\n\t\t\t\t\t<td class=\"number\">#</td>\n\t\t\t\t\t<td class=\"name\">MSK Dijon\n\t\t\t\t\t</td>\n\t\t\t\t</tr>\n\t\t\t\t\t\t\t<tr class=\"silverTableActive\">\n\t\t\t\t\t\t\t\t<td class=\"number\">1.</td>\n\t\t\t\t\t\t\t\t<td class=\"name\"><div style=\"display: block;\" id=\"rel_joueur94648Debut\" class=\"htmltip\">Meuse 21</div></td>\n\t\t\t\t\t\t\t</tr>\n\t\t\t\t\t\t\t<tr class=\"silverTableActive\">\n\t\t\t\t\t\t\t\t<td class=\"number\">2.</td>\n\t\t\t\t\t\t\t\t<td class=\"name\"><div style=\"display: block;\" id=\"rel_joueur93043Debut\" class=\"htmltip\">Kampa 21</div></td>\n\t\t\t\t\t\t\t</tr>\n\t\t\t\t\t\t\t<tr class=\"silverTableActive\">\n\t\t\t\t\t\t\t\t<td class=\"number\">3.</td>\n\t\t\t\t\t\t\t\t<td class=\"name\"><div style=\"display: block;\" id=\"rel_joueur90698Debut\" class=\"htmltip\">AN 2</div></td>\n\t\t\t\t\t\t\t</tr>\n\t\t\t\t\t\t\t<tr class=\"silverTableActive\">\n\t\t\t\t\t\t\t\t<td class=\"number\">4.</td>\n\t\t\t\t\t\t\t\t<td class=\"name\"><div style=\"display: block;\" id=\"rel_joueur85401Debut\" class=\"htmltip\">Zdenek 21</div></td>\n\t\t\t\t\t\t\t</tr>\n\t\t\t\t\t\t\t<tr class=\"silverTableActive\">\n\t\t\t\t\t\t\t\t<td class=\"number\">5.</td>\n\t\t\t\t\t\t\t\t<td class=\"name\"><div style=\"display: block;\" id=\"rel_joueur94808Debut\" class=\"htmltip\">Ondra 21</div></td>\n\t\t\t\t\t\t\t</tr>\n\t\t\t\t\t\t\t<tr class=\"silverTableActive\">\n\t\t\t\t\t\t\t\t<td class=\"number\">6.</td>\n\t\t\t\t\t\t\t\t<td class=\"name\"><div style=\"display: block;\" id=\"rel_joueur93244Debut\" class=\"htmltip\">Sebela 21</div></td>\n\t\t\t\t\t\t\t</tr>\n\t\t\t\t\t\t\t<tr class=\"silverTableActive\">\n\t\t\t\t\t\t\t\t<td class=\"number\">7.</td>\n\t\t\t\t\t\t\t\t<td class=\"name\"><div style=\"display: block;\" id=\"rel_joueur93706Debut\" class=\"htmltip\">Russian 21</div></td>\n\t\t\t\t\t\t\t</tr>\n\t\t\t\t\t\t\t<tr class=\"silverTableActive\">\n\t\t\t\t\t\t\t\t<td class=\"number\">8.</td>\n\t\t\t\t\t\t\t\t<td class=\"name\"><div style=\"display: block;\" id=\"rel_joueur94232Debut\" class=\"htmltip\">Sipp 21</div></td>\n\t\t\t\t\t\t\t</tr>\n\t\t\t\t\t\t\t<tr class=\"silverTableActive\">\n\t\t\t\t\t\t\t\t<td class=\"number\">9.</td>\n\t\t\t\t\t\t\t\t<td class=\"name\"><div style=\"display: block;\" id=\"rel_joueur94916Debut\" class=\"htmltip\">Paul 21</div></td>\n\t\t\t\t\t\t\t</tr>\n\t\t\t\t\t\t\t<tr class=\"silverTableActive\">\n\t\t\t\t\t\t\t\t<td class=\"number\">10.</td>\n\t\t\t\t\t\t\t\t<td class=\"name\"><div style=\"display: block;\" id=\"rel_joueur94509Debut\" class=\"htmltip\">Vaudoisey 21</div></td>\n\t\t\t\t\t\t\t</tr>\n\t\t\t\t\t\t\t<tr class=\"silverTableActive\">\n\t\t\t\t\t\t\t\t<td class=\"number\">11.</td>\n\t\t\t\t\t\t\t\t<td class=\"name\"><div style=\"display: block;\" id=\"rel_joueur94617Debut\" class=\"htmltip\">Legros 21</div></td>\n\t\t\t\t\t\t\t</tr>\n\t\t\t</tbody></table>\n\t\t</div>\n\t","\n\t\t<div class=\"sketch\">\n\t\t\t<img alt=\"\" src=\"http://web-static2.sublinet.prosoluce.fr/fmnew/1.1/public/images/game/foot/strategies/3-5-2.jpg\" width=\"300\" height=\"300\">\n\t\t</div>\n\t\t<div class=\"list\">\n\t\t\t<table class=\"silverTable\">\n\t\t\t\t<tbody><tr class=\"silverTableHeader\">\n\t\t\t\t\t<td class=\"number\">#</td>\n\t\t\t\t\t<td class=\"name\">FC PUYGOUZON\n\t\t\t\t\t</td>\n\t\t\t\t</tr>\n\t\t\t\t\t\t\t<tr class=\"silverTableActive\">\n\t\t\t\t\t\t\t\t<td class=\"number\">1.</td>\n\t\t\t\t\t\t\t\t<td class=\"name\"><div style=\"display: block;\" id=\"rel_joueur94410Debut\" class=\"htmltip\">01*398-770 FRANK BLACK</div></td>\n\t\t\t\t\t\t\t</tr>\n\t\t\t\t\t\t\t<tr class=\"silverTableActive\">\n\t\t\t\t\t\t\t\t<td class=\"number\">2.</td>\n\t\t\t\t\t\t\t\t<td class=\"name\"><div style=\"display: block;\" id=\"rel_joueur91997Debut\" class=\"htmltip\">07*696-737 BAUHAUS</div></td>\n\t\t\t\t\t\t\t</tr>\n\t\t\t\t\t\t\t<tr class=\"silverTableActive\">\n\t\t\t\t\t\t\t\t<td class=\"number\">3.</td>\n\t\t\t\t\t\t\t\t<td class=\"name\"><div style=\"display: block;\" id=\"rel_joueur93298Debut\" class=\"htmltip\">02*629-742 CONCRETE BLONDE</div></td>\n\t\t\t\t\t\t\t</tr>\n\t\t\t\t\t\t\t<tr class=\"silverTableActive\">\n\t\t\t\t\t\t\t\t<td class=\"number\">4.</td>\n\t\t\t\t\t\t\t\t<td class=\"name\"><div style=\"display: block;\" id=\"rel_joueur83807Debut\" class=\"htmltip\">RAMMSTEIN</div></td>\n\t\t\t\t\t\t\t</tr>\n\t\t\t\t\t\t\t<tr class=\"silverTableActive\">\n\t\t\t\t\t\t\t\t<td class=\"number\">5.</td>\n\t\t\t\t\t\t\t\t<td class=\"name\"><div style=\"display: block;\" id=\"rel_joueur83151Debut\" class=\"htmltip\">02 BOB DYLAN</div></td>\n\t\t\t\t\t\t\t</tr>\n\t\t\t\t\t\t\t<tr class=\"silverTableActive\">\n\t\t\t\t\t\t\t\t<td class=\"number\">6.</td>\n\t\t\t\t\t\t\t\t<td class=\"name\"><div style=\"display: block;\" id=\"rel_joueur92628Debut\" class=\"htmltip\">06*717-764 NEIL YOUNG</div></td>\n\t\t\t\t\t\t\t</tr>\n\t\t\t\t\t\t\t<tr class=\"silverTableActive\">\n\t\t\t\t\t\t\t\t<td class=\"number\">7.</td>\n\t\t\t\t\t\t\t\t<td class=\"name\"><div style=\"display: block;\" id=\"rel_joueur92250Debut\" class=\"htmltip\">06*684-740 LED ZEPPELIN</div></td>\n\t\t\t\t\t\t\t</tr>\n\t\t\t\t\t\t\t<tr class=\"silverTableActive\">\n\t\t\t\t\t\t\t\t<td class=\"number\">8.</td>\n\t\t\t\t\t\t\t\t<td class=\"name\"><div style=\"display: block;\" id=\"rel_joueur93215Debut\" class=\"htmltip\">06*720-760 ORCHESTRE ROUGE CAP</div></td>\n\t\t\t\t\t\t\t</tr>\n\t\t\t\t\t\t\t<tr class=\"silverTableActive\">\n\t\t\t\t\t\t\t\t<td class=\"number\">9.</td>\n\t\t\t\t\t\t\t\t<td class=\"name\"><div style=\"display: block;\" id=\"rel_joueur93910Debut\" class=\"htmltip\">09*645-770 MARC KNOPFLER</div></td>\n\t\t\t\t\t\t\t</tr>\n\t\t\t\t\t\t\t<tr class=\"silverTableActive\">\n\t\t\t\t\t\t\t\t<td class=\"number\">10.</td>\n\t\t\t\t\t\t\t\t<td class=\"name\"><div style=\"display: block;\" id=\"rel_joueur93647Debut\" class=\"htmltip\">10*595-753 JERRY CANTRELL</div></td>\n\t\t\t\t\t\t\t</tr>\n\t\t\t\t\t\t\t<tr class=\"silverTableActive\">\n\t\t\t\t\t\t\t\t<td class=\"number\">11.</td>\n\t\t\t\t\t\t\t\t<td class=\"name\"><div style=\"display: block;\" id=\"rel_joueur92177Debut\" class=\"htmltip\">08*648-757 MINISTRY</div></td>\n\t\t\t\t\t\t\t</tr>\n\t\t\t</tbody></table>\n\t\t</div>\n\t","\n\t\t<div class=\"sketch\">\n\t\t\t<img alt=\"\" src=\"http://web-static2.sublinet.prosoluce.fr/fmnew/1.1/public/images/game/foot/strategies/4-3-3.jpg\" width=\"300\" height=\"300\">\n\t\t</div>\n\t\t<div class=\"list\">\n\t\t\t<table class=\"silverTable\">\n\t\t\t\t<tbody><tr class=\"silverTableHeader\">\n\t\t\t\t\t<td class=\"number\">#</td>\n\t\t\t\t\t<td class=\"name\">MSK Dijon\n\t\t\t\t\t</td>\n\t\t\t\t</tr>\n\t\t\t\t\t\t\t<tr class=\"silverTableActive\">\n\t\t\t\t\t\t\t\t<td class=\"number\">1.</td>\n\t\t\t\t\t\t\t\t<td class=\"name\"><div style=\"display: block;\" id=\"rel_joueur94648Debut\" class=\"htmltip\">Meuse 21</div></td>\n\t\t\t\t\t\t\t</tr>\n\t\t\t\t\t\t\t<tr class=\"silverTableActive\">\n\t\t\t\t\t\t\t\t<td class=\"number\">2.</td>\n\t\t\t\t\t\t\t\t<td class=\"name\"><div style=\"display: block;\" id=\"rel_joueur93043Debut\" class=\"htmltip\">Kampa 21</div></td>\n\t\t\t\t\t\t\t</tr>\n\t\t\t\t\t\t\t<tr class=\"silverTableActive\">\n\t\t\t\t\t\t\t\t<td class=\"number\">3.</td>\n\t\t\t\t\t\t\t\t<td class=\"name\"><div style=\"display: block;\" id=\"rel_joueur90698Debut\" class=\"htmltip\">AN 2</div></td>\n\t\t\t\t\t\t\t</tr>\n\t\t\t\t\t\t\t<tr class=\"silverTableActive\">\n\t\t\t\t\t\t\t\t<td class=\"number\">4.</td>\n\t\t\t\t\t\t\t\t<td class=\"name\"><div style=\"display: block;\" id=\"rel_joueur85401Debut\" class=\"htmltip\">Zdenek 21</div></td>\n\t\t\t\t\t\t\t</tr>\n\t\t\t\t\t\t\t<tr class=\"silverTableActive\">\n\t\t\t\t\t\t\t\t<td class=\"number\">5.</td>\n\t\t\t\t\t\t\t\t<td class=\"name\"><div style=\"display: block;\" id=\"rel_joueur94808Debut\" class=\"htmltip\">Ondra 21</div></td>\n\t\t\t\t\t\t\t</tr>\n\t\t\t\t\t\t\t<tr class=\"silverTableActive\">\n\t\t\t\t\t\t\t\t<td class=\"number\">6.</td>\n\t\t\t\t\t\t\t\t<td class=\"name\"><div style=\"display: block;\" id=\"rel_joueur93244Debut\" class=\"htmltip\">Sebela 21</div></td>\n\t\t\t\t\t\t\t</tr>\n\t\t\t\t\t\t\t<tr class=\"silverTableActive\">\n\t\t\t\t\t\t\t\t<td class=\"number\">7.</td>\n\t\t\t\t\t\t\t\t<td class=\"name\"><div style=\"display: block;\" id=\"rel_joueur93706Debut\" class=\"htmltip\">Russian 21</div></td>\n\t\t\t\t\t\t\t</tr>\n\t\t\t\t\t\t\t<tr class=\"silverTableActive\">\n\t\t\t\t\t\t\t\t<td class=\"number\">8.</td>\n\t\t\t\t\t\t\t\t<td class=\"name\"><div style=\"display: block;\" id=\"rel_joueur94232Debut\" class=\"htmltip\">Sipp 21</div></td>\n\t\t\t\t\t\t\t</tr>\n\t\t\t\t\t\t\t<tr class=\"silverTableActive\">\n\t\t\t\t\t\t\t\t<td class=\"number\">9.</td>\n\t\t\t\t\t\t\t\t<td class=\"name\"><div style=\"display: block;\" id=\"rel_joueur94916Debut\" class=\"htmltip\">Paul 21</div></td>\n\t\t\t\t\t\t\t</tr>\n\t\t\t\t\t\t\t<tr class=\"silverTableActive\">\n\t\t\t\t\t\t\t\t<td class=\"number\">10.</td>\n\t\t\t\t\t\t\t\t<td class=\"name\"><div style=\"display: block;\" id=\"rel_joueur94509Debut\" class=\"htmltip\">Vaudoisey 21</div></td>\n\t\t\t\t\t\t\t</tr>\n\t\t\t\t\t\t\t<tr class=\"silverTableActive\">\n\t\t\t\t\t\t\t\t<td class=\"number\">11.</td>\n\t\t\t\t\t\t\t\t<td class=\"name\"><div style=\"display: block;\" id=\"rel_joueur94617Debut\" class=\"htmltip\">Legros 21</div></td>\n\t\t\t\t\t\t\t</tr>\n\t\t\t</tbody></table>\n\t\t</div>\n\t","\n\t\t<div class=\"sketch\">\n\t\t\t<img alt=\"\" src=\"http://web-static2.sublinet.prosoluce.fr/fmnew/1.1/public/images/game/foot/strategies/3-5-2.jpg\" width=\"300\" height=\"300\">\n\t\t</div>\n\t\t<div class=\"list\">\n\t\t\t<table class=\"silverTable\">\n\t\t\t\t<tbody><tr class=\"silverTableHeader\">\n\t\t\t\t\t<td class=\"number\">#</td>\n\t\t\t\t\t<td class=\"name\">FC PUYGOUZON\n\t\t\t\t\t</td>\n\t\t\t\t</tr>\n\t\t\t\t\t\t\t<tr class=\"silverTableActive\">\n\t\t\t\t\t\t\t\t<td class=\"number\">1.</td>\n\t\t\t\t\t\t\t\t<td class=\"name\"><div style=\"display: block;\" id=\"rel_joueur94410Debut\" class=\"htmltip\">01*398-770 FRANK BLACK</div></td>\n\t\t\t\t\t\t\t</tr>\n\t\t\t\t\t\t\t<tr class=\"silverTableActive\">\n\t\t\t\t\t\t\t\t<td class=\"number\">2.</td>\n\t\t\t\t\t\t\t\t<td class=\"name\"><div style=\"display: block;\" id=\"rel_joueur91997Debut\" class=\"htmltip\">07*696-737 BAUHAUS</div></td>\n\t\t\t\t\t\t\t</tr>\n\t\t\t\t\t\t\t<tr class=\"silverTableActive\">\n\t\t\t\t\t\t\t\t<td class=\"number\">3.</td>\n\t\t\t\t\t\t\t\t<td class=\"name\"><div style=\"display: block;\" id=\"rel_joueur93298Debut\" class=\"htmltip\">02*629-742 CONCRETE BLONDE</div></td>\n\t\t\t\t\t\t\t</tr>\n\t\t\t\t\t\t\t<tr class=\"silverTableActive\">\n\t\t\t\t\t\t\t\t<td class=\"number\">4.</td>\n\t\t\t\t\t\t\t\t<td class=\"name\"><div style=\"display: block;\" id=\"rel_joueur83807Debut\" class=\"htmltip\">RAMMSTEIN</div></td>\n\t\t\t\t\t\t\t</tr>\n\t\t\t\t\t\t\t<tr class=\"silverTableActive\">\n\t\t\t\t\t\t\t\t<td class=\"number\">5.</td>\n\t\t\t\t\t\t\t\t<td class=\"name\"><div style=\"display: block;\" id=\"rel_joueur83151Debut\" class=\"htmltip\">02 BOB DYLAN</div></td>\n\t\t\t\t\t\t\t</tr>\n\t\t\t\t\t\t\t<tr class=\"silverTableActive\">\n\t\t\t\t\t\t\t\t<td class=\"number\">6.</td>\n\t\t\t\t\t\t\t\t<td class=\"name\"><div style=\"display: block;\" id=\"rel_joueur92628Debut\" class=\"htmltip\">06*717-764 NEIL YOUNG</div></td>\n\t\t\t\t\t\t\t</tr>\n\t\t\t\t\t\t\t<tr class=\"silverTableActive\">\n\t\t\t\t\t\t\t\t<td class=\"number\">7.</td>\n\t\t\t\t\t\t\t\t<td class=\"name\"><div style=\"display: block;\" id=\"rel_joueur92250Debut\" class=\"htmltip\">06*684-740 LED ZEPPELIN</div></td>\n\t\t\t\t\t\t\t</tr>\n\t\t\t\t\t\t\t<tr class=\"silverTableActive\">\n\t\t\t\t\t\t\t\t<td class=\"number\">8.</td>\n\t\t\t\t\t\t\t\t<td class=\"name\"><div style=\"display: block;\" id=\"rel_joueur93215Debut\" class=\"htmltip\">06*720-760 ORCHESTRE ROUGE CAP</div></td>\n\t\t\t\t\t\t\t</tr>\n\t\t\t\t\t\t\t<tr class=\"silverTableActive\">\n\t\t\t\t\t\t\t\t<td class=\"number\">9.</td>\n\t\t\t\t\t\t\t\t<td class=\"name\"><div style=\"display: block;\" id=\"rel_joueur93910Debut\" class=\"htmltip\">09*645-770 MARC KNOPFLER</div></td>\n\t\t\t\t\t\t\t</tr>\n\t\t\t\t\t\t\t<tr class=\"silverTableActive\">\n\t\t\t\t\t\t\t\t<td class=\"number\">10.</td>\n\t\t\t\t\t\t\t\t<td class=\"name\"><div style=\"display: block;\" id=\"rel_joueur93647Debut\" class=\"htmltip\">10*595-753 JERRY CANTRELL</div></td>\n\t\t\t\t\t\t\t</tr>\n\t\t\t\t\t\t\t<tr class=\"silverTableActive\">\n\t\t\t\t\t\t\t\t<td class=\"number\">11.</td>\n\t\t\t\t\t\t\t\t<td class=\"name\"><div style=\"display: block;\" id=\"rel_joueur92177Debut\" class=\"htmltip\">08*648-757 MINISTRY</div></td>\n\t\t\t\t\t\t\t</tr>\n\t\t\t</tbody></table>\n\t\t</div>\n\t","Bonus d'agressivité\r\n\r\n+16%","Bonus d'agressivité\r\n\r\n+16%","Bonus d'agressivité\r\n\r\n+16%","Bonus d'agressivité\r\n\r\n+16%","\nFC PUYGOUZON",{"$f":"SUBSTITUTE(SUBSTITUTE(MID(O5,SEARCH(\".jpg\",O5,1)-5,5),\"-\",\"\",1),\"-\",\"\",1)","v":"352"},{"$f":"SUBSTITUTE(SUBSTITUTE(MID(Q5,SEARCH(\".jpg\",Q5,1)-5,5),\"-\",\"\",1),\"-\",\"\",1)","v":"352"},{"$f":"MID(S5,SEARCH(\"+\",S5,1)+1,3)","v":"16%"},{"$f":"MID(U5,SEARCH(\"+\",U5,1)+1,3)","v":"16%"},{"$f":"D5","v":"\nMSK Dijon"},{"$f":"SUBSTITUTE(SUBSTITUTE(MID(N5,SEARCH(\".jpg\",N5,1)-5,5),\"-\",\"\",1),\"-\",\"\",1)","v":"433"},{"$f":"SUBSTITUTE(SUBSTITUTE(MID(P5,SEARCH(\".jpg\",P5,1)-5,5),\"-\",\"\",1),\"-\",\"\",1)","v":"433"},{"$f":"MID(R5,SEARCH(\"+\",R5,1)+1,5)","v":"16%"},{"$f":"MID(T5,SEARCH(\"+\",T5,1)+1,5)","v":"16%"},{"$f":"Feuil4!$J$1","v":"1 - 1"},{"$f":"Feuil4!$L$1","v":"2 - 3"},"352 / 433\r1 - 1 - 2 - 3\r16%/16% - 16%/16%"]
["\n23/07/13 13:10 ","\nFCSM25","\n3 / 0 ","\nLa Fronde","23/07/13","<div class=\"element click small\" onclick=\"setUrl('./matchreport.php?id1=5719&amp;id2=487&amp;date=1374577800&amp;server=1');\">\n\t\t\t<div class=\"innerElement\">\n\t\t\t\t<div class=\"match-result\">\n\t\t\t\t\t<div class=\"match-result-date\">\n\t\t\t\t\t\t23/07/13 13:10\n\t\t\t\t\t</div>\n\t\t\t\t\t<div class=\"match-result-dom\">\n\t\t<span style='background: url(\"http://web-static2.sublinet.prosoluce.fr/fmnew/1.1/public/images/game/icones/icones_pays_14.png\") no-repeat 0px -58px;' class=\"pays\">FCSM25</span>\n\t\t\t\t\t</div>\n\t\t\t\t\t<div class=\"match-result-score\">3 / 0\n\t\t\t\t\t</div>\n\t\t\t\t\t<div class=\"match-result-ext\">\n\t\t\t\t\tLa Fronde\n\t\t<span style='background: url(\"http://web-static2.sublinet.prosoluce.fr/fmnew/1.1/public/images/game/icones/icones_pays_14.png\") no-repeat 0px -58px;' class=\"pays\">&nbsp;</span>\n\t\t\t\t\t</div>\n\t\t\t\t</div>\n\t\t\t</div>\n\t\t</div>",1,50,122,"./matchreport.php?id1=5719&id2=487&date=1374577800&server=1","./matchreport.php?id1=5719&id2=487&date=1374577800&server=1&tab=1",null,"./matchreport.php?id1=5719&amp;id2=487&amp;date=1374577800&amp;server=1","\n\t\t<div class=\"sketch\">\n\t\t\t<img alt=\"\" src=\"http://web-static2.sublinet.prosoluce.fr/fmnew/1.1/public/images/game/foot/strategies/4-4-2.jpg\" width=\"300\" height=\"300\">\n\t\t</div>\n\t\t<div class=\"list\">\n\t\t\t<table class=\"silverTable\">\n\t\t\t\t<tbody><tr class=\"silverTableHeader\">\n\t\t\t\t\t<td class=\"number\">#</td>\n\t\t\t\t\t<td class=\"name\">La Fronde\n\t\t\t\t\t</td>\n\t\t\t\t</tr>\n\t\t\t\t\t\t\t<tr class=\"silverTableActive\">\n\t\t\t\t\t\t\t\t<td class=\"number\">1.</td>\n\t\t\t\t\t\t\t\t<td class=\"name\"><div style=\"display: block;\" id=\"rel_joueur94720Debut\" class=\"htmltip\">ElBandito</div></td>\n\t\t\t\t\t\t\t</tr>\n\t\t\t\t\t\t\t<tr class=\"silverTableActive\">\n\t\t\t\t\t\t\t\t<td class=\"number\">2.</td>\n\t\t\t\t\t\t\t\t<td class=\"name\"><div style=\"display: block;\" id=\"rel_joueur92394Debut\" class=\"htmltip\">Kunkun</div></td>\n\t\t\t\t\t\t\t</tr>\n\t\t\t\t\t\t\t<tr class=\"silverTableActive\">\n\t\t\t\t\t\t\t\t<td class=\"number\">3.</td>\n\t\t\t\t\t\t\t\t<td class=\"name\"><div style=\"display: block;\" id=\"rel_joueur92192Debut\" class=\"htmltip\">zaff 2/3</div></td>\n\t\t\t\t\t\t\t</tr>\n\t\t\t\t\t\t\t<tr class=\"silverTableActive\">\n\t\t\t\t\t\t\t\t<td class=\"number\">4.</td>\n\t\t\t\t\t\t\t\t<td class=\"name\"><div style=\"display: block;\" id=\"rel_joueur92106Debut\" class=\"htmltip\">C04</div></td>\n\t\t\t\t\t\t\t</tr>\n\t\t\t\t\t\t\t<tr class=\"silverTableActive\">\n\t\t\t\t\t\t\t\t<td class=\"number\">5.</td>\n\t\t\t\t\t\t\t\t<td class=\"name\"><div style=\"display: block;\" id=\"rel_joueur91052Debut\" class=\"htmltip\">C08</div></td>\n\t\t\t\t\t\t\t</tr>\n\t\t\t\t\t\t\t<tr class=\"silverTableActive\">\n\t\t\t\t\t\t\t\t<td class=\"number\">6.</td>\n\t\t\t\t\t\t\t\t<td class=\"name\"><div style=\"display: block;\" id=\"rel_joueur94495Debut\" class=\"htmltip\">07France</div></td>\n\t\t\t\t\t\t\t</tr>\n\t\t\t\t\t\t\t<tr class=\"silverTableActive\">\n\t\t\t\t\t\t\t\t<td class=\"number\">7.</td>\n\t\t\t\t\t\t\t\t<td class=\"name\"><div style=\"display: block;\" id=\"rel_joueur82908Debut\" class=\"htmltip\">Lary Vegosh T4</div></td>\n\t\t\t\t\t\t\t</tr>\n\t\t\t\t\t\t\t<tr class=\"silverTableActive\">\n\t\t\t\t\t\t\t\t<td class=\"number\">8.</td>\n\t\t\t\t\t\t\t\t<td class=\"name\"><div style=\"display: block;\" id=\"rel_joueur92339Debut\" class=\"htmltip\">Jeune 6/7</div></td>\n\t\t\t\t\t\t\t</tr>\n\t\t\t\t\t\t\t<tr class=\"silverTableActive\">\n\t\t\t\t\t\t\t\t<td class=\"number\">9.</td>\n\t\t\t\t\t\t\t\t<td class=\"name\"><div style=\"display: block;\" id=\"rel_joueur94910Debut\" class=\"htmltip\">ElGuevara</div></td>\n\t\t\t\t\t\t\t</tr>\n\t\t\t\t\t\t\t<tr class=\"silverTableActive\">\n\t\t\t\t\t\t\t\t<td class=\"number\">10.</td>\n\t\t\t\t\t\t\t\t<td class=\"name\"><div style=\"display: block;\" id=\"rel_joueur93743Debut\" class=\"htmltip\">star</div></td>\n\t\t\t\t\t\t\t</tr>\n\t\t\t\t\t\t\t<tr class=\"silverTableActive\">\n\t\t\t\t\t\t\t\t<td class=\"number\">11.</td>\n\t\t\t\t\t\t\t\t<td class=\"name\"><div style=\"display: block;\" id=\"rel_joueur94719Debut\" class=\"htmltip\">Frondeur</div></td>\n\t\t\t\t\t\t\t</tr>\n\t\t\t</tbody></table>\n\t\t</div>\n\t","\n\t\t<div class=\"sketch\">\n\t\t\t<img alt=\"\" src=\"http://web-static2.sublinet.prosoluce.fr/fmnew/1.1/public/images/game/foot/strategies/4-4-2.jpg\" width=\"300\" height=\"300\">\n\t\t</div>\n\t\t<div class=\"list\">\n\t\t\t<table class=\"silverTable\">\n\t\t\t\t<tbody><tr class=\"silverTableHeader\">\n\t\t\t\t\t<td class=\"number\">#</td>\n\t\t\t\t\t<td class=\"name\">FCSM25\n\t\t\t\t\t</td>\n\t\t\t\t</tr>\n\t\t\t\t\t\t\t<tr class=\"silverTableActive\">\n\t\t\t\t\t\t\t\t<td class=\"number\">1.</td>\n\t\t\t\t\t\t\t\t<td class=\"name\"><div style=\"display: block;\" id=\"rel_joueur93645Debut\" class=\"htmltip\">1</div></td>\n\t\t\t\t\t\t\t</tr>\n\t\t\t\t\t\t\t<tr class=\"silverTableActive\">\n\t\t\t\t\t\t\t\t<td class=\"number\">2.</td>\n\t\t\t\t\t\t\t\t<td class=\"name\"><div style=\"display: block;\" id=\"rel_joueur74870Debut\" class=\"htmltip\">12</div></td>\n\t\t\t\t\t\t\t</tr>\n\t\t\t\t\t\t\t<tr class=\"silverTableActive\">\n\t\t\t\t\t\t\t\t<td class=\"number\">3.</td>\n\t\t\t\t\t\t\t\t<td class=\"name\"><div style=\"display: block;\" id=\"rel_joueur87920Debut\" class=\"htmltip\">3</div></td>\n\t\t\t\t\t\t\t</tr>\n\t\t\t\t\t\t\t<tr class=\"silverTableActive\">\n\t\t\t\t\t\t\t\t<td class=\"number\">4.</td>\n\t\t\t\t\t\t\t\t<td class=\"name\"><div style=\"display: block;\" id=\"rel_joueur87918Debut\" class=\"htmltip\">4</div></td>\n\t\t\t\t\t\t\t</tr>\n\t\t\t\t\t\t\t<tr class=\"silverTableActive\">\n\t\t\t\t\t\t\t\t<td class=\"number\">5.</td>\n\t\t\t\t\t\t\t\t<td class=\"name\"><div style=\"display: block;\" id=\"rel_joueur93345Debut\" class=\"htmltip\">5</div></td>\n\t\t\t\t\t\t\t</tr>\n\t\t\t\t\t\t\t<tr class=\"silverTableActive\">\n\t\t\t\t\t\t\t\t<td class=\"number\">6.</td>\n\t\t\t\t\t\t\t\t<td class=\"name\"><div style=\"display: block;\" id=\"rel_joueur87922Debut\" class=\"htmltip\">6</div></td>\n\t\t\t\t\t\t\t</tr>\n\t\t\t\t\t\t\t<tr class=\"silverTableActive\">\n\t\t\t\t\t\t\t\t<td class=\"number\">7.</td>\n\t\t\t\t\t\t\t\t<td class=\"name\"><div style=\"display: block;\" id=\"rel_joueur91288Debut\" class=\"htmltip\">7</div></td>\n\t\t\t\t\t\t\t</tr>\n\t\t\t\t\t\t\t<tr class=\"silverTableActive\">\n\t\t\t\t\t\t\t\t<td class=\"number\">8.</td>\n\t\t\t\t\t\t\t\t<td class=\"name\"><div style=\"display: block;\" id=\"rel_joueur93438Debut\" class=\"htmltip\">8</div></td>\n\t\t\t\t\t\t\t</tr>\n\t\t\t\t\t\t\t<tr class=\"silverTableActive\">\n\t\t\t\t\t\t\t\t<td class=\"number\">9.</td>\n\t\t\t\t\t\t\t\t<td class=\"name\"><div style=\"display: block;\" id=\"rel_joueur93763Debut\" class=\"htmltip\">9</div></td>\n\t\t\t\t\t\t\t</tr>\n\t\t\t\t\t\t\t<tr class=\"silverTableActive\">\n\t\t\t\t\t\t\t\t<td class=\"number\">10.</td>\n\t\t\t\t\t\t\t\t<td class=\"name\"><div style=\"display: block;\" id=\"rel_joueur87919Debut\" class=\"htmltip\">10</div></td>\n\t\t\t\t\t\t\t</tr>\n\t\t\t\t\t\t\t<tr class=\"silverTableActive\">\n\t\t\t\t\t\t\t\t<td class=\"number\">11.</td>\n\t\t\t\t\t\t\t\t<td class=\"name\"><div style=\"display: block;\" id=\"rel_joueur91228Debut\" class=\"htmltip\">11</div></td>\n\t\t\t\t\t\t\t</tr>\n\t\t\t</tbody></table>\n\t\t</div>\n\t","\n\t\t<div class=\"sketch\">\n\t\t\t<img alt=\"\" src=\"http://web-static2.sublinet.prosoluce.fr/fmnew/1.1/public/images/game/foot/strategies/4-4-2.jpg\" width=\"300\" height=\"300\">\n\t\t</div>\n\t\t<div class=\"list\">\n\t\t\t<table class=\"silverTable\">\n\t\t\t\t<tbody><tr class=\"silverTableHeader\">\n\t\t\t\t\t<td class=\"number\">#</td>\n\t\t\t\t\t<td class=\"name\">La Fronde\n\t\t\t\t\t</td>\n\t\t\t\t</tr>\n\t\t\t\t\t\t\t<tr class=\"silverTableActive\">\n\t\t\t\t\t\t\t\t<td class=\"number\">1.</td>\n\t\t\t\t\t\t\t\t<td class=\"name\"><div style=\"display: block;\" id=\"rel_joueur94720Debut\" class=\"htmltip\">ElBandito</div></td>\n\t\t\t\t\t\t\t</tr>\n\t\t\t\t\t\t\t<tr class=\"silverTableActive\">\n\t\t\t\t\t\t\t\t<td class=\"number\">2.</td>\n\t\t\t\t\t\t\t\t<td class=\"name\"><div style=\"display: block;\" id=\"rel_joueur92394Debut\" class=\"htmltip\">Kunkun</div></td>\n\t\t\t\t\t\t\t</tr>\n\t\t\t\t\t\t\t<tr class=\"silverTableActive\">\n\t\t\t\t\t\t\t\t<td class=\"number\">3.</td>\n\t\t\t\t\t\t\t\t<td class=\"name\"><div style=\"display: block;\" id=\"rel_joueur92192Debut\" class=\"htmltip\">zaff 2/3</div></td>\n\t\t\t\t\t\t\t</tr>\n\t\t\t\t\t\t\t<tr class=\"silverTableActive\">\n\t\t\t\t\t\t\t\t<td class=\"number\">4.</td>\n\t\t\t\t\t\t\t\t<td class=\"name\"><div style=\"display: block;\" id=\"rel_joueur92106Debut\" class=\"htmltip\">C04</div></td>\n\t\t\t\t\t\t\t</tr>\n\t\t\t\t\t\t\t<tr class=\"silverTableActive\">\n\t\t\t\t\t\t\t\t<td class=\"number\">5.</td>\n\t\t\t\t\t\t\t\t<td class=\"name\"><div style=\"display: block;\" id=\"rel_joueur91052Debut\" class=\"htmltip\">C08</div></td>\n\t\t\t\t\t\t\t</tr>\n\t\t\t\t\t\t\t<tr class=\"silverTableActive\">\n\t\t\t\t\t\t\t\t<td class=\"number\">6.</td>\n\t\t\t\t\t\t\t\t<td class=\"name\"><div style=\"display: block;\" id=\"rel_joueur94495Debut\" class=\"htmltip\">07France</div></td>\n\t\t\t\t\t\t\t</tr>\n\t\t\t\t\t\t\t<tr class=\"silverTableActive\">\n\t\t\t\t\t\t\t\t<td class=\"number\">7.</td>\n\t\t\t\t\t\t\t\t<td class=\"name\"><div style=\"display: block;\" id=\"rel_joueur82908Debut\" class=\"htmltip\">Lary Vegosh T4</div></td>\n\t\t\t\t\t\t\t</tr>\n\t\t\t\t\t\t\t<tr class=\"silverTableActive\">\n\t\t\t\t\t\t\t\t<td class=\"number\">8.</td>\n\t\t\t\t\t\t\t\t<td class=\"name\"><div style=\"display: block;\" id=\"rel_joueur92339Debut\" class=\"htmltip\">Jeune 6/7</div></td>\n\t\t\t\t\t\t\t</tr>\n\t\t\t\t\t\t\t<tr class=\"silverTableActive\">\n\t\t\t\t\t\t\t\t<td class=\"number\">9.</td>\n\t\t\t\t\t\t\t\t<td class=\"name\"><div style=\"display: block;\" id=\"rel_joueur94910Debut\" class=\"htmltip\">ElGuevara</div></td>\n\t\t\t\t\t\t\t</tr>\n\t\t\t\t\t\t\t<tr class=\"silverTableActive\">\n\t\t\t\t\t\t\t\t<td class=\"number\">10.</td>\n\t\t\t\t\t\t\t\t<td class=\"name\"><div style=\"display: block;\" id=\"rel_joueur93743Debut\" class=\"htmltip\">star</div></td>\n\t\t\t\t\t\t\t</tr>\n\t\t\t\t\t\t\t<tr class=\"silverTableActive\">\n\t\t\t\t\t\t\t\t<td class=\"number\">11.</td>\n\t\t\t\t\t\t\t\t<td class=\"name\"><div style=\"display: block;\" id=\"rel_joueur94719Debut\" class=\"htmltip\">Frondeur</div></td>\n\t\t\t\t\t\t\t</tr>\n\t\t\t</tbody></table>\n\t\t</div>\n\t","\n\t\t<div class=\"sketch\">\n\t\t\t<img alt=\"\" src=\"http://web-static2.sublinet.prosoluce.fr/fmnew/1.1/public/images/game/foot/strategies/3-5-2.jpg\" width=\"300\" height=\"300\">\n\t\t</div>\n\t\t<div class=\"list\">\n\t\t\t<table class=\"silverTable\">\n\t\t\t\t<tbody><tr class=\"silverTableHeader\">\n\t\t\t\t\t<td class=\"number\">#</td>\n\t\t\t\t\t<td class=\"name\">FCSM25\n\t\t\t\t\t</td>\n\t\t\t\t</tr>\n\t\t\t\t\t\t\t<tr class=\"silverTableActive\">\n\t\t\t\t\t\t\t\t<td class=\"number\">1.</td>\n\t\t\t\t\t\t\t\t<td class=\"name\"><div style=\"display: block;\" id=\"rel_joueur93645Debut\" class=\"htmltip\">1</div></td>\n\t\t\t\t\t\t\t</tr>\n\t\t\t\t\t\t\t<tr class=\"silverTableActive\">\n\t\t\t\t\t\t\t\t<td class=\"number\">2.</td>\n\t\t\t\t\t\t\t\t<td class=\"name\"><div style=\"display: block;\" id=\"rel_joueur74870Debut\" class=\"htmltip\">12</div></td>\n\t\t\t\t\t\t\t</tr>\n\t\t\t\t\t\t\t<tr class=\"silverTableActive\">\n\t\t\t\t\t\t\t\t<td class=\"number\">3.</td>\n\t\t\t\t\t\t\t\t<td class=\"name\"><div style=\"display: block;\" id=\"rel_joueur87920Debut\" class=\"htmltip\">3</div></td>\n\t\t\t\t\t\t\t</tr>\n\t\t\t\t\t\t\t<tr class=\"silverTableActive\">\n\t\t\t\t\t\t\t\t<td class=\"number\">4.</td>\n\t\t\t\t\t\t\t\t<td class=\"name\"><div style=\"display: block;\" id=\"rel_joueur87918Debut\" class=\"htmltip\">4</div></td>\n\t\t\t\t\t\t\t</tr>\n\t\t\t\t\t\t\t<tr class=\"silverTableActive\">\n\t\t\t\t\t\t\t\t<td class=\"number\">5.</td>\n\t\t\t\t\t\t\t\t<td class=\"name\"><div style=\"display: block;\" id=\"rel_joueur93345Debut\" class=\"htmltip\">5</div></td>\n\t\t\t\t\t\t\t</tr>\n\t\t\t\t\t\t\t<tr class=\"silverTableActive\">\n\t\t\t\t\t\t\t\t<td class=\"number\">6.</td>\n\t\t\t\t\t\t\t\t<td class=\"name\"><div style=\"display: block;\" id=\"rel_joueur87922Debut\" class=\"htmltip\">6</div></td>\n\t\t\t\t\t\t\t</tr>\n\t\t\t\t\t\t\t<tr class=\"silverTableActive\">\n\t\t\t\t\t\t\t\t<td class=\"number\">7.</td>\n\t\t\t\t\t\t\t\t<td class=\"name\"><div style=\"display: block;\" id=\"rel_joueur91288Debut\" class=\"htmltip\">7</div></td>\n\t\t\t\t\t\t\t</tr>\n\t\t\t\t\t\t\t<tr class=\"silverTableActive\">\n\t\t\t\t\t\t\t\t<td class=\"number\">8.</td>\n\t\t\t\t\t\t\t\t<td class=\"name\"><div style=\"display: block;\" id=\"rel_joueur93438Debut\" class=\"htmltip\">8</div></td>\n\t\t\t\t\t\t\t</tr>\n\t\t\t\t\t\t\t<tr class=\"silverTableActive\">\n\t\t\t\t\t\t\t\t<td class=\"number\">9.</td>\n\t\t\t\t\t\t\t\t<td class=\"name\"><div style=\"display: block;\" id=\"rel_joueur93763Debut\" class=\"htmltip\">9</div></td>\n\t\t\t\t\t\t\t</tr>\n\t\t\t\t\t\t\t<tr class=\"silverTableActive\">\n\t\t\t\t\t\t\t\t<td class=\"number\">10.</td>\n\t\t\t\t\t\t\t\t<td class=\"name\"><div style=\"display: block;\" id=\"rel_joueur87919Debut\" class=\"htmltip\">10</div></td>\n\t\t\t\t\t\t\t</tr>\n\t\t\t\t\t\t\t<tr class=\"silverTableActive\">\n\t\t\t\t\t\t\t\t<td class=\"number\">11.</td>\n\t\t\t\t\t\t\t\t<td class=\"name\"><div style=\"display: block;\" id=\"rel_joueur91228Debut\" class=\"htmltip\">11</div></td>\n\t\t\t\t\t\t\t</tr>\n\t\t\t</tbody></table>\n\t\t</div>\n\t","Bonus d'agressivité\r\n\r\n+16%","Bonus d'agressivité\r\n\r\n+16%","Bonus d'agressivité\r\n\r\n+16%","Bonus d'agressivité\r\n\r\n+16%","\nFCSM25","442","352","16%","16%","\nLa Fronde","442","442","16%","16%",{"$f":"Feuil4!$J$1","v":"1 - 1"},{"$f":"Feuil4!$L$1","v":"2 - 3"},"442 / 442\r1 - 1 - 2 - 3\r16%/16% - 16%/16%"]
["\n23/07/13 13:10 ","\nBaîla","\n2 / 3 ","\nMercutioloose","23/07/13","<div class=\"element click small\" onclick=\"setUrl('./matchreport.php?id1=1917&amp;id2=94170&amp;date=1374577800&amp;server=1');\">\n\t\t\t<div class=\"innerElement\">\n\t\t\t\t<div class=\"match-result\">\n\t\t\t\t\t<div class=\"match-result-date\">\n\t\t\t\t\t\t23/07/13 13:10\n\t\t\t\t\t</div>\n\t\t\t\t\t<div class=\"match-result-dom\">\n\t\t<span style='background: url(\"http://web-static2.sublinet.prosoluce.fr/fmnew/1.1/public/images/game/icones/icones_pays_14.png\") no-repeat 0px -58px;' class=\"pays\">Baîla</span>\n\t\t\t\t\t</div>\n\t\t\t\t\t<div class=\"match-result-score\">2 / 3\n\t\t\t\t\t</div>\n\t\t\t\t\t<div class=\"match-result-ext\">\n\t\t\t\t\tMercutioloose\n\t\t<span style='background: url(\"http://web-static2.sublinet.prosoluce.fr/fmnew/1.1/public/images/game/icones/icones_pays_14.png\") no-repeat 0px -58px;' class=\"pays\">&nbsp;</span>\n\t\t\t\t\t</div>\n\t\t\t\t</div>\n\t\t\t</div>\n\t\t</div>",1,50,124,"./matchreport.php?id1=1917&id2=94170&date=1374577800&server=1","./matchreport.php?id1=1917&id2=94170&date=1374577800&server=1&tab=1",null,"./matchreport.php?id1=1917&amp;id2=94170&amp;date=1374577800&amp;server=1","\n\t\t<div class=\"sketch\">\n\t\t\t<img alt=\"\" src=\"http://web-static2.sublinet.prosoluce.fr/fmnew/1.1/public/images/game/foot/strategies/4-3-3.jpg\" width=\"300\" height=\"300\">\n\t\t</div>\n\t\t<div class=\"list\">\n\t\t\t<table class=\"silverTable\">\n\t\t\t\t<tbody><tr class=\"silverTableHeader\">\n\t\t\t\t\t<td class=\"number\">#</td>\n\t\t\t\t\t<td class=\"name\">Mercutioloose\n\t\t\t\t\t</td>\n\t\t\t\t</tr>\n\t\t\t\t\t\t\t<tr class=\"silverTableActive\">\n\t\t\t\t\t\t\t\t<td class=\"number\">1.</td>\n\t\t\t\t\t\t\t\t<td class=\"name\"><div style=\"display: block;\" id=\"rel_joueur90807Debut\" class=\"htmltip\">Bank</div></td>\n\t\t\t\t\t\t\t</tr>\n\t\t\t\t\t\t\t<tr class=\"silverTableActive\">\n\t\t\t\t\t\t\t\t<td class=\"number\">2.</td>\n\t\t\t\t\t\t\t\t<td class=\"name\"><div style=\"display: block;\" id=\"rel_joueur88687Debut\" class=\"htmltip\">Sense</div></td>\n\t\t\t\t\t\t\t</tr>\n\t\t\t\t\t\t\t<tr class=\"silverTableActive\">\n\t\t\t\t\t\t\t\t<td class=\"number\">3.</td>\n\t\t\t\t\t\t\t\t<td class=\"name\"><div style=\"display: block;\" id=\"rel_joueur90690Debut\" class=\"htmltip\">Together</div></td>\n\t\t\t\t\t\t\t</tr>\n\t\t\t\t\t\t\t<tr class=\"silverTableActive\">\n\t\t\t\t\t\t\t\t<td class=\"number\">4.</td>\n\t\t\t\t\t\t\t\t<td class=\"name\"><div style=\"display: block;\" id=\"rel_joueur92525Debut\" class=\"htmltip\">Wise</div></td>\n\t\t\t\t\t\t\t</tr>\n\t\t\t\t\t\t\t<tr class=\"silverTableActive\">\n\t\t\t\t\t\t\t\t<td class=\"number\">5.</td>\n\t\t\t\t\t\t\t\t<td class=\"name\"><div style=\"display: block;\" id=\"rel_joueur91924Debut\" class=\"htmltip\">Mean</div></td>\n\t\t\t\t\t\t\t</tr>\n\t\t\t\t\t\t\t<tr class=\"silverTableActive\">\n\t\t\t\t\t\t\t\t<td class=\"number\">6.</td>\n\t\t\t\t\t\t\t\t<td class=\"name\"><div style=\"display: block;\" id=\"rel_joueur92956Debut\" class=\"htmltip\">Bouboum</div></td>\n\t\t\t\t\t\t\t</tr>\n\t\t\t\t\t\t\t<tr class=\"silverTableActive\">\n\t\t\t\t\t\t\t\t<td class=\"number\">7.</td>\n\t\t\t\t\t\t\t\t<td class=\"name\"><div style=\"display: block;\" id=\"rel_joueur91958Debut\" class=\"htmltip\">Battle</div></td>\n\t\t\t\t\t\t\t</tr>\n\t\t\t\t\t\t\t<tr class=\"silverTableActive\">\n\t\t\t\t\t\t\t\t<td class=\"number\">8.</td>\n\t\t\t\t\t\t\t\t<td class=\"name\"><div style=\"display: block;\" id=\"rel_joueur93804Debut\" class=\"htmltip\">Kalif</div></td>\n\t\t\t\t\t\t\t</tr>\n\t\t\t\t\t\t\t<tr class=\"silverTableActive\">\n\t\t\t\t\t\t\t\t<td class=\"number\">9.</td>\n\t\t\t\t\t\t\t\t<td class=\"name\"><div style=\"display: block;\" id=\"rel_joueur92528Debut\" class=\"htmltip\">Slave</div></td>\n\t\t\t\t\t\t\t</tr>\n\t\t\t\t\t\t\t<tr class=\"silverTableActive\">\n\t\t\t\t\t\t\t\t<td class=\"number\">10.</td>\n\t\t\t\t\t\t\t\t<td class=\"name\"><div style=\"display: block;\" id=\"rel_joueur92658Debut\" class=\"htmltip\">Yep</div></td>\n\t\t\t\t\t\t\t</tr>\n\t\t\t\t\t\t\t<tr class=\"silverTableActive\">\n\t\t\t\t\t\t\t\t<td class=\"number\">11.</td>\n\t\t\t\t\t\t\t\t<td class=\"name\"><div style=\"display: block;\" id=\"rel_joueur94978Debut\" class=\"htmltip\">star</div></td>\n\t\t\t\t\t\t\t</tr>\n\t\t\t</tbody></table>\n\t\t</div>\n\t","\n\t\t<div class=\"sketch\">\n\t\t\t<img alt=\"\" src=\"http://web-static2.sublinet.prosoluce.fr/fmnew/1.1/public/images/game/foot/strategies/4-3-3.jpg\" width=\"300\" height=\"300\">\n\t\t</div>\n\t\t<div class=\"list\">\n\t\t\t<table class=\"silverTable\">\n\t\t\t\t<tbody><tr class=\"silverTableHeader\">\n\t\t\t\t\t<td class=\"number\">#</td>\n\t\t\t\t\t<td class=\"name\">Baîla\n\t\t\t\t\t</td>\n\t\t\t\t</tr>\n\t\t\t\t\t\t\t<tr class=\"silverTableActive\">\n\t\t\t\t\t\t\t\t<td class=\"number\">1.</td>\n\t\t\t\t\t\t\t\t<td class=\"name\"><div style=\"display: block;\" id=\"rel_joueur90440Debut\" class=\"htmltip\">Floral</div></td>\n\t\t\t\t\t\t\t</tr>\n\t\t\t\t\t\t\t<tr class=\"silverTableActive\">\n\t\t\t\t\t\t\t\t<td class=\"number\">2.</td>\n\t\t\t\t\t\t\t\t<td class=\"name\"><div style=\"display: block;\" id=\"rel_joueur91229Debut\" class=\"htmltip\">Menthe Poivrée 2</div></td>\n\t\t\t\t\t\t\t</tr>\n\t\t\t\t\t\t\t<tr class=\"silverTableActive\">\n\t\t\t\t\t\t\t\t<td class=\"number\">3.</td>\n\t\t\t\t\t\t\t\t<td class=\"name\"><div style=\"display: block;\" id=\"rel_joueur93934Debut\" class=\"htmltip\">Lys 3</div></td>\n\t\t\t\t\t\t\t</tr>\n\t\t\t\t\t\t\t<tr class=\"silverTableActive\">\n\t\t\t\t\t\t\t\t<td class=\"number\">4.</td>\n\t\t\t\t\t\t\t\t<td class=\"name\"><div style=\"display: block;\" id=\"rel_joueur89373Debut\" class=\"htmltip\">Aprenti 4</div></td>\n\t\t\t\t\t\t\t</tr>\n\t\t\t\t\t\t\t<tr class=\"silverTableActive\">\n\t\t\t\t\t\t\t\t<td class=\"number\">5.</td>\n\t\t\t\t\t\t\t\t<td class=\"name\"><div style=\"display: block;\" id=\"rel_joueur93336Debut\" class=\"htmltip\">Citronelle 5</div></td>\n\t\t\t\t\t\t\t</tr>\n\t\t\t\t\t\t\t<tr class=\"silverTableActive\">\n\t\t\t\t\t\t\t\t<td class=\"number\">6.</td>\n\t\t\t\t\t\t\t\t<td class=\"name\"><div style=\"display: block;\" id=\"rel_joueur90623Debut\" class=\"htmltip\">Pentus ° 6</div></td>\n\t\t\t\t\t\t\t</tr>\n\t\t\t\t\t\t\t<tr class=\"silverTableActive\">\n\t\t\t\t\t\t\t\t<td class=\"number\">7.</td>\n\t\t\t\t\t\t\t\t<td class=\"name\"><div style=\"display: block;\" id=\"rel_joueur92172Debut\" class=\"htmltip\">Rosier 7</div></td>\n\t\t\t\t\t\t\t</tr>\n\t\t\t\t\t\t\t<tr class=\"silverTableActive\">\n\t\t\t\t\t\t\t\t<td class=\"number\">8.</td>\n\t\t\t\t\t\t\t\t<td class=\"name\"><div style=\"display: block;\" id=\"rel_joueur93518Debut\" class=\"htmltip\">Paquerette 8</div></td>\n\t\t\t\t\t\t\t</tr>\n\t\t\t\t\t\t\t<tr class=\"silverTableActive\">\n\t\t\t\t\t\t\t\t<td class=\"number\">9.</td>\n\t\t\t\t\t\t\t\t<td class=\"name\"><div style=\"display: block;\" id=\"rel_joueur89847Debut\" class=\"htmltip\">Centigrade 9</div></td>\n\t\t\t\t\t\t\t</tr>\n\t\t\t\t\t\t\t<tr class=\"silverTableActive\">\n\t\t\t\t\t\t\t\t<td class=\"number\">10.</td>\n\t\t\t\t\t\t\t\t<td class=\"name\"><div style=\"display: block;\" id=\"rel_joueur93877Debut\" class=\"htmltip\">Prairie 10</div></td>\n\t\t\t\t\t\t\t</tr>\n\t\t\t\t\t\t\t<tr class=\"silverTableActive\">\n\t\t\t\t\t\t\t\t<td class=\"number\">11.</td>\n\t\t\t\t\t\t\t\t<td class=\"name\"><div style=\"display: block;\" id=\"rel_joueur92672Debut\" class=\"htmltip\">Tulipe 11</div></td>\n\t\t\t\t\t\t\t</tr>\n\t\t\t</tbody></table>\n\t\t</div>\n\t","\n\t\t<div class=\"sketch\">\n\t\t\t<img alt=\"\" src=\"http://web-static2.sublinet.prosoluce.fr/fmnew/1.1/public/images/game/foot/strategies/3-5-2.jpg\" width=\"300\" height=\"300\">\n\t\t</div>\n\t\t<div class=\"list\">\n\t\t\t<table class=\"silverTable\">\n\t\t\t\t<tbody><tr class=\"silverTableHeader\">\n\t\t\t\t\t<td class=\"number\">#</td>\n\t\t\t\t\t<td class=\"name\">Mercutioloose\n\t\t\t\t\t</td>\n\t\t\t\t</tr>\n\t\t\t\t\t\t\t<tr class=\"silverTableActive\">\n\t\t\t\t\t\t\t\t<td class=\"number\">1.</td>\n\t\t\t\t\t\t\t\t<td class=\"name\"><div style=\"display: block;\" id=\"rel_joueur90807Debut\" class=\"htmltip\">Bank</div></td>\n\t\t\t\t\t\t\t</tr>\n\t\t\t\t\t\t\t<tr class=\"silverTableActive\">\n\t\t\t\t\t\t\t\t<td class=\"number\">2.</td>\n\t\t\t\t\t\t\t\t<td class=\"name\"><div style=\"display: block;\" id=\"rel_joueur88687Debut\" class=\"htmltip\">Sense</div></td>\n\t\t\t\t\t\t\t</tr>\n\t\t\t\t\t\t\t<tr class=\"silverTableActive\">\n\t\t\t\t\t\t\t\t<td class=\"number\">3.</td>\n\t\t\t\t\t\t\t\t<td class=\"name\"><div style=\"display: block;\" id=\"rel_joueur90690Debut\" class=\"htmltip\">Together</div></td>\n\t\t\t\t\t\t\t</tr>\n\t\t\t\t\t\t\t<tr class=\"silverTableActive\">\n\t\t\t\t\t\t\t\t<td class=\"number\">4.</td>\n\t\t\t\t\t\t\t\t<td class=\"name\"><div style=\"display: block;\" id=\"rel_joueur92525Debut\" class=\"htmltip\">Wise</div></td>\n\t\t\t\t\t\t\t</tr>\n\t\t\t\t\t\t\t<tr class=\"silverTableActive\">\n\t\t\t\t\t\t\t\t<td class=\"number\">5.</td>\n\t\t\t\t\t\t\t\t<td class=\"name\"><div style=\"display: block;\" id=\"rel_joueur91924Debut\" class=\"htmltip\">Mean</div></td>\n\t\t\t\t\t\t\t</tr>\n\t\t\t\t\t\t\t<tr class=\"silverTableActive\">\n\t\t\t\t\t\t\t\t<td class=\"number\">6.</td>\n\t\t\t\t\t\t\t\t<td class=\"name\"><div style=\"display: block;\" id=\"rel_joueur92956Debut\" class=\"htmltip\">Bouboum</div></td>\n\t\t\t\t\t\t\t</tr>\n\t\t\t\t\t\t\t<tr class=\"silverTableActive\">\n\t\t\t\t\t\t\t\t<td class=\"number\">7.</td>\n\t\t\t\t\t\t\t\t<td class=\"name\"><div style=\"display: block;\" id=\"rel_joueur91958Debut\" class=\"htmltip\">Battle</div></td>\n\t\t\t\t\t\t\t</tr>\n\t\t\t\t\t\t\t<tr class=\"silverTableActive\">\n\t\t\t\t\t\t\t\t<td class=\"number\">8.</td>\n\t\t\t\t\t\t\t\t<td class=\"name\"><div style=\"display: block;\" id=\"rel_joueur93804Debut\" class=\"htmltip\">Kalif</div></td>\n\t\t\t\t\t\t\t</tr>\n\t\t\t\t\t\t\t<tr class=\"silverTableActive\">\n\t\t\t\t\t\t\t\t<td class=\"number\">9.</td>\n\t\t\t\t\t\t\t\t<td class=\"name\"><div style=\"display: block;\" id=\"rel_joueur92528Debut\" class=\"htmltip\">Slave</div></td>\n\t\t\t\t\t\t\t</tr>\n\t\t\t\t\t\t\t<tr class=\"silverTableActive\">\n\t\t\t\t\t\t\t\t<td class=\"number\">10.</td>\n\t\t\t\t\t\t\t\t<td class=\"name\"><div style=\"display: block;\" id=\"rel_joueur92658Debut\" class=\"htmltip\">Yep</div></td>\n\t\t\t\t\t\t\t</tr>\n\t\t\t\t\t\t\t<tr class=\"silverTableActive\">\n\t\t\t\t\t\t\t\t<td class=\"number\">11.</td>\n\t\t\t\t\t\t\t\t<td class=\"name\"><div style=\"display: block;\" id=\"rel_joueur94978Debut\" class=\"htmltip\">star</div></td>\n\t\t\t\t\t\t\t</tr>\n\t\t\t</tbody></table>\n\t\t</div>\n\t","\n\t\t<div class=\"sketch\">\n\t\t\t<img alt=\"\" src=\"http://web-static2.sublinet.prosoluce.fr/fmnew/1.1/public/images/game/foot/strategies/4-3-3.jpg\" width=\"300\" height=\"300\">\n\t\t</div>\n\t\t<div class=\"list\">\n\t\t\t<table class=\"silverTable\">\n\t\t\t\t<tbody><tr class=\"silverTableHeader\">\n\t\t\t\t\t<td class=\"number\">#</td>\n\t\t\t\t\t<td class=\"name\">Baîla\n\t\t\t\t\t</td>\n\t\t\t\t</tr>\n\t\t\t\t\t\t\t<tr class=\"silverTableActive\">\n\t\t\t\t\t\t\t\t<td class=\"number\">1.</td>\n\t\t\t\t\t\t\t\t<td class=\"name\"><div style=\"display: block;\" id=\"rel_joueur90440Debut\" class=\"htmltip\">Floral</div></td>\n\t\t\t\t\t\t\t</tr>\n\t\t\t\t\t\t\t<tr class=\"silverTableActive\">\n\t\t\t\t\t\t\t\t<td class=\"number\">2.</td>\n\t\t\t\t\t\t\t\t<td class=\"name\"><div style=\"display: block;\" id=\"rel_joueur91229Debut\" class=\"htmltip\">Menthe Poivrée 2</div></td>\n\t\t\t\t\t\t\t</tr>\n\t\t\t\t\t\t\t<tr class=\"silverTableActive\">\n\t\t\t\t\t\t\t\t<td class=\"number\">3.</td>\n\t\t\t\t\t\t\t\t<td class=\"name\"><div style=\"display: block;\" id=\"rel_joueur93934Debut\" class=\"htmltip\">Lys 3</div></td>\n\t\t\t\t\t\t\t</tr>\n\t\t\t\t\t\t\t<tr class=\"silverTableActive\">\n\t\t\t\t\t\t\t\t<td class=\"number\">4.</td>\n\t\t\t\t\t\t\t\t<td class=\"name\"><div style=\"display: block;\" id=\"rel_joueur89373Debut\" class=\"htmltip\">Aprenti 4</div></td>\n\t\t\t\t\t\t\t</tr>\n\t\t\t\t\t\t\t<tr class=\"silverTableActive\">\n\t\t\t\t\t\t\t\t<td class=\"number\">5.</td>\n\t\t\t\t\t\t\t\t<td class=\"name\"><div style=\"display: block;\" id=\"rel_joueur93336Debut\" class=\"htmltip\">Citronelle 5</div></td>\n\t\t\t\t\t\t\t</tr>\n\t\t\t\t\t\t\t<tr class=\"silverTableActive\">\n\t\t\t\t\t\t\t\t<td class=\"number\">6.</td>\n\t\t\t\t\t\t\t\t<td class=\"name\"><div style=\"display: block;\" id=\"rel_joueur92172Debut\" class=\"htmltip\">Rosier 7</div></td>\n\t\t\t\t\t\t\t</tr>\n\t\t\t\t\t\t\t<tr class=\"silverTableActive\">\n\t\t\t\t\t\t\t\t<td class=\"number\">7.</td>\n\t\t\t\t\t\t\t\t<td class=\"name\"><div style=\"display: block;\" id=\"rel_joueur90623Debut\" class=\"htmltip\">Pentus ° 6</div></td>\n\t\t\t\t\t\t\t</tr>\n\t\t\t\t\t\t\t<tr class=\"silverTableActive\">\n\t\t\t\t\t\t\t\t<td class=\"number\">8.</td>\n\t\t\t\t\t\t\t\t<td class=\"name\"><div style=\"display: block;\" id=\"rel_joueur93518Debut\" class=\"htmltip\">Paquerette 8</div></td>\n\t\t\t\t\t\t\t</tr>\n\t\t\t\t\t\t\t<tr class=\"silverTableActive\">\n\t\t\t\t\t\t\t\t<td class=\"number\">9.</td>\n\t\t\t\t\t\t\t\t<td class=\"name\"><div style=\"display: block;\" id=\"rel_joueur89847Debut\" class=\"htmltip\">Centigrade 9</div></td>\n\t\t\t\t\t\t\t</tr>\n\t\t\t\t\t\t\t<tr class=\"silverTableActive\">\n\t\t\t\t\t\t\t\t<td class=\"number\">10.</td>\n\t\t\t\t\t\t\t\t<td class=\"name\"><div style=\"display: block;\" id=\"rel_joueur93877Debut\" class=\"htmltip\">Prairie 10</div></td>\n\t\t\t\t\t\t\t</tr>\n\t\t\t\t\t\t\t<tr class=\"silverTableActive\">\n\t\t\t\t\t\t\t\t<td class=\"number\">11.</td>\n\t\t\t\t\t\t\t\t<td class=\"name\"><div style=\"display: block;\" id=\"rel_joueur92672Debut\" class=\"htmltip\">Tulipe 11</div></td>\n\t\t\t\t\t\t\t</tr>\n\t\t\t</tbody></table>\n\t\t</div>\n\t","Bonus d'agressivité\r\n\r\n+12%","Bonus d'agressivité\r\n\r\n+12%","Bonus d'agressivité\r\n\r\n+16%","Bonus d'agressivité\r\n\r\n+16%","\nBaîla","433","433","12%","16%","\nMercutioloose","433","352","12%","16%",{"$f":"Feuil4!$J$1","v":"1 - 1"},{"$f":"Feuil4!$L$1","v":"2 - 3"},"433 / 433\r1 - 1 - 2 - 3\r12%/12% - 16%/16%"]
["\n22/07/13 13:10 ","\nLa Fronde","\n4 / 0 ","\nBaîla","22/07/13","<div class=\"element click small\" onclick=\"setUrl('./matchreport.php?id1=487&amp;id2=1917&amp;date=1374491400&amp;server=1');\">\n\t\t\t<div class=\"innerElement\">\n\t\t\t\t<div class=\"match-result\">\n\t\t\t\t\t<div class=\"match-result-date\">\n\t\t\t\t\t\t22/07/13 13:10\n\t\t\t\t\t</div>\n\t\t\t\t\t<div class=\"match-result-dom\">\n\t\t<span style='background: url(\"http://web-static2.sublinet.prosoluce.fr/fmnew/1.1/public/images/game/icones/icones_pays_14.png\") no-repeat 0px -58px;' class=\"pays\">La Fronde</span>\n\t\t\t\t\t</div>\n\t\t\t\t\t<div class=\"match-result-score\">4 / 0\n\t\t\t\t\t</div>\n\t\t\t\t\t<div class=\"match-result-ext\">\n\t\t\t\t\tBaîla\n\t\t<span style='background: url(\"http://web-static2.sublinet.prosoluce.fr/fmnew/1.1/public/images/game/icones/icones_pays_14.png\") no-repeat 0px -58px;' class=\"pays\">&nbsp;</span>\n\t\t\t\t\t</div>\n\t\t\t\t</div>\n\t\t\t</div>\n\t\t</div>",0,50,122,"./matchreport.php?id1=487&id2=1917&date=1374491400&server=1","./matchreport.php?id1=487&id2=1917&date=1374491400&server=1&tab=1",null,"./matchreport.php?id1=487&amp;id2=1917&amp;date=1374491400&amp;server=1",null,null,null,null,null,null,null,null,"\nLa Fronde",{"$error":"#VALUE!"},{"$error":"#VALUE!"},{"$error":"#VALUE!"},{"$error":"#VALUE!"},"\nBaîla",{"$error":"#VALUE!"},{"$error":"#VALUE!"},{"$error":"#VALUE!"},{"$error":"#VALUE!"},{"$f":"Feuil4!$J$1","v":"1 - 1"},{"$f":"Feuil4!$L$1","v":"2 - 3"},{"$error":"#VALUE!"}]
["\n22/07/13 13:10 ","\nMercutioloose","\n1 / 1 ","\nFC PUYGOUZON","22/07/13","<div class=\"element click small\" onclick=\"setUrl('./matchreport.php?id1=94170&amp;id2=85187&amp;date=1374491400&amp;server=1');\">\n\t\t\t<div class=\"innerElement\">\n\t\t\t\t<div class=\"match-result\">\n\t\t\t\t\t<div class=\"match-result-date\">\n\t\t\t\t\t\t22/07/13 13:10\n\t\t\t\t\t</div>\n\t\t\t\t\t<div class=\"match-result-dom\">\n\t\t<span style='background: url(\"http://web-static2.sublinet.prosoluce.fr/fmnew/1.1/public/images/game/icones/icones_pays_14.png\") no-repeat 0px -58px;' class=\"pays\">Mercutioloose</span>\n\t\t\t\t\t</div>\n\t\t\t\t\t<div class=\"match-result-score\">1 / 1\n\t\t\t\t\t</div>\n\t\t\t\t\t<div class=\"match-result-ext\">\n\t\t\t\t\tFC PUYGOUZON\n\t\t<span style='background: url(\"http://web-static2.sublinet.prosoluce.fr/fmnew/1.1/public/images/game/icones/icones_pays_14.png\") no-repeat 0px -58px;' class=\"pays\">&nbsp;</span>\n\t\t\t\t\t</div>\n\t\t\t\t</div>\n\t\t\t</div>\n\t\t</div>",0,50,125,"./matchreport.php?id1=94170&id2=85187&date=1374491400&server=1","./matchreport.php?id1=94170&id2=85187&date=1374491400&server=1&tab=1",null,"./matchreport.php?id1=94170&amp;id2=85187&amp;date=1374491400&amp;server=1",null,null,null,null,null,null,null,null,"\nMercutioloose",{"$error":"#VALUE!"},{"$error":"#VALUE!"},{"$error":"#VALUE!"},{"$error":"#VALUE!"},"\nFC PUYGOUZON",{"$error":"#VALUE!"},{"$error":"#VALUE!"},{"$error":"#VALUE!"},{"$error":"#VALUE!"},{"$f":"Feuil4!$J$1","v":"1 - 1"},{"$f":"Feuil4!$L$1","v":"2 - 3"},{"$error":"#VALUE!"}]
["\n22/07/13 13:10 ","\nMSK Dijon","\n3 / 0 ","\ntiptop972","22/07/13","<div class=\"element click small\" onclick=\"setUrl('./matchreport.php?id1=80955&amp;id2=110825&amp;date=1374491400&amp;server=1');\">\n\t\t\t<div class=\"innerElement\">\n\t\t\t\t<div class=\"match-result\">\n\t\t\t\t\t<div class=\"match-result-date\">\n\t\t\t\t\t\t22/07/13 13:10\n\t\t\t\t\t</div>\n\t\t\t\t\t<div class=\"match-result-dom\">\n\t\t<span style='background: url(\"http://web-static2.sublinet.prosoluce.fr/fmnew/1.1/public/images/game/icones/icones_pays_14.png\") no-repeat 0px -58px;' class=\"pays\">MSK Dijon</span>\n\t\t\t\t\t</div>\n\t\t\t\t\t<div class=\"match-result-score\">3 / 0\n\t\t\t\t\t</div>\n\t\t\t\t\t<div class=\"match-result-ext\">\n\t\t\t\t\ttiptop972\n\t\t<span style='background: url(\"http://web-static2.sublinet.prosoluce.fr/fmnew/1.1/public/images/game/icones/icones_pays_14.png\") no-repeat 0px -58px;' class=\"pays\">&nbsp;</span>\n\t\t\t\t\t</div>\n\t\t\t\t</div>\n\t\t\t</div>\n\t\t</div>",0,50,126,"./matchreport.php?id1=80955&id2=110825&date=1374491400&server=1","./matchreport.php?id1=80955&id2=110825&date=1374491400&server=1&tab=1",null,"./matchreport.php?id1=80955&amp;id2=110825&amp;date=1374491400&amp;server=1",null,null,null,null,null,null,null,null,"\nMSK Dijon",{"$error":"#VALUE!"},{"$error":"#VALUE!"},{"$error":"#VALUE!"},{"$error":"#VALUE!"},"\ntiptop972",{"$error":"#VALUE!"},{"$error":"#VALUE!"},{"$error":"#VALUE!"},{"$error":"#VALUE!"},{"$f":"Feuil4!$J$1","v":"1 - 1"},{"$f":"Feuil4!$L$1","v":"2 - 3"},{"$error":"#VALUE!"}]
["\n22/07/13 13:10 ","\nles gabs79","\n1 / 0 ","\nFCSM25","22/07/13","<div class=\"element click small\" onclick=\"setUrl('./matchreport.php?id1=78121&amp;id2=5719&amp;date=1374491400&amp;server=1');\">\n\t\t\t<div class=\"innerElement\">\n\t\t\t\t<div class=\"match-result\">\n\t\t\t\t\t<div class=\"match-result-date\">\n\t\t\t\t\t\t22/07/13 13:10\n\t\t\t\t\t</div>\n\t\t\t\t\t<div class=\"match-result-dom\">\n\t\t<span style='background: url(\"http://web-static2.sublinet.prosoluce.fr/fmnew/1.1/public/images/game/icones/icones_pays_14.png\") no-repeat 0px -58px;' class=\"pays\">les gabs79</span>\n\t\t\t\t\t</div>\n\t\t\t\t\t<div class=\"match-result-score\">1 / 0\n\t\t\t\t\t</div>\n\t\t\t\t\t<div class=\"match-result-ext\">\n\t\t\t\t\tFCSM25\n\t\t<span style='background: url(\"http://web-static2.sublinet.prosoluce.fr/fmnew/1.1/public/images/game/icones/icones_pays_14.png\") no-repeat 0px -58px;' class=\"pays\">&nbsp;</span>\n\t\t\t\t\t</div>\n\t\t\t\t</div>\n\t\t\t</div>\n\t\t</div>",0,50,124,"./matchreport.php?id1=78121&id2=5719&date=1374491400&server=1","./matchreport.php?id1=78121&id2=5719&date=1374491400&server=1&tab=1",null,"./matchreport.php?id1=78121&amp;id2=5719&amp;date=1374491400&amp;server=1",null,null,null,null,null,null,null,null,"\nles gabs79",{"$error":"#VALUE!"},{"$error":"#VALUE!"},{"$error":"#VALUE!"},{"$error":"#VALUE!"},"\nFCSM25",{"$error":"#VALUE!"},{"$error":"#VALUE!"},{"$error":"#VALUE!"},{"$error":"#VALUE!"},{"$f":"Feuil4!$J$1","v":"1 - 1"},{"$f":"Feuil4!$L$1","v":"2 - 3"},{"$error":"#VALUE!"}]
["\n22/07/13 13:10 ","\nHermerswiller","\n3 / 0 ","\nPtit Mat Killers","22/07/13","<div class=\"element click small highlight\" onclick=\"setUrl('./matchreport.php?id1=17799&amp;id2=36460&amp;date=1374491400&amp;server=1');\">\n\t\t\t<div class=\"innerElement\">\n\t\t\t\t<div class=\"match-result\">\n\t\t\t\t\t<div class=\"match-result-date\">\n\t\t\t\t\t\t22/07/13 13:10\n\t\t\t\t\t</div>\n\t\t\t\t\t<div class=\"match-result-dom\">\n\t\t<span style='background: url(\"http://web-static2.sublinet.prosoluce.fr/fmnew/1.1/public/images/game/icones/icones_pays_14.png\") no-repeat 0px -58px;' class=\"pays\">Hermerswiller</span>\n\t\t\t\t\t</div>\n\t\t\t\t\t<div class=\"match-result-score\">3 / 0\n\t\t\t\t\t</div>\n\t\t\t\t\t<div class=\"match-result-ext\">\n\t\t\t\t\tPtit Mat Killers\n\t\t<span style='background: url(\"http://web-static2.sublinet.prosoluce.fr/fmnew/1.1/public/images/game/icones/icones_pays_14.png\") no-repeat 0px -58px;' class=\"pays\">&nbsp;</span>\n\t\t\t\t\t</div>\n\t\t\t\t</div>\n\t\t\t</div>\n\t\t</div>",0,60,135,"./matchreport.php?id1=17799&id2=36460&date=1374491400&server=1","./matchreport.php?id1=17799&id2=36460&date=1374491400&server=1&tab=1",null,"./matchreport.php?id1=17799&amp;id2=36460&amp;date=1374491400&amp;server=1",null,null,null,null,null,null,null,null,"\nHermerswiller",{"$error":"#VALUE!"},{"$error":"#VALUE!"},{"$error":"#VALUE!"},{"$error":"#VALUE!"},"\nPtit Mat Killers",{"$error":"#VALUE!"},{"$error":"#VALUE!"},{"$error":"#VALUE!"},{"$error":"#VALUE!"},{"$f":"Feuil4!$J$1","v":"1 - 1"},{"$f":"Feuil4!$L$1","v":"2 - 3"},{"$error":"#VALUE!"}]
["\n22/07/13 13:10 ","\nFC Allan ","\n0 / 3 ","\nFC DRAGON","22/07/13","<div class=\"element click small\" onclick=\"setUrl('./matchreport.php?id1=48895&amp;id2=18797&amp;date=1374491400&amp;server=1');\">\n\t\t\t<div class=\"innerElement\">\n\t\t\t\t<div class=\"match-result\">\n\t\t\t\t\t<div class=\"match-result-date\">\n\t\t\t\t\t\t22/07/13 13:10\n\t\t\t\t\t</div>\n\t\t\t\t\t<div class=\"match-result-dom\">\n\t\t<span style='background: url(\"http://web-static2.sublinet.prosoluce.fr/fmnew/1.1/public/images/game/icones/icones_pays_14.png\") no-repeat 0px -58px;' class=\"pays\">FC Allan </span>\n\t\t\t\t\t</div>\n\t\t\t\t\t<div class=\"match-result-score\">0 / 3\n\t\t\t\t\t</div>\n\t\t\t\t\t<div class=\"match-result-ext\">\n\t\t\t\t\tFC DRAGON\n\t\t<span style='background: url(\"http://web-static2.sublinet.prosoluce.fr/fmnew/1.1/public/images/game/icones/icones_pays_14.png\") no-repeat 0px -58px;' class=\"pays\">&nbsp;</span>\n\t\t\t\t\t</div>\n\t\t\t\t</div>\n\t\t\t</div>\n\t\t</div>",0,50,125,"./matchreport.php?id1=48895&id2=18797&date=1374491400&server=1","./matchreport.php?id1=48895&id2=18797&date=1374491400&server=1&tab=1",null,"./matchreport.php?id1=48895&amp;id2=18797&amp;date=1374491400&amp;server=1",null,null,null,null,null,null,null,null,"\nFC Allan ",{"$error":"#VALUE!"},{"$error":"#VALUE!"},{"$error":"#VALUE!"},{"$error":"#VALUE!"},"\nFC DRAGON",{"$error":"#VALUE!"},{"$error":"#VALUE!"},{"$error":"#VALUE!"},{"$error":"#VALUE!"},{"$f":"Feuil4!$J$1","v":"1 - 1"},{"$f":"Feuil4!$L$1","v":"2 - 3"},{"$error":"#VALUE!"}]
["\n21/07/13 13:10 ","\nFC DRAGON","\n4 / 0 ","\nHermerswiller","21/07/13","<div class=\"element click small\" onclick=\"setUrl('./matchreport.php?id1=18797&amp;id2=17799&amp;date=1374405000&amp;server=1');\">\n\t\t\t<div class=\"innerElement\">\n\t\t\t\t<div class=\"match-result\">\n\t\t\t\t\t<div class=\"match-result-date\">\n\t\t\t\t\t\t21/07/13 13:10\n\t\t\t\t\t</div>\n\t\t\t\t\t<div class=\"match-result-dom\">\n\t\t<span style='background: url(\"http://web-static2.sublinet.prosoluce.fr/fmnew/1.1/public/images/game/icones/icones_pays_14.png\") no-repeat 0px -58px;' class=\"pays\">FC DRAGON</span>\n\t\t\t\t\t</div>\n\t\t\t\t\t<div class=\"match-result-score\">4 / 0\n\t\t\t\t\t</div>\n\t\t\t\t\t<div class=\"match-result-ext\">\n\t\t\t\t\tHermerswiller\n\t\t<span style='background: url(\"http://web-static2.sublinet.prosoluce.fr/fmnew/1.1/public/images/game/icones/icones_pays_14.png\") no-repeat 0px -58px;' class=\"pays\">&nbsp;</span>\n\t\t\t\t\t</div>\n\t\t\t\t</div>\n\t\t\t</div>\n\t\t</div>",0,50,125,"./matchreport.php?id1=18797&id2=17799&date=1374405000&server=1","./matchreport.php?id1=18797&id2=17799&date=1374405000&server=1&tab=1",null,"./matchreport.php?id1=18797&amp;id2=17799&amp;date=1374405000&amp;server=1",null,null,null,null,null,null,null,null,"\nFC DRAGON",{"$error":"#VALUE!"},{"$error":"#VALUE!"},{"$error":"#VALUE!"},{"$error":"#VALUE!"},"\nHermerswiller",{"$error":"#VALUE!"},{"$error":"#VALUE!"},{"$error":"#VALUE!"},{"$error":"#VALUE!"},{"$f":"Feuil4!$J$1","v":"1 - 1"},{"$f":"Feuil4!$L$1","v":"2 - 3"},{"$error":"#VALUE!"}]
["\n21/07/13 13:10 ","\nFCSM25","\n3 / 0 ","\nFC Allan","21/07/13","<div class=\"element click small\" onclick=\"setUrl('./matchreport.php?id1=5719&amp;id2=48895&amp;date=1374405000&amp;server=1');\">\n\t\t\t<div class=\"innerElement\">\n\t\t\t\t<div class=\"match-result\">\n\t\t\t\t\t<div class=\"match-result-date\">\n\t\t\t\t\t\t21/07/13 13:10\n\t\t\t\t\t</div>\n\t\t\t\t\t<div class=\"match-result-dom\">\n\t\t<span style='background: url(\"http://web-static2.sublinet.prosoluce.fr/fmnew/1.1/public/images/game/icones/icones_pays_14.png\") no-repeat 0px -58px;' class=\"pays\">FCSM25</span>\n\t\t\t\t\t</div>\n\t\t\t\t\t<div class=\"match-result-score\">3 / 0\n\t\t\t\t\t</div>\n\t\t\t\t\t<div class=\"match-result-ext\">\n\t\t\t\t\tFC Allan \n\t\t<span style='background: url(\"http://web-static2.sublinet.prosoluce.fr/fmnew/1.1/public/images/game/icones/icones_pays_14.png\") no-repeat 0px -58px;' class=\"pays\">&nbsp;</span>\n\t\t\t\t\t</div>\n\t\t\t\t</div>\n\t\t\t</div>\n\t\t</div>",0,50,124,"./matchreport.php?id1=5719&id2=48895&date=1374405000&server=1","./matchreport.php?id1=5719&id2=48895&date=1374405000&server=1&tab=1",null,"./matchreport.php?id1=5719&amp;id2=48895&amp;date=1374405000&amp;server=1",null,null,null,null,null,null,null,null,"\nFCSM25",{"$error":"#VALUE!"},{"$error":"#VALUE!"},{"$error":"#VALUE!"},{"$error":"#VALUE!"},"\nFC Allan",{"$error":"#VALUE!"},{"$error":"#VALUE!"},{"$error":"#VALUE!"},{"$error":"#VALUE!"},{"$f":"Feuil4!$J$1","v":"1 - 1"},{"$f":"Feuil4!$L$1","v":"2 - 3"},{"$error":"#VALUE!"}]
["\n21/07/13 13:10 ","\nFC PUYGOUZON","\n0 / 4 ","\nLa Fronde","21/07/13","<div class=\"element click small\" onclick=\"setUrl('./matchreport.php?id1=85187&amp;id2=487&amp;date=1374405000&amp;server=1');\">\n\t\t\t<div class=\"innerElement\">\n\t\t\t\t<div class=\"match-result\">\n\t\t\t\t\t<div class=\"match-result-date\">\n\t\t\t\t\t\t21/07/13 13:10\n\t\t\t\t\t</div>\n\t\t\t\t\t<div class=\"match-result-dom\">\n\t\t<span style='background: url(\"http://web-static2.sublinet.prosoluce.fr/fmnew/1.1/public/images/game/icones/icones_pays_14.png\") no-repeat 0px -58px;' class=\"pays\">FC PUYGOUZON</span>\n\t\t\t\t\t</div>\n\t\t\t\t\t<div class=\"match-result-score\">0 / 4\n\t\t\t\t\t</div>\n\t\t\t\t\t<div class=\"match-result-ext\">\n\t\t\t\t\tLa Fronde\n\t\t<span style='background: url(\"http://web-static2.sublinet.prosoluce.fr/fmnew/1.1/public/images/game/icones/icones_pays_14.png\") no-repeat 0px -58px;' class=\"pays\">&nbsp;</span>\n\t\t\t\t\t</div>\n\t\t\t\t</div>\n\t\t\t</div>\n\t\t</div>",0,50,123,"./matchreport.php?id1=85187&id2=487&date=1374405000&server=1","./matchreport.php?id1=85187&id2=487&date=1374405000&server=1&tab=1",null,"./matchreport.php?id1=85187&amp;id2=487&amp;date=1374405000&amp;server=1",null,null,null,null,null,null,null,null,"\nFC PUYGOUZON",{"$error":"#VALUE!"},{"$error":"#VALUE!"},{"$error":"#VALUE!"},{"$error":"#VALUE!"},"\nLa Fronde",{"$error":"#VALUE!"},{"$error":"#VALUE!"},{"$error":"#VALUE!"},{"$error":"#VALUE!"},{"$f":"Feuil4!$J$1","v":"1 - 1"},{"$f":"Feuil4!$L$1","v":"2 - 3"},{"$error":"#VALUE!"}]
["\n21/07/13 13:10 ","\nPtit Mat Killers","\n4 / 0 ","\ntiptop972","21/07/13","<div class=\"element click small highlight\" onclick=\"setUrl('./matchreport.php?id1=36460&amp;id2=110825&amp;date=1374405000&amp;server=1');\">\n\t\t\t<div class=\"innerElement\">\n\t\t\t\t<div class=\"match-result\">\n\t\t\t\t\t<div class=\"match-result-date\">\n\t\t\t\t\t\t21/07/13 13:10\n\t\t\t\t\t</div>\n\t\t\t\t\t<div class=\"match-result-dom\">\n\t\t<span style='background: url(\"http://web-static2.sublinet.prosoluce.fr/fmnew/1.1/public/images/game/icones/icones_pays_14.png\") no-repeat 0px -58px;' class=\"pays\">Ptit Mat Killers</span>\n\t\t\t\t\t</div>\n\t\t\t\t\t<div class=\"match-result-score\">4 / 0\n\t\t\t\t\t</div>\n\t\t\t\t\t<div class=\"match-result-ext\">\n\t\t\t\t\ttiptop972\n\t\t<span style='background: url(\"http://web-static2.sublinet.prosoluce.fr/fmnew/1.1/public/images/game/icones/icones_pays_14.png\") no-repeat 0px -58px;' class=\"pays\">&nbsp;</span>\n\t\t\t\t\t</div>\n\t\t\t\t</div>\n\t\t\t</div>\n\t\t</div>",0,60,136,"./matchreport.php?id1=36460&id2=110825&date=1374405000&server=1","./matchreport.php?id1=36460&id2=110825&date=1374405000&server=1&tab=1",null,"./matchreport.php?id1=36460&amp;id2=110825&amp;date=1374405000&amp;server=1",null,null,null,null,null,null,null,null,"\nPtit Mat Killers",{"$error":"#VALUE!"},{"$error":"#VALUE!"},{"$error":"#VALUE!"},{"$error":"#VALUE!"},"\ntiptop972",{"$error":"#VALUE!"},{"$error":"#VALUE!"},{"$error":"#VALUE!"},{"$error":"#VALUE!"},{"$f":"Feuil4!$J$1","v":"1 - 1"},{"$f":"Feuil4!$L$1","v":"2 - 3"},{"$error":"#VALUE!"}]
["\n21/07/13 13:10 ","\nBaîla","\n2 / 2 ","\nles gabs79","21/07/13","<div class=\"element click small\" onclick=\"setUrl('./matchreport.php?id1=1917&amp;id2=78121&amp;date=1374405000&amp;server=1');\">\n\t\t\t<div class=\"innerElement\">\n\t\t\t\t<div class=\"match-result\">\n\t\t\t\t\t<div class=\"match-result-date\">\n\t\t\t\t\t\t21/07/13 13:10\n\t\t\t\t\t</div>\n\t\t\t\t\t<div class=\"match-result-dom\">\n\t\t<span style='background: url(\"http://web-static2.sublinet.prosoluce.fr/fmnew/1.1/public/images/game/icones/icones_pays_14.png\") no-repeat 0px -58px;' class=\"pays\">Baîla</span>\n\t\t\t\t\t</div>\n\t\t\t\t\t<div class=\"match-result-score\">2 / 2\n\t\t\t\t\t</div>\n\t\t\t\t\t<div class=\"match-result-ext\">\n\t\t\t\t\tles gabs79\n\t\t<span style='background: url(\"http://web-static2.sublinet.prosoluce.fr/fmnew/1.1/public/images/game/icones/icones_pays_14.png\") no-repeat 0px -58px;' class=\"pays\">&nbsp;</span>\n\t\t\t\t\t</div>\n\t\t\t\t</div>\n\t\t\t</div>\n\t\t</div>",0,50,124,"./matchreport.php?id1=1917&id2=78121&date=1374405000&server=1","./matchreport.php?id1=1917&id2=78121&date=1374405000&server=1&tab=1",null,"./matchreport.php?id1=1917&amp;id2=78121&amp;date=1374405000&amp;server=1",null,null,null,null,null,null,null,null,"\nBaîla",{"$error":"#VALUE!"},{"$error":"#VALUE!"},{"$error":"#VALUE!"},{"$error":"#VALUE!"},"\nles gabs79",{"$error":"#VALUE!"},{"$error":"#VALUE!"},{"$error":"#VALUE!"},{"$error":"#VALUE!"},{"$f":"Feuil4!$J$1","v":"1 - 1"},{"$f":"Feuil4!$L$1","v":"2 - 3"},{"$error":"#VALUE!"}]
["\n21/07/13 13:10 ","\nMSK Dijon","\n4 / 0 ","\nMercutioloose","21/07/13","<div class=\"element click small\" onclick=\"setUrl('./matchreport.php?id1=80955&amp;id2=94170&amp;date=1374405000&amp;server=1');\">\n\t\t\t<div class=\"innerElement\">\n\t\t\t\t<div class=\"match-result\">\n\t\t\t\t\t<div class=\"match-result-date\">\n\t\t\t\t\t\t21/07/13 13:10\n\t\t\t\t\t</div>\n\t\t\t\t\t<div class=\"match-result-dom\">\n\t\t<span style='background: url(\"http://web-static2.sublinet.prosoluce.fr/fmnew/1.1/public/images/game/icones/icones_pays_14.png\") no-repeat 0px -58px;' class=\"pays\">MSK Dijon</span>\n\t\t\t\t\t</div>\n\t\t\t\t\t<div class=\"match-result-score\">4 / 0\n\t\t\t\t\t</div>\n\t\t\t\t\t<div class=\"match-result-ext\">\n\t\t\t\t\tMercutioloose\n\t\t<span style='background: url(\"http://web-static2.sublinet.prosoluce.fr/fmnew/1.1/public/images/game/icones/icones_pays_14.png\") no-repeat 0px -58px;' class=\"pays\">&nbsp;</span>\n\t\t\t\t\t</div>\n\t\t\t\t</div>\n\t\t\t</div>\n\t\t</div>",0,50,125,"./matchreport.php?id1=80955&id2=94170&date=1374405000&server=1","./matchreport.php?id1=80955&id2=94170&date=1374405000&server=1&tab=1",null,"./matchreport.php?id1=80955&amp;id2=94170&amp;date=1374405000&amp;server=1",null,null,null,null,null,null,null,null,"\nMSK Dijon",{"$error":"#VALUE!"},{"$error":"#VALUE!"},{"$error":"#VALUE!"},{"$error":"#VALUE!"},"\nMercutioloose",{"$error":"#VALUE!"},{"$error":"#VALUE!"},{"$error":"#VALUE!"},{"$error":"#VALUE!"},{"$f":"Feuil4!$J$1","v":"1 - 1"},{"$f":"Feuil4!$L$1","v":"2 - 3"},{"$error":"#VALUE!"}]
[null,null,null,null,"",null,0,{"$error":"#VALUE!"},{"$error":"#VALUE!"},{"$error":"#VALUE!"},{"$error":"#VALUE!"},null,{"$error":"#VALUE!"},null,null,null,null,null,null,null,null,0,{"$error":"#VALUE!"},{"$error":"#VALUE!"},{"$error":"#VALUE!"},{"$error":"#VALUE!"},0,{"$error":"#VALUE!"},{"$error":"#VALUE!"},{"$error":"#VALUE!"},{"$error":"#VALUE!"},{"$f":"Feuil4!$J$1","v":"1 - 1"},{"$f":"Feuil4!$L$1","v":"2 - 3"},{"$error":"#VALUE!"}]
[null,null,null,null,"",null,0,{"$error":"#VALUE!"},{"$error":"#VALUE!"},{"$error":"#VALUE!"},{"$error":"#VALUE!"},null,{"$error":"#VALUE!"},null,null,null,null,null,null,null,null,0,{"$error":"#VALUE!"},{"$error":"#VALUE!"},{"$error":"#VALUE!"},{"$error":"#VALUE!"},0,{"$error":"#VALUE!"},{"$error":"#VALUE!"},{"$error":"#VALUE!"},{"$error":"#VALUE!"},{"$f":"Feuil4!$J$1","v":"1 - 1"},{"$f":"Feuil4!$L$1","v":"2 - 3"},{"$error":"#VALUE!"}]
[null,null,null,null,"",null,0,{"$error":"#VALUE!"},{"$error":"#VALUE!"},{"$error":"#VALUE!"},{"$error":"#VALUE!"},null,{"$error":"#VALUE!"},null,null,null,null,null,null,null,null,0,{"$error":"#VALUE!"},{"$error":"#VALUE!"},{"$error":"#VALUE!"},{"$error":"#VALUE!"},0,{"$error":"#VALUE!"},{"$error":"#VALUE!"},{"$error":"#VALUE!"},{"$error":"#VALUE!"},{"$f":"Feuil4!$J$1","v":"1 - 1"},{"$f":"Feuil4!$L$1","v":"2 - 3"},{"$error":"#VALUE!"}]
[null,null,null,null,"",null,0,{"$error":"#VALUE!"},{"$error":"#VALUE!"},{"$error":"#VALUE!"},{"$error":"#VALUE!"},null,{"$error":"#VALUE!"},null,null,null,null,null,null,null,null,0,{"$error":"#VALUE!"},{"$error":"#VALUE!"},{"$error":"#VALUE!"},{"$error":"#VALUE!"},0,{"$error":"#VALUE!"},{"$error":"#VALUE!"},{"$error":"#VALUE!"},{"$error":"#VALUE!"},{"$f":"Feuil4!$J$1","v":"1 - 1"},{"$f":"Feuil4!$L$1","v":"2 - 3"},{"$error":"#VALUE!"}]
[null,null,null,null,"",null,0,{"$error":"#VALUE!"},{"$error":"#VALUE!"},{"$error":"#VALUE!"},{"$error":"#VALUE!"},null,{"$error":"#VALUE!"},null,null,null,null,null,null,null,null,0,{"$error":"#VALUE!"},{"$error":"#VALUE!"},{"$error":"#VALUE!"},{"$error":"#VALUE!"},0,{"$error":"#VALUE!"},{"$error":"#VALUE!"},{"$error":"#VALUE!"},{"$error":"#VALUE!"},{"$f":"Feuil4!$J$1","v":"1 - 1"},{"$f":"Feuil4!$L$1","v":"2 - 3"},{"$error":"#VALUE!"}]
[null,null,null,null,"",null,0,{"$error":"#VALUE!"},{"$error":"#VALUE!"},{"$error":"#VALUE!"},{"$error":"#VALUE!"},null,{"$error":"#VALUE!"},null,null,null,null,null,null,null,null,0,{"$error":"#VALUE!"},{"$error":"#VALUE!"},{"$error":"#VALUE!"},{"$error":"#VALUE!"},0,{"$error":"#VALUE!"},{"$error":"#VALUE!"},{"$error":"#VALUE!"},{"$error":"#VALUE!"},{"$f":"Feuil4!$J$1","v":"1 - 1"},{"$f":"Feuil4!$L$1","v":"2 - 3"},{"$error":"#VALUE!"}]
[null,null,null,null,"",null,0,{"$error":"#VALUE!"},{"$error":"#VALUE!"},{"$error":"#VALUE!"},{"$error":"#VALUE!"},null,{"$error":"#VALUE!"},null,null,null,null,null,null,null,null,0,{"$error":"#VALUE!"},{"$error":"#VALUE!"},{"$error":"#VALUE!"},{"$error":"#VALUE!"},0,{"$error":"#VALUE!"},{"$error":"#VALUE!"},{"$error":"#VALUE!"},{"$error":"#VALUE!"},{"$f":"Feuil4!$J$1","v":"1 - 1"},{"$f":"Feuil4!$L$1","v":"2 - 3"},{"$error":"#VALUE!"}]
[null,null,null,null,"",null,0,{"$error":"#VALUE!"},{"$error":"#VALUE!"},{"$error":"#VALUE!"},{"$error":"#VALUE!"},null,{"$error":"#VALUE!"},null,null,null,null,null,null,null,null,0,{"$error":"#VALUE!"},{"$error":"#VALUE!"},{"$error":"#VALUE!"},{"$error":"#VALUE!"},0,{"$error":"#VALUE!"},{"$error":"#VALUE!"},{"$error":"#VALUE!"},{"$error":"#VALUE!"},{"$f":"Feuil4!$J$1","v":"1 - 1"},{"$f":"Feuil4!$L$1","v":"2 - 3"},{"$error":"#VALUE!"}]
[null,null,null,null,"",null,0,{"$error":"#VALUE!"},{"$error":"#VALUE!"},{"$error":"#VALUE!"},{"$error":"#VALUE!"},null,{"$error":"#VALUE!"},null,null,null,null,null,null,null,null,0,{"$error":"#VALUE!"},{"$error":"#VALUE!"},{"$error":"#VALUE!"},{"$error":"#VALUE!"},0,{"$error":"#VALUE!"},{"$error":"#VALUE!"},{"$error":"#VALUE!"},{"$error":"#VALUE!"},{"$f":"Feuil4!$J$1","v":"1 - 1"},{"$f":"Feuil4!$L$1","v":"2 - 3"},{"$error":"#VALUE!"}]
[null,null,null,null,"",null,0,{"$error":"#VALUE!"},{"$error":"#VALUE!"},{"$error":"#VALUE!"},{"$error":"#VALUE!"},null,{"$error":"#VALUE!"},null,null,null,null,null,null,null,null,0,{"$error":"#VALUE!"},{"$error":"#VALUE!"},{"$error":"#VALUE!"},{"$error":"#VALUE!"},0,{"$error":"#VALUE!"},{"$error":"#VALUE!"},{"$error":"#VALUE!"},{"$error":"#VALUE!"},{"$f":"Feuil4!$J$1","v":"1 - 1"},{"$f":"Feuil4!$L$1","v":"2 - 3"},{"$error":"#VALUE!"}]
[null,null,null,null,"",null,0,{"$error":"#VALUE!"},{"$error":"#VALUE!"},{"$error":"#VALUE!"},{"$error":"#VALUE!"},null,{"$error":"#VALUE!"},null,null,null,null,null,null,null,null,0,{"$error":"#VALUE!"},{"$error":"#VALUE!"},{"$error":"#VALUE!"},{"$error":"#VALUE!"},0,{"$error":"#VALUE!"},{"$error":"#VALUE!"},{"$error":"#VALUE!"},{"$error":"#VALUE!"},{"$f":"Feuil4!$J$1","v":"1 - 1"},{"$f":"Feuil4!$L$1","v":"2 - 3"},{"$error":"#VALUE!"}]
[null,null,null,null,"",null,0,{"$error":"#VALUE!"},{"$error":"#VALUE!"},{"$error":"#VALUE!"},{"$error":"#VALUE!"},null,{"$error":"#VALUE!"},null,null,null,null,null,null,null,null,0,{"$error":"#VALUE!"},{"$error":"#VALUE!"},{"$error":"#VALUE!"},{"$error":"#VALUE!"},0,{"$error":"#VALUE!"},{"$error":"#VALUE!"},{"$error":"#VALUE!"},{"$error":"#VALUE!"},{"$f":"Feuil4!$J$1","v":"1 - 1"},{"$f":"Feuil4!$L$1","v":"2 - 3"},{"$error":"#VALUE!"}]
[null,null,null,null,"",null,0,{"$error":"#VALUE!"},{"$error":"#VALUE!"},{"$error":"#VALUE!"},{"$error":"#VALUE!"},null,{"$error":"#VALUE!"},null,null,null,null,null,null,null,null,0,{"$error":"#VALUE!"},{"$error":"#VALUE!"},{"$error":"#VALUE!"},{"$error":"#VALUE!"},0,{"$error":"#VALUE!"},{"$error":"#VALUE!"},{"$error":"#VALUE!"},{"$error":"#VALUE!"},{"$f":"Feuil4!$J$1","v":"1 - 1"},{"$f":"Feuil4!$L$1","v":"2 - 3"},{"$error":"#VALUE!"}]
[null,null,null,null,"",null,0,{"$error":"#VALUE!"},{"$error":"#VALUE!"},{"$error":"#VALUE!"},{"$error":"#VALUE!"},null,{"$error":"#VALUE!"},null,null,null,null,null,null,null,null,0,{"$error":"#VALUE!"},{"$error":"#VALUE!"},{"$error":"#VALUE!"},{"$error":"#VALUE!"},0,{"$error":"#VALUE!"},{"$error":"#VALUE!"},{"$error":"#VALUE!"},{"$error":"#VALUE!"},{"$f":"Feuil4!$J$1","v":"1 - 1"},{"$f":"Feuil4!$L$1","v":"2 - 3"},{"$error":"#VALUE!"}]
[null,null,null,null,"",null,0,{"$error":"#VALUE!"},{"$error":"#VALUE!"},{"$error":"#VALUE!"},{"$error":"#VALUE!"},null,{"$error":"#VALUE!"},null,null,null,null,null,null,null,null,0,{"$error":"#VALUE!"},{"$error":"#VALUE!"},{"$error":"#VALUE!"},{"$error":"#VALUE!"},0,{"$error":"#VALUE!"},{"$error":"#VALUE!"},{"$error":"#VALUE!"},{"$error":"#VALUE!"},{"$f":"Feuil4!$J$1","v":"1 - 1"},{"$f":"Feuil4!$L$1","v":"2 - 3"},{"$error":"#VALUE!"}]
[null,null,null,null,"",null,0,{"$error":"#VALUE!"},{"$error":"#VALUE!"},{"$error":"#VALUE!"},{"$error":"#VALUE!"},null,{"$error":"#VALUE!"},null,null,null,null,null,null,null,null,0,{"$error":"#VALUE!"},{"$error":"#VALUE!"},{"$error":"#VALUE!"},{"$error":"#VALUE!"},0,{"$error":"#VALUE!"},{"$error":"#VALUE!"},{"$error":"#VALUE!"},{"$error":"#VALUE!"},{"$f":"Feuil4!$J$1","v":"1 - 1"},{"$f":"Feuil4!$L$1","v":"2 - 3"},{"$error":"#VALUE!"}]
[null,null,null,null,"",null,0,{"$error":"#VALUE!"},{"$error":"#VALUE!"},{"$error":"#VALUE!"},{"$error":"#VALUE!"},null,{"$error":"#VALUE!"},null,null,null,null,null,null,null,null,0,{"$error":"#VALUE!"},{"$error":"#VALUE!"},{"$error":"#VALUE!"},{"$error":"#VALUE!"},0,{"$error":"#VALUE!"},{"$error":"#VALUE!"},{"$error":"#VALUE!"},{"$error":"#VALUE!"},{"$f":"Feuil4!$J$1","v":"1 - 1"},{"$f":"Feuil4!$L$1","v":"2 - 3"},{"$error":"#VALUE!"}]
[null,null,null,null,"",null,0,{"$error":"#VALUE!"},{"$error":"#VALUE!"},{"$error":"#VALUE!"},{"$error":"#VALUE!"},null,{"$error":"#VALUE!"},null,null,null,null,null,null,null,null,0,{"$error":"#VALUE!"},{"$error":"#VALUE!"},{"$error":"#VALUE!"},{"$error":"#VALUE!"},0,{"$error":"#VALUE!"},{"$error":"#VALUE!"},{"$error":"#VALUE!"},{"$error":"#VALUE!"},{"$f":"Feuil4!$J$1","v":"1 - 1"},{"$f":"Feuil4!$L$1","v":"2 - 3"},{"$error":"#VALUE!"}]
[null,null,null,null,"",null,0,{"$error":"#VALUE!"},{"$error":"#VALUE!"},{"$error":"#VALUE!"},{"$error":"#VALUE!"},null,{"$error":"#VALUE!"},null,null,null,null,null,null,null,null,0,{"$error":"#VALUE!"},{"$error":"#VALUE!"},{"$error":"#VALUE!"},{"$error":"#VALUE!"},0,{"$error":"#VALUE!"},{"$error":"#VALUE!"},{"$error":"#VALUE!"},{"$error":"#VALUE!"},{"$f":"Feuil4!$J$1","v":"1 - 1"},{"$f":"Feuil4!$L$1","v":"2 - 3"},{"$error":"#VALUE!"}]
[null,null,null,null,"",null,0,{"$error":"#VALUE!"},{"$error":"#VALUE!"},{"$error":"#VALUE!"},{"$error":"#VALUE!"},null,{"$error":"#VALUE!"},null,null,null,null,null,null,null,null,0,{"$error":"#VALUE!"},{"$error":"#VALUE!"},{"$error":"#VALUE!"},{"$error":"#VALUE!"},0,{"$error":"#VALUE!"},{"$error":"#VALUE!"},{"$error":"#VALUE!"},{"$error":"#VALUE!"},{"$f":"Feuil4!$J$1","v":"1 - 1"},{"$f":"Feuil4!$L$1","v":"2 - 3"},{"$error":"#VALUE!"}]
[null,null,null,null,"",null,0,{"$error":"#VALUE!"},{"$error":"#VALUE!"},{"$error":"#VALUE!"},{"$error":"#VALUE!"},null,{"$error":"#VALUE!"},null,null,null,null,null,null,null,null,0,{"$error":"#VALUE!"},{"$error":"#VALUE!"},{"$error":"#VALUE!"},{"$error":"#VALUE!"},0,{"$error":"#VALUE!"},{"$error":"#VALUE!"},{"$error":"#VALUE!"},{"$error":"#VALUE!"},{"$f":"Feuil4!$J$1","v":"1 - 1"},{"$f":"Feuil4!$L$1","v":"2 - 3"},{"$error":"#VALUE!"}]
[null,null,null,null,"",null,0,{"$error":"#VALUE!"},{"$error":"#VALUE!"},{"$error":"#VALUE!"},{"$error":"#VALUE!"},null,{"$error":"#VALUE!"},null,null,null,null,null,null,null,null,0,{"$error":"#VALUE!"},{"$error":"#VALUE!"},{"$error":"#VALUE!"},{"$error":"#VALUE!"},0,{"$error":"#VALUE!"},{"$error":"#VALUE!"},{"$error":"#VALUE!"},{"$error":"#VALUE!"},{"$f":"Feuil4!$J$1","v":"1 - 1"},{"$f":"Feuil4!$L$1","v":"2 - 3"},{"$error":"#VALUE!"}]
[null,null,null,null,"",null,0,{"$error":"#VALUE!"},{"$error":"#VALUE!"},{"$error":"#VALUE!"},{"$error":"#VALUE!"},null,{"$error":"#VALUE!"},null,null,null,null,null,null,null,null,0,{"$error":"#VALUE!"},{"$error":"#VALUE!"},{"$error":"#VALUE!"},{"$error":"#VALUE!"},0,{"$error":"#VALUE!"},{"$error":"#VALUE!"},{"$error":"#VALUE!"},{"$error":"#VALUE!"},{"$f":"Feuil4!$J$1","v":"1 - 1"},{"$f":"Feuil4!$L$1","v":"2 - 3"},{"$error":"#VALUE!"}]
[null,null,null,null,"",null,0,{"$error":"#VALUE!"},{"$error":"#VALUE!"},{"$error":"#VALUE!"},{"$error":"#VALUE!"},null,{"$error":"#VALUE!"},null,null,null,null,null,null,null,null,0,{"$error":"#VALUE!"},{"$error":"#VALUE!"},{"$error":"#VALUE!"},{"$error":"#VALUE!"},0,{"$error":"#VALUE!"},{"$error":"#VALUE!"},{"$error":"#VALUE!"},{"$error":"#VALUE!"},{"$f":"Feuil4!$J$1","v":"1 - 1"},{"$f":"Feuil4!$L$1","v":"2 - 3"},{"$error":"#VALUE!"}]
[null,null,null,null,"",null,0,{"$error":"#VALUE!"},{"$error":"#VALUE!"},{"$error":"#VALUE!"},{"$error":"#VALUE!"},null,{"$error":"#VALUE!"},null,null,null,null,null,null,null,null,0,{"$error":"#VALUE!"},{"$error":"#VALUE!"},{"$error":"#VALUE!"},{"$error":"#VALUE!"},0,{"$error":"#VALUE!"},{"$error":"#VALUE!"},{"$error":"#VALUE!"},{"$error":"#VALUE!"},{"$f":"Feuil4!$J$1","v":"1 - 1"},{"$f":"Feuil4!$L$1","v":"2 - 3"},{"$error":"#VALUE!"}]
[null,null,null,null,"",null,0,{"$error":"#VALUE!"},{"$error":"#VALUE!"},{"$error":"#VALUE!"},{"$error":"#VALUE!"},null,{"$error":"#VALUE!"},null,null,null,null,null,null,null,null,0,{"$error":"#VALUE!"},{"$error":"#VALUE!"},{"$error":"#VALUE!"},{"$error":"#VALUE!"},0,{"$error":"#VALUE!"},{"$error":"#VALUE!"},{"$error":"#VALUE!"},{"$error":"#VALUE!"},{"$f":"Feuil4!$J$1","v":"1 - 1"},{"$f":"Feuil4!$L$1","v":"2 - 3"},{"$error":"#VALUE!"}]
[null,null,null,null,"",null,0,{"$error":"#VALUE!"},{"$error":"#VALUE!"},{"$error":"#VALUE!"},{"$error":"#VALUE!"},null,{"$error":"#VALUE!"},null,null,null,null,null,null,null,null,0,{"$error":"#VALUE!"},{"$error":"#VALUE!"},{"$error":"#VALUE!"},{"$error":"#VALUE!"},0,{"$error":"#VALUE!"},{"$error":"#VALUE!"},{"$error":"#VALUE!"},{"$error":"#VALUE!"},{"$f":"Feuil4!$J$1","v":"1 - 1"},{"$f":"Feuil4!$L$1","v":"2 - 3"},{"$error":"#VALUE!"}]
[null,null,null,null,"",null,0,{"$error":"#VALUE!"},{"$error":"#VALUE!"},{"$error":"#VALUE!"},{"$error":"#VALUE!"},null,{"$error":"#VALUE!"},null,null,null,null,null,null,null,null,0,{"$error":"#VALUE!"},{"$error":"#VALUE!"},{"$error":"#VALUE!"},{"$error":"#VALUE!"},0,{"$error":"#VALUE!"},{"$error":"#VALUE!"},{"$error":"#VALUE!"},{"$error":"#VALUE!"},{"$f":"Feuil4!$J$1","v":"1 - 1"},{"$f":"Feuil4!$L$1","v":"2 - 3"},{"$error":"#VALUE!"}]
[null,null,null,null,"",null,0,{"$error":"#VALUE!"},{"$error":"#VALUE!"},{"$error":"#VALUE!"},{"$error":"#VALUE!"},null,{"$error":"#VALUE!"},null,null,null,null,null,null,null,null,0,{"$error":"#VALUE!"},{"$error":"#VALUE!"},{"$error":"#VALUE!"},{"$error":"#VALUE!"},0,{"$error":"#VALUE!"},{"$error":"#VALUE!"},{"$error":"#VALUE!"},{"$error":"#VALUE!"},{"$f":"Feuil4!$J$1","v":"1 - 1"},{"$f":"Feuil4!$L$1","v":"2 - 3"},{"$error":"#VALUE!"}]
[null,null,null,null,"",null,0,{"$error":"#VALUE!"},{"$error":"#VALUE!"},{"$error":"#VALUE!"},{"$error":"#VALUE!"},null,{"$error":"#VALUE!"},null,null,null,null,null,null,null,null,0,{"$error":"#VALUE!"},{"$error":"#VALUE!"},{"$error":"#VALUE!"},{"$error":"#VALUE!"},0,{"$error":"#VALUE!"},{"$error":"#VALUE!"},{"$error":"#VALUE!"},{"$error":"#VALUE!"},{"$f":"Feuil4!$J$1","v":"1 - 1"},{"$f":"Feuil4!$L$1","v":"2 - 3"},{"$error":"#VALUE!"}]
[null,null,null,null,"",null,0,{"$error":"#VALUE!"},{"$error":"#VALUE!"},{"$error":"#VALUE!"},{"$error":"#VALUE!"},null,{"$error":"#VALUE!"},null,null,null,null,null,null,null,null,0,{"$error":"#VALUE!"},{"$error":"#VALUE!"},{"$error":"#VALUE!"},{"$error":"#VALUE!"},0,{"$error":"#VALUE!"},{"$error":"#VALUE!"},{"$error":"#VALUE!"},{"$error":"#VALUE!"},{"$f":"Feuil4!$J$1","v":"1 - 1"},{"$f":"Feuil4!$L$1","v":"2 - 3"},{"$error":"#VALUE!"}]
[null,null,null,null,"",null,0,{"$error":"#VALUE!"},{"$error":"#VALUE!"},{"$error":"#VALUE!"},{"$error":"#VALUE!"},null,{"$error":"#VALUE!"},null,null,null,null,null,null,null,null,0,{"$error":"#VALUE!"},{"$error":"#VALUE!"},{"$error":"#VALUE!"},{"$error":"#VALUE!"},0,{"$error":"#VALUE!"},{"$error":"#VALUE!"},{"$error":"#VALUE!"},{"$error":"#VALUE!"},{"$f":"Feuil4!$J$1","v":"1 - 1"},{"$f":"Feuil4!$L$1","v":"2 - 3"},{"$error":"#VALUE!"}]
[null,null,null,null,"",null,0,{"$error":"#VALUE!"},{"$error":"#VALUE!"},{"$error":"#VALUE!"},{"$error":"#VALUE!"},null,{"$error":"#VALUE!"},null,null,null,null,null,null,null,null,0,{"$error":"#VALUE!"},{"$error":"#VALUE!"},{"$error":"#VALUE!"},{"$error":"#VALUE!"},0,{"$error":"#VALUE!"},{"$error":"#VALUE!"},{"$error":"#VALUE!"},{"$error":"#VALUE!"},{"$f":"Feuil4!$J$1","v":"1 - 1"},{"$f":"Feuil4!$L$1","v":"2 - 3"},{"$error":"#VALUE!"}]
[null,null,null,null,"",null,0,{"$error":"#VALUE!"},{"$error":"#VALUE!"},{"$error":"#VALUE!"},{"$error":"#VALUE!"},null,{"$error":"#VALUE!"},null,null,null,null,null,null,null,null,0,{"$error":"#VALUE!"},{"$error":"#VALUE!"},{"$error":"#VALUE!"},{"$error":"#VALUE!"},0,{"$error":"#VALUE!"},{"$error":"#VALUE!"},{"$error":"#VALUE!"},{"$error":"#VALUE!"},{"$f":"Feuil4!$J$1","v":"1 - 1"},{"$f":"Feuil4!$L$1","v":"2 - 3"},{"$error":"#VALUE!"}]
[null,null,null,null,"",null,0,{"$error":"#VALUE!"},{"$error":"#VALUE!"},{"$error":"#VALUE!"},{"$error":"#VALUE!"},null,{"$error":"#VALUE!"},null,null,null,null,null,null,null,null,0,{"$error":"#VALUE!"},{"$error":"#VALUE!"},{"$error":"#VALUE!"},{"$error":"#VALUE!"},0,{"$error":"#VALUE!"},{"$error":"#VALUE!"},{"$error":"#VALUE!"},{"$error":"#VALUE!"},{"$f":"Feuil4!$J$1","v":"1 - 1"},{"$f":"Feuil4!$L$1","v":"2 - 3"},{"$error":"#VALUE!"}]
[null,null,null,null,"",null,0,{"$error":"#VALUE!"},{"$error":"#VALUE!"},{"$error":"#VALUE!"},{"$error":"#VALUE!"},null,{"$error":"#VALUE!"},null,null,null,null,null,null,null,null,0,{"$error":"#VALUE!"},{"$error":"#VALUE!"},{"$error":"#VALUE!"},{"$error":"#VALUE!"},0,{"$error":"#VALUE!"},{"$error":"#VALUE!"},{"$error":"#VALUE!"},{"$error":"#VALUE!"},{"$f":"Feuil4!$J$1","v":"1 - 1"},{"$f":"Feuil4!$L$1","v":"2 - 3"},{"$error":"#VALUE!"}]
[null,null,null,null,"",null,0,{"$error":"#VALUE!"},{"$error":"#VALUE!"},{"$error":"#VALUE!"},{"$error":"#VALUE!"},null,{"$error":"#VALUE!"},null,null,null,null,null,null,null,null,0,{"$error":"#VALUE!"},{"$error":"#VALUE!"},{"$error":"#VALUE!"},{"$error":"#VALUE!"},0,{"$error":"#VALUE!"},{"$error":"#VALUE!"},{"$error":"#VALUE!"},{"$error":"#VALUE!"},{"$f":"Feuil4!$J$1","v":"1 - 1"},{"$f":"Feuil4!$L$1","v":"2 - 3"},{"$error":"#VALUE!"}]
[null,null,null,null,"",null,0,{"$error":"#VALUE!"},{"$error":"#VALUE!"},{"$error":"#VALUE!"},{"$error":"#VALUE!"},null,{"$error":"#VALUE!"},null,null,null,null,null,null,null,null,0,{"$error":"#VALUE!"},{"$error":"#VALUE!"},{"$error":"#VALUE!"},{"$error":"#VALUE!"},0,{"$error":"#VALUE!"},{"$error":"#VALUE!"},{"$error":"#VALUE!"},{"$error":"#VALUE!"},{"$f":"Feuil4!$J$1","v":"1 - 1"},{"$f":"Feuil4!$L$1","v":"2 - 3"},{"$error":"#VALUE!"}]
[null,null,null,null,"",null,0,{"$error":"#VALUE!"},{"$error":"#VALUE!"},{"$error":"#VALUE!"},{"$error":"#VALUE!"},null,{"$error":"#VALUE!"},null,null,null,null,null,null,null,null,0,{"$error":"#VALUE!"},{"$error":"#VALUE!"},{"$error":"#VALUE!"},{"$error":"#VALUE!"},0,{"$error":"#VALUE!"},{"$error":"#VALUE!"},{"$error":"#VALUE!"},{"$error":"#VALUE!"},{"$f":"Feuil4!$J$1","v":"1 - 1"},{"$f":"Feuil4!$L$1","v":"2 - 3"},{"$error":"#VALUE!"}]
[null,null,null,null,"",null,0,{"$error":"#VALUE!"},{"$error":"#VALUE!"},{"$error":"#VALUE!"},{"$error":"#VALUE!"},null,{"$error":"#VALUE!"},null,null,null,null,null,null,null,null,0,{"$error":"#VALUE!"},{"$error":"#VALUE!"},{"$error":"#VALUE!"},{"$error":"#VALUE!"},0,{"$error":"#VALUE!"},{"$error":"#VALUE!"},{"$error":"#VALUE!"},{"$error":"#VALUE!"},{"$f":"Feuil4!$J$1","v":"1 - 1"},{"$f":"Feuil4!$L$1","v":"2 - 3"},{"$error":"#VALUE!"}]
[null,null,null,null,"",null,0,{"$error":"#VALUE!"},{"$error":"#VALUE!"},{"$error":"#VALUE!"},{"$error":"#VALUE!"},null,{"$error":"#VALUE!"},null,null,null,null,null,null,null,null,0,{"$error":"#VALUE!"},{"$error":"#VALUE!"},{"$error":"#VALUE!"},{"$error":"#VALUE!"},0,{"$error":"#VALUE!"},{"$error":"#VALUE!"},{"$error":"#VALUE!"},{"$error":"#VALUE!"},{"$f":"Feuil4!$J$1","v":"1 - 1"},{"$f":"Feuil4!$L$1","v":"2 - 3"},{"$error":"#VALUE!"}]
[null,null,null,null,"",null,0,{"$error":"#VALUE!"},{"$error":"#VALUE!"},{"$error":"#VALUE!"},{"$error":"#VALUE!"},null,{"$error":"#VALUE!"},null,null,null,null,null,null,null,null,0,{"$error":"#VALUE!"},{"$error":"#VALUE!"},{"$error":"#VALUE!"},{"$error":"#VALUE!"},0,{"$error":"#VALUE!"},{"$error":"#VALUE!"},{"$error":"#VALUE!"},{"$error":"#VALUE!"},{"$f":"Feuil4!$J$1","v":"1 - 1"},{"$f":"Feuil4!$L$1","v":"2 - 3"},{"$error":"#VALUE!"}]
[null,null,null,null,"",null,0,{"$error":"#VALUE!"},{"$error":"#VALUE!"},{"$error":"#VALUE!"},{"$error":"#VALUE!"},null,{"$error":"#VALUE!"},null,null,null,null,null,null,null,null,0,{"$error":"#VALUE!"},{"$error":"#VALUE!"},{"$error":"#VALUE!"},{"$error":"#VALUE!"},0,{"$error":"#VALUE!"},{"$error":"#VALUE!"},{"$error":"#VALUE!"},{"$error":"#VALUE!"},{"$f":"Feuil4!$J$1","v":"1 - 1"},{"$f":"Feuil4!$L$1","v":"2 - 3"},{"$error":"#VALUE!"}]
[null,null,null,null,"",null,0,{"$error":"#VALUE!"},{"$error":"#VALUE!"},{"$error":"#VALUE!"},{"$error":"#VALUE!"},null,{"$error":"#VALUE!"},null,null,null,null,null,null,null,null,0,{"$error":"#VALUE!"},{"$error":"#VALUE!"},{"$error":"#VALUE!"},{"$error":"#VALUE!"},0,{"$error":"#VALUE!"},{"$error":"#VALUE!"},{"$error":"#VALUE!"},{"$error":"#VALUE!"},{"$f":"Feuil4!$J$1","v":"1 - 1"},{"$f":"Feuil4!$L$1","v":"2 - 3"},{"$error":"#VALUE!"}]
[null,null,null,null,"",null,0,{"$error":"#VALUE!"},{"$error":"#VALUE!"},{"$error":"#VALUE!"},{"$error":"#VALUE!"},null,{"$error":"#VALUE!"},null,null,null,null,null,null,null,null,0,{"$error":"#VALUE!"},{"$error":"#VALUE!"},{"$error":"#VALUE!"},{"$error":"#VALUE!"},0,{"$error":"#VALUE!"},{"$error":"#VALUE!"},{"$error":"#VALUE!"},{"$error":"#VALUE!"},{"$f":"Feuil4!$J$1","v":"1 - 1"},{"$f":"Feuil4!$L$1","v":"2 - 3"},{"$error":"#VALUE!"}]
[null,null,null,null,"",null,0,{"$error":"#VALUE!"},{"$error":"#VALUE!"},{"$error":"#VALUE!"},{"$error":"#VALUE!"},null,{"$error":"#VALUE!"},null,null,null,null,null,null,null,null,0,{"$error":"#VALUE!"},{"$error":"#VALUE!"},{"$error":"#VALUE!"},{"$error":"#VALUE!"},0,{"$error":"#VALUE!"},{"$error":"#VALUE!"},{"$error":"#VALUE!"},{"$error":"#VALUE!"},{"$f":"Feuil4!$J$1","v":"1 - 1"},{"$f":"Feuil4!$L$1","v":"2 - 3"},{"$error":"#VALUE!"}]
[null,null,null,null,"",null,0,{"$error":"#VALUE!"},{"$error":"#VALUE!"},{"$error":"#VALUE!"},{"$error":"#VALUE!"},null,{"$error":"#VALUE!"},null,null,null,null,null,null,null,null,0,{"$error":"#VALUE!"},{"$error":"#VALUE!"},{"$error":"#VALUE!"},{"$error":"#VALUE!"},0,{"$error":"#VALUE!"},{"$error":"#VALUE!"},{"$error":"#VALUE!"},{"$error":"#VALUE!"},{"$f":"Feuil4!$J$1","v":"1 - 1"},{"$f":"Feuil4!$L$1","v":"2 - 3"},{"$error":"#VALUE!"}]
[null,null,null,null,{"$f":"MID(A67,2,8)","v":""},null,{"$f":"IF(E67=$E$1,1,0)","v":0},{"$f":"SEARCH(\"'\",F67,1)","v":{"$error":"#VALUE!"}},{"$f":"SEARCH(\"'\",F67,H67+1)","v":{"$error":"#VALUE!"}},{"$f":"SUBSTITUTE(M67,\"amp;\",\"\")","v":{"$error":"#VALUE!"}},{"$f":"J67&\"&tab=1\"","v":{"$error":"#VALUE!"}},null,{"$f":"MID(F67,H67+1,I67-H67-1)","v":{"$error":"#VALUE!"}},null,null,null,null,null,null,null,null,{"$f":"B67","v":0},{"$error":"#VALUE!"},{"$error":"#VALUE!"},{"$error":"#VALUE!"},{"$error":"#VALUE!"},0,{"$error":"#VALUE!"},{"$error":"#VALUE!"},{"$error":"#VALUE!"},{"$error":"#VALUE!"},{"$f":"Feuil4!$J$1","v":"1 - 1"},{"$f":"Feuil4!$L$1","v":"2 - 3"},{"$f":"W67 &\" / \" &AB67 & CHAR(13) & AF67 & \" - \" &AG67 & CHAR(13) & Y67 & \"/\" & AD67 & \" - \" & Z67 & \"/\" &AE67","v":{"$error":"#VALUE!"}}]
[null,null,null,null,"",null,0,{"$error":"#VALUE!"},{"$error":"#VALUE!"},{"$error":"#VALUE!"},{"$error":"#VALUE!"},null,{"$error":"#VALUE!"},null,null,null,null,null,null,null,null,0,{"$error":"#VALUE!"},{"$error":"#VALUE!"},{"$error":"#VALUE!"},{"$error":"#VALUE!"},0,{"$error":"#VALUE!"},{"$error":"#VALUE!"},{"$error":"#VALUE!"},{"$error":"#VALUE!"},{"$f":"Feuil4!$J$1","v":"1 - 1"},{"$f":"Feuil4!$L$1","v":"2 - 3"},{"$error":"#VALUE!"}]
[null,null,null,null,"",null,0,{"$error":"#VALUE!"},{"$error":"#VALUE!"},{"$error":"#VALUE!"},{"$error":"#VALUE!"},null,{"$error":"#VALUE!"},null,null,null,null,null,null,null,null,0,{"$f":"SUBSTITUTE(SUBSTITUTE(MID(O69,SEARCH(\".jpg\",O69,1)-5,5),\"-\",\"\",1),\"-\",\"\",1)","v":{"$error":"#VALUE!"}},{"$f":"SUBSTITUTE(SUBSTITUTE(MID(Q69,SEARCH(\".jpg\",Q69,1)-5,5),\"-\",\"\",1),\"-\",\"\",1)","v":{"$error":"#VALUE!"}},{"$f":"MID(S69,SEARCH(\"+\",S69,1)+1,3)","v":{"$error":"#VALUE!"}},{"$f":"MID(U69,SEARCH(\"+\",U69,1)+1,3)","v":{"$error":"#VALUE!"}},{"$f":"D69","v":0},{"$f":"SUBSTITUTE(SUBSTITUTE(MID(N69,SEARCH(\".jpg\",N69,1)-5,5),\"-\",\"\",1),\"-\",\"\",1)","v":{"$error":"#VALUE!"}},{"$f":"SUBSTITUTE(SUBSTITUTE(MID(P69,SEARCH(\".jpg\",P69,1)-5,5),\"-\",\"\",1),\"-\",\"\",1)","v":{"$error":"#VALUE!"}},{"$f":"MID(R69,SEARCH(\"+\",R69,1)+1,5)","v":{"$error":"#VALUE!"}},{"$f":"MID(T69,SEARCH(\"+\",T69,1)+1,5)","v":{"$error":"#VALUE!"}},{"$f":"Feuil4!$J$1","v":"1 - 1"},{"$f":"Feuil4!$L$1","v":"2 - 3"},{"$error":"#VALUE!"}]
[null,null,null,null,"",null,0,{"$error":"#VALUE!"},{"$error":"#VALUE!"},{"$error":"#VALUE!"},{"$error":"#VALUE!"},null,{"$error":"#VALUE!"},null,null,null,null,null,null,null,null,0,{"$error":"#VALUE!"},{"$error":"#VALUE!"},{"$error":"#VALUE!"},{"$error":"#VALUE!"},0,{"$error":"#VALUE!"},{"$error":"#VALUE!"},{"$error":"#VALUE!"},{"$error":"#VALUE!"},{"$f":"Feuil4!$J$1","v":"1 - 1"},{"$f":"Feuil4!$L$1","v":"2 - 3"},{"$error":"#VALUE!"}]
[null,null,null,null,"",null,0,{"$error":"#VALUE!"},{"$error":"#VALUE!"},{"$error":"#VALUE!"},{"$error":"#VALUE!"},null,{"$error":"#VALUE!"},null,null,null,null,null,null,null,null,0,{"$error":"#VALUE!"},{"$error":"#VALUE!"},{"$error":"#VALUE!"},{"$error":"#VALUE!"},0,{"$error":"#VALUE!"},{"$error":"#VALUE!"},{"$error":"#VALUE!"},{"$error":"#VALUE!"},{"$f":"Feuil4!$J$1","v":"1 - 1"},{"$f":"Feuil4!$L$1","v":"2 - 3"},{"$error":"#VALUE!"}]
[null,null,null,null,"",null,0,{"$error":"#VALUE!"},{"$error":"#VALUE!"},{"$error":"#VALUE!"},{"$error":"#VALUE!"},null,{"$error":"#VALUE!"},null,null,null,null,null,null,null,null,0,{"$error":"#VALUE!"},{"$error":"#VALUE!"},{"$error":"#VALUE!"},{"$error":"#VALUE!"},0,{"$error":"#VALUE!"},{"$error":"#VALUE!"},{"$error":"#VALUE!"},{"$error":"#VALUE!"},{"$f":"Feuil4!$J$1","v":"1 - 1"},{"$f":"Feuil4!$L$1","v":"2 - 3"},{"$error":"#VALUE!"}]
[null,null,null,null,"",null,0,{"$error":"#VALUE!"},{"$error":"#VALUE!"},{"$error":"#VALUE!"},{"$error":"#VALUE!"},null,{"$error":"#VALUE!"},null,null,null,null,null,null,null,null,0,{"$error":"#VALUE!"},{"$error":"#VALUE!"},{"$error":"#VALUE!"},{"$error":"#VALUE!"},0,{"$error":"#VALUE!"},{"$error":"#VALUE!"},{"$error":"#VALUE!"},{"$error":"#VALUE!"},{"$f":"Feuil4!$J$1","v":"1 - 1"},{"$f":"Feuil4!$L$1","v":"2 - 3"},{"$error":"#VALUE!"}]
[null,null,null,null,"",null,0,{"$error":"#VALUE!"},{"$error":"#VALUE!"},{"$error":"#VALUE!"},{"$error":"#VALUE!"},null,{"$error":"#VALUE!"},null,null,null,null,null,null,null,null,0,{"$error":"#VALUE!"},{"$error":"#VALUE!"},{"$error":"#VALUE!"},{"$error":"#VALUE!"},0,{"$error":"#VALUE!"},{"$error":"#VALUE!"},{"$error":"#VALUE!"},{"$error":"#VALUE!"},{"$f":"Feuil4!$J$1","v":"1 - 1"},{"$f":"Feuil4!$L$1","v":"2 - 3"},{"$error":"#VALUE!"}]
[null,null,null,null,"",null,0,{"$error":"#VALUE!"},{"$error":"#VALUE!"},{"$error":"#VALUE!"},{"$error":"#VALUE!"},null,{"$error":"#VALUE!"},null,null,null,null,null,null,null,null,0,{"$error":"#VALUE!"},{"$error":"#VALUE!"},{"$error":"#VALUE!"},{"$error":"#VALUE!"},0,{"$error":"#VALUE!"},{"$error":"#VALUE!"},{"$error":"#VALUE!"},{"$error":"#VALUE!"},{"$f":"Feuil4!$J$1","v":"1 - 1"},{"$f":"Feuil4!$L$1","v":"2 - 3"},{"$error":"#VALUE!"}]
[null,null,null,null,"",null,0,{"$error":"#VALUE!"},{"$error":"#VALUE!"},{"$error":"#VALUE!"},{"$error":"#VALUE!"},null,{"$error":"#VALUE!"},null,null,null,null,null,null,null,null,0,{"$error":"#VALUE!"},{"$error":"#VALUE!"},{"$error":"#VALUE!"},{"$error":"#VALUE!"},0,{"$error":"#VALUE!"},{"$error":"#VALUE!"},{"$error":"#VALUE!"},{"$error":"#VALUE!"},{"$f":"Feuil4!$J$1","v":"1 - 1"},{"$f":"Feuil4!$L$1","v":"2 - 3"},{"$error":"#VALUE!"}]
[null,null,null,null,"",null,0,{"$error":"#VALUE!"},{"$error":"#VALUE!"},{"$error":"#VALUE!"},{"$error":"#VALUE!"},null,{"$error":"#VALUE!"},null,null,null,null,null,null,null,null,0,{"$error":"#VALUE!"},{"$error":"#VALUE!"},{"$error":"#VALUE!"},{"$error":"#VALUE!"},0,{"$error":"#VALUE!"},{"$error":"#VALUE!"},{"$error":"#VALUE!"},{"$error":"#VALUE!"},{"$f":"Feuil4!$J$1","v":"1 - 1"},{"$f":"Feuil4!$L$1","v":"2 - 3"},{"$error":"#VALUE!"}]
[null,null,null,null,"",null,0,{"$error":"#VALUE!"},{"$error":"#VALUE!"},{"$error":"#VALUE!"},{"$error":"#VALUE!"},null,{"$error":"#VALUE!"},null,null,null,null,null,null,null,null,0,{"$error":"#VALUE!"},{"$error":"#VALUE!"},{"$error":"#VALUE!"},{"$error":"#VALUE!"},0,{"$error":"#VALUE!"},{"$error":"#VALUE!"},{"$error":"#VALUE!"},{"$error":"#VALUE!"},{"$f":"Feuil4!$J$1","v":"1 - 1"},{"$f":"Feuil4!$L$1","v":"2 - 3"},{"$error":"#VALUE!"}]
[null,null,null,null,"",null,0,{"$error":"#VALUE!"},{"$error":"#VALUE!"},{"$error":"#VALUE!"},{"$error":"#VALUE!"},null,{"$error":"#VALUE!"},null,null,null,null,null,null,null,null,0,{"$error":"#VALUE!"},{"$error":"#VALUE!"},{"$error":"#VALUE!"},{"$error":"#VALUE!"},0,{"$error":"#VALUE!"},{"$error":"#VALUE!"},{"$error":"#VALUE!"},{"$error":"#VALUE!"},{"$f":"Feuil4!$J$1","v":"1 - 1"},{"$f":"Feuil4!$L$1","v":"2 - 3"},{"$error":"#VALUE!"}]
[null,null,null,null,"",null,0,{"$error":"#VALUE!"},{"$error":"#VALUE!"},{"$error":"#VALUE!"},{"$error":"#VALUE!"},null,{"$error":"#VALUE!"},null,null,null,null,null,null,null,null,0,{"$error":"#VALUE!"},{"$error":"#VALUE!"},{"$error":"#VALUE!"},{"$error":"#VALUE!"},0,{"$error":"#VALUE!"},{"$error":"#VALUE!"},{"$error":"#VALUE!"},{"$error":"#VALUE!"},{"$f":"Feuil4!$J$1","v":"1 - 1"},{"$f":"Feuil4!$L$1","v":"2 - 3"},{"$error":"#VALUE!"}]
[null,null,null,null,"",null,0,{"$error":"#VALUE!"},{"$error":"#VALUE!"},{"$error":"#VALUE!"},{"$error":"#VALUE!"},null,{"$error":"#VALUE!"},null,null,null,null,null,null,null,null,0,{"$error":"#VALUE!"},{"$error":"#VALUE!"},{"$error":"#VALUE!"},{"$error":"#VALUE!"},0,{"$error":"#VALUE!"},{"$error":"#VALUE!"},{"$error":"#VALUE!"},{"$error":"#VALUE!"},{"$f":"Feuil4!$J$1","v":"1 - 1"},{"$f":"Feuil4!$L$1","v":"2 - 3"},{"$error":"#VALUE!"}]
[null,null,null,null,"",null,0,{"$error":"#VALUE!"},{"$error":"#VALUE!"},{"$error":"#VALUE!"},{"$error":"#VALUE!"},null,{"$error":"#VALUE!"},null,null,null,null,null,null,null,null,0,{"$error":"#VALUE!"},{"$error":"#VALUE!"},{"$error":"#VALUE!"},{"$error":"#VALUE!"},0,{"$error":"#VALUE!"},{"$error":"#VALUE!"},{"$error":"#VALUE!"},{"$error":"#VALUE!"},{"$f":"Feuil4!$J$1","v":"1 - 1"},{"$f":"Feuil4!$L$1","v":"2 - 3"},{"$error":"#VALUE!"}]
[null,null,null,null,"",null,0,{"$error":"#VALUE!"},{"$error":"#VALUE!"},{"$error":"#VALUE!"},{"$error":"#VALUE!"},null,{"$error":"#VALUE!"},null,null,null,null,null,null,null,null,0,{"$error":"#VALUE!"},{"$error":"#VALUE!"},{"$error":"#VALUE!"},{"$error":"#VALUE!"},0,{"$error":"#VALUE!"},{"$error":"#VALUE!"},{"$error":"#VALUE!"},{"$error":"#VALUE!"},{"$f":"Feuil4!$J$1","v":"1 - 1"},{"$f":"Feuil4!$L$1","v":"2 - 3"},{"$error":"#VALUE!"}]
[null,null,null,null,"",null,0,{"$error":"#VALUE!"},{"$error":"#VALUE!"},{"$error":"#VALUE!"},{"$error":"#VALUE!"},null,{"$error":"#VALUE!"},null,null,null,null,null,null,null,null,0,{"$error":"#VALUE!"},{"$error":"#VALUE!"},{"$error":"#VALUE!"},{"$error":"#VALUE!"},0,{"$error":"#VALUE!"},{"$error":"#VALUE!"},{"$error":"#VALUE!"},{"$error":"#VALUE!"},{"$f":"Feuil4!$J$1","v":"1 - 1"},{"$f":"Feuil4!$L$1","v":"2 - 3"},{"$error":"#VALUE!"}]
[null,null,null,null,"",null,0,{"$error":"#VALUE!"},{"$error":"#VALUE!"},{"$error":"#VALUE!"},{"$error":"#VALUE!"},null,{"$error":"#VALUE!"},null,null,null,null,null,null,null,null,0,{"$error":"#VALUE!"},{"$error":"#VALUE!"},{"$error":"#VALUE!"},{"$error":"#VALUE!"},0,{"$error":"#VALUE!"},{"$error":"#VALUE!"},{"$error":"#VALUE!"},{"$error":"#VALUE!"},{"$f":"Feuil4!$J$1","v":"1 - 1"},{"$f":"Feuil4!$L$1","v":"2 - 3"},{"$error":"#VALUE!"}]
[null,null,null,null,"",null,0,{"$error":"#VALUE!"},{"$error":"#VALUE!"},{"$error":"#VALUE!"},{"$error":"#VALUE!"},null,{"$error":"#VALUE!"},null,null,null,null,null,null,null,null,0,{"$error":"#VALUE!"},{"$error":"#VALUE!"},{"$error":"#VALUE!"},{"$error":"#VALUE!"},0,{"$error":"#VALUE!"},{"$error":"#VALUE!"},{"$error":"#VALUE!"},{"$error":"#VALUE!"},{"$f":"Feuil4!$J$1","v":"1 - 1"},{"$f":"Feuil4!$L$1","v":"2 - 3"},{"$error":"#VALUE!"}]
[null,null,null,null,"",null,0,{"$error":"#VALUE!"},{"$error":"#VALUE!"},{"$error":"#VALUE!"},{"$error":"#VALUE!"},null,{"$error":"#VALUE!"},null,null,null,null,null,null,null,null,0,{"$error":"#VALUE!"},{"$error":"#VALUE!"},{"$error":"#VALUE!"},{"$error":"#VALUE!"},0,{"$error":"#VALUE!"},{"$error":"#VALUE!"},{"$error":"#VALUE!"},{"$error":"#VALUE!"},{"$f":"Feuil4!$J$1","v":"1 - 1"},{"$f":"Feuil4!$L$1","v":"2 - 3"},{"$error":"#VALUE!"}]
[null,null,null,null,"",null,0,{"$error":"#VALUE!"},{"$error":"#VALUE!"},{"$error":"#VALUE!"},{"$error":"#VALUE!"},null,{"$error":"#VALUE!"},null,null,null,null,null,null,null,null,0,{"$error":"#VALUE!"},{"$error":"#VALUE!"},{"$error":"#VALUE!"},{"$error":"#VALUE!"},0,{"$error":"#VALUE!"},{"$error":"#VALUE!"},{"$error":"#VALUE!"},{"$error":"#VALUE!"},{"$f":"Feuil4!$J$1","v":"1 - 1"},{"$f":"Feuil4!$L$1","v":"2 - 3"},{"$error":"#VALUE!"}]
[null,null,null,null,"",null,0,{"$error":"#VALUE!"},{"$error":"#VALUE!"},{"$error":"#VALUE!"},{"$error":"#VALUE!"},null,{"$error":"#VALUE!"},null,null,null,null,null,null,null,null,0,{"$error":"#VALUE!"},{"$error":"#VALUE!"},{"$error":"#VALUE!"},{"$error":"#VALUE!"},0,{"$error":"#VALUE!"},{"$error":"#VALUE!"},{"$error":"#VALUE!"},{"$error":"#VALUE!"},{"$f":"Feuil4!$J$1","v":"1 - 1"},{"$f":"Feuil4!$L$1","v":"2 - 3"},{"$error":"#VALUE!"}]
[null,null,null,null,"",null,0,{"$error":"#VALUE!"},{"$error":"#VALUE!"},{"$error":"#VALUE!"},{"$error":"#VALUE!"},null,{"$error":"#VALUE!"},null,null,null,null,null,null,null,null,0,{"$error":"#VALUE!"},{"$error":"#VALUE!"},{"$error":"#VALUE!"},{"$error":"#VALUE!"},0,{"$error":"#VALUE!"},{"$error":"#VALUE!"},{"$error":"#VALUE!"},{"$error":"#VALUE!"},{"$f":"Feuil4!$J$1","v":"1 - 1"},{"$f":"Feuil4!$L$1","v":"2 - 3"},{"$error":"#VALUE!"}]
[null,null,null,null,"",null,0,{"$error":"#VALUE!"},{"$error":"#VALUE!"},{"$error":"#VALUE!"},{"$error":"#VALUE!"},null,{"$error":"#VALUE!"},null,null,null,null,null,null,null,null,0,{"$error":"#VALUE!"},{"$error":"#VALUE!"},{"$error":"#VALUE!"},{"$error":"#VALUE!"},0,{"$error":"#VALUE!"},{"$error":"#VALUE!"},{"$error":"#VALUE!"},{"$error":"#VALUE!"},{"$f":"Feuil4!$J$1","v":"1 - 1"},{"$f":"Feuil4!$L$1","v":"2 - 3"},{"$error":"#VALUE!"}]
[null,null,null,null,"",null,0,{"$error":"#VALUE!"},{"$error":"#VALUE!"},{"$error":"#VALUE!"},{"$error":"#VALUE!"},null,{"$error":"#VALUE!"},null,null,null,null,null,null,null,null,0,{"$error":"#VALUE!"},{"$error":"#VALUE!"},{"$error":"#VALUE!"},{"$error":"#VALUE!"},0,{"$error":"#VALUE!"},{"$error":"#VALUE!"},{"$error":"#VALUE!"},{"$error":"#VALUE!"},{"$f":"Feuil4!$J$1","v":"1 - 1"},{"$f":"Feuil4!$L$1","v":"2 - 3"},{"$error":"#VALUE!"}]
[null,null,null,null,"",null,0,{"$error":"#VALUE!"},{"$error":"#VALUE!"},{"$error":"#VALUE!"},{"$error":"#VALUE!"},null,{"$error":"#VALUE!"},null,null,null,null,null,null,null,null,0,{"$error":"#VALUE!"},{"$error":"#VALUE!"},{"$error":"#VALUE!"},{"$error":"#VALUE!"},0,{"$error":"#VALUE!"},{"$error":"#VALUE!"},{"$error":"#VALUE!"},{"$error":"#VALUE!"},{"$f":"Feuil4!$J$1","v":"1 - 1"},{"$f":"Feuil4!$L$1","v":"2 - 3"},{"$error":"#VALUE!"}]
[null,null,null,null,"",null,0,{"$error":"#VALUE!"},{"$error":"#VALUE!"},{"$error":"#VALUE!"},{"$error":"#VALUE!"},null,{"$error":"#VALUE!"},null,null,null,null,null,null,null,null,0,{"$error":"#VALUE!"},{"$error":"#VALUE!"},{"$error":"#VALUE!"},{"$error":"#VALUE!"},0,{"$error":"#VALUE!"},{"$error":"#VALUE!"},{"$error":"#VALUE!"},{"$error":"#VALUE!"},{"$f":"Feuil4!$J$1","v":"1 - 1"},{"$f":"Feuil4!$L$1","v":"2 - 3"},{"$error":"#VALUE!"}]
[null,null,null,null,"",null,0,{"$error":"#VALUE!"},{"$error":"#VALUE!"},{"$error":"#VALUE!"},{"$error":"#VALUE!"},null,{"$error":"#VALUE!"},null,null,null,null,null,null,null,null,0,{"$error":"#VALUE!"},{"$error":"#VALUE!"},{"$error":"#VALUE!"},{"$error":"#VALUE!"},0,{"$error":"#VALUE!"},{"$error":"#VALUE!"},{"$error":"#VALUE!"},{"$error":"#VALUE!"},{"$f":"Feuil4!$J$1","v":"1 - 1"},{"$f":"Feuil4!$L$1","v":"2 - 3"},{"$error":"#VALUE!"}]
[null,null,null,null,"",null,0,{"$error":"#VALUE!"},{"$error":"#VALUE!"},{"$error":"#VALUE!"},{"$error":"#VALUE!"},null,{"$error":"#VALUE!"},null,null,null,null,null,null,null,null,0,{"$error":"#VALUE!"},{"$error":"#VALUE!"},{"$error":"#VALUE!"},{"$error":"#VALUE!"},0,{"$error":"#VALUE!"},{"$error":"#VALUE!"},{"$error":"#VALUE!"},{"$error":"#VALUE!"},{"$f":"Feuil4!$J$1","v":"1 - 1"},{"$f":"Feuil4!$L$1","v":"2 - 3"},{"$error":"#VALUE!"}]
[null,null,null,null,"",null,0,{"$error":"#VALUE!"},{"$error":"#VALUE!"},{"$error":"#VALUE!"},{"$error":"#VALUE!"},null,{"$error":"#VALUE!"},null,null,null,null,null,null,null,null,0,{"$error":"#VALUE!"},{"$error":"#VALUE!"},{"$error":"#VALUE!"},{"$error":"#VALUE!"},0,{"$error":"#VALUE!"},{"$error":"#VALUE!"},{"$error":"#VALUE!"},{"$error":"#VALUE!"},{"$f":"Feuil4!$J$1","v":"1 - 1"},{"$f":"Feuil4!$L$1","v":"2 - 3"},{"$error":"#VALUE!"}]
[null,null,null,null,"",null,0,{"$error":"#VALUE!"},{"$error":"#VALUE!"},{"$error":"#VALUE!"},{"$error":"#VALUE!"},null,{"$error":"#VALUE!"},null,null,null,null,null,null,null,null,0,{"$error":"#VALUE!"},{"$error":"#VALUE!"},{"$error":"#VALUE!"},{"$error":"#VALUE!"},0,{"$error":"#VALUE!"},{"$error":"#VALUE!"},{"$error":"#VALUE!"},{"$error":"#VALUE!"},{"$f":"Feuil4!$J$1","v":"1 - 1"},{"$f":"Feuil4!$L$1","v":"2 - 3"},{"$error":"#VALUE!"}]
[null,null,null,null,"",null,0,{"$error":"#VALUE!"},{"$error":"#VALUE!"},{"$error":"#VALUE!"},{"$error":"#VALUE!"},null,{"$error":"#VALUE!"},null,null,null,null,null,null,null,null,0,{"$error":"#VALUE!"},{"$error":"#VALUE!"},{"$error":"#VALUE!"},{"$error":"#VALUE!"},0,{"$error":"#VALUE!"},{"$error":"#VALUE!"},{"$error":"#VALUE!"},{"$error":"#VALUE!"},{"$f":"Feuil4!$J$1","v":"1 - 1"},{"$f":"Feuil4!$L$1","v":"2 - 3"},{"$error":"#VALUE!"}]
[null,null,null,null,"",null,0,{"$error":"#VALUE!"},{"$error":"#VALUE!"},{"$error":"#VALUE!"},{"$error":"#VALUE!"},null,{"$error":"#VALUE!"},null,null,null,null,null,null,null,null,0,{"$error":"#VALUE!"},{"$error":"#VALUE!"},{"$error":"#VALUE!"},{"$error":"#VALUE!"},0,{"$error":"#VALUE!"},{"$error":"#VALUE!"},{"$error":"#VALUE!"},{"$error":"#VALUE!"},{"$f":"Feuil4!$J$1","v":"1 - 1"},{"$f":"Feuil4!$L$1","v":"2 - 3"},{"$error":"#VALUE!"}]

{"sheet":"ana","index":17,"n_rows":1,"n_cols":2,"rows_kept":1,"cut":false,"hidden":true,"merged":[]}
["Référence VBA","Avancement"]