{"text_format":"1","workbook":"xlsx","n_sheets":6,"sheets":["Mon Empire","Onglet Ressources","Onglet Installations","Onglet Recherche","Onglet Défense","Onglet Flotte"],"not_rendered":{"charts":0,"images":18,"macros":0,"external_links":0,"defined_names":1,"comments":0,"pivot_tables":0},"unopened":[],"bounds":{"document_bytes":16777216,"sheet_cells":100000,"rows_first":2000,"rows_last":500,"rows_between":2000,"halvings":0,"cell_chars":16384,"cell_head_chars":4096},"cells_cut":0,"cells_raw":0,"read":"whole","date_system":"1900"}

{"sheet":"Mon Empire","index":0,"n_rows":190,"n_cols":39,"rows_kept":190,"cut":false,"hidden":false,"merged":[[183,38,183,40],[185,38,185,40],[187,38,187,40],[189,38,189,40],[171,38,171,40],[173,38,173,40],[175,38,175,40],[177,38,177,40],[179,38,179,40],[181,38,181,40],[155,38,155,40],[157,38,157,40],[163,38,163,40],[165,38,165,40],[167,38,167,40],[169,38,169,40],[143,38,143,40],[145,38,145,40],[147,38,147,40],[149,38,149,40],[151,38,151,40],[153,38,153,40],[131,38,131,40],[133,38,133,40],[135,38,135,40],[137,38,137,40],[139,38,139,40],[141,38,141,40],[115,38,115,40],[117,38,117,40],[119,38,119,40],[121,38,121,40],[127,38,127,40],[129,38,129,40],[103,38,103,40],[105,38,105,40],[107,38,107,40],[109,38,109,40],[111,38,111,40],[113,38,113,40],[87,38,87,40],[89,38,89,40],[91,38,91,40],[93,38,93,40],[95,38,95,40],[97,38,97,40],[49,38,49,40],[51,38,51,40],[53,38,53,40],[82,38,82,40],[85,38,85,40],[75,38,75,40],[77,38,77,40],[79,38,79,40],[39,38,39,40],[41,38,41,40],[43,38,43,40],[63,38,63,40],[65,38,65,40],[67,38,67,40],[69,38,69,40],[71,38,71,40],[73,38,73,40],[115,34,115,36],[117,34,117,36],[119,34,119,36],[121,34,121,36],[127,34,127,36],[129,34,129,36],[103,34,103,36],[105,34,105,36],[189,34,189,36],[177,34,177,36],[179,34,179,36],[181,34,181,36],[183,34,183,36],[185,34,185,36],[187,34,187,36],[153,34,153,36],[131,34,131,36],[133,34,133,36],[135,34,135,36],[137,34,137,36],[139,34,139,36],[141,34,141,36],[0,38,0,40],[9,38,9,40],[11,38,11,40],[13,38,13,40],[59,38,59,40],[61,38,61,40],[171,34,171,36],[173,34,173,36],[175,34,175,36],[155,34,155,36],[157,34,157,36],[163,34,163,36],[165,34,165,36],[167,34,167,36],[169,34,169,36],[143,34,143,36],[145,34,145,36],[147,34,147,36],[149,34,149,36],[151,34,151,36],[107,34,107,36],[109,34,109,36],[111,34,111,36],[113,34,113,36],[87,34,87,36],[89,34,89,36],[91,34,91,36],[93,34,93,36],[95,34,95,36],[97,34,97,36],[49,34,49,36],[51,34,51,36],[53,34,53,36],[82,34,82,36],[85,34,85,36],[75,34,75,36],[77,34,77,36],[79,34,79,36],[39,34,39,36],[41,34,41,36],[43,34,43,36],[63,34,63,36],[65,34,65,36],[67,34,67,36],[69,34,69,36],[71,34,71,36],[73,34,73,36],[115,30,115,32],[117,30,117,32],[119,30,119,32],[121,30,121,32],[127,30,127,32],[129,30,129,32],[103,30,103,32],[105,30,105,32],[189,30,189,32],[177,30,177,32],[179,30,179,32],[181,30,181,32],[183,30,183,32],[185,30,185,32],[187,30,187,32],[153,30,153,32],[131,30,131,32],[133,30,133,32],[135,30,135,32],[137,30,137,32],[139,30,139,32],[141,30,141,32],[0,34,0,36],[9,34,9,36],[11,34,11,36],[13,34,13,36],[59,34,59,36],[61,34,61,36],[171,30,171,32],[173,30,173,32],[175,30,175,32],[155,30,155,32],[157,30,157,32],[163,30,163,32],[165,30,165,32],[167,30,167,32],[169,30,169,32],[143,30,143,32],[145,30,145,32],[147,30,147,32],[149,30,149,32],[151,30,151,32],[107,30,107,32],[109,30,109,32],[111,30,111,32],[113,30,113,32],[87,30,87,32],[89,30,89,32],[91,30,91,32],[93,30,93,32],[95,30,95,32],[97,30,97,32],[49,30,49,32],[51,30,51,32],[53,30,53,32],[82,30,82,32],[85,30,85,32],[75,30,75,32],[77,30,77,32],[79,30,79,32],[39,30,39,32],[41,30,41,32],[43,30,43,32],[63,30,63,32],[65,30,65,32],[67,30,67,32],[69,30,69,32],[71,30,71,32],[73,30,73,32],[115,26,115,28],[117,26,117,28],[119,26,119,28],[121,26,121,28],[127,26,127,28],[129,26,129,28],[103,26,103,28],[105,26,105,28],[189,26,189,28],[177,26,177,28],[179,26,179,28],[181,26,181,28],[183,26,183,28],[185,26,185,28],[187,26,187,28],[153,26,153,28],[131,26,131,28],[133,26,133,28],[135,26,135,28],[137,26,137,28],[139,26,139,28],[141,26,141,28],[0,30,0,32],[9,30,9,32],[11,30,11,32],[13,30,13,32],[59,30,59,32],[61,30,61,32],[171,26,171,28],[173,26,173,28],[175,26,175,28],[155,26,155,28],[157,26,157,28],[163,26,163,28],[165,26,165,28],[167,26,167,28],[169,26,169,28],[143,26,143,28],[145,26,145,28],[147,26,147,28],[149,26,149,28],[151,26,151,28],[107,26,107,28],[109,26,109,28],[111,26,111,28],[113,26,113,28],[87,26,87,28],[89,26,89,28],[91,26,91,28],[93,26,93,28],[95,26,95,28],[97,26,97,28],[49,26,49,28],[51,26,51,28],[53,26,53,28],[82,26,82,28],[85,26,85,28],[75,26,75,28],[77,26,77,28],[79,26,79,28],[39,26,39,28],[41,26,41,28],[43,26,43,28],[63,26,63,28],[65,26,65,28],[67,26,67,28],[69,26,69,28],[71,26,71,28],[73,26,73,28],[115,22,115,24],[117,22,117,24],[119,22,119,24],[121,22,121,24],[127,22,127,24],[129,22,129,24],[103,22,103,24],[105,22,105,24],[189,22,189,24],[177,22,177,24],[179,22,179,24],[181,22,181,24],[183,22,183,24],[185,22,185,24],[187,22,187,24],[153,22,153,24],[131,22,131,24],[133,22,133,24],[135,22,135,24],[137,22,137,24],[139,22,139,24],[141,22,141,24],[0,26,0,28],[9,26,9,28],[11,26,11,28],[13,26,13,28],[59,26,59,28],[61,26,61,28],[171,22,171,24],[173,22,173,24],[175,22,175,24],[155,22,155,24],[157,22,157,24],[163,22,163,24],[165,22,165,24],[167,22,167,24],[169,22,169,24],[143,22,143,24],[145,22,145,24],[147,22,147,24],[149,22,149,24],[151,22,151,24],[107,22,107,24],[109,22,109,24],[111,22,111,24],[113,22,113,24],[95,22,95,24],[97,22,97,24],[49,22,49,24],[51,22,51,24],[53,22,53,24],[82,22,82,24],[85,22,85,24],[75,22,75,24],[77,22,77,24],[79,22,79,24],[95,18,95,20],[97,18,97,20],[189,18,189,20],[177,18,177,20],[179,18,179,20],[181,18,181,20],[183,18,183,20],[185,18,185,20],[187,18,187,20],[153,18,153,20],[131,18,131,20],[133,18,133,20],[135,18,135,20],[137,18,137,20],[139,18,139,20],[141,18,141,20],[143,18,143,20],[145,18,145,20],[147,18,147,20],[149,18,149,20],[151,18,151,20],[129,18,129,20],[103,18,103,20],[105,18,105,20],[107,18,107,20],[171,18,171,20],[173,18,173,20],[175,18,175,20],[155,18,155,20],[157,18,157,20],[163,18,163,20],[165,18,165,20],[167,18,167,20],[169,18,169,20],[109,18,109,20],[111,18,111,20],[113,18,113,20],[115,18,115,20],[117,18,117,20],[119,18,119,20],[121,18,121,20],[127,18,127,20],[89,18,89,20],[91,18,91,20],[93,18,93,20],[0,22,0,24],[9,22,9,24],[11,22,11,24],[13,22,13,24],[59,22,59,24],[61,22,61,24],[39,22,39,24],[41,22,41,24],[43,22,43,24],[63,22,63,24],[65,22,65,24],[67,22,67,24],[69,22,69,24],[71,22,71,24],[73,22,73,24],[87,22,87,24],[89,22,89,24],[91,22,91,24],[93,22,93,24],[82,18,82,20],[87,18,87,20],[85,18,85,20],[75,18,75,20],[77,18,77,20],[79,18,79,20],[0,18,0,20],[9,18,9,20],[11,18,11,20],[13,18,13,20],[59,18,59,20],[61,18,61,20],[49,18,49,20],[51,18,51,20],[53,18,53,20],[39,18,39,20],[41,18,41,20],[43,18,43,20],[63,18,63,20],[65,18,65,20],[67,18,67,20],[69,18,69,20],[71,18,71,20],[73,18,73,20],[179,14,179,16],[181,14,181,16],[183,14,183,16],[185,14,185,16],[187,14,187,16],[189,14,189,16],[163,14,163,16],[165,14,165,16],[167,14,167,16],[169,14,169,16],[171,14,171,16],[173,14,173,16],[175,14,175,16],[177,14,177,16],[183,10,183,12],[185,10,185,12],[187,10,187,12],[121,10,121,12],[82,10,82,12],[85,10,85,12],[87,10,87,12],[89,10,89,12],[91,10,91,12],[93,10,93,12],[179,10,179,12],[181,10,181,12],[157,10,157,12],[163,10,163,12],[165,10,165,12],[151,10,151,12],[153,10,153,12],[189,10,189,12],[0,14,0,16],[9,14,9,16],[11,14,11,16],[13,14,13,16],[59,14,59,16],[61,14,61,16],[167,10,167,12],[169,10,169,12],[171,10,171,12],[173,10,173,12],[175,10,175,12],[177,10,177,12],[139,10,139,12],[141,10,141,12],[143,10,143,12],[145,10,145,12],[147,10,147,12],[149,10,149,12],[111,10,111,12],[113,10,113,12],[115,10,115,12],[117,10,117,12],[119,10,119,12],[183,6,183,8],[185,6,185,8],[187,6,187,8],[189,6,189,8],[0,10,0,12],[9,10,9,12],[11,10,11,12],[13,10,13,12],[59,10,59,12],[61,10,61,12],[167,6,167,8],[169,6,169,8],[171,6,171,8],[173,6,173,8],[175,6,175,8],[177,6,177,8],[139,6,139,8],[141,6,141,8],[143,6,143,8],[145,6,145,8],[147,6,147,8],[149,6,149,8],[111,6,111,8],[113,6,113,8],[115,6,115,8],[117,6,117,8],[119,6,119,8],[121,6,121,8],[82,6,82,8],[85,6,85,8],[87,6,87,8],[89,6,89,8],[91,6,91,8],[93,6,93,8],[0,6,0,8],[9,6,9,8],[11,6,11,8],[13,6,13,8],[59,6,59,8],[61,6,61,8],[19,6,19,8],[23,6,23,8],[31,6,31,8],[41,6,41,8],[43,6,43,8],[157,14,157,16],[131,14,131,16],[133,14,133,16],[135,14,135,16],[137,14,137,16],[139,14,139,16],[141,14,141,16],[143,14,143,16],[145,14,145,16],[147,14,147,16],[149,14,149,16],[151,14,151,16],[119,14,119,16],[121,14,121,16],[95,14,95,16],[97,14,97,16],[103,14,103,16],[105,14,105,16],[107,14,107,16],[109,14,109,16],[155,10,155,12],[153,14,153,16],[155,14,155,16],[131,10,131,12],[133,10,133,12],[135,10,135,12],[137,10,137,12],[75,14,75,16],[77,14,77,16],[53,14,53,16],[82,14,82,16],[85,14,85,16],[87,14,87,16],[89,14,89,16],[79,14,79,16],[39,14,39,16],[41,14,41,16],[43,14,43,16],[49,14,49,16],[51,14,51,16],[63,14,63,16],[65,14,65,16],[67,14,67,16],[69,14,69,16],[71,14,71,16],[73,14,73,16],[127,6,127,8],[129,6,129,8],[103,6,103,8],[105,6,105,8],[107,6,107,8],[109,6,109,8],[95,6,95,8],[97,6,97,8],[91,14,91,16],[93,14,93,16],[127,10,127,12],[129,10,129,12],[127,14,127,16],[129,14,129,16],[103,10,103,12],[105,10,105,12],[107,10,107,12],[109,10,109,12],[95,10,95,12],[97,10,97,12],[111,14,111,16],[113,14,113,16],[115,14,115,16],[117,14,117,16],[179,6,179,8],[181,6,181,8],[155,6,155,8],[157,6,157,8],[163,6,163,8],[165,6,165,8],[151,6,151,8],[153,6,153,8],[131,6,131,8],[133,6,133,8],[135,6,135,8],[137,6,137,8],[71,6,71,8],[73,6,73,8],[75,6,75,8],[77,6,77,8],[79,6,79,8],[39,6,39,8],[63,10,63,12],[65,10,65,12],[67,10,67,12],[69,10,69,12],[49,10,49,12],[51,10,51,12],[53,10,53,12],[41,10,41,12],[43,10,43,12],[71,10,71,12],[73,10,73,12],[75,10,75,12],[77,10,77,12],[79,10,79,12],[39,10,39,12],[49,6,49,8],[51,6,51,8],[53,6,53,8],[63,6,63,8],[65,6,65,8],[67,6,67,8],[69,6,69,8],[187,2,187,4],[189,2,189,4],[61,2,61,4],[63,2,63,4],[65,2,65,4],[67,2,67,4],[69,2,69,4],[71,2,71,4],[73,2,73,4],[175,2,175,4],[177,2,177,4],[179,2,179,4],[181,2,181,4],[183,2,183,4],[185,2,185,4],[163,2,163,4],[165,2,165,4],[167,2,167,4],[169,2,169,4],[171,2,171,4],[173,2,173,4],[147,2,147,4],[149,2,149,4],[151,2,151,4],[153,2,153,4],[155,2,155,4],[157,2,157,4],[137,2,137,4],[139,2,139,4],[141,2,141,4],[143,2,143,4],[145,2,145,4],[127,2,127,4],[129,2,129,4],[131,2,131,4],[133,2,133,4],[135,2,135,4],[121,2,121,4],[109,2,109,4],[111,2,111,4],[113,2,113,4],[115,2,115,4],[117,2,117,4],[119,2,119,4],[93,2,93,4],[95,2,95,4],[97,2,97,4],[103,2,103,4],[105,2,105,4],[107,2,107,4],[51,2,51,4],[53,2,53,4],[85,2,85,4],[87,2,87,4],[89,2,89,4],[91,2,91,4],[82,2,82,4],[0,2,0,4],[59,2,59,4],[39,2,39,4],[75,2,75,4],[77,2,77,4],[79,2,79,4],[9,2,9,4],[11,2,11,4],[13,2,13,4],[41,2,41,4],[43,2,43,4],[49,2,49,4],[19,2,19,4],[23,2,23,4],[31,2,31,4],[19,10,19,12],[19,14,19,16],[19,18,19,20],[19,22,19,24],[19,26,19,28],[19,30,19,32],[19,34,19,36],[19,38,19,40],[21,2,21,4],[21,6,21,8],[21,10,21,12],[21,14,21,16],[21,18,21,20],[21,22,21,24],[21,26,21,28],[21,30,21,32],[21,34,21,36],[21,38,21,40],[23,10,23,12],[23,14,23,16],[23,18,23,20],[23,22,23,24],[23,26,23,28],[23,30,23,32],[23,34,23,36],[23,38,23,40],[29,2,29,4],[29,6,29,8],[29,10,29,12],[29,14,29,16],[29,18,29,20],[29,22,29,24],[29,26,29,28],[29,30,29,32],[29,34,29,36],[29,38,29,40],[31,10,31,12],[31,14,31,16],[31,18,31,20],[31,22,31,24],[31,26,31,28],[31,30,31,32],[31,34,31,36],[31,38,31,40],[33,2,33,4],[33,6,33,8],[33,10,33,12],[33,14,33,16],[33,18,33,20],[33,22,33,24],[33,26,33,28],[33,30,33,32],[33,34,33,36],[33,38,33,40]]}
[null,null,{"$f":"'Onglet Ressources'!C7","v":0},null,null,null,{"$f":"'Onglet Ressources'!C8","v":0},null,null,null,{"$f":"'Onglet Ressources'!C9","v":0},null,null,null,{"$f":"'Onglet Ressources'!C10","v":0},null,null,null,{"$f":"'Onglet Ressources'!C11","v":0},null,null,null,{"$f":"'Onglet Ressources'!C12","v":0},null,null,null,{"$f":"'Onglet Ressources'!C13","v":0},null,null,null,{"$f":"'Onglet Ressources'!C14","v":0},null,null,null,{"$f":"'Onglet Ressources'!C15","v":0},null,null,null,"Somme"]
[]
[null,null,{"$f":"'Onglet Ressources'!D7","v":"00:00:00"},{"$f":"'Onglet Ressources'!N7","v":0},{"$f":"'Onglet Ressources'!E7+('Onglet Installations'!J7*4)","v":0},null,{"$f":"'Onglet Ressources'!D8","v":"00:00:00"},{"$f":"'Onglet Ressources'!N8","v":0},{"$f":"'Onglet Ressources'!E8+('Onglet Installations'!J8*4)","v":0},null,{"$f":"'Onglet Ressources'!D9","v":"00:00:00"},{"$f":"'Onglet Ressources'!N9","v":0},{"$f":"'Onglet Ressources'!E9+('Onglet Installations'!J9*4)","v":0},null,{"$f":"'Onglet Ressources'!D10","v":"00:00:00"},{"$f":"'Onglet Ressources'!N10","v":0},{"$f":"'Onglet Ressources'!E10+('Onglet Installations'!J10*4)","v":0},null,{"$f":"'Onglet Ressources'!D11","v":"00:00:00"},{"$f":"'Onglet Ressources'!N11","v":0},{"$f":"'Onglet Ressources'!E11+('Onglet Installations'!J11*4)","v":0},null,{"$f":"'Onglet Ressources'!D12","v":"00:00:00"},{"$f":"'Onglet Ressources'!N12","v":0},{"$f":"'Onglet Ressources'!E12+('Onglet Installations'!J12*4)","v":0},null,{"$f":"'Onglet Ressources'!D13","v":"00:00:00"},{"$f":"'Onglet Ressources'!N13","v":0},{"$f":"'Onglet Ressources'!E13+('Onglet Installations'!J13*4)","v":0},null,{"$f":"'Onglet Ressources'!D14","v":"00:00:00"},{"$f":"'Onglet Ressources'!N14","v":0},{"$f":"'Onglet Ressources'!E14+('Onglet Installations'!J14*4)","v":0},null,{"$f":"'Onglet Ressources'!D15","v":"00:00:00"},{"$f":"'Onglet Ressources'!N15","v":0},{"$f":"'Onglet Ressources'!E15+('Onglet Installations'!J15*4)","v":0}]
[null,null,"Energie:",null,{"$f":"((30 * 'Onglet Ressources'!L7* (1.05 + 'Onglet Recherche'!C$8 * 0.01) ^ 'Onglet Ressources'!L7)+((('Onglet Ressources'!G7 / 4) + 20)*'Onglet Ressources'!M7)+(20 * 'Onglet Ressources'!K7 * 1.1^'Onglet Ressources'!K7))-((10 * 'Onglet Ressources'!H7 * 1.1^'Onglet Ressources'!H7)+(10 * 'Onglet Ressources'!I7 * 1.1^'Onglet Ressources'!I7)+(20 * 'Onglet Ressources'!J7 * 1.1^'Onglet Ressources'!J7))","v":0},null,"Energie:",null,{"$f":"((30 * 'Onglet Ressources'!L8* (1.05 + 'Onglet Recherche'!C$8 * 0.01) ^ 'Onglet Ressources'!L8)+((('Onglet Ressources'!G8 / 4) + 20)*'Onglet Ressources'!M8)+(20 * 'Onglet Ressources'!K8 * 1.1^'Onglet Ressources'!K8))-((10 * 'Onglet Ressources'!H8 * 1.1^'Onglet Ressources'!H8)+(10 * 'Onglet Ressources'!I8 * 1.1^'Onglet Ressources'!I8)+(20 * 'Onglet Ressources'!J8 * 1.1^'Onglet Ressources'!J8))","v":0},null,"Energie:",null,{"$f":"((30 * 'Onglet Ressources'!L9* (1.05 + 'Onglet Recherche'!C$8 * 0.01) ^ 'Onglet Ressources'!L9)+((('Onglet Ressources'!G9 / 4) + 20)*'Onglet Ressources'!M9)+(20 * 'Onglet Ressources'!K9 * 1.1^'Onglet Ressources'!K9))-((10 * 'Onglet Ressources'!H9 * 1.1^'Onglet Ressources'!H9)+(10 * 'Onglet Ressources'!I9 * 1.1^'Onglet Ressources'!I9)+(20 * 'Onglet Ressources'!J9 * 1.1^'Onglet Ressources'!J9))","v":0},null,"Energie:",null,{"$f":"((30 * 'Onglet Ressources'!L10* (1.05 + 'Onglet Recherche'!C$8 * 0.01) ^ 'Onglet Ressources'!L10)+((('Onglet Ressources'!G10 / 4) + 20)*'Onglet Ressources'!M10)+(20 * 'Onglet Ressources'!K10 * 1.1^'Onglet Ressources'!K10))-((10 * 'Onglet Ressources'!H10 * 1.1^'Onglet Ressources'!H10)+(10 * 'Onglet Ressources'!I10 * 1.1^'Onglet Ressources'!I10)+(20 * 'Onglet Ressources'!J10 * 1.1^'Onglet Ressources'!J10))","v":0},null,"Energie:",null,{"$f":"((30 * 'Onglet Ressources'!L11* (1.05 + 'Onglet Recherche'!C$8 * 0.01) ^ 'Onglet Ressources'!L11)+((('Onglet Ressources'!G11/ 4) + 20)*'Onglet Ressources'!M11)+(20 * 'Onglet Ressources'!K11 * 1.1^'Onglet Ressources'!K11))-((10 * 'Onglet Ressources'!H11 * 1.1^'Onglet Ressources'!H11)+(10 * 'Onglet Ressources'!I11 * 1.1^'Onglet Ressources'!I11)+(20 * 'Onglet Ressources'!J11 * 1.1^'Onglet Ressources'!J11))","v":0},null,"Energie:",null,{"$f":"((30 * 'Onglet Ressources'!L12* (1.05 + 'Onglet Recherche'!C$8 * 0.01) ^ 'Onglet Ressources'!L12)+((('Onglet Ressources'!G12 / 4) + 20)*'Onglet Ressources'!M12)+(20 * 'Onglet Ressources'!K12 * 1.1^'Onglet Ressources'!K12))-((10 * 'Onglet Ressources'!H12 * 1.1^'Onglet Ressources'!H12)+(10 * 'Onglet Ressources'!I12 * 1.1^'Onglet Ressources'!I12)+(20 * 'Onglet Ressources'!J12 * 1.1^'Onglet Ressources'!J12))","v":0},null,"Energie:",null,{"$f":"((30 * 'Onglet Ressources'!L13* (1.05 + 'Onglet Recherche'!C$8 * 0.01) ^ 'Onglet Ressources'!L13)+((('Onglet Ressources'!G13 / 4) + 20)*'Onglet Ressources'!M13)+(20 * 'Onglet Ressources'!K13 * 1.1^'Onglet Ressources'!K13))-((10 * 'Onglet Ressources'!H13 * 1.1^'Onglet Ressources'!H13)+(10 * 'Onglet Ressources'!I13 * 1.1^'Onglet Ressources'!I13)+(20 * 'Onglet Ressources'!J13 * 1.1^'Onglet Ressources'!J13))","v":0},{"$f":"((30 * 'Onglet Ressources'!L13* (1.05 + 'Onglet Recherche'!C$8 * 0.01) ^ 'Onglet Ressources'!L13)+((('Onglet Ressources'!G13 / 4) + 20)*'Onglet Ressources'!M13)+(20 * 'Onglet Ressources'!K13 * 1.1^'Onglet Ressources'!K13))-((10 * 'Onglet Ressources'!H13 * 1.1^'Onglet Ressources'!H13)+(10 * 'Onglet Ressources'!I13 * 1.1^'Onglet Ressources'!I13)+(20 * 'Onglet Ressources'!J13 * 1.1^'Onglet Ressources'!J13))","v":0},"Energie:",null,{"$f":"((30 * 'Onglet Ressources'!L14* (1.05 + 'Onglet Recherche'!C$8 * 0.01) ^ 'Onglet Ressources'!L14)+((('Onglet Ressources'!G14 / 4) + 20)*'Onglet Ressources'!M14)+(20 * 'Onglet Ressources'!K14 * 1.1^'Onglet Ressources'!K14))-((10 * 'Onglet Ressources'!H14 * 1.1^'Onglet Ressources'!H14)+(10 * 'Onglet Ressources'!I14 * 1.1^'Onglet Ressources'!I14)+(20 * 'Onglet Ressources'!J14 * 1.1^'Onglet Ressources'!J14))","v":0},null,"Energie:",null,{"$f":"((30 * 'Onglet Ressources'!L15* (1.05 + 'Onglet Recherche'!C$8 * 0.01) ^ 'Onglet Ressources'!L15)+((('Onglet Ressources'!G15 / 4) + 20)*'Onglet Ressources'!M15)+(20 * 'Onglet Ressources'!K15 * 1.1^'Onglet Ressources'!K15))-((10 * 'Onglet Ressources'!H15 * 1.1^'Onglet Ressources'!H15)+(10 * 'Onglet Ressources'!I15 * 1.1^'Onglet Ressources'!I15)+(20 * 'Onglet Ressources'!J15 * 1.1^'Onglet Ressources'!J15))","v":0}]
[null,null,{"$f":"'Onglet Ressources'!F7","v":0},"°C    à ",{"$f":"'Onglet Ressources'!G7","v":0},null,{"$f":"'Onglet Ressources'!F8","v":0},"°C    à ",{"$f":"'Onglet Ressources'!G8","v":0},null,{"$f":"'Onglet Ressources'!F9","v":0},"°C    à ",{"$f":"'Onglet Ressources'!G9","v":0},null,{"$f":"'Onglet Ressources'!F10","v":0},"°C    à ",{"$f":"'Onglet Ressources'!G10","v":0},null,{"$f":"'Onglet Ressources'!F11","v":0},"°C    à ",{"$f":"'Onglet Ressources'!G11","v":0},null,{"$f":"'Onglet Ressources'!F12","v":0},"°C    à ",{"$f":"'Onglet Ressources'!G12","v":0},null,{"$f":"'Onglet Ressources'!F13","v":0},"°C    à ",{"$f":"'Onglet Ressources'!G13","v":0},null,{"$f":"'Onglet Ressources'!F14","v":0},"°C    à ",{"$f":"'Onglet Ressources'!G14","v":0},null,{"$f":"'Onglet Ressources'!F15","v":0},"°C    à ",{"$f":"'Onglet Ressources'!G15","v":0}]
[]
["Production / heure"]
[]
[]
["Métal",null,{"$f":"30*'Onglet Ressources'!H7*1.1^'Onglet Ressources'!H7","v":0},null,null,null,{"$f":"30*'Onglet Ressources'!H8*1.1^'Onglet Ressources'!H8","v":0},null,null,null,{"$f":"30*'Onglet Ressources'!H9*1.1^'Onglet Ressources'!H9","v":0},null,null,null,{"$f":"30*'Onglet Ressources'!H10*1.1^'Onglet Ressources'!H10","v":0},null,null,null,{"$f":"30*'Onglet Ressources'!H11*1.1^'Onglet Ressources'!H11","v":0},null,null,null,{"$f":"30*'Onglet Ressources'!H12*1.1^'Onglet Ressources'!H12","v":0},null,null,null,{"$f":"30*'Onglet Ressources'!H13*1.1^'Onglet Ressources'!H13","v":0},null,null,null,{"$f":"30*'Onglet Ressources'!H14*1.1^'Onglet Ressources'!H14","v":0},null,null,null,{"$f":"30*'Onglet Ressources'!H15*1.1^'Onglet Ressources'!H15","v":0},null,null,null,{"$f":"SUM(C10:AK10)","v":0}]
[]
["Cristal",null,{"$f":"20*'Onglet Ressources'!I7*1.1^'Onglet Ressources'!I7","v":0},null,null,null,{"$f":"20*'Onglet Ressources'!H8*1.1^'Onglet Ressources'!H8","v":0},null,null,null,{"$f":"20*'Onglet Ressources'!H9*1.1^'Onglet Ressources'!H9","v":0},null,null,null,{"$f":"20*'Onglet Ressources'!H10*1.1^'Onglet Ressources'!H10","v":0},null,null,null,{"$f":"20*'Onglet Ressources'!H11*1.1^'Onglet Ressources'!H11","v":0},null,null,null,{"$f":"20*'Onglet Ressources'!H12*1.1^'Onglet Ressources'!H12","v":0},null,null,null,{"$f":"20*'Onglet Ressources'!H13*1.1^'Onglet Ressources'!H13","v":0},null,null,null,{"$f":"20*'Onglet Ressources'!H14*1.1^'Onglet Ressources'!H14","v":0},null,null,null,{"$f":"20*'Onglet Ressources'!H15*1.1^'Onglet Ressources'!H15","v":0},null,null,null,{"$f":"SUM(C12:AK13)","v":0}]
[]
["Deutérium",null,{"$f":"10 * 'Onglet Ressources'!J7 * 1.1^'Onglet Ressources'!J7* (-0.002 * 'Onglet Ressources'!G7 + 1.28 )-(10 *J6 * 1.1^J6 )","v":0},null,null,null,{"$f":"10 * 'Onglet Ressources'!J8 * 1.1^'Onglet Ressources'!J8* (-0.002 * 'Onglet Ressources'!G8 + 1.28 )-(10 *J6 * 1.1^J6 )","v":0},null,null,null,{"$f":"10 * 'Onglet Ressources'!J9 * 1.1^'Onglet Ressources'!J9* (-0.002 * 'Onglet Ressources'!G9 + 1.28 )-(10 *J6 * 1.1^J6 )","v":0},null,null,null,{"$f":"10 * 'Onglet Ressources'!J10 * 1.1^'Onglet Ressources'!J10* (-0.002 * 'Onglet Ressources'!G10 + 1.28 )-(10 *J6 * 1.1^J6 )","v":0},null,null,null,{"$f":"10 * 'Onglet Ressources'!J11 * 1.1^'Onglet Ressources'!J11* (-0.002 * 'Onglet Ressources'!G11 + 1.28 )-(10 *J6 * 1.1^J6 )","v":0},null,null,null,{"$f":"10 * 'Onglet Ressources'!J12 * 1.1^'Onglet Ressources'!J12* (-0.002 * 'Onglet Ressources'!G12 + 1.28 )-(10 *J6 * 1.1^J6 )","v":0},null,null,null,{"$f":"10 * 'Onglet Ressources'!J13 * 1.1^'Onglet Ressources'!J13* (-0.002 * 'Onglet Ressources'!G13 + 1.28 )-(10 *J6 * 1.1^J6 )","v":0},null,null,null,{"$f":"10 * 'Onglet Ressources'!J14 * 1.1^'Onglet Ressources'!J14* (-0.002 * 'Onglet Ressources'!G14 + 1.28 )-(10 *J6 * 1.1^J6 )","v":0},null,null,null,{"$f":"10 * 'Onglet Ressources'!J15 * 1.1^'Onglet Ressources'!J15* (-0.002 * 'Onglet Ressources'!G15 + 1.28 )-(10 *J6 * 1.1^J6 )","v":0},null,null,null,{"$f":"SUM(C14:AK14)","v":0}]
[]
[]
["Production / jour"]
[]
[]
["Métal",null,{"$f":"C10*24","v":0},null,null,null,{"$f":"G10*24","v":0},null,null,null,{"$f":"K10*24","v":0},null,null,null,{"$f":"O10*24","v":0},null,null,null,{"$f":"S10*24","v":0},null,null,null,{"$f":"W10*24","v":0},null,null,null,{"$f":"AA10*24","v":0},null,null,null,{"$f":"AE10*24","v":0},null,null,null,{"$f":"AI10*24","v":0},null,null,null,{"$f":"SUM(C20:AK20)","v":0}]
[]
["Cristal",null,{"$f":"C12*24","v":0},null,null,null,{"$f":"G12*24","v":0},null,null,null,{"$f":"K12*24","v":0},null,null,null,{"$f":"O12*24","v":0},null,null,null,{"$f":"S12*24","v":0},null,null,null,{"$f":"W12*24","v":0},null,null,null,{"$f":"AA12*24","v":0},null,null,null,{"$f":"AE12*24","v":0},null,null,null,{"$f":"AI12*24","v":0},null,null,null,{"$f":"SUM(C22:AK22)","v":0}]
[]
["Deutérium",null,{"$f":"C14*24","v":0},null,null,null,{"$f":"G14*24","v":0},null,null,null,{"$f":"K14*24","v":0},null,null,null,{"$f":"O12*24","v":0},null,null,null,{"$f":"S14*24","v":0},null,null,null,{"$f":"W14*24","v":0},null,null,null,{"$f":"AA14*24","v":0},null,null,null,{"$f":"AE14*24","v":0},null,null,null,{"$f":"AI14*24","v":0},null,null,null,{"$f":"SUM(C24:AK24)","v":0}]
[]
[]
["Production / semaine"]
[]
[]
["Métal",null,{"$f":"C20*7","v":0},null,null,null,{"$f":"G20*7","v":0},null,null,null,{"$f":"K20*7","v":0},null,null,null,{"$f":"O20*7","v":0},null,null,null,{"$f":"S20*7","v":0},null,null,null,{"$f":"W20*7","v":0},null,null,null,{"$f":"AA20*7","v":0},null,null,null,{"$f":"AE20*7","v":0},null,null,null,{"$f":"AI20*7","v":0},null,null,null,{"$f":"SUM(C30:AK30)","v":0}]
[]
["Cristal",null,{"$f":"C22*7","v":0},null,null,null,{"$f":"G22*7","v":0},null,null,null,{"$f":"K22*7","v":0},null,null,null,{"$f":"O22*7","v":0},null,null,null,{"$f":"S22*7","v":0},null,null,null,{"$f":"W22*7","v":0},null,null,null,{"$f":"AA22*7","v":0},null,null,null,{"$f":"AE22*7","v":0},null,null,null,{"$f":"AI22*7","v":0},null,null,null,{"$f":"SUM(C32:AK33)","v":0}]
[]
["Deutérium",null,{"$f":"C24*7","v":0},null,null,null,{"$f":"G24*7","v":0},null,null,null,{"$f":"K24*7","v":0},null,null,null,{"$f":"O24*7","v":0},null,null,null,{"$f":"S24*7","v":0},null,null,null,{"$f":"W24*7","v":0},null,null,null,{"$f":"AA24*7","v":0},null,null,null,{"$f":"AE24*7","v":0},null,null,null,{"$f":"AI24*7","v":0},null,null,null,{"$f":"SUM(C34:AK34)","v":0}]
[]
[]
["Entrepôt"]
[]
[]
["Hangar de métal",null,{"$f":"ROUNDDOWN((2.5*EXP(20*'Onglet Ressources'!D21/33))*5000,-4)","v":10000},null,null,null,{"$f":"ROUNDDOWN((2.5*EXP(20*'Onglet Ressources'!D22/33))*5000,-4)","v":10000},null,null,null,{"$f":"ROUNDDOWN((2.5*EXP(20*'Onglet Ressources'!D23/33))*5000,-4)","v":10000},null,null,null,{"$f":"ROUNDDOWN((2.5*EXP(20*'Onglet Ressources'!D24/33))*5000,-4)","v":10000},null,null,null,{"$f":"ROUNDDOWN((2.5*EXP(20*'Onglet Ressources'!D25/33))*5000,-4)","v":10000},null,null,null,{"$f":"ROUNDDOWN((2.5*EXP(20*'Onglet Ressources'!D26/33))*5000,-4)","v":10000},null,null,null,{"$f":"ROUNDDOWN((2.5*EXP(20*'Onglet Ressources'!D27/33))*5000,-4)","v":10000},null,null,null,{"$f":"ROUNDDOWN((2.5*EXP(20*'Onglet Ressources'!D28/33))*5000,-4)","v":10000},null,null,null,{"$f":"ROUNDDOWN((2.5*EXP(20*'Onglet Ressources'!D29/33))*5000,-4)","v":10000}]
[]
["Hangar de cristal",null,{"$f":"ROUNDDOWN((2.5*EXP(20*'Onglet Ressources'!F21/33))*5000,-4)","v":10000},null,null,null,{"$f":"ROUNDDOWN((2.5*EXP(20*'Onglet Ressources'!F22/33))*5000,-4)","v":10000},null,null,null,{"$f":"ROUNDDOWN((2.5*EXP(20*'Onglet Ressources'!F23/33))*5000,-4)","v":10000},null,null,null,{"$f":"ROUNDDOWN((2.5*EXP(20*'Onglet Ressources'!F24/33))*5000,-4)","v":10000},null,null,null,{"$f":"ROUNDDOWN((2.5*EXP(20*'Onglet Ressources'!F25/33))*5000,-4)","v":10000},null,null,null,{"$f":"ROUNDDOWN((2.5*EXP(20*'Onglet Ressources'!F26/33))*5000,-4)","v":10000},null,null,null,{"$f":"ROUNDDOWN((2.5*EXP(20*'Onglet Ressources'!F27/33))*5000,-4)","v":10000},null,null,null,{"$f":"ROUNDDOWN((2.5*EXP(20*'Onglet Ressources'!F28/33))*5000,-4)","v":10000},null,null,null,{"$f":"ROUNDDOWN((2.5*EXP(20*'Onglet Ressources'!F29/33))*5000,-4)","v":10000}]
[]
["Réservoir de deutérium",null,{"$f":"ROUNDDOWN((2.5*EXP(20*'Onglet Ressources'!H21/33))*5000,-4)","v":10000},null,null,null,{"$f":"ROUNDDOWN((2.5*EXP(20*'Onglet Ressources'!H22/33))*5000,-4)","v":10000},null,null,null,{"$f":"ROUNDDOWN((2.5*EXP(20*'Onglet Ressources'!H23/33))*5000,-4)","v":10000},null,null,null,{"$f":"ROUNDDOWN((2.5*EXP(20*'Onglet Ressources'!H24/33))*5000,-4)","v":10000},null,null,null,{"$f":"ROUNDDOWN((2.5*EXP(20*'Onglet Ressources'!H25/33))*5000,-4)","v":10000},null,null,null,{"$f":"ROUNDDOWN((2.5*EXP(20*'Onglet Ressources'!H26/33))*5000,-4)","v":10000},null,null,null,{"$f":"ROUNDDOWN((2.5*EXP(20*'Onglet Ressources'!H27/33))*5000,-4)","v":10000},null,null,null,{"$f":"ROUNDDOWN((2.5*EXP(20*'Onglet Ressources'!H28/33))*5000,-4)","v":10000},null,null,null,{"$f":"ROUNDDOWN((2.5*EXP(20*'Onglet Ressources'!H29/33))*5000,-4)","v":10000}]
[]
[]
["Cachette"]
[]
[]
["Cachette de métal",null,{"$f":"ROUNDDOWN((2089.321352*1*'Onglet Ressources'!I21^0.8),0)","v":0},null,null,null,{"$f":"ROUNDDOWN((2089.321352*1*'Onglet Ressources'!I22^0.8),0)","v":0},null,null,null,{"$f":"ROUNDDOWN((2089.321352*1*'Onglet Ressources'!I23^0.8),0)","v":0},null,null,null,{"$f":"ROUNDDOWN((2089.321352*1*'Onglet Ressources'!I24^0.8),0)","v":0},null,null,null,{"$f":"ROUNDDOWN((2089.321352*1*'Onglet Ressources'!I25^0.8),0)","v":0},null,null,null,{"$f":"ROUNDDOWN((2089.321352*1*'Onglet Ressources'!I26^0.8),0)","v":0},null,null,null,{"$f":"ROUNDDOWN((2089.321352*1*'Onglet Ressources'!I27^0.8),0)","v":0},null,null,null,{"$f":"ROUNDDOWN((2089.321352*1*'Onglet Ressources'!I28^0.8),0)","v":0},null,null,null,{"$f":"ROUNDDOWN((2089.321352*1*'Onglet Ressources'!I29^0.8),0)","v":0}]
[]
["Cachette de cristal",null,{"$f":"ROUNDDOWN((1610.6*1*'Onglet Ressources'!J21^0.8),0)","v":0},null,null,null,{"$f":"ROUNDDOWN((1610.6*1*'Onglet Ressources'!J22^0.8),0)","v":0},null,null,null,{"$f":"ROUNDDOWN((1610.6*1*'Onglet Ressources'!J23^0.8),0)","v":0},null,null,null,{"$f":"ROUNDDOWN((1610.6*1*'Onglet Ressources'!J24^0.8),0)","v":0},null,null,null,{"$f":"ROUNDDOWN((1610.6*1*'Onglet Ressources'!J25^0.8),0)","v":0},null,null,null,{"$f":"ROUNDDOWN((1610.6*1*'Onglet Ressources'!J26^0.8),0)","v":0},null,null,null,{"$f":"ROUNDDOWN((1610.6*1*'Onglet Ressources'!J27^0.8),0)","v":0},null,null,null,{"$f":"ROUNDDOWN((1610.6*1*'Onglet Ressources'!J28^0.8),0)","v":0},null,null,null,{"$f":"ROUNDDOWN((1610.6*1*'Onglet Ressources'!J29^0.8),0)","v":0}]
[]
["Cachette de deutérium",null,{"$f":"ROUNDDOWN((1392.8*1*'Onglet Ressources'!K21^0.8),0)","v":0},null,null,null,{"$f":"ROUNDDOWN((1392.8*1*'Onglet Ressources'!K22^0.8),0)","v":0},null,null,null,{"$f":"ROUNDDOWN((1392.8*1*'Onglet Ressources'!K23^0.8),0)","v":0},null,null,null,{"$f":"ROUNDDOWN((1392.8*1*'Onglet Ressources'!K24^0.8),0)","v":0},null,null,null,{"$f":"ROUNDDOWN((1392.8*1*'Onglet Ressources'!K25^0.8),0)","v":0},null,null,null,{"$f":"ROUNDDOWN((1392.8*1*'Onglet Ressources'!K26^0.8),0)","v":0},null,null,null,{"$f":"ROUNDDOWN((1392.8*1*'Onglet Ressources'!K27^0.8),0)","v":0},null,null,null,{"$f":"ROUNDDOWN((1392.8*1*'Onglet Ressources'!K28^0.8),0)","v":0},null,null,null,{"$f":"ROUNDDOWN((1392.8*1*'Onglet Ressources'!K29^0.8),0)","v":0}]
[]
[]
["Ressources"]
[]
[]
["Mine de métal",null,{"$f":"'Onglet Ressources'!H7","v":0},null,null,null,{"$f":"'Onglet Ressources'!H8","v":0},null,null,null,{"$f":"'Onglet Ressources'!H9","v":0},null,null,null,{"$f":"'Onglet Ressources'!H10","v":0},null,null,null,{"$f":"'Onglet Ressources'!H11","v":0},null,null,null,{"$f":"'Onglet Ressources'!H12","v":0},null,null,null,{"$f":"'Onglet Ressources'!H13","v":0},null,null,null,{"$f":"'Onglet Ressources'!H14","v":0},null,null,null,{"$f":"'Onglet Ressources'!H15","v":0}]
[]
["Mine de cristal",null,{"$f":"'Onglet Ressources'!I7","v":0},null,null,null,{"$f":"'Onglet Ressources'!I8","v":0},null,null,null,{"$f":"'Onglet Ressources'!I9","v":0},null,null,null,{"$f":"'Onglet Ressources'!I10","v":0},null,null,null,{"$f":"'Onglet Ressources'!I11","v":0},null,null,null,{"$f":"'Onglet Ressources'!I12","v":0},null,null,null,{"$f":"'Onglet Ressources'!I13","v":0},null,null,null,{"$f":"'Onglet Ressources'!I14","v":0},null,null,null,{"$f":"'Onglet Ressources'!I15","v":0}]
[]
["Synthétiseur de deutérium",null,{"$f":"'Onglet Ressources'!J7","v":0},null,null,null,{"$f":"'Onglet Ressources'!J8","v":0},null,null,null,{"$f":"'Onglet Ressources'!J9","v":0},null,null,null,{"$f":"'Onglet Ressources'!J10","v":0},null,null,null,{"$f":"'Onglet Ressources'!J11","v":0},null,null,null,{"$f":"'Onglet Ressources'!J12","v":0},null,null,null,{"$f":"'Onglet Ressources'!J13","v":0},null,null,null,{"$f":"'Onglet Ressources'!J14","v":0},null,null,null,{"$f":"'Onglet Ressources'!J15","v":0}]
[]
["Centrale électrique solaire",null,{"$f":"'Onglet Ressources'!K7","v":0},null,null,null,{"$f":"'Onglet Ressources'!K8","v":0},null,null,null,{"$f":"'Onglet Ressources'!K9","v":0},null,null,null,{"$f":"'Onglet Ressources'!K10","v":0},null,null,null,{"$f":"'Onglet Ressources'!K11","v":0},null,null,null,{"$f":"'Onglet Ressources'!K12","v":0},null,null,null,{"$f":"'Onglet Ressources'!K13","v":0},null,null,null,{"$f":"'Onglet Ressources'!K14","v":0},null,null,null,{"$f":"'Onglet Ressources'!K15","v":0}]
[]
["Centrale électrique de fusion",null,{"$f":"'Onglet Ressources'!L7","v":0},null,null,null,{"$f":"'Onglet Ressources'!L8","v":0},null,null,null,{"$f":"'Onglet Ressources'!L9","v":0},null,null,null,{"$f":"'Onglet Ressources'!L10","v":0},null,null,null,{"$f":"'Onglet Ressources'!L11","v":0},null,null,null,{"$f":"'Onglet Ressources'!L12","v":0},null,null,null,{"$f":"'Onglet Ressources'!L13","v":0},null,null,null,{"$f":"'Onglet Ressources'!L14","v":0},null,null,null,{"$f":"'Onglet Ressources'!L15","v":0}]
[]
["Hangar de métal",null,{"$f":"'Onglet Ressources'!D21","v":0},null,null,null,{"$f":"'Onglet Ressources'!D22","v":0},null,null,null,{"$f":"'Onglet Ressources'!D23","v":0},null,null,null,2,null,null,null,{"$f":"'Onglet Ressources'!D25","v":0},null,null,null,{"$f":"'Onglet Ressources'!D26","v":0},null,null,null,{"$f":"'Onglet Ressources'!D27","v":0},null,null,null,{"$f":"'Onglet Ressources'!D28","v":0},null,null,null,{"$f":"'Onglet Ressources'!D29","v":0}]
[]
["Hangar de cristal",null,{"$f":"'Onglet Ressources'!F21","v":0},null,null,null,{"$f":"'Onglet Ressources'!F22","v":0},null,null,null,{"$f":"'Onglet Ressources'!F23","v":0},null,null,null,1,null,null,null,{"$f":"'Onglet Ressources'!F25","v":0},null,null,null,{"$f":"'Onglet Ressources'!F26","v":0},null,null,null,{"$f":"'Onglet Ressources'!F27","v":0},null,null,null,{"$f":"'Onglet Ressources'!F28","v":0},null,null,null,{"$f":"'Onglet Ressources'!F29","v":0}]
[]
["Réservoir de deuterium",null,{"$f":"'Onglet Ressources'!H21","v":0},null,null,null,{"$f":"'Onglet Ressources'!H22","v":0},null,null,null,{"$f":"'Onglet Ressources'!H23","v":0},null,null,null,{"$f":"'Onglet Ressources'!H24","v":0},null,null,null,{"$f":"'Onglet Ressources'!H25","v":0},null,null,null,{"$f":"'Onglet Ressources'!G26","v":0},null,null,null,{"$f":"'Onglet Ressources'!AH27","v":0},null,null,null,{"$f":"'Onglet Ressources'!H28","v":0},null,null,null,{"$f":"'Onglet Ressources'!H29","v":0}]
[]
["Cachette de métale",null,{"$f":"'Onglet Ressources'!I21","v":0},null,null,null,{"$f":"'Onglet Ressources'!I22","v":0},null,null,null,{"$f":"'Onglet Ressources'!I23","v":0},null,null,null,{"$f":"'Onglet Ressources'!I24","v":0},null,null,null,{"$f":"'Onglet Ressources'!I25","v":0},null,null,null,{"$f":"'Onglet Ressources'!I26","v":0},null,null,null,{"$f":"'Onglet Ressources'!I27","v":0},null,null,null,{"$f":"'Onglet Ressources'!I28","v":0},null,null,null,{"$f":"'Onglet Ressources'!I29","v":0}]
[]
["Cachette de cristal",null,{"$f":"'Onglet Ressources'!J21","v":0},null,null,null,{"$f":"'Onglet Ressources'!J22","v":0},null,null,null,{"$f":"'Onglet Ressources'!J23","v":0},null,null,null,{"$f":"'Onglet Ressources'!J24","v":0},null,null,null,{"$f":"'Onglet Ressources'!J25","v":0},null,null,null,{"$f":"'Onglet Ressources'!J26","v":0},null,null,null,{"$f":"'Onglet Ressources'!J27","v":0},null,null,null,{"$f":"'Onglet Ressources'!J28","v":0},null,null,null,{"$f":"'Onglet Ressources'!J29","v":0}]
[]
["Cachette de deutérium",null,{"$f":"'Onglet Ressources'!K21","v":0},null,null,null,{"$f":"'Onglet Ressources'!K22","v":0},null,null,null,{"$f":"'Onglet Ressources'!K23","v":0},null,null,null,{"$f":"'Onglet Ressources'!K24","v":0},null,null,null,{"$f":"'Onglet Ressources'!K25","v":0},null,null,null,{"$f":"'Onglet Ressources'!K26","v":0},null,null,null,{"$f":"'Onglet Ressources'!K27","v":0},null,null,null,{"$f":"'Onglet Ressources'!K28","v":0},null,null,null,{"$f":"'Onglet Ressources'!K29","v":0}]
[]
[]
["Installations"]
[]
[]
["Usine de robots",null,{"$f":"'Onglet Installations'!D7","v":0},null,null,null,{"$f":"'Onglet Installations'!D8","v":0},null,null,null,{"$f":"'Onglet Installations'!D9","v":0},null,null,null,{"$f":"'Onglet Installations'!D10","v":0},null,null,null,{"$f":"'Onglet Installations'!D11","v":0},null,null,null,{"$f":"'Onglet Installations'!D12","v":0},null,null,null,{"$f":"'Onglet Installations'!D13","v":0},null,null,null,{"$f":"'Onglet Installations'!D14","v":0},null,null,null,{"$f":"'Onglet Installations'!D15","v":0}]
[]
["Usine de nanites",null,{"$f":"'Onglet Installations'!I7","v":0},null,null,null,{"$f":"'Onglet Installations'!I8","v":0},null,null,null,{"$f":"'Onglet Installations'!I9","v":0},null,null,null,{"$f":"'Onglet Installations'!I10","v":0},null,null,null,{"$f":"'Onglet Installations'!I11","v":0},null,null,null,{"$f":"'Onglet Installations'!I12","v":0},null,null,null,{"$f":"'Onglet Installations'!I13","v":0},null,null,null,{"$f":"'Onglet Installations'!I14","v":0},null,null,null,{"$f":"'Onglet Installations'!I15","v":0}]
[]
["Chantier spatial",null,{"$f":"'Onglet Installations'!E7","v":0},null,null,null,{"$f":"'Onglet Installations'!E8","v":0},null,null,null,{"$f":"'Onglet Installations'!E9","v":0},null,null,null,{"$f":"'Onglet Installations'!E10","v":0},null,null,null,{"$f":"'Onglet Installations'!E11","v":0},null,null,null,{"$f":"'Onglet Installations'!E12","v":0},null,null,null,{"$f":"'Onglet Installations'!E13","v":0},null,null,null,{"$f":"'Onglet Installations'!E14","v":0},null,null,null,{"$f":"'Onglet Installations'!E15","v":0}]
[]
["Laboratoire de recherche",null,{"$f":"'Onglet Installations'!F7","v":0},null,null,null,{"$f":"'Onglet Installations'!F8","v":0},null,null,null,{"$f":"'Onglet Installations'!F9","v":0},null,null,null,{"$f":"'Onglet Installations'!F10","v":0},null,null,null,{"$f":"'Onglet Installations'!F11","v":0},null,null,null,{"$f":"'Onglet Installations'!F12","v":0},null,null,null,{"$f":"'Onglet Installations'!F13","v":0},null,null,null,{"$f":"'Onglet Installations'!F14","v":0},null,null,null,{"$f":"'Onglet Installations'!F15","v":0}]
[]
["Terraformeur",null,{"$f":"'Onglet Installations'!J7","v":0},null,null,null,{"$f":"'Onglet Installations'!J8","v":0},null,null,null,{"$f":"'Onglet Installations'!J9","v":0},null,null,null,{"$f":"'Onglet Installations'!J10","v":0},null,null,null,{"$f":"'Onglet Installations'!J11","v":0},null,null,null,{"$f":"'Onglet Installations'!J12","v":0},null,null,null,{"$f":"'Onglet Installations'!J13","v":0},null,null,null,{"$f":"'Onglet Installations'!J14","v":0},null,null,null,{"$f":"'Onglet Installations'!J15","v":0}]
[]
["Dépôt de ravitaillement",null,{"$f":"'Onglet Installations'!G7","v":0},null,null,null,{"$f":"'Onglet Installations'!G8","v":0},null,null,null,{"$f":"'Onglet Installations'!G9","v":0},null,null,null,{"$f":"'Onglet Installations'!G10","v":0},null,null,null,{"$f":"'Onglet Installations'!G11","v":0},null,null,null,{"$f":"'Onglet Installations'!G12","v":0},null,null,null,{"$f":"'Onglet Installations'!G13","v":0},null,null,null,{"$f":"'Onglet Installations'!G14","v":0},null,null,null,{"$f":"'Onglet Installations'!G15","v":0}]
[]
["Silo de missiles",null,{"$f":"'Onglet Installations'!H7","v":0},null,null,null,{"$f":"'Onglet Installations'!H8","v":0},null,null,null,{"$f":"'Onglet Installations'!H9","v":0},null,null,null,{"$f":"'Onglet Installations'!H10","v":0},null,null,null,{"$f":"'Onglet Installations'!H11","v":0},null,null,null,{"$f":"'Onglet Installations'!H12","v":0},null,null,null,{"$f":"'Onglet Installations'!H13","v":0},null,null,null,{"$f":"'Onglet Installations'!H14","v":0},null,null,null,{"$f":"'Onglet Installations'!H15","v":0}]
[]
[]
["Défense"]
[]
[]
["Lanceur de missiles",null,{"$f":"'Onglet Défense'!D7","v":0},null,null,null,{"$f":"'Onglet Défense'!D8","v":0},null,null,null,{"$f":"'Onglet Défense'!D9","v":0},null,null,null,{"$f":"'Onglet Défense'!D10","v":0},null,null,null,{"$f":"'Onglet Défense'!D11","v":0},null,null,null,{"$f":"'Onglet Défense'!D12","v":0},null,null,null,{"$f":"'Onglet Défense'!D13","v":0},null,null,null,{"$f":"'Onglet Défense'!D14","v":0},null,null,null,{"$f":"'Onglet Défense'!D15","v":0}]
[]
["Artillerie laser leger",null,{"$f":"'Onglet Défense'!E7","v":0},null,null,null,{"$f":"'Onglet Défense'!E8","v":0},null,null,null,{"$f":"'Onglet Défense'!E9","v":0},null,null,null,{"$f":"'Onglet Défense'!E10","v":0},null,null,null,{"$f":"'Onglet Défense'!E11","v":0},null,null,null,{"$f":"'Onglet Défense'!E12","v":0},null,null,null,{"$f":"'Onglet Défense'!E13","v":0},null,null,null,{"$f":"'Onglet Défense'!E14","v":0},null,null,null,{"$f":"'Onglet Défense'!E15","v":0}]
[]
["Artillerie laser lourd",null,{"$f":"'Onglet Défense'!F7","v":0},null,null,null,{"$f":"'Onglet Défense'!F8","v":0},null,null,null,{"$f":"'Onglet Défense'!F9","v":0},null,null,null,{"$f":"'Onglet Défense'!F10","v":0},null,null,null,{"$f":"'Onglet Défense'!F11","v":0},null,null,null,{"$f":"'Onglet Défense'!F12","v":0},null,null,null,{"$f":"'Onglet Défense'!F13","v":0},null,null,null,{"$f":"'Onglet Défense'!F14","v":0},null,null,null,{"$f":"'Onglet Défense'!F15","v":0}]
[]
["Canon de Gauss",null,{"$f":"'Onglet Défense'!G7","v":0},null,null,null,{"$f":"'Onglet Défense'!G8","v":0},null,null,null,{"$f":"'Onglet Défense'!G9","v":0},null,null,null,{"$f":"'Onglet Défense'!G10","v":0},null,null,null,{"$f":"'Onglet Défense'!G11","v":0},null,null,null,{"$f":"'Onglet Défense'!G12","v":0},null,null,null,{"$f":"'Onglet Défense'!G13","v":0},null,null,null,{"$f":"'Onglet Défense'!G14","v":0},null,null,null,{"$f":"'Onglet Défense'!G15","v":0}]
[]
["Artillerie à ions",null,{"$f":"'Onglet Défense'!H7","v":0},null,null,null,{"$f":"'Onglet Défense'!H8","v":0},null,null,null,{"$f":"'Onglet Défense'!H9","v":0},null,null,null,{"$f":"'Onglet Défense'!H10","v":0},null,null,null,{"$f":"'Onglet Défense'!H11","v":0},null,null,null,{"$f":"'Onglet Défense'!H12","v":0},null,null,null,{"$f":"'Onglet Défense'!H13","v":0},null,null,null,{"$f":"'Onglet Défense'!H14","v":0},null,null,{"$f":"'Onglet Défense'!H15","v":0},{"$f":"'Onglet Défense'!H15","v":0}]
[]
["Lanceur de plasma",null,{"$f":"'Onglet Défense'!I7","v":0},null,null,null,{"$f":"'Onglet Défense'!I8","v":0},null,null,null,{"$f":"'Onglet Défense'!I9","v":0},null,null,null,{"$f":"'Onglet Défense'!I10","v":0},null,null,null,{"$f":"'Onglet Défense'!I11","v":0},null,null,null,{"$f":"'Onglet Défense'!I12","v":0},null,null,{"$f":"'Onglet Défense'!I13","v":0},{"$f":"'Onglet Défense'!I13","v":0},null,null,null,{"$f":"'Onglet Défense'!I14","v":0},null,null,null,{"$f":"'Onglet Défense'!I15","v":0}]
[]
["Petit bouclier",null,{"$f":"'Onglet Défense'!J7","v":0},null,null,null,{"$f":"'Onglet Défense'!J8","v":0},null,null,null,{"$f":"'Onglet Défense'!J9","v":0},null,null,null,{"$f":"'Onglet Défense'!J10","v":0},null,null,null,{"$f":"'Onglet Défense'!J11","v":0},null,null,null,{"$f":"'Onglet Défense'!J12","v":0},null,null,null,{"$f":"'Onglet Défense'!J13","v":0},null,null,null,{"$f":"'Onglet Défense'!J14","v":0},null,null,null,{"$f":"'Onglet Défense'!J15","v":0}]
[]
["Grand bouclier",null,{"$f":"'Onglet Défense'!K7","v":0},null,null,null,{"$f":"'Onglet Défense'!K8","v":0},null,null,null,{"$f":"'Onglet Défense'!K9","v":0},null,null,null,{"$f":"'Onglet Défense'!K10","v":0},null,null,null,{"$f":"'Onglet Défense'!K11","v":0},null,null,null,{"$f":"'Onglet Défense'!K12","v":0},null,null,null,{"$f":"'Onglet Défense'!K13","v":0},null,null,null,{"$f":"'Onglet Défense'!K14","v":0},null,null,null,{"$f":"'Onglet Défense'!K15","v":0}]
[]
["Missile d`interception",null,{"$f":"'Onglet Défense'!L7","v":0},null,null,null,{"$f":"'Onglet Défense'!L8","v":0},null,null,null,{"$f":"'Onglet Défense'!L9","v":0},null,null,null,{"$f":"'Onglet Défense'!L10","v":0},null,null,null,{"$f":"'Onglet Défense'!L11","v":0},null,null,null,{"$f":"'Onglet Défense'!L12","v":0},null,null,null,{"$f":"'Onglet Défense'!L13","v":0},null,null,null,{"$f":"'Onglet Défense'!L14","v":0},null,null,null,{"$f":"'Onglet Défense'!L15","v":0}]
[]
["Missile interplanétaire",null,{"$f":"'Onglet Défense'!M7","v":0},null,null,null,{"$f":"'Onglet Défense'!M8","v":0},null,null,null,{"$f":"'Onglet Défense'!M9","v":0},null,null,null,{"$f":"'Onglet Défense'!M10","v":0},null,null,null,{"$f":"'Onglet Défense'!M11","v":0},null,null,null,{"$f":"'Onglet Défense'!M12","v":0},null,null,null,{"$f":"'Onglet Défense'!M13","v":0},null,null,null,{"$f":"'Onglet Défense'!M14","v":0},null,null,null,{"$f":"'Onglet Défense'!M15","v":0}]
[]
[]
["Recherche"]
[]
[]
["Technologie Espionnage",null,{"$f":"'Onglet Recherche'!C13","v":0}]
[]
["Technologie Ordinateur",null,{"$f":"'Onglet Recherche'!D13","v":0}]
[]
["Technologie Armes",null,{"$f":"'Onglet Recherche'!I13","v":0}]
[]
["Technologie Bouclier",null,{"$f":"'Onglet Recherche'!J13","v":0}]
[]
["Technologie Protection des vaisseaux",null,{"$f":"'Onglet Recherche'!K13","v":0}]
[]
["Technologie énergie",null,{"$f":"'Onglet Recherche'!C8","v":0}]
[]
["Technologie hyperespace",null,{"$f":"'Onglet Recherche'!K8","v":0}]
[]
["Réacteur à combustion",null,{"$f":"'Onglet Recherche'!I8","v":0}]
[]
["Réacteur à impulsion",null,{"$f":"'Onglet Recherche'!J8","v":0}]
[]
["Propulsion hyperespace",null,{"$f":"'Onglet Recherche'!K8","v":0}]
[]
["Technologie Laser",null,{"$f":"'Onglet Recherche'!D8","v":0}]
[]
["Technologie Ions",null,{"$f":"'Onglet Recherche'!E8","v":0}]
[]
["Technologie Plasma",null,{"$f":"'Onglet Recherche'!G8","v":0}]
[]
["Réseau de recherche",null,{"$f":"'Onglet Recherche'!F13","v":0}]
[]
["Astrophysique",null,{"$f":"'Onglet Recherche'!E13","v":0}]
[]
["Technologie Graviton",null,{"$f":"'Onglet Recherche'!G13","v":0}]
[]
[]
["Flotte"]
[]
[]
["Petit transporteur",null,{"$f":"'Onglet Flotte'!E20","v":0},null,null,null,{"$f":"'Onglet Flotte'!E21","v":0},null,null,null,{"$f":"'Onglet Flotte'!E22","v":0},null,null,null,{"$f":"'Onglet Flotte'!E23","v":0},null,null,null,{"$f":"'Onglet Flotte'!E24","v":0},null,null,null,{"$f":"'Onglet Flotte'!E25","v":0},null,null,null,{"$f":"'Onglet Flotte'!E26","v":0},null,null,null,{"$f":"'Onglet Flotte'!E27","v":0},null,null,null,{"$f":"'Onglet Flotte'!E28","v":0},null,null,null,{"$f":"+SUM(C164:AK164)","v":0}]
[]
["Grand transporteur",null,{"$f":"'Onglet Flotte'!F20","v":0},null,null,null,{"$f":"'Onglet Flotte'!F21","v":0},null,null,null,{"$f":"'Onglet Flotte'!F22","v":0},null,null,null,{"$f":"'Onglet Flotte'!F23","v":0},null,null,null,{"$f":"'Onglet Flotte'!F24","v":0},null,null,null,{"$f":"'Onglet Flotte'!F25","v":0},null,null,null,{"$f":"'Onglet Flotte'!F26","v":0},null,null,null,{"$f":"'Onglet Flotte'!F27","v":0},null,null,null,{"$f":"'Onglet Flotte'!F28","v":0},null,null,null,{"$f":"+SUM(C166:AK166)","v":0}]
[]
["Chasseur léger",null,{"$f":"'Onglet Flotte'!D7","v":0},null,null,null,{"$f":"'Onglet Flotte'!D8","v":0},null,null,null,{"$f":"'Onglet Flotte'!D9","v":0},null,null,null,{"$f":"'Onglet Flotte'!D10","v":0},null,null,null,{"$f":"'Onglet Flotte'!D11","v":0},null,null,null,{"$f":"'Onglet Flotte'!D12","v":0},null,null,null,{"$f":"'Onglet Flotte'!D13","v":0},null,null,null,{"$f":"'Onglet Flotte'!D14","v":0},null,null,null,{"$f":"'Onglet Flotte'!D15","v":0},null,null,null,{"$f":"+SUM(C168:AK168)","v":0}]
[]
["Chasseur lourd",null,{"$f":"'Onglet Flotte'!E7","v":0},null,null,null,{"$f":"'Onglet Flotte'!E8","v":0},null,null,null,{"$f":"'Onglet Flotte'!E9","v":0},null,null,null,{"$f":"'Onglet Flotte'!E10","v":0},null,null,null,{"$f":"'Onglet Flotte'!E11","v":0},null,null,null,{"$f":"'Onglet Flotte'!E12","v":0},null,null,null,{"$f":"'Onglet Flotte'!E13","v":0},null,null,null,{"$f":"'Onglet Flotte'!E14","v":0},null,null,null,{"$f":"'Onglet Flotte'!E15","v":0},null,null,null,{"$f":"+SUM(C170:AK170)","v":0}]
[]
["Croiseur",null,{"$f":"'Onglet Flotte'!F7","v":0},null,null,null,{"$f":"'Onglet Flotte'!F8","v":0},null,null,null,{"$f":"'Onglet Flotte'!F9","v":0},null,null,null,{"$f":"'Onglet Flotte'!F10","v":0},null,null,null,{"$f":"'Onglet Flotte'!F11","v":0},null,null,null,{"$f":"'Onglet Flotte'!F12","v":0},null,null,null,{"$f":"'Onglet Flotte'!F13","v":0},null,null,null,{"$f":"'Onglet Flotte'!F14","v":0},null,null,null,{"$f":"'Onglet Flotte'!F15","v":0},null,null,null,{"$f":"SUM(C172:AK172)","v":0}]
[]
["Vaisseau de bataille",null,{"$f":"'Onglet Flotte'!G7","v":0},null,null,null,{"$f":"'Onglet Flotte'!G8","v":0},null,null,null,{"$f":"'Onglet Flotte'!G9","v":0},null,null,null,{"$f":"'Onglet Flotte'!G10","v":0},null,null,null,{"$f":"'Onglet Flotte'!G11","v":0},null,null,null,{"$f":"'Onglet Flotte'!G12","v":0},null,null,null,{"$f":"'Onglet Flotte'!G13","v":0},null,null,null,{"$f":"'Onglet Flotte'!G14","v":0},null,null,null,{"$f":"'Onglet Flotte'!G15","v":0},null,null,null,{"$f":"SUM(C174:AK174)","v":0}]
[]
["Vaisseau de colonnisation",null,{"$f":"'Onglet Flotte'!G20","v":0},null,null,null,{"$f":"'Onglet Flotte'!G21","v":0},null,null,null,{"$f":"'Onglet Flotte'!G22","v":0},null,null,null,{"$f":"'Onglet Flotte'!G23","v":0},null,null,null,{"$f":"'Onglet Flotte'!WG24","v":0},null,null,null,{"$f":"'Onglet Flotte'!G25","v":0},null,null,null,{"$f":"'Onglet Flotte'!G26","v":0},null,null,null,{"$f":"'Onglet Flotte'!G27","v":0},null,null,null,{"$f":"'Onglet Flotte'!G28","v":0},null,null,null,{"$f":"SUM(C176:AK176)","v":0}]
[]
["Recycleur",null,{"$f":"'Onglet Flotte'!H20","v":0},null,null,null,{"$f":"'Onglet Flotte'!H21","v":0},null,null,null,{"$f":"'Onglet Flotte'!H22","v":0},null,null,null,{"$f":"'Onglet Flotte'!H23","v":0},null,null,null,{"$f":"'Onglet Flotte'!H24","v":0},null,null,null,{"$f":"'Onglet Flotte'!H25","v":0},null,null,null,{"$f":"'Onglet Flotte'!H26","v":0},null,null,null,{"$f":"'Onglet Flotte'!H27","v":0},null,null,null,{"$f":"'Onglet Flotte'!H28","v":0},null,null,null,{"$f":"SUM(C178:AK178)","v":0}]
[]
["Sonde d`espionnage",null,{"$f":"'Onglet Flotte'!I20","v":0},null,null,null,{"$f":"'Onglet Flotte'!I21","v":0},null,null,null,{"$f":"'Onglet Flotte'!I22","v":0},null,null,null,{"$f":"'Onglet Flotte'!I23","v":0},null,null,null,{"$f":"'Onglet Flotte'!I24","v":0},null,null,null,{"$f":"'Onglet Flotte'!I25","v":0},null,null,null,{"$f":"'Onglet Flotte'!I26","v":0},null,null,null,{"$f":"'Onglet Flotte'!I27","v":0},null,null,null,{"$f":"'Onglet Flotte'!I28","v":0},null,null,null,{"$f":"SUM(C180:AK180)","v":0}]
[]
["Bombardier",null,{"$f":"'Onglet Flotte'!I7","v":0},null,null,null,{"$f":"'Onglet Flotte'!I8","v":0},null,null,null,{"$f":"'Onglet Flotte'!I9","v":0},null,null,null,{"$f":"'Onglet Flotte'!I10","v":0},null,null,null,{"$f":"'Onglet Flotte'!I11","v":0},null,null,null,{"$f":"'Onglet Flotte'!I12","v":0},null,null,null,{"$f":"'Onglet Flotte'!I13","v":0},null,null,null,{"$f":"'Onglet Flotte'!I14","v":0},null,null,null,{"$f":"'Onglet Flotte'!I15","v":0},null,null,null,{"$f":"SUM(C182:AK182)","v":0}]
[]
["Satellite solaire",null,{"$f":"'Onglet Flotte'!J20","v":0},null,null,null,{"$f":"'Onglet Flotte'!J21","v":0},null,null,null,{"$f":"'Onglet Flotte'!J22","v":0},null,null,null,{"$f":"'Onglet Flotte'!J23","v":0},null,null,null,{"$f":"'Onglet Flotte'!J24","v":0},null,null,null,{"$f":"'Onglet Flotte'!J25","v":0},null,null,null,{"$f":"'Onglet Flotte'!J26","v":0},null,null,null,{"$f":"'Onglet Flotte'!J27","v":0},null,null,null,{"$f":"'Onglet Flotte'!J28","v":0},null,null,null,{"$f":"SUM(C184:AK184)","v":0}]
[]
["Destructeur",null,{"$f":"'Onglet Flotte'!J7","v":0},null,null,null,{"$f":"'Onglet Flotte'!J8","v":0},null,null,null,{"$f":"'Onglet Flotte'!J9","v":0},null,null,null,{"$f":"'Onglet Flotte'!J10","v":0},null,null,null,{"$f":"'Onglet Flotte'!J11","v":0},null,null,null,{"$f":"'Onglet Flotte'!J12","v":0},null,null,null,{"$f":"'Onglet Flotte'!J13","v":0},null,null,null,{"$f":"'Onglet Flotte'!J14","v":0},null,null,null,{"$f":"'Onglet Flotte'!J15","v":0},null,null,null,{"$f":"SUM(C186:AK186)","v":0}]
[]
["Étoile de la mort",null,{"$f":"'Onglet Flotte'!D20","v":0},null,null,null,{"$f":"'Onglet Flotte'!D21","v":0},null,null,null,{"$f":"'Onglet Flotte'!D22","v":0},null,null,null,{"$f":"'Onglet Flotte'!D23","v":0},null,null,null,{"$f":"'Onglet Flotte'!D24","v":0},null,null,null,{"$f":"'Onglet Flotte'!D25","v":0},null,null,null,{"$f":"'Onglet Flotte'!D26","v":0},null,null,null,{"$f":"'Onglet Flotte'!D27","v":0},null,null,null,{"$f":"'Onglet Flotte'!D28","v":0},null,null,null,{"$f":"SUM(C188:AK188)","v":0}]
[]
["Traqueur",null,{"$f":"'Onglet Flotte'!H7","v":0},null,null,null,{"$f":"'Onglet Flotte'!H8","v":0},null,null,null,{"$f":"'Onglet Flotte'!H9","v":0},null,null,null,{"$f":"'Onglet Flotte'!H10","v":0},null,null,null,{"$f":"'Onglet Flotte'!H11","v":0},null,null,null,{"$f":"'Onglet Flotte'!H12","v":0},null,null,null,{"$f":"'Onglet Flotte'!H13","v":0},null,null,null,{"$f":"'Onglet Flotte'!H14","v":0},null,null,null,{"$f":"'Onglet Flotte'!H15","v":0},null,null,null,{"$f":"SUM(C190:AK190)","v":0}]

{"sheet":"Onglet Ressources","index":1,"n_rows":29,"n_cols":14,"rows_kept":29,"cut":false,"hidden":false,"merged":[[27,5,27,6],[28,5,28,6],[18,3,18,4],[19,3,19,4],[20,3,20,4],[21,3,21,4],[22,3,22,4],[23,3,23,4],[24,3,24,4],[25,3,25,4],[26,3,26,4],[27,3,27,4],[28,3,28,4],[22,5,22,6],[23,5,23,6],[24,5,24,6],[25,5,25,6],[26,5,26,6],[1,1,1,14],[18,5,18,6],[19,5,19,6],[20,5,20,6],[21,5,21,6]]}
[]
[null,"Onglet Ressources"]
[]
[]
[]
[null,null,"Planètes","Position","Nb de cases","Temp mini","Temp max","mine de métal","mine de cristal","synthétiseur de deutérium","centrale solaire","centrale de fusion","satellites solaires","Nb de cases U"]
[]
[]
[]
[]
[]
[]
[null,null,null,null,null,null,null,null,null,null,null,null,null,{"$f":"H13+I13+J13+K13+L13+D27+F27+H27+I27+J27+K27+'Onglet Installations'!D13+'Onglet Installations'!E13+'Onglet Installations'!F13+'Onglet Installations'!G13+'Onglet Installations'!H13+'Onglet Installations'!I13+'Onglet Installations'!J13","v":0}]
[null,null,null,null,null,null,null,null,null,null,null,null,null,{"$f":"H14+I14+J14+K14+L14+D28+F28+H28+I28+J28+K28+'Onglet Installations'!D14+'Onglet Installations'!E14+'Onglet Installations'!F14+'Onglet Installations'!G14+'Onglet Installations'!H14+'Onglet Installations'!I14+'Onglet Installations'!J14","v":0}]
[null,null,null,null,null,null,null,null,null,null,null,null,null,{"$f":"H15+I15+J15+K15+L15+D29+F29+H29+I29+J29+K29+'Onglet Installations'!D15+'Onglet Installations'!E15+'Onglet Installations'!F15+'Onglet Installations'!G15+'Onglet Installations'!H15+'Onglet Installations'!I15+'Onglet Installations'!J15","v":0}]
[]
[]
[]
[]
[null,null,"Planètes","Hangar de métal",null,"Hangar de cristal",null,"Hangar de deutérium","Cachette de métal","Cachette de cristal","Cachette de deutérium"]
[null,null,{"$f":"C7","v":0}]
[null,null,{"$f":"C8","v":0}]
[null,null,0]
[null,null,0]
[null,null,0]
[null,null,0]
[null,null,0]
[null,null,0]
[null,null,0]

{"sheet":"Onglet Installations","index":2,"n_rows":15,"n_cols":10,"rows_kept":15,"cut":false,"hidden":false,"merged":[[1,1,1,10]]}
[]
[null,"Onglet Installations"]
[]
[]
[]
[null,null,"planètes","Usine de robots","Chantier spatial","Laboratoire de recherche","Dépôt de ravitaillement","Silo de missiles","Usine de nanites","Terraformeur"]
[null,null,{"$f":"'Onglet Ressources'!C7","v":0}]
[null,null,{"$f":"'Onglet Ressources'!C8","v":0},null,null,null,null,null,null,0]
[null,null,{"$f":"'Onglet Ressources'!C9","v":0},null,null,null,null,null,null,0]
[null,null,{"$f":"'Onglet Ressources'!C10","v":0},null,null,null,null,null,null,0]
[null,null,{"$f":"'Onglet Ressources'!C11","v":0},null,null,null,null,null,null,0]
[null,null,{"$f":"'Onglet Ressources'!C12","v":0},null,null,null,null,null,null,0]
[null,null,{"$f":"'Onglet Ressources'!C13","v":0},null,null,null,null,null,null,0]
[null,null,{"$f":"'Onglet Ressources'!C14","v":0},0,0,0,0,0,0,0]
[null,null,{"$f":"'Onglet Ressources'!C15","v":0},0,0,0,0,0,0,0]

{"sheet":"Onglet Recherche","index":3,"n_rows":13,"n_cols":11,"rows_kept":13,"cut":false,"hidden":false,"merged":[[1,1,1,11],[4,2,4,6],[9,2,9,6],[9,8,9,10],[4,8,4,10],[4,7,12,7],[8,2,8,6],[8,8,8,10]]}
[]
[null,"Onglet Recherche"]
[]
[]
[null,null,"Recherche fondamentale",null,null,null,null,null,"Recherche en propulsion"]
[]
[null,null,"Technologie énergie","Technologie Laser","Technologie Ions","Technologie Hyperespace","Technologie Plasma",null,"Réacteur à Combustion","Réacteur à Implusion","Propulsion Hyperespace"]
[null,null,null,null,null,null,null,null,null,null,0]
[]
[null,null,"Recherche avancée",null,null,null,null,null,"Recherche de combat"]
[]
[null,null,"Technologie Espionnage","Technologie Ordinateur","Astrophysique","Réseau de recherche intergalactique","Technologie Graviton",null,"Technologie Armes","Technologie Bouclier","Technologie protection des vaisseaux"]
[null,null,null,null,null,null,0]

{"sheet":"Onglet Défense","index":4,"n_rows":16,"n_cols":13,"rows_kept":16,"cut":false,"hidden":false,"merged":[[1,1,1,13]]}
[]
[null,"Onglet Défense"]
[]
[]
[]
[null,null,"Planètes","Lanceur de missiles","Artillerie laser légère","Artillerie laser lourde","Canon de Gauss","Artillerie à ions","Lanceur de plasma","Petit bouclier","Grand bouclier","Missile d`interception","Missile interplanétaire"]
[null,null,{"$f":"'Onglet Ressources'!$C$7","v":0}]
[null,null,{"$f":"'Onglet Ressources'!C8","v":0}]
[null,null,{"$f":"'Onglet Ressources'!C9","v":0}]
[null,null,{"$f":"'Onglet Ressources'!C10","v":0}]
[null,null,{"$f":"'Onglet Ressources'!C11","v":0}]
[null,null,{"$f":"'Onglet Ressources'!C12","v":0}]
[null,null,{"$f":"'Onglet Ressources'!C13","v":0}]
[null,null,{"$f":"'Onglet Ressources'!C14","v":0}]
[null,null,{"$f":"'Onglet Ressources'!C15","v":0}]
[null,null,{"$f":"'Onglet Ressources'!C16","v":0}]

{"sheet":"Onglet Flotte","index":5,"n_rows":29,"n_cols":10,"rows_kept":29,"cut":false,"hidden":false,"merged":[[1,1,1,10]]}
[]
[null,"Onglet Flotte"]
[]
[]
[]
[null,null,"Planètes","Chasseur léger","Chasseur lourd","Croiseur","Vaisseau de bataille","Traqueur","Bombardier","Destructeur"]
[null,null,{"$f":"'Onglet Ressources'!$C$7","v":0}]
[null,null,{"$f":"'Onglet Ressources'!C8","v":0}]
[null,null,{"$f":"'Onglet Ressources'!C9","v":0}]
[null,null,{"$f":"'Onglet Ressources'!C10","v":0}]
[null,null,{"$f":"'Onglet Ressources'!C11","v":0}]
[null,null,{"$f":"'Onglet Ressources'!C12","v":0}]
[null,null,{"$f":"'Onglet Ressources'!C13","v":0}]
[null,null,{"$f":"'Onglet Ressources'!C14","v":0}]
[null,null,{"$f":"'Onglet Ressources'!C15","v":0}]
[null,null,{"$f":"'Onglet Ressources'!C16","v":0}]
[]
[]
[null,null,"Planètes","Étoile de la mort","Petit transporteur","Grand transporteur","Vaisseau de colonisation","Recycleur","Sonde d`espionnage","Satellite solaire"]
[null,null,{"$f":"'Onglet Ressources'!$C$7","v":0}]
[null,null,{"$f":"'Onglet Ressources'!C22","v":0}]
[null,null,{"$f":"'Onglet Ressources'!C23","v":0}]
[null,null,{"$f":"'Onglet Ressources'!C24","v":0}]
[null,null,{"$f":"'Onglet Ressources'!C25","v":0}]
[null,null,{"$f":"'Onglet Ressources'!C26","v":0}]
[null,null,{"$f":"'Onglet Ressources'!C27","v":0}]
[null,null,{"$f":"'Onglet Ressources'!C28","v":0}]
[null,null,{"$f":"'Onglet Ressources'!C29","v":0}]
[null,null,{"$f":"'Onglet Ressources'!C30","v":0}]