{"text_format":"1","workbook":"xlsx","n_sheets":8,"sheets":["Feuil1","import advers","Feuil6","Feuil8","Team","Feuil2","Feuil3","Feuil4"],"not_rendered":{"charts":0,"images":1,"macros":1,"external_links":2,"defined_names":119,"comments":0,"pivot_tables":0},"unopened":[],"bounds":{"document_bytes":16777216,"sheet_cells":100000,"rows_first":2000,"rows_last":500,"rows_between":2000,"halvings":0,"cell_chars":16384,"cell_head_chars":4096},"cells_cut":0,"cells_raw":0,"read":"row_number_cap","date_system":"1900"}

{"sheet":"Feuil1","index":0,"n_rows":231,"n_cols":145,"rows_kept":231,"cut":false,"hidden":false,"merged":[[24,84,24,85],[24,86,24,87],[25,84,25,85],[25,86,25,87],[11,85,11,87],[12,85,12,87],[13,85,13,87],[14,85,14,87],[12,69,12,71],[12,80,12,81],[14,69,14,71],[11,80,11,81],[23,84,23,85],[23,86,23,87],[12,76,12,78],[15,72,15,73],[16,72,16,73],[17,72,17,73],[18,72,18,73],[23,72,23,73],[23,74,23,75],[23,76,23,77],[24,72,24,73],[24,74,24,75],[34,72,34,73],[34,74,34,75],[32,74,32,75],[32,76,32,77],[20,69,20,70],[25,74,25,75],[25,76,25,77],[26,72,26,73],[26,74,26,75],[26,76,26,77],[27,72,27,73],[27,74,27,75],[27,76,27,77],[28,72,28,73],[28,74,28,75],[28,76,28,77],[24,69,35,69],[24,70,26,70],[27,70,29,70],[30,70,32,70],[30,78,30,79],[30,80,30,81],[30,82,30,83],[31,78,31,79],[31,80,31,81],[31,82,31,83],[32,78,32,79],[29,72,29,73],[33,72,33,73],[33,74,33,75],[33,76,33,77],[26,82,26,83],[27,78,27,79],[27,80,27,81],[27,82,27,83],[28,78,28,79],[28,80,28,81],[28,82,28,83],[29,78,29,79],[29,80,29,81],[29,82,29,83],[33,84,33,85],[33,86,33,87],[33,88,33,89],[34,84,34,85],[34,86,34,87],[34,88,34,89],[35,84,35,85],[35,86,35,87],[35,88,35,89],[29,86,29,87],[29,88,29,89],[30,84,30,85],[30,86,30,87],[30,88,30,89],[31,84,31,85],[31,86,31,87],[31,88,31,89],[32,84,32,85],[32,86,32,87],[32,88,32,89],[25,88,25,89],[26,84,26,85],[26,86,26,87],[26,88,26,89],[27,84,27,85],[27,86,27,87],[27,88,27,89],[28,84,28,85],[28,86,28,87],[28,88,28,89],[1,85,1,93],[7,69,7,77],[9,69,9,71],[9,72,9,73],[10,72,10,73],[9,74,9,75],[9,76,9,77],[10,74,10,75],[10,76,10,77],[2,70,3,76],[5,70,5,76],[3,85,3,87],[4,85,4,87],[5,85,5,87],[6,85,6,87],[7,85,7,87],[8,85,8,87],[9,85,9,87],[10,85,10,87],[94,108,94,110],[94,111,94,113],[90,83,90,84],[76,85,76,93],[77,85,77,87],[77,88,77,90],[77,91,77,93],[77,94,77,96],[76,103,76,111],[76,94,76,102],[81,83,81,84],[82,83,82,84],[83,83,83,84],[84,83,84,84],[85,83,85,84],[93,96,93,104],[94,96,94,98],[94,99,94,101],[94,102,94,104],[86,83,86,84],[87,83,87,84],[88,83,88,84],[30,94,30,95],[31,94,31,95],[32,94,32,95],[97,84,108,84],[95,84,95,86],[96,84,96,86],[93,84,94,86],[93,87,93,95],[94,87,94,89],[94,90,94,92],[94,93,94,95],[40,84,40,85],[41,84,41,85],[33,94,33,95],[34,94,34,95],[35,94,35,95],[30,92,30,93],[31,92,31,93],[32,92,32,93],[33,92,33,93],[34,92,34,93],[35,92,35,93],[33,90,33,91],[34,90,34,91],[89,83,89,84],[77,100,77,102],[77,97,77,99],[71,99,71,101],[71,102,71,104],[70,105,70,113],[71,105,71,107],[71,108,71,110],[71,111,71,113],[74,85,74,86],[72,82,72,83],[76,112,76,120],[71,120,71,122],[77,118,77,120],[54,111,54,119],[55,114,55,116],[55,117,55,119],[71,114,71,116],[71,117,71,119],[55,102,55,104],[71,93,71,95],[71,96,71,98],[70,96,70,104],[55,111,55,113],[54,102,54,110],[55,105,55,107],[55,108,55,110],[80,77,80,80],[44,76,44,78],[45,76,45,78],[44,81,44,83],[78,77,78,80],[79,77,79,80],[79,83,79,84],[80,83,80,84],[72,80,72,81],[72,78,72,79],[71,78,71,83],[54,84,54,92],[55,84,55,86],[55,87,55,89],[55,90,55,92],[71,87,71,89],[71,90,71,92],[73,85,73,86],[70,87,70,95],[54,93,54,101],[55,93,55,95],[55,96,55,98],[55,99,55,101],[1,2,2,3],[5,2,6,3],[37,4,37,8],[42,11,42,13],[42,8,42,10],[42,5,42,7],[13,56,13,57],[11,54,11,55],[9,56,9,57],[19,56,19,57],[15,54,15,55],[16,54,16,55],[18,54,18,55],[41,5,41,13],[33,4,35,5],[22,0,23,4],[17,54,17,55],[19,54,19,55],[3,33,3,34],[1,5,2,12],[3,5,3,12],[5,5,6,12],[9,54,9,55],[10,54,10,55],[87,4,87,6],[87,13,87,15],[87,10,87,12],[87,7,87,9],[59,4,59,6],[73,4,73,6],[73,7,73,9],[73,10,73,12],[59,7,59,9],[59,10,59,12],[59,13,59,15],[73,13,73,15],[54,70,54,75],[55,70,55,75],[39,69,39,73],[39,45,39,49],[31,16,32,29],[15,17,15,21],[15,25,15,27],[22,62,22,64],[22,65,22,66],[22,67,22,68],[16,56,16,57],[31,52,32,59],[39,36,39,40],[39,53,39,57],[17,58,17,59],[18,58,18,59],[23,58,23,59],[23,54,23,55],[23,56,23,57],[18,56,18,57],[39,61,39,65],[19,58,19,59],[17,56,17,57],[28,58,28,67],[1,61,2,68],[25,62,26,64],[15,58,15,59],[10,58,10,59],[10,56,10,57],[12,54,12,55],[13,54,13,55],[16,58,16,59],[14,56,14,57],[8,58,8,59],[9,58,9,59],[11,58,11,59],[12,58,12,59],[14,58,14,59],[12,56,12,57],[11,56,11,57],[13,58,13,59],[14,54,14,55],[15,56,15,57],[25,56,25,57],[25,54,25,55],[21,55,21,56],[8,54,8,55],[8,56,8,57],[1,15,2,29],[3,15,3,29],[1,50,2,56],[7,5,7,12],[2,35,3,39],[2,41,3,45],[5,47,5,48],[5,49,5,50],[1,33,1,34],[2,33,2,34],[4,33,4,34],[3,47,3,48],[2,47,2,48],[5,22,6,28],[33,70,35,70],[13,80,13,81],[15,80,15,81],[13,69,13,71],[22,69,22,70],[34,78,34,79],[34,80,34,81],[15,69,15,71],[16,69,16,71],[34,76,34,77],[35,72,35,73],[35,74,35,75],[35,76,35,77],[29,74,29,75],[29,76,29,77],[30,72,30,73],[30,74,30,75],[30,76,30,77],[24,76,24,77],[25,72,25,73],[14,76,14,77],[16,76,16,77],[31,76,31,77],[32,72,32,73],[21,52,21,54],[21,58,21,59],[31,72,31,73],[31,74,31,75],[77,103,77,105],[77,106,77,108],[77,109,77,111],[77,112,77,114],[77,115,77,117],[23,88,23,89],[24,88,24,89],[21,72,21,95],[22,72,22,77],[22,78,22,83],[22,84,22,89],[22,90,22,95],[25,58,25,59],[21,67,21,68],[21,62,21,64],[21,69,21,70],[23,52,23,53],[25,52,25,53],[43,80,43,81],[43,76,43,79],[6,62,6,65],[7,62,7,65],[7,66,7,67],[10,62,10,65],[12,62,12,64],[13,62,13,64],[14,62,14,64],[12,72,12,73],[13,72,13,73],[14,72,14,73],[20,62,20,64],[20,65,20,66],[20,67,20,68],[21,65,21,66],[115,137,115,140],[115,141,115,144],[138,88,138,91],[23,90,23,91],[23,92,23,93],[24,92,24,93],[25,92,25,93],[26,92,26,93],[23,94,23,95],[24,94,24,95],[25,94,25,95],[26,94,26,95],[27,94,27,95],[28,94,28,95],[29,94,29,95],[27,92,27,93],[28,92,28,93],[29,92,29,93],[114,97,114,108],[94,120,94,122],[93,114,93,122],[94,114,94,116],[94,117,94,119],[113,97,113,144],[116,95,118,95],[119,95,121,95],[122,95,124,95],[125,95,127,95],[116,94,127,94],[114,109,114,120],[114,121,114,132],[114,133,114,144],[115,97,115,100],[115,101,115,104],[115,105,115,108],[115,109,115,112],[115,113,115,116],[115,117,115,120],[115,121,115,124],[115,125,115,128],[115,129,115,132],[115,133,115,136],[93,105,93,113],[94,105,94,107],[8,79,8,82],[16,80,16,81],[17,80,17,81],[16,85,16,86],[16,87,16,88],[18,85,18,88],[10,80,10,81],[139,88,139,91],[140,88,140,91],[26,78,26,79],[26,80,26,81],[23,82,23,83],[32,80,32,81],[32,82,32,83],[33,78,33,79],[33,80,33,81],[34,82,34,83],[35,78,35,79],[35,82,35,83],[23,78,23,79],[23,80,23,81],[24,78,24,79],[24,80,24,81],[24,82,24,83],[29,84,29,85],[41,76,41,79],[40,76,40,79],[40,80,40,81],[40,82,40,83],[41,80,41,81],[41,82,41,83],[16,90,16,92],[19,85,19,88],[25,78,25,79],[25,80,25,81],[25,82,25,83],[35,80,35,81],[33,82,33,83],[24,90,24,91],[25,90,25,91],[26,90,26,91],[27,90,27,91],[28,90,28,91],[29,90,29,91],[30,90,30,91],[31,90,31,91],[32,90,32,91],[35,90,35,91]],"read":"row_number_cap"}
[]
[null,null,"Bonus",null,null,"1) Ce qui nous interresse est dans la partie jaune, en haut, de gauche a droite. En blanc, les cases a remplir",null,null,null,null,null,null,null,null,null,"4) Choisir entre l'approximation des kits=0 ou kit officiel=1. Dans ce ",null,null,null,null,null,null,null,null,null,null,null,null,null,null,null,null,null,"choisir une tactique :",null,null,null,null,null,null,null,null,null,null,null,null,null,null,null,null,"7) Choisir la position des joueurs.",null,null,null,null,null,null,null,null,null,null,"9) Entrer les bonus de match que vous pensez avoir.",null,null,null,null,null,null,null,null,null,null,null,null,null,null,null,null,null,null,null,null,null,null,null,"equipe de l'adversaire"]
[null,null,null,null,null,null,null,null,null,null,null,null,null,null,null,null,null,null,null,null,null,null,null,null,null,null,null,null,null,null,null,null,null,"Def/Neutre/Off :",null,{"$f":"AH4","v":433},null,null,null,null,null,{"$f":"AH5","v":"Offensif"},null,null,null,null,null,"total sans bonus",null,null,null,null,null,null,null,null,null,null,null,null,null,null,null,null,null,null,null,null,null,null,"Nom de l'équipe adverse à analyser :"]
[null,null,null,null,null,", en jaune pale, les informations. Les données sont indicatives (a 1% pres) pour un moral et une energie max.",null,null,null,null,null,null,null,null,null,"dernier cas, entrer les valeurs des caracteristiques de vos kits.",null,null,null,null,null,null,null,null,null,null,null,null,null,null,null,null,null,433,null,null,null,null,null,null,null,null,null,null,null,null,null,{"$f":"BG24","v":8654.61},null,null,null,null,null,null,null,null,null,null,null,null,null,null,null,null,null,null,null,null,null,null,null,null,null,null,null,null,null,null,null,null,null,null,null,null,null,"NOM",null,null,"force","hab","vit","end","int","XP","cap"]
[null,null,null,null,null,null,null,null,null,null,null,null,null,null,null,null,null,null,null,null,null,null,null,null,null,null,null,null,null,null,null,null,null,"Offensif",null,null,null,null,null,null,null,null,null,null,null,null,null,null,null,null,null,null,null,null,null,null,null,null,null,null,null,null,null,null,null,null,null,null,null,null,null,null,null,null,null,null,null,null,null,null,null,null,null,null,1,{"$f":"OFFSET(Feuil6!A3,0,'import advers'!$S$3)","v":0},null,{"$f":"CLEAN(SUBSTITUTE(HLOOKUP([2]Feuil1!CH5,[2]Feuil6!$A$3:$V$26,11,FALSE),\"Force\",\"\"))","v":"408"},{"$f":"CLEAN(SUBSTITUTE(HLOOKUP(Feuil1!CH5,Feuil6!$A$3:$V$26,11,FALSE),\"Force\",\"\"))","v":{"$error":"#N/A"}},{"$f":"CLEAN(SUBSTITUTE(HLOOKUP(Feuil1!CH5,Feuil6!$A$3:$V$26,13,FALSE),\"Habileté\",\"\"))","v":{"$error":"#N/A"}},{"$f":"CLEAN(SUBSTITUTE(HLOOKUP(Feuil1!CH5,Feuil6!$A$3:$V$26,15,FALSE),\"Vitesse\",\"\"))","v":{"$error":"#N/A"}},{"$f":"CLEAN(SUBSTITUTE(HLOOKUP(Feuil1!CH5,Feuil6!$A$3:$V$26,17,FALSE),\"Endurance\",\"\"))","v":{"$error":"#N/A"}},{"$f":"CLEAN(SUBSTITUTE(HLOOKUP(Feuil1!CH5,Feuil6!$A$3:$V$26,19,FALSE),\"Intelligence\",\"\"))","v":{"$error":"#N/A"}},{"$f":"VALUE(CLEAN(HLOOKUP(Feuil1!CH5,Feuil6!$A$3:$V$26,7,FALSE)))","v":{"$error":"#N/A"}},{"$f":"IF(CH5<>\"\",(CO5/100+MIN(5000,CP5)/500)/100,\"\")","v":{"$error":"#N/A"}}]
[null,null,"batiments :",null,null,"2) Remplir les cases blanches de \"bonus batiments\" a \"objets\" par la valeur des gains. Pour \"objet\", il",null,null,null,null,null,null,null,null,null,null,null,null,null,null,null,null,"5) Choisir une tactique.",null,null,null,null,null,null,null,null,null,null,null,null,null,null,null,null,null,null,null,null,null,null,null,null,"Position :",null,"Capitaine",null,null,null,null,null,null,null,null,null,null,null,null,null,null,null,null,null,null,null,null,"scapulaire",null,null,null,null,null,null,null,null,null,null,null,null,null,2,{"$f":"OFFSET(Feuil6!B3,0,'import advers'!$S$3)","v":0},null,{"$f":"CLEAN(SUBSTITUTE(HLOOKUP([2]Feuil1!CH6,[2]Feuil6!$A$3:$V$26,11,FALSE),\"Force\",\"\"))","v":"770"},{"$f":"CLEAN(SUBSTITUTE(HLOOKUP(Feuil1!CH6,Feuil6!$A$3:$V$26,11,FALSE),\"Force\",\"\"))","v":{"$error":"#N/A"}},{"$f":"CLEAN(SUBSTITUTE(HLOOKUP(Feuil1!CH6,Feuil6!$A$3:$V$26,13,FALSE),\"Habileté\",\"\"))","v":{"$error":"#N/A"}},{"$f":"CLEAN(SUBSTITUTE(HLOOKUP(Feuil1!CH6,Feuil6!$A$3:$V$26,15,FALSE),\"Vitesse\",\"\"))","v":{"$error":"#N/A"}},{"$f":"CLEAN(SUBSTITUTE(HLOOKUP(Feuil1!CH6,Feuil6!$A$3:$V$26,17,FALSE),\"Endurance\",\"\"))","v":{"$error":"#N/A"}},{"$f":"CLEAN(SUBSTITUTE(HLOOKUP(Feuil1!CH6,Feuil6!$A$3:$V$26,19,FALSE),\"Intelligence\",\"\"))","v":{"$error":"#N/A"}},{"$f":"VALUE(CLEAN(HLOOKUP(Feuil1!CH6,Feuil6!$A$3:$V$26,7,FALSE)))","v":{"$error":"#N/A"}},{"$error":"#N/A"}]
[null,null,null,null,null,null,null,null,null,null,null,null,null,null,null,null,null,null,null,null,null,null,null,null,null,null,null,null,null,null,null,null,null,null,null,1,2,3,4,5,6,7,8,9,10,11,null,null,null,null,null,null,null,null,null,null,null,null,null,null,null,null,"Meilleur capitaine :",null,null,null,null,null,null,null,null,null,null,null,null,null,null,null,null,null,null,null,null,null,3,{"$f":"OFFSET(Feuil6!C3,0,'import advers'!$S$3)","v":0},null,{"$f":"CLEAN(SUBSTITUTE(HLOOKUP([2]Feuil1!CH7,[2]Feuil6!$A$3:$V$26,11,FALSE),\"Force\",\"\"))","v":"725"},{"$f":"CLEAN(SUBSTITUTE(HLOOKUP(Feuil1!CH7,Feuil6!$A$3:$V$26,11,FALSE),\"Force\",\"\"))","v":{"$error":"#N/A"}},{"$f":"CLEAN(SUBSTITUTE(HLOOKUP(Feuil1!CH7,Feuil6!$A$3:$V$26,13,FALSE),\"Habileté\",\"\"))","v":{"$error":"#N/A"}},{"$f":"CLEAN(SUBSTITUTE(HLOOKUP(Feuil1!CH7,Feuil6!$A$3:$V$26,15,FALSE),\"Vitesse\",\"\"))","v":{"$error":"#N/A"}},{"$f":"CLEAN(SUBSTITUTE(HLOOKUP(Feuil1!CH7,Feuil6!$A$3:$V$26,17,FALSE),\"Endurance\",\"\"))","v":{"$error":"#N/A"}},{"$f":"CLEAN(SUBSTITUTE(HLOOKUP(Feuil1!CH7,Feuil6!$A$3:$V$26,19,FALSE),\"Intelligence\",\"\"))","v":{"$error":"#N/A"}},{"$f":"VALUE(CLEAN(HLOOKUP(Feuil1!CH7,Feuil6!$A$3:$V$26,7,FALSE)))","v":{"$error":"#N/A"}},{"$error":"#N/A"}]
[null,null,"force :",{"$f":"Team!A11","v":"55"},null," s'agit de la valeur max des objets que l'on trouve au marché.",null,null,null,null,null,null,null,null,"caracteristiques kit en cours",null,null,null,null,null,null,null,null,null,null,null,null,null,null,null,null,null,0,null,{"$f":"IF(G11=\"\",\"\",G11)","v":"espagne 9 "},{"$f":"IF(AI8<>\"\",AY56*IF($AX$37=1,$BW$58,1),\"\")","v":999.98325000000011},{"$f":"IF(AI8<>\"\",BP56*IF($AX$37=1,$BW$59,1),\"\")","v":593.9846},{"$f":"IF(AI8<>\"\",AY83*IF($AX$37=1,$BW$60,1),\"\")","v":593.9846},{"$f":"IF(AI8<>\"\",BP83*IF($AX$37=1,$BW$61,1),\"\")","v":374.80450000000002},{"$f":"IF(AI8<>\"\",AY110*IF($AX$37=1,$BW$62,1),\"\")","v":839.20759999999996},{"$f":"IF(AI8<>\"\",BP110*IF($AX$37=1,$BW$63,1),\"\")","v":674.63571999999999},{"$f":"IF(AI8<>\"\",AY137*IF($AX$37=1,$BW$64,1),\"\")","v":637.74300000000005},{"$f":"IF(AI8<>\"\",BP137*IF($AX$37=1,$BW$65,1),\"\")","v":1187.9910000000002},{"$f":"IF(AI8<>\"\",AY164*IF($AX$37=1,$BW$66,1),\"\")","v":799.25120000000015},{"$f":"IF(AI8<>\"\",BP164*IF($AX$37=1,$BW$67,1),\"\")","v":569.16999999999996},{"$f":"IF(AI8<>\"\",AY191*IF($AX$37=1,$BW$68,1),\"\")","v":1187.9910000000002},null,1,{"$f":"IF(ISNA(VLOOKUP(1,$AV$8:$AV$33,1,FALSE)),1,\"\")","v":""},{"$f":"IF(AND(AV8<>\"\",AI8<>\"\"),IF(ISNA(VLOOKUP(AI8,$E$104:$I$128,5,FALSE)),0,VLOOKUP(AI8,$E$104:$I$128,5,FALSE)),\"\")","v":7.397999999999999E-2},null,null,null,null,null,null,null,null,null,null,null,null,{"$f":"IF(ISNA(VLOOKUP(\"CAP\",D104:I128,2,)),\"\",VLOOKUP(\"CAP\",D104:I128,2,))","v":"grece 7 "},null,null,null,{"$f":"IF(ISNA(VLOOKUP(BK8,E104:I128,5,FALSE)),\"\",VLOOKUP(BK8,E104:I128,5,FALSE))","v":8.3120000000000013E-2},null,null,"brut adversaire sans bonus",null,null,null,null,null,null,null,null,null,null,null,null,null,null,4,{"$f":"OFFSET(Feuil6!D3,0,'import advers'!$S$3)","v":0},null,{"$f":"CLEAN(SUBSTITUTE(HLOOKUP([2]Feuil1!CH8,[2]Feuil6!$A$3:$V$26,11,FALSE),\"Force\",\"\"))","v":"770"},{"$f":"CLEAN(SUBSTITUTE(HLOOKUP(Feuil1!CH8,Feuil6!$A$3:$V$26,11,FALSE),\"Force\",\"\"))","v":{"$error":"#N/A"}},{"$f":"CLEAN(SUBSTITUTE(HLOOKUP(Feuil1!CH8,Feuil6!$A$3:$V$26,13,FALSE),\"Habileté\",\"\"))","v":{"$error":"#N/A"}},{"$f":"CLEAN(SUBSTITUTE(HLOOKUP(Feuil1!CH8,Feuil6!$A$3:$V$26,15,FALSE),\"Vitesse\",\"\"))","v":{"$error":"#N/A"}},{"$f":"CLEAN(SUBSTITUTE(HLOOKUP(Feuil1!CH8,Feuil6!$A$3:$V$26,17,FALSE),\"Endurance\",\"\"))","v":{"$error":"#N/A"}},{"$f":"CLEAN(SUBSTITUTE(HLOOKUP(Feuil1!CH8,Feuil6!$A$3:$V$26,19,FALSE),\"Intelligence\",\"\"))","v":{"$error":"#N/A"}},{"$f":"VALUE(CLEAN(HLOOKUP(Feuil1!CH8,Feuil6!$A$3:$V$26,7,FALSE)))","v":{"$error":"#N/A"}},{"$error":"#N/A"}]
[null,null,"habilité :",{"$f":"+Team!B11","v":"55"},null,null,11652,11776,null,null,null,null,null,null,null,null,"kit 1","kit 2/3",null,"kit 4",null,"kit 5","kit 6/7",null,null,"kit 8","kit 9",null,"kit 10","kit 11",null,null,0,null,{"$f":"IF(G12=\"\",\"\",G12)","v":2},{"$f":"IF(AI9<>\"\",AY57*IF($AX$37=1,$BW$58,1),\"\")","v":890.9932500000001},624.86453333333338,624.86453333333338,426.8775,937.29679999999996,699.70295999999996,690.66210000000001,1158.9270000000001,742.48620000000017,629.72,1158.9270000000001,null,2,{"$f":"IF(ISNA(VLOOKUP(2,$AV$8:$AV$33,1,FALSE)),2,\"\")","v":""},{"$f":"IF(AND(AV9<>\"\",AI9<>\"\"),IF(ISNA(VLOOKUP(AI9,$E$104:$I$128,5,FALSE)),0,VLOOKUP(AI9,$E$104:$I$128,5,FALSE)),\"\")","v":7.4999999999999997E-2},null,null,"nom du joueur","kit","attaque",null,"defense",null,"cumulé",null,"XP",null,null,null,null,null,null,null,null,null,null,null,null,null,null,null,null,null,null,"code choix tactique",null,null,null,null,5,{"$f":"OFFSET(Feuil6!E3,0,'import advers'!$S$3)","v":0},null,{"$f":"CLEAN(SUBSTITUTE(HLOOKUP([2]Feuil1!CH9,[2]Feuil6!$A$3:$V$26,11,FALSE),\"Force\",\"\"))","v":"483"},{"$f":"CLEAN(SUBSTITUTE(HLOOKUP(Feuil1!CH9,Feuil6!$A$3:$V$26,11,FALSE),\"Force\",\"\"))","v":{"$error":"#N/A"}},{"$f":"CLEAN(SUBSTITUTE(HLOOKUP(Feuil1!CH9,Feuil6!$A$3:$V$26,13,FALSE),\"Habileté\",\"\"))","v":{"$error":"#N/A"}},{"$f":"CLEAN(SUBSTITUTE(HLOOKUP(Feuil1!CH9,Feuil6!$A$3:$V$26,15,FALSE),\"Vitesse\",\"\"))","v":{"$error":"#N/A"}},{"$f":"CLEAN(SUBSTITUTE(HLOOKUP(Feuil1!CH9,Feuil6!$A$3:$V$26,17,FALSE),\"Endurance\",\"\"))","v":{"$error":"#N/A"}},{"$f":"CLEAN(SUBSTITUTE(HLOOKUP(Feuil1!CH9,Feuil6!$A$3:$V$26,19,FALSE),\"Intelligence\",\"\"))","v":{"$error":"#N/A"}},{"$f":"VALUE(CLEAN(HLOOKUP(Feuil1!CH9,Feuil6!$A$3:$V$26,7,FALSE)))","v":{"$error":"#N/A"}},{"$error":"#N/A"}]
[null,null,"vitesse :",{"$f":"Team!C11","v":"45"},null,null,"NOM","force","habilité","vitesse","endurance","intelligence","XP","% Capitaine",null,"force",{"$f":"IF(Q39=1,Q26,Q19)","v":41},69,0,73,0,70,61,0,61,56,61,0,46,51,null,null,0,null,3,{"$f":"IF(AI10<>\"\",AY58*IF($AX$37=1,$BW$58,1),\"\")","v":701.62312500000007},606.69986666666659,606.69986666666659,409.92350000000005,850.10640000000001,627.77087999999992,559.04279999999994,935.49750000000006,584.67950000000008,534.57000000000005,935.49750000000006,null,3,{"$f":"IF(ISNA(VLOOKUP(3,$AV$8:$AV$33,1,FALSE)),3,\"\")","v":""},6.8199999999999997E-2,null,1,{"$f":"IF(AV8=1,AI8,IF(AV9=1,AI9,IF(AV10=1,AI10,IF(AV11=1,AI11,IF(AV12=1,AI12,IF(AV13=1,AI13,IF(AV14=1,AI14,IF(AV15=1,AI15,BT70))))))))","v":"espagne 9 "},{"$f":"IF(AV8=1,BS113,IF(AV9=1,BS114,IF(AV10=1,BS115,IF(AV11=1,BS116,IF(AV12=1,BS117,IF(AV13=1,BS118,IF(AV14=1,BS119,IF(AV15=1,BS120,BT140))))))))","v":"kit 1"},{"$f":"BW70*BS58","v":99.989150000000009},null,{"$f":"BW70*BU58","v":899.9941},null,{"$f":"ROUND(BW70*BW58,2)","v":999.98},null,{"$f":"VLOOKUP(BA10,$G$11:$M$32,7,FALSE)","v":1369},null,null,null,null,null,null,null,null,"tactique adversaire",null,null,"attaque",null,"défense",null,"cumulé",null,null,null,null,null,null,null,6,{"$f":"OFFSET(Feuil6!F3,0,'import advers'!$S$3)","v":0},null,{"$f":"CLEAN(SUBSTITUTE(HLOOKUP([2]Feuil1!CH10,[2]Feuil6!$A$3:$V$26,11,FALSE),\"Force\",\"\"))","v":"680"},{"$f":"CLEAN(SUBSTITUTE(HLOOKUP(Feuil1!CH10,Feuil6!$A$3:$V$26,11,FALSE),\"Force\",\"\"))","v":{"$error":"#N/A"}},{"$f":"CLEAN(SUBSTITUTE(HLOOKUP(Feuil1!CH10,Feuil6!$A$3:$V$26,13,FALSE),\"Habileté\",\"\"))","v":{"$error":"#N/A"}},{"$f":"CLEAN(SUBSTITUTE(HLOOKUP(Feuil1!CH10,Feuil6!$A$3:$V$26,15,FALSE),\"Vitesse\",\"\"))","v":{"$error":"#N/A"}},{"$f":"CLEAN(SUBSTITUTE(HLOOKUP(Feuil1!CH10,Feuil6!$A$3:$V$26,17,FALSE),\"Endurance\",\"\"))","v":{"$error":"#N/A"}},{"$f":"CLEAN(SUBSTITUTE(HLOOKUP(Feuil1!CH10,Feuil6!$A$3:$V$26,19,FALSE),\"Intelligence\",\"\"))","v":{"$error":"#N/A"}},{"$f":"VALUE(CLEAN(HLOOKUP(Feuil1!CH10,Feuil6!$A$3:$V$26,7,FALSE)))","v":{"$error":"#N/A"}},{"$error":"#N/A"}]
[null,null,"endurance :",{"$f":"Team!D11","v":"40"},null,1,{"$f":"IF(Team!C44<>0,Team!C44,\"\")","v":"espagne 9 "},{"$f":"IF($G11<>\"\",VLOOKUP(Team!X17,Team!$E$30:$F$300,2,FALSE),\"\")","v":410},{"$f":"IF($G11<>\"\",VLOOKUP(Team!Y17,Team!$E$41:$F$300,2,FALSE),\"\")","v":518},{"$f":"IF($G11<>\"\",VLOOKUP(Team!Z17,Team!$E$41:$F$300,2,FALSE),\"\")","v":487},{"$f":"IF($G11<>\"\",VLOOKUP(Team!AA17,Team!$E$41:$F$300,2,FALSE),\"\")","v":464},{"$f":"IF($G11<>\"\",VLOOKUP(Team!AB17,Team!$E$41:$F$300,2,FALSE),\"\")","v":290},{"$f":"IF($G11<>\"\",VALUE(VLOOKUP(Team!X17,Team!$E$41:$P$300,12,FALSE)),\"\")","v":1369},{"$f":"G104","v":5.638E-2},null,"habilité",{"$f":"IF(Q40=1,Q27,Q20)","v":80},52,0,45,0,56,61,0,61,64,68,0,68,64,null,null,0,null,"algerie 4 ",613.06875000000002,529.95415000000003,529.95415000000003,423.24450000000002,721.13726666666651,596.70929999999998,488.48399999999998,817.42500000000007,510.8850000000001,467.1,817.42500000000007,null,4,{"$f":"IF(ISNA(VLOOKUP(4,$AV$8:$AV$33,1,FALSE)),4,\"\")","v":""},6.7419999999999994E-2,null,2,{"$f":"IF(AV8=2,AI8,IF(AV9=2,AI9,IF(AV10=2,AI10,IF(AV11=2,AI11,IF(AV12=2,AI12,IF(AV13=2,AI13,IF(AV14=2,AI14,IF(AV15=2,AI15,BT71))))))))","v":2},{"$f":"IF(AV8=2,BU113,IF(AV9=2,BU114,IF(AV10=2,BU115,IF(AV11=2,BU116,IF(AV12=2,BU117,IF(AV13=2,BU118,IF(AV14=2,BU119,IF(AV15=2,BU120,BT141))))))))","v":"kit 2/3"},437.40746666666666,null,{"$f":"BW71*BU59","v":187.45706666666669},null,624.86,null,{"$f":"VLOOKUP(BA11,$G$11:$M$32,7,FALSE)","v":1190},null,"bonus match",null,null,null,null,null,null,{"$f":"IF(CA15=CE11,CC11,IF(CA15=CE12,CC12,IF(CA15=CE13,CC13,IF(CA15=CE14,CC14,erreur))))","v":433},{"$f":"IF(CA17=CE16,CC16,IF(CA17=CE17,CC17,IF(CA17=CE18,CC18,erreur)))","v":"neutre"},null,{"$f":"CA70","v":{"$error":"#N/A"}},null,{"$f":"CB70","v":{"$error":"#N/A"}},null,{"$f":"ROUND(BU11+BW11,2)","v":{"$error":"#N/A"}},null,null,null,541,null,1,null,7,{"$f":"OFFSET(Feuil6!G3,0,'import advers'!$S$3)","v":0},null,{"$f":"CLEAN(SUBSTITUTE(HLOOKUP([2]Feuil1!CH11,[2]Feuil6!$A$3:$V$26,11,FALSE),\"Force\",\"\"))","v":"680"},{"$f":"CLEAN(SUBSTITUTE(HLOOKUP(Feuil1!CH11,Feuil6!$A$3:$V$26,11,FALSE),\"Force\",\"\"))","v":{"$error":"#N/A"}},{"$f":"CLEAN(SUBSTITUTE(HLOOKUP(Feuil1!CH11,Feuil6!$A$3:$V$26,13,FALSE),\"Habileté\",\"\"))","v":{"$error":"#N/A"}},{"$f":"CLEAN(SUBSTITUTE(HLOOKUP(Feuil1!CH11,Feuil6!$A$3:$V$26,15,FALSE),\"Vitesse\",\"\"))","v":{"$error":"#N/A"}},{"$f":"CLEAN(SUBSTITUTE(HLOOKUP(Feuil1!CH11,Feuil6!$A$3:$V$26,17,FALSE),\"Endurance\",\"\"))","v":{"$error":"#N/A"}},{"$f":"CLEAN(SUBSTITUTE(HLOOKUP(Feuil1!CH11,Feuil6!$A$3:$V$26,19,FALSE),\"Intelligence\",\"\"))","v":{"$error":"#N/A"}},{"$f":"VALUE(CLEAN(HLOOKUP(Feuil1!CH11,Feuil6!$A$3:$V$26,7,FALSE)))","v":{"$error":"#N/A"}},{"$error":"#N/A"}]
[null,null,"intelligence :",{"$f":"Team!E11","v":"39"},null,2,{"$f":"IF(Team!C55<>0,Team!C55,\"\")","v":2},{"$f":"IF($G12<>\"\",VLOOKUP(Team!X18,Team!$E$41:$F$300,2,FALSE),\"\")","v":496},{"$f":"IF($G12<>\"\",VLOOKUP(Team!Y18,Team!$E$41:$F$300,2,FALSE),\"\")","v":438},{"$f":"IF($G12<>\"\",VLOOKUP(Team!Z18,Team!$E$41:$F$300,2,FALSE),\"\")","v":443},{"$f":"IF($G12<>\"\",VLOOKUP(Team!AA18,Team!$E$41:$F$300,2,FALSE),\"\")","v":498},{"$f":"IF($G12<>\"\",VLOOKUP(Team!AB18,Team!$E$41:$F$300,2,FALSE),\"\")","v":340},{"$f":"IF($G12<>\"\",VALUE(VLOOKUP(Team!X18,Team!$E$41:$P$300,12,FALSE)),\"\")","v":1190},{"$f":"G105","v":5.779999999999999E-2},null,"vitesse",{"$f":"IF(Q41=1,Q28,Q21)","v":41},60,0,73,0,56,61,0,61,64,68,0,53,71,null,null,0,null,"ghana 5 ",{"$f":"IF(AI12<>\"\",AY60*IF($AX$37=1,$BW$58,1),\"\")","v":888.26850000000013},545.84823333333338,545.84823333333338,400.84100000000001,901.87569999999994,655.01787999999988,652.39751999999999,1091.7165000000002,740.21560000000011,641.82999999999993,1091.7165000000002,null,5,{"$f":"IF(ISNA(VLOOKUP(5,$AV$8:$AV$33,1,FALSE)),5,\"\")","v":""},7.2900000000000006E-2,null,3,{"$f":"IF(AV8=3,AI8,IF(AV9=3,AI9,IF(AV10=3,AI10,IF(AV11=3,AI11,IF(AV12=3,AI12,IF(AV13=3,AI13,IF(AV14=3,AI14,IF(AV15=3,AI15,BT72))))))))","v":3},{"$f":"IF(AV8=3,BW113,IF(AV9=3,BW114,IF(AV10=3,BW115,IF(AV11=3,BW116,IF(AV12=3,BW117,IF(AV13=3,BW118,IF(AV14=3,BW119,IF(AV15=3,BW120,BT142))))))))","v":"kit 2/3"},424.69213333333329,null,182.00773333333333,null,606.70000000000005,null,1110,null,null,null,null,null,null,null,null,null,null,null,null,null,null,null,null,null,null,null,433,null,2,null,8,{"$f":"OFFSET(Feuil6!H3,0,'import advers'!$S$3)","v":0},null,{"$f":"CLEAN(SUBSTITUTE(HLOOKUP([2]Feuil1!CH12,[2]Feuil6!$A$3:$V$26,11,FALSE),\"Force\",\"\"))","v":"483"},{"$f":"CLEAN(SUBSTITUTE(HLOOKUP(Feuil1!CH12,Feuil6!$A$3:$V$26,11,FALSE),\"Force\",\"\"))","v":{"$error":"#N/A"}},{"$f":"CLEAN(SUBSTITUTE(HLOOKUP(Feuil1!CH12,Feuil6!$A$3:$V$26,13,FALSE),\"Habileté\",\"\"))","v":{"$error":"#N/A"}},{"$f":"CLEAN(SUBSTITUTE(HLOOKUP(Feuil1!CH12,Feuil6!$A$3:$V$26,15,FALSE),\"Vitesse\",\"\"))","v":{"$error":"#N/A"}},{"$f":"CLEAN(SUBSTITUTE(HLOOKUP(Feuil1!CH12,Feuil6!$A$3:$V$26,17,FALSE),\"Endurance\",\"\"))","v":{"$error":"#N/A"}},{"$f":"CLEAN(SUBSTITUTE(HLOOKUP(Feuil1!CH12,Feuil6!$A$3:$V$26,19,FALSE),\"Intelligence\",\"\"))","v":{"$error":"#N/A"}},{"$f":"VALUE(CLEAN(HLOOKUP(Feuil1!CH12,Feuil6!$A$3:$V$26,7,FALSE)))","v":{"$error":"#N/A"}},{"$error":"#N/A"}]
[null,null,"Laboratoire :",{"$f":"Team!F11","v":"25"},null,3,{"$f":"IF(Team!C66<>0,Team!C66,\"\")","v":3},{"$f":"IF($G13<>\"\",VLOOKUP(Team!X19,Team!$E$41:$F$300,2,FALSE),\"\")","v":468},{"$f":"IF($G13<>\"\",VLOOKUP(Team!Y19,Team!$E$41:$F$300,2,FALSE),\"\")","v":299},{"$f":"IF($G13<>\"\",VLOOKUP(Team!Z19,Team!$E$41:$F$300,2,FALSE),\"\")","v":377},{"$f":"IF($G13<>\"\",VLOOKUP(Team!AA19,Team!$E$41:$F$300,2,FALSE),\"\")","v":478},{"$f":"IF($G13<>\"\",VLOOKUP(Team!AB19,Team!$E$41:$F$300,2,FALSE),\"\")","v":288},{"$f":"IF($G13<>\"\",VALUE(VLOOKUP(Team!X19,Team!$E$41:$P$300,12,FALSE)),\"\")","v":1110},5.0999999999999997E-2,null,"endurance",{"$f":"IF(Q42=1,Q29,Q22)","v":25},69,0,64,0,56,61,0,61,64,56,0,60,64,null,null,0,null,"slovenie 6 ",942.76350000000002,566.73759999999993,566.73759999999993,391.75850000000003,881.44044999999994,680.08511999999996,677.36447999999996,1133.4960000000001,785.62760000000014,678.16,1133.4960000000001,null,6,{"$f":"IF(ISNA(VLOOKUP(6,$AV$8:$AV$33,1,FALSE)),6,\"\")","v":""},8.1920000000000007E-2,null,4,{"$f":"IF(AV8=4,AI8,IF(AV9=4,AI9,IF(AV10=4,AI10,IF(AV11=4,AI11,IF(AV12=4,AI12,IF(AV13=4,AI13,IF(AV14=4,AI14,IF(AV15=4,AI15,BT73))))))))","v":"algerie 4 "},{"$f":"IF(AV8=4,BY113,IF(AV9=4,BY114,IF(AV10=4,BY115,IF(AV11=4,BY116,IF(AV12=4,BY117,IF(AV13=4,BY118,IF(AV14=4,BY119,IF(AV15=4,BY120,BT143))))))))","v":"kit 2/3"},169.2978,null,253.94670000000002,null,423.24,null,1426,null,"bonus de chance :",null,null,0,"%",null,null,"bonus de chance :",null,null,0,null,"%",null,"tactique adversaire",null,null,null,352,null,3,null,9,{"$f":"OFFSET(Feuil6!I3,0,'import advers'!$S$3)","v":0},null,{"$f":"CLEAN(SUBSTITUTE(HLOOKUP([2]Feuil1!CH13,[2]Feuil6!$A$3:$V$26,11,FALSE),\"Force\",\"\"))","v":"846"},{"$f":"CLEAN(SUBSTITUTE(HLOOKUP(Feuil1!CH13,Feuil6!$A$3:$V$26,11,FALSE),\"Force\",\"\"))","v":{"$error":"#N/A"}},{"$f":"CLEAN(SUBSTITUTE(HLOOKUP(Feuil1!CH13,Feuil6!$A$3:$V$26,13,FALSE),\"Habileté\",\"\"))","v":{"$error":"#N/A"}},{"$f":"CLEAN(SUBSTITUTE(HLOOKUP(Feuil1!CH13,Feuil6!$A$3:$V$26,15,FALSE),\"Vitesse\",\"\"))","v":{"$error":"#N/A"}},{"$f":"CLEAN(SUBSTITUTE(HLOOKUP(Feuil1!CH13,Feuil6!$A$3:$V$26,17,FALSE),\"Endurance\",\"\"))","v":{"$error":"#N/A"}},{"$f":"CLEAN(SUBSTITUTE(HLOOKUP(Feuil1!CH13,Feuil6!$A$3:$V$26,19,FALSE),\"Intelligence\",\"\"))","v":{"$error":"#N/A"}},{"$f":"VALUE(CLEAN(HLOOKUP(Feuil1!CH13,Feuil6!$A$3:$V$26,7,FALSE)))","v":{"$error":"#N/A"}},{"$error":"#N/A"}]
[null,null,null,null,null,4,{"$f":"IF(Team!C77<>0,Team!C77,\"\")","v":"algerie 4 "},{"$f":"IF($G14<>\"\",VLOOKUP(Team!X20,Team!$E$41:$F$300,2,FALSE),\"\")","v":494},{"$f":"IF($G14<>\"\",VLOOKUP(Team!Y20,Team!$E$41:$F$300,2,FALSE),\"\")","v":234},{"$f":"IF($G14<>\"\",VLOOKUP(Team!Z20,Team!$E$41:$F$300,2,FALSE),\"\")","v":424},{"$f":"IF($G14<>\"\",VLOOKUP(Team!AA20,Team!$E$41:$F$300,2,FALSE),\"\")","v":396},{"$f":"IF($G14<>\"\",VLOOKUP(Team!AB20,Team!$E$41:$F$300,2,FALSE),\"\")","v":217},{"$f":"IF($G14<>\"\",VALUE(VLOOKUP(Team!X20,Team!$E$41:$P$300,12,FALSE)),\"\")","v":1426},5.0220000000000001E-2,null,"intelligence",{"$f":"IF(Q43=1,Q30,Q23)","v":56},52,0,45,0,56,53,0,53,48,49,0,60,44,null,null,0,null,"grece 7 ",{"$f":"IF(AI14<>\"\",AY62*IF($AX$37=1,$BW$58,1),\"\")","v":919.60312500000009},574.9117,574.9117,396.60249999999996,892.33924999999999,685.53451999999993,682.79207999999994,1142.5785000000001,766.3275000000001,653.94000000000005,1142.5785000000001,null,7,{"$f":"IF(ISNA(VLOOKUP(7,$AV$8:$AV$33,1,FALSE)),7,\"\")","v":""},8.3120000000000013E-2,null,5,{"$f":"IF(AV8=5,AI8,IF(AV9=5,AI9,IF(AV10=5,AI10,IF(AV11=5,AI11,IF(AV12=5,AI12,IF(AV13=5,AI13,IF(AV14=5,AI14,IF(AV15=5,AI15,BT74))))))))","v":"ghana 5 "},{"$f":"IF(AV8=5,CA113,IF(AV9=5,CA114,IF(AV10=5,CA115,IF(AV11=5,CA116,IF(AV12=5,CA117,IF(AV13=5,CA118,IF(AV14=5,CA119,IF(AV15=5,CA120,BT144))))))))","v":"kit 4"},631.31629999999996,null,270.55939999999998,null,901.88,null,1070,null,"bonus d'experience :",null,null,{"$f":"IF(CH20=\"Votre équipe à\",CL20*100,0)","v":{"$error":"#N/A"}},"%",null,null,"bonus d'experience :",null,null,{"$f":"IF(CH20=\"L'équipe adverse à\",CL20*100,0)","v":{"$error":"#N/A"}},null,"%",null,null,null,null,null,442,null,4,null,10,{"$f":"OFFSET(Feuil6!J3,0,'import advers'!$S$3)","v":0},null,{"$f":"CLEAN(SUBSTITUTE(HLOOKUP([2]Feuil1!CH14,[2]Feuil6!$A$3:$V$26,11,FALSE),\"Force\",\"\"))","v":"483"},{"$f":"CLEAN(SUBSTITUTE(HLOOKUP(Feuil1!CH14,Feuil6!$A$3:$V$26,11,FALSE),\"Force\",\"\"))","v":{"$error":"#N/A"}},{"$f":"CLEAN(SUBSTITUTE(HLOOKUP(Feuil1!CH14,Feuil6!$A$3:$V$26,13,FALSE),\"Habileté\",\"\"))","v":{"$error":"#N/A"}},{"$f":"CLEAN(SUBSTITUTE(HLOOKUP(Feuil1!CH14,Feuil6!$A$3:$V$26,15,FALSE),\"Vitesse\",\"\"))","v":{"$error":"#N/A"}},{"$f":"CLEAN(SUBSTITUTE(HLOOKUP(Feuil1!CH14,Feuil6!$A$3:$V$26,17,FALSE),\"Endurance\",\"\"))","v":{"$error":"#N/A"}},{"$f":"CLEAN(SUBSTITUTE(HLOOKUP(Feuil1!CH14,Feuil6!$A$3:$V$26,19,FALSE),\"Intelligence\",\"\"))","v":{"$error":"#N/A"}},{"$f":"VALUE(CLEAN(HLOOKUP(Feuil1!CH14,Feuil6!$A$3:$V$26,7,FALSE)))","v":{"$error":"#N/A"}},{"$error":"#N/A"}]
[null,null,"baby foot",5,null,5,{"$f":"IF(Team!C88<>0,Team!C88,\"\")","v":"ghana 5 "},{"$f":"IF($G15<>\"\",VLOOKUP(Team!X21,Team!$E$41:$F$300,2,FALSE),\"\")","v":453},{"$f":"IF($G15<>\"\",VLOOKUP(Team!Y21,Team!$E$41:$F$300,2,FALSE),\"\")","v":436},{"$f":"IF($G15<>\"\",VLOOKUP(Team!Z21,Team!$E$41:$F$300,2,FALSE),\"\")","v":438},{"$f":"IF($G15<>\"\",VLOOKUP(Team!AA21,Team!$E$41:$F$300,2,FALSE),\"\")","v":411},{"$f":"IF($G15<>\"\",VLOOKUP(Team!AB21,Team!$E$41:$F$300,2,FALSE),\"\")","v":350},{"$f":"IF($G15<>\"\",VALUE(VLOOKUP(Team!X21,Team!$E$41:$P$300,12,FALSE)),\"\")","v":1070},5.6400000000000006E-2,null,null,null,null,null,null,null,null,null,null,null,null,null,null,null,null,null,null,0,null,"australie 11 ",903.25462500000003,590.35166666666657,590.35166666666657,365.11649999999997,821.49704999999994,657.19763999999998,654.0258,1171.6425000000002,740.86434285714301,601.86700000000008,1171.6425000000002,null,8,{"$f":"IF(ISNA(VLOOKUP(8,$AV$8:$AV$33,1,FALSE)),8,\"\")","v":""},7.3040000000000008E-2,null,6,{"$f":"IF(AV8=6,AI8,IF(AV9=6,AI9,IF(AV10=6,AI10,IF(AV11=6,AI11,IF(AV12=6,AI12,IF(AV13=6,AI13,IF(AV14=6,AI14,IF(AV15=6,AI15,BT75))))))))","v":"slovenie 6 "},{"$f":"IF(AV8=6,CC113,IF(AV9=6,CC114,IF(AV10=6,CC115,IF(AV11=6,CC116,IF(AV12=6,CC117,IF(AV13=6,CC118,IF(AV14=6,CC119,IF(AV15=6,CC120,BT145))))))))","v":"kit 2/3"},476.06207999999998,null,204.02304000000001,null,680.09,null,1336,null,"bonus a domicile :",null,null,0,"%",null,null,"bonus à domicile :",null,null,0,null,"%",null,"stratégie :",null,2,null,null,null,null,null,11,{"$f":"OFFSET(Feuil6!K3,0,'import advers'!$S$3)","v":0},null,{"$f":"CLEAN(SUBSTITUTE(HLOOKUP([2]Feuil1!CH15,[2]Feuil6!$A$3:$V$26,11,FALSE),\"Force\",\"\"))","v":"680"},{"$f":"CLEAN(SUBSTITUTE(HLOOKUP(Feuil1!CH15,Feuil6!$A$3:$V$26,11,FALSE),\"Force\",\"\"))","v":{"$error":"#N/A"}},{"$f":"CLEAN(SUBSTITUTE(HLOOKUP(Feuil1!CH15,Feuil6!$A$3:$V$26,13,FALSE),\"Habileté\",\"\"))","v":{"$error":"#N/A"}},{"$f":"CLEAN(SUBSTITUTE(HLOOKUP(Feuil1!CH15,Feuil6!$A$3:$V$26,15,FALSE),\"Vitesse\",\"\"))","v":{"$error":"#N/A"}},{"$f":"CLEAN(SUBSTITUTE(HLOOKUP(Feuil1!CH15,Feuil6!$A$3:$V$26,17,FALSE),\"Endurance\",\"\"))","v":{"$error":"#N/A"}},{"$f":"CLEAN(SUBSTITUTE(HLOOKUP(Feuil1!CH15,Feuil6!$A$3:$V$26,19,FALSE),\"Intelligence\",\"\"))","v":{"$error":"#N/A"}},{"$f":"VALUE(CLEAN(HLOOKUP(Feuil1!CH15,Feuil6!$A$3:$V$26,7,FALSE)))","v":{"$error":"#N/A"}},{"$error":"#N/A"}]
[null,null,"body pump",5,null,6,{"$f":"IF(Team!C99<>0,Team!C99,\"\")","v":"slovenie 6 "},{"$f":"IF($G16<>\"\",VLOOKUP(Team!X22,Team!$E$41:$F$300,2,FALSE),\"\")","v":438},{"$f":"IF($G16<>\"\",VLOOKUP(Team!Y22,Team!$E$41:$F$300,2,FALSE),\"\")","v":476},{"$f":"IF($G16<>\"\",VLOOKUP(Team!Z22,Team!$E$41:$F$300,2,FALSE),\"\")","v":442},{"$f":"IF($G16<>\"\",VLOOKUP(Team!AA22,Team!$E$41:$F$300,2,FALSE),\"\")","v":434},{"$f":"IF($G16<>\"\",VLOOKUP(Team!AB22,Team!$E$41:$F$300,2,FALSE),\"\")","v":380},{"$f":"IF($G16<>\"\",VALUE(VLOOKUP(Team!X22,Team!$E$41:$P$300,12,FALSE)),\"\")","v":1336},6.472E-2,null,"kit officiel :",1,"aprroximation kit :",null,null,null,null,0,null,null,"choix kit :",null,null,0,null,null,null,0,null,"grece 9 ",938.67637500000012,467.7401666666666,467.7401666666666,361.48349999999999,813.32294999999999,561.28819999999996,559.04279999999994,935.49750000000006,759.02914285714292,561.904,935.49750000000006,null,9,{"$f":"IF(ISNA(VLOOKUP(9,$AV$8:$AV$33,1,FALSE)),9,\"\")","v":""},6.4100000000000004E-2,null,7,{"$f":"IF(AV8=7,AI8,IF(AV9=7,AI9,IF(AV10=7,AI10,IF(AV11=7,AI11,IF(AV12=7,AI12,IF(AV13=7,AI13,IF(AV14=7,AI14,IF(AV15=7,AI15,BT76))))))))","v":"grece 7 "},{"$f":"IF(AV8=7,CE113,IF(AV9=7,CE114,IF(AV10=7,CE115,IF(AV11=7,CE116,IF(AV12=7,CE117,IF(AV13=7,CE118,IF(AV14=7,CE119,IF(AV15=7,CE120,BT146))))))))","v":"kit 2/3"},477.96451999999999,null,204.82756000000001,null,682.79,null,1496,null,"bonus capitaine :",null,null,14.92,"%",null,null,"bonus capitaine :",null,null,{"$f":"MAX(CQ5:CQ15)","v":{"$error":"#N/A"}},null,"%",null,null,null,null,null,"defensif",null,"a"]
[null,null,"stage montagne",3,null,7,{"$f":"IF(Team!C110<>0,Team!C110,\"\")","v":"grece 7 "},{"$f":"IF($G17<>\"\",VLOOKUP(Team!X23,Team!$E$41:$F$300,2,FALSE),\"\")","v":446},{"$f":"IF($G17<>\"\",VLOOKUP(Team!Y23,Team!$E$41:$F$300,2,FALSE),\"\")","v":459},{"$f":"IF($G17<>\"\",VLOOKUP(Team!Z23,Team!$E$41:$F$300,2,FALSE),\"\")","v":443},{"$f":"IF($G17<>\"\",VLOOKUP(Team!AA23,Team!$E$41:$F$300,2,FALSE),\"\")","v":443},{"$f":"IF($G17<>\"\",VLOOKUP(Team!AB23,Team!$E$41:$F$300,2,FALSE),\"\")","v":360},{"$f":"IF($G17<>\"\",VALUE(VLOOKUP(Team!X23,Team!$E$41:$P$300,12,FALSE)),\"\")","v":1496},6.5920000000000006E-2,null,null,null,null,null,null,null,null,null,null,null,null,null,null,null,null,null,null,0,null,"nigeria 8 ",911.42887500000006,574.9117,574.9117,397.20799999999997,893.70159999999998,684.44463999999994,681.70655999999997,1140.7619999999999,759.51570000000015,652.72899999999993,1140.7619999999999,null,10,{"$f":"IF(ISNA(VLOOKUP(10,$AV$8:$AV$33,1,FALSE)),10,\"\")","v":""},7.6759999999999995E-2,null,8,{"$f":"IF(AV8=8,AI8,IF(AV9=8,AI9,IF(AV10=8,AI10,IF(AV11=8,AI11,IF(AV12=8,AI12,IF(AV13=8,AI13,IF(AV14=8,AI14,IF(AV15=8,AI15,BT77))))))))","v":"australie 11 "},{"$f":"IF(AV8=8,CG113,IF(AV9=8,CG114,IF(AV10=8,CG115,IF(AV11=8,CG116,IF(AV12=8,CG117,IF(AV13=8,CG118,IF(AV14=8,CG119,IF(AV15=8,CG120,BT147))))))))","v":"kit 8"},1054.489,null,117.15350000000001,null,1171.6400000000001,null,1227,null,"bonus de meteo :",null,null,5,"%",null,null,"bonus de météo :",null,null,5,null,"%",null,"tactique :",null,"b",null,"neutre",null,"b",null,null,"total XP :",null,{"$f":"IF(CP5<>\"\",SUM(CP5:CP15),\"\")","v":{"$error":"#N/A"}},null,null,"XP moyenne :",null,null,{"$f":"IF(CP5<>\"\",CJ17/11,\"\")","v":{"$error":"#N/A"}}]
[null,null,null,null,null,8,{"$f":"IF(Team!C121<>0,Team!C121,\"\")","v":"australie 11 "},{"$f":"IF($G18<>\"\",VLOOKUP(Team!X24,Team!$E$41:$F$300,2,FALSE),\"\")","v":394},{"$f":"IF($G18<>\"\",VLOOKUP(Team!Y24,Team!$E$41:$F$300,2,FALSE),\"\")","v":447},{"$f":"IF($G18<>\"\",VLOOKUP(Team!Z24,Team!$E$41:$F$300,2,FALSE),\"\")","v":501},{"$f":"IF($G18<>\"\",VLOOKUP(Team!AA24,Team!$E$41:$F$300,2,FALSE),\"\")","v":460},{"$f":"IF($G18<>\"\",VLOOKUP(Team!AB24,Team!$E$41:$F$300,2,FALSE),\"\")","v":317},{"$f":"IF($G18<>\"\",VALUE(VLOOKUP(Team!X24,Team!$E$41:$P$300,12,FALSE)),\"\")","v":1227},5.6240000000000005E-2,"approximation  kit",null,{"$f":"Q9","v":"kit 1"},"kit 2/3",0,"kit 4",0,"kit 5","kit 6/7",0,0,"kit 8","kit 9",0,"kit 10","kit 11",null,null,0,null,"slovaquie 8 ",942.76350000000002,587.6269666666667,587.6269666666667,361.48349999999999,813.32294999999999,650.6583599999999,624.17399999999986,1151.6610000000001,759.02914285714292,561.904,1151.6610000000001,null,11,{"$f":"IF(ISNA(VLOOKUP(11,$AV$8:$AV$33,1,FALSE)),11,\"\")","v":""},7.0220000000000005E-2,null,9,{"$f":"IF(AV8=9,AI8,IF(AV9=9,AI9,IF(AV10=9,AI10,IF(AV11=9,AI11,IF(AV12=9,AI12,IF(AV13=9,AI13,IF(AV14=9,AI14,IF(AV15=9,AI15,BT78))))))))","v":"grece 9 "},{"$f":"IF(AV8=9,CI113,IF(AV9=9,CI114,IF(AV10=9,CI115,IF(AV11=9,CI116,IF(AV12=9,CI117,IF(AV13=9,CI118,IF(AV14=9,CI119,IF(AV15=9,CI120,BT148))))))))","v":"kit 6/7"},683.12957142857147,null,75.899571428571434,null,759.03,null,920,null,"bonus d'agressivité :",null,null,0,"%",null,null,"bonus d'agressivité :",null,null,0,null,"%",null,null,null,null,null,"offensif",null,"c"]
[null,null,"vitamines :",54,null,9,{"$f":"IF(Team!C132<>0,Team!C132,\"\")","v":"grece 9 "},{"$f":"IF($G19<>\"\",VLOOKUP(Team!X25,Team!$E$41:$F$300,2,FALSE),\"\")","v":388},{"$f":"IF($G19<>\"\",VLOOKUP(Team!Y25,Team!$E$41:$F$300,2,FALSE),\"\")","v":473},{"$f":"IF($G19<>\"\",VLOOKUP(Team!Z25,Team!$E$41:$F$300,2,FALSE),\"\")","v":443},{"$f":"IF($G19<>\"\",VLOOKUP(Team!AA25,Team!$E$41:$F$300,2,FALSE),\"\")","v":325},{"$f":"IF($G19<>\"\",VLOOKUP(Team!AB25,Team!$E$41:$F$300,2,FALSE),\"\")","v":284},{"$f":"IF($G19<>\"\",VALUE(VLOOKUP(Team!X25,Team!$E$41:$P$300,12,FALSE)),\"\")","v":920},4.6799999999999994E-2,null,{"$f":"P10","v":"force"},{"$f":"ROUND(Q45*Q51,0)","v":41},69,0,73,0,70,61,0,61,56,61,0,46,51,null,null,0,null,"afrique du sud 4 ",607.61925000000008,495.8954,495.8954,396.72360000000003,773.81479999999999,585.81049999999993,484.14192000000003,810.15899999999999,506.3438000000001,462.94800000000004,810.15899999999999,null,12,{"$f":"IF(ISNA(VLOOKUP(12,$AV$8:$AV$33,1,FALSE)),12,\"\")","v":""},4.9680000000000002E-2,null,10,{"$f":"IF(AV8=10,AI8,IF(AV9=10,AI9,IF(AV10=10,AI10,IF(AV11=10,AI11,IF(AV12=10,AI12,IF(AV13=10,AI13,IF(AV14=10,AI14,IF(AV15=10,AI15,BT79))))))))","v":"nigeria 8 "},{"$f":"IF(AV8=10,CK113,IF(AV9=10,CK114,IF(AV10=10,CK115,IF(AV11=10,CK116,IF(AV12=10,CK117,IF(AV13=10,CK118,IF(AV14=10,CK119,IF(AV15=10,CK120,BT149))))))))","v":"kit 10"},587.45609999999999,null,65.272899999999993,null,652.73,null,1143,null,"Bonus stratégie :",null,null,0,"%",null,null,"bonus stratégie :",null,null,0,null,"%",null,null,null,null,null,null,null,null,null,null,"bonus d'experience :"]
[null,null,null,null,null,10,{"$f":"IF(Team!C143<>0,Team!C143,\"\")","v":"nigeria 8 "},{"$f":"IF($G20<>\"\",VLOOKUP(Team!X26,Team!$E$41:$F$300,2,FALSE),\"\")","v":447},{"$f":"IF($G20<>\"\",VLOOKUP(Team!Y26,Team!$E$41:$F$300,2,FALSE),\"\")","v":453},{"$f":"IF($G20<>\"\",VLOOKUP(Team!Z26,Team!$E$41:$F$300,2,FALSE),\"\")","v":436},{"$f":"IF($G20<>\"\",VLOOKUP(Team!AA26,Team!$E$41:$F$300,2,FALSE),\"\")","v":443},{"$f":"IF($G20<>\"\",VLOOKUP(Team!AB26,Team!$E$41:$F$300,2,FALSE),\"\")","v":359},{"$f":"IF($G20<>\"\",VALUE(VLOOKUP(Team!X26,Team!$E$41:$P$300,12,FALSE)),\"\")","v":1143},5.8759999999999993E-2,null,{"$f":"P11","v":"habilité"},{"$f":"ROUND(Q46*Q52,0)","v":80},52,0,45,0,56,61,0,61,64,68,0,68,64,null,null,0,null,"allemagne 11 ",876.00712500000009,580.36109999999996,580.36109999999996,371.17150000000004,835.12054999999998,668.09643999999992,662.16719999999998,1138.9455,729.99790000000007,627.298,1138.9455,null,13,{"$f":"IF(ISNA(VLOOKUP(13,$AV$8:$AV$33,1,FALSE)),13,\"\")","v":""},6.1820000000000007E-2,null,11,{"$f":"IF(AV8=11,AI8,IF(AV9=11,AI9,IF(AV10=11,AI10,IF(AV11=11,AI11,IF(AV12=11,AI12,IF(AV13=11,AI13,IF(AV14=11,AI14,IF(AV15=11,AI15,BT80))))))))","v":"slovaquie 8 "},{"$f":"IF(AV8=11,CM113,IF(AV9=11,CM114,IF(AV10=11,CM115,IF(AV11=11,CM116,IF(AV12=11,CM117,IF(AV13=11,CM118,IF(AV14=11,CM119,IF(AV15=11,CM120,BT150))))))))","v":"kit 4"},1036.5054666666667,null,115.15553333333334,null,1151.6600000000001,null,1266,null,null,null,null,null,null,null,null,null,null,null,null,null,null,null,null,null,null,null,null,null,null,null,null,{"$f":"IF(CP5<>\"\",IF(ABS(CK41)<=0.01,\"les équipes ont\",IF(CK41>0,\"Votre équipe à\",\"L'équipe adverse à\")),\"\")","v":{"$error":"#N/A"}},null,null,null,{"$f":"CM41","v":{"$error":"#N/A"}},{"$f":"IF(CH20<>\"\",\"de bonus\",\"\")","v":{"$error":"#N/A"}}]
[null,null,"objets :",48,null,11,{"$f":"IF(Team!C154<>0,Team!C154,\"\")","v":"slovaquie 8 "},{"$f":"IF($G21<>\"\",VLOOKUP(Team!X27,Team!$E$41:$F$300,2,FALSE),\"\")","v":388},{"$f":"IF($G21<>\"\",VLOOKUP(Team!Y27,Team!$E$41:$F$300,2,FALSE),\"\")","v":476},{"$f":"IF($G21<>\"\",VLOOKUP(Team!Z27,Team!$E$41:$F$300,2,FALSE),\"\")","v":435},{"$f":"IF($G21<>\"\",VLOOKUP(Team!AA27,Team!$E$41:$F$300,2,FALSE),\"\")","v":457},{"$f":"IF($G21<>\"\",VLOOKUP(Team!AB27,Team!$E$41:$F$300,2,FALSE),\"\")","v":284},{"$f":"IF($G21<>\"\",VALUE(VLOOKUP(Team!X27,Team!$E$41:$P$300,12,FALSE)),\"\")","v":1266},5.3719999999999997E-2,null,{"$f":"P12","v":"vitesse"},{"$f":"ROUND(Q47*Q53,0)","v":41},60,0,73,0,56,61,0,61,64,68,0,53,71,null,null,0,null,"chili 11 ",856.93387500000006,552.20586666666668,552.20586666666668,323.33699999999999,727.49490000000003,581.99592000000007,579.66768000000002,1095.3495,686.8565000000001,542.52800000000002,1095.3495,null,14,{"$f":"IF(ISNA(VLOOKUP(14,$AV$8:$AV$33,1,FALSE)),14,\"\")","v":""},4.7279999999999996E-2,null,null,null,null,null,null,null,null,null,null,null,null,null,null,null,"attaque",null,"défense",null,"cumulé"]
[null,null,null,null,null,null,{"$f":"IF(Team!C165<>0,Team!C165,\"\")","v":"afrique du sud 4 "},{"$f":"IF($G22<>\"\",VLOOKUP(Team!X28,Team!$E$41:$F$300,2,FALSE),\"\")","v":457},{"$f":"IF($G22<>\"\",VLOOKUP(Team!Y28,Team!$E$41:$F$300,2,FALSE),\"\")","v":230},{"$f":"IF($G22<>\"\",VLOOKUP(Team!Z28,Team!$E$41:$F$300,2,FALSE),\"\")","v":454},{"$f":"IF($G22<>\"\",VLOOKUP(Team!AA28,Team!$E$41:$F$300,2,FALSE),\"\")","v":356},{"$f":"IF($G22<>\"\",VLOOKUP(Team!AB28,Team!$E$41:$F$300,2,FALSE),\"\")","v":246},{"$f":"IF($G22<>\"\",VALUE(VLOOKUP(Team!X28,Team!$E$41:$P$300,12,FALSE)),\"\")","v":1254},4.9680000000000002E-2,null,{"$f":"P13","v":"endurance"},{"$f":"ROUND(Q48*Q54,0)","v":25},69,0,64,0,56,61,0,61,64,56,0,60,64,null,null,0,null,"corée du sud 3 ",687.9993750000001,562.19643333333329,562.19643333333329,388.73099999999999,828.30880000000002,597.25423999999998,548.18759999999997,917.3325000000001,573.32650000000012,524.18999999999994,917.3325000000001,null,15,{"$f":"IF(ISNA(VLOOKUP(15,$AV$8:$AV$33,1,FALSE)),15,\"\")","v":""},4.5579999999999996E-2,null,null,"total XP du 11",null,null,{"$f":"SUM(BI10:BI20)","v":13553},null,null,"XP moyenne :",null,{"$f":"BD22/11","v":1232.090909090909},null,{"$f":"IF(BS6<>\"\",BS6,\"\")","v":"scapulaire"},null,null,{"$f":"ROUND(BU11*(100+BU13)/100*(BU14+100)/100*(100+BU15)/100*(100+BU16)/100*(BU17+100)/100*(100+BU18)/100*(100+BU19)/100,2)","v":{"$error":"#N/A"}},null,{"$f":"ROUND(BW11*(100+BU13)/100*(BU14+100)/100*(100+BU15)/100*(100+BU16)/100*(BU17+100)/100*(100+BU18)/100*(100+BU19)/100,2)","v":{"$error":"#N/A"}},null,{"$f":"BN22+BP22","v":{"$error":"#N/A"}},null,null,{"$f":"BK22","v":"scapulaire"}]
["3) Entrer les stats des joueurs à comparer.",null,null,null,null,null,{"$f":"IF(Team!C176<>0,Team!C176,\"\")","v":"allemagne 11 "},{"$f":"IF($G23<>\"\",VLOOKUP(Team!X29,Team!$E$41:$F$300,2,FALSE),\"\")","v":404},{"$f":"IF($G23<>\"\",VLOOKUP(Team!Y29,Team!$E$41:$F$300,2,FALSE),\"\")","v":427},{"$f":"IF($G23<>\"\",VLOOKUP(Team!Z29,Team!$E$41:$F$300,2,FALSE),\"\")","v":447},{"$f":"IF($G23<>\"\",VLOOKUP(Team!AA29,Team!$E$41:$F$300,2,FALSE),\"\")","v":449},{"$f":"IF($G23<>\"\",VLOOKUP(Team!AB29,Team!$E$41:$F$300,2,FALSE),\"\")","v":338},{"$f":"IF($G23<>\"\",VALUE(VLOOKUP(Team!X29,Team!$E$41:$P$300,12,FALSE)),\"\")","v":1401},{"$f":"G116","v":6.1820000000000007E-2},null,{"$f":"P14","v":"intelligence"},{"$f":"ROUND(Q49*Q55,0)","v":56},52,0,45,0,56,53,0,53,48,49,0,60,44,null,null,0,null,"france 11 ",862.38337500000011,574.9117,574.9117,345.7405,777.90184999999997,622.32147999999995,619.83191999999997,1128.0464999999999,705.02130000000011,578.85799999999995,1128.0464999999999,null,16,{"$f":"IF(ISNA(VLOOKUP(16,$AV$8:$AV$33,1,FALSE)),16,\"\")","v":""},4.5319999999999999E-2,null,null,null,null,null,null,null,null,null,null,null,null,"mon équipe",null,null,{"$f":"BC26","v":{"$error":"#N/A"}},null,{"$f":"BE26","v":{"$error":"#N/A"}},null,{"$f":"BG26","v":{"$error":"#N/A"}},null,null,541,null,null,null,null,null,433,null,null,null,null,null,352,null,null,null,null,null,442]
[null,null,null,null,null,null,{"$f":"IF(Team!C187<>0,Team!C187,\"\")","v":"chili 11 "},{"$f":"IF($G24<>\"\",VLOOKUP(Team!X30,Team!$E$41:$F$300,2,FALSE),\"\")","v":325},{"$f":"IF($G24<>\"\",VLOOKUP(Team!Y30,Team!$E$41:$F$300,2,FALSE),\"\")","v":413},{"$f":"IF($G24<>\"\",VLOOKUP(Team!Z30,Team!$E$41:$F$300,2,FALSE),\"\")","v":441},{"$f":"IF($G24<>\"\",VLOOKUP(Team!AA30,Team!$E$41:$F$300,2,FALSE),\"\")","v":418},{"$f":"IF($G24<>\"\",VLOOKUP(Team!AB30,Team!$E$41:$F$300,2,FALSE),\"\")","v":268},{"$f":"IF($G24<>\"\",VALUE(VLOOKUP(Team!X30,Team!$E$41:$P$300,12,FALSE)),\"\")","v":1024},4.7279999999999996E-2,null,null,null,null,null,null,null,null,null,null,null,null,null,null,null,null,null,null,0,null,"france 2 ",713.88450000000012,588.53520000000003,588.53520000000003,409.31800000000004,884.16514999999993,646.29883999999993,568.81248000000005,951.846,594.89720000000011,543.91200000000003,951.846,null,17,{"$f":"IF(ISNA(VLOOKUP(17,$AV$8:$AV$33,1,FALSE)),17,\"\")","v":""},5.4480000000000001E-2,null,null,"sans bonus match",null,{"$f":"ROUND(SUM(BC10:BD20),2)","v":6078.31},null,{"$f":"ROUND(SUM(BE10:BF20),2)","v":2576.3000000000002},null,{"$f":"BC24+BE24","v":8654.61},null,null,null,null,null,null,null,null,null,null,null,null,null,"defensif",null,"neutre",null,"offensif",null,"defensif",null,"neutre",null,"offensif",null,"defensif",null,"neutre",null,"offensif",null,"defensif",null,"neutre",null,"offensif"]
[null,null,null,null,{"$f":"VLOOKUP(AH4,B26:C29,2,FALSE)","v":"B"},null,{"$f":"IF(Team!C198<>0,Team!C198,\"\")","v":"corée du sud 3 "},{"$f":"IF($G25<>\"\",VLOOKUP(Team!X31,Team!$E$41:$F$300,2,FALSE),\"\")","v":433},{"$f":"IF($G25<>\"\",VLOOKUP(Team!Y31,Team!$E$41:$F$300,2,FALSE),\"\")","v":289},{"$f":"IF($G25<>\"\",VLOOKUP(Team!Z31,Team!$E$41:$F$300,2,FALSE),\"\")","v":349},{"$f":"IF($G25<>\"\",VLOOKUP(Team!AA31,Team!$E$41:$F$300,2,FALSE),\"\")","v":429},{"$f":"IF($G25<>\"\",VLOOKUP(Team!AB31,Team!$E$41:$F$300,2,FALSE),\"\")","v":276},{"$f":"IF($G25<>\"\",VALUE(VLOOKUP(Team!X31,Team!$E$41:$P$300,12,FALSE)),\"\")","v":899},4.5579999999999996E-2,"caracteristiques kit officiel",null,{"$f":"Q9","v":"kit 1"},"kit 2/3",0,"kit 4",0,"kit 5","kit 6/7",0,0,"kit 8","kit 9",0,"kit 10","kit 11",null,null,0,null,{"$f":"IF(G28=\"\",\"\",G28)","v":"italie 7 "},895.08037500000012,556.74703333333332,556.74703333333332,383.28149999999999,862.36754999999994,668.09643999999992,665.42376000000002,1113.5145000000002,745.89210000000014,640.61900000000003,1113.5145000000002,null,18,{"$f":"IF(ISNA(VLOOKUP(18,$AV$8:$AV$33,1,FALSE)),18,\"\")","v":""},5.954000000000001E-2,null,null,null,null,null,null,null,null,null,null,null,null,null,null,null,null,null,null,null,"Mon équipe",541,"def",{"$f":"CT117","v":{"$error":"#N/A"}},null,{"$f":"CX117","v":{"$error":"#N/A"}},null,{"$f":"DB117","v":{"$error":"#N/A"}},null,{"$f":"DF117","v":{"$error":"#N/A"}},null,{"$f":"DJ117","v":{"$error":"#N/A"}},null,{"$f":"DN117","v":{"$error":"#N/A"}},null,{"$f":"DR117","v":{"$error":"#N/A"}},null,{"$f":"DV117","v":{"$error":"#N/A"}},null,{"$f":"DZ117","v":{"$error":"#N/A"}},null,{"$f":"ED117","v":{"$error":"#N/A"}},null,{"$f":"EH117","v":{"$error":"#N/A"}},null,{"$f":"EL117","v":{"$error":"#N/A"}}]
[null,541,"A",541,{"$f":"VLOOKUP(AH5,B31:C33,2,FALSE)","v":"o"},null,{"$f":"IF(Team!C209<>0,Team!C209,\"\")","v":"france 11 "},{"$f":"IF($G26<>\"\",VLOOKUP(Team!X32,Team!$E$41:$F$300,2,FALSE),\"\")","v":362},{"$f":"IF($G26<>\"\",VLOOKUP(Team!Y32,Team!$E$41:$F$300,2,FALSE),\"\")","v":417},{"$f":"IF($G26<>\"\",VLOOKUP(Team!Z32,Team!$E$41:$F$300,2,FALSE),\"\")","v":454},{"$f":"IF($G26<>\"\",VLOOKUP(Team!AA32,Team!$E$41:$F$300,2,FALSE),\"\")","v":443},{"$f":"IF($G26<>\"\",VLOOKUP(Team!AB32,Team!$E$41:$F$300,2,FALSE),\"\")","v":298},{"$f":"IF($G26<>\"\",VALUE(VLOOKUP(Team!X32,Team!$E$41:$P$300,12,FALSE)),\"\")","v":776},4.5319999999999999E-2,null,{"$f":"P19","v":"force"},null,null,null,null,null,null,null,null,null,null,null,null,null,null,null,null,0,null,{"$f":"IF(G29=\"\",\"\",G29)","v":"japon 5 "},753.39337500000011,462.29076666666668,462.29076666666668,369.83940000000001,886.88985000000002,554.74892,552.52967999999998,924.59850000000017,627.82090000000017,563.11500000000001,924.59850000000017,null,19,{"$f":"IF(ISNA(VLOOKUP(19,$AV$8:$AV$33,1,FALSE)),19,\"\")","v":""},6.1040000000000004E-2,null,null,"avec bonus match",null,{"$f":"ROUND(BC24*(100+BN13)/100*(100+BN14)/100*(100+BN15)/100*(100+BN16)/100*(BN17+100)/100*(100+BN18)/100*(100+BN19)/100,2)","v":{"$error":"#N/A"}},null,{"$f":"ROUND(BE24*(100+BN13)/100*(BN14+100)/100*(100+BN15)/100*(100+BN16)/100*(BN17+100)/100*(100+BN18)/100*(100+BN19)/100,2)","v":{"$error":"#N/A"}},null,{"$f":"BC26+BE26","v":{"$error":"#N/A"}},null,null,null,"10) Enjoy !! ",null,null,null,null,null,null,null,null,"neutre",{"$error":"#N/A"},null,{"$error":"#N/A"},null,{"$error":"#N/A"},null,{"$error":"#N/A"},null,{"$error":"#N/A"},null,{"$error":"#N/A"},null,{"$error":"#N/A"},null,{"$error":"#N/A"},null,{"$error":"#N/A"},null,{"$error":"#N/A"},null,{"$error":"#N/A"},null,{"$error":"#N/A"}]
[null,433,"B",433,null,null,{"$f":"IF(Team!C220<>0,Team!C220,\"\")","v":"france 2 "},{"$f":"IF($G27<>\"\",VLOOKUP(Team!X33,Team!$E$41:$F$300,2,FALSE),\"\")","v":467},{"$f":"IF($G27<>\"\",VLOOKUP(Team!Y33,Team!$E$41:$F$300,2,FALSE),\"\")","v":308},{"$f":"IF($G27<>\"\",VLOOKUP(Team!Z33,Team!$E$41:$F$300,2,FALSE),\"\")","v":394},{"$f":"IF($G27<>\"\",VLOOKUP(Team!AA33,Team!$E$41:$F$300,2,FALSE),\"\")","v":458},{"$f":"IF($G27<>\"\",VLOOKUP(Team!AB33,Team!$E$41:$F$300,2,FALSE),\"\")","v":308},{"$f":"IF($G27<>\"\",VALUE(VLOOKUP(Team!X33,Team!$E$41:$P$300,12,FALSE)),\"\")","v":1184},5.4480000000000001E-2,null,{"$f":"P20","v":"habilité"},null,null,null,null,null,null,null,null,null,null,null,null,null,null,null,null,0,null,{"$f":"IF(G30=\"\",\"\",G30)","v":"nigeria 4 "},602.16975000000002,476.82249999999999,476.82249999999999,381.46499999999997,717.50433333333331,566.73759999999993,479.79984000000002,802.89300000000014,501.8026000000001,458.79600000000005,802.89300000000014,null,20,{"$f":"IF(ISNA(VLOOKUP(20,$AV$8:$AV$33,1,FALSE)),20,\"\")","v":""},4.1860000000000001E-2,null,null,null,null,null,null,null,null,null,null,null,null,null,null,null,null,null,null,null,null,null,"off",{"$error":"#N/A"},null,{"$error":"#N/A"},null,{"$error":"#N/A"},null,{"$error":"#N/A"},null,{"$error":"#N/A"},null,{"$error":"#N/A"},null,{"$error":"#N/A"},null,{"$error":"#N/A"},null,{"$error":"#N/A"},null,{"$error":"#N/A"},null,{"$error":"#N/A"},null,{"$error":"#N/A"}]
[null,352,"C",352,null,null,{"$f":"IF(Team!C231<>0,Team!C231,\"\")","v":"italie 7 "},{"$f":"IF($G28<>\"\",VLOOKUP(Team!X34,Team!$E$41:$F$300,2,FALSE),\"\")","v":424},{"$f":"IF($G28<>\"\",VLOOKUP(Team!Y34,Team!$E$41:$F$300,2,FALSE),\"\")","v":441},{"$f":"IF($G28<>\"\",VLOOKUP(Team!Z34,Team!$E$41:$F$300,2,FALSE),\"\")","v":443},{"$f":"IF($G28<>\"\",VLOOKUP(Team!AA34,Team!$E$41:$F$300,2,FALSE),\"\")","v":423},{"$f":"IF($G28<>\"\",VLOOKUP(Team!AB34,Team!$E$41:$F$300,2,FALSE),\"\")","v":349},{"$f":"IF($G28<>\"\",VALUE(VLOOKUP(Team!X34,Team!$E$41:$P$300,12,FALSE)),\"\")","v":1232},5.954000000000001E-2,null,{"$f":"P21","v":"vitesse"},null,null,null,null,null,null,null,null,null,null,null,null,null,null,null,null,0,null,{"$f":"IF(G31=\"\",\"\",G31)","v":"slovaquie 7 "},794.26462500000002,475.91426666666661,475.91426666666661,345.13499999999999,776.53949999999998,565.64771999999994,563.38487999999995,942.76350000000002,661.87990000000013,563.11500000000001,942.76350000000002,null,21,{"$f":"IF(ISNA(VLOOKUP(21,$AV$8:$AV$33,1,FALSE)),21,\"\")","v":""},2.8500000000000001E-2,null,null,null,null,null,null,null,null,null,null,null,null,null,null,null,null,null,null,null,null,433,"def",{"$error":"#N/A"},null,{"$error":"#N/A"},null,{"$error":"#N/A"},null,{"$error":"#N/A"},null,{"$error":"#N/A"},null,{"$error":"#N/A"},null,{"$error":"#N/A"},null,{"$error":"#N/A"},null,{"$error":"#N/A"},null,{"$error":"#N/A"},null,{"$error":"#N/A"},null,{"$error":"#N/A"}]
[null,442,"D",442,null,null,{"$f":"IF(Team!C242<>0,Team!C242,\"\")","v":"japon 5 "},{"$f":"IF($G29<>\"\",VLOOKUP(Team!X35,Team!$E$41:$F$300,2,FALSE),\"\")","v":442},{"$f":"IF($G29<>\"\",VLOOKUP(Team!Y35,Team!$E$41:$F$300,2,FALSE),\"\")","v":337},{"$f":"IF($G29<>\"\",VLOOKUP(Team!Z35,Team!$E$41:$F$300,2,FALSE),\"\")","v":345},{"$f":"IF($G29<>\"\",VLOOKUP(Team!AA35,Team!$E$41:$F$300,2,FALSE),\"\")","v":319},{"$f":"IF($G29<>\"\",VLOOKUP(Team!AB35,Team!$E$41:$F$300,2,FALSE),\"\")","v":341},{"$f":"IF($G29<>\"\",VALUE(VLOOKUP(Team!X35,Team!$E$41:$P$300,12,FALSE)),\"\")","v":1347},6.1040000000000004E-2,null,{"$f":"P22","v":"endurance"},null,null,null,null,null,null,null,null,null,null,null,null,null,null,null,null,0,null,{"$f":"IF(G32=\"\",\"\",G32)","v":"slovaquie 7 bis "},878.73187500000006,572.18700000000001,572.18700000000001,389.94200000000001,873.26634999999999,671.36608000000001,655.65408000000002,1115.3310000000001,732.26850000000013,594.60100000000011,1115.3310000000001,null,22,{"$f":"IF(ISNA(VLOOKUP(22,$AV$8:$AV$33,1,FALSE)),22,\"\")","v":""},4.7919999999999997E-2,null,null,null,null,null,null,null,null,"La colonne Kit donne le meilleur kit pour ce joueur a cette position",null,null,null,null,null,null,null,null,null,null,null,null,"neutre",{"$error":"#N/A"},null,{"$error":"#N/A"},null,{"$error":"#N/A"},null,{"$error":"#N/A"},null,{"$error":"#N/A"},null,{"$error":"#N/A"},null,{"$error":"#N/A"},null,{"$error":"#N/A"},null,{"$error":"#N/A"},null,{"$error":"#N/A"},null,{"$error":"#N/A"},null,{"$error":"#N/A"}]
[null,null,null,null,null,null,{"$f":"IF(Team!C253<>0,Team!C253,\"\")","v":"nigeria 4 "},{"$f":"IF($G30<>\"\",VLOOKUP(Team!X36,Team!$E$41:$F$300,2,FALSE),\"\")","v":425},{"$f":"IF($G30<>\"\",VLOOKUP(Team!Y36,Team!$E$41:$F$300,2,FALSE),\"\")","v":226},{"$f":"IF($G30<>\"\",VLOOKUP(Team!Z36,Team!$E$41:$F$300,2,FALSE),\"\")","v":426},{"$f":"IF($G30<>\"\",VLOOKUP(Team!AA36,Team!$E$41:$F$300,2,FALSE),\"\")","v":335},{"$f":"IF($G30<>\"\",VLOOKUP(Team!AB36,Team!$E$41:$F$300,2,FALSE),\"\")","v":215},{"$f":"IF($G30<>\"\",VALUE(VLOOKUP(Team!X36,Team!$E$41:$P$300,12,FALSE)),\"\")","v":1018},4.1860000000000001E-2,null,{"$f":"P23","v":"intelligence"},null,null,null,null,null,null,null,null,null,null,null,null,null,null,null,null,null,null,null,null,null,null,null,null,null,null,null,null,null,null,null,null,{"$f":"IF(ISNA(VLOOKUP(23,$AV$8:$AV$33,1,FALSE)),23,\"\")","v":""},null,null,null,null,null,null,null,null,null,null,null,null,null,null,null,null,null,null,null,null,null,null,"off",{"$error":"#N/A"},null,{"$error":"#N/A"},null,{"$error":"#N/A"},null,{"$error":"#N/A"},null,{"$error":"#N/A"},null,{"$error":"#N/A"},null,{"$error":"#N/A"},null,{"$error":"#N/A"},null,{"$error":"#N/A"},null,{"$error":"#N/A"},null,{"$error":"#N/A"},null,{"$error":"#N/A"}]
[null,"Defensif","d","defensif",null,null,{"$f":"IF(Team!C264<>0,Team!C264,\"\")","v":"slovaquie 7 "},{"$f":"IF($G31<>\"\",VLOOKUP(Team!X37,Team!$E$41:$F$300,2,FALSE),\"\")","v":361},{"$f":"IF($G31<>\"\",VLOOKUP(Team!Y37,Team!$E$41:$F$300,2,FALSE),\"\")","v":367},{"$f":"IF($G31<>\"\",VLOOKUP(Team!Z37,Team!$E$41:$F$300,2,FALSE),\"\")","v":331},{"$f":"IF($G31<>\"\",VLOOKUP(Team!AA37,Team!$E$41:$F$300,2,FALSE),\"\")","v":334},{"$f":"IF($G31<>\"\",VLOOKUP(Team!AB37,Team!$E$41:$F$300,2,FALSE),\"\")","v":285},{"$f":"IF($G31<>\"\",VALUE(VLOOKUP(Team!X37,Team!$E$41:$P$300,12,FALSE)),\"\")","v":0},2.8500000000000001E-2,null,null,null,null,null,null,null,null,null,null,null,null,null,null,null,null,null,null,null,null,{"$f":"IF(G34=\"\",\"\",G34)","v":""},{"$f":"IF(AI31<>\"\",AY78*IF($AX$37=1,$BW$58,1),\"\")","v":""},{"$f":"IF(AI31<>\"\",BP78*IF($AX$37=1,$BW$59,1),\"\")","v":""},{"$f":"IF(AI31<>\"\",AY105*IF($AX$37=1,$BW$60,1),\"\")","v":""},{"$f":"IF(AI31<>\"\",BP105*IF($AX$37=1,$BW$61,1),\"\")","v":""},{"$f":"IF(AI31<>\"\",AY132*IF($AX$37=1,$BW$62,1),\"\")","v":""},{"$f":"IF(AI31<>\"\",BP132*IF($AX$37=1,$BW$63,1),\"\")","v":""},{"$f":"IF(AI31<>\"\",AY159*IF($AX$37=1,$BW$64,1),\"\")","v":""},{"$f":"IF(AI31<>\"\",BP159*IF($AX$37=1,$BW$65,1),\"\")","v":""},{"$f":"IF(AI31<>\"\",AY186*IF($AX$37=1,$BW$66,1),\"\")","v":""},{"$f":"IF(AI31<>\"\",BP186*IF($AX$37=1,$BW$67,1),\"\")","v":""},{"$f":"IF(AI31<>\"\",AY213*IF($AX$37=1,$BW$68,1),\"\")","v":""},null,23,{"$f":"IF(ISNA(VLOOKUP(24,$AV$8:$AV$33,1,FALSE)),24,\"\")","v":24},"",null,null,null,null,null,null,null,null,null,null,null,null,null,null,null,null,null,null,null,null,352,"def",{"$error":"#N/A"},null,{"$error":"#N/A"},null,{"$error":"#N/A"},null,{"$error":"#N/A"},null,{"$error":"#N/A"},null,{"$error":"#N/A"},null,{"$error":"#N/A"},null,{"$error":"#N/A"},null,{"$error":"#N/A"},null,{"$error":"#N/A"},null,{"$error":"#N/A"},null,{"$error":"#N/A"}]
[null,"Neutre","n","neutre",null,null,{"$f":"IF(Team!C275<>0,Team!C275,\"\")","v":"slovaquie 7 bis "},{"$f":"IF($G32<>\"\",VLOOKUP(Team!X38,Team!$E$41:$F$300,2,FALSE),\"\")","v":435},{"$f":"IF($G32<>\"\",VLOOKUP(Team!Y38,Team!$E$41:$F$300,2,FALSE),\"\")","v":429},{"$f":"IF($G32<>\"\",VLOOKUP(Team!Z38,Team!$E$41:$F$300,2,FALSE),\"\")","v":417},{"$f":"IF($G32<>\"\",VLOOKUP(Team!AA38,Team!$E$41:$F$300,2,FALSE),\"\")","v":440},{"$f":"IF($G32<>\"\",VLOOKUP(Team!AB38,Team!$E$41:$F$300,2,FALSE),\"\")","v":311},{"$f":"IF($G32<>\"\",VALUE(VLOOKUP(Team!X38,Team!$E$41:$P$300,12,FALSE)),\"\")","v":841},4.7919999999999997E-2,null,null,"6) Choisir si le joueur ou la position a une vitamine.",null,null,null,null,null,null,null,null,null,null,null,null,null,null,null,null,null,{"$f":"IF(G35=\"\",\"\",G35)","v":""},{"$f":"IF(AI32<>\"\",AY75*IF($AX$37=1,$BW$58,1),\"\")","v":""},{"$f":"IF(AI32<>\"\",BP75*IF($AX$37=1,$BW$59,1),\"\")","v":""},{"$f":"IF(AI32<>\"\",AY102*IF($AX$37=1,$BW$60,1),\"\")","v":""},{"$f":"IF(AI32<>\"\",BP102*IF($AX$37=1,$BW$61,1),\"\")","v":""},{"$f":"IF(AI32<>\"\",AY129*IF($AX$37=1,$BW$62,1),\"\")","v":""},{"$f":"IF(AI32<>\"\",BP129*IF($AX$37=1,$BW$63,1),\"\")","v":""},{"$f":"IF(AI32<>\"\",AY156*IF($AX$37=1,$BW$64,1),\"\")","v":""},{"$f":"IF(AI32<>\"\",BP156*IF($AX$37=1,$BW$65,1),\"\")","v":""},{"$f":"IF(AI32<>\"\",AY183*IF($AX$37=1,$BW$66,1),\"\")","v":""},{"$f":"IF(AI32<>\"\",BP183*IF($AX$37=1,$BW$67,1),\"\")","v":""},{"$f":"IF(AI32<>\"\",AY210*IF($AX$37=1,$BW$68,1),\"\")","v":""},null,null,{"$f":"IF(ISNA(VLOOKUP(25,$AV$8:$AV$33,1,FALSE)),25,\"\")","v":25},"",null,null,"8) Choisir entre pourcentage poste ou valeur brute.",null,null,null,null,null,null,null,null,null,null,null,null,null,null,null,null,null,null,"neutre",{"$error":"#N/A"},null,{"$error":"#N/A"},null,{"$error":"#N/A"},null,{"$error":"#N/A"},null,{"$error":"#N/A"},null,{"$error":"#N/A"},null,{"$error":"#N/A"},null,{"$error":"#N/A"},null,{"$error":"#N/A"},null,{"$error":"#N/A"},null,{"$error":"#N/A"},null,{"$error":"#N/A"}]
[null,"Offensif","o","offensif",null,null,null,null,null,null,null,null,null,null,null,null,null,null,null,null,null,null,null,null,null,null,null,null,null,null,null,null,null,null,{"$f":"IF(G36=\"\",\"\",G36)","v":""},{"$f":"IF(AI33<>\"\",AY76*IF($AX$37=1,$BW$58,1),\"\")","v":""},{"$f":"IF(AI33<>\"\",BP76*IF($AX$37=1,$BW$59,1),\"\")","v":""},{"$f":"IF(AI33<>\"\",AY103*IF($AX$37=1,$BW$60,1),\"\")","v":""},{"$f":"IF(AI33<>\"\",BP103*IF($AX$37=1,$BW$61,1),\"\")","v":""},{"$f":"IF(AI33<>\"\",AY130*IF($AX$37=1,$BW$62,1),\"\")","v":""},{"$f":"IF(AI33<>\"\",BP130*IF($AX$37=1,$BW$63,1),\"\")","v":""},{"$f":"IF(AI33<>\"\",AY157*IF($AX$37=1,$BW$64,1),\"\")","v":""},{"$f":"IF(AI33<>\"\",BP157*IF($AX$37=1,$BW$65,1),\"\")","v":""},{"$f":"IF(AI33<>\"\",AY184*IF($AX$37=1,$BW$66,1),\"\")","v":""},{"$f":"IF(AI33<>\"\",BP184*IF($AX$37=1,$BW$67,1),\"\")","v":""},{"$f":"IF(AI33<>\"\",AY211*IF($AX$37=1,$BW$68,1),\"\")","v":""},null,null,null,"",null,null,null,null,null,null,null,null,null,null,null,null,null,null,null,null,null,null,null,null,null,"off",{"$error":"#N/A"},null,{"$error":"#N/A"},null,{"$error":"#N/A"},null,{"$error":"#N/A"},null,{"$error":"#N/A"},null,{"$error":"#N/A"},null,{"$error":"#N/A"},null,{"$error":"#N/A"},null,{"$error":"#N/A"},null,{"$error":"#N/A"},null,{"$error":"#N/A"},null,{"$error":"#N/A"}]
[null,null,null,null,"Joueurs à comparer",null,null,null,null,null,null,null,null,{"$f":"G126","v":""},null,null,null,null,null,null,null,null,null,null,null,null,null,null,null,null,null,null,null,null,null,null,null,null,null,null,null,null,null,null,null,null,null,null,null,null,null,null,null,null,null,null,null,null,null,null,null,null,null,null,null,null,null,null,null,null,442,"def",{"$error":"#N/A"},null,{"$error":"#N/A"},null,{"$error":"#N/A"},null,{"$error":"#N/A"},null,{"$error":"#N/A"},null,{"$error":"#N/A"},null,{"$error":"#N/A"},null,{"$error":"#N/A"},null,{"$error":"#N/A"},null,{"$error":"#N/A"},null,{"$error":"#N/A"},null,{"$error":"#N/A"}]
[null,null,null,null,null,null,null,null,null,null,null,null,null,{"$f":"G127","v":""},null,"calcul officiel des objets selon reput et niveaux centre : ",null,null,null,null,null,null,null,null,null,null,null,null,null,null,null,null,"vitamines :",null,null,0,0,0,0,0,0,0,0,0,0,0,null,"pourcentage :",null,0,null,null,null,null,null,null,null,null,null,null,null,null,null,null,null,null,null,null,null,null,null,"neutre",{"$error":"#N/A"},null,{"$error":"#N/A"},null,{"$error":"#N/A"},null,{"$error":"#N/A"},null,{"$error":"#N/A"},null,{"$error":"#N/A"},null,{"$error":"#N/A"},null,{"$error":"#N/A"},null,{"$error":"#N/A"},null,{"$error":"#N/A"},null,{"$error":"#N/A"},null,{"$error":"#N/A"}]
[null,null,null,null,null,null,null,null,null,null,null,null,null,{"$f":"G128","v":""},null,"5+5*ln(reput/500)/ln(5) + niveau_centre/2",null,null,null,null,null,null,null,null,null,null,null,null,null,null,null,null,null,null,null,null,null,null,null,null,null,null,null,null,null,null,null,"valeur brute :",null,1,null,null,null,null,null,null,null,null,null,null,null,null,null,null,null,null,null,null,null,null,null,"off",{"$error":"#N/A"},null,{"$error":"#N/A"},null,{"$error":"#N/A"},null,{"$error":"#N/A"},null,{"$error":"#N/A"},null,{"$error":"#N/A"},null,{"$error":"#N/A"},null,{"$error":"#N/A"},null,{"$error":"#N/A"},null,{"$error":"#N/A"},null,{"$error":"#N/A"},null,{"$error":"#N/A"}]
[null,null,null,null,null,null,null,null,null,null,null,null,null,null,null,null,null,null,null,null,null,null,null,null,null,null,null,null,null,null,null,null,null,"Gain minimum pour une vitamine",null,{"$f":"BB192","v":73.568250000000006},49.044599999999996,49.044599999999996,32.697000000000003,73.566900000000004,58.853520000000003,58.618080000000006,98.091000000000008,61.306200000000011,56.051999999999992,98.091000000000008,null,"pourcentage/valeur brute :",null,1]
[null,null,null,null,"caracteristiques bonus :",null,null,null,null,null,null,null,null,null,null,"choix kit",null,null,null,null,null,null,null,null,null,null,null,null,null,null,null,null,"bonus cara"]
[null,null,null,null,"force","hab","vit","end","int",null,null,null,null,null,null,null,{"$f":"AC16","v":0},{"$f":"AC16","v":0},{"$f":"AC16","v":0},{"$f":"AC16","v":0},{"$f":"AC16","v":0},{"$f":"AC16","v":0},{"$f":"AC16","v":0},{"$f":"AC16","v":0},{"$f":"AC16","v":0},{"$f":"AC16","v":0},{"$f":"AC16","v":0},{"$f":"AC16","v":0},{"$f":"AC16","v":0},{"$f":"AC16","v":0},null,null,null,{"$f":"D8+D13","v":80},"coefficient caracteristique par poste / tactique actuelle",null,null,null,null,null,null,null,null,"coefficient caracteristique par poste et par tactique",null,null,null,null,null,null,null,null,null,null,null,null,null,null,null,null,null,null,null,null,null,null,null,null,null,null,null,null,null,null,null,"comparaison équipe",null,null,null,null,null,null,null,null,null,null,null,"bonus XP"]
[null,null,null,null,{"$f":"AH39+D16+D17+D21","v":136},{"$f":"AH40+D15+D17+D21","v":136},{"$f":"AH41+D15+D17+D21","v":126},{"$f":"AH42+D16+D17+D21","v":121},{"$f":"AH43+D15+D17+D21","v":120},null,null,null,null,null,null,null,{"$f":"AC16","v":0},{"$f":"AC16","v":0},{"$f":"AC16","v":0},{"$f":"AC16","v":0},{"$f":"AC16","v":0},{"$f":"AC16","v":0},{"$f":"AC16","v":0},{"$f":"AC16","v":0},{"$f":"AC16","v":0},{"$f":"AC16","v":0},{"$f":"AC16","v":0},{"$f":"AC16","v":0},{"$f":"AC16","v":0},{"$f":"AC16","v":0},null,null,null,{"$f":"D9+D13","v":80},null,null,{"$f":"F42","v":433},null,null,null,null,null,null,null,null,541,null,null,null,null,null,null,null,433,null,null,null,null,null,null,null,352,null,null,null,null,null,null,null,442]
[null,null,null,null,"stats brutes / pourcentage placement pour la tactique en cours",null,null,null,null,null,null,null,null,null,null,null,{"$f":"AC16","v":0},{"$f":"AC16","v":0},{"$f":"AC16","v":0},{"$f":"AC16","v":0},{"$f":"AC16","v":0},{"$f":"AC16","v":0},{"$f":"AC16","v":0},{"$f":"AC16","v":0},{"$f":"AC16","v":0},{"$f":"AC16","v":0},{"$f":"AC16","v":0},{"$f":"AC16","v":0},{"$f":"AC16","v":0},{"$f":"AC16","v":0},null,null,null,{"$f":"D10+D13","v":70},null,"Position","force","hab","vit","end","int","% poste",null,null,"Position","force","hab","vit","end","int","% poste",null,"Position","force","hab","vit","end","int","% poste",null,"Position","force","hab","vit","end","int","% poste",null,"Position","force","hab","vit","end","int","% poste",null,null,null,null,null,"att A/def ME",null,"att ME/def A",null,"différence",null,null,null,{"$f":"IF(CJ17<>\"\",(BD22/11-CJ17/11)/200,\"\")","v":{"$error":"#N/A"}},null,{"$f":"IF(CK41<>\"\",IF(ABS(CK41)<0.01,0,IF(ABS(CK41)>0.04,0.04,ROUND(ABS(CK41),1))),\"\")","v":{"$error":"#N/A"}}]
[null,null,null,null,null,{"$f":"IF(E25=C26,D26,IF(E25=C27,D27,IF(E25=C28,D28,IF(E25=C29,D29,AH2))))","v":433},null,null,null,null,null,null,null,null,null,null,{"$f":"AC16","v":0},{"$f":"AC16","v":0},{"$f":"AC16","v":0},{"$f":"AC16","v":0},{"$f":"AC16","v":0},{"$f":"AC16","v":0},{"$f":"AC16","v":0},{"$f":"AC16","v":0},{"$f":"AC16","v":0},{"$f":"AC16","v":0},{"$f":"AC16","v":0},{"$f":"AC16","v":0},{"$f":"AC16","v":0},{"$f":"AC16","v":0},null,null,null,{"$f":"D11+D13","v":65},null,1,{"$f":"IF(AK40=AT40,AT42,IF(AK40=BB40,BB42,IF(AK40=BJ40,BJ42,IF(AK40=BR40,BR42,erreur))))","v":150},{"$f":"IF(AK40=AT40,AU42,IF(AK40=BB40,BC42,IF(AK40=BJ40,BK42,IF(AK40=BR40,BS42,erreur))))","v":400},{"$f":"IF(AK40=AT40,AV42,IF(AK40=BB40,BD42,IF(AK40=BJ40,BL42,IF(AK40=BR40,BT42,erreur))))","v":150},{"$f":"IF(AK40=AT40,AW42,IF(AK40=BB40,BE42,IF(AK40=BJ40,BM42,IF(AK40=BR40,BU42,erreur))))","v":50},{"$f":"IF(AK40=AT40,AX42,IF(AK40=BB40,BF42,IF(AK40=BJ40,BN42,IF(AK40=BR40,BV42,erreur))))","v":250},{"$f":"IF(AK40=AT40,AY42,IF(AK40=BB40,BG42,IF(AK40=BJ40,BO42,IF(AK40=BR40,BW42,erreur))))","v":200},null,null,1,150,400,150,50,250,200,null,1,150,400,150,50,250,200,null,1,150,400,150,50,250,200,null,1,150,400,150,50,250,200,null,"rapport statistique",null,null,null,{"$f":"BN22/BP23","v":{"$error":"#N/A"}},null,{"$f":"BN23/BP22","v":{"$error":"#N/A"}},null,{"$f":"CC42-CE42","v":{"$error":"#N/A"}}]
[null,null,null,null,null,"defensif",null,null,"neutre",null,null,"offensif",null,null,null,null,{"$f":"AC16","v":0},{"$f":"AC16","v":0},{"$f":"AC16","v":0},{"$f":"AC16","v":0},{"$f":"AC16","v":0},{"$f":"AC16","v":0},{"$f":"AC16","v":0},{"$f":"AC16","v":0},{"$f":"AC16","v":0},{"$f":"AC16","v":0},{"$f":"AC16","v":0},{"$f":"AC16","v":0},{"$f":"AC16","v":0},{"$f":"AC16","v":0},null,null,null,{"$f":"D12+D13","v":64},null,2,{"$f":"IF(AK40=AT40,AT43,IF(AK40=BB40,BB43,IF(AK40=BJ40,BJ43,IF(AK40=BR40,BR43,erreur))))","v":250},{"$f":"IF(AK40=AT40,AU43,IF(AK40=BB40,BC43,IF(AK40=BJ40,BK43,IF(AK40=BR40,BS43,erreur))))","v":200},{"$f":"IF(AK40=AT40,AV43,IF(AK40=BB40,BD43,IF(AK40=BJ40,BL43,IF(AK40=BR40,BT43,erreur))))","v":250},{"$f":"IF(AK40=AT40,AW43,IF(AK40=BB40,BE43,IF(AK40=BJ40,BM43,IF(AK40=BR40,BU43,erreur))))","v":300},{"$f":"IF(AK40=AT40,AX43,IF(AK40=BB40,BF43,IF(AK40=BJ40,BN43,IF(AK40=BR40,BV43,erreur))))","v":200},{"$f":"IF(AK40=AT40,AY43,IF(AK40=BB40,BG43,IF(AK40=BJ40,BO43,IF(AK40=BR40,BW43,erreur))))","v":200},null,null,2,300,200,200,300,200,200,null,2,250,200,250,300,200,200,null,2,300,200,200,300,200,200,null,2,250,200,250,300,200,200]
[null,null,null,null,null,"1% attaque","1% defense","1% cumulé","1% attaque","1% defense","1% cumulé","1% attaque","1% defense","1% cumulé",null,"coefficient caracteristique kit",null,null,null,null,null,null,null,null,null,null,null,null,null,null,null,null,null,null,null,3,{"$f":"IF(AK40=AT40,AT44,IF(AK40=BB40,BB44,IF(AK40=BJ40,BJ44,IF(AK40=BR40,BR44,erreur))))","v":125},{"$f":"IF(AK40=AT40,AU44,IF(AK40=BB40,BC44,IF(AK40=BJ40,BK44,IF(AK40=BR40,BS44,erreur))))","v":100},{"$f":"IF(AK40=AT40,AV44,IF(AK40=BB40,BD44,IF(AK40=BJ40,BL44,IF(AK40=BR40,BT44,erreur))))","v":125},{"$f":"IF(AK40=AT40,AW44,IF(AK40=BB40,BE44,IF(AK40=BJ40,BM44,IF(AK40=BR40,BU44,erreur))))","v":150},{"$f":"IF(AK40=AT40,AX44,IF(AK40=BB40,BF44,IF(AK40=BJ40,BN44,IF(AK40=BR40,BV44,erreur))))","v":100},{"$f":"IF(AK40=AT40,AY44,IF(AK40=BB40,BG44,IF(AK40=BJ40,BO44,IF(AK40=BR40,BW44,erreur))))","v":100},null,null,3,300,200,200,300,200,200,null,3,125,100,125,150,100,100,null,3,300,200,200,300,200,200,null,3,250,200,250,300,200,200]
[null,null,null,null,null,{"$f":"IF(E25=C26,E62,IF(E25=C27,H62,IF(E25=C28,K62,IF(E25=C29,N62,erreur))))","v":5.4449999999999998E-2},{"$f":"IF(E25=C26,F62,IF(E25=C27,I62,IF(E25=C28,L62,IF(E25=C29,O62,erreur))))","v":2.6702499999999998},{"$f":"F45+G45","v":2.7246999999999999},{"$f":"IF(E25=C26,E76,IF(E25=C27,H76,IF(E25=C28,K76,IF(E25=C29,N76,erreur))))","v":0.16345000000000001},{"$f":"IF(E25=C26,F76,IF(E25=C27,I76,IF(E25=C28,L76,IF(E25=C29,O76,erreur))))","v":2.5613000000000001},{"$f":"I45+J45","v":2.7247500000000002},{"$f":"IF(E25=C26,E90,IF(E25=C27,H90,IF(E25=C28,K90,IF(E25=C29,N90,erreur))))","v":0.27245000000000003},{"$f":"IF(E25=C26,F90,IF(E25=C27,I90,IF(E25=C28,L90,IF(E25=C29,O90,erreur))))","v":2.4523000000000001},{"$f":"L45+M45","v":2.7247500000000002},null,null,0.86274509803921573,1.4313725490196079,0,1.5294117647058822,0,1.4509803921568627,1.2745098039215685,0,1.2745098039215685,1.1764705882352942,1.2745098039215685,0,0.96078431372549022,1.0588235294117647,null,null,null,null,null,4,{"$f":"IF(AK40=AT40,AT45,IF(AK40=BB40,BB45,IF(AK40=BJ40,BI45,IF(AK40=BR40,BR45,erreur))))","v":300},{"$f":"IF(AK40=AT40,AU45,IF(AK40=BB40,BC45,IF(AK40=BJ40,BK45,IF(AK40=BR40,BS45,erreur))))","v":100},{"$f":"IF(AK40=AT40,AV45,IF(AK40=BB40,BD45,IF(AK40=BJ40,BL45,IF(AK40=BR40,BT45,erreur))))","v":250},{"$f":"IF(AK40=AT40,AW45,IF(AK40=BB40,BE45,IF(AK40=BJ40,BM45,IF(AK40=BR40,BU45,erreur))))","v":250},{"$f":"IF(AK40=AT40,AX45,IF(AK40=BB40,BF45,IF(AK40=BJ40,BN45,IF(AK40=BR40,BV45,erreur))))","v":150},{"$f":"IF(AK40=AT40,AY45,IF(AK40=BB40,BG45,IF(AK40=BJ40,BO45,IF(AK40=BR40,BW45,erreur))))","v":200},null,null,4,300,150,300,200,100,200,null,4,300,100,250,250,150,200,null,4,300,150,300,200,100,200,null,4,300,100,250,250,150,200]
[null,null,null,null,null,{"$f":"IF(E25=C26,E63,IF(E25=C27,H63,IF(E25=C28,K63,IF(E25=C29,N63,erreur))))","v":0.68115000000000003},{"$f":"IF(E25=C26,F63,IF(E25=C27,I63,IF(E25=C28,L63,IF(E25=C29,O63,erreur))))","v":0.68115000000000003},{"$f":"F46+G46","v":1.3623000000000001},{"$f":"IF(E25=C26,E77,IF(E25=C27,H77,IF(E25=C28,K77,IF(E25=C29,N77,erreur))))","v":0.81740000000000002},{"$f":"IF(E25=C26,F77,IF(E25=C27,I77,IF(E25=C28,L77,IF(E25=C29,O77,erreur))))","v":0.54495000000000005},{"$f":"I46+J46","v":1.3623500000000002},{"$f":"IF(E25=C26,E91,IF(E25=C27,H91,IF(E25=C28,K91,IF(E25=C29,N91,erreur))))","v":0.95365},{"$f":"IF(E25=C26,F91,IF(E25=C27,I91,IF(E25=C28,L91,IF(E25=C29,O91,erreur))))","v":0.40870000000000001},{"$f":"L46+M46","v":1.3623499999999999},null,null,1.6666666666666667,1.0784313725490196,0,0.94117647058823528,0,1.1764705882352942,1.2745098039215685,0,1.2745098039215685,1.3333333333333333,1.411764705882353,0,1.411764705882353,1.3333333333333333,null,null,null,null,null,5,{"$f":"IF(AK40=AT40,AT46,IF(AK40=BB40,BB46,IF(AK40=BJ40,BJ46,IF(AK40=BR40,BR46,erreur))))","v":200},{"$f":"IF(AK40=AT40,AU46,IF(AK40=BB40,BC46,IF(AK40=BJ40,BK46,IF(AK40=BR40,BS46,erreur))))","v":150},{"$f":"IF(AK40=AT40,AV46,IF(AK40=BB40,BD46,IF(AK40=BJ40,BL46,IF(AK40=BR40,BT46,erreur))))","v":150},{"$f":"IF(AK40=AT40,AW46,IF(AK40=BB40,BE46,IF(AK40=BJ40,BM46,IF(AK40=BR40,BU46,erreur))))","v":150},{"$f":"IF(AK40=AT40,AX46,IF(AK40=BB40,BF46,IF(AK40=BJ40,BN46,IF(AK40=BR40,BV46,erreur))))","v":150},{"$f":"IF(AK40=AT40,AY46,IF(AK40=BB40,BG46,IF(AK40=BJ40,BO46,IF(AK40=BR40,BW46,erreur))))","v":200},null,null,5,200,150,150,150,150,200,null,5,200,150,150,150,150,200,null,5,200,150,150,150,150,200,null,5,200,150,150,150,150,200]
[null,null,null,null,null,{"$f":"IF(E25=C26,E64,IF(E25=C27,H64,IF(E25=C28,K64,IF(E25=C29,N64,erreur))))","v":0.68115000000000003},{"$f":"IF(E25=C26,F64,IF(E25=C27,I64,IF(E25=C28,L64,IF(E25=C29,O64,erreur))))","v":0.68115000000000003},1.3623000000000001,{"$f":"IF(E25=C26,E78,IF(E25=C27,H78,IF(E25=C28,K78,IF(E25=C29,N78,erreur))))","v":0.81740000000000002},{"$f":"IF(E25=C26,F78,IF(E25=C27,I78,IF(E25=C28,L78,IF(E25=C29,O78,erreur))))","v":0.54495000000000005},1.3623500000000002,{"$f":"IF(E25=C26,E92,IF(E25=C27,H92,IF(E25=C28,K92,IF(E25=C29,N92,erreur))))","v":0.95365},{"$f":"IF(E25=C26,F92,IF(E25=C27,I92,IF(E25=C28,L92,IF(E25=C29,O92,erreur))))","v":0.40870000000000001},1.3623499999999999,null,null,0.86274509803921573,1.2549019607843137,0,1.5294117647058822,0,1.1764705882352942,1.2745098039215685,0,1.2745098039215685,1.3333333333333333,1.411764705882353,0,1.0980392156862746,1.4705882352941178,null,null,null,null,null,6,{"$f":"IF(AK40=AT40,AT47,IF(AK40=BB40,BB47,IF(AK40=BJ40,BJ47,IF(AK40=BR40,BR47,erreur))))","v":250},{"$f":"IF(AK40=AT40,AU47,IF(AK40=BB40,BC47,IF(AK40=BJ40,BK47,IF(AK40=BR40,BS47,erreur))))","v":200},{"$f":"IF(AK40=AT40,AV47,IF(AK40=BB40,BD47,IF(AK40=BJ40,BL47,IF(AK40=BR40,BT47,erreur))))","v":250},{"$f":"IF(AK40=AT40,AW47,IF(AK40=BB40,BE47,IF(AK40=BJ40,BM47,IF(AK40=BR40,BU47,erreur))))","v":250},{"$f":"IF(AK40=AT40,AX47,IF(AK40=BB40,BF47,IF(AK40=BJ40,BN47,IF(AK40=BR40,BV47,erreur))))","v":150},{"$f":"IF(AK40=AT40,AY47,IF(AK40=BB40,BG47,IF(AK40=BJ40,BO47,IF(AK40=BR40,BW47,erreur))))","v":200},null,null,6,250,250,150,250,200,200,null,6,250,200,250,250,150,200,null,6,250,250,150,250,200,200,null,6,250,200,250,250,150,200]
[null,null,null,null,null,{"$f":"IF(E25=C26,E65,IF(E25=C27,H65,IF(E25=C28,K65,IF(E25=C29,N65,erreur))))","v":0.18165000000000001},{"$f":"IF(E25=C26,F65,IF(E25=C27,I65,IF(E25=C28,L65,IF(E25=C29,O65,erreur))))","v":0.72660000000000002},0.90825,{"$f":"IF(E25=C26,E79,IF(E25=C27,H79,IF(E25=C28,K79,IF(E25=C29,N79,erreur))))","v":0.27245000000000003},{"$f":"IF(E25=C26,F79,IF(E25=C27,I79,IF(E25=C28,L79,IF(E25=C29,O79,erreur))))","v":0.63575000000000004},0.90820000000000012,{"$f":"IF(E25=C26,E93,IF(E25=C27,H93,IF(E25=C28,K93,IF(E25=C29,N93,erreur))))","v":0.36330000000000001},{"$f":"IF(E25=C26,F93,IF(E25=C27,I93,IF(E25=C28,L93,IF(E25=C29,O93,erreur))))","v":0.54495000000000005},0.90825,null,null,0.52941176470588236,1.4313725490196079,0,1.3333333333333333,0,1.1764705882352942,1.2745098039215685,0,1.2745098039215685,1.3333333333333333,1.1568627450980393,0,1.2549019607843137,1.3333333333333333,null,null,null,null,null,7,{"$f":"IF(AK40=AT40,AT48,IF(AK40=BB40,BB48,IF(AK40=BJ40,BJ48,IF(AK40=BR40,BR48,erreur))))","v":250},{"$f":"IF(AK40=AT40,AU48,IF(AK40=BB40,BC48,IF(AK40=BJ40,BK48,IF(AK40=BR40,BS48,erreur))))","v":250},{"$f":"IF(AK40=AT40,AV48,IF(AK40=BB40,BD48,IF(AK40=BJ40,BL48,IF(AK40=BR40,BT48,erreur))))","v":250},{"$f":"IF(AK40=AT40,AW48,IF(AK40=BB40,BE48,IF(AK40=BJ40,BM48,IF(AK40=BR40,BU48,erreur))))","v":250},{"$f":"IF(AK40=AT40,AX48,IF(AK40=BB40,BF48,IF(AK40=BJ40,BN48,IF(AK40=BR40,BV48,erreur))))","v":200},{"$f":"IF(AK40=AT40,AY48,IF(AK40=BB40,BG48,IF(AK40=BJ40,BO48,IF(AK40=BR40,BW48,erreur))))","v":200},null,null,7,250,250,250,250,200,200,null,7,250,250,250,250,200,200,null,7,250,250,250,250,200,200,null,7,250,250,250,250,200,200]
[null,null,null,null,null,{"$f":"IF(E25=C26,E66,IF(E25=C27,H66,IF(E25=C28,K66,IF(E25=C29,N66,erreur))))","v":0.40870000000000001},{"$f":"IF(E25=C26,F66,IF(E25=C27,I66,IF(E25=C28,L66,IF(E25=C29,O66,erreur))))","v":0.95365},1.3623499999999999,{"$f":"IF(E25=C26,E80,IF(E25=C27,H80,IF(E25=C28,K80,IF(E25=C29,N80,erreur))))","v":0.68115000000000003},{"$f":"IF(E25=C26,F80,IF(E25=C27,I80,IF(E25=C28,L80,IF(E25=C29,O80,erreur))))","v":0.68115000000000003},1.3623000000000001,{"$f":"IF(E25=C26,E94,IF(E25=C27,H94,IF(E25=C28,K94,IF(E25=C29,N94,erreur))))","v":0.95365},{"$f":"IF(E25=C26,F94,IF(E25=C27,I94,IF(E25=C28,L94,IF(E25=C29,O94,erreur))))","v":0.40870000000000001},1.3623499999999999,null,null,1.1764705882352942,1.0784313725490196,0,0.94117647058823528,0,1.1764705882352942,1.0980392156862746,0,1.0980392156862746,1,1.0196078431372548,0,1.2549019607843137,0.92156862745098034,null,null,null,null,null,8,{"$f":"IF(AK40=AT40,AT49,IF(AK40=BB40,BB49,IF(AK40=BJ40,BJ49,IF(AK40=BR40,BR49,erreur))))","v":200},{"$f":"IF(AK40=AT40,AU49,IF(AK40=BB40,BC49,IF(AK40=BJ40,BK49,IF(AK40=BR40,BS49,erreur))))","v":300},{"$f":"IF(AK40=AT40,AV49,IF(AK40=BB40,BD49,IF(AK40=BJ40,BL49,IF(AK40=BR40,BT49,erreur))))","v":300},{"$f":"IF(AK40=AT40,AW49,IF(AK40=BB40,BE49,IF(AK40=BJ40,BM49,IF(AK40=BR40,BU49,erreur))))","v":300},{"$f":"IF(AK40=AT40,AX49,IF(AK40=BB40,BF49,IF(AK40=BJ40,BN49,IF(AK40=BR40,BV49,erreur))))","v":200},{"$f":"IF(AK40=AT40,AY49,IF(AK40=BB40,BG49,IF(AK40=BJ40,BO49,IF(AK40=BR40,BW49,erreur))))","v":200},null,null,8,250,250,250,250,200,200,null,8,200,300,300,300,200,200,null,8,200,300,300,300,200,200,null,8,250,250,250,250,200,200]
[null,null,null,null,null,{"$f":"IF(E25=C26,E67,IF(E25=C27,H67,IF(E25=C28,K67,IF(E25=C29,N67,erreur))))","v":0.81740000000000002},{"$f":"IF(E25=C26,F67,IF(E25=C27,I67,IF(E25=C28,L67,IF(E25=C29,O67,erreur))))","v":0.54495000000000005},1.3623500000000002,{"$f":"IF(E25=C26,E81,IF(E25=C27,H81,IF(E25=C28,K81,IF(E25=C29,N81,erreur))))","v":0.95365},{"$f":"IF(E25=C26,F81,IF(E25=C27,I81,IF(E25=C28,L81,IF(E25=C29,O81,erreur))))","v":0.40870000000000001},1.3623499999999999,{"$f":"IF(E25=C26,E95,IF(E25=C27,H95,IF(E25=C28,K95,IF(E25=C29,N95,erreur))))","v":0.95365},{"$f":"IF(E25=C26,F95,IF(E25=C27,I95,IF(E25=C28,L95,IF(E25=C29,O95,erreur))))","v":0.40870000000000001},1.3623499999999999,null,"valeur objet max",null,null,null,null,null,null,null,null,null,null,null,null,null,null,null,null,null,null,null,9,{"$f":"IF(AK40=AT40,AT50,IF(AK40=BB40,BB50,IF(AK40=BJ40,BJ50,IF(AK40=BR40,BR50,erreur))))","v":350},{"$f":"IF(AK40=AT40,AU50,IF(AK40=BB40,BC50,IF(AK40=BJ40,BK50,IF(AK40=BR40,BS50,erreur))))","v":400},{"$f":"IF(AK40=AT40,AV50,IF(AK40=BB40,BD50,IF(AK40=BJ40,BL50,IF(AK40=BR40,BT50,erreur))))","v":250},{"$f":"IF(AK40=AT40,AW50,IF(AK40=BB40,BE50,IF(AK40=BJ40,BM50,IF(AK40=BR40,BU50,erreur))))","v":250},{"$f":"IF(AK40=AT40,AX50,IF(AK40=BB40,BF50,IF(AK40=BJ40,BN50,IF(AK40=BR40,BV50,erreur))))","v":250},{"$f":"IF(AK40=AT40,AY50,IF(AK40=BB40,BG50,IF(AK40=BJ40,BO50,IF(AK40=BR40,BW50,erreur))))","v":200},null,null,9,250,350,400,300,200,200,null,9,350,400,250,250,250,200,null,9,350,400,250,250,250,200,null,9,250,350,400,300,200,200]
[null,null,null,null,null,{"$f":"IF(E25=C26,E68,IF(E25=C27,H68,IF(E25=C28,K68,IF(E25=C29,N68,erreur))))","v":0.81415000000000004},{"$f":"IF(E25=C26,F68,IF(E25=C27,I68,IF(E25=C28,L68,IF(E25=C29,O68,erreur))))","v":0.54274999999999995},1.3569,{"$f":"IF(E25=C26,E82,IF(E25=C27,H82,IF(E25=C28,K82,IF(E25=C29,N82,erreur))))","v":0.94984999999999997},{"$f":"IF(E25=C26,F82,IF(E25=C27,I82,IF(E25=C28,L82,IF(E25=C29,O82,erreur))))","v":0.40705000000000002},1.3569,{"$f":"IF(E25=C26,E96,IF(E25=C27,H96,IF(E25=C28,K96,IF(E25=C29,N96,erreur))))","v":0.94984999999999997},{"$f":"IF(E25=C26,F96,IF(E25=C27,I96,IF(E25=C28,L96,IF(E25=C29,O96,erreur))))","v":0.40705000000000002},1.3569,null,null,{"$f":"D21","v":48},{"$f":"D21","v":48},{"$f":"D21","v":48},{"$f":"D21","v":48},{"$f":"D21","v":48},{"$f":"D21","v":48},{"$f":"D21","v":48},{"$f":"D21","v":48},{"$f":"D21","v":48},{"$f":"D21","v":48},{"$f":"D21","v":48},{"$f":"D21","v":48},{"$f":"D21","v":48},{"$f":"D21","v":48},null,null,null,null,null,10,{"$f":"IF(AK40=AT40,AT51,IF(AK40=BB40,BB51,IF(AK40=BJ40,BJ51,IF(AK40=BR40,BR51,erreur))))","v":200},{"$f":"IF(AK40=AT40,AU51,IF(AK40=BB40,BC51,IF(AK40=BJ40,BK51,IF(AK40=BR40,BS51,erreur))))","v":350},{"$f":"IF(AK40=AT40,AV51,IF(AK40=BB40,BD51,IF(AK40=BJ40,BL51,IF(AK40=BR40,BT51,erreur))))","v":250},{"$f":"IF(AK40=AT40,AW51,IF(AK40=BB40,BE51,IF(AK40=BJ40,BM51,IF(AK40=BR40,BU51,erreur))))","v":300},{"$f":"IF(AK40=AT40,AX51,IF(AK40=BB40,BF51,IF(AK40=BJ40,BN51,IF(AK40=BR40,BV51,erreur))))","v":300},{"$f":"IF(AK40=AT40,AY51,IF(AK40=BB40,BG51,IF(AK40=BJ40,BO51,IF(AK40=BR40,BW51,erreur))))","v":200},null,null,10,200,350,250,300,300,200,null,10,200,350,250,300,300,200,null,10,200,350,250,300,300,200,null,10,200,350,250,300,300,200]
[null,null,null,null,null,{"$f":"IF(E25=C26,E69,IF(E25=C27,H69,IF(E25=C28,K69,IF(E25=C29,N69,erreur))))","v":1.6348499999999999},{"$f":"IF(E25=C26,F69,IF(E25=C27,I69,IF(E25=C28,L69,IF(E25=C29,O69,erreur))))","v":1.0899000000000001},2.7247500000000002,{"$f":"IF(E25=C26,E83,IF(E25=C27,H83,IF(E25=C28,K83,IF(E25=C29,N83,erreur))))","v":1.9073500000000001},{"$f":"IF(E25=C26,F83,IF(E25=C27,I83,IF(E25=C28,L83,IF(E25=C29,O83,erreur))))","v":0.81740000000000002},2.7247500000000002,{"$f":"IF(E25=C26,E97,IF(E25=C27,H97,IF(E25=C28,K97,IF(E25=C29,N97,erreur))))","v":2.4523000000000001},{"$f":"IF(E25=C26,F97,IF(E25=C27,I97,IF(E25=C28,L97,IF(E25=C29,O97,erreur))))","v":0.27245000000000003},2.7247500000000002,null,null,{"$f":"D21","v":48},{"$f":"D21","v":48},{"$f":"D21","v":48},{"$f":"D21","v":48},{"$f":"D21","v":48},{"$f":"D21","v":48},{"$f":"D21","v":48},{"$f":"D21","v":48},{"$f":"D21","v":48},{"$f":"D21","v":48},{"$f":"D21","v":48},{"$f":"D21","v":48},{"$f":"D21","v":48},{"$f":"D21","v":48},null,null,null,null,null,11,{"$f":"IF(AK40=AT40,AT52,IF(AK40=BB40,BB52,IF(AK40=BJ40,BJ52,IF(AK40=BR40,BR52,erreur))))","v":100},{"$f":"IF(AK40=AT40,AU52,IF(AK40=BB40,BC52,IF(AK40=BJ40,BK52,IF(AK40=BR40,BS52,erreur))))","v":150},{"$f":"IF(AK40=AT40,AV52,IF(AK40=BB40,BD52,IF(AK40=BJ40,BL52,IF(AK40=BR40,BT52,erreur))))","v":150},{"$f":"IF(AK40=AT40,AW52,IF(AK40=BB40,BE52,IF(AK40=BJ40,BM52,IF(AK40=BR40,BU52,erreur))))","v":150},{"$f":"IF(AK40=AT40,AX52,IF(AK40=BB40,BF52,IF(AK40=BJ40,BN52,IF(AK40=BR40,BV52,erreur))))","v":100},{"$f":"IF(AK40=AT40,AY52,IF(AK40=BB40,BG52,IF(AK40=BJ40,BO52,IF(AK40=BR40,BW52,erreur))))","v":100},null,null,11,250,350,400,350,150,200,null,11,100,150,150,150,100,100,null,11,200,300,300,300,200,200,null,11,250,350,400,350,150,200]
[null,null,null,null,null,{"$f":"IF(E25=C26,E70,IF(E25=C27,H70,IF(E25=C28,K70,IF(E25=C29,N70,erreur))))","v":2.0435500000000002},{"$f":"IF(E25=C26,F70,IF(E25=C27,I70,IF(E25=C28,L70,IF(E25=C29,O70,erreur))))","v":0.22705},2.2706000000000004,{"$f":"IF(E25=C26,E84,IF(E25=C27,H84,IF(E25=C28,K84,IF(E25=C29,N84,erreur))))","v":2.0435500000000002},{"$f":"IF(E25=C26,F84,IF(E25=C27,I84,IF(E25=C28,L84,IF(E25=C29,O84,erreur))))","v":0.22705},2.2706000000000004,{"$f":"IF(E25=C26,E98,IF(E25=C27,H98,IF(E25=C28,K98,IF(E25=C29,N98,erreur))))","v":2.0435500000000002},{"$f":"IF(E25=C26,F98,IF(E25=C27,I98,IF(E25=C28,L98,IF(E25=C29,O98,erreur))))","v":0.22705},2.2706000000000004,null,null,{"$f":"D21","v":48},{"$f":"D21","v":48},{"$f":"D21","v":48},{"$f":"D21","v":48},{"$f":"D21","v":48},{"$f":"D21","v":48},{"$f":"D21","v":48},{"$f":"D21","v":48},{"$f":"D21","v":48},{"$f":"D21","v":48},{"$f":"D21","v":48},{"$f":"D21","v":48},{"$f":"D21","v":48},{"$f":"D21","v":48}]
[null,null,null,null,null,{"$f":"IF(E25=C26,E71,IF(E25=C27,H71,IF(E25=C28,K71,IF(E25=C29,N71,erreur))))","v":1.0899000000000001},{"$f":"IF(E25=C26,F71,IF(E25=C27,I71,IF(E25=C28,L71,IF(E25=C29,O71,erreur))))","v":0.72660000000000002},1.8165,{"$f":"IF(E25=C26,E85,IF(E25=C27,H85,IF(E25=C28,K85,IF(E25=C29,N85,erreur))))","v":1.4532},{"$f":"IF(E25=C26,F85,IF(E25=C27,I85,IF(E25=C28,L85,IF(E25=C29,O85,erreur))))","v":0.36330000000000001},1.8165,{"$f":"IF(E25=C26,E99,IF(E25=C27,H99,IF(E25=C28,K99,IF(E25=C29,N99,erreur))))","v":1.6348499999999999},{"$f":"IF(E25=C26,F99,IF(E25=C27,I99,IF(E25=C28,L99,IF(E25=C29,O99,erreur))))","v":0.18165000000000001},1.8165,null,null,{"$f":"D21","v":48},{"$f":"D21","v":48},{"$f":"D21","v":48},{"$f":"D21","v":48},{"$f":"D21","v":48},{"$f":"D21","v":48},{"$f":"D21","v":48},{"$f":"D21","v":48},{"$f":"D21","v":48},{"$f":"D21","v":48},{"$f":"D21","v":48},{"$f":"D21","v":48},{"$f":"D21","v":48},{"$f":"D21","v":48},null,null,null,null,"pourcentage poste par kit et par place",null,null,null,null,null,null,null,null,null,null,null,null,null,null,null,null,null,null,null,null,null,null,null,null,null,null,null,null,null,null,null,null,null,null,"coefficient multiplicateur par tactique :",null,null,null,null,null,null,null,"pourcentage joueur ",null,null,null,null,null,"stats brutes joueurs adversaires par position sans bonus match"]
[null,null,null,null,null,{"$f":"IF(E25=C26,E72,IF(E25=C27,H72,IF(E25=C28,K72,IF(E25=C29,N72, erreur))))","v":1.6348499999999999},{"$f":"IF(E25=C26,F72,IF(E25=C27,I72,IF(E25=C28,L72,IF(E25=C29,O72,erreur))))","v":1.0899000000000001},2.7247500000000002,{"$f":"IF(E25=C26,E86,IF(E25=C27,H86,IF(E25=C28,K86,IF(E25=C29,N86,erreur))))","v":1.9073500000000001},{"$f":"IF(E25=C26,F86,IF(E25=C27,I86,IF(E25=C28,L86,IF(E25=C29,O86,erreur))))","v":0.81740000000000002},2.7247500000000002,{"$f":"IF(E25=C26,E100,IF(E25=C27,H100,IF(E25=C28,K100,IF(E25=C29,N100,erreur))))","v":2.4523000000000001},{"$f":"IF(E25=C26,F100,IF(E25=C27,I100,IF(E25=C28,L100,IF(E25=C29,O100,erreur))))","v":0.27245000000000003},2.7247500000000002,null,null,{"$f":"D21","v":48},{"$f":"D21","v":48},{"$f":"D21","v":48},{"$f":"D21","v":48},{"$f":"D21","v":48},{"$f":"D21","v":48},{"$f":"D21","v":48},{"$f":"D21","v":48},{"$f":"D21","v":48},{"$f":"D21","v":48},{"$f":"D21","v":48},{"$f":"D21","v":48},{"$f":"D21","v":48},{"$f":"D21","v":48},null,null,null,null,null,1,{"$f":"Q9","v":"kit 1"},"kit 2/3",0,"kit 4",0,"kit 5","kit 6/7",0,0,"kit 8","kit 9",0,"kit 10","kit 11","MAX",null,2,{"$f":"Q9","v":"kit 1"},"kit 2/3",0,"kit 4",0,"kit 5","kit 6/7",0,0,"kit 8","kit 9",0,"kit 10","kit 11","MAX",null,null,{"$f":"F42","v":433},null,null,null,null,null,null,"adversaire par position",null,null,null,null,null,null,541,null,null,null,null,null,null,null,null,433,null,null,null,null,null,null,null,null,352,null,null,null,null,null,null,null,null,442]
[null,null,null,null,"tactique selectionnée (ca ne sert a rien)",null,null,null,null,null,null,null,null,null,null,null,null,null,null,null,null,null,null,null,null,null,null,null,null,null,null,null,null,null,null,{"$f":"AJ191","v":"espagne 9 "},{"$f":"MIN((S59+AJ35*D19)/AK42,(S60+AJ35*D19)/AL42,(S61+AJ35*D19)/AM42,(S62+AJ35*D19)/AN42,(S63+AJ35*D19)/AO42)*AP42","v":367},{"$f":"MIN((T59+AJ35*D19)/AK42,(T60+AJ35*D19)/AL42,(T61+AJ35*D19)/AM42,(T62+AJ35*D19)/AN42,(T63+AJ35*D19)/AO42)*AP42","v":353},{"$f":"MIN((U59+AJ35*D19)/AK42,(U60+AJ35*D19)/AL42,(U61+AJ35*D19)/AM42,(U62+AJ35*D19)/AN42,(U63+AJ35*D19)/AO42)*AP42","v":327},{"$f":"MIN((V59+AJ35*D19)/AK42,(V60+AJ35*D19)/AL42,(V61+AJ35*D19)/AM42,(V62+AJ35*D19)/AN42,(V63+AJ35*D19)/AO42)*AP42","v":349.5},{"$f":"MIN((W59+AJ35*D19)/AK42,(W60+AJ35*D19)/AL42,(W61+AJ35*D19)/AM42,(W62+AJ35*D19)/AN42,(W63+AJ35*D19)/AO42)*AP42","v":327},{"$f":"MIN((X59+AJ35*D19)/AK42,(X60+AJ35*D19)/AL42,(X61+AJ35*D19)/AM42,(X62+AJ35*D19)/AN42,(X63+AJ35*D19)/AO42)*AP42","v":355},{"$f":"MIN((Y59+AJ35*D19)/AK42,(Y60+AJ35*D19)/AL42,(Y61+AJ35*D19)/AM42,(Y62+AJ35*D19)/AN42,(Y63+AJ35*D19)/AO42)*AP42","v":357.5},{"$f":"MIN((Z59+AJ35*D19)/AK42,(Z60+AJ35*D19)/AL42,(Z61+AJ35*D19)/AM42,(Z62+AJ35*D19)/AN42,(Z63+AJ35*D19)/AO42)*AP42","v":327},{"$f":"MIN((AA59+AJ35*D19)/AK42,(AA60+AJ35*D19)/AL42,(AA61+AJ35*D19)/AM42,(AA62+AJ35*D19)/AN42,(AA63+AJ35*D19)/AO42)*AP42","v":357.5},{"$f":"MIN((AB59+AJ35*D19)/AK42,(AB60+AJ35*D19)/AL42,(AB61+AJ35*D19)/AM42,(AB62+AJ35*D19)/AN42,(AB63+AJ35*D19)/AO42)*AP42","v":359},{"$f":"MIN((AC59+AJ35*D19)/AK42,(AC60+AJ35*D19)/AL42,(AC61+AJ35*D19)/AM42,(AC62+AJ35*D19)/AN42,(AC63+AJ35*D19)/AO42)*AP42","v":361},{"$f":"MIN((AD59+AJ35*D19)/AK42,(AD60+AJ35*D19)/AL42,(AD61+AJ35*D19)/AM42,(AD62+AJ35*D19)/AN42,(AD63+AJ35*D19)/AO42)*AP42","v":327},{"$f":"MIN((AE59+AJ35*D19)/AK42,(AE60+AJ35*D19)/AL42,(AE61+AJ35*D19)/AM42,(AE62+AJ35*D19)/AN42,(AE63+AJ35*D19)/AO42)*AP42","v":361},{"$f":"MIN((AF59+AJ35*D19)/AK42,(AF60+AJ35*D19)/AL42,(AF61+AJ35*D19)/AM42,(AF62+AJ35*D19)/AN42,(AF63+AJ35*D19)/AO42)*AP42","v":359},{"$f":"MAX(AK56:AX56)","v":367},null,{"$f":"AJ191","v":"espagne 9 "},{"$f":"MIN((S59+AK35*D19)/AK43,(S60+AK35*D19)/AL43,(S61+AK35*D19)/AM43,(S62+AK35*D19)/AN43,(S63+AK35*D19)/AO43)*AP43","v":406.66666666666663},{"$f":"MIN((T59+AK35*D19)/AK43,(T60+AK35*D19)/AL43,(T61+AK35*D19)/AM43,(T62+AK35*D19)/AN43,(T63+AK35*D19)/AO43)*AP43","v":436.00000000000006},{"$f":"MIN((U59+AK35*D19)/AK43,(U60+AK35*D19)/AL43,(U61+AK35*D19)/AM43,(U62+AK35*D19)/AN43,(U63+AK35*D19)/AO43)*AP43","v":390},{"$f":"MIN((V59+AK35*D19)/AK43,(V60+AK35*D19)/AL43,(V61+AK35*D19)/AM43,(V62+AK35*D19)/AN43,(V63+AK35*D19)/AO43)*AP43","v":432.66666666666669},{"$f":"MIN((W59+AK35*D19)/AK43,(W60+AK35*D19)/AL43,(W61+AK35*D19)/AM43,(W62+AK35*D19)/AN43,(W63+AK35*D19)/AO43)*AP43","v":390},{"$f":"MIN((X59+AK35*D19)/AK43,(X60+AK35*D19)/AL43,(X61+AK35*D19)/AM43,(X62+AK35*D19)/AN43,(X63+AK35*D19)/AO43)*AP43","v":427.33333333333337},{"$f":"MIN((Y59+AK35*D19)/AK43,(Y60+AK35*D19)/AL43,(Y61+AK35*D19)/AM43,(Y62+AK35*D19)/AN43,(Y63+AK35*D19)/AO43)*AP43","v":430.66666666666669},{"$f":"MIN((Z59+AK35*D19)/AK43,(Z60+AK35*D19)/AL43,(Z61+AK35*D19)/AM43,(Z62+AK35*D19)/AN43,(Z63+AK35*D19)/AO43)*AP43","v":390},{"$f":"MIN((AA59+AK35*D19)/AK43,(AA60+AK35*D19)/AL43,(AA61+AK35*D19)/AM43,(AA62+AK35*D19)/AN43,(AA63+AK35*D19)/AO43)*AP43","v":430.66666666666669},{"$f":"MIN((AB59+AK35*D19)/AK43,(AB60+AK35*D19)/AL43,(AB61+AK35*D19)/AM43,(AB62+AK35*D19)/AN43,(AB63+AK35*D19)/AO43)*AP43","v":432.66666666666669},{"$f":"MIN((AC59+AK35*D19)/AK43,(AC60+AK35*D19)/AL43,(AC61+AK35*D19)/AM43,(AC62+AK35*D19)/AN43,(AC63+AK35*D19)/AO43)*AP43","v":427.33333333333337},{"$f":"MIN((AD59+AK35*D19)/AK43,(AD60+AK35*D19)/AL43,(AD61+AK35*D19)/AM43,(AD62+AK35*D19)/AN43,(AD63+AK35*D19)/AO43)*AP43","v":390},{"$f":"MIN((AE59+AK35*D19)/AK43,(AE60+AK35*D19)/AL43,(AE61+AK35*D19)/AM43,(AE62+AK35*D19)/AN43,(AE63+AK35*D19)/AO43)*AP43","v":430},{"$f":"MIN((AF59+AK35*D19)/AK43,(AF60+AK35*D19)/AL43,(AF61+AK35*D19)/AM43,(AF62+AK35*D19)/AN43,(AF63+AK35*D19)/AO43)*AP43","v":432.66666666666669},{"$f":"MAX(BB56:BO56)","v":436.00000000000006},null,null,{"$f":"AP3","v":"Offensif"},null,null,null,null,null,null,null,541,433,352,442,null,null,"defensif",null,null,"neutre",null,null,"offensif",null,null,"defensif",null,null,"neutre",null,null,"offensif",null,null,"defensif",null,null,"neutre",null,null,"offensif",null,null,"defensif",null,null,"neutre",null,null,"offensif"]
[null,null,null,null,"541 defensif","541 neutre","541 offensif","433 defensif","433 neutre","433 offensif","352 defensif","352 neutre","352 offensif","442 defensif","442 neutre","442 offensif","caracteristiques joueur avec bonus batiment, objet et kit, sans vitamine.",null,null,null,null,null,null,null,null,null,null,null,null,null,null,null,null,null,null,2,{"$f":"MIN((S66+AJ35*D19)/AK42,(S67+AJ35*D19)/AL42,(S68+AJ35*D19)/AM42,(S69+AJ35*D19)/AN42,(S70+AJ35*D19)/AO42)*AP42","v":327},{"$f":"MIN((T66+AJ35*D19)/AK42,(T67+AJ35*D19)/AL42,(T68+AJ35*D19)/AM42,(T69+AJ35*D19)/AN42,(T70+AJ35*D19)/AO42)*AP42","v":313},{"$f":"MIN((U66+AJ35*D19)/AK42,(U67+AJ35*D19)/AL42,(U68+AJ35*D19)/AM42,(U69+AJ35*D19)/AN42,(U70+AJ35*D19)/AO42)*AP42","v":287},{"$f":"MIN((V66+AJ35*D19)/AK42,(V67+AJ35*D19)/AL42,(V68+AJ35*D19)/AM42,(V69+AJ35*D19)/AN42,(V70+AJ35*D19)/AO42)*AP42","v":309.5},{"$f":"MIN((W66+AJ35*D19)/AK42,(W67+AJ35*D19)/AL42,(W68+AJ35*D19)/AM42,(W69+AJ35*D19)/AN42,(W70+AJ35*D19)/AO42)*AP42","v":287},{"$f":"MIN((X66+AJ35*D19)/AK42,(X67+AJ35*D19)/AL42,(X68+AJ35*D19)/AM42,(X69+AJ35*D19)/AN42,(X70+AJ35*D19)/AO42)*AP42","v":315},{"$f":"MIN((Y66+AJ35*D19)/AK42,(Y67+AJ35*D19)/AL42,(Y68+AJ35*D19)/AM42,(Y69+AJ35*D19)/AN42,(Y70+AJ35*D19)/AO42)*AP42","v":317.5},{"$f":"MIN((Z66+AJ35*D19)/AK42,(Z67+AJ35*D19)/AL42,(Z68+AJ35*D19)/AM42,(Z69+AJ35*D19)/AN42,(Z70+AJ35*D19)/AO42)*AP42","v":287},{"$f":"MIN((AA66+AJ35*D19)/AK42,(AA67+AJ35*D19)/AL42,(AA68+AJ35*D19)/AM42,(AA69+AJ35*D19)/AN42,(AA70+AJ35*D19)/AO42)*AP42","v":317.5},{"$f":"MIN((AB66+AJ35*D19)/AK42,(AB67+AJ35*D19)/AL42,(AB68+AJ35*D19)/AM42,(AB69+AJ35*D19)/AN42,(AB70+AJ35*D19)/AO42)*AP42","v":319},{"$f":"MIN((AC66+AJ35*D19)/AK42,(AC67+AJ35*D19)/AL42,(AC68+AJ35*D19)/AM42,(AC69+AJ35*D19)/AN42,(AC70+AJ35*D19)/AO42)*AP42","v":321},{"$f":"MIN((AD66+AJ35*D19)/AK42,(AD67+AJ35*D19)/AL42,(AD68+AJ35*D19)/AM42,(AD69+AJ35*D19)/AN42,(AD70+AJ35*D19)/AO42)*AP42","v":287},{"$f":"MIN((AE66+AJ35*D19)/AK42,(AE67+AJ35*D19)/AL42,(AE68+AJ35*D19)/AM42,(AE69+AJ35*D19)/AN42,(AE70+AJ35*D19)/AO42)*AP42","v":321},{"$f":"MIN((AF66+AJ35*D19)/AK42,(AF67+AJ35*D19)/AL42,(AF68+AJ35*D19)/AM42,(AF69+AJ35*D19)/AN42,(AF70+AJ35*D19)/AO42)*AP42","v":319},{"$f":"MAX(AK57:AX57)","v":327},null,2,{"$f":"MIN((S66+AK35*D19)/AK43,(S67+AK35*D19)/AL43,(S68+AK35*D19)/AM43,(S69+AK35*D19)/AN43,(S70+AK35*D19)/AO43)*AP43","v":429.33333333333331},{"$f":"MIN((T66+AK35*D19)/AK43,(T67+AK35*D19)/AL43,(T68+AK35*D19)/AM43,(T69+AK35*D19)/AN43,(T70+AK35*D19)/AO43)*AP43","v":458.66666666666669},{"$f":"MIN((U66+AK35*D19)/AK43,(U67+AK35*D19)/AL43,(U68+AK35*D19)/AM43,(U69+AK35*D19)/AN43,(U70+AK35*D19)/AO43)*AP43","v":412.66666666666669},{"$f":"MIN((V66+AK35*D19)/AK43,(V67+AK35*D19)/AL43,(V68+AK35*D19)/AM43,(V69+AK35*D19)/AN43,(V70+AK35*D19)/AO43)*AP43","v":455.33333333333337},{"$f":"MIN((W66+AK35*D19)/AK43,(W67+AK35*D19)/AL43,(W68+AK35*D19)/AM43,(W69+AK35*D19)/AN43,(W70+AK35*D19)/AO43)*AP43","v":412.66666666666669},{"$f":"MIN((X66+AK35*D19)/AK43,(X67+AK35*D19)/AL43,(X68+AK35*D19)/AM43,(X69+AK35*D19)/AN43,(X70+AK35*D19)/AO43)*AP43","v":450},{"$f":"MIN((Y66+AK35*D19)/AK43,(Y67+AK35*D19)/AL43,(Y68+AK35*D19)/AM43,(Y69+AK35*D19)/AN43,(Y70+AK35*D19)/AO43)*AP43","v":453.33333333333331},{"$f":"MIN((Z66+AK35*D19)/AK43,(Z67+AK35*D19)/AL43,(Z68+AK35*D19)/AM43,(Z69+AK35*D19)/AN43,(Z70+AK35*D19)/AO43)*AP43","v":412.66666666666669},{"$f":"MIN((AA66+AK35*D19)/AK43,(AA67+AK35*D19)/AL43,(AA68+AK35*D19)/AM43,(AA69+AK35*D19)/AN43,(AA70+AK35*D19)/AO43)*AP43","v":453.33333333333331},{"$f":"MIN((AB66+AK35*D19)/AK43,(AB67+AK35*D19)/AL43,(AB68+AK35*D19)/AM43,(AB69+AK35*D19)/AN43,(AB70+AK35*D19)/AO43)*AP43","v":455.33333333333337},{"$f":"MIN((AC66+AK35*D19)/AK43,(AC67+AK35*D19)/AL43,(AC68+AK35*D19)/AM43,(AC69+AK35*D19)/AN43,(AC70+AK35*D19)/AO43)*AP43","v":450},{"$f":"MIN((AD66+AK35*D19)/AK43,(AD67+AK35*D19)/AL43,(AD68+AK35*D19)/AM43,(AD69+AK35*D19)/AN43,(AD70+AK35*D19)/AO43)*AP43","v":412.66666666666669},{"$f":"MIN((AE66+AK35*D19)/AK43,(AE67+AK35*D19)/AL43,(AE68+AK35*D19)/AM43,(AE69+AK35*D19)/AN43,(AE70+AK35*D19)/AO43)*AP43","v":452.66666666666663},{"$f":"MIN((AF66+AK35*D19)/AK43,(AF67+AK35*D19)/AL43,(AF68+AK35*D19)/AM43,(AF69+AK35*D19)/AN43,(AF70+AK35*D19)/AO43)*AP43","v":455.33333333333337},{"$f":"MAX(BB57:BO57)","v":458.66666666666669},null,null,"1% attaque",null,"1% defense",null,"1% cumulé",null,null,1,{"$f":"MIN(CK5/AT42,CL5/AU42,CM5/AV42,CN5/AW42,CO5/AX42)*AY42","v":{"$error":"#N/A"}},{"$f":"MIN(CK5/BB42,CL5/BC42,CM5/BD42,CN5/BE42,CO5/BF42)*BG42","v":{"$error":"#N/A"}},{"$f":"MIN(CK5/BJ42,CL5/BK42,CM5/BL42,CN5/BM42,CO5/BN42)*BO42","v":{"$error":"#N/A"}},{"$f":"MIN(CK5/BR42,CL5/BS42,CM5/BT42,CN5/BU42,CO5/BV42)*BW42","v":{"$error":"#N/A"}},null,null,"att","def","tot","att","def","tot","att","def","tot","att","def","tot","att","def","tot","att","def","tot","att","def","tot","att","def","tot","att","def","tot","att","def","tot","att","def","tot","att","def","tot"]
[null,null,null,null,{"$f":"AND(E25=C26,E26=C31)","v":false},{"$f":"AND(E25=C26,E26=C32)","v":false},{"$f":"AND(E25=C26,E26=C33)","v":false},{"$f":"AND(E25=C27,E26=C31)","v":false},{"$f":"AND(E25=C27,E26=C32)","v":false},{"$f":"AND(E25=C27,E26=C33)","v":true},{"$f":"AND(E25=C28,E26=C31)","v":false},{"$f":"AND(E25=C28,E26=C32)","v":false},{"$f":"AND(E25=C28,E26=C33)","v":false},{"$f":"AND(E25=C29,E26=C31)","v":false},{"$f":"AND(E25=C29,E26=C32)","v":false},{"$f":"AND(E25=D29,E26=C33)","v":false},null,{"$f":"G11","v":"espagne 9 "},{"$f":"Q9","v":"kit 1"},"kit 2/3",0,"kit 4",0,"kit 5","kit 6/7",0,0,"kit 8","kit 9",0,"kit 10","kit 11",null,null,null,3,{"$f":"MIN((S73+AJ35*D19)/AK42,(S74+AJ35*D19)/AL42,(S75+AJ35*D19)/AM42,(S76+AJ35*D19)/AN42,(S77+AJ35*D19)/AO42)*AP42","v":257.5},{"$f":"MIN((T73+AJ35*D19)/AK42,(T74+AJ35*D19)/AL42,(T75+AJ35*D19)/AM42,(T76+AJ35*D19)/AN42,(T77+AJ35*D19)/AO42)*AP42","v":243.5},{"$f":"MIN((U73+AJ35*D19)/AK42,(U74+AJ35*D19)/AL42,(U75+AJ35*D19)/AM42,(U76+AJ35*D19)/AN42,(U77+AJ35*D19)/AO42)*AP42","v":217.49999999999997},{"$f":"MIN((V73+AJ35*D19)/AK42,(V74+AJ35*D19)/AL42,(V75+AJ35*D19)/AM42,(V76+AJ35*D19)/AN42,(V77+AJ35*D19)/AO42)*AP42","v":240},{"$f":"MIN((W73+AJ35*D19)/AK42,(W74+AJ35*D19)/AL42,(W75+AJ35*D19)/AM42,(W76+AJ35*D19)/AN42,(W77+AJ35*D19)/AO42)*AP42","v":217.49999999999997},{"$f":"MIN((X73+AJ35*D19)/AK42,(X74+AJ35*D19)/AL42,(X75+AJ35*D19)/AM42,(X76+AJ35*D19)/AN42,(X77+AJ35*D19)/AO42)*AP42","v":245.5},{"$f":"MIN((Y73+AJ35*D19)/AK42,(Y74+AJ35*D19)/AL42,(Y75+AJ35*D19)/AM42,(Y76+AJ35*D19)/AN42,(Y77+AJ35*D19)/AO42)*AP42","v":248},{"$f":"MIN((Z73+AJ35*D19)/AK42,(Z74+AJ35*D19)/AL42,(Z75+AJ35*D19)/AM42,(Z76+AJ35*D19)/AN42,(Z77+AJ35*D19)/AO42)*AP42","v":217.49999999999997},{"$f":"MIN((AA73+AJ35*D19)/AK42,(AA74+AJ35*D19)/AL42,(AA75+AJ35*D19)/AM42,(AA76+AJ35*D19)/AN42,(AA77+AJ35*D19)/AO42)*AP42","v":248},{"$f":"MIN((AB73+AJ35*D19)/AK42,(AB74+AJ35*D19)/AL42,(AB75+AJ35*D19)/AM42,(AB76+AJ35*D19)/AN42,(AB77+AJ35*D19)/AO42)*AP42","v":249.5},{"$f":"MIN((AC73+AJ35*D19)/AK42,(AC74+AJ35*D19)/AL42,(AC75+AJ35*D19)/AM42,(AC76+AJ35*D19)/AN42,(AC77+AJ35*D19)/AO42)*AP42","v":251.5},{"$f":"MIN((AD73+AJ35*D19)/AK42,(AD74+AJ35*D19)/AL42,(AD75+AJ35*D19)/AM42,(AD76+AJ35*D19)/AN42,(AD77+AJ35*D19)/AO42)*AP42","v":217.49999999999997},{"$f":"MIN((AE73+AJ35*D19)/AK42,(AE74+AJ35*D19)/AL42,(AE75+AJ35*D19)/AM42,(AE76+AJ35*D19)/AN42,(AE77+AJ35*D19)/AO42)*AP42","v":251.5},{"$f":"MIN((AF73+AJ35*D19)/AK42,(AF74+AJ35*D19)/AL42,(AF75+AJ35*D19)/AM42,(AF76+AJ35*D19)/AN42,(AF77+AJ35*D19)/AO42)*AP42","v":249.5},257.5,null,3,{"$f":"MIN((S73+AK35*D19)/AK43,(S74+AK35*D19)/AL43,(S75+AK35*D19)/AM43,(S76+AK35*D19)/AN43,(S77+AK35*D19)/AO43)*AP43","v":416},{"$f":"MIN((T73+AK35*D19)/AK43,(T74+AK35*D19)/AL43,(T75+AK35*D19)/AM43,(T76+AK35*D19)/AN43,(T77+AK35*D19)/AO43)*AP43","v":445.33333333333331},{"$f":"MIN((U73+AK35*D19)/AK43,(U74+AK35*D19)/AL43,(U75+AK35*D19)/AM43,(U76+AK35*D19)/AN43,(U77+AK35*D19)/AO43)*AP43","v":399.33333333333331},{"$f":"MIN((V73+AK35*D19)/AK43,(V74+AK35*D19)/AL43,(V75+AK35*D19)/AM43,(V76+AK35*D19)/AN43,(V77+AK35*D19)/AO43)*AP43","v":442},{"$f":"MIN((W73+AK35*D19)/AK43,(W74+AK35*D19)/AL43,(W75+AK35*D19)/AM43,(W76+AK35*D19)/AN43,(W77+AK35*D19)/AO43)*AP43","v":399.33333333333331},{"$f":"MIN((X73+AK35*D19)/AK43,(X74+AK35*D19)/AL43,(X75+AK35*D19)/AM43,(X76+AK35*D19)/AN43,(X77+AK35*D19)/AO43)*AP43","v":436.66666666666663},{"$f":"MIN((Y73+AK35*D19)/AK43,(Y74+AK35*D19)/AL43,(Y75+AK35*D19)/AM43,(Y76+AK35*D19)/AN43,(Y77+AK35*D19)/AO43)*AP43","v":440.00000000000006},{"$f":"MIN((Z73+AK35*D19)/AK43,(Z74+AK35*D19)/AL43,(Z75+AK35*D19)/AM43,(Z76+AK35*D19)/AN43,(Z77+AK35*D19)/AO43)*AP43","v":399.33333333333331},{"$f":"MIN((AA73+AK35*D19)/AK43,(AA74+AK35*D19)/AL43,(AA75+AK35*D19)/AM43,(AA76+AK35*D19)/AN43,(AA77+AK35*D19)/AO43)*AP43","v":440.00000000000006},{"$f":"MIN((AB73+AK35*D19)/AK43,(AB74+AK35*D19)/AL43,(AB75+AK35*D19)/AM43,(AB76+AK35*D19)/AN43,(AB77+AK35*D19)/AO43)*AP43","v":442},{"$f":"MIN((AC73+AK35*D19)/AK43,(AC74+AK35*D19)/AL43,(AC75+AK35*D19)/AM43,(AC76+AK35*D19)/AN43,(AC77+AK35*D19)/AO43)*AP43","v":436.66666666666663},{"$f":"MIN((AD73+AK35*D19)/AK43,(AD74+AK35*D19)/AL43,(AD75+AK35*D19)/AM43,(AD76+AK35*D19)/AN43,(AD77+AK35*D19)/AO43)*AP43","v":399.33333333333331},{"$f":"MIN((AE73+AK35*D19)/AK43,(AE74+AK35*D19)/AL43,(AE75+AK35*D19)/AM43,(AE76+AK35*D19)/AN43,(AE77+AK35*D19)/AO43)*AP43","v":439.33333333333337},{"$f":"MIN((AF73+AK35*D19)/AK43,(AF74+AK35*D19)/AL43,(AF75+AK35*D19)/AM43,(AF76+AK35*D19)/AN43,(AF77+AK35*D19)/AO43)*AP43","v":442},445.33333333333331,null,null,{"$f":"IF(E26=C31,F45,IF(E26=C32,I45,IF(E26=C33,L45,erreur)))","v":0.27245000000000003},null,{"$f":"IF(E26=C31,G45,IF(E26=C32,J45,IF(E26=C33,M45,erreur)))","v":2.4523000000000001},null,{"$f":"BS58+BU58","v":2.7247500000000002},null,null,2,{"$error":"#N/A"},{"$error":"#N/A"},{"$error":"#N/A"},{"$error":"#N/A"},null,1,{"$f":"CA57*E62","v":{"$error":"#N/A"}},{"$f":"CA57*F62","v":{"$error":"#N/A"}},{"$f":"CA57*G62","v":{"$error":"#N/A"}},{"$f":"CA57*E76","v":{"$error":"#N/A"}},{"$f":"CA57*F76","v":{"$error":"#N/A"}},{"$f":"CA57*G76","v":{"$error":"#N/A"}},{"$f":"CA57*E90","v":{"$error":"#N/A"}},{"$f":"CA57*F90","v":{"$error":"#N/A"}},{"$f":"CA57*G90","v":{"$error":"#N/A"}},{"$f":"CB57*H62","v":{"$error":"#N/A"}},{"$f":"CB57*I62","v":{"$error":"#N/A"}},{"$f":"CB57*J62","v":{"$error":"#N/A"}},{"$f":"CB57*H76","v":{"$error":"#N/A"}},{"$f":"CB57*I76","v":{"$error":"#N/A"}},{"$f":"CB57*J76","v":{"$error":"#N/A"}},{"$f":"CB57*H90","v":{"$error":"#N/A"}},{"$f":"CB57*I90","v":{"$error":"#N/A"}},{"$f":"CB57*J90","v":{"$error":"#N/A"}},{"$f":"CC57*K62","v":{"$error":"#N/A"}},{"$f":"CC57*L62","v":{"$error":"#N/A"}},{"$f":"CC57*M62","v":{"$error":"#N/A"}},{"$f":"CC57*K76","v":{"$error":"#N/A"}},{"$f":"CC57*L76","v":{"$error":"#N/A"}},{"$f":"CC57*M76","v":{"$error":"#N/A"}},{"$f":"CC57*K90","v":{"$error":"#N/A"}},{"$f":"CC57*L90","v":{"$error":"#N/A"}},{"$f":"CC57*M90","v":{"$error":"#N/A"}},{"$f":"CD57*N62","v":{"$error":"#N/A"}},{"$f":"CD57*O62","v":{"$error":"#N/A"}},{"$f":"CD57*P62","v":{"$error":"#N/A"}},{"$f":"CD57*N76","v":{"$error":"#N/A"}},{"$f":"CD57*O76","v":{"$error":"#N/A"}},{"$f":"CD57*P76","v":{"$error":"#N/A"}},{"$f":"CD57*N90","v":{"$error":"#N/A"}},{"$f":"CD57*O90","v":{"$error":"#N/A"}},{"$f":"CD57*P90","v":{"$error":"#N/A"}}]
[null,null,null,"coefficient stat brute pour 1% / tactique",null,null,null,null,null,null,null,null,null,null,null,null,null,{"$f":"H11+AH39+D16+D17+D21+D19*AG8","v":546},{"$f":"Q10+R59","v":587},{"$f":"R59+R10","v":615},{"$f":"R59+S10","v":546},{"$f":"R59+T10","v":619},{"$f":"R59+U10","v":546},{"$f":"R59+V10","v":616},{"$f":"R59+W10","v":607},{"$f":"R59+X10","v":546},{"$f":"R59+Y10","v":607},{"$f":"R59+Z10","v":602},{"$f":"R59+AA10","v":607},{"$f":"R59+AB10","v":546},{"$f":"R59+AC10","v":592},{"$f":"R59+AD10","v":597},null,null,null,"algerie 4 ",{"$f":"MIN((S80+AJ35*D19)/AK42,(S81+AJ35*D19)/AL42,(S82+AJ35*D19)/AM42,(S83+AJ35*D19)/AN42,(S84+AJ35*D19)/AO42)*AP42","v":225},{"$f":"MIN((T80+AJ35*D19)/AK42,(T81+AJ35*D19)/AL42,(T82+AJ35*D19)/AM42,(T83+AJ35*D19)/AN42,(T84+AJ35*D19)/AO42)*AP42","v":211},{"$f":"MIN((U80+AJ35*D19)/AK42,(U81+AJ35*D19)/AL42,(U82+AJ35*D19)/AM42,(U83+AJ35*D19)/AN42,(U84+AJ35*D19)/AO42)*AP42","v":185},{"$f":"MIN((V80+AJ35*D19)/AK42,(V81+AJ35*D19)/AL42,(V82+AJ35*D19)/AM42,(V83+AJ35*D19)/AN42,(V84+AJ35*D19)/AO42)*AP42","v":207.50000000000003},{"$f":"MIN((W80+AJ35*D19)/AK42,(W81+AJ35*D19)/AL42,(W82+AJ35*D19)/AM42,(W83+AJ35*D19)/AN42,(W84+AJ35*D19)/AO42)*AP42","v":185},{"$f":"MIN((X80+AJ35*D19)/AK42,(X81+AJ35*D19)/AL42,(X82+AJ35*D19)/AM42,(X83+AJ35*D19)/AN42,(X84+AJ35*D19)/AO42)*AP42","v":213},{"$f":"MIN((Y80+AJ35*D19)/AK42,(Y81+AJ35*D19)/AL42,(Y82+AJ35*D19)/AM42,(Y83+AJ35*D19)/AN42,(Y84+AJ35*D19)/AO42)*AP42","v":215.49999999999997},{"$f":"MIN((Z80+AJ35*D19)/AK42,(Z81+AJ35*D19)/AL42,(Z82+AJ35*D19)/AM42,(Z83+AJ35*D19)/AN42,(Z84+AJ35*D19)/AO42)*AP42","v":185},{"$f":"MIN((AA80+AJ35*D19)/AK42,(AA81+AJ35*D19)/AL42,(AA82+AJ35*D19)/AM42,(AA83+AJ35*D19)/AN42,(AA84+AJ35*D19)/AO42)*AP42","v":215.49999999999997},{"$f":"MIN((AB80+AJ35*D19)/AK42,(AB81+AJ35*D19)/AL42,(AB82+AJ35*D19)/AM42,(AB83+AJ35*D19)/AN42,(AB84+AJ35*D19)/AO42)*AP42","v":217},{"$f":"MIN((AC80+AJ35*D19)/AK42,(AC81+AJ35*D19)/AL42,(AC82+AJ35*D19)/AM42,(AC83+AJ35*D19)/AN42,(AC84+AJ35*D19)/AO42)*AP42","v":219},{"$f":"MIN((AD80+AJ35*D19)/AK42,(AD81+AJ35*D19)/AL42,(AD82+AJ35*D19)/AM42,(AD83+AJ35*D19)/AN42,(AD84+AJ35*D19)/AO42)*AP42","v":185},{"$f":"MIN((AE80+AJ35*D19)/AK42,(AE81+AJ35*D19)/AL42,(AE82+AJ35*D19)/AM42,(AE83+AJ35*D19)/AN42,(AE84+AJ35*D19)/AO42)*AP42","v":219},{"$f":"MIN((AF80+AJ35*D19)/AK42,(AF81+AJ35*D19)/AL42,(AF82+AJ35*D19)/AM42,(AF83+AJ35*D19)/AN42,(AF84+AJ35*D19)/AO42)*AP42","v":217},225,null,"algerie 4 ",{"$f":"MIN((S80+AK35*D19)/AK43,(S81+AK35*D19)/AL43,(S82+AK35*D19)/AM43,(S83+AK35*D19)/AN43,(S84+AK35*D19)/AO43)*AP43","v":361.33333333333331},{"$f":"MIN((T80+AK35*D19)/AK43,(T81+AK35*D19)/AL43,(T82+AK35*D19)/AM43,(T83+AK35*D19)/AN43,(T84+AK35*D19)/AO43)*AP43","v":389},{"$f":"MIN((U80+AK35*D19)/AK43,(U81+AK35*D19)/AL43,(U82+AK35*D19)/AM43,(U83+AK35*D19)/AN43,(U84+AK35*D19)/AO43)*AP43","v":337},{"$f":"MIN((V80+AK35*D19)/AK43,(V81+AK35*D19)/AL43,(V82+AK35*D19)/AM43,(V83+AK35*D19)/AN43,(V84+AK35*D19)/AO43)*AP43","v":382},{"$f":"MIN((W80+AK35*D19)/AK43,(W81+AK35*D19)/AL43,(W82+AK35*D19)/AM43,(W83+AK35*D19)/AN43,(W84+AK35*D19)/AO43)*AP43","v":337},{"$f":"MIN((X80+AK35*D19)/AK43,(X81+AK35*D19)/AL43,(X82+AK35*D19)/AM43,(X83+AK35*D19)/AN43,(X84+AK35*D19)/AO43)*AP43","v":382},{"$f":"MIN((Y80+AK35*D19)/AK43,(Y81+AK35*D19)/AL43,(Y82+AK35*D19)/AM43,(Y83+AK35*D19)/AN43,(Y84+AK35*D19)/AO43)*AP43","v":385.33333333333337},{"$f":"MIN((Z80+AK35*D19)/AK43,(Z81+AK35*D19)/AL43,(Z82+AK35*D19)/AM43,(Z83+AK35*D19)/AN43,(Z84+AK35*D19)/AO43)*AP43","v":337},{"$f":"MIN((AA80+AK35*D19)/AK43,(AA81+AK35*D19)/AL43,(AA82+AK35*D19)/AM43,(AA83+AK35*D19)/AN43,(AA84+AK35*D19)/AO43)*AP43","v":385.33333333333337},{"$f":"MIN((AB80+AK35*D19)/AK43,(AB81+AK35*D19)/AL43,(AB82+AK35*D19)/AM43,(AB83+AK35*D19)/AN43,(AB84+AK35*D19)/AO43)*AP43","v":385},{"$f":"MIN((AC80+AK35*D19)/AK43,(AC81+AK35*D19)/AL43,(AC82+AK35*D19)/AM43,(AC83+AK35*D19)/AN43,(AC84+AK35*D19)/AO43)*AP43","v":382},{"$f":"MIN((AD80+AK35*D19)/AK43,(AD81+AK35*D19)/AL43,(AD82+AK35*D19)/AM43,(AD83+AK35*D19)/AN43,(AD84+AK35*D19)/AO43)*AP43","v":337},{"$f":"MIN((AE80+AK35*D19)/AK43,(AE81+AK35*D19)/AL43,(AE82+AK35*D19)/AM43,(AE83+AK35*D19)/AN43,(AE84+AK35*D19)/AO43)*AP43","v":384.66666666666669},{"$f":"MIN((AF80+AK35*D19)/AK43,(AF81+AK35*D19)/AL43,(AF82+AK35*D19)/AM43,(AF83+AK35*D19)/AN43,(AF84+AK35*D19)/AO43)*AP43","v":381},389,null,null,{"$f":"IF(E26=C31,F46,IF(E26=C32,I46,IF(E26=C33,L46,erreur)))","v":0.95365},null,{"$f":"IF(E26=C31,G46,IF(E26=C32,J46,IF(E26=C33,M46,erreur)))","v":0.40870000000000001},null,{"$f":"BS59+BU59","v":1.3623499999999999},null,null,3,{"$error":"#N/A"},{"$error":"#N/A"},{"$error":"#N/A"},{"$error":"#N/A"},null,2,{"$error":"#N/A"},{"$error":"#N/A"},{"$error":"#N/A"},{"$error":"#N/A"},{"$error":"#N/A"},{"$error":"#N/A"},{"$error":"#N/A"},{"$error":"#N/A"},{"$error":"#N/A"},{"$error":"#N/A"},{"$error":"#N/A"},{"$error":"#N/A"},{"$error":"#N/A"},{"$error":"#N/A"},{"$error":"#N/A"},{"$error":"#N/A"},{"$error":"#N/A"},{"$error":"#N/A"},{"$error":"#N/A"},{"$error":"#N/A"},{"$error":"#N/A"},{"$error":"#N/A"},{"$error":"#N/A"},{"$error":"#N/A"},{"$error":"#N/A"},{"$error":"#N/A"},{"$error":"#N/A"},{"$error":"#N/A"},{"$error":"#N/A"},{"$error":"#N/A"},{"$error":"#N/A"},{"$error":"#N/A"},{"$error":"#N/A"},{"$error":"#N/A"},{"$error":"#N/A"},{"$error":"#N/A"}]
[null,null,null,null,"541 défensif",null,null,"433 défensif",null,null,"352 défensif",null,null,"442 défensif",null,null,null,{"$f":"I11+AH40+D15+D17+D21+D19*AG8","v":654},{"$f":"Q11+R60","v":734},{"$f":"R60+R11","v":706},{"$f":"R60+S11","v":654},{"$f":"R60+T11","v":699},{"$f":"R60+U11","v":654},{"$f":"R60+V11","v":710},{"$f":"R60+W11","v":715},{"$f":"R60+X11","v":654},{"$f":"R60+Y11","v":715},{"$f":"R60+Z11","v":718},{"$f":"R60+AA11","v":722},{"$f":"R60+AB11","v":654},{"$f":"R60+AC11","v":722},{"$f":"R60+AD11","v":718},null,null,null,"ghana 5 ",{"$f":"MIN((S87+AJ35*D19)/AK42,(S88+AJ35*D19)/AL42,(S89+AJ35*D19)/AM42,(S90+AJ35*D19)/AN42,(S91+AJ35*D19)/AO42)*AP42","v":326},{"$f":"MIN((T87+AJ35*D19)/AK42,(T88+AJ35*D19)/AL42,(T89+AJ35*D19)/AM42,(T90+AJ35*D19)/AN42,(T91+AJ35*D19)/AO42)*AP42","v":312},{"$f":"MIN((U87+AJ35*D19)/AK42,(U88+AJ35*D19)/AL42,(U89+AJ35*D19)/AM42,(U90+AJ35*D19)/AN42,(U91+AJ35*D19)/AO42)*AP42","v":286},{"$f":"MIN((V87+AJ35*D19)/AK42,(V88+AJ35*D19)/AL42,(V89+AJ35*D19)/AM42,(V90+AJ35*D19)/AN42,(V91+AJ35*D19)/AO42)*AP42","v":308.5},{"$f":"MIN((W87+AJ35*D19)/AK42,(W88+AJ35*D19)/AL42,(W89+AJ35*D19)/AM42,(W90+AJ35*D19)/AN42,(W91+AJ35*D19)/AO42)*AP42","v":286},{"$f":"MIN((X87+AJ35*D19)/AK42,(X88+AJ35*D19)/AL42,(X89+AJ35*D19)/AM42,(X90+AJ35*D19)/AN42,(X91+AJ35*D19)/AO42)*AP42","v":314},{"$f":"MIN((Y87+AJ35*D19)/AK42,(Y88+AJ35*D19)/AL42,(Y89+AJ35*D19)/AM42,(Y90+AJ35*D19)/AN42,(Y91+AJ35*D19)/AO42)*AP42","v":316.5},{"$f":"MIN((Z87+AJ35*D19)/AK42,(Z88+AJ35*D19)/AL42,(Z89+AJ35*D19)/AM42,(Z90+AJ35*D19)/AN42,(Z91+AJ35*D19)/AO42)*AP42","v":286},{"$f":"MIN((AA87+AJ35*D19)/AK42,(AA88+AJ35*D19)/AL42,(AA89+AJ35*D19)/AM42,(AA90+AJ35*D19)/AN42,(AA91+AJ35*D19)/AO42)*AP42","v":316.5},{"$f":"MIN((AB87+AJ35*D19)/AK42,(AB88+AJ35*D19)/AL42,(AB89+AJ35*D19)/AM42,(AB90+AJ35*D19)/AN42,(AB91+AJ35*D19)/AO42)*AP42","v":318},{"$f":"MIN((AC87+AJ35*D19)/AK42,(AC88+AJ35*D19)/AL42,(AC89+AJ35*D19)/AM42,(AC90+AJ35*D19)/AN42,(AC91+AJ35*D19)/AO42)*AP42","v":320},{"$f":"MIN((AD87+AJ35*D19)/AK42,(AD88+AJ35*D19)/AL42,(AD89+AJ35*D19)/AM42,(AD90+AJ35*D19)/AN42,(AD91+AJ35*D19)/AO42)*AP42","v":286},{"$f":"MIN((AE87+AJ35*D19)/AK42,(AE88+AJ35*D19)/AL42,(AE89+AJ35*D19)/AM42,(AE90+AJ35*D19)/AN42,(AE91+AJ35*D19)/AO42)*AP42","v":320},{"$f":"MIN((AF87+AJ35*D19)/AK42,(AF88+AJ35*D19)/AL42,(AF89+AJ35*D19)/AM42,(AF90+AJ35*D19)/AN42,(AF91+AJ35*D19)/AO42)*AP42","v":318},326,null,"ghana 5 ",{"$f":"MIN((S87+AK35*D19)/AK43,(S88+AK35*D19)/AL43,(S89+AK35*D19)/AM43,(S90+AK35*D19)/AN43,(S91+AK35*D19)/AO43)*AP43","v":371.33333333333331},{"$f":"MIN((T87+AK35*D19)/AK43,(T88+AK35*D19)/AL43,(T89+AK35*D19)/AM43,(T90+AK35*D19)/AN43,(T91+AK35*D19)/AO43)*AP43","v":400.66666666666669},{"$f":"MIN((U87+AK35*D19)/AK43,(U88+AK35*D19)/AL43,(U89+AK35*D19)/AM43,(U90+AK35*D19)/AN43,(U91+AK35*D19)/AO43)*AP43","v":354.66666666666669},{"$f":"MIN((V87+AK35*D19)/AK43,(V88+AK35*D19)/AL43,(V89+AK35*D19)/AM43,(V90+AK35*D19)/AN43,(V91+AK35*D19)/AO43)*AP43","v":397.33333333333331},{"$f":"MIN((W87+AK35*D19)/AK43,(W88+AK35*D19)/AL43,(W89+AK35*D19)/AM43,(W90+AK35*D19)/AN43,(W91+AK35*D19)/AO43)*AP43","v":354.66666666666669},{"$f":"MIN((X87+AK35*D19)/AK43,(X88+AK35*D19)/AL43,(X89+AK35*D19)/AM43,(X90+AK35*D19)/AN43,(X91+AK35*D19)/AO43)*AP43","v":392},{"$f":"MIN((Y87+AK35*D19)/AK43,(Y88+AK35*D19)/AL43,(Y89+AK35*D19)/AM43,(Y90+AK35*D19)/AN43,(Y91+AK35*D19)/AO43)*AP43","v":395.33333333333331},{"$f":"MIN((Z87+AK35*D19)/AK43,(Z88+AK35*D19)/AL43,(Z89+AK35*D19)/AM43,(Z90+AK35*D19)/AN43,(Z91+AK35*D19)/AO43)*AP43","v":354.66666666666669},{"$f":"MIN((AA87+AK35*D19)/AK43,(AA88+AK35*D19)/AL43,(AA89+AK35*D19)/AM43,(AA90+AK35*D19)/AN43,(AA91+AK35*D19)/AO43)*AP43","v":395.33333333333331},{"$f":"MIN((AB87+AK35*D19)/AK43,(AB88+AK35*D19)/AL43,(AB89+AK35*D19)/AM43,(AB90+AK35*D19)/AN43,(AB91+AK35*D19)/AO43)*AP43","v":397.33333333333331},{"$f":"MIN((AC87+AK35*D19)/AK43,(AC88+AK35*D19)/AL43,(AC89+AK35*D19)/AM43,(AC90+AK35*D19)/AN43,(AC91+AK35*D19)/AO43)*AP43","v":392},{"$f":"MIN((AD87+AK35*D19)/AK43,(AD88+AK35*D19)/AL43,(AD89+AK35*D19)/AM43,(AD90+AK35*D19)/AN43,(AD91+AK35*D19)/AO43)*AP43","v":354.66666666666669},{"$f":"MIN((AE87+AK35*D19)/AK43,(AE88+AK35*D19)/AL43,(AE89+AK35*D19)/AM43,(AE90+AK35*D19)/AN43,(AE91+AK35*D19)/AO43)*AP43","v":394.66666666666669},{"$f":"MIN((AF87+AK35*D19)/AK43,(AF88+AK35*D19)/AL43,(AF89+AK35*D19)/AM43,(AF90+AK35*D19)/AN43,(AF91+AK35*D19)/AO43)*AP43","v":397.33333333333331},400.66666666666669,null,null,{"$f":"IF(E26=C31,F47,IF(E26=C32,I47,IF(E26=C33,L47,erreur)))","v":0.95365},null,{"$f":"IF(E26=C31,G47,IF(E26=C32,J47,IF(E26=C33,M47,erreur)))","v":0.40870000000000001},null,1.3623499999999999,null,null,4,{"$error":"#N/A"},{"$error":"#N/A"},{"$error":"#N/A"},{"$error":"#N/A"},null,3,{"$error":"#N/A"},{"$error":"#N/A"},{"$error":"#N/A"},{"$error":"#N/A"},{"$error":"#N/A"},{"$error":"#N/A"},{"$error":"#N/A"},{"$error":"#N/A"},{"$error":"#N/A"},{"$error":"#N/A"},{"$error":"#N/A"},{"$error":"#N/A"},{"$error":"#N/A"},{"$error":"#N/A"},{"$error":"#N/A"},{"$error":"#N/A"},{"$error":"#N/A"},{"$error":"#N/A"},{"$error":"#N/A"},{"$error":"#N/A"},{"$error":"#N/A"},{"$error":"#N/A"},{"$error":"#N/A"},{"$error":"#N/A"},{"$error":"#N/A"},{"$error":"#N/A"},{"$error":"#N/A"},{"$error":"#N/A"},{"$error":"#N/A"},{"$error":"#N/A"},{"$error":"#N/A"},{"$error":"#N/A"},{"$error":"#N/A"},{"$error":"#N/A"},{"$error":"#N/A"},{"$error":"#N/A"}]
[null,null,null,null,"1% attaque","1% defense","1% cumulé","1% attaque","1% defense","1% cumulé","1% attaque","1% defense","1% cumulé","1% attaque","1% defense","1% cumulé",null,{"$f":"J11+AH41+D15+D17+D21+D19*AG8","v":613},{"$f":"Q12+R61","v":654},{"$f":"R61+R12","v":673},{"$f":"R61+S12","v":613},{"$f":"R61+T12","v":686},{"$f":"R61+U12","v":613},{"$f":"R61+V12","v":669},{"$f":"R61+W12","v":674},{"$f":"R61+X12","v":613},{"$f":"R61+Y12","v":674},{"$f":"R61+Z12","v":677},{"$f":"R61+AA12","v":681},{"$f":"R61+AB12","v":613},{"$f":"R61+AC12","v":666},{"$f":"R61+AD12","v":684},null,null,null,"slovenie 6 ",{"$f":"MIN((S94+AJ35*D19)/AK42,(S95+AJ35*D19)/AL42,(S96+AJ35*D19)/AM42,(S97+AJ35*D19)/AN42,(S98+AJ35*D19)/AO42)*AP42","v":346},{"$f":"MIN((T94+AJ35*D19)/AK42,(T95+AJ35*D19)/AL42,(T96+AJ35*D19)/AM42,(T97+AJ35*D19)/AN42,(T98+AJ35*D19)/AO42)*AP42","v":332},{"$f":"MIN((U94+AJ35*D19)/AK42,(U95+AJ35*D19)/AL42,(U96+AJ35*D19)/AM42,(U97+AJ35*D19)/AN42,(U98+AJ35*D19)/AO42)*AP42","v":306},{"$f":"MIN((V94+AJ35*D19)/AK42,(V95+AJ35*D19)/AL42,(V96+AJ35*D19)/AM42,(V97+AJ35*D19)/AN42,(V98+AJ35*D19)/AO42)*AP42","v":328.5},{"$f":"MIN((W94+AJ35*D19)/AK42,(W95+AJ35*D19)/AL42,(W96+AJ35*D19)/AM42,(W97+AJ35*D19)/AN42,(W98+AJ35*D19)/AO42)*AP42","v":306},{"$f":"MIN((X94+AJ35*D19)/AK42,(X95+AJ35*D19)/AL42,(X96+AJ35*D19)/AM42,(X97+AJ35*D19)/AN42,(X98+AJ35*D19)/AO42)*AP42","v":334},{"$f":"MIN((Y94+AJ35*D19)/AK42,(Y95+AJ35*D19)/AL42,(Y96+AJ35*D19)/AM42,(Y97+AJ35*D19)/AN42,(Y98+AJ35*D19)/AO42)*AP42","v":336.5},{"$f":"MIN((Z94+AJ35*D19)/AK42,(Z95+AJ35*D19)/AL42,(Z96+AJ35*D19)/AM42,(Z97+AJ35*D19)/AN42,(Z98+AJ35*D19)/AO42)*AP42","v":306},{"$f":"MIN((AA94+AJ35*D19)/AK42,(AA95+AJ35*D19)/AL42,(AA96+AJ35*D19)/AM42,(AA97+AJ35*D19)/AN42,(AA98+AJ35*D19)/AO42)*AP42","v":336.5},{"$f":"MIN((AB94+AJ35*D19)/AK42,(AB95+AJ35*D19)/AL42,(AB96+AJ35*D19)/AM42,(AB97+AJ35*D19)/AN42,(AB98+AJ35*D19)/AO42)*AP42","v":338},{"$f":"MIN((AC94+AJ35*D19)/AK42,(AC95+AJ35*D19)/AL42,(AC96+AJ35*D19)/AM42,(AC97+AJ35*D19)/AN42,(AC98+AJ35*D19)/AO42)*AP42","v":340},{"$f":"MIN((AD94+AJ35*D19)/AK42,(AD95+AJ35*D19)/AL42,(AD96+AJ35*D19)/AM42,(AD97+AJ35*D19)/AN42,(AD98+AJ35*D19)/AO42)*AP42","v":306},{"$f":"MIN((AE94+AJ35*D19)/AK42,(AE95+AJ35*D19)/AL42,(AE96+AJ35*D19)/AM42,(AE97+AJ35*D19)/AN42,(AE98+AJ35*D19)/AO42)*AP42","v":340},{"$f":"MIN((AF94+AJ35*D19)/AK42,(AF95+AJ35*D19)/AL42,(AF96+AJ35*D19)/AM42,(AF97+AJ35*D19)/AN42,(AF98+AJ35*D19)/AO42)*AP42","v":338},346,null,"slovenie 6 ",{"$f":"MIN((S94+AK35*D19)/AK43,(S95+AK35*D19)/AL43,(S96+AK35*D19)/AM43,(S97+AK35*D19)/AN43,(S98+AK35*D19)/AO43)*AP43","v":386.66666666666669},{"$f":"MIN((T94+AK35*D19)/AK43,(T95+AK35*D19)/AL43,(T96+AK35*D19)/AM43,(T97+AK35*D19)/AN43,(T98+AK35*D19)/AO43)*AP43","v":416},{"$f":"MIN((U94+AK35*D19)/AK43,(U95+AK35*D19)/AL43,(U96+AK35*D19)/AM43,(U97+AK35*D19)/AN43,(U98+AK35*D19)/AO43)*AP43","v":370},{"$f":"MIN((V94+AK35*D19)/AK43,(V95+AK35*D19)/AL43,(V96+AK35*D19)/AM43,(V97+AK35*D19)/AN43,(V98+AK35*D19)/AO43)*AP43","v":412.66666666666669},{"$f":"MIN((W94+AK35*D19)/AK43,(W95+AK35*D19)/AL43,(W96+AK35*D19)/AM43,(W97+AK35*D19)/AN43,(W98+AK35*D19)/AO43)*AP43","v":370},{"$f":"MIN((X94+AK35*D19)/AK43,(X95+AK35*D19)/AL43,(X96+AK35*D19)/AM43,(X97+AK35*D19)/AN43,(X98+AK35*D19)/AO43)*AP43","v":407.33333333333331},{"$f":"MIN((Y94+AK35*D19)/AK43,(Y95+AK35*D19)/AL43,(Y96+AK35*D19)/AM43,(Y97+AK35*D19)/AN43,(Y98+AK35*D19)/AO43)*AP43","v":410.66666666666663},{"$f":"MIN((Z94+AK35*D19)/AK43,(Z95+AK35*D19)/AL43,(Z96+AK35*D19)/AM43,(Z97+AK35*D19)/AN43,(Z98+AK35*D19)/AO43)*AP43","v":370},{"$f":"MIN((AA94+AK35*D19)/AK43,(AA95+AK35*D19)/AL43,(AA96+AK35*D19)/AM43,(AA97+AK35*D19)/AN43,(AA98+AK35*D19)/AO43)*AP43","v":410.66666666666663},{"$f":"MIN((AB94+AK35*D19)/AK43,(AB95+AK35*D19)/AL43,(AB96+AK35*D19)/AM43,(AB97+AK35*D19)/AN43,(AB98+AK35*D19)/AO43)*AP43","v":412.66666666666669},{"$f":"MIN((AC94+AK35*D19)/AK43,(AC95+AK35*D19)/AL43,(AC96+AK35*D19)/AM43,(AC97+AK35*D19)/AN43,(AC98+AK35*D19)/AO43)*AP43","v":407.33333333333331},{"$f":"MIN((AD94+AK35*D19)/AK43,(AD95+AK35*D19)/AL43,(AD96+AK35*D19)/AM43,(AD97+AK35*D19)/AN43,(AD98+AK35*D19)/AO43)*AP43","v":370},{"$f":"MIN((AE94+AK35*D19)/AK43,(AE95+AK35*D19)/AL43,(AE96+AK35*D19)/AM43,(AE97+AK35*D19)/AN43,(AE98+AK35*D19)/AO43)*AP43","v":409.99999999999994},{"$f":"MIN((AF94+AK35*D19)/AK43,(AF95+AK35*D19)/AL43,(AF96+AK35*D19)/AM43,(AF97+AK35*D19)/AN43,(AF98+AK35*D19)/AO43)*AP43","v":412.66666666666669},416,null,null,{"$f":"IF(E26=C31,F48,IF(E26=C32,I48,IF(E26=C33,L48,erreur)))","v":0.36330000000000001},null,{"$f":"IF(E26=C31,G48,IF(E26=C32,J48,IF(E26=C33,M48,erreur)))","v":0.54495000000000005},null,0.90825,null,null,5,{"$error":"#N/A"},{"$error":"#N/A"},{"$error":"#N/A"},{"$error":"#N/A"},null,4,{"$error":"#N/A"},{"$error":"#N/A"},{"$error":"#N/A"},{"$error":"#N/A"},{"$error":"#N/A"},{"$error":"#N/A"},{"$error":"#N/A"},{"$error":"#N/A"},{"$error":"#N/A"},{"$error":"#N/A"},{"$error":"#N/A"},{"$error":"#N/A"},{"$error":"#N/A"},{"$error":"#N/A"},{"$error":"#N/A"},{"$error":"#N/A"},{"$error":"#N/A"},{"$error":"#N/A"},{"$error":"#N/A"},{"$error":"#N/A"},{"$error":"#N/A"},{"$error":"#N/A"},{"$error":"#N/A"},{"$error":"#N/A"},{"$error":"#N/A"},{"$error":"#N/A"},{"$error":"#N/A"},{"$error":"#N/A"},{"$error":"#N/A"},{"$error":"#N/A"},{"$error":"#N/A"},{"$error":"#N/A"},{"$error":"#N/A"},{"$error":"#N/A"},{"$error":"#N/A"},{"$error":"#N/A"}]
[null,null,null,null,5.4449999999999998E-2,2.6702499999999998,{"$f":"E62+F62","v":2.7246999999999999},5.4449999999999998E-2,2.6702499999999998,{"$f":"H62+I62","v":2.7246999999999999},5.4449999999999998E-2,2.6702499999999998,{"$f":"K62+L62","v":2.7246999999999999},5.4449999999999998E-2,2.6702499999999998,{"$f":"N62+O62","v":2.7246999999999999},null,{"$f":"K11+AH42+D16+D17+D21+D19*AG8","v":585},{"$f":"Q13+R62","v":610},{"$f":"R62+R13","v":654},{"$f":"R62+S13","v":585},{"$f":"R62+T13","v":649},{"$f":"R62+U13","v":585},{"$f":"R62+V13","v":641},{"$f":"R62+W13","v":646},{"$f":"R62+X13","v":585},{"$f":"R62+Y13","v":646},{"$f":"R62+Z13","v":649},{"$f":"R62+AA13","v":641},{"$f":"R62+AB13","v":585},{"$f":"R62+AC13","v":645},{"$f":"R62+AD13","v":649},null,null,null,"grece 7 ",{"$f":"MIN((S101+AJ35*D19)/AK42,(S102+AJ35*D19)/AL42,(S103+AJ35*D19)/AM42,(S104+AJ35*D19)/AN42,(S105+AJ35*D19)/AO42)*AP42","v":337.5},{"$f":"MIN((T101+AJ35*D19)/AK42,(T102+AJ35*D19)/AL42,(T103+AJ35*D19)/AM42,(T104+AJ35*D19)/AN42,(T105+AJ35*D19)/AO42)*AP42","v":323.5},{"$f":"MIN((U101+AJ35*D19)/AK42,(U102+AJ35*D19)/AL42,(U103+AJ35*D19)/AM42,(U104+AJ35*D19)/AN42,(U105+AJ35*D19)/AO42)*AP42","v":297.5},{"$f":"MIN((V101+AJ35*D19)/AK42,(V102+AJ35*D19)/AL42,(V103+AJ35*D19)/AM42,(V104+AJ35*D19)/AN42,(V105+AJ35*D19)/AO42)*AP42","v":320},{"$f":"MIN((W101+AJ35*D19)/AK42,(W102+AJ35*D19)/AL42,(W103+AJ35*D19)/AM42,(W104+AJ35*D19)/AN42,(W105+AJ35*D19)/AO42)*AP42","v":297.5},{"$f":"MIN((X101+AJ35*D19)/AK42,(X102+AJ35*D19)/AL42,(X103+AJ35*D19)/AM42,(X104+AJ35*D19)/AN42,(X105+AJ35*D19)/AO42)*AP42","v":325.5},{"$f":"MIN((Y101+AJ35*D19)/AK42,(Y102+AJ35*D19)/AL42,(Y103+AJ35*D19)/AM42,(Y104+AJ35*D19)/AN42,(Y105+AJ35*D19)/AO42)*AP42","v":328},{"$f":"MIN((Z101+AJ35*D19)/AK42,(Z102+AJ35*D19)/AL42,(Z103+AJ35*D19)/AM42,(Z104+AJ35*D19)/AN42,(Z105+AJ35*D19)/AO42)*AP42","v":297.5},{"$f":"MIN((AA101+AJ35*D19)/AK42,(AA102+AJ35*D19)/AL42,(AA103+AJ35*D19)/AM42,(AA104+AJ35*D19)/AN42,(AA105+AJ35*D19)/AO42)*AP42","v":328},{"$f":"MIN((AB101+AJ35*D19)/AK42,(AB102+AJ35*D19)/AL42,(AB103+AJ35*D19)/AM42,(AB104+AJ35*D19)/AN42,(AB105+AJ35*D19)/AO42)*AP42","v":329.5},{"$f":"MIN((AC101+AJ35*D19)/AK42,(AC102+AJ35*D19)/AL42,(AC103+AJ35*D19)/AM42,(AC104+AJ35*D19)/AN42,(AC105+AJ35*D19)/AO42)*AP42","v":331.5},{"$f":"MIN((AD101+AJ35*D19)/AK42,(AD102+AJ35*D19)/AL42,(AD103+AJ35*D19)/AM42,(AD104+AJ35*D19)/AN42,(AD105+AJ35*D19)/AO42)*AP42","v":297.5},{"$f":"MIN((AE101+AJ35*D19)/AK42,(AE102+AJ35*D19)/AL42,(AE103+AJ35*D19)/AM42,(AE104+AJ35*D19)/AN42,(AE105+AJ35*D19)/AO42)*AP42","v":331.5},{"$f":"MIN((AF101+AJ35*D19)/AK42,(AF102+AJ35*D19)/AL42,(AF103+AJ35*D19)/AM42,(AF104+AJ35*D19)/AN42,(AF105+AJ35*D19)/AO42)*AP42","v":329.5},337.5,null,"grece 7 ",{"$f":"MIN((S101+AK35*D19)/AK43,(S102+AK35*D19)/AL43,(S103+AK35*D19)/AM43,(S104+AK35*D19)/AN43,(S105+AK35*D19)/AO43)*AP43","v":392.66666666666669},{"$f":"MIN((T101+AK35*D19)/AK43,(T102+AK35*D19)/AL43,(T103+AK35*D19)/AM43,(T104+AK35*D19)/AN43,(T105+AK35*D19)/AO43)*AP43","v":422},{"$f":"MIN((U101+AK35*D19)/AK43,(U102+AK35*D19)/AL43,(U103+AK35*D19)/AM43,(U104+AK35*D19)/AN43,(U105+AK35*D19)/AO43)*AP43","v":376},{"$f":"MIN((V101+AK35*D19)/AK43,(V102+AK35*D19)/AL43,(V103+AK35*D19)/AM43,(V104+AK35*D19)/AN43,(V105+AK35*D19)/AO43)*AP43","v":418.66666666666663},{"$f":"MIN((W101+AK35*D19)/AK43,(W102+AK35*D19)/AL43,(W103+AK35*D19)/AM43,(W104+AK35*D19)/AN43,(W105+AK35*D19)/AO43)*AP43","v":376},{"$f":"MIN((X101+AK35*D19)/AK43,(X102+AK35*D19)/AL43,(X103+AK35*D19)/AM43,(X104+AK35*D19)/AN43,(X105+AK35*D19)/AO43)*AP43","v":413.33333333333337},{"$f":"MIN((Y101+AK35*D19)/AK43,(Y102+AK35*D19)/AL43,(Y103+AK35*D19)/AM43,(Y104+AK35*D19)/AN43,(Y105+AK35*D19)/AO43)*AP43","v":416.66666666666669},{"$f":"MIN((Z101+AK35*D19)/AK43,(Z102+AK35*D19)/AL43,(Z103+AK35*D19)/AM43,(Z104+AK35*D19)/AN43,(Z105+AK35*D19)/AO43)*AP43","v":376},{"$f":"MIN((AA101+AK35*D19)/AK43,(AA102+AK35*D19)/AL43,(AA103+AK35*D19)/AM43,(AA104+AK35*D19)/AN43,(AA105+AK35*D19)/AO43)*AP43","v":416.66666666666669},{"$f":"MIN((AB101+AK35*D19)/AK43,(AB102+AK35*D19)/AL43,(AB103+AK35*D19)/AM43,(AB104+AK35*D19)/AN43,(AB105+AK35*D19)/AO43)*AP43","v":418.66666666666663},{"$f":"MIN((AC101+AK35*D19)/AK43,(AC102+AK35*D19)/AL43,(AC103+AK35*D19)/AM43,(AC104+AK35*D19)/AN43,(AC105+AK35*D19)/AO43)*AP43","v":413.33333333333337},{"$f":"MIN((AD101+AK35*D19)/AK43,(AD102+AK35*D19)/AL43,(AD103+AK35*D19)/AM43,(AD104+AK35*D19)/AN43,(AD105+AK35*D19)/AO43)*AP43","v":376},{"$f":"MIN((AE101+AK35*D19)/AK43,(AE102+AK35*D19)/AL43,(AE103+AK35*D19)/AM43,(AE104+AK35*D19)/AN43,(AE105+AK35*D19)/AO43)*AP43","v":416},{"$f":"MIN((AF101+AK35*D19)/AK43,(AF102+AK35*D19)/AL43,(AF103+AK35*D19)/AM43,(AF104+AK35*D19)/AN43,(AF105+AK35*D19)/AO43)*AP43","v":418.66666666666663},422,null,null,{"$f":"IF(E26=C31,F49,IF(E26=C32,I49,IF(E26=C33,L49,erreur)))","v":0.95365},null,{"$f":"IF(E26=C31,G49,IF(E26=C32,J49,IF(E26=C33,M49,erreur)))","v":0.40870000000000001},null,1.3623499999999999,null,null,6,{"$error":"#N/A"},{"$error":"#N/A"},{"$error":"#N/A"},{"$error":"#N/A"},null,5,{"$error":"#N/A"},{"$error":"#N/A"},{"$error":"#N/A"},{"$error":"#N/A"},{"$error":"#N/A"},{"$error":"#N/A"},{"$error":"#N/A"},{"$error":"#N/A"},{"$error":"#N/A"},{"$error":"#N/A"},{"$error":"#N/A"},{"$error":"#N/A"},{"$error":"#N/A"},{"$error":"#N/A"},{"$error":"#N/A"},{"$error":"#N/A"},{"$error":"#N/A"},{"$error":"#N/A"},{"$error":"#N/A"},{"$error":"#N/A"},{"$error":"#N/A"},{"$error":"#N/A"},{"$error":"#N/A"},{"$error":"#N/A"},{"$error":"#N/A"},{"$error":"#N/A"},{"$error":"#N/A"},{"$error":"#N/A"},{"$error":"#N/A"},{"$error":"#N/A"},{"$error":"#N/A"},{"$error":"#N/A"},{"$error":"#N/A"},{"$error":"#N/A"},{"$error":"#N/A"},{"$error":"#N/A"}]
[null,null,null,null,0.27245000000000003,1.0899000000000001,{"$f":"E63+F63","v":1.3623500000000002},0.68115000000000003,0.68115000000000003,1.3623000000000001,0.90825,1.3623499999999999,{"$f":"K63+L63","v":2.2706},0.40870000000000001,0.95365,1.3623499999999999,null,{"$f":"L11+AH43+D15+D17+D21+D19*AG8","v":410},{"$f":"Q14+R63","v":466},{"$f":"R63+R14","v":462},{"$f":"R63+S14","v":410},{"$f":"R63+T14","v":455},{"$f":"R63+U14","v":410},{"$f":"R63+V14","v":466},{"$f":"R63+W14","v":463},{"$f":"R63+X14","v":410},{"$f":"R63+Y14","v":463},{"$f":"R63+Z14","v":458},{"$f":"R63+AA14","v":459},{"$f":"R63+AB14","v":410},{"$f":"R63+AC14","v":470},{"$f":"R63+AD14","v":454},null,null,null,"australie 11 ",{"$f":"MIN((S108+AJ35*D19)/AK42,(S109+AJ35*D19)/AL42,(S110+AJ35*D19)/AM42,(S111+AJ35*D19)/AN42,(S112+AJ35*D19)/AO42)*AP42","v":331.5},{"$f":"MIN((T108+AJ35*D19)/AK42,(T109+AJ35*D19)/AL42,(T110+AJ35*D19)/AM42,(T111+AJ35*D19)/AN42,(T112+AJ35*D19)/AO42)*AP42","v":317.5},{"$f":"MIN((U108+AJ35*D19)/AK42,(U109+AJ35*D19)/AL42,(U110+AJ35*D19)/AM42,(U111+AJ35*D19)/AN42,(U112+AJ35*D19)/AO42)*AP42","v":291.5},{"$f":"MIN((V108+AJ35*D19)/AK42,(V109+AJ35*D19)/AL42,(V110+AJ35*D19)/AM42,(V111+AJ35*D19)/AN42,(V112+AJ35*D19)/AO42)*AP42","v":314},{"$f":"MIN((W108+AJ35*D19)/AK42,(W109+AJ35*D19)/AL42,(W110+AJ35*D19)/AM42,(W111+AJ35*D19)/AN42,(W112+AJ35*D19)/AO42)*AP42","v":291.5},{"$f":"MIN((X108+AJ35*D19)/AK42,(X109+AJ35*D19)/AL42,(X110+AJ35*D19)/AM42,(X111+AJ35*D19)/AN42,(X112+AJ35*D19)/AO42)*AP42","v":319.5},{"$f":"MIN((Y108+AJ35*D19)/AK42,(Y109+AJ35*D19)/AL42,(Y110+AJ35*D19)/AM42,(Y111+AJ35*D19)/AN42,(Y112+AJ35*D19)/AO42)*AP42","v":322},{"$f":"MIN((Z108+AJ35*D19)/AK42,(Z109+AJ35*D19)/AL42,(Z110+AJ35*D19)/AM42,(Z111+AJ35*D19)/AN42,(Z112+AJ35*D19)/AO42)*AP42","v":291.5},{"$f":"MIN((AA108+AJ35*D19)/AK42,(AA109+AJ35*D19)/AL42,(AA110+AJ35*D19)/AM42,(AA111+AJ35*D19)/AN42,(AA112+AJ35*D19)/AO42)*AP42","v":322},{"$f":"MIN((AB108+AJ35*D19)/AK42,(AB109+AJ35*D19)/AL42,(AB110+AJ35*D19)/AM42,(AB111+AJ35*D19)/AN42,(AB112+AJ35*D19)/AO42)*AP42","v":323.5},{"$f":"MIN((AC108+AJ35*D19)/AK42,(AC109+AJ35*D19)/AL42,(AC110+AJ35*D19)/AM42,(AC111+AJ35*D19)/AN42,(AC112+AJ35*D19)/AO42)*AP42","v":325.5},{"$f":"MIN((AD108+AJ35*D19)/AK42,(AD109+AJ35*D19)/AL42,(AD110+AJ35*D19)/AM42,(AD111+AJ35*D19)/AN42,(AD112+AJ35*D19)/AO42)*AP42","v":291.5},{"$f":"MIN((AE108+AJ35*D19)/AK42,(AE109+AJ35*D19)/AL42,(AE110+AJ35*D19)/AM42,(AE111+AJ35*D19)/AN42,(AE112+AJ35*D19)/AO42)*AP42","v":325.5},{"$f":"MIN((AF108+AJ35*D19)/AK42,(AF109+AJ35*D19)/AL42,(AF110+AJ35*D19)/AM42,(AF111+AJ35*D19)/AN42,(AF112+AJ35*D19)/AO42)*AP42","v":323.5},331.5,null,"australie 11 ",{"$f":"MIN((S108+AK35*D19)/AK43,(S109+AK35*D19)/AL43,(S110+AK35*D19)/AM43,(S111+AK35*D19)/AN43,(S112+AK35*D19)/AO43)*AP43","v":404},{"$f":"MIN((T108+AK35*D19)/AK43,(T109+AK35*D19)/AL43,(T110+AK35*D19)/AM43,(T111+AK35*D19)/AN43,(T112+AK35*D19)/AO43)*AP43","v":433.33333333333331},{"$f":"MIN((U108+AK35*D19)/AK43,(U109+AK35*D19)/AL43,(U110+AK35*D19)/AM43,(U111+AK35*D19)/AN43,(U112+AK35*D19)/AO43)*AP43","v":387.33333333333337},{"$f":"MIN((V108+AK35*D19)/AK43,(V109+AK35*D19)/AL43,(V110+AK35*D19)/AM43,(V111+AK35*D19)/AN43,(V112+AK35*D19)/AO43)*AP43","v":430},{"$f":"MIN((W108+AK35*D19)/AK43,(W109+AK35*D19)/AL43,(W110+AK35*D19)/AM43,(W111+AK35*D19)/AN43,(W112+AK35*D19)/AO43)*AP43","v":387.33333333333337},{"$f":"MIN((X108+AK35*D19)/AK43,(X109+AK35*D19)/AL43,(X110+AK35*D19)/AM43,(X111+AK35*D19)/AN43,(X112+AK35*D19)/AO43)*AP43","v":424.66666666666669},{"$f":"MIN((Y108+AK35*D19)/AK43,(Y109+AK35*D19)/AL43,(Y110+AK35*D19)/AM43,(Y111+AK35*D19)/AN43,(Y112+AK35*D19)/AO43)*AP43","v":428},{"$f":"MIN((Z108+AK35*D19)/AK43,(Z109+AK35*D19)/AL43,(Z110+AK35*D19)/AM43,(Z111+AK35*D19)/AN43,(Z112+AK35*D19)/AO43)*AP43","v":387.33333333333337},{"$f":"MIN((AA108+AK35*D19)/AK43,(AA109+AK35*D19)/AL43,(AA110+AK35*D19)/AM43,(AA111+AK35*D19)/AN43,(AA112+AK35*D19)/AO43)*AP43","v":428},{"$f":"MIN((AB108+AK35*D19)/AK43,(AB109+AK35*D19)/AL43,(AB110+AK35*D19)/AM43,(AB111+AK35*D19)/AN43,(AB112+AK35*D19)/AO43)*AP43","v":430},{"$f":"MIN((AC108+AK35*D19)/AK43,(AC109+AK35*D19)/AL43,(AC110+AK35*D19)/AM43,(AC111+AK35*D19)/AN43,(AC112+AK35*D19)/AO43)*AP43","v":424.66666666666669},{"$f":"MIN((AD108+AK35*D19)/AK43,(AD109+AK35*D19)/AL43,(AD110+AK35*D19)/AM43,(AD111+AK35*D19)/AN43,(AD112+AK35*D19)/AO43)*AP43","v":387.33333333333337},{"$f":"MIN((AE108+AK35*D19)/AK43,(AE109+AK35*D19)/AL43,(AE110+AK35*D19)/AM43,(AE111+AK35*D19)/AN43,(AE112+AK35*D19)/AO43)*AP43","v":427.33333333333337},{"$f":"MIN((AF108+AK35*D19)/AK43,(AF109+AK35*D19)/AL43,(AF110+AK35*D19)/AM43,(AF111+AK35*D19)/AN43,(AF112+AK35*D19)/AO43)*AP43","v":430},433.33333333333331,null,null,{"$f":"IF(E26=C31,F50,IF(E26=C32,I50,IF(E26=C33,L50,erreur)))","v":0.95365},null,{"$f":"IF(E26=C31,G50,IF(E26=C32,J50,IF(E26=C33,M50,erreur)))","v":0.40870000000000001},null,1.3623499999999999,null,null,7,{"$error":"#N/A"},{"$error":"#N/A"},{"$error":"#N/A"},{"$error":"#N/A"},null,6,{"$error":"#N/A"},{"$error":"#N/A"},{"$error":"#N/A"},{"$error":"#N/A"},{"$error":"#N/A"},{"$error":"#N/A"},{"$error":"#N/A"},{"$error":"#N/A"},{"$error":"#N/A"},{"$error":"#N/A"},{"$error":"#N/A"},{"$error":"#N/A"},{"$error":"#N/A"},{"$error":"#N/A"},{"$error":"#N/A"},{"$error":"#N/A"},{"$error":"#N/A"},{"$error":"#N/A"},{"$error":"#N/A"},{"$error":"#N/A"},{"$error":"#N/A"},{"$error":"#N/A"},{"$error":"#N/A"},{"$error":"#N/A"},{"$error":"#N/A"},{"$error":"#N/A"},{"$error":"#N/A"},{"$error":"#N/A"},{"$error":"#N/A"},{"$error":"#N/A"},{"$error":"#N/A"},{"$error":"#N/A"},{"$error":"#N/A"},{"$error":"#N/A"},{"$error":"#N/A"},{"$error":"#N/A"}]
[null,null,null,null,0.27245000000000003,1.0899000000000001,1.3623500000000002,0.68115000000000003,0.68115000000000003,1.3623000000000001,0.68115000000000003,1.58945,2.2706,0.40870000000000001,0.95365,1.3623499999999999,null,null,null,null,null,null,null,null,null,null,null,null,null,null,null,null,null,null,null,"grece 9 ",{"$f":"MIN((S115+AJ35*D19)/AK42,(S116+AJ35*D19)/AL42,(S117+AJ35*D19)/AM42,(S118+AJ35*D19)/AN42,(S119+AJ35*D19)/AO42)*AP42","v":344.5},{"$f":"MIN((T115+AJ35*D19)/AK42,(T116+AJ35*D19)/AL42,(T117+AJ35*D19)/AM42,(T118+AJ35*D19)/AN42,(T119+AJ35*D19)/AO42)*AP42","v":330.5},{"$f":"MIN((U115+AJ35*D19)/AK42,(U116+AJ35*D19)/AL42,(U117+AJ35*D19)/AM42,(U118+AJ35*D19)/AN42,(U119+AJ35*D19)/AO42)*AP42","v":304.5},{"$f":"MIN((V115+AJ35*D19)/AK42,(V116+AJ35*D19)/AL42,(V117+AJ35*D19)/AM42,(V118+AJ35*D19)/AN42,(V119+AJ35*D19)/AO42)*AP42","v":327},{"$f":"MIN((W115+AJ35*D19)/AK42,(W116+AJ35*D19)/AL42,(W117+AJ35*D19)/AM42,(W118+AJ35*D19)/AN42,(W119+AJ35*D19)/AO42)*AP42","v":304.5},{"$f":"MIN((X115+AJ35*D19)/AK42,(X116+AJ35*D19)/AL42,(X117+AJ35*D19)/AM42,(X118+AJ35*D19)/AN42,(X119+AJ35*D19)/AO42)*AP42","v":332.5},{"$f":"MIN((Y115+AJ35*D19)/AK42,(Y116+AJ35*D19)/AL42,(Y117+AJ35*D19)/AM42,(Y118+AJ35*D19)/AN42,(Y119+AJ35*D19)/AO42)*AP42","v":335},{"$f":"MIN((Z115+AJ35*D19)/AK42,(Z116+AJ35*D19)/AL42,(Z117+AJ35*D19)/AM42,(Z118+AJ35*D19)/AN42,(Z119+AJ35*D19)/AO42)*AP42","v":304.5},{"$f":"MIN((AA115+AJ35*D19)/AK42,(AA116+AJ35*D19)/AL42,(AA117+AJ35*D19)/AM42,(AA118+AJ35*D19)/AN42,(AA119+AJ35*D19)/AO42)*AP42","v":335},{"$f":"MIN((AB115+AJ35*D19)/AK42,(AB116+AJ35*D19)/AL42,(AB117+AJ35*D19)/AM42,(AB118+AJ35*D19)/AN42,(AB119+AJ35*D19)/AO42)*AP42","v":336.5},{"$f":"MIN((AC115+AJ35*D19)/AK42,(AC116+AJ35*D19)/AL42,(AC117+AJ35*D19)/AM42,(AC118+AJ35*D19)/AN42,(AC119+AJ35*D19)/AO42)*AP42","v":338.5},{"$f":"MIN((AD115+AJ35*D19)/AK42,(AD116+AJ35*D19)/AL42,(AD117+AJ35*D19)/AM42,(AD118+AJ35*D19)/AN42,(AD119+AJ35*D19)/AO42)*AP42","v":304.5},{"$f":"MIN((AE115+AJ35*D19)/AK42,(AE116+AJ35*D19)/AL42,(AE117+AJ35*D19)/AM42,(AE118+AJ35*D19)/AN42,(AE119+AJ35*D19)/AO42)*AP42","v":338.5},{"$f":"MIN((AF115+AJ35*D19)/AK42,(AF116+AJ35*D19)/AL42,(AF117+AJ35*D19)/AM42,(AF118+AJ35*D19)/AN42,(AF119+AJ35*D19)/AO42)*AP42","v":336.5},344.5,null,"grece 9 ",{"$f":"MIN((S115+AK35*D19)/AK43,(S116+AK35*D19)/AL43,(S117+AK35*D19)/AM43,(S118+AK35*D19)/AN43,(S119+AK35*D19)/AO43)*AP43","v":314},{"$f":"MIN((T115+AK35*D19)/AK43,(T116+AK35*D19)/AL43,(T117+AK35*D19)/AM43,(T118+AK35*D19)/AN43,(T119+AK35*D19)/AO43)*AP43","v":343.33333333333331},{"$f":"MIN((U115+AK35*D19)/AK43,(U116+AK35*D19)/AL43,(U117+AK35*D19)/AM43,(U118+AK35*D19)/AN43,(U119+AK35*D19)/AO43)*AP43","v":297.33333333333331},{"$f":"MIN((V115+AK35*D19)/AK43,(V116+AK35*D19)/AL43,(V117+AK35*D19)/AM43,(V118+AK35*D19)/AN43,(V119+AK35*D19)/AO43)*AP43","v":340},{"$f":"MIN((W115+AK35*D19)/AK43,(W116+AK35*D19)/AL43,(W117+AK35*D19)/AM43,(W118+AK35*D19)/AN43,(W119+AK35*D19)/AO43)*AP43","v":297.33333333333331},{"$f":"MIN((X115+AK35*D19)/AK43,(X116+AK35*D19)/AL43,(X117+AK35*D19)/AM43,(X118+AK35*D19)/AN43,(X119+AK35*D19)/AO43)*AP43","v":334.66666666666669},{"$f":"MIN((Y115+AK35*D19)/AK43,(Y116+AK35*D19)/AL43,(Y117+AK35*D19)/AM43,(Y118+AK35*D19)/AN43,(Y119+AK35*D19)/AO43)*AP43","v":338},{"$f":"MIN((Z115+AK35*D19)/AK43,(Z116+AK35*D19)/AL43,(Z117+AK35*D19)/AM43,(Z118+AK35*D19)/AN43,(Z119+AK35*D19)/AO43)*AP43","v":297.33333333333331},{"$f":"MIN((AA115+AK35*D19)/AK43,(AA116+AK35*D19)/AL43,(AA117+AK35*D19)/AM43,(AA118+AK35*D19)/AN43,(AA119+AK35*D19)/AO43)*AP43","v":338},{"$f":"MIN((AB115+AK35*D19)/AK43,(AB116+AK35*D19)/AL43,(AB117+AK35*D19)/AM43,(AB118+AK35*D19)/AN43,(AB119+AK35*D19)/AO43)*AP43","v":340},{"$f":"MIN((AC115+AK35*D19)/AK43,(AC116+AK35*D19)/AL43,(AC117+AK35*D19)/AM43,(AC118+AK35*D19)/AN43,(AC119+AK35*D19)/AO43)*AP43","v":334.66666666666669},{"$f":"MIN((AD115+AK35*D19)/AK43,(AD116+AK35*D19)/AL43,(AD117+AK35*D19)/AM43,(AD118+AK35*D19)/AN43,(AD119+AK35*D19)/AO43)*AP43","v":297.33333333333331},{"$f":"MIN((AE115+AK35*D19)/AK43,(AE116+AK35*D19)/AL43,(AE117+AK35*D19)/AM43,(AE118+AK35*D19)/AN43,(AE119+AK35*D19)/AO43)*AP43","v":337.33333333333337},{"$f":"MIN((AF115+AK35*D19)/AK43,(AF116+AK35*D19)/AL43,(AF117+AK35*D19)/AM43,(AF118+AK35*D19)/AN43,(AF119+AK35*D19)/AO43)*AP43","v":340},343.33333333333331,null,null,{"$f":"IF(E26=C31,F51,IF(E26=C32,I51,IF(E26=C33,L51,erreur)))","v":0.94984999999999997},null,{"$f":"IF(E26=C31,G51,IF(E26=C32,J51,IF(E26=C33,M51,erreur)))","v":0.40705000000000002},null,1.3569,null,null,8,{"$error":"#N/A"},{"$error":"#N/A"},{"$error":"#N/A"},{"$error":"#N/A"},null,7,{"$error":"#N/A"},{"$error":"#N/A"},{"$error":"#N/A"},{"$error":"#N/A"},{"$error":"#N/A"},{"$error":"#N/A"},{"$error":"#N/A"},{"$error":"#N/A"},{"$error":"#N/A"},{"$error":"#N/A"},{"$error":"#N/A"},{"$error":"#N/A"},{"$error":"#N/A"},{"$error":"#N/A"},{"$error":"#N/A"},{"$error":"#N/A"},{"$error":"#N/A"},{"$error":"#N/A"},{"$error":"#N/A"},{"$error":"#N/A"},{"$error":"#N/A"},{"$error":"#N/A"},{"$error":"#N/A"},{"$error":"#N/A"},{"$error":"#N/A"},{"$error":"#N/A"},{"$error":"#N/A"},{"$error":"#N/A"},{"$error":"#N/A"},{"$error":"#N/A"},{"$error":"#N/A"},{"$error":"#N/A"},{"$error":"#N/A"},{"$error":"#N/A"},{"$error":"#N/A"},{"$error":"#N/A"}]
[null,null,null,null,0.18165000000000001,1.6348499999999999,1.8165,0.18165000000000001,0.72660000000000002,0.90825,0.27245000000000003,0.63575000000000004,0.90820000000000012,0.36330000000000001,1.4532,1.8165,null,{"$f":"G12","v":2},{"$f":"S58","v":"kit 1"},{"$f":"T58","v":"kit 2/3"},0,"kit 4",0,"kit 5","kit 6/7",0,0,"kit 8","kit 9",0,{"$f":"AE58","v":"kit 10"},{"$f":"AF58","v":"kit 11"},null,null,null,"nigeria 8 ",{"$f":"MIN((S122+AJ35*D19)/AK42,(S123+AJ35*D19)/AL42,(S124+AJ35*D19)/AM42,(S125+AJ35*D19)/AN42,(S126+AJ35*D19)/AO42)*AP42","v":334.5},{"$f":"MIN((T122+AJ35*D19)/AK42,(T123+AJ35*D19)/AL42,(T124+AJ35*D19)/AM42,(T125+AJ35*D19)/AN42,(T126+AJ35*D19)/AO42)*AP42","v":320.5},{"$f":"MIN((U122+AJ35*D19)/AK42,(U123+AJ35*D19)/AL42,(U124+AJ35*D19)/AM42,(U125+AJ35*D19)/AN42,(U126+AJ35*D19)/AO42)*AP42","v":294.5},{"$f":"MIN((V122+AJ35*D19)/AK42,(V123+AJ35*D19)/AL42,(V124+AJ35*D19)/AM42,(V125+AJ35*D19)/AN42,(V126+AJ35*D19)/AO42)*AP42","v":317},{"$f":"MIN((W122+AJ35*D19)/AK42,(W123+AJ35*D19)/AL42,(W124+AJ35*D19)/AM42,(W125+AJ35*D19)/AN42,(W126+AJ35*D19)/AO42)*AP42","v":294.5},{"$f":"MIN((X122+AJ35*D19)/AK42,(X123+AJ35*D19)/AL42,(X124+AJ35*D19)/AM42,(X125+AJ35*D19)/AN42,(X126+AJ35*D19)/AO42)*AP42","v":322.5},{"$f":"MIN((Y122+AJ35*D19)/AK42,(Y123+AJ35*D19)/AL42,(Y124+AJ35*D19)/AM42,(Y125+AJ35*D19)/AN42,(Y126+AJ35*D19)/AO42)*AP42","v":325},{"$f":"MIN((Z122+AJ35*D19)/AK42,(Z123+AJ35*D19)/AL42,(Z124+AJ35*D19)/AM42,(Z125+AJ35*D19)/AN42,(Z126+AJ35*D19)/AO42)*AP42","v":294.5},{"$f":"MIN((AA122+AJ35*D19)/AK42,(AA123+AJ35*D19)/AL42,(AA124+AJ35*D19)/AM42,(AA125+AJ35*D19)/AN42,(AA126+AJ35*D19)/AO42)*AP42","v":325},{"$f":"MIN((AB122+AJ35*D19)/AK42,(AB123+AJ35*D19)/AL42,(AB124+AJ35*D19)/AM42,(AB125+AJ35*D19)/AN42,(AB126+AJ35*D19)/AO42)*AP42","v":326.5},{"$f":"MIN((AC122+AJ35*D19)/AK42,(AC123+AJ35*D19)/AL42,(AC124+AJ35*D19)/AM42,(AC125+AJ35*D19)/AN42,(AC126+AJ35*D19)/AO42)*AP42","v":328.5},{"$f":"MIN((AD122+AJ35*D19)/AK42,(AD123+AJ35*D19)/AL42,(AD124+AJ35*D19)/AM42,(AD125+AJ35*D19)/AN42,(AD126+AJ35*D19)/AO42)*AP42","v":294.5},{"$f":"MIN((AE122+AJ35*D19)/AK42,(AE123+AJ35*D19)/AL42,(AE124+AJ35*D19)/AM42,(AE125+AJ35*D19)/AN42,(AE126+AJ35*D19)/AO42)*AP42","v":328.5},{"$f":"MIN((AF122+AJ35*D19)/AK42,(AF123+AJ35*D19)/AL42,(AF124+AJ35*D19)/AM42,(AF125+AJ35*D19)/AN42,(AF126+AJ35*D19)/AO42)*AP42","v":326.5},334.5,null,"nigeria 8 ",{"$f":"MIN((S122+AK35*D19)/AK43,(S123+AK35*D19)/AL43,(S124+AK35*D19)/AM43,(S125+AK35*D19)/AN43,(S126+AK35*D19)/AO43)*AP43","v":392.66666666666669},{"$f":"MIN((T122+AK35*D19)/AK43,(T123+AK35*D19)/AL43,(T124+AK35*D19)/AM43,(T125+AK35*D19)/AN43,(T126+AK35*D19)/AO43)*AP43","v":422},{"$f":"MIN((U122+AK35*D19)/AK43,(U123+AK35*D19)/AL43,(U124+AK35*D19)/AM43,(U125+AK35*D19)/AN43,(U126+AK35*D19)/AO43)*AP43","v":376},{"$f":"MIN((V122+AK35*D19)/AK43,(V123+AK35*D19)/AL43,(V124+AK35*D19)/AM43,(V125+AK35*D19)/AN43,(V126+AK35*D19)/AO43)*AP43","v":418.66666666666663},{"$f":"MIN((W122+AK35*D19)/AK43,(W123+AK35*D19)/AL43,(W124+AK35*D19)/AM43,(W125+AK35*D19)/AN43,(W126+AK35*D19)/AO43)*AP43","v":376},{"$f":"MIN((X122+AK35*D19)/AK43,(X123+AK35*D19)/AL43,(X124+AK35*D19)/AM43,(X125+AK35*D19)/AN43,(X126+AK35*D19)/AO43)*AP43","v":413.33333333333337},{"$f":"MIN((Y122+AK35*D19)/AK43,(Y123+AK35*D19)/AL43,(Y124+AK35*D19)/AM43,(Y125+AK35*D19)/AN43,(Y126+AK35*D19)/AO43)*AP43","v":416.66666666666669},{"$f":"MIN((Z122+AK35*D19)/AK43,(Z123+AK35*D19)/AL43,(Z124+AK35*D19)/AM43,(Z125+AK35*D19)/AN43,(Z126+AK35*D19)/AO43)*AP43","v":376},{"$f":"MIN((AA122+AK35*D19)/AK43,(AA123+AK35*D19)/AL43,(AA124+AK35*D19)/AM43,(AA125+AK35*D19)/AN43,(AA126+AK35*D19)/AO43)*AP43","v":416.66666666666669},{"$f":"MIN((AB122+AK35*D19)/AK43,(AB123+AK35*D19)/AL43,(AB124+AK35*D19)/AM43,(AB125+AK35*D19)/AN43,(AB126+AK35*D19)/AO43)*AP43","v":418.66666666666663},{"$f":"MIN((AC122+AK35*D19)/AK43,(AC123+AK35*D19)/AL43,(AC124+AK35*D19)/AM43,(AC125+AK35*D19)/AN43,(AC126+AK35*D19)/AO43)*AP43","v":413.33333333333337},{"$f":"MIN((AD122+AK35*D19)/AK43,(AD123+AK35*D19)/AL43,(AD124+AK35*D19)/AM43,(AD125+AK35*D19)/AN43,(AD126+AK35*D19)/AO43)*AP43","v":376},{"$f":"MIN((AE122+AK35*D19)/AK43,(AE123+AK35*D19)/AL43,(AE124+AK35*D19)/AM43,(AE125+AK35*D19)/AN43,(AE126+AK35*D19)/AO43)*AP43","v":416},{"$f":"MIN((AF122+AK35*D19)/AK43,(AF123+AK35*D19)/AL43,(AF124+AK35*D19)/AM43,(AF125+AK35*D19)/AN43,(AF126+AK35*D19)/AO43)*AP43","v":418.66666666666663},422,null,null,{"$f":"IF(E26=C31,F52,IF(E26=C32,I52,IF(E26=C33,L52,erreur)))","v":2.4523000000000001},null,{"$f":"IF(E26=C31,G52,IF(E26=C32,J52,IF(E26=C33,M52,erreur)))","v":0.27245000000000003},null,2.7247500000000002,null,null,9,{"$error":"#N/A"},{"$error":"#N/A"},{"$error":"#N/A"},{"$error":"#N/A"},null,8,{"$error":"#N/A"},{"$error":"#N/A"},{"$error":"#N/A"},{"$error":"#N/A"},{"$error":"#N/A"},{"$error":"#N/A"},{"$error":"#N/A"},{"$error":"#N/A"},{"$error":"#N/A"},{"$error":"#N/A"},{"$error":"#N/A"},{"$error":"#N/A"},{"$error":"#N/A"},{"$error":"#N/A"},{"$error":"#N/A"},{"$error":"#N/A"},{"$error":"#N/A"},{"$error":"#N/A"},{"$error":"#N/A"},{"$error":"#N/A"},{"$error":"#N/A"},{"$error":"#N/A"},{"$error":"#N/A"},{"$error":"#N/A"},{"$error":"#N/A"},{"$error":"#N/A"},{"$error":"#N/A"},{"$error":"#N/A"},{"$error":"#N/A"},{"$error":"#N/A"},{"$error":"#N/A"},{"$error":"#N/A"},{"$error":"#N/A"},{"$error":"#N/A"},{"$error":"#N/A"},{"$error":"#N/A"}]
[null,null,null,null,0.18165000000000001,1.6348499999999999,1.8165,0.40870000000000001,0.95365,1.3623499999999999,0.27245000000000003,0.63575000000000004,0.90820000000000012,0.72660000000000002,1.0899000000000001,1.8165,null,{"$f":"H12+AH39+D16+D17+D21+D19*AG9","v":632},{"$f":"R66+Q10","v":673},{"$f":"R66+R10","v":701},{"$f":"R66+S10","v":632},{"$f":"R66+T10","v":705},{"$f":"R66+U10","v":632},{"$f":"R66+V10","v":702},{"$f":"R66+W10","v":693},{"$f":"R66+X10","v":632},{"$f":"R66+Y10","v":693},{"$f":"R66+Z10","v":688},{"$f":"R66+AA10","v":693},{"$f":"R66+AB10","v":632},{"$f":"R66+AC10","v":678},{"$f":"R66+AD10","v":683},null,null,null,"slovaquie 8 ",{"$f":"MIN((S129+AJ35*D19)/AK42,(S130+AJ35*D19)/AL42,(S131+AJ35*D19)/AM42,(S132+AJ35*D19)/AN42,(S133+AJ35*D19)/AO42)*AP42","v":346},{"$f":"MIN((T129+AJ35*D19)/AK42,(T130+AJ35*D19)/AL42,(T131+AJ35*D19)/AM42,(T132+AJ35*D19)/AN42,(T133+AJ35*D19)/AO42)*AP42","v":332},{"$f":"MIN((U129+AJ35*D19)/AK42,(U130+AJ35*D19)/AL42,(U131+AJ35*D19)/AM42,(U132+AJ35*D19)/AN42,(U133+AJ35*D19)/AO42)*AP42","v":306},{"$f":"MIN((V129+AJ35*D19)/AK42,(V130+AJ35*D19)/AL42,(V131+AJ35*D19)/AM42,(V132+AJ35*D19)/AN42,(V133+AJ35*D19)/AO42)*AP42","v":328.5},{"$f":"MIN((W129+AJ35*D19)/AK42,(W130+AJ35*D19)/AL42,(W131+AJ35*D19)/AM42,(W132+AJ35*D19)/AN42,(W133+AJ35*D19)/AO42)*AP42","v":306},{"$f":"MIN((X129+AJ35*D19)/AK42,(X130+AJ35*D19)/AL42,(X131+AJ35*D19)/AM42,(X132+AJ35*D19)/AN42,(X133+AJ35*D19)/AO42)*AP42","v":334},{"$f":"MIN((Y129+AJ35*D19)/AK42,(Y130+AJ35*D19)/AL42,(Y131+AJ35*D19)/AM42,(Y132+AJ35*D19)/AN42,(Y133+AJ35*D19)/AO42)*AP42","v":336.5},{"$f":"MIN((Z129+AJ35*D19)/AK42,(Z130+AJ35*D19)/AL42,(Z131+AJ35*D19)/AM42,(Z132+AJ35*D19)/AN42,(Z133+AJ35*D19)/AO42)*AP42","v":306},{"$f":"MIN((AA129+AJ35*D19)/AK42,(AA130+AJ35*D19)/AL42,(AA131+AJ35*D19)/AM42,(AA132+AJ35*D19)/AN42,(AA133+AJ35*D19)/AO42)*AP42","v":336.5},{"$f":"MIN((AB129+AJ35*D19)/AK42,(AB130+AJ35*D19)/AL42,(AB131+AJ35*D19)/AM42,(AB132+AJ35*D19)/AN42,(AB133+AJ35*D19)/AO42)*AP42","v":338},{"$f":"MIN((AC129+AJ35*D19)/AK42,(AC130+AJ35*D19)/AL42,(AC131+AJ35*D19)/AM42,(AC132+AJ35*D19)/AN42,(AC133+AJ35*D19)/AO42)*AP42","v":340},{"$f":"MIN((AD129+AJ35*D19)/AK42,(AD130+AJ35*D19)/AL42,(AD131+AJ35*D19)/AM42,(AD132+AJ35*D19)/AN42,(AD133+AJ35*D19)/AO42)*AP42","v":306},{"$f":"MIN((AE129+AJ35*D19)/AK42,(AE130+AJ35*D19)/AL42,(AE131+AJ35*D19)/AM42,(AE132+AJ35*D19)/AN42,(AE133+AJ35*D19)/AO42)*AP42","v":340},{"$f":"MIN((AF129+AJ35*D19)/AK42,(AF130+AJ35*D19)/AL42,(AF131+AJ35*D19)/AM42,(AF132+AJ35*D19)/AN42,(AF133+AJ35*D19)/AO42)*AP42","v":338},346,null,"slovaquie 8 ",{"$f":"MIN((S129+AK35*D19)/AK43,(S130+AK35*D19)/AL43,(S131+AK35*D19)/AM43,(S132+AK35*D19)/AN43,(S133+AK35*D19)/AO43)*AP43","v":401.99999999999994},{"$f":"MIN((T129+AK35*D19)/AK43,(T130+AK35*D19)/AL43,(T131+AK35*D19)/AM43,(T132+AK35*D19)/AN43,(T133+AK35*D19)/AO43)*AP43","v":431.33333333333337},{"$f":"MIN((U129+AK35*D19)/AK43,(U130+AK35*D19)/AL43,(U131+AK35*D19)/AM43,(U132+AK35*D19)/AN43,(U133+AK35*D19)/AO43)*AP43","v":385.33333333333337},{"$f":"MIN((V129+AK35*D19)/AK43,(V130+AK35*D19)/AL43,(V131+AK35*D19)/AM43,(V132+AK35*D19)/AN43,(V133+AK35*D19)/AO43)*AP43","v":428},{"$f":"MIN((W129+AK35*D19)/AK43,(W130+AK35*D19)/AL43,(W131+AK35*D19)/AM43,(W132+AK35*D19)/AN43,(W133+AK35*D19)/AO43)*AP43","v":385.33333333333337},{"$f":"MIN((X129+AK35*D19)/AK43,(X130+AK35*D19)/AL43,(X131+AK35*D19)/AM43,(X132+AK35*D19)/AN43,(X133+AK35*D19)/AO43)*AP43","v":422.66666666666663},{"$f":"MIN((Y129+AK35*D19)/AK43,(Y130+AK35*D19)/AL43,(Y131+AK35*D19)/AM43,(Y132+AK35*D19)/AN43,(Y133+AK35*D19)/AO43)*AP43","v":426},{"$f":"MIN((Z129+AK35*D19)/AK43,(Z130+AK35*D19)/AL43,(Z131+AK35*D19)/AM43,(Z132+AK35*D19)/AN43,(Z133+AK35*D19)/AO43)*AP43","v":385.33333333333337},{"$f":"MIN((AA129+AK35*D19)/AK43,(AA130+AK35*D19)/AL43,(AA131+AK35*D19)/AM43,(AA132+AK35*D19)/AN43,(AA133+AK35*D19)/AO43)*AP43","v":426},{"$f":"MIN((AB129+AK35*D19)/AK43,(AB130+AK35*D19)/AL43,(AB131+AK35*D19)/AM43,(AB132+AK35*D19)/AN43,(AB133+AK35*D19)/AO43)*AP43","v":428},{"$f":"MIN((AC129+AK35*D19)/AK43,(AC130+AK35*D19)/AL43,(AC131+AK35*D19)/AM43,(AC132+AK35*D19)/AN43,(AC133+AK35*D19)/AO43)*AP43","v":422.66666666666663},{"$f":"MIN((AD129+AK35*D19)/AK43,(AD130+AK35*D19)/AL43,(AD131+AK35*D19)/AM43,(AD132+AK35*D19)/AN43,(AD133+AK35*D19)/AO43)*AP43","v":385.33333333333337},{"$f":"MIN((AE129+AK35*D19)/AK43,(AE130+AK35*D19)/AL43,(AE131+AK35*D19)/AM43,(AE132+AK35*D19)/AN43,(AE133+AK35*D19)/AO43)*AP43","v":425.33333333333331},{"$f":"MIN((AF129+AK35*D19)/AK43,(AF130+AK35*D19)/AL43,(AF131+AK35*D19)/AM43,(AF132+AK35*D19)/AN43,(AF133+AK35*D19)/AO43)*AP43","v":428},431.33333333333337,null,null,{"$f":"IF(E26=C31,F53,IF(E26=C32,I53,IF(E26=C33,L53,erreur)))","v":2.0435500000000002},null,{"$f":"IF(E26=C31,G53,IF(E26=C32,J53,IF(E26=C33,M53,erreur)))","v":0.22705},null,2.2706000000000004,null,null,10,{"$error":"#N/A"},{"$error":"#N/A"},{"$error":"#N/A"},{"$error":"#N/A"},null,9,{"$error":"#N/A"},{"$error":"#N/A"},{"$error":"#N/A"},{"$error":"#N/A"},{"$error":"#N/A"},{"$error":"#N/A"},{"$error":"#N/A"},{"$error":"#N/A"},{"$error":"#N/A"},{"$error":"#N/A"},{"$error":"#N/A"},{"$error":"#N/A"},{"$error":"#N/A"},{"$error":"#N/A"},{"$error":"#N/A"},{"$error":"#N/A"},{"$error":"#N/A"},{"$error":"#N/A"},{"$error":"#N/A"},{"$error":"#N/A"},{"$error":"#N/A"},{"$error":"#N/A"},{"$error":"#N/A"},{"$error":"#N/A"},{"$error":"#N/A"},{"$error":"#N/A"},{"$error":"#N/A"},{"$error":"#N/A"},{"$error":"#N/A"},{"$error":"#N/A"},{"$error":"#N/A"},{"$error":"#N/A"},{"$error":"#N/A"},{"$error":"#N/A"},{"$error":"#N/A"},{"$error":"#N/A"}]
[null,null,null,null,0.4541,1.8165,2.2706,0.81740000000000002,0.54495000000000005,1.3623500000000002,0.72660000000000002,1.0899000000000001,1.8165,0.72660000000000002,1.0899000000000001,1.8165,null,{"$f":"I12+AH40+D15+D17+D21+D19*AG9","v":574},{"$f":"R67+Q11","v":654},{"$f":"R67+R11","v":626},{"$f":"R67+S11","v":574},{"$f":"R67+T11","v":619},{"$f":"R67+U11","v":574},{"$f":"R67+V11","v":630},{"$f":"R67+W11","v":635},{"$f":"R67+X11","v":574},{"$f":"R67+Y11","v":635},{"$f":"R67+Z11","v":638},{"$f":"R67+AA11","v":642},{"$f":"R67+AB11","v":574},{"$f":"R67+AC11","v":642},{"$f":"R67+AD11","v":638},null,null,null,"afrique du sud 4 ",{"$f":"MIN((S136+AJ35*D19)/AK42,(S137+AJ35*D19)/AL42,(S138+AJ35*D19)/AM42,(S139+AJ35*D19)/AN42,(S140+AJ35*D19)/AO42)*AP42","v":223},{"$f":"MIN((T136+AJ35*D19)/AK42,(T137+AJ35*D19)/AL42,(T138+AJ35*D19)/AM42,(T139+AJ35*D19)/AN42,(T140+AJ35*D19)/AO42)*AP42","v":209},{"$f":"MIN((U136+AJ35*D19)/AK42,(U137+AJ35*D19)/AL42,(U138+AJ35*D19)/AM42,(U139+AJ35*D19)/AN42,(U140+AJ35*D19)/AO42)*AP42","v":183},{"$f":"MIN((V136+AJ35*D19)/AK42,(V137+AJ35*D19)/AL42,(V138+AJ35*D19)/AM42,(V139+AJ35*D19)/AN42,(V140+AJ35*D19)/AO42)*AP42","v":205.50000000000003},{"$f":"MIN((W136+AJ35*D19)/AK42,(W137+AJ35*D19)/AL42,(W138+AJ35*D19)/AM42,(W139+AJ35*D19)/AN42,(W140+AJ35*D19)/AO42)*AP42","v":183},{"$f":"MIN((X136+AJ35*D19)/AK42,(X137+AJ35*D19)/AL42,(X138+AJ35*D19)/AM42,(X139+AJ35*D19)/AN42,(X140+AJ35*D19)/AO42)*AP42","v":211},{"$f":"MIN((Y136+AJ35*D19)/AK42,(Y137+AJ35*D19)/AL42,(Y138+AJ35*D19)/AM42,(Y139+AJ35*D19)/AN42,(Y140+AJ35*D19)/AO42)*AP42","v":213.49999999999997},{"$f":"MIN((Z136+AJ35*D19)/AK42,(Z137+AJ35*D19)/AL42,(Z138+AJ35*D19)/AM42,(Z139+AJ35*D19)/AN42,(Z140+AJ35*D19)/AO42)*AP42","v":183},{"$f":"MIN((AA136+AJ35*D19)/AK42,(AA137+AJ35*D19)/AL42,(AA138+AJ35*D19)/AM42,(AA139+AJ35*D19)/AN42,(AA140+AJ35*D19)/AO42)*AP42","v":213.49999999999997},{"$f":"MIN((AB136+AJ35*D19)/AK42,(AB137+AJ35*D19)/AL42,(AB138+AJ35*D19)/AM42,(AB139+AJ35*D19)/AN42,(AB140+AJ35*D19)/AO42)*AP42","v":215},{"$f":"MIN((AC136+AJ35*D19)/AK42,(AC137+AJ35*D19)/AL42,(AC138+AJ35*D19)/AM42,(AC139+AJ35*D19)/AN42,(AC140+AJ35*D19)/AO42)*AP42","v":217},{"$f":"MIN((AD136+AJ35*D19)/AK42,(AD137+AJ35*D19)/AL42,(AD138+AJ35*D19)/AM42,(AD139+AJ35*D19)/AN42,(AD140+AJ35*D19)/AO42)*AP42","v":183},{"$f":"MIN((AE136+AJ35*D19)/AK42,(AE137+AJ35*D19)/AL42,(AE138+AJ35*D19)/AM42,(AE139+AJ35*D19)/AN42,(AE140+AJ35*D19)/AO42)*AP42","v":217},{"$f":"MIN((AF136+AJ35*D19)/AK42,(AF137+AJ35*D19)/AL42,(AF138+AJ35*D19)/AM42,(AF139+AJ35*D19)/AN42,(AF140+AJ35*D19)/AO42)*AP42","v":215},223,null,"afrique du sud 4 ",{"$f":"MIN((S136+AK35*D19)/AK43,(S137+AK35*D19)/AL43,(S138+AK35*D19)/AM43,(S139+AK35*D19)/AN43,(S140+AK35*D19)/AO43)*AP43","v":334.66666666666669},{"$f":"MIN((T136+AK35*D19)/AK43,(T137+AK35*D19)/AL43,(T138+AK35*D19)/AM43,(T139+AK35*D19)/AN43,(T140+AK35*D19)/AO43)*AP43","v":364},{"$f":"MIN((U136+AK35*D19)/AK43,(U137+AK35*D19)/AL43,(U138+AK35*D19)/AM43,(U139+AK35*D19)/AN43,(U140+AK35*D19)/AO43)*AP43","v":318},{"$f":"MIN((V136+AK35*D19)/AK43,(V137+AK35*D19)/AL43,(V138+AK35*D19)/AM43,(V139+AK35*D19)/AN43,(V140+AK35*D19)/AO43)*AP43","v":360.66666666666663},{"$f":"MIN((W136+AK35*D19)/AK43,(W137+AK35*D19)/AL43,(W138+AK35*D19)/AM43,(W139+AK35*D19)/AN43,(W140+AK35*D19)/AO43)*AP43","v":318},{"$f":"MIN((X136+AK35*D19)/AK43,(X137+AK35*D19)/AL43,(X138+AK35*D19)/AM43,(X139+AK35*D19)/AN43,(X140+AK35*D19)/AO43)*AP43","v":355.33333333333331},{"$f":"MIN((Y136+AK35*D19)/AK43,(Y137+AK35*D19)/AL43,(Y138+AK35*D19)/AM43,(Y139+AK35*D19)/AN43,(Y140+AK35*D19)/AO43)*AP43","v":358.66666666666663},{"$f":"MIN((Z136+AK35*D19)/AK43,(Z137+AK35*D19)/AL43,(Z138+AK35*D19)/AM43,(Z139+AK35*D19)/AN43,(Z140+AK35*D19)/AO43)*AP43","v":318},{"$f":"MIN((AA136+AK35*D19)/AK43,(AA137+AK35*D19)/AL43,(AA138+AK35*D19)/AM43,(AA139+AK35*D19)/AN43,(AA140+AK35*D19)/AO43)*AP43","v":358.66666666666663},{"$f":"MIN((AB136+AK35*D19)/AK43,(AB137+AK35*D19)/AL43,(AB138+AK35*D19)/AM43,(AB139+AK35*D19)/AN43,(AB140+AK35*D19)/AO43)*AP43","v":360.66666666666663},{"$f":"MIN((AC136+AK35*D19)/AK43,(AC137+AK35*D19)/AL43,(AC138+AK35*D19)/AM43,(AC139+AK35*D19)/AN43,(AC140+AK35*D19)/AO43)*AP43","v":355.33333333333331},{"$f":"MIN((AD136+AK35*D19)/AK43,(AD137+AK35*D19)/AL43,(AD138+AK35*D19)/AM43,(AD139+AK35*D19)/AN43,(AD140+AK35*D19)/AO43)*AP43","v":318},{"$f":"MIN((AE136+AK35*D19)/AK43,(AE137+AK35*D19)/AL43,(AE138+AK35*D19)/AM43,(AE139+AK35*D19)/AN43,(AE140+AK35*D19)/AO43)*AP43","v":358},{"$f":"MIN((AF136+AK35*D19)/AK43,(AF137+AK35*D19)/AL43,(AF138+AK35*D19)/AM43,(AF139+AK35*D19)/AN43,(AF140+AK35*D19)/AO43)*AP43","v":360.66666666666663},364,null,null,{"$f":"IF(E26=C31,F54,IF(E26=C32,I54,IF(E26=C33,L54,erreur)))","v":1.6348499999999999},null,{"$f":"IF(E26=C31,G54,IF(E26=C32,J54,IF(E26=C33,M54,erreur)))","v":0.18165000000000001},null,1.8165,null,null,11,{"$error":"#N/A"},{"$error":"#N/A"},{"$error":"#N/A"},{"$error":"#N/A"},null,10,{"$error":"#N/A"},{"$error":"#N/A"},{"$error":"#N/A"},{"$error":"#N/A"},{"$error":"#N/A"},{"$error":"#N/A"},{"$error":"#N/A"},{"$error":"#N/A"},{"$error":"#N/A"},{"$error":"#N/A"},{"$error":"#N/A"},{"$error":"#N/A"},{"$error":"#N/A"},{"$error":"#N/A"},{"$error":"#N/A"},{"$error":"#N/A"},{"$error":"#N/A"},{"$error":"#N/A"},{"$error":"#N/A"},{"$error":"#N/A"},{"$error":"#N/A"},{"$error":"#N/A"},{"$error":"#N/A"},{"$error":"#N/A"},{"$error":"#N/A"},{"$error":"#N/A"},{"$error":"#N/A"},{"$error":"#N/A"},{"$error":"#N/A"},{"$error":"#N/A"},{"$error":"#N/A"},{"$error":"#N/A"},{"$error":"#N/A"},{"$error":"#N/A"},{"$error":"#N/A"},{"$error":"#N/A"}]
[null,null,null,null,0.72660000000000002,1.0899000000000001,1.8165,0.81415000000000004,0.54274999999999995,1.3569,1.0899000000000001,1.6348499999999999,2.7247500000000002,0.68115000000000003,0.68115000000000003,1.3623000000000001,null,{"$f":"J12+AH41+D15+D17+D21+D19*AG9","v":569},{"$f":"R68+Q12","v":610},{"$f":"R68+R12","v":629},{"$f":"R68+S12","v":569},{"$f":"R68+T12","v":642},{"$f":"R68+U12","v":569},{"$f":"R68+V12","v":625},{"$f":"R68+W12","v":630},{"$f":"R68+X12","v":569},{"$f":"R68+Y12","v":630},{"$f":"R68+Z12","v":633},{"$f":"R68+AA12","v":637},{"$f":"R68+AB12","v":569},{"$f":"R68+AC12","v":622},{"$f":"R68+AD12","v":640},null,null,null,"allemagne 11 ",{"$f":"MIN((S143+AJ35*D19)/AK42,(S144+AJ35*D19)/AL42,(S145+AJ35*D19)/AM42,(S146+AJ35*D19)/AN42,(S147+AJ35*D19)/AO42)*AP42","v":321.5},{"$f":"MIN((T143+AJ35*D19)/AK42,(T144+AJ35*D19)/AL42,(T145+AJ35*D19)/AM42,(T146+AJ35*D19)/AN42,(T147+AJ35*D19)/AO42)*AP42","v":307.5},{"$f":"MIN((U143+AJ35*D19)/AK42,(U144+AJ35*D19)/AL42,(U145+AJ35*D19)/AM42,(U146+AJ35*D19)/AN42,(U147+AJ35*D19)/AO42)*AP42","v":281.5},{"$f":"MIN((V143+AJ35*D19)/AK42,(V144+AJ35*D19)/AL42,(V145+AJ35*D19)/AM42,(V146+AJ35*D19)/AN42,(V147+AJ35*D19)/AO42)*AP42","v":304},{"$f":"MIN((W143+AJ35*D19)/AK42,(W144+AJ35*D19)/AL42,(W145+AJ35*D19)/AM42,(W146+AJ35*D19)/AN42,(W147+AJ35*D19)/AO42)*AP42","v":281.5},{"$f":"MIN((X143+AJ35*D19)/AK42,(X144+AJ35*D19)/AL42,(X145+AJ35*D19)/AM42,(X146+AJ35*D19)/AN42,(X147+AJ35*D19)/AO42)*AP42","v":309.5},{"$f":"MIN((Y143+AJ35*D19)/AK42,(Y144+AJ35*D19)/AL42,(Y145+AJ35*D19)/AM42,(Y146+AJ35*D19)/AN42,(Y147+AJ35*D19)/AO42)*AP42","v":312},{"$f":"MIN((Z143+AJ35*D19)/AK42,(Z144+AJ35*D19)/AL42,(Z145+AJ35*D19)/AM42,(Z146+AJ35*D19)/AN42,(Z147+AJ35*D19)/AO42)*AP42","v":281.5},{"$f":"MIN((AA143+AJ35*D19)/AK42,(AA144+AJ35*D19)/AL42,(AA145+AJ35*D19)/AM42,(AA146+AJ35*D19)/AN42,(AA147+AJ35*D19)/AO42)*AP42","v":312},{"$f":"MIN((AB143+AJ35*D19)/AK42,(AB144+AJ35*D19)/AL42,(AB145+AJ35*D19)/AM42,(AB146+AJ35*D19)/AN42,(AB147+AJ35*D19)/AO42)*AP42","v":313.5},{"$f":"MIN((AC143+AJ35*D19)/AK42,(AC144+AJ35*D19)/AL42,(AC145+AJ35*D19)/AM42,(AC146+AJ35*D19)/AN42,(AC147+AJ35*D19)/AO42)*AP42","v":315.5},{"$f":"MIN((AD143+AJ35*D19)/AK42,(AD144+AJ35*D19)/AL42,(AD145+AJ35*D19)/AM42,(AD146+AJ35*D19)/AN42,(AD147+AJ35*D19)/AO42)*AP42","v":281.5},{"$f":"MIN((AE143+AJ35*D19)/AK42,(AE144+AJ35*D19)/AL42,(AE145+AJ35*D19)/AM42,(AE146+AJ35*D19)/AN42,(AE147+AJ35*D19)/AO42)*AP42","v":315.5},{"$f":"MIN((AF143+AJ35*D19)/AK42,(AF144+AJ35*D19)/AL42,(AF145+AJ35*D19)/AM42,(AF146+AJ35*D19)/AN42,(AF147+AJ35*D19)/AO42)*AP42","v":313.5},321.5,null,"allemagne 11 ",{"$f":"MIN((S143+AK35*D19)/AK43,(S144+AK35*D19)/AL43,(S145+AK35*D19)/AM43,(S146+AK35*D19)/AN43,(S147+AK35*D19)/AO43)*AP43","v":396.66666666666669},{"$f":"MIN((T143+AK35*D19)/AK43,(T144+AK35*D19)/AL43,(T145+AK35*D19)/AM43,(T146+AK35*D19)/AN43,(T147+AK35*D19)/AO43)*AP43","v":426},{"$f":"MIN((U143+AK35*D19)/AK43,(U144+AK35*D19)/AL43,(U145+AK35*D19)/AM43,(U146+AK35*D19)/AN43,(U147+AK35*D19)/AO43)*AP43","v":380},{"$f":"MIN((V143+AK35*D19)/AK43,(V144+AK35*D19)/AL43,(V145+AK35*D19)/AM43,(V146+AK35*D19)/AN43,(V147+AK35*D19)/AO43)*AP43","v":422.66666666666663},{"$f":"MIN((W143+AK35*D19)/AK43,(W144+AK35*D19)/AL43,(W145+AK35*D19)/AM43,(W146+AK35*D19)/AN43,(W147+AK35*D19)/AO43)*AP43","v":380},{"$f":"MIN((X143+AK35*D19)/AK43,(X144+AK35*D19)/AL43,(X145+AK35*D19)/AM43,(X146+AK35*D19)/AN43,(X147+AK35*D19)/AO43)*AP43","v":417.33333333333331},{"$f":"MIN((Y143+AK35*D19)/AK43,(Y144+AK35*D19)/AL43,(Y145+AK35*D19)/AM43,(Y146+AK35*D19)/AN43,(Y147+AK35*D19)/AO43)*AP43","v":420.66666666666669},{"$f":"MIN((Z143+AK35*D19)/AK43,(Z144+AK35*D19)/AL43,(Z145+AK35*D19)/AM43,(Z146+AK35*D19)/AN43,(Z147+AK35*D19)/AO43)*AP43","v":380},{"$f":"MIN((AA143+AK35*D19)/AK43,(AA144+AK35*D19)/AL43,(AA145+AK35*D19)/AM43,(AA146+AK35*D19)/AN43,(AA147+AK35*D19)/AO43)*AP43","v":420.66666666666669},{"$f":"MIN((AB143+AK35*D19)/AK43,(AB144+AK35*D19)/AL43,(AB145+AK35*D19)/AM43,(AB146+AK35*D19)/AN43,(AB147+AK35*D19)/AO43)*AP43","v":422.66666666666663},{"$f":"MIN((AC143+AK35*D19)/AK43,(AC144+AK35*D19)/AL43,(AC145+AK35*D19)/AM43,(AC146+AK35*D19)/AN43,(AC147+AK35*D19)/AO43)*AP43","v":417.33333333333331},{"$f":"MIN((AD143+AK35*D19)/AK43,(AD144+AK35*D19)/AL43,(AD145+AK35*D19)/AM43,(AD146+AK35*D19)/AN43,(AD147+AK35*D19)/AO43)*AP43","v":380},{"$f":"MIN((AE143+AK35*D19)/AK43,(AE144+AK35*D19)/AL43,(AE145+AK35*D19)/AM43,(AE146+AK35*D19)/AN43,(AE147+AK35*D19)/AO43)*AP43","v":420},{"$f":"MIN((AF143+AK35*D19)/AK43,(AF144+AK35*D19)/AL43,(AF145+AK35*D19)/AM43,(AF146+AK35*D19)/AN43,(AF147+AK35*D19)/AO43)*AP43","v":422.66666666666663},426,null,null,{"$f":"IF(E26=C31,F55,IF(E26=C32,I55,IF(E26=C33,L55,erreur)))","v":2.4523000000000001},null,{"$f":"IF(E26=C31,G55,IF(E26=C32,J55,IF(E26=C33,M55,erreur)))","v":0.27245000000000003},null,2.7247500000000002,null,null,"brut adversaire selon tactique",null,null,null,null,null,11,{"$error":"#N/A"},{"$error":"#N/A"},{"$error":"#N/A"},{"$error":"#N/A"},{"$error":"#N/A"},{"$error":"#N/A"},{"$error":"#N/A"},{"$error":"#N/A"},{"$error":"#N/A"},{"$error":"#N/A"},{"$error":"#N/A"},{"$error":"#N/A"},{"$error":"#N/A"},{"$error":"#N/A"},{"$error":"#N/A"},{"$error":"#N/A"},{"$error":"#N/A"},{"$error":"#N/A"},{"$error":"#N/A"},{"$error":"#N/A"},{"$error":"#N/A"},{"$error":"#N/A"},{"$error":"#N/A"},{"$error":"#N/A"},{"$error":"#N/A"},{"$error":"#N/A"},{"$error":"#N/A"},{"$error":"#N/A"},{"$error":"#N/A"},{"$error":"#N/A"},{"$error":"#N/A"},{"$error":"#N/A"},{"$error":"#N/A"},{"$error":"#N/A"},{"$error":"#N/A"},{"$error":"#N/A"}]
[null,null,null,null,0.68115000000000003,0.68115000000000003,1.3623000000000001,1.6348499999999999,1.0899000000000001,2.7247500000000002,0.68115000000000003,0.68115000000000003,1.3623000000000001,0.68115000000000003,0.68115000000000003,1.3623000000000001,null,{"$f":"K12+AH42+D16+D17+D21+D19*AG9","v":619},{"$f":"R69+Q13","v":644},{"$f":"R69+R13","v":688},{"$f":"R69+S13","v":619},{"$f":"R69+T13","v":683},{"$f":"R69+U13","v":619},{"$f":"R69+V13","v":675},{"$f":"R69+W13","v":680},{"$f":"R69+X13","v":619},{"$f":"R69+Y13","v":680},{"$f":"R69+Z13","v":683},{"$f":"R69+AA13","v":675},{"$f":"R69+AB13","v":619},{"$f":"R69+AC13","v":679},{"$f":"R69+AD13","v":683},null,null,null,"chili 11 ",{"$f":"MIN((S150+AJ35*D19)/AK42,(S151+AJ35*D19)/AL42,(S152+AJ35*D19)/AM42,(S153+AJ35*D19)/AN42,(S154+AJ35*D19)/AO42)*AP42","v":314.5},{"$f":"MIN((T150+AJ35*D19)/AK42,(T151+AJ35*D19)/AL42,(T152+AJ35*D19)/AM42,(T153+AJ35*D19)/AN42,(T154+AJ35*D19)/AO42)*AP42","v":300.5},{"$f":"MIN((U150+AJ35*D19)/AK42,(U151+AJ35*D19)/AL42,(U152+AJ35*D19)/AM42,(U153+AJ35*D19)/AN42,(U154+AJ35*D19)/AO42)*AP42","v":274.5},{"$f":"MIN((V150+AJ35*D19)/AK42,(V151+AJ35*D19)/AL42,(V152+AJ35*D19)/AM42,(V153+AJ35*D19)/AN42,(V154+AJ35*D19)/AO42)*AP42","v":297},{"$f":"MIN((W150+AJ35*D19)/AK42,(W151+AJ35*D19)/AL42,(W152+AJ35*D19)/AM42,(W153+AJ35*D19)/AN42,(W154+AJ35*D19)/AO42)*AP42","v":274.5},{"$f":"MIN((X150+AJ35*D19)/AK42,(X151+AJ35*D19)/AL42,(X152+AJ35*D19)/AM42,(X153+AJ35*D19)/AN42,(X154+AJ35*D19)/AO42)*AP42","v":302.5},{"$f":"MIN((Y150+AJ35*D19)/AK42,(Y151+AJ35*D19)/AL42,(Y152+AJ35*D19)/AM42,(Y153+AJ35*D19)/AN42,(Y154+AJ35*D19)/AO42)*AP42","v":305},{"$f":"MIN((Z150+AJ35*D19)/AK42,(Z151+AJ35*D19)/AL42,(Z152+AJ35*D19)/AM42,(Z153+AJ35*D19)/AN42,(Z154+AJ35*D19)/AO42)*AP42","v":274.5},{"$f":"MIN((AA150+AJ35*D19)/AK42,(AA151+AJ35*D19)/AL42,(AA152+AJ35*D19)/AM42,(AA153+AJ35*D19)/AN42,(AA154+AJ35*D19)/AO42)*AP42","v":305},{"$f":"MIN((AB150+AJ35*D19)/AK42,(AB151+AJ35*D19)/AL42,(AB152+AJ35*D19)/AM42,(AB153+AJ35*D19)/AN42,(AB154+AJ35*D19)/AO42)*AP42","v":306.5},{"$f":"MIN((AC150+AJ35*D19)/AK42,(AC151+AJ35*D19)/AL42,(AC152+AJ35*D19)/AM42,(AC153+AJ35*D19)/AN42,(AC154+AJ35*D19)/AO42)*AP42","v":308.5},{"$f":"MIN((AD150+AJ35*D19)/AK42,(AD151+AJ35*D19)/AL42,(AD152+AJ35*D19)/AM42,(AD153+AJ35*D19)/AN42,(AD154+AJ35*D19)/AO42)*AP42","v":274.5},{"$f":"MIN((AE150+AJ35*D19)/AK42,(AE151+AJ35*D19)/AL42,(AE152+AJ35*D19)/AM42,(AE153+AJ35*D19)/AN42,(AE154+AJ35*D19)/AO42)*AP42","v":308.5},{"$f":"MIN((AF150+AJ35*D19)/AK42,(AF151+AJ35*D19)/AL42,(AF152+AJ35*D19)/AM42,(AF153+AJ35*D19)/AN42,(AF154+AJ35*D19)/AO42)*AP42","v":306.5},314.5,null,"chili 11 ",{"$f":"MIN((S150+AK35*D19)/AK43,(S151+AK35*D19)/AL43,(S152+AK35*D19)/AM43,(S153+AK35*D19)/AN43,(S154+AK35*D19)/AO43)*AP43","v":376},{"$f":"MIN((T150+AK35*D19)/AK43,(T151+AK35*D19)/AL43,(T152+AK35*D19)/AM43,(T153+AK35*D19)/AN43,(T154+AK35*D19)/AO43)*AP43","v":405.33333333333337},{"$f":"MIN((U150+AK35*D19)/AK43,(U151+AK35*D19)/AL43,(U152+AK35*D19)/AM43,(U153+AK35*D19)/AN43,(U154+AK35*D19)/AO43)*AP43","v":359.33333333333331},{"$f":"MIN((V150+AK35*D19)/AK43,(V151+AK35*D19)/AL43,(V152+AK35*D19)/AM43,(V153+AK35*D19)/AN43,(V154+AK35*D19)/AO43)*AP43","v":401.99999999999994},{"$f":"MIN((W150+AK35*D19)/AK43,(W151+AK35*D19)/AL43,(W152+AK35*D19)/AM43,(W153+AK35*D19)/AN43,(W154+AK35*D19)/AO43)*AP43","v":359.33333333333331},{"$f":"MIN((X150+AK35*D19)/AK43,(X151+AK35*D19)/AL43,(X152+AK35*D19)/AM43,(X153+AK35*D19)/AN43,(X154+AK35*D19)/AO43)*AP43","v":396.66666666666669},{"$f":"MIN((Y150+AK35*D19)/AK43,(Y151+AK35*D19)/AL43,(Y152+AK35*D19)/AM43,(Y153+AK35*D19)/AN43,(Y154+AK35*D19)/AO43)*AP43","v":400},{"$f":"MIN((Z150+AK35*D19)/AK43,(Z151+AK35*D19)/AL43,(Z152+AK35*D19)/AM43,(Z153+AK35*D19)/AN43,(Z154+AK35*D19)/AO43)*AP43","v":359.33333333333331},{"$f":"MIN((AA150+AK35*D19)/AK43,(AA151+AK35*D19)/AL43,(AA152+AK35*D19)/AM43,(AA153+AK35*D19)/AN43,(AA154+AK35*D19)/AO43)*AP43","v":400},{"$f":"MIN((AB150+AK35*D19)/AK43,(AB151+AK35*D19)/AL43,(AB152+AK35*D19)/AM43,(AB153+AK35*D19)/AN43,(AB154+AK35*D19)/AO43)*AP43","v":401.99999999999994},{"$f":"MIN((AC150+AK35*D19)/AK43,(AC151+AK35*D19)/AL43,(AC152+AK35*D19)/AM43,(AC153+AK35*D19)/AN43,(AC154+AK35*D19)/AO43)*AP43","v":396.66666666666669},{"$f":"MIN((AD150+AK35*D19)/AK43,(AD151+AK35*D19)/AL43,(AD152+AK35*D19)/AM43,(AD153+AK35*D19)/AN43,(AD154+AK35*D19)/AO43)*AP43","v":359.33333333333331},{"$f":"MIN((AE150+AK35*D19)/AK43,(AE151+AK35*D19)/AL43,(AE152+AK35*D19)/AM43,(AE153+AK35*D19)/AN43,(AE154+AK35*D19)/AO43)*AP43","v":399.33333333333331},{"$f":"MIN((AF150+AK35*D19)/AK43,(AF151+AK35*D19)/AL43,(AF152+AK35*D19)/AM43,(AF153+AK35*D19)/AN43,(AF154+AK35*D19)/AO43)*AP43","v":401.99999999999994},405.33333333333337,null,"formule position",null,null,"formule gain brut",null,null,null,null,null,"att","def",null,null,null,"total",{"$f":"SUM(CG58:CG68)","v":{"$error":"#N/A"}},{"$error":"#N/A"},{"$error":"#N/A"},{"$error":"#N/A"},{"$error":"#N/A"},{"$error":"#N/A"},{"$error":"#N/A"},{"$error":"#N/A"},{"$error":"#N/A"},{"$error":"#N/A"},{"$error":"#N/A"},{"$error":"#N/A"},{"$error":"#N/A"},{"$error":"#N/A"},{"$error":"#N/A"},{"$error":"#N/A"},{"$error":"#N/A"},{"$error":"#N/A"},{"$error":"#N/A"},{"$error":"#N/A"},{"$error":"#N/A"},{"$error":"#N/A"},{"$error":"#N/A"},{"$error":"#N/A"},{"$error":"#N/A"},{"$error":"#N/A"},{"$error":"#N/A"},{"$error":"#N/A"},{"$error":"#N/A"},{"$error":"#N/A"},{"$error":"#N/A"},{"$error":"#N/A"},{"$error":"#N/A"},{"$error":"#N/A"},{"$error":"#N/A"},{"$error":"#N/A"}]
[null,null,null,null,1.58945,0.68115000000000003,2.2706,2.0435500000000002,0.22705,2.2706000000000004,1.27155,0.54495000000000005,1.8165,1.27155,0.54495000000000005,1.8165,null,{"$f":"L12+AH43+D15+D17+D21+D19*AG9","v":460},{"$f":"R70+Q14","v":516},{"$f":"R70+R14","v":512},{"$f":"R70+S14","v":460},{"$f":"R70+T14","v":505},{"$f":"R70+U14","v":460},{"$f":"R70+V14","v":516},{"$f":"R70+W14","v":513},{"$f":"R70+X14","v":460},{"$f":"R70+Y14","v":513},{"$f":"R70+Z14","v":508},{"$f":"R70+AA14","v":509},{"$f":"R70+AB14","v":460},{"$f":"R70+AC14","v":520},{"$f":"R70+AD14","v":504},null,null,null,"corée du sud 3 ",{"$f":"MIN((S157+AJ35*D19)/AK42,(S158+AJ35*D19)/AL42,(S159+AJ35*D19)/AM42,(S160+AJ35*D19)/AN42,(S161+AJ35*D19)/AO42)*AP42","v":252.5},{"$f":"MIN((T157+AJ35*D19)/AK42,(T158+AJ35*D19)/AL42,(T159+AJ35*D19)/AM42,(T160+AJ35*D19)/AN42,(T161+AJ35*D19)/AO42)*AP42","v":238.49999999999997},{"$f":"MIN((U157+AJ35*D19)/AK42,(U158+AJ35*D19)/AL42,(U159+AJ35*D19)/AM42,(U160+AJ35*D19)/AN42,(U161+AJ35*D19)/AO42)*AP42","v":212.5},{"$f":"MIN((V157+AJ35*D19)/AK42,(V158+AJ35*D19)/AL42,(V159+AJ35*D19)/AM42,(V160+AJ35*D19)/AN42,(V161+AJ35*D19)/AO42)*AP42","v":235},{"$f":"MIN((W157+AJ35*D19)/AK42,(W158+AJ35*D19)/AL42,(W159+AJ35*D19)/AM42,(W160+AJ35*D19)/AN42,(W161+AJ35*D19)/AO42)*AP42","v":212.5},{"$f":"MIN((X157+AJ35*D19)/AK42,(X158+AJ35*D19)/AL42,(X159+AJ35*D19)/AM42,(X160+AJ35*D19)/AN42,(X161+AJ35*D19)/AO42)*AP42","v":240.49999999999997},{"$f":"MIN((Y157+AJ35*D19)/AK42,(Y158+AJ35*D19)/AL42,(Y159+AJ35*D19)/AM42,(Y160+AJ35*D19)/AN42,(Y161+AJ35*D19)/AO42)*AP42","v":243.00000000000003},{"$f":"MIN((Z157+AJ35*D19)/AK42,(Z158+AJ35*D19)/AL42,(Z159+AJ35*D19)/AM42,(Z160+AJ35*D19)/AN42,(Z161+AJ35*D19)/AO42)*AP42","v":212.5},{"$f":"MIN((AA157+AJ35*D19)/AK42,(AA158+AJ35*D19)/AL42,(AA159+AJ35*D19)/AM42,(AA160+AJ35*D19)/AN42,(AA161+AJ35*D19)/AO42)*AP42","v":243.00000000000003},{"$f":"MIN((AB157+AJ35*D19)/AK42,(AB158+AJ35*D19)/AL42,(AB159+AJ35*D19)/AM42,(AB160+AJ35*D19)/AN42,(AB161+AJ35*D19)/AO42)*AP42","v":244.49999999999997},{"$f":"MIN((AC157+AJ35*D19)/AK42,(AC158+AJ35*D19)/AL42,(AC159+AJ35*D19)/AM42,(AC160+AJ35*D19)/AN42,(AC161+AJ35*D19)/AO42)*AP42","v":246.5},{"$f":"MIN((AD157+AJ35*D19)/AK42,(AD158+AJ35*D19)/AL42,(AD159+AJ35*D19)/AM42,(AD160+AJ35*D19)/AN42,(AD161+AJ35*D19)/AO42)*AP42","v":212.5},{"$f":"MIN((AE157+AJ35*D19)/AK42,(AE158+AJ35*D19)/AL42,(AE159+AJ35*D19)/AM42,(AE160+AJ35*D19)/AN42,(AE161+AJ35*D19)/AO42)*AP42","v":246.5},{"$f":"MIN((AF157+AJ35*D19)/AK42,(AF158+AJ35*D19)/AL42,(AF159+AJ35*D19)/AM42,(AF160+AJ35*D19)/AN42,(AF161+AJ35*D19)/AO42)*AP42","v":244.49999999999997},252.5,null,"corée du sud 3 ",{"$f":"MIN((S157+AK35*D19)/AK43,(S158+AK35*D19)/AL43,(S159+AK35*D19)/AM43,(S160+AK35*D19)/AN43,(S161+AK35*D19)/AO43)*AP43","v":383.33333333333337},{"$f":"MIN((T157+AK35*D19)/AK43,(T158+AK35*D19)/AL43,(T159+AK35*D19)/AM43,(T160+AK35*D19)/AN43,(T161+AK35*D19)/AO43)*AP43","v":412.66666666666669},{"$f":"MIN((U157+AK35*D19)/AK43,(U158+AK35*D19)/AL43,(U159+AK35*D19)/AM43,(U160+AK35*D19)/AN43,(U161+AK35*D19)/AO43)*AP43","v":366.66666666666663},{"$f":"MIN((V157+AK35*D19)/AK43,(V158+AK35*D19)/AL43,(V159+AK35*D19)/AM43,(V160+AK35*D19)/AN43,(V161+AK35*D19)/AO43)*AP43","v":409.33333333333337},{"$f":"MIN((W157+AK35*D19)/AK43,(W158+AK35*D19)/AL43,(W159+AK35*D19)/AM43,(W160+AK35*D19)/AN43,(W161+AK35*D19)/AO43)*AP43","v":366.66666666666663},{"$f":"MIN((X157+AK35*D19)/AK43,(X158+AK35*D19)/AL43,(X159+AK35*D19)/AM43,(X160+AK35*D19)/AN43,(X161+AK35*D19)/AO43)*AP43","v":404},{"$f":"MIN((Y157+AK35*D19)/AK43,(Y158+AK35*D19)/AL43,(Y159+AK35*D19)/AM43,(Y160+AK35*D19)/AN43,(Y161+AK35*D19)/AO43)*AP43","v":407.33333333333331},{"$f":"MIN((Z157+AK35*D19)/AK43,(Z158+AK35*D19)/AL43,(Z159+AK35*D19)/AM43,(Z160+AK35*D19)/AN43,(Z161+AK35*D19)/AO43)*AP43","v":366.66666666666663},{"$f":"MIN((AA157+AK35*D19)/AK43,(AA158+AK35*D19)/AL43,(AA159+AK35*D19)/AM43,(AA160+AK35*D19)/AN43,(AA161+AK35*D19)/AO43)*AP43","v":407.33333333333331},{"$f":"MIN((AB157+AK35*D19)/AK43,(AB158+AK35*D19)/AL43,(AB159+AK35*D19)/AM43,(AB160+AK35*D19)/AN43,(AB161+AK35*D19)/AO43)*AP43","v":409.33333333333337},{"$f":"MIN((AC157+AK35*D19)/AK43,(AC158+AK35*D19)/AL43,(AC159+AK35*D19)/AM43,(AC160+AK35*D19)/AN43,(AC161+AK35*D19)/AO43)*AP43","v":404},{"$f":"MIN((AD157+AK35*D19)/AK43,(AD158+AK35*D19)/AL43,(AD159+AK35*D19)/AM43,(AD160+AK35*D19)/AN43,(AD161+AK35*D19)/AO43)*AP43","v":366.66666666666663},{"$f":"MIN((AE157+AK35*D19)/AK43,(AE158+AK35*D19)/AL43,(AE159+AK35*D19)/AM43,(AE160+AK35*D19)/AN43,(AE161+AK35*D19)/AO43)*AP43","v":406.66666666666663},{"$f":"MIN((AF157+AK35*D19)/AK43,(AF158+AK35*D19)/AL43,(AF159+AK35*D19)/AM43,(AF160+AK35*D19)/AN43,(AF161+AK35*D19)/AO43)*AP43","v":409.33333333333337},412.66666666666669,null,null,{"$f":"IF(AV24=1,AI24,IF(AV25=1,AI25,IF(AV26=1,AI26,IF(AV27=1,AI27,IF(AV28=1,AI28,IF(AV29=1,AI29,IF(AV31=1,AI31,BS83)))))))","v":"attente"},{"$f":"IF(AV16=1,AI16,IF(AV17=1,AI17,IF(AV18=1,AI18,IF(AV19=1,AI19,IF(AV20=1,AI20,IF(AV21=1,AI21,IF(AV22=1,AI22,IF(AV23=1,AI23,BS70))))))))","v":"attente"},{"$f":"IF(AV24=1,AY72,IF(AV25=1,AY73,IF(AV26=1,AY74,IF(AV27=1,AY75,IF(AV28=1,AY76,IF(AV29=1,AY77,IF(AV31=1,AY78,0)))))))","v":0},{"$f":"IF(AV16=1,AY64,IF(AV17=1,AY65,IF(AV18=1,AY66,IF(AV19=1,AY67,IF(AV20=1,AY68,IF(AV21=1,AY69,IF(AV22=1,AY70,IF(AV23=1,AY71,BU70))))))))","v":0},{"$f":"IF(AV8=1,AY56,IF(AV9=1,AY57,IF(AV10=1,AY58,IF(AV11=1,AY59,IF(AV12=1,AY60,IF(AV13=1,AY61,IF(AV14=1,AY62,IF(AV15=1,AY63,BV70))))))))","v":367},null,null,null,{"$f":"IF($CA$17=$CE$16,CA75,IF($CA$17=$CE$17,CC75,IF($CA$17=$CE$18,CE75,erreur)))","v":{"$error":"#N/A"}},{"$f":"IF($CA$17=$CE$16,CB75,IF($CA$17=$CE$17,CD75,IF($CA$17=$CE$18,CF75,erreur)))","v":{"$error":"#N/A"}},null,null,null,null,null,"stats brutes de l'adversaire et de mon équippe avec bonus match (sauf 15% stratégie)"]
[null,null,null,null,0.72660000000000002,1.0899000000000001,1.8165,1.0899000000000001,0.72660000000000002,1.8165,0.95365,0.40870000000000001,1.3623499999999999,1.3623499999999999,1.3623499999999999,2.7246999999999999,null,null,null,null,null,null,null,null,null,null,null,null,null,null,null,null,null,null,null,"france 11 ",{"$f":"MIN((S164+AJ35*D19)/AK42,(S165+AJ35*D19)/AL42,(S166+AJ35*D19)/AM42,(S167+AJ35*D19)/AN42,(S168+AJ35*D19)/AO42)*AP42","v":316.5},{"$f":"MIN((T164+AJ35*D19)/AK42,(T165+AJ35*D19)/AL42,(T166+AJ35*D19)/AM42,(T167+AJ35*D19)/AN42,(T168+AJ35*D19)/AO42)*AP42","v":302.5},{"$f":"MIN((U164+AJ35*D19)/AK42,(U165+AJ35*D19)/AL42,(U166+AJ35*D19)/AM42,(U167+AJ35*D19)/AN42,(U168+AJ35*D19)/AO42)*AP42","v":276.5},{"$f":"MIN((V164+AJ35*D19)/AK42,(V165+AJ35*D19)/AL42,(V166+AJ35*D19)/AM42,(V167+AJ35*D19)/AN42,(V168+AJ35*D19)/AO42)*AP42","v":299},{"$f":"MIN((W164+AJ35*D19)/AK42,(W165+AJ35*D19)/AL42,(W166+AJ35*D19)/AM42,(W167+AJ35*D19)/AN42,(W168+AJ35*D19)/AO42)*AP42","v":276.5},{"$f":"MIN((X164+AJ35*D19)/AK42,(X165+AJ35*D19)/AL42,(X166+AJ35*D19)/AM42,(X167+AJ35*D19)/AN42,(X168+AJ35*D19)/AO42)*AP42","v":304.5},{"$f":"MIN((Y164+AJ35*D19)/AK42,(Y165+AJ35*D19)/AL42,(Y166+AJ35*D19)/AM42,(Y167+AJ35*D19)/AN42,(Y168+AJ35*D19)/AO42)*AP42","v":307},{"$f":"MIN((Z164+AJ35*D19)/AK42,(Z165+AJ35*D19)/AL42,(Z166+AJ35*D19)/AM42,(Z167+AJ35*D19)/AN42,(Z168+AJ35*D19)/AO42)*AP42","v":276.5},{"$f":"MIN((AA164+AJ35*D19)/AK42,(AA165+AJ35*D19)/AL42,(AA166+AJ35*D19)/AM42,(AA167+AJ35*D19)/AN42,(AA168+AJ35*D19)/AO42)*AP42","v":307},{"$f":"MIN((AB164+AJ35*D19)/AK42,(AB165+AJ35*D19)/AL42,(AB166+AJ35*D19)/AM42,(AB167+AJ35*D19)/AN42,(AB168+AJ35*D19)/AO42)*AP42","v":308.5},{"$f":"MIN((AC164+AJ35*D19)/AK42,(AC165+AJ35*D19)/AL42,(AC166+AJ35*D19)/AM42,(AC167+AJ35*D19)/AN42,(AC168+AJ35*D19)/AO42)*AP42","v":310.5},{"$f":"MIN((AD164+AJ35*D19)/AK42,(AD165+AJ35*D19)/AL42,(AD166+AJ35*D19)/AM42,(AD167+AJ35*D19)/AN42,(AD168+AJ35*D19)/AO42)*AP42","v":276.5},{"$f":"MIN((AE164+AJ35*D19)/AK42,(AE165+AJ35*D19)/AL42,(AE166+AJ35*D19)/AM42,(AE167+AJ35*D19)/AN42,(AE168+AJ35*D19)/AO42)*AP42","v":310.5},{"$f":"MIN((AF164+AJ35*D19)/AK42,(AF165+AJ35*D19)/AL42,(AF166+AJ35*D19)/AM42,(AF167+AJ35*D19)/AN42,(AF168+AJ35*D19)/AO42)*AP42","v":308.5},316.5,null,"france 11 ",{"$f":"MIN((S164+AK35*D19)/AK43,(S165+AK35*D19)/AL43,(S166+AK35*D19)/AM43,(S167+AK35*D19)/AN43,(S168+AK35*D19)/AO43)*AP43","v":392.66666666666669},{"$f":"MIN((T164+AK35*D19)/AK43,(T165+AK35*D19)/AL43,(T166+AK35*D19)/AM43,(T167+AK35*D19)/AN43,(T168+AK35*D19)/AO43)*AP43","v":422},{"$f":"MIN((U164+AK35*D19)/AK43,(U165+AK35*D19)/AL43,(U166+AK35*D19)/AM43,(U167+AK35*D19)/AN43,(U168+AK35*D19)/AO43)*AP43","v":376},{"$f":"MIN((V164+AK35*D19)/AK43,(V165+AK35*D19)/AL43,(V166+AK35*D19)/AM43,(V167+AK35*D19)/AN43,(V168+AK35*D19)/AO43)*AP43","v":418.66666666666663},{"$f":"MIN((W164+AK35*D19)/AK43,(W165+AK35*D19)/AL43,(W166+AK35*D19)/AM43,(W167+AK35*D19)/AN43,(W168+AK35*D19)/AO43)*AP43","v":376},{"$f":"MIN((X164+AK35*D19)/AK43,(X165+AK35*D19)/AL43,(X166+AK35*D19)/AM43,(X167+AK35*D19)/AN43,(X168+AK35*D19)/AO43)*AP43","v":413.33333333333337},{"$f":"MIN((Y164+AK35*D19)/AK43,(Y165+AK35*D19)/AL43,(Y166+AK35*D19)/AM43,(Y167+AK35*D19)/AN43,(Y168+AK35*D19)/AO43)*AP43","v":416.66666666666669},{"$f":"MIN((Z164+AK35*D19)/AK43,(Z165+AK35*D19)/AL43,(Z166+AK35*D19)/AM43,(Z167+AK35*D19)/AN43,(Z168+AK35*D19)/AO43)*AP43","v":376},{"$f":"MIN((AA164+AK35*D19)/AK43,(AA165+AK35*D19)/AL43,(AA166+AK35*D19)/AM43,(AA167+AK35*D19)/AN43,(AA168+AK35*D19)/AO43)*AP43","v":416.66666666666669},{"$f":"MIN((AB164+AK35*D19)/AK43,(AB165+AK35*D19)/AL43,(AB166+AK35*D19)/AM43,(AB167+AK35*D19)/AN43,(AB168+AK35*D19)/AO43)*AP43","v":418.66666666666663},{"$f":"MIN((AC164+AK35*D19)/AK43,(AC165+AK35*D19)/AL43,(AC166+AK35*D19)/AM43,(AC167+AK35*D19)/AN43,(AC168+AK35*D19)/AO43)*AP43","v":413.33333333333337},{"$f":"MIN((AD164+AK35*D19)/AK43,(AD165+AK35*D19)/AL43,(AD166+AK35*D19)/AM43,(AD167+AK35*D19)/AN43,(AD168+AK35*D19)/AO43)*AP43","v":376},{"$f":"MIN((AE164+AK35*D19)/AK43,(AE165+AK35*D19)/AL43,(AE166+AK35*D19)/AM43,(AE167+AK35*D19)/AN43,(AE168+AK35*D19)/AO43)*AP43","v":416},{"$f":"MIN((AF164+AK35*D19)/AK43,(AF165+AK35*D19)/AL43,(AF166+AK35*D19)/AM43,(AF167+AK35*D19)/AN43,(AF168+AK35*D19)/AO43)*AP43","v":418.66666666666663},422,null,null,{"$f":"IF(AV24=2,AI24,IF(AV25=2,AI25,IF(AV26=2,AI26,IF(AV27=2,AI27,IF(AV28=2,AI28,IF(AV29=2,AI29,IF(AV31=2,AI31,BS83)))))))","v":"attente"},{"$f":"IF(AV16=2,AI16,IF(AV17=2,AI17,IF(AV18=2,AI18,IF(AV19=2,AI19,IF(AV20=2,AI20,IF(AV21=2,AI21,IF(AV22=2,AI22,IF(AV23=2,AI23,BS71))))))))","v":"attente"},{"$f":"IF(AV24=2,BP72,IF(AV25=2,BP73,IF(AV26=2,BP74,IF(AV27=2,BP75,IF(AV28=2,BP76,IF(AV29=2,BP77,IF(AV31=2,BP78,0)))))))","v":0},{"$f":"IF(AV16=2,BP64,IF(AV17=2,BP65,IF(AV18=2,BP66,IF(AV19=2,BP67,IF(AV20=2,BP68,IF(AV21=2,BP69,IF(AV22=2,BP70,IF(AV23=2,BP71,BU71))))))))","v":0},{"$f":"IF(AV8=2,BP56,IF(AV9=2,BP57,IF(AV10=2,BP58,IF(AV11=2,BP59,IF(AV12=2,BP60,IF(AV13=2,BP61,IF(AV14=2,BP62,IF(AV15=2,BP63,BV71))))))))","v":458.66666666666669},null,null,null,null,null,null,null,null,null,null,null,null,541,null,null,null,null,null,null,null,null,433,null,null,null,null,null,null,null,null,352,null,null,null,null,null,null,null,null,442]
[null,null,null,null,0.81740000000000002,0.54495000000000005,1.3623500000000002,1.6348499999999999,1.0899000000000001,2.7247500000000002,1.0899000000000001,0.72660000000000002,1.8165,1.27155,0.54495000000000005,1.8165,null,{"$f":"G13","v":3},{"$f":"S65","v":"kit 1"},{"$f":"T65","v":"kit 2/3"},{"$f":"U65","v":0},{"$f":"V65","v":"kit 4"},{"$f":"W65","v":0},"kit 5","kit 6/7",0,0,"kit 8","kit 9",0,{"$f":"AE65","v":"kit 10"},{"$f":"AF65","v":"kit 11"},null,null,null,"france 2 ",{"$f":"MIN((S171+AJ35*D19)/AK42,(S172+AJ35*D19)/AL42,(S173+AJ35*D19)/AM42,(S174+AJ35*D19)/AN42,(S175+AJ35*D19)/AO42)*AP42","v":262},{"$f":"MIN((T171+AJ35*D19)/AK42,(T172+AJ35*D19)/AL42,(T173+AJ35*D19)/AM42,(T174+AJ35*D19)/AN42,(T175+AJ35*D19)/AO42)*AP42","v":248},{"$f":"MIN((U171+AJ35*D19)/AK42,(U172+AJ35*D19)/AL42,(U173+AJ35*D19)/AM42,(U174+AJ35*D19)/AN42,(U175+AJ35*D19)/AO42)*AP42","v":222.00000000000003},{"$f":"MIN((V171+AJ35*D19)/AK42,(V172+AJ35*D19)/AL42,(V173+AJ35*D19)/AM42,(V174+AJ35*D19)/AN42,(V175+AJ35*D19)/AO42)*AP42","v":244.49999999999997},{"$f":"MIN((W171+AJ35*D19)/AK42,(W172+AJ35*D19)/AL42,(W173+AJ35*D19)/AM42,(W174+AJ35*D19)/AN42,(W175+AJ35*D19)/AO42)*AP42","v":222.00000000000003},{"$f":"MIN((X171+AJ35*D19)/AK42,(X172+AJ35*D19)/AL42,(X173+AJ35*D19)/AM42,(X174+AJ35*D19)/AN42,(X175+AJ35*D19)/AO42)*AP42","v":250},{"$f":"MIN((Y171+AJ35*D19)/AK42,(Y172+AJ35*D19)/AL42,(Y173+AJ35*D19)/AM42,(Y174+AJ35*D19)/AN42,(Y175+AJ35*D19)/AO42)*AP42","v":252.5},{"$f":"MIN((Z171+AJ35*D19)/AK42,(Z172+AJ35*D19)/AL42,(Z173+AJ35*D19)/AM42,(Z174+AJ35*D19)/AN42,(Z175+AJ35*D19)/AO42)*AP42","v":222.00000000000003},{"$f":"MIN((AA171+AJ35*D19)/AK42,(AA172+AJ35*D19)/AL42,(AA173+AJ35*D19)/AM42,(AA174+AJ35*D19)/AN42,(AA175+AJ35*D19)/AO42)*AP42","v":252.5},{"$f":"MIN((AB171+AJ35*D19)/AK42,(AB172+AJ35*D19)/AL42,(AB173+AJ35*D19)/AM42,(AB174+AJ35*D19)/AN42,(AB175+AJ35*D19)/AO42)*AP42","v":254},{"$f":"MIN((AC171+AJ35*D19)/AK42,(AC172+AJ35*D19)/AL42,(AC173+AJ35*D19)/AM42,(AC174+AJ35*D19)/AN42,(AC175+AJ35*D19)/AO42)*AP42","v":256},{"$f":"MIN((AD171+AJ35*D19)/AK42,(AD172+AJ35*D19)/AL42,(AD173+AJ35*D19)/AM42,(AD174+AJ35*D19)/AN42,(AD175+AJ35*D19)/AO42)*AP42","v":222.00000000000003},{"$f":"MIN((AE171+AJ35*D19)/AK42,(AE172+AJ35*D19)/AL42,(AE173+AJ35*D19)/AM42,(AE174+AJ35*D19)/AN42,(AE175+AJ35*D19)/AO42)*AP42","v":256},{"$f":"MIN((AF171+AJ35*D19)/AK42,(AF172+AJ35*D19)/AL42,(AF173+AJ35*D19)/AM42,(AF174+AJ35*D19)/AN42,(AF175+AJ35*D19)/AO42)*AP42","v":254},262,null,"france 2 ",{"$f":"MIN((S171+AK35*D19)/AK43,(S172+AK35*D19)/AL43,(S173+AK35*D19)/AM43,(S174+AK35*D19)/AN43,(S175+AK35*D19)/AO43)*AP43","v":402.66666666666663},{"$f":"MIN((T171+AK35*D19)/AK43,(T172+AK35*D19)/AL43,(T173+AK35*D19)/AM43,(T174+AK35*D19)/AN43,(T175+AK35*D19)/AO43)*AP43","v":432},{"$f":"MIN((U171+AK35*D19)/AK43,(U172+AK35*D19)/AL43,(U173+AK35*D19)/AM43,(U174+AK35*D19)/AN43,(U175+AK35*D19)/AO43)*AP43","v":386},{"$f":"MIN((V171+AK35*D19)/AK43,(V172+AK35*D19)/AL43,(V173+AK35*D19)/AM43,(V174+AK35*D19)/AN43,(V175+AK35*D19)/AO43)*AP43","v":428.66666666666669},{"$f":"MIN((W171+AK35*D19)/AK43,(W172+AK35*D19)/AL43,(W173+AK35*D19)/AM43,(W174+AK35*D19)/AN43,(W175+AK35*D19)/AO43)*AP43","v":386},{"$f":"MIN((X171+AK35*D19)/AK43,(X172+AK35*D19)/AL43,(X173+AK35*D19)/AM43,(X174+AK35*D19)/AN43,(X175+AK35*D19)/AO43)*AP43","v":423.33333333333331},{"$f":"MIN((Y171+AK35*D19)/AK43,(Y172+AK35*D19)/AL43,(Y173+AK35*D19)/AM43,(Y174+AK35*D19)/AN43,(Y175+AK35*D19)/AO43)*AP43","v":426.66666666666669},{"$f":"MIN((Z171+AK35*D19)/AK43,(Z172+AK35*D19)/AL43,(Z173+AK35*D19)/AM43,(Z174+AK35*D19)/AN43,(Z175+AK35*D19)/AO43)*AP43","v":386},{"$f":"MIN((AA171+AK35*D19)/AK43,(AA172+AK35*D19)/AL43,(AA173+AK35*D19)/AM43,(AA174+AK35*D19)/AN43,(AA175+AK35*D19)/AO43)*AP43","v":426.66666666666669},{"$f":"MIN((AB171+AK35*D19)/AK43,(AB172+AK35*D19)/AL43,(AB173+AK35*D19)/AM43,(AB174+AK35*D19)/AN43,(AB175+AK35*D19)/AO43)*AP43","v":428.66666666666669},{"$f":"MIN((AC171+AK35*D19)/AK43,(AC172+AK35*D19)/AL43,(AC173+AK35*D19)/AM43,(AC174+AK35*D19)/AN43,(AC175+AK35*D19)/AO43)*AP43","v":423.33333333333331},{"$f":"MIN((AD171+AK35*D19)/AK43,(AD172+AK35*D19)/AL43,(AD173+AK35*D19)/AM43,(AD174+AK35*D19)/AN43,(AD175+AK35*D19)/AO43)*AP43","v":386},{"$f":"MIN((AE171+AK35*D19)/AK43,(AE172+AK35*D19)/AL43,(AE173+AK35*D19)/AM43,(AE174+AK35*D19)/AN43,(AE175+AK35*D19)/AO43)*AP43","v":426},{"$f":"MIN((AF171+AK35*D19)/AK43,(AF172+AK35*D19)/AL43,(AF173+AK35*D19)/AM43,(AF174+AK35*D19)/AN43,(AF175+AK35*D19)/AO43)*AP43","v":428.66666666666669},432,null,null,{"$f":"IF(AV24=3,AI24,IF(AV25=3,AI25,IF(AV26=3,AI26,IF(AV27=3,AI27,IF(AV28=3,AI28,IF(AV29=3,AI29,IF(AV31=3,AI31,BS83)))))))","v":"attente"},{"$f":"IF(AV16=3,AI16,IF(AV17=3,AI17,IF(AV18=3,AI18,IF(AV19=3,AI19,IF(AV20=3,AI20,IF(AV21=3,AI21,IF(AV22=3,AI22,IF(AV23=3,AI23,BS72))))))))","v":"attente"},{"$f":"IF(AV24=3,AY99,IF(AV25=3,AY100,IF(AV26=3,AY101,IF(AV27=3,AY102,IF(AV28=3,AY103,IF(AV29=3,AY104,IF(AV31=3,AY105,0)))))))","v":0},{"$f":"IF(AV16=3,AY91,IF(AV17=3,AY92,IF(AV18=3,AY93,IF(AV19=3,AY94,IF(AV20=3,AY95,IF(AV21=3,AY96,IF(AV22=3,AY97,IF(AV23=3,AY98,BU72))))))))","v":0},{"$f":"IF(AV8=3,AY83,IF(AV9=3,AY84,IF(AV10=3,AY85,IF(AV11=3,AY86,IF(AV12=3,AY87,IF(AV13=3,AY88,IF(AV14=3,AY89,IF(AV15=3,AY90,BV72))))))))","v":445.33333333333331},null,null,null,{"$f":"IF(CA15=1,541,IF(CA15=2,433,IF(CA15=3,352,IF(CA15=4,442,\"erreur\"))))","v":433},null,null,null,null,null,null,null,null,"defensif",null,null,"neutre",null,null,"offensif",null,null,"defensif",null,null,"neutre",null,null,"offensif",null,null,"defensif",null,null,"neutre",null,null,"offensif",null,null,"defensif",null,null,"neutre",null,null,"offensif"]
[null,null,null,"total :",{"$f":"SUM(E62:E72)","v":5.9579500000000003},14.023300000000001,{"$f":"SUM(G62:G72)","v":19.981249999999999},{"$f":"SUM(H62:H72)","v":10.0418},{"$f":"SUM(I62:I72)","v":9.9339499999999994},{"$f":"SUM(J62:J72)","v":19.975750000000001},{"$f":"SUM(K62:K72)","v":8.0015000000000001},11.979699999999999,{"$f":"SUM(M62:M72)","v":19.981200000000001},{"$f":"SUM(N62:N72)","v":7.9561000000000011},12.0251,{"$f":"SUM(P62:P72)","v":19.981199999999998},null,{"$f":"H13+AH39+D16+D17+D21+D19*AG10","v":604},{"$f":"R73+Q10","v":645},{"$f":"R73+R10","v":673},{"$f":"R73+S10","v":604},{"$f":"R73+T10","v":677},{"$f":"R73+U10","v":604},{"$f":"R73+V10","v":674},{"$f":"R73+W10","v":665},{"$f":"R73+X10","v":604},{"$f":"R73+Y10","v":665},{"$f":"R73+Z10","v":660},{"$f":"R73+AA10","v":665},{"$f":"R73+AB10","v":604},{"$f":"R73+AC10","v":650},{"$f":"R73+AD10","v":655},null,null,null,"italie 7 ",{"$f":"MIN((S178+$AJ$35*$D$19)/$AK$42,(S179+$AJ$35*$D$19)/$AL$42,(S180+$AJ$35*$D$19)/$AM$42,(S181+$AJ$35*$D$19)/$AN$42,(S182+$AJ$35*$D$19)/$AO$42)*$AP$42","v":328.5},314.5,288.5,311,288.5,316.5,319,288.5,319,320.5,322.5,288.5,322.5,320.5,328.5,null,"italie 7 ",{"$f":"MIN((S178+$AK$35*$D$19)/$AK$43,(S179+$AK$35*$D$19)/$AL$43,(S180+$AK$35*$D$19)/$AM$43,(S181+$AK$35*$D$19)/$AN$43,(S182+$AK$35*$D$19)/$AO$43)*$AP$43","v":379.33333333333337},{"$f":"MIN((T178+AK35*D19)/AK43,(T179+AK35*D19)/AL43,(T180+AK35*D19)/AM43,(T181+AK35*D19)/AN43,(T182+AK35*D19)/AO43)*AP43","v":408.66666666666669},{"$f":"MIN((U178+AK35*D19)/AK43,(U179+AK35*D19)/AL43,(U180+AK35*D19)/AM43,(U181+AK35*D19)/AN43,(U182+AK35*D19)/AO43)*AP43","v":362.66666666666663},{"$f":"MIN((V178+AK35*D19)/AK43,(V179+AK35*D19)/AL43,(V180+AK35*D19)/AM43,(V181+AK35*D19)/AN43,(V182+AK35*D19)/AO43)*AP43","v":405.33333333333337},{"$f":"MIN((W178+AK35*D19)/AK43,(W179+AK35*D19)/AL43,(W180+AK35*D19)/AM43,(W181+AK35*D19)/AN43,(W182+AK35*D19)/AO43)*AP43","v":362.66666666666663},{"$f":"MIN((X178+AK35*D19)/AK43,(X179+AK35*D19)/AL43,(X180+AK35*D19)/AM43,(X181+AK35*D19)/AN43,(X182+AK35*D19)/AO43)*AP43","v":400},{"$f":"MIN((Y178+AK35*D19)/AK43,(Y179+AK35*D19)/AL43,(Y180+AK35*D19)/AM43,(Y181+AK35*D19)/AN43,(Y182+AK35*D19)/AO43)*AP43","v":403.33333333333331},{"$f":"MIN((Z178+AK35*D19)/AK43,(Z179+AK35*D19)/AL43,(Z180+AK35*D19)/AM43,(Z181+AK35*D19)/AN43,(Z182+AK35*D19)/AO43)*AP43","v":362.66666666666663},{"$f":"MIN((AA178+AK35*D19)/AK43,(AA179+AK35*D19)/AL43,(AA180+AK35*D19)/AM43,(AA181+AK35*D19)/AN43,(AA182+AK35*D19)/AO43)*AP43","v":403.33333333333331},{"$f":"MIN((AB178+AK35*D19)/AK43,(AB179+AK35*D19)/AL43,(AB180+AK35*D19)/AM43,(AB181+AK35*D19)/AN43,(AB182+AK35*D19)/AO43)*AP43","v":405.33333333333337},{"$f":"MIN((AC178+AK35*D19)/AK43,(AC179+AK35*D19)/AL43,(AC180+AK35*D19)/AM43,(AC181+AK35*D19)/AN43,(AC182+AK35*D19)/AO43)*AP43","v":400},{"$f":"MIN((AD178+AK35*D19)/AK43,(AD179+AK35*D19)/AL43,(AD180+AK35*D19)/AM43,(AD181+AK35*D19)/AN43,(AD182+AK35*D19)/AO43)*AP43","v":362.66666666666663},{"$f":"MIN((AE178+AK35*D19)/AK43,(AE179+AK35*D19)/AL43,(AE180+AK35*D19)/AM43,(AE181+AK35*D19)/AN43,(AE182+AK35*D19)/AO43)*AP43","v":402.66666666666663},{"$f":"MIN((AF178+AK35*D19)/AK43,(AF179+AK35*D19)/AL43,(AF180+AK35*D19)/AM43,(AF181+AK35*D19)/AN43,(AF182+AK35*D19)/AO43)*AP43","v":405.33333333333337},408.66666666666669,null,null,{"$f":"IF(AV24=4,AI24,IF(AV25=4,AI25,IF(AV26=4,AI26,IF(AV27=4,AI27,IF(AV28=4,AI28,IF(AV29=4,AI29,IF(AV31=4,AI31,BS83)))))))","v":"attente"},{"$f":"IF(AV16=4,AI16,IF(AV17=4,AI17,IF(AV18=4,AI18,IF(AV19=4,AI19,IF(AV20=4,AI20,IF(AV21=4,AI21,IF(AV22=4,AI22,IF(AV23=4,AI23,BS73))))))))","v":"attente"},{"$f":"IF(AV24=4,BP99,IF(AV25=4,BP100,IF(AV26=4,BP101,IF(AV27=4,BP102,IF(AV28=4,BP103,IF(AV29=4,BP104,IF(AV31=4,BP105,0)))))))","v":0},{"$f":"IF(AV16=4,BP91,IF(AV17=4,BP92,IF(AV18=4,BP93,IF(AV19=4,BP94,IF(AV20=4,BP95,IF(AV21=4,BP96,IF(AV22=4,BP97,IF(AV23=4,BP98,BU73))))))))","v":0},{"$f":"IF(AV8=4,BP83,IF(AV9=4,BP84,IF(AV10=4,BP85,IF(AV11=4,BP86,IF(AV12=4,BP87,IF(AV13=4,BP88,IF(AV14=4,BP89,IF(AV15=4,BP90,BV73))))))))","v":466},null,null,null,"defensif",null,"neutre",null,"offensif",null,null,null,null,"att","def","tot","att","def","tot","att","def","tot","att","def","tot","att","def","tot","att","def","tot","att","def","tot","att","def","tot","att","def","tot","att","def","tot","att","def","tot","att","def","tot"]
[null,null,null,null,"541 neutre",null,null,"433 neutre",null,null,"352 neutre",null,null,"442 neutre",null,null,null,{"$f":"I13+AH40+D15+D17+D21+D19*AG10","v":435},{"$f":"R74+Q11","v":515},{"$f":"R74+R11","v":487},{"$f":"R74+S11","v":435},{"$f":"R74+T11","v":480},{"$f":"R74+U11","v":435},{"$f":"R74+V11","v":491},{"$f":"R74+W11","v":496},{"$f":"R74+X11","v":435},{"$f":"R74+Y11","v":496},{"$f":"R74+Z11","v":499},{"$f":"R74+AA11","v":503},{"$f":"R74+AB11","v":435},{"$f":"R74+AC11","v":503},{"$f":"R74+AD11","v":499},null,null,null,"japon 5 ",{"$f":"MIN((S185+$AJ$35*$D$19)/$AK$42,(S186+$AJ$35*$D$19)/$AL$42,(S187+$AJ$35*$D$19)/$AM$42,(S188+$AJ$35*$D$19)/$AN$42,(S189+$AJ$35*$D$19)/$AO$42)*$AP$42","v":276.5},262.5,236.50000000000003,259,236.50000000000003,264.5,267,236.50000000000003,267,268.5,270.5,236.50000000000003,270.5,268.5,276.5,null,"japon 5 ",{"$f":"MIN((S185+$AK$35*$D$19)/$AK$43,(S186+$AK$35*$D$19)/$AL$43,(S187+$AK$35*$D$19)/$AM$43,(S188+$AK$35*$D$19)/$AN$43,(S189+$AK$35*$D$19)/$AO$43)*$AP$43","v":310},339.33333333333337,293.33333333333331,336,293.33333333333331,330.66666666666669,334,293.33333333333331,334,336,330.66666666666669,293.33333333333331,333.33333333333337,336,339.33333333333337,null,null,{"$f":"IF(AV24=5,AI24,IF(AV25=5,AI25,IF(AV26=5,AI26,IF(AV27=5,AI27,IF(AV28=5,AI28,IF(AV29=5,AI29,IF(AV31=5,AI31,BS83)))))))","v":"attente"},{"$f":"IF(AV16=5,AI16,IF(AV17=5,AI17,IF(AV18=5,AI18,IF(AV19=5,AI19,IF(AV20=5,AI20,IF(AV21=5,AI21,IF(AV22=5,AI22,IF(AV23=5,AI23,BS74))))))))","v":"attente"},{"$f":"IF(AV24=5,AY126,IF(AV25=5,AY127,IF(AV26=5,AY128,IF(AV27=5,AY129,IF(AV28=5,AY130,IF(AV29=5,AY131,IF(AV31=5,AY132,0)))))))","v":0},{"$f":"IF(AV16=5,AY118,IF(AV17=5,AY119,IF(AV18=5,AY120,IF(AV19=5,AY121,IF(AV20=5,AY122,IF(AV21=5,AY123,IF(AV22=5,AY124,IF(AV23=5,AY125,BU74))))))))","v":0},{"$f":"IF(AV8=5,AY110,IF(AV9=5,AY111,IF(AV10=5,AY112,IF(AV11=5,AY113,IF(AV12=5,AY114,IF(AV13=5,AY115,IF(AV14=5,AY116,IF(AV15=5,AY117,BV74))))))))","v":662},null,null,null,"att","def","att","def","att","def",null,"adversaire",null,{"$f":"ROUND(CG69*(100+$BU$13)/100*($BU$14+100)/100*(100+$BU$15)/100*(100+$BU$16)/100*($BU$17+100)/100*(100+$BU$18)/100,2)","v":{"$error":"#N/A"}},{"$error":"#N/A"},{"$error":"#N/A"},{"$error":"#N/A"},{"$error":"#N/A"},{"$error":"#N/A"},{"$error":"#N/A"},{"$error":"#N/A"},{"$error":"#N/A"},{"$error":"#N/A"},{"$error":"#N/A"},{"$error":"#N/A"},{"$error":"#N/A"},{"$error":"#N/A"},{"$error":"#N/A"},{"$error":"#N/A"},{"$error":"#N/A"},{"$error":"#N/A"},{"$error":"#N/A"},{"$error":"#N/A"},{"$error":"#N/A"},{"$error":"#N/A"},{"$error":"#N/A"},{"$error":"#N/A"},{"$error":"#N/A"},{"$error":"#N/A"},{"$error":"#N/A"},{"$error":"#N/A"},{"$error":"#N/A"},{"$error":"#N/A"},{"$error":"#N/A"},{"$error":"#N/A"},{"$error":"#N/A"},{"$error":"#N/A"},{"$error":"#N/A"},{"$error":"#N/A"}]
[null,null,null,null,"1% attaque","1% defense","1% cumulé","1% attaque","1% defense","1% cumulé","1% attaque","1% defense","1% cumulé","1% attaque","1% defense","1% cumulé",null,{"$f":"J13+AH41+D15+D17+D21+D19*AG10","v":503},{"$f":"R75+Q12","v":544},{"$f":"R75+R12","v":563},{"$f":"R75+S12","v":503},{"$f":"R75+T12","v":576},{"$f":"R75+U12","v":503},{"$f":"R75+V12","v":559},{"$f":"R75+W12","v":564},{"$f":"R75+X12","v":503},{"$f":"R75+Y12","v":564},{"$f":"R75+Z12","v":567},{"$f":"R75+AA12","v":571},{"$f":"R75+AB12","v":503},{"$f":"R75+AC12","v":556},{"$f":"R75+AD12","v":574},null,null,null,"nigeria 4 ",{"$f":"MIN((S192+$AJ$35*$D$19)/$AK$42,(S193+$AJ$35*$D$19)/$AL$42,(S194+$AJ$35*$D$19)/$AM$42,(S195+$AJ$35*$D$19)/$AN$42,(S196+$AJ$35*$D$19)/$AO$42)*$AP$42","v":221},206.99999999999997,181,203.5,181,209,211.50000000000003,181,211.50000000000003,213,215,181,215,213,221,null,"nigeria 4 ",{"$f":"MIN((S192+$AK$35*$D$19)/$AK$43,(S193+$AK$35*$D$19)/$AL$43,(S194+$AK$35*$D$19)/$AM$43,(S195+$AK$35*$D$19)/$AN$43,(S196+$AK$35*$D$19)/$AO$43)*$AP$43","v":320.66666666666663},350,304,346.66666666666669,304,341.33333333333337,344.66666666666669,304,344.66666666666669,346.66666666666669,341.33333333333337,304,344,346.66666666666669,350,null,null,{"$f":"IF(AV24=6,AI24,IF(AV25=6,AI25,IF(AV26=6,AI26,IF(AV27=6,AI27,IF(AV28=6,AI28,IF(AV29=6,AI29,IF(AV31=6,AI31,BS83)))))))","v":"attente"},{"$f":"IF(AV16=6,AI16,IF(AV17=6,AI17,IF(AV18=6,AI18,IF(AV19=6,AI19,IF(AV20=6,AI20,IF(AV21=6,AI21,IF(AV22=6,AI22,IF(AV23=6,AI23,BS75))))))))","v":"attente"},{"$f":"IF(AV24=6,BP126,IF(AV25=6,BP127,IF(AV26=6,BP128,IF(AV27=6,BP129,IF(AV28=6,BP130,IF(AV29=6,BP131,IF(AV31=6,BP132,0)))))))","v":0},{"$f":"IF(AV16=6,BP118,IF(AV17=6,BP119,IF(AV18=6,BP120,IF(AV19=6,BP121,IF(AV20=6,BP122,IF(AV21=6,BP123,IF(AV22=6,BP124,IF(AV23=6,BP125,BU75))))))))","v":0},{"$f":"IF(AV8=6,BP110,IF(AV9=6,BP111,IF(AV10=6,BP112,IF(AV11=6,BP113,IF(AV12=6,BP114,IF(AV13=6,BP115,IF(AV14=6,BP116,IF(AV15=6,BP117,BV75))))))))","v":499.2},null,null,null,{"$f":"IF($CA$15=1,CG69,IF($CA$15=2,CP69,IF($CA$15=3,CY69,IF($CA$15=4,DH69,erreur))))","v":{"$error":"#N/A"}},{"$f":"IF($CA$15=1,CH69,IF($CA$15=2,CQ69,IF($CA$15=3,CZ69,IF($CA$15=4,DI69,erreur))))","v":{"$error":"#N/A"}},{"$f":"IF($CA$15=1,CJ69,IF($CA$15=2,CS69,IF($CA$15=3,DB69,IF($CA$15=4,DK69,erreur))))","v":{"$error":"#N/A"}},{"$f":"IF($CA$15=1,CK69,IF($CA$15=2,CT69,IF($CA$15=3,DC69,IF($CA$15=4,DL69,erreur))))","v":{"$error":"#N/A"}},{"$f":"IF($CA$15=1,CM69,IF($CA$15=2,CV69,IF($CA$15=3,DE69,IF($CA$15=4,DN69,erreur))))","v":{"$error":"#N/A"}},{"$f":"IF($CA$15=1,CN69,IF($CA$15=2,CW69,IF($CA$15=3,DF69,IF($CA$15=4,DO69,erreur))))","v":{"$error":"#N/A"}},null,"mon équipe",null,{"$f":"ROUND(CH91*(100+$BN$13)/100*(100+$BN$14)/100*(100+$BN$15)/100*(100+$BN$16)/100*($BN$17+100)/100*(100+$BN$18)/100,2)","v":{"$error":"#N/A"}},{"$error":"#N/A"},{"$error":"#N/A"},{"$error":"#N/A"},{"$error":"#N/A"},{"$error":"#N/A"},{"$error":"#N/A"},{"$error":"#N/A"},{"$error":"#N/A"},{"$error":"#N/A"},{"$error":"#N/A"},{"$error":"#N/A"},{"$error":"#N/A"},{"$error":"#N/A"},{"$error":"#N/A"},{"$error":"#N/A"},{"$error":"#N/A"},{"$error":"#N/A"},{"$error":"#N/A"},{"$error":"#N/A"},{"$error":"#N/A"},{"$error":"#N/A"},{"$error":"#N/A"},{"$error":"#N/A"},{"$error":"#N/A"},{"$error":"#N/A"},{"$error":"#N/A"},{"$error":"#N/A"},{"$error":"#N/A"},{"$error":"#N/A"},{"$error":"#N/A"},{"$error":"#N/A"},{"$error":"#N/A"},{"$error":"#N/A"},{"$error":"#N/A"},{"$error":"#N/A"}]
[null,null,null,null,5.4449999999999998E-2,2.6702499999999998,{"$f":"E76+F76","v":2.7246999999999999},0.16345000000000001,2.5613000000000001,{"$f":"H76+I76","v":2.7247500000000002},5.4449999999999998E-2,2.6702499999999998,{"$f":"K76+L76","v":2.7246999999999999},5.4449999999999998E-2,2.6702499999999998,{"$f":"N76+O76","v":2.7246999999999999},null,{"$f":"K13+AH42+D16+D17+D21+D19*AG10","v":599},{"$f":"R76+Q13","v":624},{"$f":"R76+R13","v":668},{"$f":"R76+S13","v":599},{"$f":"R76+T13","v":663},{"$f":"R76+U13","v":599},{"$f":"R76+V13","v":655},{"$f":"R76+W13","v":660},{"$f":"R76+X13","v":599},{"$f":"R76+Y13","v":660},{"$f":"R76+Z13","v":663},{"$f":"R76+AA13","v":655},{"$f":"R76+AB13","v":599},{"$f":"R76+AC13","v":659},{"$f":"R76+AD13","v":663},null,null,null,"slovaquie 7 ",{"$f":"MIN((S199+$AJ$35*$D$19)/$AK$42,(S200+$AJ$35*$D$19)/$AL$42,(S201+$AJ$35*$D$19)/$AM$42,(S202+$AJ$35*$D$19)/$AN$42,(S203+$AJ$35*$D$19)/$AO$42)*$AP$42","v":291.5},277.5,251.5,274,251.5,279.5,282,251.5,282,283.5,285.5,251.5,285.5,283.5,291.5,null,"slovaquie 7 ",{"$f":"MIN((S199+$AK$35*$D$19)/$AK$43,(S200+$AK$35*$D$19)/$AL$43,(S201+$AK$35*$D$19)/$AM$43,(S202+$AK$35*$D$19)/$AN$43,(S203+$AK$35*$D$19)/$AO$43)*$AP$43","v":320},349.33333333333331,303.33333333333331,346,303.33333333333331,340.66666666666669,344,303.33333333333331,344,346,340.66666666666669,303.33333333333331,343.33333333333331,346,349.33333333333331,null,null,{"$f":"IF(AV24=7,AI24,IF(AV25=7,AI25,IF(AV26=7,AI26,IF(AV27=7,AI27,IF(AV28=7,AI28,IF(AV29=7,AI29,IF(AV31=7,AI31,BS83)))))))","v":"attente"},{"$f":"IF(AV16=7,AI16,IF(AV17=7,AI17,IF(AV18=7,AI18,IF(AV19=7,AI19,IF(AV20=7,AI20,IF(AV21=7,AI21,IF(AV22=7,AI22,IF(AV23=7,AI23,BS76))))))))","v":"attente"},{"$f":"IF(AV24=7,AY153,IF(AV25=7,AY154,IF(AV26=7,AY155,IF(AV27=7,AY156,IF(AV28=7,AY157,IF(AV29=7,AY158,IF(AV31=7,AY159,0)))))))","v":0},{"$f":"IF(AV16=7,AY145,IF(AV17=7,AY146,IF(AV18=7,AY147,IF(AV19=7,AY148,IF(AV20=7,AY149,IF(AV21=7,AY150,IF(AV22=7,AY151,IF(AV23=7,AY152,BU76))))))))","v":0},{"$f":"IF(AV8=7,AY137,IF(AV9=7,AY138,IF(AV10=7,AY139,IF(AV11=7,AY140,IF(AV12=7,AY141,IF(AV13=7,AY142,IF(AV14=7,AY143,IF(AV15=7,AY144,BV76))))))))","v":503.2},null,null,null,null,null,null,null,null,null,"stats brutes joueurs mon equipe par position sans bonus match"]
[null,null,null,null,0.40870000000000001,0.95365,{"$f":"E77+F77","v":1.3623499999999999},0.81740000000000002,0.54495000000000005,1.3623500000000002,1.1353,1.1353,{"$f":"K77+L77","v":2.2706},0.54495000000000005,0.81740000000000002,{"$f":"N77+O77","v":1.3623500000000002},null,{"$f":"L13+AH43+D15+D17+D21+D19*AG10","v":408},{"$f":"R77+Q14","v":464},{"$f":"R77+R14","v":460},{"$f":"R77+S14","v":408},{"$f":"R77+T14","v":453},{"$f":"R77+U14","v":408},{"$f":"R77+V14","v":464},{"$f":"R77+W14","v":461},{"$f":"R77+X14","v":408},{"$f":"R77+Y14","v":461},{"$f":"R77+Z14","v":456},{"$f":"R77+AA14","v":457},{"$f":"R77+AB14","v":408},{"$f":"R77+AC14","v":468},{"$f":"R77+AD14","v":452},null,null,null,{"$f":"AJ212","v":"slovaquie 7 bis "},{"$f":"MIN((S206+$AJ$35*$D$19)/$AK$42,(S207+$AJ$35*$D$19)/$AL$42,(S208+$AJ$35*$D$19)/$AM$42,(S209+$AJ$35*$D$19)/$AN$42,(S210+$AJ$35*$D$19)/$AO$42)*$AP$42","v":322.5},308.5,282.5,305,282.5,310.5,313,282.5,313,314.5,316.5,282.5,316.5,314.5,322.5,null,{"$f":"AJ212","v":"slovaquie 7 bis "},{"$f":"MIN((S206+$AK$35*$D$19)/$AK$43,(S207+$AK$35*$D$19)/$AL$43,(S208+$AK$35*$D$19)/$AM$43,(S209+$AK$35*$D$19)/$AN$43,(S210+$AK$35*$D$19)/$AO$43)*$AP$43","v":390.66666666666669},420,374,416.66666666666669,374,411.33333333333331,414.66666666666663,374,414.66666666666663,416.66666666666669,411.33333333333331,374,413.99999999999994,416.66666666666669,420,null,null,{"$f":"IF(AV24=8,AI24,IF(AV25=8,AI25,IF(AV26=8,AI26,IF(AV27=8,AI27,IF(AV28=8,AI28,IF(AV29=8,AI29,IF(AV31=8,AI31,BS83)))))))","v":"attente"},{"$f":"IF(AV16=8,AI16,IF(AV17=8,AI17,IF(AV18=8,AI18,IF(AV19=8,AI19,IF(AV20=8,AI20,IF(AV21=8,AI21,IF(AV22=8,AI22,IF(AV23=8,AI23,BS77))))))))","v":"attente"},{"$f":"IF(AV24=8,BP153,IF(AV25=8,BP154,IF(AV26=8,BP155,IF(AV27=8,BP156,IF(AV28=8,BP157,IF(AV29=8,BP158,IF(AV31=8,BP159,0)))))))","v":0},{"$f":"IF(AV16=8,BP145,IF(AV17=8,BP146,IF(AV18=8,BP147,IF(AV19=8,BP148,IF(AV20=8,BP149,IF(AV21=8,BP150,IF(AV22=8,BP151,IF(AV23=8,BP152,BU77))))))))","v":0},{"$f":"IF(AV8=8,BP137,IF(AV9=8,BP138,IF(AV10=8,BP139,IF(AV11=8,BP140,IF(AV12=8,BP141,IF(AV13=8,BP142,IF(AV14=8,BP143,IF(AV15=8,BP144,BV77))))))))","v":430},null,null,null,null,null,null,null,null,null,null,541,null,null,null,null,null,null,null,null,433,null,null,null,null,null,null,null,null,352,null,null,null,null,null,null,null,null,442]
[null,null,null,null,0.40870000000000001,0.95365,1.3623499999999999,0.81740000000000002,0.54495000000000005,1.3623500000000002,1.1353,1.1353,2.2706,0.54495000000000005,0.81740000000000002,1.3623500000000002,null,null,null,null,null,null,null,null,null,null,null,null,null,null,null,null,null,null,null,{"$f":"AJ213","v":0},{"$f":"MIN((S213+$AJ$35*$D$19)/$AK$42,(S214+$AJ$35*$D$19)/$AL$42,(S215+$AJ$35*$D$19)/$AM$42,(S216+$AJ$35*$D$19)/$AN$42,(S217+$AJ$35*$D$19)/$AO$42)*$AP$42","v":108},94,68,90.5,68,96,98.5,68,98.5,100,102,68,102,100,108,null,0,{"$f":"MIN((S213+$AK$35*$D$19)/$AK$43,(S214+$AK$35*$D$19)/$AL$43,(S215+$AK$35*$D$19)/$AM$43,(S216+$AK$35*$D$19)/$AN$43,(S217+$AK$35*$D$19)/$AO$43)*$AP$43","v":97.333333333333343},126.66666666666666,80.666666666666657,123.33333333333334,80.666666666666657,118,121.33333333333334,80.666666666666657,121.33333333333334,123.33333333333334,118,80.666666666666657,120.66666666666667,123.33333333333334,126.66666666666666,null,null,{"$f":"IF(AV24=9,AI24,IF(AV25=9,AI25,IF(AV26=9,AI26,IF(AV27=9,AI27,IF(AV28=9,AI28,IF(AV29=9,AI29,IF(AV31=9,AI31,BS83)))))))","v":"attente"},{"$f":"IF(AV16=9,AI16,IF(AV17=9,AI17,IF(AV18=9,AI18,IF(AV19=9,AI19,IF(AV20=9,AI20,IF(AV21=9,AI21,IF(AV22=9,AI22,IF(AV23=9,AI23,BS78))))))))","v":"grece 9 "},{"$f":"IF(AV24=9,AY180,IF(AV25=9,AY181,IF(AV26=9,AY182,IF(AV27=9,AY183,IF(AV28=9,AY184,IF(AV29=9,AY185,IF(AV31=9,AY186,0)))))))","v":0},{"$f":"IF(AV16=9,AY172,IF(AV17=9,AY173,IF(AV18=9,AY174,IF(AV19=9,AY175,IF(AV20=9,AY176,IF(AV21=9,AY177,IF(AV22=9,AY178,IF(AV23=9,AY179,BU78))))))))","v":334.28571428571428},{"$f":"IF(AV8=9,AY164,IF(AV9=9,AY165,IF(AV10=9,AY166,IF(AV11=9,AY167,IF(AV12=9,AY168,IF(AV13=9,AY169,IF(AV14=9,AY170,IF(AV15=9,AY171,BV78))))))))","v":334.28571428571428},null,null,null,null,null,null,null,null,null,null,"defensif",null,null,"neutre",null,null,"offensif",null,null,"defensif",null,null,"neutre",null,null,"offensif",null,null,"defensif",null,null,"neutre",null,null,"offensif",null,null,"defensif",null,null,"neutre",null,null,"offensif"]
[null,null,null,null,0.36330000000000001,1.4532,1.8165,0.27245000000000003,0.63575000000000004,0.90820000000000012,0.27245000000000003,0.63575000000000004,0.90820000000000012,0.54495000000000005,1.27155,1.8165,null,{"$f":"G14","v":"algerie 4 "},{"$f":"S72","v":"kit 1"},{"$f":"T72","v":"kit 2/3"},0,"kit 4",0,"kit 5","kit 6/7",0,0,"kit 8","kit 9",0,{"$f":"AE72","v":"kit 10"},{"$f":"AF72","v":"kit 11"},null,null,null,{"$f":"AJ214","v":0},{"$f":"MIN((S220+$AJ$35*$D$19)/$AK$42,(S221+$AJ$35*$D$19)/$AL$42,(S222+$AJ$35*$D$19)/$AM$42,(S223+$AJ$35*$D$19)/$AN$42,(S224+$AJ$35*$D$19)/$AO$42)*$AP$42","v":108},94,68,90.5,68,96,98.5,68,98.5,100,102,68,102,100,108,null,0,{"$f":"MIN((S220+$AK$35*$D$19)/$AK$43,(S221+$AK$35*$D$19)/$AL$43,(S222+$AK$35*$D$19)/$AM$43,(S223+$AK$35*$D$19)/$AN$43,(S224+$AK$35*$D$19)/$AO$43)*$AP$43","v":97.333333333333343},126.66666666666666,80.666666666666657,123.33333333333334,80.666666666666657,118,121.33333333333334,80.666666666666657,121.33333333333334,123.33333333333334,118,80.666666666666657,120.66666666666667,123.33333333333334,126.66666666666666,null,null,{"$f":"IF(AV24=10,AI24,IF(AV25=10,AI25,IF(AV26=10,AI26,IF(AV27=10,AI27,IF(AV28=10,AI28,IF(AV29=10,AI29,IF(AV31=10,AI31,BS83)))))))","v":"attente"},{"$f":"IF(AV16=10,AI16,IF(AV17=10,AI17,IF(AV18=10,AI18,IF(AV19=10,AI19,IF(AV20=10,AI20,IF(AV21=10,AI21,IF(AV22=10,AI22,IF(AV23=10,AI23,BS79))))))))","v":"nigeria 8 "},{"$f":"IF(AV24=10,BP180,IF(AV25=10,BP181,IF(AV26=10,BP182,IF(AV27=10,BP183,IF(AV28=10,BP184,IF(AV29=10,BP185,IF(AV31=10,BP186,0)))))))","v":0},{"$f":"IF(AV16=10,BP172,IF(AV17=10,BP173,IF(AV18=10,BP174,IF(AV19=10,BP175,IF(AV20=10,BP176,IF(AV21=10,BP177,IF(AV22=10,BP178,IF(AV23=10,BP179,BU79))))))))","v":359.33333333333331},{"$f":"IF(AV8=10,BP164,IF(AV9=10,BP165,IF(AV10=10,BP166,IF(AV11=10,BP167,IF(AV12=10,BP168,IF(AV13=10,BP169,IF(AV14=10,BP170,IF(AV15=10,BP171,BV79))))))))","v":359.33333333333331},null,null,"match nul",null,null,null,null,null,null,null,"att","def","tot","att","def","tot","att","def","tot","att","def","tot","att","def","tot","att","def","tot","att","def","tot","att","def","tot","att","def","tot","att","def","tot","att","def","tot","att","def","tot"]
[null,null,null,null,0.36330000000000001,1.4532,1.8165,0.68115000000000003,0.68115000000000003,1.3623000000000001,0.36330000000000001,0.54495000000000005,0.90825,0.90825,0.90825,1.8165,null,{"$f":"H14+AH39+D16+D17+D21+D19*AG11","v":630},{"$f":"R80+Q10","v":671},{"$f":"R80+R10","v":699},{"$f":"R80+S10","v":630},{"$f":"R80+T10","v":703},{"$f":"R80+U10","v":630},{"$f":"R80+V10","v":700},{"$f":"R80+W10","v":691},{"$f":"R80+X10","v":630},{"$f":"R80+Y10","v":691},{"$f":"R80+Z10","v":686},{"$f":"R80+AA10","v":691},{"$f":"R80+AB10","v":630},{"$f":"R80+AC10","v":676},{"$f":"R80+AD10","v":681},null,null,null,{"$f":"AJ215","v":0},{"$f":"MIN((S227+$AJ$35*$D$19)/$AK$42,(S228+$AJ$35*$D$19)/$AL$42,(S229+$AJ$35*$D$19)/$AM$42,(S229+$AJ$35*$D$19)/$AN$42,(S230+$AJ$35*$D$19)/$AO$42)*$AP$42","v":108},94,68,90.5,68,96,98.5,68,98.5,100,102,68,102,100,108,null,0,{"$f":"MIN((S227+$AK$35*$D$19)/$AK$43,(S228+$AK$35*$D$19)/$AL$43,(S229+$AK$35*$D$19)/$AM$43,(S230+$AK$35*$D$19)/$AN$43,(S231+$AK$35*$D$19)/$AO$43)*$AP$43","v":97.333333333333343},126.66666666666666,80.666666666666657,123.33333333333334,80.666666666666657,118,121.33333333333334,80.666666666666657,121.33333333333334,123.33333333333334,118,80.666666666666657,120.66666666666667,123.33333333333334,126.66666666666666,null,null,{"$f":"IF(AV24=11,AI24,IF(AV25=11,AI25,IF(AV26=11,AI26,IF(AV27=11,AI27,IF(AV28=11,AI28,IF(AV29=11,AI29,IF(AV31=11,AI31,BS83)))))))","v":"attente"},{"$f":"IF(AV16=11,AI16,IF(AV17=11,AI17,IF(AV18=11,AI18,IF(AV19=11,AI19,IF(AV20=11,AI20,IF(AV21=11,AI21,IF(AV22=11,AI22,IF(AV23=11,AI23,BS80))))))))","v":"slovaquie 8 "},{"$f":"IF(AV24=11,AY207,IF(AV25=11,AY208,IF(AV26=11,AY209,IF(AV27=11,AY210,IF(AV28=11,AY211,IF(AV29=11,AY212,IF(AV31=11,AY213,0)))))))","v":0},{"$f":"IF(AV16=11,AY199,IF(AV17=11,AY200,IF(AV18=11,AY201,IF(AV19=11,AY202,IF(AV20=11,AY203,IF(AV21=11,AY204,IF(AV22=11,AY205,IF(AV23=11,AY206,BU80))))))))","v":422.66666666666663},{"$f":"IF(AV8=11,AY191,IF(AV9=11,AY192,IF(AV10=11,AY193,IF(AV11=11,AY194,IF(AV12=11,AY195,IF(AV13=11,AY196,IF(AV14=11,AY197,IF(AV15=11,AY198,BV80))))))))","v":422.66666666666663},null,null,"défaite",null,null,null,null,null,{"$f":"BA10","v":"espagne 9 "},null,{"$f":"BW70*E62","v":19.983149999999998},{"$f":"BW70*F62","v":979.98174999999992},{"$f":"BW70*G62","v":999.96489999999994},{"$f":"BW70*E76","v":19.983149999999998},{"$f":"BW70*F76","v":979.98174999999992},{"$f":"BW70*G76","v":999.96489999999994},{"$f":"BW70*E90","v":19.983149999999998},{"$f":"BW70*F90","v":979.98174999999992},{"$f":"BW70*G90","v":999.96489999999994},{"$f":"BW70*H62","v":19.983149999999998},{"$f":"BW70*I62","v":979.98174999999992},{"$f":"BW70*J62","v":999.96489999999994},{"$f":"BW70*H76","v":59.986150000000002},{"$f":"BW70*I76","v":939.99710000000005},{"$f":"BW70*J76","v":999.98325000000011},{"$f":"BW70*H90","v":99.989150000000009},{"$f":"BW70*I90","v":899.9941},{"$f":"BW70*J90","v":999.98325000000011},{"$f":"BW70*K62","v":19.983149999999998},{"$f":"BW70*L62","v":979.98174999999992},{"$f":"BW70*M62","v":999.96489999999994},{"$f":"BW70*K76","v":19.983149999999998},{"$f":"BW70*L76","v":979.98174999999992},{"$f":"BW70*M76","v":999.96489999999994},{"$f":"BW70*K90","v":19.983149999999998},{"$f":"BW70*L90","v":979.98174999999992},{"$f":"BW70*M90","v":999.96489999999994},{"$f":"BW70*N62","v":19.983149999999998},{"$f":"BW70*O62","v":979.98174999999992},{"$f":"BW70*P62","v":999.96489999999994},{"$f":"BW70*N76","v":19.983149999999998},{"$f":"BW70*O76","v":979.98174999999992},{"$f":"BW70*P76","v":999.96489999999994},{"$f":"BW70*N90","v":19.983149999999998},{"$f":"BW70*O90","v":979.98174999999992},{"$f":"BW70*P90","v":999.96489999999994}]
[null,null,null,null,0.68115000000000003,1.58945,2.2706,0.95365,0.40870000000000001,1.3623499999999999,0.90825,0.90825,1.8165,0.90825,0.90825,1.8165,null,{"$f":"I14+AH40+D15+D17+D21+D19*AG11","v":370},{"$f":"R81+Q11","v":450},{"$f":"R81+R11","v":422},{"$f":"R81+S11","v":370},{"$f":"R81+T11","v":415},{"$f":"R81+U11","v":370},{"$f":"R81+V11","v":426},{"$f":"R81+W11","v":431},{"$f":"R81+X11","v":370},{"$f":"R81+Y11","v":431},{"$f":"R81+Z11","v":434},{"$f":"R81+AA11","v":438},{"$f":"R81+AB11","v":370},{"$f":"R81+AC11","v":438},{"$f":"R81+AD11","v":434},null,null,null,null,null,null,null,null,null,null,null,null,null,null,null,null,null,null,null,null,null,null,null,null,null,null,null,null,null,null,null,null,null,null,null,null,null,null,null,null,null,null,null,null,null,"victoire",null,null,null,null,null,2,null,124.96373333333335,499.90080000000006,624.86453333333338,187.45706666666669,437.40746666666666,624.86453333333338,187.45706666666669,437.40746666666666,624.86453333333338,312.42080000000004,312.42080000000004,624.84160000000008,374.91413333333338,249.95040000000003,624.86453333333338,437.40746666666666,187.45706666666669,624.86453333333338,416.584,624.86453333333338,1041.4485333333334,520.72426666666672,520.72426666666672,1041.4485333333334,624.86453333333338,416.584,1041.4485333333334,187.45706666666669,437.40746666666666,624.86453333333338,249.95040000000003,374.91413333333338,624.86453333333338,374.91413333333338,249.95040000000003,624.86453333333338]
[null,null,null,null,0.90825,0.90825,1.8165,0.94984999999999997,0.40705000000000002,1.3569,1.6348499999999999,1.0899000000000001,2.7247500000000002,0.81740000000000002,0.54495000000000005,1.3623500000000002,null,{"$f":"J14+AH41+D15+D17+D21+D19*AG11","v":550},{"$f":"R82+Q12","v":591},{"$f":"R82+R12","v":610},{"$f":"R82+S12","v":550},{"$f":"R82+T12","v":623},{"$f":"R82+U12","v":550},{"$f":"R82+V12","v":606},{"$f":"R82+W12","v":611},{"$f":"R82+X12","v":550},{"$f":"R82+Y12","v":611},{"$f":"R82+Z12","v":614},{"$f":"R82+AA12","v":618},{"$f":"R82+AB12","v":550},{"$f":"R82+AC12","v":603},{"$f":"R82+AD12","v":621},null,null,null,3,{"$f":"Q9","v":"kit 1"},"kit 2/3",0,"kit 4",0,"kit 5","kit 6/7",0,0,"kit 8","kit 9",0,"kit 10","kit 11","MAX",null,4,{"$f":"Q9","v":"kit 1"},"kit 2/3",0,"kit 4",0,"kit 5","kit 6/7",0,0,"kit 8","kit 9",0,"kit 10","kit 11","MAX",null,null,null,null,null,null,null,null,null,null,null,null,null,null,null,3,null,121.33106666666667,485.36880000000002,606.69986666666671,182.00773333333333,424.69213333333329,606.69986666666659,182.00773333333333,424.69213333333329,606.69986666666659,303.33879999999999,303.33879999999999,606.67759999999998,364.01546666666667,242.68440000000001,606.69986666666671,424.69213333333329,182.00773333333333,606.69986666666659,303.33879999999999,707.83506666666665,1011.1738666666666,505.58693333333332,505.58693333333332,1011.1738666666666,606.69986666666659,404.47399999999999,1011.1738666666666,182.00773333333333,424.69213333333329,606.69986666666659,242.68440000000001,364.01546666666667,606.69986666666671,364.01546666666667,242.68440000000001,606.69986666666671]
[null,null,null,null,0.81740000000000002,0.54495000000000005,1.3623500000000002,1.9073500000000001,0.81740000000000002,2.7247500000000002,0.81740000000000002,0.54495000000000005,1.3623500000000002,0.81415000000000004,0.54274999999999995,1.3569,null,{"$f":"K14+AH42+D16+D17+D21+D19*AG11","v":517},{"$f":"R83+Q13","v":542},{"$f":"R83+R13","v":586},{"$f":"R83+S13","v":517},{"$f":"R83+T13","v":581},{"$f":"R83+U13","v":517},{"$f":"R83+V13","v":573},{"$f":"R83+W13","v":578},{"$f":"R83+X13","v":517},{"$f":"R83+Y13","v":578},{"$f":"R83+Z13","v":581},{"$f":"R83+AA13","v":573},{"$f":"R83+AB13","v":517},{"$f":"R83+AC13","v":577},{"$f":"R83+AD13","v":581},null,null,null,{"$f":"AJ191","v":"espagne 9 "},{"$f":"MIN((S59+AL35*D19)/AK44,(S60+AL35*D19)/AL44,(S61+AL35*D19)/AM44,(S62+AL35*D19)/AN44,(S63+AL35*D19)/AO44)*AP44","v":406.66666666666663},{"$f":"MIN((T59+AL35*D19)/AK44,(T60+AL35*D19)/AL44,(T61+AL35*D19)/AM44,(T62+AL35*D19)/AN44,(T63+AL35*D19)/AO44)*AP44","v":436.00000000000006},{"$f":"MIN((U59+AL35*D19)/AK44,(U60+AL35*D19)/AL44,(U61+AL35*D19)/AM44,(U62+AL35*D19)/AN44,(U63+AL35*D19)/AO44)*AP44","v":390},{"$f":"MIN((V59+AL35*D19)/AK44,(V60+AL35*D19)/AL44,(V61+AL35*D19)/AM44,(V62+AL35*D19)/AN44,(V63+AL35*D19)/AO44)*AP44","v":432.66666666666669},{"$f":"MIN((W59+AL35*D19)/AK44,(W60+AL35*D19)/AL44,(W61+AL35*D19)/AM44,(W62+AL35*D19)/AN44,(W63+AL35*D19)/AO44)*AP44","v":390},{"$f":"MIN((X59+AL35*D19)/AK44,(X60+AL35*D19)/AL44,(X61+AL35*D19)/AM44,(X62+AL35*D19)/AN44,(X63+AL35*D19)/AO44)*AP44","v":427.33333333333337},{"$f":"MIN((Y59+AL35*D19)/AK44,(Y60+AL35*D19)/AL44,(Y61+AL35*D19)/AM44,(Y62+AL35*D19)/AN44,(Y63+AL35*D19)/AO44)*AP44","v":430.66666666666669},{"$f":"MIN((Z59+AL35*D19)/AK44,(Z60+AL35*D19)/AL44,(Z61+AL35*D19)/AM44,(Z62+AL35*D19)/AN44,(Z63+AL35*D19)/AO44)*AP44","v":390},{"$f":"MIN((AA59+AL35*D19)/AK44,(AA60+AL35*D19)/AL44,(AA61+AL35*D19)/AM44,(AA62+AL35*D19)/AN44,(AA63+AL35*D19)/AO44)*AP44","v":430.66666666666669},{"$f":"MIN((AB59+AL35*D19)/AK44,(AB60+AL35*D19)/AL44,(AB61+AL35*D19)/AM44,(AB62+AL35*D19)/AN44,(AB63+AL35*D19)/AO44)*AP44","v":432.66666666666669},{"$f":"MIN((AC59+AL35*D19)/AK44,(AC60+AL35*D19)/AL44,(AC61+AL35*D19)/AM44,(AC62+AL35*D19)/AN44,(AC63+AL35*D19)/AO44)*AP44","v":427.33333333333337},{"$f":"MIN((AD59+AL35*D19)/AK44,(AD60+AL35*D19)/AL44,(AD61+AL35*D19)/AM44,(AD62+AL35*D19)/AN44,(AD63+AL35*D19)/AO44)*AP44","v":390},{"$f":"MIN((AE59+AL35*D19)/AK44,(AE60+AL35*D19)/AL44,(AE61+AL35*D19)/AM44,(AE62+AL35*D19)/AN44,(AE63+AL35*D19)/AO44)*AP44","v":430},{"$f":"MIN((AF59+AL35*D19)/AK44,(AF60+AL35*D19)/AL44,(AF61+AL35*D19)/AM44,(AF62+AL35*D19)/AN44,(AF63+AL35*D19)/AO44)*AP44","v":432.66666666666669},{"$f":"MAX(AK83:AX83)","v":436.00000000000006},null,{"$f":"AJ191","v":"espagne 9 "},{"$f":"MIN((S59+AM35*D19)/AK45,(S60+AM35*D19)/AL45,(S61+AM35*D19)/AM45,(S62+AM35*D19)/AN45,(S63+AM35*D19)/AO45)*AP45","v":391.33333333333337},{"$f":"MIN((T59+AM35*D19)/AK45,(T60+AM35*D19)/AL45,(T61+AM35*D19)/AM45,(T62+AM35*D19)/AN45,(T63+AM35*D19)/AO45)*AP45","v":409.99999999999994},{"$f":"MIN((U59+AM35*D19)/AK45,(U60+AM35*D19)/AL45,(U61+AM35*D19)/AM45,(U62+AM35*D19)/AN45,(U63+AM35*D19)/AO45)*AP45","v":364},{"$f":"MIN((V59+AM35*D19)/AK45,(V60+AM35*D19)/AL45,(V61+AM35*D19)/AM45,(V62+AM35*D19)/AN45,(V63+AM35*D19)/AO45)*AP45","v":412.66666666666669},{"$f":"MIN((W59+AM35*D19)/AK45,(W60+AM35*D19)/AL45,(W61+AM35*D19)/AM45,(W62+AM35*D19)/AN45,(W63+AM35*D19)/AO45)*AP45","v":364},{"$f":"MIN((X59+AM35*D19)/AK45,(X60+AM35*D19)/AL45,(X61+AM35*D19)/AM45,(X62+AM35*D19)/AN45,(X63+AM35*D19)/AO45)*AP45","v":410.66666666666663},{"$f":"MIN((Y59+AM35*D19)/AK45,(Y60+AM35*D19)/AL45,(Y61+AM35*D19)/AM45,(Y62+AM35*D19)/AN45,(Y63+AM35*D19)/AO45)*AP45","v":404.66666666666669},{"$f":"MIN((Z59+AM35*D19)/AK45,(Z60+AM35*D19)/AL45,(Z61+AM35*D19)/AM45,(Z62+AM35*D19)/AN45,(Z63+AM35*D19)/AO45)*AP45","v":364},{"$f":"MIN((AA59+AM35*D19)/AK45,(AA60+AM35*D19)/AL45,(AA61+AM35*D19)/AM45,(AA62+AM35*D19)/AN45,(AA63+AM35*D19)/AO45)*AP45","v":404.66666666666669},{"$f":"MIN((AB59+AM35*D19)/AK45,(AB60+AM35*D19)/AL45,(AB61+AM35*D19)/AM45,(AB62+AM35*D19)/AN45,(AB63+AM35*D19)/AO45)*AP45","v":401.33333333333337},{"$f":"MIN((AC59+AM35*D19)/AK45,(AC60+AM35*D19)/AL45,(AC61+AM35*D19)/AM45,(AC62+AM35*D19)/AN45,(AC63+AM35*D19)/AO45)*AP45","v":404.66666666666669},{"$f":"MIN((AD59+AM35*D19)/AK45,(AD60+AM35*D19)/AL45,(AD61+AM35*D19)/AM45,(AD62+AM35*D19)/AN45,(AD63+AM35*D19)/AO45)*AP45","v":364},{"$f":"MIN((AE59+AM35*D19)/AK45,(AE60+AM35*D19)/AL45,(AE61+AM35*D19)/AM45,(AE62+AM35*D19)/AN45,(AE63+AM35*D19)/AO45)*AP45","v":394.66666666666669},{"$f":"MIN((AF59+AM35*D19)/AK45,(AF60+AM35*D19)/AL45,(AF61+AM35*D19)/AM45,(AF62+AM35*D19)/AN45,(AF63+AM35*D19)/AO45)*AP45","v":398},{"$f":"MAX(BB83:BO83)","v":412.66666666666669},null,null,"attente",null,null,null,null,null,null,null,null,null,null,null,null,"algerie 4 ",null,84.648899999999998,761.84010000000001,846.48900000000003,169.2978,677.19119999999998,846.48900000000003,338.59559999999999,507.89340000000004,846.48900000000003,84.648899999999998,338.59559999999999,423.24450000000002,126.96170000000001,296.2595,423.22120000000007,169.2978,253.94670000000002,423.24450000000002,126.96170000000001,296.2595,423.22120000000007,126.96170000000001,296.2595,423.22120000000007,211.61060000000001,211.61060000000001,423.22120000000001,169.2978,677.19119999999998,846.48900000000003,253.94670000000002,592.54229999999995,846.48900000000003,423.24450000000002,423.24450000000002,846.48900000000003]
[null,null,null,null,1.8165,0.4541,2.2706,2.0435500000000002,0.22705,2.2706000000000004,1.4532,0.36330000000000001,1.8165,1.6348499999999999,0.18165000000000001,1.8165,null,{"$f":"L14+AH43+D15+D17+D21+D19*AG11","v":337},{"$f":"R84+Q14","v":393},{"$f":"R84+R14","v":389},{"$f":"R84+S14","v":337},{"$f":"R84+T14","v":382},{"$f":"R84+U14","v":337},{"$f":"R84+V14","v":393},{"$f":"R84+W14","v":390},{"$f":"R84+X14","v":337},{"$f":"R84+Y14","v":390},{"$f":"R84+Z14","v":385},{"$f":"R84+AA14","v":386},{"$f":"R84+AB14","v":337},{"$f":"R84+AC14","v":397},{"$f":"R84+AD14","v":381},null,null,null,2,{"$f":"MIN((S66+AL35*D19)/AK44,(S67+AL35*D19)/AL44,(S68+AL35*D19)/AM44,(S69+AL35*D19)/AN44,(S70+AL35*D19)/AO44)*AP44","v":429.33333333333331},{"$f":"MIN((T66+AL35*D19)/AK44,(T67+AL35*D19)/AL44,(T68+AL35*D19)/AM44,(T69+AL35*D19)/AN44,(T70+AL35*D19)/AO44)*AP44","v":458.66666666666669},{"$f":"MIN((U66+AL35*D19)/AK44,(U67+AL35*D19)/AL44,(U68+AL35*D19)/AM44,(U69+AL35*D19)/AN44,(U70+AL35*D19)/AO44)*AP44","v":412.66666666666669},{"$f":"MIN((V66+AL35*D19)/AK44,(V67+AL35*D19)/AL44,(V68+AL35*D19)/AM44,(V69+AL35*D19)/AN44,(V70+AL35*D19)/AO44)*AP44","v":455.33333333333337},{"$f":"MIN((W66+AL35*D19)/AK44,(W67+AL35*D19)/AL44,(W68+AL35*D19)/AM44,(W69+AL35*D19)/AN44,(W70+AL35*D19)/AO44)*AP44","v":412.66666666666669},{"$f":"MIN((X66+AL35*D19)/AK44,(X67+AL35*D19)/AL44,(X68+AL35*D19)/AM44,(X69+AL35*D19)/AN44,(X70+AL35*D19)/AO44)*AP44","v":450},{"$f":"MIN((Y66+AL35*D19)/AK44,(Y67+AL35*D19)/AL44,(Y68+AL35*D19)/AM44,(Y69+AL35*D19)/AN44,(Y70+AL35*D19)/AO44)*AP44","v":453.33333333333331},{"$f":"MIN((Z66+AL35*D19)/AK44,(Z67+AL35*D19)/AL44,(Z68+AL35*D19)/AM44,(Z69+AL35*D19)/AN44,(Z70+AL35*D19)/AO44)*AP44","v":412.66666666666669},{"$f":"MIN((AA66+AL35*D19)/AK44,(AA67+AL35*D19)/AL44,(AA68+AL35*D19)/AM44,(AA69+AL35*D19)/AN44,(AA70+AL35*D19)/AO44)*AP44","v":453.33333333333331},{"$f":"MIN((AB66+AL35*D19)/AK44,(AB67+AL35*D19)/AL44,(AB68+AL35*D19)/AM44,(AB69+AL35*D19)/AN44,(AB70+AL35*D19)/AO44)*AP44","v":455.33333333333337},{"$f":"MIN((AC66+AL35*D19)/AK44,(AC67+AL35*D19)/AL44,(AC68+AL35*D19)/AM44,(AC69+AL35*D19)/AN44,(AC70+AL35*D19)/AO44)*AP44","v":450},{"$f":"MIN((AD66+AL35*D19)/AK44,(AD67+AL35*D19)/AL44,(AD68+AL35*D19)/AM44,(AD69+AL35*D19)/AN44,(AD70+AL35*D19)/AO44)*AP44","v":412.66666666666669},{"$f":"MIN((AE66+AL35*D19)/AK44,(AE67+AL35*D19)/AL44,(AE68+AL35*D19)/AM44,(AE69+AL35*D19)/AN44,(AE70+AL35*D19)/AO44)*AP44","v":452.66666666666663},{"$f":"MIN((AF66+AL35*D19)/AK44,(AF67+AL35*D19)/AL44,(AF68+AL35*D19)/AM44,(AF69+AL35*D19)/AN44,(AF70+AL35*D19)/AO44)*AP44","v":455.33333333333337},458.66666666666669,null,2,{"$f":"MIN((S66+AM35*D19)/AK45,(S67+AM35*D19)/AL45,(S68+AM35*D19)/AM45,(S69+AM35*D19)/AN45,(S70+AM35*D19)/AO45)*AP45","v":448.66666666666663},{"$f":"MIN((T66+AM35*D19)/AK45,(T67+AM35*D19)/AL45,(T68+AM35*D19)/AM45,(T69+AM35*D19)/AN45,(T70+AM35*D19)/AO45)*AP45","v":467.33333333333331},{"$f":"MIN((U66+AM35*D19)/AK45,(U67+AM35*D19)/AL45,(U68+AM35*D19)/AM45,(U69+AM35*D19)/AN45,(U70+AM35*D19)/AO45)*AP45","v":421.33333333333331},{"$f":"MIN((V66+AM35*D19)/AK45,(V67+AM35*D19)/AL45,(V68+AM35*D19)/AM45,(V69+AM35*D19)/AN45,(V70+AM35*D19)/AO45)*AP45","v":470},{"$f":"MIN((W66+AM35*D19)/AK45,(W67+AM35*D19)/AL45,(W68+AM35*D19)/AM45,(W69+AM35*D19)/AN45,(W70+AM35*D19)/AO45)*AP45","v":421.33333333333331},{"$f":"MIN((X66+AM35*D19)/AK45,(X67+AM35*D19)/AL45,(X68+AM35*D19)/AM45,(X69+AM35*D19)/AN45,(X70+AM35*D19)/AO45)*AP45","v":468},{"$f":"MIN((Y66+AM35*D19)/AK45,(Y67+AM35*D19)/AL45,(Y68+AM35*D19)/AM45,(Y69+AM35*D19)/AN45,(Y70+AM35*D19)/AO45)*AP45","v":462},{"$f":"MIN((Z66+AM35*D19)/AK45,(Z67+AM35*D19)/AL45,(Z68+AM35*D19)/AM45,(Z69+AM35*D19)/AN45,(Z70+AM35*D19)/AO45)*AP45","v":421.33333333333331},{"$f":"MIN((AA66+AM35*D19)/AK45,(AA67+AM35*D19)/AL45,(AA68+AM35*D19)/AM45,(AA69+AM35*D19)/AN45,(AA70+AM35*D19)/AO45)*AP45","v":462},{"$f":"MIN((AB66+AM35*D19)/AK45,(AB67+AM35*D19)/AL45,(AB68+AM35*D19)/AM45,(AB69+AM35*D19)/AN45,(AB70+AM35*D19)/AO45)*AP45","v":458.66666666666669},{"$f":"MIN((AC66+AM35*D19)/AK45,(AC67+AM35*D19)/AL45,(AC68+AM35*D19)/AM45,(AC69+AM35*D19)/AN45,(AC70+AM35*D19)/AO45)*AP45","v":462},{"$f":"MIN((AD66+AM35*D19)/AK45,(AD67+AM35*D19)/AL45,(AD68+AM35*D19)/AM45,(AD69+AM35*D19)/AN45,(AD70+AM35*D19)/AO45)*AP45","v":421.33333333333331},{"$f":"MIN((AE66+AM35*D19)/AK45,(AE67+AM35*D19)/AL45,(AE68+AM35*D19)/AM45,(AE69+AM35*D19)/AN45,(AE70+AM35*D19)/AO45)*AP45","v":451.99999999999994},{"$f":"MIN((AF66+AM35*D19)/AK45,(AF67+AM35*D19)/AL45,(AF68+AM35*D19)/AM45,(AF69+AM35*D19)/AN45,(AF70+AM35*D19)/AO45)*AP45","v":455.33333333333337},{"$f":"MAX(BB84:BO84)","v":470},null,null,null,null,null,null,null,null,null,null,null,null,null,null,null,"ghana 5 ",null,120.25230000000001,1082.2707,1202.5229999999999,240.50460000000001,962.01840000000004,1202.5229999999999,481.00920000000002,721.51380000000006,1202.5229999999999,270.55939999999998,631.31629999999996,901.87569999999994,450.92130000000003,450.92130000000003,901.84260000000006,631.31629999999996,270.55939999999998,901.87569999999994,180.36190000000002,420.86650000000003,601.22840000000008,240.50460000000001,360.75690000000003,601.26149999999996,300.61419999999998,300.61419999999998,601.22839999999997,481.00920000000002,721.51380000000006,1202.5229999999999,601.26149999999996,601.26149999999996,1202.5229999999999,721.51380000000006,481.00920000000002,1202.5229999999999]
[null,null,null,null,1.27155,0.54495000000000005,1.8165,1.4532,0.36330000000000001,1.8165,0.95365,0.40870000000000001,1.3623499999999999,1.9073500000000001,0.81740000000000002,2.7247500000000002,null,null,null,null,null,null,null,null,null,null,null,null,null,null,null,null,null,null,null,3,{"$f":"MIN((S73+AL35*D19)/AK44,(S74+AL35*D19)/AL44,(S75+AL35*D19)/AM44,(S76+AL35*D19)/AN44,(S77+AL35*D19)/AO44)*AP44","v":416},{"$f":"MIN((T73+AL35*D19)/AK44,(T74+AL35*D19)/AL44,(T75+AL35*D19)/AM44,(T76+AL35*D19)/AN44,(T77+AL35*D19)/AO44)*AP44","v":445.33333333333331},{"$f":"MIN((U73+AL35*D19)/AK44,(U74+AL35*D19)/AL44,(U75+AL35*D19)/AM44,(U76+AL35*D19)/AN44,(U77+AL35*D19)/AO44)*AP44","v":399.33333333333331},{"$f":"MIN((V73+AL35*D19)/AK44,(V74+AL35*D19)/AL44,(V75+AL35*D19)/AM44,(V76+AL35*D19)/AN44,(V77+AL35*D19)/AO44)*AP44","v":442},{"$f":"MIN((W73+AL35*D19)/AK44,(W74+AL35*D19)/AL44,(W75+AL35*D19)/AM44,(W76+AL35*D19)/AN44,(W77+AL35*D19)/AO44)*AP44","v":399.33333333333331},{"$f":"MIN((X73+AL35*D19)/AK44,(X74+AL35*D19)/AL44,(X75+AL35*D19)/AM44,(X76+AL35*D19)/AN44,(X77+AL35*D19)/AO44)*AP44","v":436.66666666666663},{"$f":"MIN((Y73+AL35*D19)/AK44,(Y74+AL35*D19)/AL44,(Y75+AL35*D19)/AM44,(Y76+AL35*D19)/AN44,(Y77+AL35*D19)/AO44)*AP44","v":440.00000000000006},{"$f":"MIN((Z73+AL35*D19)/AK44,(Z74+AL35*D19)/AL44,(Z75+AL35*D19)/AM44,(Z76+AL35*D19)/AN44,(Z77+AL35*D19)/AO44)*AP44","v":399.33333333333331},{"$f":"MIN((AA73+AL35*D19)/AK44,(AA74+AL35*D19)/AL44,(AA75+AL35*D19)/AM44,(AA76+AL35*D19)/AN44,(AA77+AL35*D19)/AO44)*AP44","v":440.00000000000006},{"$f":"MIN((AB73+AL35*D19)/AK44,(AB74+AL35*D19)/AL44,(AB75+AL35*D19)/AM44,(AB76+AL35*D19)/AN44,(AB77+AL35*D19)/AO44)*AP44","v":442},{"$f":"MIN((AC73+AL35*D19)/AK44,(AC74+AL35*D19)/AL44,(AC75+AL35*D19)/AM44,(AC76+AL35*D19)/AN44,(AC77+AL35*D19)/AO44)*AP44","v":436.66666666666663},{"$f":"MIN((AD73+AL35*D19)/AK44,(AD74+AL35*D19)/AL44,(AD75+AL35*D19)/AM44,(AD76+AL35*D19)/AN44,(AD77+AL35*D19)/AO44)*AP44","v":399.33333333333331},{"$f":"MIN((AE73+AL35*D19)/AK44,(AE74+AL35*D19)/AL44,(AE75+AL35*D19)/AM44,(AE76+AL35*D19)/AN44,(AE77+AL35*D19)/AO44)*AP44","v":439.33333333333337},{"$f":"MIN((AF73+AL35*D19)/AK44,(AF74+AL35*D19)/AL44,(AF75+AL35*D19)/AM44,(AF76+AL35*D19)/AN44,(AF77+AL35*D19)/AO44)*AP44","v":442},445.33333333333331,null,3,{"$f":"MIN((S73+AM35*D19)/AK45,(S74+AM35*D19)/AL45,(S75+AM35*D19)/AM45,(S76+AM35*D19)/AN45,(S77+AM35*D19)/AO45)*AP45","v":430},{"$f":"MIN((T73+AM35*D19)/AK45,(T74+AM35*D19)/AL45,(T75+AM35*D19)/AM45,(T76+AM35*D19)/AN45,(T77+AM35*D19)/AO45)*AP45","v":448.66666666666663},{"$f":"MIN((U73+AM35*D19)/AK45,(U74+AM35*D19)/AL45,(U75+AM35*D19)/AM45,(U76+AM35*D19)/AN45,(U77+AM35*D19)/AO45)*AP45","v":402.4},{"$f":"MIN((V73+AM35*D19)/AK45,(V74+AM35*D19)/AL45,(V75+AM35*D19)/AM45,(V76+AM35*D19)/AN45,(V77+AM35*D19)/AO45)*AP45","v":451.33333333333337},{"$f":"MIN((W73+AM35*D19)/AK45,(W74+AM35*D19)/AL45,(W75+AM35*D19)/AM45,(W76+AM35*D19)/AN45,(W77+AM35*D19)/AO45)*AP45","v":402.4},{"$f":"MIN((X73+AM35*D19)/AK45,(X74+AM35*D19)/AL45,(X75+AM35*D19)/AM45,(X76+AM35*D19)/AN45,(X77+AM35*D19)/AO45)*AP45","v":447.20000000000005},{"$f":"MIN((Y73+AM35*D19)/AK45,(Y74+AM35*D19)/AL45,(Y75+AM35*D19)/AM45,(Y76+AM35*D19)/AN45,(Y77+AM35*D19)/AO45)*AP45","v":443.33333333333337},{"$f":"MIN((Z73+AM35*D19)/AK45,(Z74+AM35*D19)/AL45,(Z75+AM35*D19)/AM45,(Z76+AM35*D19)/AN45,(Z77+AM35*D19)/AO45)*AP45","v":402.4},{"$f":"MIN((AA73+AM35*D19)/AK45,(AA74+AM35*D19)/AL45,(AA75+AM35*D19)/AM45,(AA76+AM35*D19)/AN45,(AA77+AM35*D19)/AO45)*AP45","v":443.33333333333337},{"$f":"MIN((AB73+AM35*D19)/AK45,(AB74+AM35*D19)/AL45,(AB75+AM35*D19)/AM45,(AB76+AM35*D19)/AN45,(AB77+AM35*D19)/AO45)*AP45","v":440.00000000000006},{"$f":"MIN((AC73+AM35*D19)/AK45,(AC74+AM35*D19)/AL45,(AC75+AM35*D19)/AM45,(AC76+AM35*D19)/AN45,(AC77+AM35*D19)/AO45)*AP45","v":443.33333333333337},{"$f":"MIN((AD73+AM35*D19)/AK45,(AD74+AM35*D19)/AL45,(AD75+AM35*D19)/AM45,(AD76+AM35*D19)/AN45,(AD77+AM35*D19)/AO45)*AP45","v":402.4},{"$f":"MIN((AE73+AM35*D19)/AK45,(AE74+AM35*D19)/AL45,(AE75+AM35*D19)/AM45,(AE76+AM35*D19)/AN45,(AE77+AM35*D19)/AO45)*AP45","v":433.33333333333331},{"$f":"MIN((AF73+AM35*D19)/AK45,(AF74+AM35*D19)/AL45,(AF75+AM35*D19)/AM45,(AF76+AM35*D19)/AN45,(AF77+AM35*D19)/AO45)*AP45","v":436.66666666666663},451.33333333333337,"constante kit",null,null,null,null,null,null,null,null,null,null,null,null,null,null,"slovenie 6 ",null,226.68672000000001,906.79679999999996,1133.48352,340.03008,793.45344,1133.48352,453.39839999999998,680.08511999999996,1133.48352,408.04608000000002,272.03904,680.08512000000007,476.06207999999998,204.02304000000001,680.08511999999996,476.06207999999998,204.02304000000001,680.08511999999996,362.71872000000002,544.07808,906.79679999999996,453.39839999999998,453.39839999999998,906.79679999999996,544.07808,362.71872000000002,906.79679999999996,362.71872000000002,544.07808,906.79679999999996,453.39839999999998,453.39839999999998,906.79679999999996,544.07808,362.71872000000002,906.79679999999996]
[null,null,null,null,0.95365,0.40870000000000001,1.3623499999999999,1.9073500000000001,0.81740000000000002,2.7247500000000002,1.27155,0.54495000000000005,1.8165,1.27155,0.54495000000000005,1.8165,null,{"$f":"G15","v":"ghana 5 "},{"$f":"S79","v":"kit 1"},{"$f":"T79","v":"kit 2/3"},0,"kit 4",0,"kit 5","kit 6/7",0,0,"kit 8","kit 9",0,{"$f":"AE79","v":"kit 10"},{"$f":"AF79","v":"kit 11"},null,null,null,"algerie 4 ",{"$f":"MIN((S80+AL35*D19)/AK44,(S81+AL35*D19)/AL44,(S82+AL35*D19)/AM44,(S83+AL35*D19)/AN44,(S84+AL35*D19)/AO44)*AP44","v":361.33333333333331},{"$f":"MIN((T80+AL35*D19)/AK44,(T81+AL35*D19)/AL44,(T82+AL35*D19)/AM44,(T83+AL35*D19)/AN44,(T84+AL35*D19)/AO44)*AP44","v":389},{"$f":"MIN((U80+AL35*D19)/AK44,(U81+AL35*D19)/AL44,(U82+AL35*D19)/AM44,(U83+AL35*D19)/AN44,(U84+AL35*D19)/AO44)*AP44","v":337},{"$f":"MIN((V80+AL35*D19)/AK44,(V81+AL35*D19)/AL44,(V82+AL35*D19)/AM44,(V83+AL35*D19)/AN44,(V84+AL35*D19)/AO44)*AP44","v":382},{"$f":"MIN((W80+AL35*D19)/AK44,(W81+AL35*D19)/AL44,(W82+AL35*D19)/AM44,(W83+AL35*D19)/AN44,(W84+AL35*D19)/AO44)*AP44","v":337},{"$f":"MIN((X80+AL35*D19)/AK44,(X81+AL35*D19)/AL44,(X82+AL35*D19)/AM44,(X83+AL35*D19)/AN44,(X84+AL35*D19)/AO44)*AP44","v":382},{"$f":"MIN((Y80+AL35*D19)/AK44,(Y81+AL35*D19)/AL44,(Y82+AL35*D19)/AM44,(Y83+AL35*D19)/AN44,(Y84+AL35*D19)/AO44)*AP44","v":385.33333333333337},{"$f":"MIN((Z80+AL35*D19)/AK44,(Z81+AL35*D19)/AL44,(Z82+AL35*D19)/AM44,(Z83+AL35*D19)/AN44,(Z84+AL35*D19)/AO44)*AP44","v":337},{"$f":"MIN((AA80+AL35*D19)/AK44,(AA81+AL35*D19)/AL44,(AA82+AL35*D19)/AM44,(AA83+AL35*D19)/AN44,(AA84+AL35*D19)/AO44)*AP44","v":385.33333333333337},{"$f":"MIN((AB80+AL35*D19)/AK44,(AB81+AL35*D19)/AL44,(AB82+AL35*D19)/AM44,(AB83+AL35*D19)/AN44,(AB84+AL35*D19)/AO44)*AP44","v":385},{"$f":"MIN((AC80+AL35*D19)/AK44,(AC81+AL35*D19)/AL44,(AC82+AL35*D19)/AM44,(AC83+AL35*D19)/AN44,(AC84+AL35*D19)/AO44)*AP44","v":382},{"$f":"MIN((AD80+AL35*D19)/AK44,(AD81+AL35*D19)/AL44,(AD82+AL35*D19)/AM44,(AD83+AL35*D19)/AN44,(AD84+AL35*D19)/AO44)*AP44","v":337},{"$f":"MIN((AE80+AL35*D19)/AK44,(AE81+AL35*D19)/AL44,(AE82+AL35*D19)/AM44,(AE83+AL35*D19)/AN44,(AE84+AL35*D19)/AO44)*AP44","v":384.66666666666669},{"$f":"MIN((AF80+AL35*D19)/AK44,(AF81+AL35*D19)/AL44,(AF82+AL35*D19)/AM44,(AF83+AL35*D19)/AN44,(AF84+AL35*D19)/AO44)*AP44","v":381},389,null,"algerie 4 ",{"$f":"MIN((S80+AM35*D19)/AK45,(S81+AM35*D19)/AL45,(S82+AM35*D19)/AM45,(S83+AM35*D19)/AN45,(S84+AM35*D19)/AO45)*AP45","v":433.6},{"$f":"MIN((T80+AM35*D19)/AK45,(T81+AM35*D19)/AL45,(T82+AM35*D19)/AM45,(T83+AM35*D19)/AN45,(T84+AM35*D19)/AO45)*AP45","v":466},{"$f":"MIN((U80+AM35*D19)/AK45,(U81+AM35*D19)/AL45,(U82+AM35*D19)/AM45,(U83+AM35*D19)/AN45,(U84+AM35*D19)/AO45)*AP45","v":413.6},{"$f":"MIN((V80+AM35*D19)/AK45,(V81+AM35*D19)/AL45,(V82+AM35*D19)/AM45,(V83+AM35*D19)/AN45,(V84+AM35*D19)/AO45)*AP45","v":464.79999999999995},{"$f":"MIN((W80+AM35*D19)/AK45,(W81+AM35*D19)/AL45,(W82+AM35*D19)/AM45,(W83+AM35*D19)/AN45,(W84+AM35*D19)/AO45)*AP45","v":413.6},{"$f":"MIN((X80+AM35*D19)/AK45,(X81+AM35*D19)/AL45,(X82+AM35*D19)/AM45,(X83+AM35*D19)/AN45,(X84+AM35*D19)/AO45)*AP45","v":458.4},{"$f":"MIN((Y80+AM35*D19)/AK45,(Y81+AM35*D19)/AL45,(Y82+AM35*D19)/AM45,(Y83+AM35*D19)/AN45,(Y84+AM35*D19)/AO45)*AP45","v":460.66666666666663},{"$f":"MIN((Z80+AM35*D19)/AK45,(Z81+AM35*D19)/AL45,(Z82+AM35*D19)/AM45,(Z83+AM35*D19)/AN45,(Z84+AM35*D19)/AO45)*AP45","v":413.6},{"$f":"MIN((AA80+AM35*D19)/AK45,(AA81+AM35*D19)/AL45,(AA82+AM35*D19)/AM45,(AA83+AM35*D19)/AN45,(AA84+AM35*D19)/AO45)*AP45","v":460.66666666666663},{"$f":"MIN((AB80+AM35*D19)/AK45,(AB81+AM35*D19)/AL45,(AB82+AM35*D19)/AM45,(AB83+AM35*D19)/AN45,(AB84+AM35*D19)/AO45)*AP45","v":457.33333333333331},{"$f":"MIN((AC80+AM35*D19)/AK45,(AC81+AM35*D19)/AL45,(AC82+AM35*D19)/AM45,(AC83+AM35*D19)/AN45,(AC84+AM35*D19)/AO45)*AP45","v":458.4},{"$f":"MIN((AD80+AM35*D19)/AK45,(AD81+AM35*D19)/AL45,(AD82+AM35*D19)/AM45,(AD83+AM35*D19)/AN45,(AD84+AM35*D19)/AO45)*AP45","v":413.6},{"$f":"MIN((AE80+AM35*D19)/AK45,(AE81+AM35*D19)/AL45,(AE82+AM35*D19)/AM45,(AE83+AM35*D19)/AN45,(AE84+AM35*D19)/AO45)*AP45","v":450.66666666666669},{"$f":"MIN((AF80+AM35*D19)/AK45,(AF81+AM35*D19)/AL45,(AF82+AM35*D19)/AM45,(AF83+AM35*D19)/AN45,(AF84+AM35*D19)/AO45)*AP45","v":454},466,null,{"$f":"BB109","v":"kit 1"},"kit 2/3",0,"kit 4",0,"kit 5","kit 6/7",0,0,"kit 8","kit 9",0,"kit 10","kit 11","grece 7 ",null,365.62511999999998,548.43768,914.06279999999992,457.03139999999996,457.03139999999996,914.06279999999992,548.43768,365.62511999999998,914.06279999999992,409.68028000000004,273.11179999999996,682.79207999999994,477.96451999999999,204.82756000000001,682.79207999999994,477.96451999999999,204.82756000000001,682.79207999999994,548.43768,822.65651999999989,1371.0942,822.65651999999989,548.43768,1371.0942,959.77852000000007,411.31567999999999,1371.0942,342.75468000000001,342.75468000000001,685.50936000000002,411.31567999999999,274.21884,685.53452000000004,548.43768,137.09684000000001,685.53452000000004]
[null,null,null,"total :",{"$f":"SUM(E76:E86)","v":8.0469499999999989},11.93435,{"$f":"SUM(G76:G86)","v":19.981300000000001},{"$f":"SUM(H76:H86)","v":11.966800000000003},8.0089999999999986,19.9758,9.9997000000000007,9.9815999999999985,19.981300000000005,9.9510999999999985,10.024799999999997,19.975899999999999,null,{"$f":"H15+AH39+D16+D17+D21+D19*AG12","v":589},{"$f":"R87+Q10","v":630},{"$f":"R87+R10","v":658},{"$f":"R87+S10","v":589},{"$f":"R87+T10","v":662},{"$f":"R87+U10","v":589},{"$f":"R87+V10","v":659},{"$f":"R87+W10","v":650},{"$f":"R87+X10","v":589},{"$f":"R87+Y10","v":650},{"$f":"R87+Z10","v":645},{"$f":"R87+AA10","v":650},{"$f":"R87+AB10","v":589},{"$f":"R87+AC10","v":635},{"$f":"R87+AD10","v":640},null,null,null,"ghana 5 ",{"$f":"MIN((S87+AL35*D19)/AK44,(S88+AL35*D19)/AL44,(S89+AL35*D19)/AM44,(S90+AL35*D19)/AN44,(S91+AL35*D19)/AO44)*AP44","v":371.33333333333331},{"$f":"MIN((T87+AL35*D19)/AK44,(T88+AL35*D19)/AL44,(T89+AL35*D19)/AM44,(T90+AL35*D19)/AN44,(T91+AL35*D19)/AO44)*AP44","v":400.66666666666669},{"$f":"MIN((U87+AL35*D19)/AK44,(U88+AL35*D19)/AL44,(U89+AL35*D19)/AM44,(U90+AL35*D19)/AN44,(U91+AL35*D19)/AO44)*AP44","v":354.66666666666669},{"$f":"MIN((V87+AL35*D19)/AK44,(V88+AL35*D19)/AL44,(V89+AL35*D19)/AM44,(V90+AL35*D19)/AN44,(V91+AL35*D19)/AO44)*AP44","v":397.33333333333331},{"$f":"MIN((W87+AL35*D19)/AK44,(W88+AL35*D19)/AL44,(W89+AL35*D19)/AM44,(W90+AL35*D19)/AN44,(W91+AL35*D19)/AO44)*AP44","v":354.66666666666669},{"$f":"MIN((X87+AL35*D19)/AK44,(X88+AL35*D19)/AL44,(X89+AL35*D19)/AM44,(X90+AL35*D19)/AN44,(X91+AL35*D19)/AO44)*AP44","v":392},{"$f":"MIN((Y87+AL35*D19)/AK44,(Y88+AL35*D19)/AL44,(Y89+AL35*D19)/AM44,(Y90+AL35*D19)/AN44,(Y91+AL35*D19)/AO44)*AP44","v":395.33333333333331},{"$f":"MIN((Z87+AL35*D19)/AK44,(Z88+AL35*D19)/AL44,(Z89+AL35*D19)/AM44,(Z90+AL35*D19)/AN44,(Z91+AL35*D19)/AO44)*AP44","v":354.66666666666669},{"$f":"MIN((AA87+AL35*D19)/AK44,(AA88+AL35*D19)/AL44,(AA89+AL35*D19)/AM44,(AA90+AL35*D19)/AN44,(AA91+AL35*D19)/AO44)*AP44","v":395.33333333333331},{"$f":"MIN((AB87+AL35*D19)/AK44,(AB88+AL35*D19)/AL44,(AB89+AL35*D19)/AM44,(AB90+AL35*D19)/AN44,(AB91+AL35*D19)/AO44)*AP44","v":397.33333333333331},{"$f":"MIN((AC87+AL35*D19)/AK44,(AC88+AL35*D19)/AL44,(AC89+AL35*D19)/AM44,(AC90+AL35*D19)/AN44,(AC91+AL35*D19)/AO44)*AP44","v":392},{"$f":"MIN((AD87+AL35*D19)/AK44,(AD88+AL35*D19)/AL44,(AD89+AL35*D19)/AM44,(AD90+AL35*D19)/AN44,(AD91+AL35*D19)/AO44)*AP44","v":354.66666666666669},{"$f":"MIN((AE87+AL35*D19)/AK44,(AE88+AL35*D19)/AL44,(AE89+AL35*D19)/AM44,(AE90+AL35*D19)/AN44,(AE91+AL35*D19)/AO44)*AP44","v":394.66666666666669},{"$f":"MIN((AF87+AL35*D19)/AK44,(AF88+AL35*D19)/AL44,(AF89+AL35*D19)/AM44,(AF90+AL35*D19)/AN44,(AF91+AL35*D19)/AO44)*AP44","v":397.33333333333331},400.66666666666669,null,"ghana 5 ",{"$f":"MIN((S87+AM35*D19)/AK45,(S88+AM35*D19)/AL45,(S89+AM35*D19)/AM45,(S90+AM35*D19)/AN45,(S91+AM35*D19)/AO45)*AP45","v":420},{"$f":"MIN((T87+AM35*D19)/AK45,(T88+AM35*D19)/AL45,(T89+AM35*D19)/AM45,(T90+AM35*D19)/AN45,(T91+AM35*D19)/AO45)*AP45","v":438.66666666666669},{"$f":"MIN((U87+AM35*D19)/AK45,(U88+AM35*D19)/AL45,(U89+AM35*D19)/AM45,(U90+AM35*D19)/AN45,(U91+AM35*D19)/AO45)*AP45","v":392.66666666666669},{"$f":"MIN((V87+AM35*D19)/AK45,(V88+AM35*D19)/AL45,(V89+AM35*D19)/AM45,(V90+AM35*D19)/AN45,(V91+AM35*D19)/AO45)*AP45","v":441.33333333333331},{"$f":"MIN((W87+AM35*D19)/AK45,(W88+AM35*D19)/AL45,(W89+AM35*D19)/AM45,(W90+AM35*D19)/AN45,(W91+AM35*D19)/AO45)*AP45","v":392.66666666666669},{"$f":"MIN((X87+AM35*D19)/AK45,(X88+AM35*D19)/AL45,(X89+AM35*D19)/AM45,(X90+AM35*D19)/AN45,(X91+AM35*D19)/AO45)*AP45","v":439.33333333333337},{"$f":"MIN((Y87+AM35*D19)/AK45,(Y88+AM35*D19)/AL45,(Y89+AM35*D19)/AM45,(Y90+AM35*D19)/AN45,(Y91+AM35*D19)/AO45)*AP45","v":433.33333333333331},{"$f":"MIN((Z87+AM35*D19)/AK45,(Z88+AM35*D19)/AL45,(Z89+AM35*D19)/AM45,(Z90+AM35*D19)/AN45,(Z91+AM35*D19)/AO45)*AP45","v":392.66666666666669},{"$f":"MIN((AA87+AM35*D19)/AK45,(AA88+AM35*D19)/AL45,(AA89+AM35*D19)/AM45,(AA90+AM35*D19)/AN45,(AA91+AM35*D19)/AO45)*AP45","v":433.33333333333331},{"$f":"MIN((AB87+AM35*D19)/AK45,(AB88+AM35*D19)/AL45,(AB89+AM35*D19)/AM45,(AB90+AM35*D19)/AN45,(AB91+AM35*D19)/AO45)*AP45","v":430},{"$f":"MIN((AC87+AM35*D19)/AK45,(AC88+AM35*D19)/AL45,(AC89+AM35*D19)/AM45,(AC90+AM35*D19)/AN45,(AC91+AM35*D19)/AO45)*AP45","v":433.33333333333331},{"$f":"MIN((AD87+AM35*D19)/AK45,(AD88+AM35*D19)/AL45,(AD89+AM35*D19)/AM45,(AD90+AM35*D19)/AN45,(AD91+AM35*D19)/AO45)*AP45","v":392.66666666666669},{"$f":"MIN((AE87+AM35*D19)/AK45,(AE88+AM35*D19)/AL45,(AE89+AM35*D19)/AM45,(AE90+AM35*D19)/AN45,(AE91+AM35*D19)/AO45)*AP45","v":423.33333333333331},{"$f":"MIN((AF87+AM35*D19)/AK45,(AF88+AM35*D19)/AL45,(AF89+AM35*D19)/AM45,(AF90+AM35*D19)/AN45,(AF91+AM35*D19)/AO45)*AP45","v":426.66666666666669},441.33333333333331,null,{"$f":"BB109","v":"kit 1"},"kit 2/3",0,"kit 4",0,"kit 5","kit 6/7",0,0,"kit 8","kit 9",0,"kit 10","kit 11","australie 11 ",null,292.89449999999999,292.89449999999999,585.78899999999999,351.48200000000003,234.32850000000002,585.81050000000005,410.06950000000001,175.74100000000001,585.81049999999993,702.9855,468.65700000000004,1171.6425000000002,820.16050000000007,351.48200000000003,1171.6425000000002,1054.489,117.15350000000001,1171.6425000000002,292.89449999999999,292.89449999999999,585.78899999999999,351.48200000000003,234.32850000000002,585.81050000000005,468.65700000000004,117.15350000000001,585.81050000000005,292.89449999999999,292.89449999999999,585.78899999999999,350.08449999999999,233.38249999999999,583.46699999999998,468.65700000000004,117.15350000000001,585.81050000000005]
[null,null,null,null,"541 offensif",null,null,"433 offensif",null,null,"352 offensif",null,null,"442 offensif",null,null,null,{"$f":"I15+AH40+D15+D17+D21+D19*AG12","v":572},{"$f":"R88+Q11","v":652},{"$f":"R88+R11","v":624},{"$f":"R88+S11","v":572},{"$f":"R88+T11","v":617},{"$f":"R88+U11","v":572},{"$f":"R88+V11","v":628},{"$f":"R88+W11","v":633},{"$f":"R88+X11","v":572},{"$f":"R88+Y11","v":633},{"$f":"R88+Z11","v":636},{"$f":"R88+AA11","v":640},{"$f":"R88+AB11","v":572},{"$f":"R88+AC11","v":640},{"$f":"R88+AD11","v":636},null,null,null,"slovenie 6 ",{"$f":"MIN((S94+AL35*D19)/AK44,(S95+AL35*D19)/AL44,(S96+AL35*D19)/AM44,(S97+AL35*D19)/AN44,(S98+AL35*D19)/AO44)*AP44","v":386.66666666666669},{"$f":"MIN((T94+AL35*D19)/AK44,(T95+AL35*D19)/AL44,(T96+AL35*D19)/AM44,(T97+AL35*D19)/AN44,(T98+AL35*D19)/AO44)*AP44","v":416},{"$f":"MIN((U94+AL35*D19)/AK44,(U95+AL35*D19)/AL44,(U96+AL35*D19)/AM44,(U97+AL35*D19)/AN44,(U98+AL35*D19)/AO44)*AP44","v":370},{"$f":"MIN((V94+AL35*D19)/AK44,(V95+AL35*D19)/AL44,(V96+AL35*D19)/AM44,(V97+AL35*D19)/AN44,(V98+AL35*D19)/AO44)*AP44","v":412.66666666666669},{"$f":"MIN((W94+AL35*D19)/AK44,(W95+AL35*D19)/AL44,(W96+AL35*D19)/AM44,(W97+AL35*D19)/AN44,(W98+AL35*D19)/AO44)*AP44","v":370},{"$f":"MIN((X94+AL35*D19)/AK44,(X95+AL35*D19)/AL44,(X96+AL35*D19)/AM44,(X97+AL35*D19)/AN44,(X98+AL35*D19)/AO44)*AP44","v":407.33333333333331},{"$f":"MIN((Y94+AL35*D19)/AK44,(Y95+AL35*D19)/AL44,(Y96+AL35*D19)/AM44,(Y97+AL35*D19)/AN44,(Y98+AL35*D19)/AO44)*AP44","v":410.66666666666663},{"$f":"MIN((Z94+AL35*D19)/AK44,(Z95+AL35*D19)/AL44,(Z96+AL35*D19)/AM44,(Z97+AL35*D19)/AN44,(Z98+AL35*D19)/AO44)*AP44","v":370},{"$f":"MIN((AA94+AL35*D19)/AK44,(AA95+AL35*D19)/AL44,(AA96+AL35*D19)/AM44,(AA97+AL35*D19)/AN44,(AA98+AL35*D19)/AO44)*AP44","v":410.66666666666663},{"$f":"MIN((AB94+AL35*D19)/AK44,(AB95+AL35*D19)/AL44,(AB96+AL35*D19)/AM44,(AB97+AL35*D19)/AN44,(AB98+AL35*D19)/AO44)*AP44","v":412.66666666666669},{"$f":"MIN((AC94+AL35*D19)/AK44,(AC95+AL35*D19)/AL44,(AC96+AL35*D19)/AM44,(AC97+AL35*D19)/AN44,(AC98+AL35*D19)/AO44)*AP44","v":407.33333333333331},{"$f":"MIN((AD94+AL35*D19)/AK44,(AD95+AL35*D19)/AL44,(AD96+AL35*D19)/AM44,(AD97+AL35*D19)/AN44,(AD98+AL35*D19)/AO44)*AP44","v":370},{"$f":"MIN((AE94+AL35*D19)/AK44,(AE95+AL35*D19)/AL44,(AE96+AL35*D19)/AM44,(AE97+AL35*D19)/AN44,(AE98+AL35*D19)/AO44)*AP44","v":409.99999999999994},{"$f":"MIN((AF94+AL35*D19)/AK44,(AF95+AL35*D19)/AL44,(AF96+AL35*D19)/AM44,(AF97+AL35*D19)/AN44,(AF98+AL35*D19)/AO44)*AP44","v":412.66666666666669},416,null,"slovenie 6 ",{"$f":"MIN((S94+AM35*D19)/AK45,(S95+AM35*D19)/AL45,(S96+AM35*D19)/AM45,(S97+AM35*D19)/AN45,(S98+AM35*D19)/AO45)*AP45","v":409.99999999999994},{"$f":"MIN((T94+AM35*D19)/AK45,(T95+AM35*D19)/AL45,(T96+AM35*D19)/AM45,(T97+AM35*D19)/AN45,(T98+AM35*D19)/AO45)*AP45","v":428.66666666666669},{"$f":"MIN((U94+AM35*D19)/AK45,(U95+AM35*D19)/AL45,(U96+AM35*D19)/AM45,(U97+AM35*D19)/AN45,(U98+AM35*D19)/AO45)*AP45","v":382.66666666666669},{"$f":"MIN((V94+AM35*D19)/AK45,(V95+AM35*D19)/AL45,(V96+AM35*D19)/AM45,(V97+AM35*D19)/AN45,(V98+AM35*D19)/AO45)*AP45","v":431.33333333333337},{"$f":"MIN((W94+AM35*D19)/AK45,(W95+AM35*D19)/AL45,(W96+AM35*D19)/AM45,(W97+AM35*D19)/AN45,(W98+AM35*D19)/AO45)*AP45","v":382.66666666666669},{"$f":"MIN((X94+AM35*D19)/AK45,(X95+AM35*D19)/AL45,(X96+AM35*D19)/AM45,(X97+AM35*D19)/AN45,(X98+AM35*D19)/AO45)*AP45","v":429.33333333333331},{"$f":"MIN((Y94+AM35*D19)/AK45,(Y95+AM35*D19)/AL45,(Y96+AM35*D19)/AM45,(Y97+AM35*D19)/AN45,(Y98+AM35*D19)/AO45)*AP45","v":423.33333333333331},{"$f":"MIN((Z94+AM35*D19)/AK45,(Z95+AM35*D19)/AL45,(Z96+AM35*D19)/AM45,(Z97+AM35*D19)/AN45,(Z98+AM35*D19)/AO45)*AP45","v":382.66666666666669},{"$f":"MIN((AA94+AM35*D19)/AK45,(AA95+AM35*D19)/AL45,(AA96+AM35*D19)/AM45,(AA97+AM35*D19)/AN45,(AA98+AM35*D19)/AO45)*AP45","v":423.33333333333331},{"$f":"MIN((AB94+AM35*D19)/AK45,(AB95+AM35*D19)/AL45,(AB96+AM35*D19)/AM45,(AB97+AM35*D19)/AN45,(AB98+AM35*D19)/AO45)*AP45","v":420},{"$f":"MIN((AC94+AM35*D19)/AK45,(AC95+AM35*D19)/AL45,(AC96+AM35*D19)/AM45,(AC97+AM35*D19)/AN45,(AC98+AM35*D19)/AO45)*AP45","v":423.33333333333331},{"$f":"MIN((AD94+AM35*D19)/AK45,(AD95+AM35*D19)/AL45,(AD96+AM35*D19)/AM45,(AD97+AM35*D19)/AN45,(AD98+AM35*D19)/AO45)*AP45","v":382.66666666666669},{"$f":"MIN((AE94+AM35*D19)/AK45,(AE95+AM35*D19)/AL45,(AE96+AM35*D19)/AM45,(AE97+AM35*D19)/AN45,(AE98+AM35*D19)/AO45)*AP45","v":413.33333333333337},{"$f":"MIN((AF94+AM35*D19)/AK45,(AF95+AM35*D19)/AL45,(AF96+AM35*D19)/AM45,(AF97+AM35*D19)/AN45,(AF98+AM35*D19)/AO45)*AP45","v":416.66666666666669},431.33333333333337,null,{"$f":"BB109","v":"kit 1"},"kit 2/3",0,"kit 4",0,"kit 5","kit 6/7",0,0,"kit 8","kit 9",0,"kit 10","kit 11","grece 9 ",null,531.33042857142857,227.69871428571429,759.0291428571428,607.23,151.79914285714287,759.0291428571428,751.45757142857133,7.588285714285715,759.04585714285702,683.12957142857147,75.899571428571434,759.02914285714292,683.12957142857147,75.899571428571434,759.02914285714292,683.12957142857147,75.899571428571434,759.02914285714292,425.06099999999998,182.16900000000001,607.23,485.78399999999999,121.446,607.23,546.50699999999995,60.722999999999999,607.23,425.06099999999998,182.16900000000001,607.23,546.50699999999995,60.722999999999999,607.23,546.50699999999995,60.722999999999999,607.23]
[null,null,null,null,"1% attaque","1% defense","1% cumulé","1% attaque","1% defense","1% cumulé","1% attaque","1% defense","1% cumulé","1% attaque","1% defense","1% cumulé",null,{"$f":"J15+AH41+D15+D17+D21+D19*AG12","v":564},{"$f":"R89+Q12","v":605},{"$f":"R89+R12","v":624},{"$f":"R89+S12","v":564},{"$f":"R89+T12","v":637},{"$f":"R89+U12","v":564},{"$f":"R89+V12","v":620},{"$f":"R89+W12","v":625},{"$f":"R89+X12","v":564},{"$f":"R89+Y12","v":625},{"$f":"R89+Z12","v":628},{"$f":"R89+AA12","v":632},{"$f":"R89+AB12","v":564},{"$f":"R89+AC12","v":617},{"$f":"R89+AD12","v":635},null,null,null,"grece 7 ",{"$f":"MIN((S101+AL35*D19)/AK44,(S102+AL35*D19)/AL44,(S103+AL35*D19)/AM44,(S104+AL35*D19)/AN44,(S105+AL35*D19)/AO44)*AP44","v":392.66666666666669},{"$f":"MIN((T101+AL35*D19)/AK44,(T102+AL35*D19)/AL44,(T103+AL35*D19)/AM44,(T104+AL35*D19)/AN44,(T105+AL35*D19)/AO44)*AP44","v":422},{"$f":"MIN((U101+AL35*D19)/AK44,(U102+AL35*D19)/AL44,(U103+AL35*D19)/AM44,(U104+AL35*D19)/AN44,(U105+AL35*D19)/AO44)*AP44","v":376},{"$f":"MIN((V101+AL35*D19)/AK44,(V102+AL35*D19)/AL44,(V103+AL35*D19)/AM44,(V104+AL35*D19)/AN44,(V105+AL35*D19)/AO44)*AP44","v":418.66666666666663},{"$f":"MIN((W101+AL35*D19)/AK44,(W102+AL35*D19)/AL44,(W103+AL35*D19)/AM44,(W104+AL35*D19)/AN44,(W105+AL35*D19)/AO44)*AP44","v":376},{"$f":"MIN((X101+AL35*D19)/AK44,(X102+AL35*D19)/AL44,(X103+AL35*D19)/AM44,(X104+AL35*D19)/AN44,(X105+AL35*D19)/AO44)*AP44","v":413.33333333333337},{"$f":"MIN((Y101+AL35*D19)/AK44,(Y102+AL35*D19)/AL44,(Y103+AL35*D19)/AM44,(Y104+AL35*D19)/AN44,(Y105+AL35*D19)/AO44)*AP44","v":416.66666666666669},{"$f":"MIN((Z101+AL35*D19)/AK44,(Z102+AL35*D19)/AL44,(Z103+AL35*D19)/AM44,(Z104+AL35*D19)/AN44,(Z105+AL35*D19)/AO44)*AP44","v":376},{"$f":"MIN((AA101+AL35*D19)/AK44,(AA102+AL35*D19)/AL44,(AA103+AL35*D19)/AM44,(AA104+AL35*D19)/AN44,(AA105+AL35*D19)/AO44)*AP44","v":416.66666666666669},{"$f":"MIN((AB101+AL35*D19)/AK44,(AB102+AL35*D19)/AL44,(AB103+AL35*D19)/AM44,(AB104+AL35*D19)/AN44,(AB105+AL35*D19)/AO44)*AP44","v":418.66666666666663},{"$f":"MIN((AC101+AL35*D19)/AK44,(AC102+AL35*D19)/AL44,(AC103+AL35*D19)/AM44,(AC104+AL35*D19)/AN44,(AC105+AL35*D19)/AO44)*AP44","v":413.33333333333337},{"$f":"MIN((AD101+AL35*D19)/AK44,(AD102+AL35*D19)/AL44,(AD103+AL35*D19)/AM44,(AD104+AL35*D19)/AN44,(AD105+AL35*D19)/AO44)*AP44","v":376},{"$f":"MIN((AE101+AL35*D19)/AK44,(AE102+AL35*D19)/AL44,(AE103+AL35*D19)/AM44,(AE104+AL35*D19)/AN44,(AE105+AL35*D19)/AO44)*AP44","v":416},{"$f":"MIN((AF101+AL35*D19)/AK44,(AF102+AL35*D19)/AL44,(AF103+AL35*D19)/AM44,(AF104+AL35*D19)/AN44,(AF105+AL35*D19)/AO44)*AP44","v":418.66666666666663},422,null,"grece 7 ",{"$f":"MIN((S101+AM35*D19)/AK45,(S102+AM35*D19)/AL45,(S103+AM35*D19)/AM45,(S104+AM35*D19)/AN45,(S105+AM35*D19)/AO45)*AP45","v":415.33333333333331},{"$f":"MIN((T101+AM35*D19)/AK45,(T102+AM35*D19)/AL45,(T103+AM35*D19)/AM45,(T104+AM35*D19)/AN45,(T105+AM35*D19)/AO45)*AP45","v":434},{"$f":"MIN((U101+AM35*D19)/AK45,(U102+AM35*D19)/AL45,(U103+AM35*D19)/AM45,(U104+AM35*D19)/AN45,(U105+AM35*D19)/AO45)*AP45","v":388},{"$f":"MIN((V101+AM35*D19)/AK45,(V102+AM35*D19)/AL45,(V103+AM35*D19)/AM45,(V104+AM35*D19)/AN45,(V105+AM35*D19)/AO45)*AP45","v":436.66666666666663},{"$f":"MIN((W101+AM35*D19)/AK45,(W102+AM35*D19)/AL45,(W103+AM35*D19)/AM45,(W104+AM35*D19)/AN45,(W105+AM35*D19)/AO45)*AP45","v":388},{"$f":"MIN((X101+AM35*D19)/AK45,(X102+AM35*D19)/AL45,(X103+AM35*D19)/AM45,(X104+AM35*D19)/AN45,(X105+AM35*D19)/AO45)*AP45","v":434.66666666666669},{"$f":"MIN((Y101+AM35*D19)/AK45,(Y102+AM35*D19)/AL45,(Y103+AM35*D19)/AM45,(Y104+AM35*D19)/AN45,(Y105+AM35*D19)/AO45)*AP45","v":428.66666666666669},{"$f":"MIN((Z101+AM35*D19)/AK45,(Z102+AM35*D19)/AL45,(Z103+AM35*D19)/AM45,(Z104+AM35*D19)/AN45,(Z105+AM35*D19)/AO45)*AP45","v":388},{"$f":"MIN((AA101+AM35*D19)/AK45,(AA102+AM35*D19)/AL45,(AA103+AM35*D19)/AM45,(AA104+AM35*D19)/AN45,(AA105+AM35*D19)/AO45)*AP45","v":428.66666666666669},{"$f":"MIN((AB101+AM35*D19)/AK45,(AB102+AM35*D19)/AL45,(AB103+AM35*D19)/AM45,(AB104+AM35*D19)/AN45,(AB105+AM35*D19)/AO45)*AP45","v":425.33333333333331},{"$f":"MIN((AC101+AM35*D19)/AK45,(AC102+AM35*D19)/AL45,(AC103+AM35*D19)/AM45,(AC104+AM35*D19)/AN45,(AC105+AM35*D19)/AO45)*AP45","v":428.66666666666669},{"$f":"MIN((AD101+AM35*D19)/AK45,(AD102+AM35*D19)/AL45,(AD103+AM35*D19)/AM45,(AD104+AM35*D19)/AN45,(AD105+AM35*D19)/AO45)*AP45","v":388},{"$f":"MIN((AE101+AM35*D19)/AK45,(AE102+AM35*D19)/AL45,(AE103+AM35*D19)/AM45,(AE104+AM35*D19)/AN45,(AE105+AM35*D19)/AO45)*AP45","v":418.66666666666663},{"$f":"MIN((AF101+AM35*D19)/AK45,(AF102+AM35*D19)/AL45,(AF103+AM35*D19)/AM45,(AF104+AM35*D19)/AN45,(AF105+AM35*D19)/AO45)*AP45","v":422},436.66666666666663,null,{"$f":"BB109","v":"kit 1"},"kit 2/3",0,"kit 4",0,"kit 5","kit 6/7",0,0,"kit 8","kit 9",0,"kit 10","kit 11","nigeria 8 ",null,261.09159999999997,391.63740000000001,652.72899999999993,456.91029999999995,195.81870000000001,652.72899999999993,522.18319999999994,130.54579999999999,652.72899999999993,391.63740000000001,261.09159999999997,652.72899999999993,522.18319999999994,130.54579999999999,652.72899999999993,587.45609999999999,65.272899999999993,652.72899999999993,342.67823333333331,146.85953333333333,489.53776666666664,342.67823333333331,146.85953333333333,489.53776666666664,391.63740000000001,97.90036666666667,489.5377666666667,489.53776666666664,489.53776666666664,979.07553333333328,685.37443333333329,293.71906666666666,979.09350000000006,685.37443333333329,293.71906666666666,979.09350000000006]
[null,null,null,null,5.4449999999999998E-2,2.6702499999999998,{"$f":"E90+F90","v":2.7246999999999999},0.27245000000000003,2.4523000000000001,{"$f":"H90+I90","v":2.7247500000000002},5.4449999999999998E-2,2.6702499999999998,{"$f":"K90+L90","v":2.7246999999999999},5.4449999999999998E-2,2.6702499999999998,{"$f":"N90+O90","v":2.7246999999999999},null,{"$f":"K15+AH42+D16+D17+D21+D19*AG12","v":532},{"$f":"R90+Q13","v":557},{"$f":"R90+R13","v":601},{"$f":"R90+S13","v":532},{"$f":"R90+T13","v":596},{"$f":"R90+U13","v":532},{"$f":"R90+V13","v":588},{"$f":"R90+W13","v":593},{"$f":"R90+X13","v":532},{"$f":"R90+Y13","v":593},{"$f":"R90+Z13","v":596},{"$f":"R90+AA13","v":588},{"$f":"R90+AB13","v":532},{"$f":"R90+AC13","v":592},{"$f":"R90+AD13","v":596},null,null,null,"australie 11 ",{"$f":"MIN((S108+AL35*D19)/AK44,(S109+AL35*D19)/AL44,(S110+AL35*D19)/AM44,(S111+AL35*D19)/AN44,(S112+AL35*D19)/AO44)*AP44","v":404},{"$f":"MIN((T108+AL35*D19)/AK44,(T109+AL35*D19)/AL44,(T110+AL35*D19)/AM44,(T111+AL35*D19)/AN44,(T112+AL35*D19)/AO44)*AP44","v":433.33333333333331},{"$f":"MIN((U108+AL35*D19)/AK44,(U109+AL35*D19)/AL44,(U110+AL35*D19)/AM44,(U111+AL35*D19)/AN44,(U112+AL35*D19)/AO44)*AP44","v":387.33333333333337},{"$f":"MIN((V108+AL35*D19)/AK44,(V109+AL35*D19)/AL44,(V110+AL35*D19)/AM44,(V111+AL35*D19)/AN44,(V112+AL35*D19)/AO44)*AP44","v":430},{"$f":"MIN((W108+AL35*D19)/AK44,(W109+AL35*D19)/AL44,(W110+AL35*D19)/AM44,(W111+AL35*D19)/AN44,(W112+AL35*D19)/AO44)*AP44","v":387.33333333333337},{"$f":"MIN((X108+AL35*D19)/AK44,(X109+AL35*D19)/AL44,(X110+AL35*D19)/AM44,(X111+AL35*D19)/AN44,(X112+AL35*D19)/AO44)*AP44","v":424.66666666666669},{"$f":"MIN((Y108+AL35*D19)/AK44,(Y109+AL35*D19)/AL44,(Y110+AL35*D19)/AM44,(Y111+AL35*D19)/AN44,(Y112+AL35*D19)/AO44)*AP44","v":428},{"$f":"MIN((Z108+AL35*D19)/AK44,(Z109+AL35*D19)/AL44,(Z110+AL35*D19)/AM44,(Z111+AL35*D19)/AN44,(Z112+AL35*D19)/AO44)*AP44","v":387.33333333333337},{"$f":"MIN((AA108+AL35*D19)/AK44,(AA109+AL35*D19)/AL44,(AA110+AL35*D19)/AM44,(AA111+AL35*D19)/AN44,(AA112+AL35*D19)/AO44)*AP44","v":428},{"$f":"MIN((AB108+AL35*D19)/AK44,(AB109+AL35*D19)/AL44,(AB110+AL35*D19)/AM44,(AB111+AL35*D19)/AN44,(AB112+AL35*D19)/AO44)*AP44","v":430},{"$f":"MIN((AC108+AL35*D19)/AK44,(AC109+AL35*D19)/AL44,(AC110+AL35*D19)/AM44,(AC111+AL35*D19)/AN44,(AC112+AL35*D19)/AO44)*AP44","v":424.66666666666669},{"$f":"MIN((AD108+AL35*D19)/AK44,(AD109+AL35*D19)/AL44,(AD110+AL35*D19)/AM44,(AD111+AL35*D19)/AN44,(AD112+AL35*D19)/AO44)*AP44","v":387.33333333333337},{"$f":"MIN((AE108+AL35*D19)/AK44,(AE109+AL35*D19)/AL44,(AE110+AL35*D19)/AM44,(AE111+AL35*D19)/AN44,(AE112+AL35*D19)/AO44)*AP44","v":427.33333333333337},{"$f":"MIN((AF108+AL35*D19)/AK44,(AF109+AL35*D19)/AL44,(AF110+AL35*D19)/AM44,(AF111+AL35*D19)/AN44,(AF112+AL35*D19)/AO44)*AP44","v":430},433.33333333333331,null,"australie 11 ",{"$f":"MIN((S108+AM35*D19)/AK45,(S109+AM35*D19)/AL45,(S110+AM35*D19)/AM45,(S111+AM35*D19)/AN45,(S112+AM35*D19)/AO45)*AP45","v":380.66666666666669},{"$f":"MIN((T108+AM35*D19)/AK45,(T109+AM35*D19)/AL45,(T110+AM35*D19)/AM45,(T111+AM35*D19)/AN45,(T112+AM35*D19)/AO45)*AP45","v":399.33333333333331},{"$f":"MIN((U108+AM35*D19)/AK45,(U109+AM35*D19)/AL45,(U110+AM35*D19)/AM45,(U111+AM35*D19)/AN45,(U112+AM35*D19)/AO45)*AP45","v":353.33333333333331},{"$f":"MIN((V108+AM35*D19)/AK45,(V109+AM35*D19)/AL45,(V110+AM35*D19)/AM45,(V111+AM35*D19)/AN45,(V112+AM35*D19)/AO45)*AP45","v":401.99999999999994},{"$f":"MIN((W108+AM35*D19)/AK45,(W109+AM35*D19)/AL45,(W110+AM35*D19)/AM45,(W111+AM35*D19)/AN45,(W112+AM35*D19)/AO45)*AP45","v":353.33333333333331},{"$f":"MIN((X108+AM35*D19)/AK45,(X109+AM35*D19)/AL45,(X110+AM35*D19)/AM45,(X111+AM35*D19)/AN45,(X112+AM35*D19)/AO45)*AP45","v":400},{"$f":"MIN((Y108+AM35*D19)/AK45,(Y109+AM35*D19)/AL45,(Y110+AM35*D19)/AM45,(Y111+AM35*D19)/AN45,(Y112+AM35*D19)/AO45)*AP45","v":394},{"$f":"MIN((Z108+AM35*D19)/AK45,(Z109+AM35*D19)/AL45,(Z110+AM35*D19)/AM45,(Z111+AM35*D19)/AN45,(Z112+AM35*D19)/AO45)*AP45","v":353.33333333333331},{"$f":"MIN((AA108+AM35*D19)/AK45,(AA109+AM35*D19)/AL45,(AA110+AM35*D19)/AM45,(AA111+AM35*D19)/AN45,(AA112+AM35*D19)/AO45)*AP45","v":394},{"$f":"MIN((AB108+AM35*D19)/AK45,(AB109+AM35*D19)/AL45,(AB110+AM35*D19)/AM45,(AB111+AM35*D19)/AN45,(AB112+AM35*D19)/AO45)*AP45","v":390.66666666666669},{"$f":"MIN((AC108+AM35*D19)/AK45,(AC109+AM35*D19)/AL45,(AC110+AM35*D19)/AM45,(AC111+AM35*D19)/AN45,(AC112+AM35*D19)/AO45)*AP45","v":394},{"$f":"MIN((AD108+AM35*D19)/AK45,(AD109+AM35*D19)/AL45,(AD110+AM35*D19)/AM45,(AD111+AM35*D19)/AN45,(AD112+AM35*D19)/AO45)*AP45","v":353.33333333333331},{"$f":"MIN((AE108+AM35*D19)/AK45,(AE109+AM35*D19)/AL45,(AE110+AM35*D19)/AM45,(AE111+AM35*D19)/AN45,(AE112+AM35*D19)/AO45)*AP45","v":384},{"$f":"MIN((AF108+AM35*D19)/AK45,(AF109+AM35*D19)/AL45,(AF110+AM35*D19)/AM45,(AF111+AM35*D19)/AN45,(AF112+AM35*D19)/AO45)*AP45","v":387.33333333333337},401.99999999999994,null,{"$f":"BB109","v":"kit 1"},"kit 2/3",0,"kit 4",0,"kit 5","kit 6/7",0,0,"kit 8","kit 9",0,"kit 10","kit 11","slovaquie 8 ",null,345.48773333333332,230.3322,575.81993333333332,403.07606666666663,172.74386666666666,575.81993333333321,403.07606666666663,172.74386666666666,575.81993333333321,690.99659999999994,460.6644,1151.6610000000001,806.17326666666668,345.48773333333332,1151.6610000000001,1036.5054666666667,115.15553333333334,1151.6610000000001,460.6644,307.1096,767.77399999999989,537.44179999999994,230.3322,767.77399999999989,614.2192,153.5548,767.77399999999989,537.44179999999994,230.3322,767.77399999999989,537.44179999999994,230.3322,767.77399999999989,614.2192,153.5548,767.77399999999989]
[null,null,null,null,0.40870000000000001,0.95365,{"$f":"E91+F91","v":1.3623499999999999},0.95365,0.40870000000000001,1.3623499999999999,1.3623499999999999,0.90825,{"$f":"K91+L91","v":2.2706},0.81740000000000002,0.54495000000000005,{"$f":"N91+O91","v":1.3623500000000002},null,{"$f":"L15+AH43+D15+D17+D21+D19*AG12","v":470},{"$f":"R91+Q14","v":526},{"$f":"R91+R14","v":522},{"$f":"R91+S14","v":470},{"$f":"R91+T14","v":515},{"$f":"R91+U14","v":470},{"$f":"R91+V14","v":526},{"$f":"R91+W14","v":523},{"$f":"R91+X14","v":470},{"$f":"R91+Y14","v":523},{"$f":"R91+Z14","v":518},{"$f":"R91+AA14","v":519},{"$f":"R91+AB14","v":470},{"$f":"R91+AC14","v":530},{"$f":"R91+AD14","v":514},null,null,null,"grece 9 ",{"$f":"MIN((S115+AL35*D19)/AK44,(S116+AL35*D19)/AL44,(S117+AL35*D19)/AM44,(S118+AL35*D19)/AN44,(S119+AL35*D19)/AO44)*AP44","v":314},{"$f":"MIN((T115+AL35*D19)/AK44,(T116+AL35*D19)/AL44,(T117+AL35*D19)/AM44,(T118+AL35*D19)/AN44,(T119+AL35*D19)/AO44)*AP44","v":343.33333333333331},{"$f":"MIN((U115+AL35*D19)/AK44,(U116+AL35*D19)/AL44,(U117+AL35*D19)/AM44,(U118+AL35*D19)/AN44,(U119+AL35*D19)/AO44)*AP44","v":297.33333333333331},{"$f":"MIN((V115+AL35*D19)/AK44,(V116+AL35*D19)/AL44,(V117+AL35*D19)/AM44,(V118+AL35*D19)/AN44,(V119+AL35*D19)/AO44)*AP44","v":340},{"$f":"MIN((W115+AL35*D19)/AK44,(W116+AL35*D19)/AL44,(W117+AL35*D19)/AM44,(W118+AL35*D19)/AN44,(W119+AL35*D19)/AO44)*AP44","v":297.33333333333331},{"$f":"MIN((X115+AL35*D19)/AK44,(X116+AL35*D19)/AL44,(X117+AL35*D19)/AM44,(X118+AL35*D19)/AN44,(X119+AL35*D19)/AO44)*AP44","v":334.66666666666669},{"$f":"MIN((Y115+AL35*D19)/AK44,(Y116+AL35*D19)/AL44,(Y117+AL35*D19)/AM44,(Y118+AL35*D19)/AN44,(Y119+AL35*D19)/AO44)*AP44","v":338},{"$f":"MIN((Z115+AL35*D19)/AK44,(Z116+AL35*D19)/AL44,(Z117+AL35*D19)/AM44,(Z118+AL35*D19)/AN44,(Z119+AL35*D19)/AO44)*AP44","v":297.33333333333331},{"$f":"MIN((AA115+AL35*D19)/AK44,(AA116+AL35*D19)/AL44,(AA117+AL35*D19)/AM44,(AA118+AL35*D19)/AN44,(AA119+AL35*D19)/AO44)*AP44","v":338},{"$f":"MIN((AB115+AL35*D19)/AK44,(AB116+AL35*D19)/AL44,(AB117+AL35*D19)/AM44,(AB118+AL35*D19)/AN44,(AB119+AL35*D19)/AO44)*AP44","v":340},{"$f":"MIN((AC115+AL35*D19)/AK44,(AC116+AL35*D19)/AL44,(AC117+AL35*D19)/AM44,(AC118+AL35*D19)/AN44,(AC119+AL35*D19)/AO44)*AP44","v":334.66666666666669},{"$f":"MIN((AD115+AL35*D19)/AK44,(AD116+AL35*D19)/AL44,(AD117+AL35*D19)/AM44,(AD118+AL35*D19)/AN44,(AD119+AL35*D19)/AO44)*AP44","v":297.33333333333331},{"$f":"MIN((AE115+AL35*D19)/AK44,(AE116+AL35*D19)/AL44,(AE117+AL35*D19)/AM44,(AE118+AL35*D19)/AN44,(AE119+AL35*D19)/AO44)*AP44","v":337.33333333333337},{"$f":"MIN((AF115+AL35*D19)/AK44,(AF116+AL35*D19)/AL44,(AF117+AL35*D19)/AM44,(AF118+AL35*D19)/AN44,(AF119+AL35*D19)/AO44)*AP44","v":340},343.33333333333331,null,"grece 9 ",{"$f":"MIN((S115+AM35*D19)/AK45,(S116+AM35*D19)/AL45,(S117+AM35*D19)/AM45,(S118+AM35*D19)/AN45,(S119+AM35*D19)/AO45)*AP45","v":376.66666666666669},{"$f":"MIN((T115+AM35*D19)/AK45,(T116+AM35*D19)/AL45,(T117+AM35*D19)/AM45,(T118+AM35*D19)/AN45,(T119+AM35*D19)/AO45)*AP45","v":395.33333333333331},{"$f":"MIN((U115+AM35*D19)/AK45,(U116+AM35*D19)/AL45,(U117+AM35*D19)/AM45,(U118+AM35*D19)/AN45,(U119+AM35*D19)/AO45)*AP45","v":349.33333333333331},{"$f":"MIN((V115+AM35*D19)/AK45,(V116+AM35*D19)/AL45,(V117+AM35*D19)/AM45,(V118+AM35*D19)/AN45,(V119+AM35*D19)/AO45)*AP45","v":398},{"$f":"MIN((W115+AM35*D19)/AK45,(W116+AM35*D19)/AL45,(W117+AM35*D19)/AM45,(W118+AM35*D19)/AN45,(W119+AM35*D19)/AO45)*AP45","v":349.33333333333331},{"$f":"MIN((X115+AM35*D19)/AK45,(X116+AM35*D19)/AL45,(X117+AM35*D19)/AM45,(X118+AM35*D19)/AN45,(X119+AM35*D19)/AO45)*AP45","v":396},{"$f":"MIN((Y115+AM35*D19)/AK45,(Y116+AM35*D19)/AL45,(Y117+AM35*D19)/AM45,(Y118+AM35*D19)/AN45,(Y119+AM35*D19)/AO45)*AP45","v":390},{"$f":"MIN((Z115+AM35*D19)/AK45,(Z116+AM35*D19)/AL45,(Z117+AM35*D19)/AM45,(Z118+AM35*D19)/AN45,(Z119+AM35*D19)/AO45)*AP45","v":349.33333333333331},{"$f":"MIN((AA115+AM35*D19)/AK45,(AA116+AM35*D19)/AL45,(AA117+AM35*D19)/AM45,(AA118+AM35*D19)/AN45,(AA119+AM35*D19)/AO45)*AP45","v":390},{"$f":"MIN((AB115+AM35*D19)/AK45,(AB116+AM35*D19)/AL45,(AB117+AM35*D19)/AM45,(AB118+AM35*D19)/AN45,(AB119+AM35*D19)/AO45)*AP45","v":386.66666666666669},{"$f":"MIN((AC115+AM35*D19)/AK45,(AC116+AM35*D19)/AL45,(AC117+AM35*D19)/AM45,(AC118+AM35*D19)/AN45,(AC119+AM35*D19)/AO45)*AP45","v":390},{"$f":"MIN((AD115+AM35*D19)/AK45,(AD116+AM35*D19)/AL45,(AD117+AM35*D19)/AM45,(AD118+AM35*D19)/AN45,(AD119+AM35*D19)/AO45)*AP45","v":349.33333333333331},{"$f":"MIN((AE115+AM35*D19)/AK45,(AE116+AM35*D19)/AL45,(AE117+AM35*D19)/AM45,(AE118+AM35*D19)/AN45,(AE119+AM35*D19)/AO45)*AP45","v":380},{"$f":"MIN((AF115+AM35*D19)/AK45,(AF116+AM35*D19)/AL45,(AF117+AM35*D19)/AM45,(AF118+AM35*D19)/AN45,(AF119+AM35*D19)/AO45)*AP45","v":383.33333333333337},398,null,{"$f":"BB109","v":"kit 1"},"kit 2/3",0,"kit 4",0,"kit 5","kit 6/7",0,0,"kit 8","kit 9",0,"kit 10","kit 11","total",null,{"$f":"SUM(CH80:CH90)","v":2494.2952519047622},6407.159444285714,8901.4546961904762,3415.0101966666666,5486.4659995238089,8901.4761961904769,4297.6751680952384,4603.817742380952,8901.4929104761904,4277.4264814285716,4377.1166614285712,8654.5431428571428,5162.4718880952387,3492.0784047619049,8654.5502928571441,6078.3095880952378,2576.2971047619053,8654.6066928571436,3479.684083333334,5325.5745833333331,8805.2586666666666,4407.201603333333,4398.1116633333331,8805.3132666666643,5288.6495500000001,3516.6306166666664,8805.2801666666655,3490.1634166666672,5322.552576666666,8812.7159933333332,4351.9479633333331,4458.4891566666665,8810.4371200000005,5310.9444433333338,3501.8361766666662,8812.7806199999995]
[null,null,null,null,0.40870000000000001,0.95365,1.3623499999999999,0.95365,0.40870000000000001,1.3623499999999999,1.3623499999999999,0.90825,2.2706,0.81740000000000002,0.54495000000000005,1.3623500000000002,null,null,null,null,null,null,null,null,null,null,null,null,null,null,null,null,null,null,null,"nigeria 8 ",{"$f":"MIN((S122+AL35*D19)/AK44,(S123+AL35*D19)/AL44,(S124+AL35*D19)/AM44,(S125+AL35*D19)/AN44,(S126+AL35*D19)/AO44)*AP44","v":392.66666666666669},{"$f":"MIN((T122+AL35*D19)/AK44,(T123+AL35*D19)/AL44,(T124+AL35*D19)/AM44,(T125+AL35*D19)/AN44,(T126+AL35*D19)/AO44)*AP44","v":422},{"$f":"MIN((U122+AL35*D19)/AK44,(U123+AL35*D19)/AL44,(U124+AL35*D19)/AM44,(U125+AL35*D19)/AN44,(U126+AL35*D19)/AO44)*AP44","v":376},{"$f":"MIN((V122+AL35*D19)/AK44,(V123+AL35*D19)/AL44,(V124+AL35*D19)/AM44,(V125+AL35*D19)/AN44,(V126+AL35*D19)/AO44)*AP44","v":418.66666666666663},{"$f":"MIN((W122+AL35*D19)/AK44,(W123+AL35*D19)/AL44,(W124+AL35*D19)/AM44,(W125+AL35*D19)/AN44,(W126+AL35*D19)/AO44)*AP44","v":376},{"$f":"MIN((X122+AL35*D19)/AK44,(X123+AL35*D19)/AL44,(X124+AL35*D19)/AM44,(X125+AL35*D19)/AN44,(X126+AL35*D19)/AO44)*AP44","v":413.33333333333337},{"$f":"MIN((Y122+AL35*D19)/AK44,(Y123+AL35*D19)/AL44,(Y124+AL35*D19)/AM44,(Y125+AL35*D19)/AN44,(Y126+AL35*D19)/AO44)*AP44","v":416.66666666666669},{"$f":"MIN((Z122+AL35*D19)/AK44,(Z123+AL35*D19)/AL44,(Z124+AL35*D19)/AM44,(Z125+AL35*D19)/AN44,(Z126+AL35*D19)/AO44)*AP44","v":376},{"$f":"MIN((AA122+AL35*D19)/AK44,(AA123+AL35*D19)/AL44,(AA124+AL35*D19)/AM44,(AA125+AL35*D19)/AN44,(AA126+AL35*D19)/AO44)*AP44","v":416.66666666666669},{"$f":"MIN((AB122+AL35*D19)/AK44,(AB123+AL35*D19)/AL44,(AB124+AL35*D19)/AM44,(AB125+AL35*D19)/AN44,(AB126+AL35*D19)/AO44)*AP44","v":418.66666666666663},{"$f":"MIN((AC122+AL35*D19)/AK44,(AC123+AL35*D19)/AL44,(AC124+AL35*D19)/AM44,(AC125+AL35*D19)/AN44,(AC126+AL35*D19)/AO44)*AP44","v":413.33333333333337},{"$f":"MIN((AD122+AL35*D19)/AK44,(AD123+AL35*D19)/AL44,(AD124+AL35*D19)/AM44,(AD125+AL35*D19)/AN44,(AD126+AL35*D19)/AO44)*AP44","v":376},{"$f":"MIN((AE122+AL35*D19)/AK44,(AE123+AL35*D19)/AL44,(AE124+AL35*D19)/AM44,(AE125+AL35*D19)/AN44,(AE126+AL35*D19)/AO44)*AP44","v":416},{"$f":"MIN((AF122+AL35*D19)/AK44,(AF123+AL35*D19)/AL44,(AF124+AL35*D19)/AM44,(AF125+AL35*D19)/AN44,(AF126+AL35*D19)/AO44)*AP44","v":418.66666666666663},422,null,"nigeria 8 ",{"$f":"MIN((S122+AM35*D19)/AK45,(S123+AM35*D19)/AL45,(S124+AM35*D19)/AM45,(S125+AM35*D19)/AN45,(S126+AM35*D19)/AO45)*AP45","v":416},{"$f":"MIN((T122+AM35*D19)/AK45,(T123+AM35*D19)/AL45,(T124+AM35*D19)/AM45,(T125+AM35*D19)/AN45,(T126+AM35*D19)/AO45)*AP45","v":434.66666666666669},{"$f":"MIN((U122+AM35*D19)/AK45,(U123+AM35*D19)/AL45,(U124+AM35*D19)/AM45,(U125+AM35*D19)/AN45,(U126+AM35*D19)/AO45)*AP45","v":388.66666666666669},{"$f":"MIN((V122+AM35*D19)/AK45,(V123+AM35*D19)/AL45,(V124+AM35*D19)/AM45,(V125+AM35*D19)/AN45,(V126+AM35*D19)/AO45)*AP45","v":437.33333333333331},{"$f":"MIN((W122+AM35*D19)/AK45,(W123+AM35*D19)/AL45,(W124+AM35*D19)/AM45,(W125+AM35*D19)/AN45,(W126+AM35*D19)/AO45)*AP45","v":388.66666666666669},{"$f":"MIN((X122+AM35*D19)/AK45,(X123+AM35*D19)/AL45,(X124+AM35*D19)/AM45,(X125+AM35*D19)/AN45,(X126+AM35*D19)/AO45)*AP45","v":435.33333333333337},{"$f":"MIN((Y122+AM35*D19)/AK45,(Y123+AM35*D19)/AL45,(Y124+AM35*D19)/AM45,(Y125+AM35*D19)/AN45,(Y126+AM35*D19)/AO45)*AP45","v":429.33333333333331},{"$f":"MIN((Z122+AM35*D19)/AK45,(Z123+AM35*D19)/AL45,(Z124+AM35*D19)/AM45,(Z125+AM35*D19)/AN45,(Z126+AM35*D19)/AO45)*AP45","v":388.66666666666669},{"$f":"MIN((AA122+AM35*D19)/AK45,(AA123+AM35*D19)/AL45,(AA124+AM35*D19)/AM45,(AA125+AM35*D19)/AN45,(AA126+AM35*D19)/AO45)*AP45","v":429.33333333333331},{"$f":"MIN((AB122+AM35*D19)/AK45,(AB123+AM35*D19)/AL45,(AB124+AM35*D19)/AM45,(AB125+AM35*D19)/AN45,(AB126+AM35*D19)/AO45)*AP45","v":426},{"$f":"MIN((AC122+AM35*D19)/AK45,(AC123+AM35*D19)/AL45,(AC124+AM35*D19)/AM45,(AC125+AM35*D19)/AN45,(AC126+AM35*D19)/AO45)*AP45","v":429.33333333333331},{"$f":"MIN((AD122+AM35*D19)/AK45,(AD123+AM35*D19)/AL45,(AD124+AM35*D19)/AM45,(AD125+AM35*D19)/AN45,(AD126+AM35*D19)/AO45)*AP45","v":388.66666666666669},{"$f":"MIN((AE122+AM35*D19)/AK45,(AE123+AM35*D19)/AL45,(AE124+AM35*D19)/AM45,(AE125+AM35*D19)/AN45,(AE126+AM35*D19)/AO45)*AP45","v":419.33333333333331},{"$f":"MIN((AF122+AM35*D19)/AK45,(AF123+AM35*D19)/AL45,(AF124+AM35*D19)/AM45,(AF125+AM35*D19)/AN45,(AF126+AM35*D19)/AO45)*AP45","v":422.66666666666663},437.33333333333331,null,{"$f":"BB109","v":"kit 1"},"kit 2/3",0,"kit 4",0,"kit 5","kit 6/7",0,0,"kit 8","kit 9",0,"kit 10","kit 11","rapport atttaque adversaire defense mon équipe et inversement avec bonus stratégie"]
[null,null,null,null,0.72660000000000002,1.0899000000000001,1.8165,0.36330000000000001,0.54495000000000005,0.90825,0.4541,0.4541,0.90820000000000001,0.90825,0.90825,1.8165,null,{"$f":"G16","v":"slovenie 6 "},{"$f":"S86","v":"kit 1"},{"$f":"T86","v":"kit 2/3"},0,"kit 4",0,"kit 5","kit 6/7",0,0,"kit 8","kit 9",0,{"$f":"AE86","v":"kit 10"},{"$f":"AF86","v":"kit 11"},null,null,null,"slovaquie 8 ",{"$f":"MIN((S129+AL35*D19)/AK44,(S130+AL35*D19)/AL44,(S131+AL35*D19)/AM44,(S132+AL35*D19)/AN44,(S133+AL35*D19)/AO44)*AP44","v":401.99999999999994},{"$f":"MIN((T129+AL35*D19)/AK44,(T130+AL35*D19)/AL44,(T131+AL35*D19)/AM44,(T132+AL35*D19)/AN44,(T133+AL35*D19)/AO44)*AP44","v":431.33333333333337},{"$f":"MIN((U129+AL35*D19)/AK44,(U130+AL35*D19)/AL44,(U131+AL35*D19)/AM44,(U132+AL35*D19)/AN44,(U133+AL35*D19)/AO44)*AP44","v":385.33333333333337},{"$f":"MIN((V129+AL35*D19)/AK44,(V130+AL35*D19)/AL44,(V131+AL35*D19)/AM44,(V132+AL35*D19)/AN44,(V133+AL35*D19)/AO44)*AP44","v":428},{"$f":"MIN((W129+AL35*D19)/AK44,(W130+AL35*D19)/AL44,(W131+AL35*D19)/AM44,(W132+AL35*D19)/AN44,(W133+AL35*D19)/AO44)*AP44","v":385.33333333333337},{"$f":"MIN((X129+AL35*D19)/AK44,(X130+AL35*D19)/AL44,(X131+AL35*D19)/AM44,(X132+AL35*D19)/AN44,(X133+AL35*D19)/AO44)*AP44","v":422.66666666666663},{"$f":"MIN((Y129+AL35*D19)/AK44,(Y130+AL35*D19)/AL44,(Y131+AL35*D19)/AM44,(Y132+AL35*D19)/AN44,(Y133+AL35*D19)/AO44)*AP44","v":426},{"$f":"MIN((Z129+AL35*D19)/AK44,(Z130+AL35*D19)/AL44,(Z131+AL35*D19)/AM44,(Z132+AL35*D19)/AN44,(Z133+AL35*D19)/AO44)*AP44","v":385.33333333333337},{"$f":"MIN((AA129+AL35*D19)/AK44,(AA130+AL35*D19)/AL44,(AA131+AL35*D19)/AM44,(AA132+AL35*D19)/AN44,(AA133+AL35*D19)/AO44)*AP44","v":426},{"$f":"MIN((AB129+AL35*D19)/AK44,(AB130+AL35*D19)/AL44,(AB131+AL35*D19)/AM44,(AB132+AL35*D19)/AN44,(AB133+AL35*D19)/AO44)*AP44","v":428},{"$f":"MIN((AC129+AL35*D19)/AK44,(AC130+AL35*D19)/AL44,(AC131+AL35*D19)/AM44,(AC132+AL35*D19)/AN44,(AC133+AL35*D19)/AO44)*AP44","v":422.66666666666663},{"$f":"MIN((AD129+AL35*D19)/AK44,(AD130+AL35*D19)/AL44,(AD131+AL35*D19)/AM44,(AD132+AL35*D19)/AN44,(AD133+AL35*D19)/AO44)*AP44","v":385.33333333333337},{"$f":"MIN((AE129+AL35*D19)/AK44,(AE130+AL35*D19)/AL44,(AE131+AL35*D19)/AM44,(AE132+AL35*D19)/AN44,(AE133+AL35*D19)/AO44)*AP44","v":425.33333333333331},{"$f":"MIN((AF129+AL35*D19)/AK44,(AF130+AL35*D19)/AL44,(AF131+AL35*D19)/AM44,(AF132+AL35*D19)/AN44,(AF133+AL35*D19)/AO44)*AP44","v":428},431.33333333333337,null,"slovaquie 8 ",{"$f":"MIN((S129+AM35*D19)/AK45,(S130+AM35*D19)/AL45,(S131+AM35*D19)/AM45,(S132+AM35*D19)/AN45,(S133+AM35*D19)/AO45)*AP45","v":376.66666666666669},{"$f":"MIN((T129+AM35*D19)/AK45,(T130+AM35*D19)/AL45,(T131+AM35*D19)/AM45,(T132+AM35*D19)/AN45,(T133+AM35*D19)/AO45)*AP45","v":395.33333333333331},{"$f":"MIN((U129+AM35*D19)/AK45,(U130+AM35*D19)/AL45,(U131+AM35*D19)/AM45,(U132+AM35*D19)/AN45,(U133+AM35*D19)/AO45)*AP45","v":349.33333333333331},{"$f":"MIN((V129+AM35*D19)/AK45,(V130+AM35*D19)/AL45,(V131+AM35*D19)/AM45,(V132+AM35*D19)/AN45,(V133+AM35*D19)/AO45)*AP45","v":398},{"$f":"MIN((W129+AM35*D19)/AK45,(W130+AM35*D19)/AL45,(W131+AM35*D19)/AM45,(W132+AM35*D19)/AN45,(W133+AM35*D19)/AO45)*AP45","v":349.33333333333331},{"$f":"MIN((X129+AM35*D19)/AK45,(X130+AM35*D19)/AL45,(X131+AM35*D19)/AM45,(X132+AM35*D19)/AN45,(X133+AM35*D19)/AO45)*AP45","v":396},{"$f":"MIN((Y129+AM35*D19)/AK45,(Y130+AM35*D19)/AL45,(Y131+AM35*D19)/AM45,(Y132+AM35*D19)/AN45,(Y133+AM35*D19)/AO45)*AP45","v":390},{"$f":"MIN((Z129+AM35*D19)/AK45,(Z130+AM35*D19)/AL45,(Z131+AM35*D19)/AM45,(Z132+AM35*D19)/AN45,(Z133+AM35*D19)/AO45)*AP45","v":349.33333333333331},{"$f":"MIN((AA129+AM35*D19)/AK45,(AA130+AM35*D19)/AL45,(AA131+AM35*D19)/AM45,(AA132+AM35*D19)/AN45,(AA133+AM35*D19)/AO45)*AP45","v":390},{"$f":"MIN((AB129+AM35*D19)/AK45,(AB130+AM35*D19)/AL45,(AB131+AM35*D19)/AM45,(AB132+AM35*D19)/AN45,(AB133+AM35*D19)/AO45)*AP45","v":386.66666666666669},{"$f":"MIN((AC129+AM35*D19)/AK45,(AC130+AM35*D19)/AL45,(AC131+AM35*D19)/AM45,(AC132+AM35*D19)/AN45,(AC133+AM35*D19)/AO45)*AP45","v":390},{"$f":"MIN((AD129+AM35*D19)/AK45,(AD130+AM35*D19)/AL45,(AD131+AM35*D19)/AM45,(AD132+AM35*D19)/AN45,(AD133+AM35*D19)/AO45)*AP45","v":349.33333333333331},{"$f":"MIN((AE129+AM35*D19)/AK45,(AE130+AM35*D19)/AL45,(AE131+AM35*D19)/AM45,(AE132+AM35*D19)/AN45,(AE133+AM35*D19)/AO45)*AP45","v":380},{"$f":"MIN((AF129+AM35*D19)/AK45,(AF130+AM35*D19)/AL45,(AF131+AM35*D19)/AM45,(AF132+AM35*D19)/AN45,(AF133+AM35*D19)/AO45)*AP45","v":383.33333333333337},398,null,{"$f":"BB109","v":"kit 1"},"kit 2/3",0,"kit 4",0,"kit 5","kit 6/7",0,0,"kit 8","kit 9",0,"kit 10","kit 11"]
[null,null,null,null,0.72660000000000002,1.0899000000000001,1.8165,0.95365,0.40870000000000001,1.3623499999999999,0.4541,0.4541,0.90820000000000001,1.0899000000000001,0.72660000000000002,1.8165,null,{"$f":"H16+AH39+D16+D17+D21+D19*AG13","v":574},{"$f":"R94+Q10","v":615},{"$f":"R94+R10","v":643},{"$f":"R94+S10","v":574},{"$f":"R94+T10","v":647},{"$f":"R94+U10","v":574},{"$f":"R94+V10","v":644},{"$f":"R94+W10","v":635},{"$f":"R94+X10","v":574},{"$f":"R94+Y10","v":635},{"$f":"R94+Z10","v":630},{"$f":"R94+AA10","v":635},{"$f":"R94+AB10","v":574},{"$f":"R94+AC10","v":620},{"$f":"R94+AD10","v":625},null,null,null,"afrique du sud 4 ",{"$f":"MIN((S136+AL35*D19)/AK44,(S137+AL35*D19)/AL44,(S138+AL35*D19)/AM44,(S139+AL35*D19)/AN44,(S140+AL35*D19)/AO44)*AP44","v":334.66666666666669},{"$f":"MIN((T136+AL35*D19)/AK44,(T137+AL35*D19)/AL44,(T138+AL35*D19)/AM44,(T139+AL35*D19)/AN44,(T140+AL35*D19)/AO44)*AP44","v":364},{"$f":"MIN((U136+AL35*D19)/AK44,(U137+AL35*D19)/AL44,(U138+AL35*D19)/AM44,(U139+AL35*D19)/AN44,(U140+AL35*D19)/AO44)*AP44","v":318},{"$f":"MIN((V136+AL35*D19)/AK44,(V137+AL35*D19)/AL44,(V138+AL35*D19)/AM44,(V139+AL35*D19)/AN44,(V140+AL35*D19)/AO44)*AP44","v":360.66666666666663},{"$f":"MIN((W136+AL35*D19)/AK44,(W137+AL35*D19)/AL44,(W138+AL35*D19)/AM44,(W139+AL35*D19)/AN44,(W140+AL35*D19)/AO44)*AP44","v":318},{"$f":"MIN((X136+AL35*D19)/AK44,(X137+AL35*D19)/AL44,(X138+AL35*D19)/AM44,(X139+AL35*D19)/AN44,(X140+AL35*D19)/AO44)*AP44","v":355.33333333333331},{"$f":"MIN((Y136+AL35*D19)/AK44,(Y137+AL35*D19)/AL44,(Y138+AL35*D19)/AM44,(Y139+AL35*D19)/AN44,(Y140+AL35*D19)/AO44)*AP44","v":358.66666666666663},{"$f":"MIN((Z136+AL35*D19)/AK44,(Z137+AL35*D19)/AL44,(Z138+AL35*D19)/AM44,(Z139+AL35*D19)/AN44,(Z140+AL35*D19)/AO44)*AP44","v":318},{"$f":"MIN((AA136+AL35*D19)/AK44,(AA137+AL35*D19)/AL44,(AA138+AL35*D19)/AM44,(AA139+AL35*D19)/AN44,(AA140+AL35*D19)/AO44)*AP44","v":358.66666666666663},{"$f":"MIN((AB136+AL35*D19)/AK44,(AB137+AL35*D19)/AL44,(AB138+AL35*D19)/AM44,(AB139+AL35*D19)/AN44,(AB140+AL35*D19)/AO44)*AP44","v":360.66666666666663},{"$f":"MIN((AC136+AL35*D19)/AK44,(AC137+AL35*D19)/AL44,(AC138+AL35*D19)/AM44,(AC139+AL35*D19)/AN44,(AC140+AL35*D19)/AO44)*AP44","v":355.33333333333331},{"$f":"MIN((AD136+AL35*D19)/AK44,(AD137+AL35*D19)/AL44,(AD138+AL35*D19)/AM44,(AD139+AL35*D19)/AN44,(AD140+AL35*D19)/AO44)*AP44","v":318},{"$f":"MIN((AE136+AL35*D19)/AK44,(AE137+AL35*D19)/AL44,(AE138+AL35*D19)/AM44,(AE139+AL35*D19)/AN44,(AE140+AL35*D19)/AO44)*AP44","v":358},{"$f":"MIN((AF136+AL35*D19)/AK44,(AF137+AL35*D19)/AL44,(AF138+AL35*D19)/AM44,(AF139+AL35*D19)/AN44,(AF140+AL35*D19)/AO44)*AP44","v":360.66666666666663},364,null,"afrique du sud 4 ",{"$f":"MIN((S136+AM35*D19)/AK45,(S137+AM35*D19)/AL45,(S138+AM35*D19)/AM45,(S139+AM35*D19)/AN45,(S140+AM35*D19)/AO45)*AP45","v":401.6},{"$f":"MIN((T136+AM35*D19)/AK45,(T137+AM35*D19)/AL45,(T138+AM35*D19)/AM45,(T139+AM35*D19)/AN45,(T140+AM35*D19)/AO45)*AP45","v":436.8},{"$f":"MIN((U136+AM35*D19)/AK45,(U137+AM35*D19)/AL45,(U138+AM35*D19)/AM45,(U139+AM35*D19)/AN45,(U140+AM35*D19)/AO45)*AP45","v":381.59999999999997},{"$f":"MIN((V136+AM35*D19)/AK45,(V137+AM35*D19)/AL45,(V138+AM35*D19)/AM45,(V139+AM35*D19)/AN45,(V140+AM35*D19)/AO45)*AP45","v":432.8},{"$f":"MIN((W136+AM35*D19)/AK45,(W137+AM35*D19)/AL45,(W138+AM35*D19)/AM45,(W139+AM35*D19)/AN45,(W140+AM35*D19)/AO45)*AP45","v":381.59999999999997},{"$f":"MIN((X136+AM35*D19)/AK45,(X137+AM35*D19)/AL45,(X138+AM35*D19)/AM45,(X139+AM35*D19)/AN45,(X140+AM35*D19)/AO45)*AP45","v":426.40000000000003},{"$f":"MIN((Y136+AM35*D19)/AK45,(Y137+AM35*D19)/AL45,(Y138+AM35*D19)/AM45,(Y139+AM35*D19)/AN45,(Y140+AM35*D19)/AO45)*AP45","v":430.40000000000003},{"$f":"MIN((Z136+AM35*D19)/AK45,(Z137+AM35*D19)/AL45,(Z138+AM35*D19)/AM45,(Z139+AM35*D19)/AN45,(Z140+AM35*D19)/AO45)*AP45","v":381.59999999999997},{"$f":"MIN((AA136+AM35*D19)/AK45,(AA137+AM35*D19)/AL45,(AA138+AM35*D19)/AM45,(AA139+AM35*D19)/AN45,(AA140+AM35*D19)/AO45)*AP45","v":430.40000000000003},{"$f":"MIN((AB136+AM35*D19)/AK45,(AB137+AM35*D19)/AL45,(AB138+AM35*D19)/AM45,(AB139+AM35*D19)/AN45,(AB140+AM35*D19)/AO45)*AP45","v":432.66666666666669},{"$f":"MIN((AC136+AM35*D19)/AK45,(AC137+AM35*D19)/AL45,(AC138+AM35*D19)/AM45,(AC139+AM35*D19)/AN45,(AC140+AM35*D19)/AO45)*AP45","v":426.40000000000003},{"$f":"MIN((AD136+AM35*D19)/AK45,(AD137+AM35*D19)/AL45,(AD138+AM35*D19)/AM45,(AD139+AM35*D19)/AN45,(AD140+AM35*D19)/AO45)*AP45","v":381.59999999999997},{"$f":"MIN((AE136+AM35*D19)/AK45,(AE137+AM35*D19)/AL45,(AE138+AM35*D19)/AM45,(AE139+AM35*D19)/AN45,(AE140+AM35*D19)/AO45)*AP45","v":426},{"$f":"MIN((AF136+AM35*D19)/AK45,(AF137+AM35*D19)/AL45,(AF138+AM35*D19)/AM45,(AF139+AM35*D19)/AN45,(AF140+AM35*D19)/AO45)*AP45","v":429.33333333333331},436.8,null,{"$f":"BB109","v":"kit 1"},"kit 2/3",0,"kit 4",0,"kit 5","kit 6/7",0,0,"kit 8","kit 9",0,"kit 10","kit 11",null,"tactique adversaire",null,null,541,null,null,null,null,null,null,null,null,433,null,null,null,null,null,null,null,null,352,null,null,null,null,null,null,null,null,442]
[null,null,null,null,0.90825,1.3623499999999999,2.2706,0.95365,0.40870000000000001,1.3623499999999999,1.0899000000000001,0.72660000000000002,1.8165,1.0899000000000001,0.72660000000000002,1.8165,null,{"$f":"I16+AH40+D15+D17+D21+D19*AG13","v":612},{"$f":"R95+Q11","v":692},{"$f":"R95+R11","v":664},{"$f":"R95+S11","v":612},{"$f":"R95+T11","v":657},{"$f":"R95+U11","v":612},{"$f":"R95+V11","v":668},{"$f":"R95+W11","v":673},{"$f":"R95+X11","v":612},{"$f":"R95+Y11","v":673},{"$f":"R95+Z11","v":676},{"$f":"R95+AA11","v":680},{"$f":"R95+AB11","v":612},{"$f":"R95+AC11","v":680},{"$f":"R95+AD11","v":676},null,null,null,"allemagne 11 ",{"$f":"MIN((S143+AL35*D19)/AK44,(S144+AL35*D19)/AL44,(S145+AL35*D19)/AM44,(S146+AL35*D19)/AN44,(S147+AL35*D19)/AO44)*AP44","v":396.66666666666669},{"$f":"MIN((T143+AL35*D19)/AK44,(T144+AL35*D19)/AL44,(T145+AL35*D19)/AM44,(T146+AL35*D19)/AN44,(T147+AL35*D19)/AO44)*AP44","v":426},{"$f":"MIN((U143+AL35*D19)/AK44,(U144+AL35*D19)/AL44,(U145+AL35*D19)/AM44,(U146+AL35*D19)/AN44,(U147+AL35*D19)/AO44)*AP44","v":380},{"$f":"MIN((V143+AL35*D19)/AK44,(V144+AL35*D19)/AL44,(V145+AL35*D19)/AM44,(V146+AL35*D19)/AN44,(V147+AL35*D19)/AO44)*AP44","v":422.66666666666663},{"$f":"MIN((W143+AL35*D19)/AK44,(W144+AL35*D19)/AL44,(W145+AL35*D19)/AM44,(W146+AL35*D19)/AN44,(W147+AL35*D19)/AO44)*AP44","v":380},{"$f":"MIN((X143+AL35*D19)/AK44,(X144+AL35*D19)/AL44,(X145+AL35*D19)/AM44,(X146+AL35*D19)/AN44,(X147+AL35*D19)/AO44)*AP44","v":417.33333333333331},{"$f":"MIN((Y143+AL35*D19)/AK44,(Y144+AL35*D19)/AL44,(Y145+AL35*D19)/AM44,(Y146+AL35*D19)/AN44,(Y147+AL35*D19)/AO44)*AP44","v":420.66666666666669},{"$f":"MIN((Z143+AL35*D19)/AK44,(Z144+AL35*D19)/AL44,(Z145+AL35*D19)/AM44,(Z146+AL35*D19)/AN44,(Z147+AL35*D19)/AO44)*AP44","v":380},{"$f":"MIN((AA143+AL35*D19)/AK44,(AA144+AL35*D19)/AL44,(AA145+AL35*D19)/AM44,(AA146+AL35*D19)/AN44,(AA147+AL35*D19)/AO44)*AP44","v":420.66666666666669},{"$f":"MIN((AB143+AL35*D19)/AK44,(AB144+AL35*D19)/AL44,(AB145+AL35*D19)/AM44,(AB146+AL35*D19)/AN44,(AB147+AL35*D19)/AO44)*AP44","v":422.66666666666663},{"$f":"MIN((AC143+AL35*D19)/AK44,(AC144+AL35*D19)/AL44,(AC145+AL35*D19)/AM44,(AC146+AL35*D19)/AN44,(AC147+AL35*D19)/AO44)*AP44","v":417.33333333333331},{"$f":"MIN((AD143+AL35*D19)/AK44,(AD144+AL35*D19)/AL44,(AD145+AL35*D19)/AM44,(AD146+AL35*D19)/AN44,(AD147+AL35*D19)/AO44)*AP44","v":380},{"$f":"MIN((AE143+AL35*D19)/AK44,(AE144+AL35*D19)/AL44,(AE145+AL35*D19)/AM44,(AE146+AL35*D19)/AN44,(AE147+AL35*D19)/AO44)*AP44","v":420},{"$f":"MIN((AF143+AL35*D19)/AK44,(AF144+AL35*D19)/AL44,(AF145+AL35*D19)/AM44,(AF146+AL35*D19)/AN44,(AF147+AL35*D19)/AO44)*AP44","v":422.66666666666663},426,null,"allemagne 11 ",{"$f":"MIN((S143+AM35*D19)/AK45,(S144+AM35*D19)/AL45,(S145+AM35*D19)/AM45,(S146+AM35*D19)/AN45,(S147+AM35*D19)/AO45)*AP45","v":387.33333333333337},{"$f":"MIN((T143+AM35*D19)/AK45,(T144+AM35*D19)/AL45,(T145+AM35*D19)/AM45,(T146+AM35*D19)/AN45,(T147+AM35*D19)/AO45)*AP45","v":405.99999999999994},{"$f":"MIN((U143+AM35*D19)/AK45,(U144+AM35*D19)/AL45,(U145+AM35*D19)/AM45,(U146+AM35*D19)/AN45,(U147+AM35*D19)/AO45)*AP45","v":360},{"$f":"MIN((V143+AM35*D19)/AK45,(V144+AM35*D19)/AL45,(V145+AM35*D19)/AM45,(V146+AM35*D19)/AN45,(V147+AM35*D19)/AO45)*AP45","v":408.66666666666669},{"$f":"MIN((W143+AM35*D19)/AK45,(W144+AM35*D19)/AL45,(W145+AM35*D19)/AM45,(W146+AM35*D19)/AN45,(W147+AM35*D19)/AO45)*AP45","v":360},{"$f":"MIN((X143+AM35*D19)/AK45,(X144+AM35*D19)/AL45,(X145+AM35*D19)/AM45,(X146+AM35*D19)/AN45,(X147+AM35*D19)/AO45)*AP45","v":406.66666666666663},{"$f":"MIN((Y143+AM35*D19)/AK45,(Y144+AM35*D19)/AL45,(Y145+AM35*D19)/AM45,(Y146+AM35*D19)/AN45,(Y147+AM35*D19)/AO45)*AP45","v":400.66666666666669},{"$f":"MIN((Z143+AM35*D19)/AK45,(Z144+AM35*D19)/AL45,(Z145+AM35*D19)/AM45,(Z146+AM35*D19)/AN45,(Z147+AM35*D19)/AO45)*AP45","v":360},{"$f":"MIN((AA143+AM35*D19)/AK45,(AA144+AM35*D19)/AL45,(AA145+AM35*D19)/AM45,(AA146+AM35*D19)/AN45,(AA147+AM35*D19)/AO45)*AP45","v":400.66666666666669},{"$f":"MIN((AB143+AM35*D19)/AK45,(AB144+AM35*D19)/AL45,(AB145+AM35*D19)/AM45,(AB146+AM35*D19)/AN45,(AB147+AM35*D19)/AO45)*AP45","v":397.33333333333331},{"$f":"MIN((AC143+AM35*D19)/AK45,(AC144+AM35*D19)/AL45,(AC145+AM35*D19)/AM45,(AC146+AM35*D19)/AN45,(AC147+AM35*D19)/AO45)*AP45","v":400.66666666666669},{"$f":"MIN((AD143+AM35*D19)/AK45,(AD144+AM35*D19)/AL45,(AD145+AM35*D19)/AM45,(AD146+AM35*D19)/AN45,(AD147+AM35*D19)/AO45)*AP45","v":360},{"$f":"MIN((AE143+AM35*D19)/AK45,(AE144+AM35*D19)/AL45,(AE145+AM35*D19)/AM45,(AE146+AM35*D19)/AN45,(AE147+AM35*D19)/AO45)*AP45","v":390.66666666666669},{"$f":"MIN((AF143+AM35*D19)/AK45,(AF144+AM35*D19)/AL45,(AF145+AM35*D19)/AM45,(AF146+AM35*D19)/AN45,(AF147+AM35*D19)/AO45)*AP45","v":394},408.66666666666669,null,{"$f":"BB109","v":"kit 1"},"kit 2/3",0,"kit 4",0,"kit 5","kit 6/7",0,0,"kit 8","kit 9",0,"kit 10","kit 11",null,null,null,null,"defensif",null,null,"neutre",null,null,"offensif",null,null,"defensif",null,null,"neutre",null,null,"offensif",null,null,"defensif",null,null,"neutre",null,null,"offensif",null,null,"defensif",null,null,"neutre",null,null,"offensif"]
[null,null,null,null,1.0899000000000001,0.72660000000000002,1.8165,0.94984999999999997,0.40705000000000002,1.3569,1.9073500000000001,0.81740000000000002,2.7247500000000002,1.0899000000000001,0.27245000000000003,1.3623500000000002,null,{"$f":"J16+AH41+D15+D17+D21+D19*AG13","v":568},{"$f":"R96+Q12","v":609},{"$f":"R96+R12","v":628},{"$f":"R96+S12","v":568},{"$f":"R96+T12","v":641},{"$f":"R96+U12","v":568},{"$f":"R96+V12","v":624},{"$f":"R96+W12","v":629},{"$f":"R96+X12","v":568},{"$f":"R96+Y12","v":629},{"$f":"R96+Z12","v":632},{"$f":"R96+AA12","v":636},{"$f":"R96+AB12","v":568},{"$f":"R96+AC12","v":621},{"$f":"R96+AD12","v":639},null,null,null,"chili 11 ",{"$f":"MIN((S150+AL35*D19)/AK44,(S151+AL35*D19)/AL44,(S152+AL35*D19)/AM44,(S153+AL35*D19)/AN44,(S154+AL35*D19)/AO44)*AP44","v":376},{"$f":"MIN((T150+AL35*D19)/AK44,(T151+AL35*D19)/AL44,(T152+AL35*D19)/AM44,(T153+AL35*D19)/AN44,(T154+AL35*D19)/AO44)*AP44","v":405.33333333333337},{"$f":"MIN((U150+AL35*D19)/AK44,(U151+AL35*D19)/AL44,(U152+AL35*D19)/AM44,(U153+AL35*D19)/AN44,(U154+AL35*D19)/AO44)*AP44","v":359.33333333333331},{"$f":"MIN((V150+AL35*D19)/AK44,(V151+AL35*D19)/AL44,(V152+AL35*D19)/AM44,(V153+AL35*D19)/AN44,(V154+AL35*D19)/AO44)*AP44","v":401.99999999999994},{"$f":"MIN((W150+AL35*D19)/AK44,(W151+AL35*D19)/AL44,(W152+AL35*D19)/AM44,(W153+AL35*D19)/AN44,(W154+AL35*D19)/AO44)*AP44","v":359.33333333333331},{"$f":"MIN((X150+AL35*D19)/AK44,(X151+AL35*D19)/AL44,(X152+AL35*D19)/AM44,(X153+AL35*D19)/AN44,(X154+AL35*D19)/AO44)*AP44","v":396.66666666666669},{"$f":"MIN((Y150+AL35*D19)/AK44,(Y151+AL35*D19)/AL44,(Y152+AL35*D19)/AM44,(Y153+AL35*D19)/AN44,(Y154+AL35*D19)/AO44)*AP44","v":400},{"$f":"MIN((Z150+AL35*D19)/AK44,(Z151+AL35*D19)/AL44,(Z152+AL35*D19)/AM44,(Z153+AL35*D19)/AN44,(Z154+AL35*D19)/AO44)*AP44","v":359.33333333333331},{"$f":"MIN((AA150+AL35*D19)/AK44,(AA151+AL35*D19)/AL44,(AA152+AL35*D19)/AM44,(AA153+AL35*D19)/AN44,(AA154+AL35*D19)/AO44)*AP44","v":400},{"$f":"MIN((AB150+AL35*D19)/AK44,(AB151+AL35*D19)/AL44,(AB152+AL35*D19)/AM44,(AB153+AL35*D19)/AN44,(AB154+AL35*D19)/AO44)*AP44","v":401.99999999999994},{"$f":"MIN((AC150+AL35*D19)/AK44,(AC151+AL35*D19)/AL44,(AC152+AL35*D19)/AM44,(AC153+AL35*D19)/AN44,(AC154+AL35*D19)/AO44)*AP44","v":396.66666666666669},{"$f":"MIN((AD150+AL35*D19)/AK44,(AD151+AL35*D19)/AL44,(AD152+AL35*D19)/AM44,(AD153+AL35*D19)/AN44,(AD154+AL35*D19)/AO44)*AP44","v":359.33333333333331},{"$f":"MIN((AE150+AL35*D19)/AK44,(AE151+AL35*D19)/AL44,(AE152+AL35*D19)/AM44,(AE153+AL35*D19)/AN44,(AE154+AL35*D19)/AO44)*AP44","v":399.33333333333331},{"$f":"MIN((AF150+AL35*D19)/AK44,(AF151+AL35*D19)/AL44,(AF152+AL35*D19)/AM44,(AF153+AL35*D19)/AN44,(AF154+AL35*D19)/AO44)*AP44","v":401.99999999999994},405.33333333333337,null,"chili 11 ",{"$f":"MIN((S150+AM35*D19)/AK45,(S151+AM35*D19)/AL45,(S152+AM35*D19)/AM45,(S153+AM35*D19)/AN45,(S154+AM35*D19)/AO45)*AP45","v":334.66666666666669},{"$f":"MIN((T150+AM35*D19)/AK45,(T151+AM35*D19)/AL45,(T152+AM35*D19)/AM45,(T153+AM35*D19)/AN45,(T154+AM35*D19)/AO45)*AP45","v":353.33333333333331},{"$f":"MIN((U150+AM35*D19)/AK45,(U151+AM35*D19)/AL45,(U152+AM35*D19)/AM45,(U153+AM35*D19)/AN45,(U154+AM35*D19)/AO45)*AP45","v":307.33333333333331},{"$f":"MIN((V150+AM35*D19)/AK45,(V151+AM35*D19)/AL45,(V152+AM35*D19)/AM45,(V153+AM35*D19)/AN45,(V154+AM35*D19)/AO45)*AP45","v":356},{"$f":"MIN((W150+AM35*D19)/AK45,(W151+AM35*D19)/AL45,(W152+AM35*D19)/AM45,(W153+AM35*D19)/AN45,(W154+AM35*D19)/AO45)*AP45","v":307.33333333333331},{"$f":"MIN((X150+AM35*D19)/AK45,(X151+AM35*D19)/AL45,(X152+AM35*D19)/AM45,(X153+AM35*D19)/AN45,(X154+AM35*D19)/AO45)*AP45","v":354},{"$f":"MIN((Y150+AM35*D19)/AK45,(Y151+AM35*D19)/AL45,(Y152+AM35*D19)/AM45,(Y153+AM35*D19)/AN45,(Y154+AM35*D19)/AO45)*AP45","v":348},{"$f":"MIN((Z150+AM35*D19)/AK45,(Z151+AM35*D19)/AL45,(Z152+AM35*D19)/AM45,(Z153+AM35*D19)/AN45,(Z154+AM35*D19)/AO45)*AP45","v":307.33333333333331},{"$f":"MIN((AA150+AM35*D19)/AK45,(AA151+AM35*D19)/AL45,(AA152+AM35*D19)/AM45,(AA153+AM35*D19)/AN45,(AA154+AM35*D19)/AO45)*AP45","v":348},{"$f":"MIN((AB150+AM35*D19)/AK45,(AB151+AM35*D19)/AL45,(AB152+AM35*D19)/AM45,(AB153+AM35*D19)/AN45,(AB154+AM35*D19)/AO45)*AP45","v":344.66666666666669},{"$f":"MIN((AC150+AM35*D19)/AK45,(AC151+AM35*D19)/AL45,(AC152+AM35*D19)/AM45,(AC153+AM35*D19)/AN45,(AC154+AM35*D19)/AO45)*AP45","v":348},{"$f":"MIN((AD150+AM35*D19)/AK45,(AD151+AM35*D19)/AL45,(AD152+AM35*D19)/AM45,(AD153+AM35*D19)/AN45,(AD154+AM35*D19)/AO45)*AP45","v":307.33333333333331},{"$f":"MIN((AE150+AM35*D19)/AK45,(AE151+AM35*D19)/AL45,(AE152+AM35*D19)/AM45,(AE153+AM35*D19)/AN45,(AE154+AM35*D19)/AO45)*AP45","v":338},{"$f":"MIN((AF150+AM35*D19)/AK45,(AF151+AM35*D19)/AL45,(AF152+AM35*D19)/AM45,(AF153+AM35*D19)/AN45,(AF154+AM35*D19)/AO45)*AP45","v":341.33333333333337},356,null,{"$f":"BB109","v":"kit 1"},"kit 2/3",0,"kit 4",0,"kit 5","kit 6/7",0,0,"kit 8","kit 9",0,"kit 10","kit 11",null,"rapport et ",null,null,"att A ","att ME","compa","att A ","att ME","compa","att A ","att ME","compa","att A ","att ME","compa","att A ","att ME","compa","att A ","att ME","compa","att A ","att ME","compa","att A ","att ME","compa","att A ","att ME","compa","att A ","att ME","compa","att A ","att ME","compa","att A ","att ME","compa"]
[null,null,null,null,0.95365,0.40870000000000001,1.3623499999999999,2.4523000000000001,0.27245000000000003,2.7247500000000002,1.0899000000000001,0.27245000000000003,1.3623500000000002,1.0899000000000001,0.27245000000000003,1.3623500000000002,null,{"$f":"K16+AH42+D16+D17+D21+D19*AG13","v":555},{"$f":"R97+Q13","v":580},{"$f":"R97+R13","v":624},{"$f":"R97+S13","v":555},{"$f":"R97+T13","v":619},{"$f":"R97+U13","v":555},{"$f":"R97+V13","v":611},{"$f":"R97+W13","v":616},{"$f":"R97+X13","v":555},{"$f":"R97+Y13","v":616},{"$f":"R97+Z13","v":619},{"$f":"R97+AA13","v":611},{"$f":"R97+AB13","v":555},{"$f":"R97+AC13","v":615},{"$f":"R97+AD13","v":619},null,null,null,"corée du sud 3 ",{"$f":"MIN((S157+AL35*D19)/AK44,(S158+AL35*D19)/AL44,(S159+AL35*D19)/AM44,(S160+AL35*D19)/AN44,(S161+AL35*D19)/AO44)*AP44","v":383.33333333333337},{"$f":"MIN((T157+AL35*D19)/AK44,(T158+AL35*D19)/AL44,(T159+AL35*D19)/AM44,(T160+AL35*D19)/AN44,(T161+AL35*D19)/AO44)*AP44","v":412.66666666666669},{"$f":"MIN((U157+AL35*D19)/AK44,(U158+AL35*D19)/AL44,(U159+AL35*D19)/AM44,(U160+AL35*D19)/AN44,(U161+AL35*D19)/AO44)*AP44","v":366.66666666666663},{"$f":"MIN((V157+AL35*D19)/AK44,(V158+AL35*D19)/AL44,(V159+AL35*D19)/AM44,(V160+AL35*D19)/AN44,(V161+AL35*D19)/AO44)*AP44","v":409.33333333333337},{"$f":"MIN((W157+AL35*D19)/AK44,(W158+AL35*D19)/AL44,(W159+AL35*D19)/AM44,(W160+AL35*D19)/AN44,(W161+AL35*D19)/AO44)*AP44","v":366.66666666666663},{"$f":"MIN((X157+AL35*D19)/AK44,(X158+AL35*D19)/AL44,(X159+AL35*D19)/AM44,(X160+AL35*D19)/AN44,(X161+AL35*D19)/AO44)*AP44","v":404},{"$f":"MIN((Y157+AL35*D19)/AK44,(Y158+AL35*D19)/AL44,(Y159+AL35*D19)/AM44,(Y160+AL35*D19)/AN44,(Y161+AL35*D19)/AO44)*AP44","v":407.33333333333331},{"$f":"MIN((Z157+AL35*D19)/AK44,(Z158+AL35*D19)/AL44,(Z159+AL35*D19)/AM44,(Z160+AL35*D19)/AN44,(Z161+AL35*D19)/AO44)*AP44","v":366.66666666666663},{"$f":"MIN((AA157+AL35*D19)/AK44,(AA158+AL35*D19)/AL44,(AA159+AL35*D19)/AM44,(AA160+AL35*D19)/AN44,(AA161+AL35*D19)/AO44)*AP44","v":407.33333333333331},{"$f":"MIN((AB157+AL35*D19)/AK44,(AB158+AL35*D19)/AL44,(AB159+AL35*D19)/AM44,(AB160+AL35*D19)/AN44,(AB161+AL35*D19)/AO44)*AP44","v":409.33333333333337},{"$f":"MIN((AC157+AL35*D19)/AK44,(AC158+AL35*D19)/AL44,(AC159+AL35*D19)/AM44,(AC160+AL35*D19)/AN44,(AC161+AL35*D19)/AO44)*AP44","v":404},{"$f":"MIN((AD157+AL35*D19)/AK44,(AD158+AL35*D19)/AL44,(AD159+AL35*D19)/AM44,(AD160+AL35*D19)/AN44,(AD161+AL35*D19)/AO44)*AP44","v":366.66666666666663},{"$f":"MIN((AE157+AL35*D19)/AK44,(AE158+AL35*D19)/AL44,(AE159+AL35*D19)/AM44,(AE160+AL35*D19)/AN44,(AE161+AL35*D19)/AO44)*AP44","v":406.66666666666663},{"$f":"MIN((AF157+AL35*D19)/AK44,(AF158+AL35*D19)/AL44,(AF159+AL35*D19)/AM44,(AF160+AL35*D19)/AN44,(AF161+AL35*D19)/AO44)*AP44","v":409.33333333333337},412.66666666666669,null,"corée du sud 3 ",{"$f":"MIN((S157+AM35*D19)/AK45,(S158+AM35*D19)/AL45,(S159+AM35*D19)/AM45,(S160+AM35*D19)/AN45,(S161+AM35*D19)/AO45)*AP45","v":406.66666666666663},{"$f":"MIN((T157+AM35*D19)/AK45,(T158+AM35*D19)/AL45,(T159+AM35*D19)/AM45,(T160+AM35*D19)/AN45,(T161+AM35*D19)/AO45)*AP45","v":425.33333333333331},{"$f":"MIN((U157+AM35*D19)/AK45,(U158+AM35*D19)/AL45,(U159+AM35*D19)/AM45,(U160+AM35*D19)/AN45,(U161+AM35*D19)/AO45)*AP45","v":379.33333333333337},{"$f":"MIN((V157+AM35*D19)/AK45,(V158+AM35*D19)/AL45,(V159+AM35*D19)/AM45,(V160+AM35*D19)/AN45,(V161+AM35*D19)/AO45)*AP45","v":428},{"$f":"MIN((W157+AM35*D19)/AK45,(W158+AM35*D19)/AL45,(W159+AM35*D19)/AM45,(W160+AM35*D19)/AN45,(W161+AM35*D19)/AO45)*AP45","v":379.33333333333337},{"$f":"MIN((X157+AM35*D19)/AK45,(X158+AM35*D19)/AL45,(X159+AM35*D19)/AM45,(X160+AM35*D19)/AN45,(X161+AM35*D19)/AO45)*AP45","v":424.8},{"$f":"MIN((Y157+AM35*D19)/AK45,(Y158+AM35*D19)/AL45,(Y159+AM35*D19)/AM45,(Y160+AM35*D19)/AN45,(Y161+AM35*D19)/AO45)*AP45","v":420},{"$f":"MIN((Z157+AM35*D19)/AK45,(Z158+AM35*D19)/AL45,(Z159+AM35*D19)/AM45,(Z160+AM35*D19)/AN45,(Z161+AM35*D19)/AO45)*AP45","v":379.33333333333337},{"$f":"MIN((AA157+AM35*D19)/AK45,(AA158+AM35*D19)/AL45,(AA159+AM35*D19)/AM45,(AA160+AM35*D19)/AN45,(AA161+AM35*D19)/AO45)*AP45","v":420},{"$f":"MIN((AB157+AM35*D19)/AK45,(AB158+AM35*D19)/AL45,(AB159+AM35*D19)/AM45,(AB160+AM35*D19)/AN45,(AB161+AM35*D19)/AO45)*AP45","v":416.66666666666669},{"$f":"MIN((AC157+AM35*D19)/AK45,(AC158+AM35*D19)/AL45,(AC159+AM35*D19)/AM45,(AC160+AM35*D19)/AN45,(AC161+AM35*D19)/AO45)*AP45","v":420},{"$f":"MIN((AD157+AM35*D19)/AK45,(AD158+AM35*D19)/AL45,(AD159+AM35*D19)/AM45,(AD160+AM35*D19)/AN45,(AD161+AM35*D19)/AO45)*AP45","v":379.33333333333337},{"$f":"MIN((AE157+AM35*D19)/AK45,(AE158+AM35*D19)/AL45,(AE159+AM35*D19)/AM45,(AE160+AM35*D19)/AN45,(AE161+AM35*D19)/AO45)*AP45","v":409.99999999999994},{"$f":"MIN((AF157+AM35*D19)/AK45,(AF158+AM35*D19)/AL45,(AF159+AM35*D19)/AM45,(AF160+AM35*D19)/AN45,(AF161+AM35*D19)/AO45)*AP45","v":413.33333333333337},428,null,{"$f":"BB109","v":"kit 1"},"kit 2/3",0,"kit 4",0,"kit 5","kit 6/7",0,0,"kit 8","kit 9",0,"kit 10","kit 11",null,"comparaison",null,null,"def ME","def A","raison","def ME","def A","raison","def ME","def A","raison","def ME","def A","raison","def ME","def A","raison","def ME","def A","raison","def ME","def A","raison","def ME","def A","raison","def ME","def A","raison","def ME","def A","raison","def ME","def A","raison","def ME","def A","raison"]
[null,null,null,null,2.2479499999999999,2.2700000000000001E-2,2.2706499999999998,2.0435500000000002,0.22705,2.2706000000000004,1.6348499999999999,0.18165000000000001,1.8165,1.6348499999999999,0.18165000000000001,1.8165,null,{"$f":"L16+AH43+D15+D17+D21+D19*AG13","v":500},{"$f":"R98+Q14","v":556},{"$f":"R98+R14","v":552},{"$f":"R98+S14","v":500},{"$f":"R98+T14","v":545},{"$f":"R98+U14","v":500},{"$f":"R98+V14","v":556},{"$f":"R98+W14","v":553},{"$f":"R98+X14","v":500},{"$f":"R98+Y14","v":553},{"$f":"R98+Z14","v":548},{"$f":"R98+AA14","v":549},{"$f":"R98+AB14","v":500},{"$f":"R98+AC14","v":560},{"$f":"R98+AD14","v":544},null,null,null,"france 11 ",{"$f":"MIN((S164+AL35*D19)/AK44,(S165+AL35*D19)/AL44,(S166+AL35*D19)/AM44,(S167+AL35*D19)/AN44,(S168+AL35*D19)/AO44)*AP44","v":392.66666666666669},{"$f":"MIN((T164+AL35*D19)/AK44,(T165+AL35*D19)/AL44,(T166+AL35*D19)/AM44,(T167+AL35*D19)/AN44,(T168+AL35*D19)/AO44)*AP44","v":422},{"$f":"MIN((U164+AL35*D19)/AK44,(U165+AL35*D19)/AL44,(U166+AL35*D19)/AM44,(U167+AL35*D19)/AN44,(U168+AL35*D19)/AO44)*AP44","v":376},{"$f":"MIN((V164+AL35*D19)/AK44,(V165+AL35*D19)/AL44,(V166+AL35*D19)/AM44,(V167+AL35*D19)/AN44,(V168+AL35*D19)/AO44)*AP44","v":418.66666666666663},{"$f":"MIN((W164+AL35*D19)/AK44,(W165+AL35*D19)/AL44,(W166+AL35*D19)/AM44,(W167+AL35*D19)/AN44,(W168+AL35*D19)/AO44)*AP44","v":376},{"$f":"MIN((X164+AL35*D19)/AK44,(X165+AL35*D19)/AL44,(X166+AL35*D19)/AM44,(X167+AL35*D19)/AN44,(X168+AL35*D19)/AO44)*AP44","v":413.33333333333337},{"$f":"MIN((Y164+AL35*D19)/AK44,(Y165+AL35*D19)/AL44,(Y166+AL35*D19)/AM44,(Y167+AL35*D19)/AN44,(Y168+AL35*D19)/AO44)*AP44","v":416.66666666666669},{"$f":"MIN((Z164+AL35*D19)/AK44,(Z165+AL35*D19)/AL44,(Z166+AL35*D19)/AM44,(Z167+AL35*D19)/AN44,(Z168+AL35*D19)/AO44)*AP44","v":376},{"$f":"MIN((AA164+AL35*D19)/AK44,(AA165+AL35*D19)/AL44,(AA166+AL35*D19)/AM44,(AA167+AL35*D19)/AN44,(AA168+AL35*D19)/AO44)*AP44","v":416.66666666666669},{"$f":"MIN((AB164+AL35*D19)/AK44,(AB165+AL35*D19)/AL44,(AB166+AL35*D19)/AM44,(AB167+AL35*D19)/AN44,(AB168+AL35*D19)/AO44)*AP44","v":418.66666666666663},{"$f":"MIN((AC164+AL35*D19)/AK44,(AC165+AL35*D19)/AL44,(AC166+AL35*D19)/AM44,(AC167+AL35*D19)/AN44,(AC168+AL35*D19)/AO44)*AP44","v":413.33333333333337},{"$f":"MIN((AD164+AL35*D19)/AK44,(AD165+AL35*D19)/AL44,(AD166+AL35*D19)/AM44,(AD167+AL35*D19)/AN44,(AD168+AL35*D19)/AO44)*AP44","v":376},{"$f":"MIN((AE164+AL35*D19)/AK44,(AE165+AL35*D19)/AL44,(AE166+AL35*D19)/AM44,(AE167+AL35*D19)/AN44,(AE168+AL35*D19)/AO44)*AP44","v":416},{"$f":"MIN((AF164+AL35*D19)/AK44,(AF165+AL35*D19)/AL44,(AF166+AL35*D19)/AM44,(AF167+AL35*D19)/AN44,(AF168+AL35*D19)/AO44)*AP44","v":418.66666666666663},422,null,"france 11 ",{"$f":"MIN((S164+AM35*D19)/AK45,(S165+AM35*D19)/AL45,(S166+AM35*D19)/AM45,(S167+AM35*D19)/AN45,(S168+AM35*D19)/AO45)*AP45","v":359.33333333333331},{"$f":"MIN((T164+AM35*D19)/AK45,(T165+AM35*D19)/AL45,(T166+AM35*D19)/AM45,(T167+AM35*D19)/AN45,(T168+AM35*D19)/AO45)*AP45","v":378},{"$f":"MIN((U164+AM35*D19)/AK45,(U165+AM35*D19)/AL45,(U166+AM35*D19)/AM45,(U167+AM35*D19)/AN45,(U168+AM35*D19)/AO45)*AP45","v":332},{"$f":"MIN((V164+AM35*D19)/AK45,(V165+AM35*D19)/AL45,(V166+AM35*D19)/AM45,(V167+AM35*D19)/AN45,(V168+AM35*D19)/AO45)*AP45","v":380.66666666666669},{"$f":"MIN((W164+AM35*D19)/AK45,(W165+AM35*D19)/AL45,(W166+AM35*D19)/AM45,(W167+AM35*D19)/AN45,(W168+AM35*D19)/AO45)*AP45","v":332},{"$f":"MIN((X164+AM35*D19)/AK45,(X165+AM35*D19)/AL45,(X166+AM35*D19)/AM45,(X167+AM35*D19)/AN45,(X168+AM35*D19)/AO45)*AP45","v":378.66666666666669},{"$f":"MIN((Y164+AM35*D19)/AK45,(Y165+AM35*D19)/AL45,(Y166+AM35*D19)/AM45,(Y167+AM35*D19)/AN45,(Y168+AM35*D19)/AO45)*AP45","v":372.66666666666663},{"$f":"MIN((Z164+AM35*D19)/AK45,(Z165+AM35*D19)/AL45,(Z166+AM35*D19)/AM45,(Z167+AM35*D19)/AN45,(Z168+AM35*D19)/AO45)*AP45","v":332},{"$f":"MIN((AA164+AM35*D19)/AK45,(AA165+AM35*D19)/AL45,(AA166+AM35*D19)/AM45,(AA167+AM35*D19)/AN45,(AA168+AM35*D19)/AO45)*AP45","v":372.66666666666663},{"$f":"MIN((AB164+AM35*D19)/AK45,(AB165+AM35*D19)/AL45,(AB166+AM35*D19)/AM45,(AB167+AM35*D19)/AN45,(AB168+AM35*D19)/AO45)*AP45","v":369.33333333333331},{"$f":"MIN((AC164+AM35*D19)/AK45,(AC165+AM35*D19)/AL45,(AC166+AM35*D19)/AM45,(AC167+AM35*D19)/AN45,(AC168+AM35*D19)/AO45)*AP45","v":372.66666666666663},{"$f":"MIN((AD164+AM35*D19)/AK45,(AD165+AM35*D19)/AL45,(AD166+AM35*D19)/AM45,(AD167+AM35*D19)/AN45,(AD168+AM35*D19)/AO45)*AP45","v":332},{"$f":"MIN((AE164+AM35*D19)/AK45,(AE165+AM35*D19)/AL45,(AE166+AM35*D19)/AM45,(AE167+AM35*D19)/AN45,(AE168+AM35*D19)/AO45)*AP45","v":362.66666666666663},{"$f":"MIN((AF164+AM35*D19)/AK45,(AF165+AM35*D19)/AL45,(AF166+AM35*D19)/AM45,(AF167+AM35*D19)/AN45,(AF168+AM35*D19)/AO45)*AP45","v":366},380.66666666666669,null,{"$f":"BB109","v":"kit 1"},"kit 2/3",0,"kit 4",0,"kit 5","kit 6/7",0,0,"kit 8","kit 9",0,"kit 10","kit 11",null,"mon équipe",541,"def",{"$f":"$CJ$74/CK75","v":{"$error":"#N/A"}},{"$f":"CJ75/$CK$74","v":{"$error":"#N/A"}},{"$f":"CJ98-CK98","v":{"$error":"#N/A"}},{"$f":"$CM$74/CK75","v":{"$error":"#N/A"}},{"$f":"CJ75/$CN$74","v":{"$error":"#N/A"}},{"$f":"CM98-CN98","v":{"$error":"#N/A"}},{"$f":"$CP$74/CK75","v":{"$error":"#N/A"}},{"$f":"CJ75/$CQ$74","v":{"$error":"#N/A"}},{"$f":"CP98-CQ98","v":{"$error":"#N/A"}},{"$f":"1.15*$CS$74/CK75","v":{"$error":"#N/A"}},{"$f":"CJ75/(1.15*$CT$74)","v":{"$error":"#N/A"}},{"$f":"CS98-CT98","v":{"$error":"#N/A"}},{"$f":"1.15*$CV$74/CK75","v":{"$error":"#N/A"}},{"$f":"CJ75/(1.15*$CW$74)","v":{"$error":"#N/A"}},{"$f":"CV98-CW98","v":{"$error":"#N/A"}},{"$f":"1.15*$CY$74/CK75","v":{"$error":"#N/A"}},{"$f":"CJ75/(1.15*$CZ$74)","v":{"$error":"#N/A"}},{"$f":"CY98-CZ98","v":{"$error":"#N/A"}},{"$f":"$DB$74/(1.15*CK75)","v":{"$error":"#N/A"}},{"$f":"1.15*CJ75/$DC$74","v":{"$error":"#N/A"}},{"$f":"DB98-DC98","v":{"$error":"#N/A"}},{"$f":"$DE$74/(1.15*CK75)","v":{"$error":"#N/A"}},{"$f":"1.15*CJ75/$DF$74","v":{"$error":"#N/A"}},{"$f":"DE98-DF98","v":{"$error":"#N/A"}},{"$f":"$DH$74/(1.15*CK75)","v":{"$error":"#N/A"}},{"$f":"1.15*CJ75/$DI$74","v":{"$error":"#N/A"}},{"$f":"DH98-DI98","v":{"$error":"#N/A"}},{"$f":"$DK$74/CK75","v":{"$error":"#N/A"}},{"$f":"CJ75/$DL$74","v":{"$error":"#N/A"}},{"$f":"DK98-DL98","v":{"$error":"#N/A"}},{"$f":"$DN$74/CK75","v":{"$error":"#N/A"}},{"$f":"CJ75/$DO$74","v":{"$error":"#N/A"}},{"$f":"DN98-DO98","v":{"$error":"#N/A"}},{"$f":"$DQ$74/CK75","v":{"$error":"#N/A"}},{"$f":"CJ75/$DR$74","v":{"$error":"#N/A"}},{"$f":"DQ98-DR98","v":{"$error":"#N/A"}}]
[null,null,null,null,1.4532,0.36330000000000001,1.8165,1.6348499999999999,0.18165000000000001,1.8165,1.0899000000000001,0.27245000000000003,1.3623500000000002,1.9073500000000001,0.81740000000000002,2.7247500000000002,null,null,null,null,null,null,null,null,null,null,null,null,null,null,null,null,null,null,null,"france 2 ",{"$f":"MIN((S171+AL35*D19)/AK44,(S172+AL35*D19)/AL44,(S173+AL35*D19)/AM44,(S174+AL35*D19)/AN44,(S175+AL35*D19)/AO44)*AP44","v":402.66666666666663},{"$f":"MIN((T171+AL35*D19)/AK44,(T172+AL35*D19)/AL44,(T173+AL35*D19)/AM44,(T174+AL35*D19)/AN44,(T175+AL35*D19)/AO44)*AP44","v":432},{"$f":"MIN((U171+AL35*D19)/AK44,(U172+AL35*D19)/AL44,(U173+AL35*D19)/AM44,(U174+AL35*D19)/AN44,(U175+AL35*D19)/AO44)*AP44","v":386},{"$f":"MIN((V171+AL35*D19)/AK44,(V172+AL35*D19)/AL44,(V173+AL35*D19)/AM44,(V174+AL35*D19)/AN44,(V175+AL35*D19)/AO44)*AP44","v":428.66666666666669},{"$f":"MIN((W171+AL35*D19)/AK44,(W172+AL35*D19)/AL44,(W173+AL35*D19)/AM44,(W174+AL35*D19)/AN44,(W175+AL35*D19)/AO44)*AP44","v":386},{"$f":"MIN((X171+AL35*D19)/AK44,(X172+AL35*D19)/AL44,(X173+AL35*D19)/AM44,(X174+AL35*D19)/AN44,(X175+AL35*D19)/AO44)*AP44","v":423.33333333333331},{"$f":"MIN((Y171+AL35*D19)/AK44,(Y172+AL35*D19)/AL44,(Y173+AL35*D19)/AM44,(Y174+AL35*D19)/AN44,(Y175+AL35*D19)/AO44)*AP44","v":426.66666666666669},{"$f":"MIN((Z171+AL35*D19)/AK44,(Z172+AL35*D19)/AL44,(Z173+AL35*D19)/AM44,(Z174+AL35*D19)/AN44,(Z175+AL35*D19)/AO44)*AP44","v":386},{"$f":"MIN((AA171+AL35*D19)/AK44,(AA172+AL35*D19)/AL44,(AA173+AL35*D19)/AM44,(AA174+AL35*D19)/AN44,(AA175+AL35*D19)/AO44)*AP44","v":426.66666666666669},{"$f":"MIN((AB171+AL35*D19)/AK44,(AB172+AL35*D19)/AL44,(AB173+AL35*D19)/AM44,(AB174+AL35*D19)/AN44,(AB175+AL35*D19)/AO44)*AP44","v":428.66666666666669},{"$f":"MIN((AC171+AL35*D19)/AK44,(AC172+AL35*D19)/AL44,(AC173+AL35*D19)/AM44,(AC174+AL35*D19)/AN44,(AC175+AL35*D19)/AO44)*AP44","v":423.33333333333331},{"$f":"MIN((AD171+AL35*D19)/AK44,(AD172+AL35*D19)/AL44,(AD173+AL35*D19)/AM44,(AD174+AL35*D19)/AN44,(AD175+AL35*D19)/AO44)*AP44","v":386},{"$f":"MIN((AE171+AL35*D19)/AK44,(AE172+AL35*D19)/AL44,(AE173+AL35*D19)/AM44,(AE174+AL35*D19)/AN44,(AE175+AL35*D19)/AO44)*AP44","v":426},{"$f":"MIN((AF171+AL35*D19)/AK44,(AF172+AL35*D19)/AL44,(AF173+AL35*D19)/AM44,(AF174+AL35*D19)/AN44,(AF175+AL35*D19)/AO44)*AP44","v":428.66666666666669},432,null,"france 2 ",{"$f":"MIN((S171+AM35*D19)/AK45,(S172+AM35*D19)/AL45,(S173+AM35*D19)/AM45,(S174+AM35*D19)/AN45,(S175+AM35*D19)/AO45)*AP45","v":429.33333333333331},{"$f":"MIN((T171+AM35*D19)/AK45,(T172+AM35*D19)/AL45,(T173+AM35*D19)/AM45,(T174+AM35*D19)/AN45,(T175+AM35*D19)/AO45)*AP45","v":448.00000000000006},{"$f":"MIN((U171+AM35*D19)/AK45,(U172+AM35*D19)/AL45,(U173+AM35*D19)/AM45,(U174+AM35*D19)/AN45,(U175+AM35*D19)/AO45)*AP45","v":401.99999999999994},{"$f":"MIN((V171+AM35*D19)/AK45,(V172+AM35*D19)/AL45,(V173+AM35*D19)/AM45,(V174+AM35*D19)/AN45,(V175+AM35*D19)/AO45)*AP45","v":450.66666666666669},{"$f":"MIN((W171+AM35*D19)/AK45,(W172+AM35*D19)/AL45,(W173+AM35*D19)/AM45,(W174+AM35*D19)/AN45,(W175+AM35*D19)/AO45)*AP45","v":401.99999999999994},{"$f":"MIN((X171+AM35*D19)/AK45,(X172+AM35*D19)/AL45,(X173+AM35*D19)/AM45,(X174+AM35*D19)/AN45,(X175+AM35*D19)/AO45)*AP45","v":448.66666666666663},{"$f":"MIN((Y171+AM35*D19)/AK45,(Y172+AM35*D19)/AL45,(Y173+AM35*D19)/AM45,(Y174+AM35*D19)/AN45,(Y175+AM35*D19)/AO45)*AP45","v":442.66666666666669},{"$f":"MIN((Z171+AM35*D19)/AK45,(Z172+AM35*D19)/AL45,(Z173+AM35*D19)/AM45,(Z174+AM35*D19)/AN45,(Z175+AM35*D19)/AO45)*AP45","v":401.99999999999994},{"$f":"MIN((AA171+AM35*D19)/AK45,(AA172+AM35*D19)/AL45,(AA173+AM35*D19)/AM45,(AA174+AM35*D19)/AN45,(AA175+AM35*D19)/AO45)*AP45","v":442.66666666666669},{"$f":"MIN((AB171+AM35*D19)/AK45,(AB172+AM35*D19)/AL45,(AB173+AM35*D19)/AM45,(AB174+AM35*D19)/AN45,(AB175+AM35*D19)/AO45)*AP45","v":439.33333333333337},{"$f":"MIN((AC171+AM35*D19)/AK45,(AC172+AM35*D19)/AL45,(AC173+AM35*D19)/AM45,(AC174+AM35*D19)/AN45,(AC175+AM35*D19)/AO45)*AP45","v":442.66666666666669},{"$f":"MIN((AD171+AM35*D19)/AK45,(AD172+AM35*D19)/AL45,(AD173+AM35*D19)/AM45,(AD174+AM35*D19)/AN45,(AD175+AM35*D19)/AO45)*AP45","v":401.99999999999994},{"$f":"MIN((AE171+AM35*D19)/AK45,(AE172+AM35*D19)/AL45,(AE173+AM35*D19)/AM45,(AE174+AM35*D19)/AN45,(AE175+AM35*D19)/AO45)*AP45","v":432.66666666666669},{"$f":"MIN((AF171+AM35*D19)/AK45,(AF172+AM35*D19)/AL45,(AF173+AM35*D19)/AM45,(AF174+AM35*D19)/AN45,(AF175+AM35*D19)/AO45)*AP45","v":436.00000000000006},450.66666666666669,null,{"$f":"BB109","v":"kit 1"},"kit 2/3",0,"kit 4",0,"kit 5","kit 6/7",0,0,"kit 8","kit 9",0,"kit 10","kit 11",null,null,null,"neutre",{"$f":"$CJ$74/CN75","v":{"$error":"#N/A"}},{"$f":"CM75/$CK$74","v":{"$error":"#N/A"}},{"$error":"#N/A"},{"$f":"$CM$74/CN75","v":{"$error":"#N/A"}},{"$f":"CM75/$CN$74","v":{"$error":"#N/A"}},{"$error":"#N/A"},{"$f":"$CP$74/CN75","v":{"$error":"#N/A"}},{"$f":"CM75/$CQ$74","v":{"$error":"#N/A"}},{"$error":"#N/A"},{"$f":"1.15*$CS$74/CN75","v":{"$error":"#N/A"}},{"$f":"CM75/(1.15*$CT$74)","v":{"$error":"#N/A"}},{"$error":"#N/A"},{"$f":"1.15*$CV$74/CN75","v":{"$error":"#N/A"}},{"$f":"CM75/(1.15*$CW$74)","v":{"$error":"#N/A"}},{"$error":"#N/A"},{"$f":"1.15*$CY$74/CN75","v":{"$error":"#N/A"}},{"$f":"CM75/(1.15*$CZ$74)","v":{"$error":"#N/A"}},{"$error":"#N/A"},{"$f":"$DB$74/(1.15*CN75)","v":{"$error":"#N/A"}},{"$f":"1.15*CM75/$DC$74","v":{"$error":"#N/A"}},{"$error":"#N/A"},{"$f":"$DE$74/(1.15*CN75)","v":{"$error":"#N/A"}},{"$f":"1.15*CM75/$DF$74","v":{"$error":"#N/A"}},{"$error":"#N/A"},{"$f":"$DH$74/(1.15*CN75)","v":{"$error":"#N/A"}},{"$f":"1.15*CM75/$DI$74","v":{"$error":"#N/A"}},{"$error":"#N/A"},{"$f":"$DK$74/CN75","v":{"$error":"#N/A"}},{"$f":"CM75/$DL$74","v":{"$error":"#N/A"}},{"$error":"#N/A"},{"$f":"$DN$74/CN75","v":{"$error":"#N/A"}},{"$f":"CM75/$DO$74","v":{"$error":"#N/A"}},{"$error":"#N/A"},{"$f":"$DQ$74/CN75","v":{"$error":"#N/A"}},{"$f":"CM75/$DR$74","v":{"$error":"#N/A"}},{"$error":"#N/A"}]
[null,null,null,null,0.95365,0.40870000000000001,1.3623499999999999,2.4523000000000001,0.27245000000000003,2.7247500000000002,1.4532,0.36330000000000001,1.8165,1.4532,0.36330000000000001,1.8165,null,{"$f":"G17","v":"grece 7 "},{"$f":"S93","v":"kit 1"},{"$f":"T93","v":"kit 2/3"},0,"kit 4",0,"kit 5","kit 6/7",0,0,"kit 8","kit 9",0,{"$f":"AE93","v":"kit 10"},{"$f":"AF93","v":"kit 11"},null,null,null,"italie 7 ",{"$f":"MIN((S178+$AL$35*$D$19)/$AK$44,(S179+$AL$35*$D$19)/$AL$44,(S180+$AL$35*$D$19)/$AM$44,(S181+$AL$35*$D$19)/$AN$44,(S182+$AL$35*$D$19)/$AO$44)*$AP$44","v":379.33333333333337},408.66666666666669,362.66666666666663,405.33333333333337,362.66666666666663,400,403.33333333333331,362.66666666666663,403.33333333333331,405.33333333333337,400,362.66666666666663,402.66666666666663,405.33333333333337,408.66666666666669,null,"italie 7 ",{"$f":"MIN((S178+$AM$35*$D$19)/$AK$45,(S179+$AM$35*$D$19)/$AL$45,(S180+$AM$35*$D$19)/$AM$45,(S181+$AM$35*$D$19)/$AN$45,(S182+$AM$35*$D$19)/$AO$45)*$AP$45","v":400.66666666666669},{"$f":"MIN((T178+AM35*D19)/AK45,(T179+AM35*D19)/AL45,(T180+AM35*D19)/AM45,(T181+AM35*D19)/AN45,(T182+AM35*D19)/AO45)*AP45","v":419.33333333333331},{"$f":"MIN((U178+AM35*D19)/AK45,(U179+AM35*D19)/AL45,(U180+AM35*D19)/AM45,(U181+AM35*D19)/AN45,(U182+AM35*D19)/AO45)*AP45","v":373.33333333333331},{"$f":"MIN((V178+AM35*D19)/AK45,(V179+AM35*D19)/AL45,(V180+AM35*D19)/AM45,(V181+AM35*D19)/AN45,(V182+AM35*D19)/AO45)*AP45","v":422},{"$f":"MIN((W178+AM35*D19)/AK45,(W179+AM35*D19)/AL45,(W180+AM35*D19)/AM45,(W181+AM35*D19)/AN45,(W182+AM35*D19)/AO45)*AP45","v":373.33333333333331},{"$f":"MIN((X178+AM35*D19)/AK45,(X179+AM35*D19)/AL45,(X180+AM35*D19)/AM45,(X181+AM35*D19)/AN45,(X182+AM35*D19)/AO45)*AP45","v":420},{"$f":"MIN((Y178+AM35*D19)/AK45,(Y179+AM35*D19)/AL45,(Y180+AM35*D19)/AM45,(Y181+AM35*D19)/AN45,(Y182+AM35*D19)/AO45)*AP45","v":413.99999999999994},{"$f":"MIN((Z178+AM35*D19)/AK45,(Z179+AM35*D19)/AL45,(Z180+AM35*D19)/AM45,(Z181+AM35*D19)/AN45,(Z182+AM35*D19)/AO45)*AP45","v":373.33333333333331},{"$f":"MIN((AA178+AM35*D19)/AK45,(AA179+AM35*D19)/AL45,(AA180+AM35*D19)/AM45,(AA181+AM35*D19)/AN45,(AA182+AM35*D19)/AO45)*AP45","v":413.99999999999994},{"$f":"MIN((AB178+AM35*D19)/AK45,(AB179+AM35*D19)/AL45,(AB180+AM35*D19)/AM45,(AB181+AM35*D19)/AN45,(AB182+AM35*D19)/AO45)*AP45","v":410.66666666666663},{"$f":"MIN((AC178+AM35*D19)/AK45,(AC179+AM35*D19)/AL45,(AC180+AM35*D19)/AM45,(AC181+AM35*D19)/AN45,(AC182+AM35*D19)/AO45)*AP45","v":413.99999999999994},{"$f":"MIN((AD178+AM35*D19)/AK45,(AD179+AM35*D19)/AL45,(AD180+AM35*D19)/AM45,(AD181+AM35*D19)/AN45,(AD182+AM35*D19)/AO45)*AP45","v":373.33333333333331},{"$f":"MIN((AE178+AM35*D19)/AK45,(AE179+AM35*D19)/AL45,(AE180+AM35*D19)/AM45,(AE181+AM35*D19)/AN45,(AE182+AM35*D19)/AO45)*AP45","v":404},{"$f":"MIN((AF178+AM35*D19)/AK45,(AF179+AM35*D19)/AL45,(AF180+AM35*D19)/AM45,(AF181+AM35*D19)/AN45,(AF182+AM35*D19)/AO45)*AP45","v":407.33333333333331},422,null,{"$f":"BB109","v":"kit 1"},"kit 2/3",0,"kit 4",0,"kit 5","kit 6/7",0,0,"kit 8","kit 9",0,"kit 10","kit 11",null,null,null,"off",{"$f":"$CJ$74/CQ75","v":{"$error":"#N/A"}},{"$f":"CP75/$CK$74","v":{"$error":"#N/A"}},{"$error":"#N/A"},{"$f":"$CM$74/CQ75","v":{"$error":"#N/A"}},{"$f":"CP75/$CN$74","v":{"$error":"#N/A"}},{"$error":"#N/A"},{"$f":"$CP$74/CQ75","v":{"$error":"#N/A"}},{"$f":"CP75/$CQ$74","v":{"$error":"#N/A"}},{"$error":"#N/A"},{"$f":"1.15*$CS$74/CQ75","v":{"$error":"#N/A"}},{"$f":"CP75/(1.15*$CT$74)","v":{"$error":"#N/A"}},{"$error":"#N/A"},{"$f":"1.15*$CV$74/CQ75","v":{"$error":"#N/A"}},{"$f":"CP75/(1.15*$CW$74)","v":{"$error":"#N/A"}},{"$error":"#N/A"},{"$f":"1.15*$CY$74/CQ75","v":{"$error":"#N/A"}},{"$f":"CP75/(1.15*$CZ$74)","v":{"$error":"#N/A"}},{"$error":"#N/A"},{"$f":"$DB$74/(1.15*CQ75)","v":{"$error":"#N/A"}},{"$f":"1.15*CP75/$DC$74","v":{"$error":"#N/A"}},{"$error":"#N/A"},{"$f":"$DE$74/(1.15*CQ75)","v":{"$error":"#N/A"}},{"$f":"1.15*CP75/$DF$74","v":{"$error":"#N/A"}},{"$error":"#N/A"},{"$f":"$DH$74/(1.15*CQ75)","v":{"$error":"#N/A"}},{"$f":"1.15*CP75/$DI$74","v":{"$error":"#N/A"}},{"$error":"#N/A"},{"$f":"$DK$74/CQ75","v":{"$error":"#N/A"}},{"$f":"CP75/$DL$74","v":{"$error":"#N/A"}},{"$error":"#N/A"},{"$f":"$DN$74/CQ75","v":{"$error":"#N/A"}},{"$f":"CP75/$DO$74","v":{"$error":"#N/A"}},{"$error":"#N/A"},{"$f":"$DQ$74/CQ75","v":{"$error":"#N/A"}},{"$f":"CP75/$DR$74","v":{"$error":"#N/A"}},{"$error":"#N/A"}]
[null,null,null,"total :",{"$f":"SUM(E90:E100)","v":9.9316499999999994},10.0497,{"$f":"SUM(G90:G100)","v":19.981349999999999},{"$f":"SUM(H90:H100)","v":13.9832},5.9927000000000001,19.975899999999999,11.952450000000001,8.0288000000000022,19.981250000000003,11.952500000000002,8.028850000000002,19.981350000000003,null,{"$f":"H17+AH39+D16+D17+D21+D19*AG14","v":582},{"$f":"R101+Q10","v":623},{"$f":"R101+R10","v":651},{"$f":"R101+S10","v":582},{"$f":"R101+T10","v":655},{"$f":"R101+U10","v":582},{"$f":"R101+V10","v":652},{"$f":"R101+W10","v":643},{"$f":"R101+X10","v":582},{"$f":"R101+Y10","v":643},{"$f":"R101+Z10","v":638},{"$f":"R101+AA10","v":643},{"$f":"R101+AB10","v":582},{"$f":"R101+AC10","v":628},{"$f":"R101+AD10","v":633},null,null,null,"japon 5 ",{"$f":"MIN((S185+$AL$35*$D$19)/$AK$44,(S186+$AL$35*$D$19)/$AL$44,(S187+$AL$35*$D$19)/$AM$44,(S188+$AL$35*$D$19)/$AN$44,(S189+$AL$35*$D$19)/$AO$44)*$AP$44","v":310},339.33333333333337,293.33333333333331,336,293.33333333333331,330.66666666666669,334,293.33333333333331,334,336,330.66666666666669,293.33333333333331,333.33333333333337,336,339.33333333333337,null,"japon 5 ",{"$f":"MIN((S185+$AM$35*$D$19)/$AK$45,(S186+$AM$35*$D$19)/$AL$45,(S187+$AM$35*$D$19)/$AM$45,(S188+$AM$35*$D$19)/$AN$45,(S189+$AM$35*$D$19)/$AO$45)*$AP$45","v":372},407.2,352,403.2,352,396.8,400.8,352,400.8,403.2,396.8,352,400,403.2,407.2,null,{"$f":"BB109","v":"kit 1"},"kit 2/3",0,"kit 4",0,"kit 5","kit 6/7",0,0,"kit 8","kit 9",0,"kit 10","kit 11",null,null,433,"def",{"$f":"$CJ$74/(CT75*1.15)","v":{"$error":"#N/A"}},{"$f":"CS75*1.15/$CK$74","v":{"$error":"#N/A"}},{"$error":"#N/A"},{"$f":"$CM$74/(1.15*CT75)","v":{"$error":"#N/A"}},{"$f":"1.15*CS75/$CN$74","v":{"$error":"#N/A"}},{"$error":"#N/A"},{"$f":"$CP$74/(1.15*CT75)","v":{"$error":"#N/A"}},{"$f":"1.15*CS75/$CQ$74","v":{"$error":"#N/A"}},{"$error":"#N/A"},{"$f":"$CS$74/CT75","v":{"$error":"#N/A"}},{"$f":"CS75/$CT$74","v":{"$error":"#N/A"}},{"$error":"#N/A"},{"$f":"$CV$74/CT75","v":{"$error":"#N/A"}},{"$f":"CS75/$CW$74","v":{"$error":"#N/A"}},{"$error":"#N/A"},{"$f":"$CY$74/CT75","v":{"$error":"#N/A"}},{"$f":"CS75/$CZ$74","v":{"$error":"#N/A"}},{"$error":"#N/A"},{"$f":"$DB$74/CT75","v":{"$error":"#N/A"}},{"$f":"CS75/$DC$74","v":{"$error":"#N/A"}},{"$error":"#N/A"},{"$f":"$DE$74/CT75","v":{"$error":"#N/A"}},{"$f":"CS75/$DF$74","v":{"$error":"#N/A"}},{"$error":"#N/A"},{"$f":"$DH$74/CT75","v":{"$error":"#N/A"}},{"$f":"CS75/$DI$74","v":{"$error":"#N/A"}},{"$error":"#N/A"},{"$f":"1.15*$DK$74/CT75","v":{"$error":"#N/A"}},{"$f":"CS75/(1.15*$DL$74)","v":{"$error":"#N/A"}},{"$error":"#N/A"},{"$f":"1.15*$DN$74/CT75","v":{"$error":"#N/A"}},{"$f":"CS75/(1.15*$DO$74)","v":{"$error":"#N/A"}},{"$error":"#N/A"},{"$f":"1.15*$DQ$74/CT75","v":{"$error":"#N/A"}},{"$f":"CS75/(1.15*$DR$74)","v":{"$error":"#N/A"}},{"$error":"#N/A"}]
[null,null,null,null,null,null,null,null,null,null,null,null,null,null,null,null,null,{"$f":"I17+AH40+D15+D17+D21+D19*AG14","v":595},{"$f":"R102+Q11","v":675},{"$f":"R102+R11","v":647},{"$f":"R102+S11","v":595},{"$f":"R102+T11","v":640},{"$f":"R102+U11","v":595},{"$f":"R102+V11","v":651},{"$f":"R102+W11","v":656},{"$f":"R102+X11","v":595},{"$f":"R102+Y11","v":656},{"$f":"R102+Z11","v":659},{"$f":"R102+AA11","v":663},{"$f":"R102+AB11","v":595},{"$f":"R102+AC11","v":663},{"$f":"R102+AD11","v":659},null,null,null,"nigeria 4 ",{"$f":"MIN((S192+$AL$35*$D$19)/$AK$44,(S193+$AL$35*$D$19)/$AL$44,(S194+$AL$35*$D$19)/$AM$44,(S195+$AL$35*$D$19)/$AN$44,(S196+$AL$35*$D$19)/$AO$44)*$AP$44","v":320.66666666666663},350,304,346.66666666666669,304,341.33333333333337,344.66666666666669,304,344.66666666666669,346.66666666666669,341.33333333333337,304,344,346.66666666666669,350,null,"nigeria 4 ",{"$f":"MIN((S192+$AM$35*$D$19)/$AK$45,(S193+$AM$35*$D$19)/$AL$45,(S194+$AM$35*$D$19)/$AM$45,(S195+$AM$35*$D$19)/$AN$45,(S196+$AM$35*$D$19)/$AO$45)*$AP$45","v":384.8},420,364.8,416,364.8,409.6,413.6,364.8,413.6,411.33333333333331,409.6,364.8,404.66666666666669,408,420,null,{"$f":"BB109","v":"kit 1"},"kit 2/3",0,"kit 4",0,"kit 5","kit 6/7",0,0,"kit 8","kit 9",0,"kit 10","kit 11",null,null,null,"neutre",{"$f":"$CJ$74/(CW75*1.15)","v":{"$error":"#N/A"}},{"$f":"CV75*1.15/$CK$74","v":{"$error":"#N/A"}},{"$error":"#N/A"},{"$f":"$CM$74/(1.15*CW75)","v":{"$error":"#N/A"}},{"$f":"1.15*CV75/$CN$74","v":{"$error":"#N/A"}},{"$error":"#N/A"},{"$f":"$CP$74/(1.15*CW75)","v":{"$error":"#N/A"}},{"$f":"1.15*CV75/$CQ$74","v":{"$error":"#N/A"}},{"$error":"#N/A"},{"$f":"$CS$74/CW75","v":{"$error":"#N/A"}},{"$f":"CV75/$CT$74","v":{"$error":"#N/A"}},{"$error":"#N/A"},{"$f":"$CV$74/CW75","v":{"$error":"#N/A"}},{"$f":"CV75/$CW$74","v":{"$error":"#N/A"}},{"$error":"#N/A"},{"$f":"$CY$74/CW75","v":{"$error":"#N/A"}},{"$f":"CV75/$CZ$74","v":{"$error":"#N/A"}},{"$error":"#N/A"},{"$f":"$DB$74/CW75","v":{"$error":"#N/A"}},{"$f":"CV75/$DC$74","v":{"$error":"#N/A"}},{"$error":"#N/A"},{"$f":"$DE$74/CW75","v":{"$error":"#N/A"}},{"$f":"CV75/$DF$74","v":{"$error":"#N/A"}},{"$error":"#N/A"},{"$f":"$DH$74/CW75","v":{"$error":"#N/A"}},{"$f":"CV75/$DI$74","v":{"$error":"#N/A"}},{"$error":"#N/A"},{"$f":"1.15*$DK$74/CW75","v":{"$error":"#N/A"}},{"$f":"CV75/(1.15*$DL$74)","v":{"$error":"#N/A"}},{"$error":"#N/A"},{"$f":"1.15*$DN$74/CW75","v":{"$error":"#N/A"}},{"$f":"CV75/(1.15*$DO$74)","v":{"$error":"#N/A"}},{"$error":"#N/A"},{"$f":"1.15*$DQ$74/CW75","v":{"$error":"#N/A"}},{"$f":"CV75/(1.15*$DR$74)","v":{"$error":"#N/A"}},{"$error":"#N/A"}]
[null,null,null,"Calcul du capitaine",null,null,"ss kit ss vitamine","kit ss vit","kit + vit",null,null,null,null,null,null,null,null,{"$f":"J17+AH41+D15+D17+D21+D19*AG14","v":569},{"$f":"R103+Q12","v":610},{"$f":"R103+R12","v":629},{"$f":"R103+S12","v":569},{"$f":"R103+T12","v":642},{"$f":"R103+U12","v":569},{"$f":"R103+V12","v":625},{"$f":"R103+W12","v":630},{"$f":"R103+X12","v":569},{"$f":"R103+Y12","v":630},{"$f":"R103+Z12","v":633},{"$f":"R103+AA12","v":637},{"$f":"R103+AB12","v":569},{"$f":"R103+AC12","v":622},{"$f":"R103+AD12","v":640},null,null,null,"slovaquie 7 ",{"$f":"MIN((S199+$AL$35*$D$19)/$AK$44,(S200+$AL$35*$D$19)/$AL$44,(S201+$AL$35*$D$19)/$AM$44,(S202+$AL$35*$D$19)/$AN$44,(S203+$AL$35*$D$19)/$AO$44)*$AP$44","v":320},349.33333333333331,303.33333333333331,346,303.33333333333331,340.66666666666669,344,303.33333333333331,344,346,340.66666666666669,303.33333333333331,343.33333333333331,346,349.33333333333331,null,"slovaquie 7 ",{"$f":"MIN((S199+$AM$35*$D$19)/$AK$45,(S200+$AM$35*$D$19)/$AL$45,(S201+$AM$35*$D$19)/$AM$45,(S202+$AM$35*$D$19)/$AN$45,(S203+$AM$35*$D$19)/$AO$45)*$AP$45","v":358.66666666666663},377.33333333333337,331.33333333333337,380,331.33333333333337,378,372,331.33333333333337,372,368.66666666666663,372,331.33333333333337,362,365.33333333333331,380,null,{"$f":"BB109","v":"kit 1"},{"$f":"$BC$109","v":"kit 2/3"},{"$f":"$BD$109","v":0},{"$f":"$BE$109","v":"kit 4"},{"$f":"$BF$109","v":0},{"$f":"$BG$109","v":"kit 5"},{"$f":"$BH$109","v":"kit 6/7"},{"$f":"$BI$109","v":0},{"$f":"$BJ$109","v":0},{"$f":"$BK$109","v":"kit 8"},{"$f":"$BL$109","v":"kit 9"},{"$f":"$BM$109","v":0},{"$f":"$BN$109","v":"kit 10"},{"$f":"$BO$109","v":"kit 11"},null,null,null,"off",{"$f":"$CJ$74/(CZ75*1.15)","v":{"$error":"#N/A"}},{"$f":"CY75*1.15/$CK$74","v":{"$error":"#N/A"}},{"$error":"#N/A"},{"$f":"$CM$74/(1.15*CZ75)","v":{"$error":"#N/A"}},{"$f":"1.15*CY75/$CN$74","v":{"$error":"#N/A"}},{"$error":"#N/A"},{"$f":"$CP$74/(1.15*CZ75)","v":{"$error":"#N/A"}},{"$f":"1.15*CY75/$CQ$74","v":{"$error":"#N/A"}},{"$error":"#N/A"},{"$f":"$CS$74/CZ75","v":{"$error":"#N/A"}},{"$f":"CY75/$CT$74","v":{"$error":"#N/A"}},{"$error":"#N/A"},{"$f":"$CV$74/CZ75","v":{"$error":"#N/A"}},{"$f":"CY75/$CW$74","v":{"$error":"#N/A"}},{"$error":"#N/A"},{"$f":"$CY$74/CZ75","v":{"$error":"#N/A"}},{"$f":"CY75/$CZ$74","v":{"$error":"#N/A"}},{"$error":"#N/A"},{"$f":"$DB$74/CZ75","v":{"$error":"#N/A"}},{"$f":"CY75/$DC$74","v":{"$error":"#N/A"}},{"$error":"#N/A"},{"$f":"$DE$74/CZ75","v":{"$error":"#N/A"}},{"$f":"CY75/$DF$74","v":{"$error":"#N/A"}},{"$error":"#N/A"},{"$f":"$DH$74/CZ75","v":{"$error":"#N/A"}},{"$f":"CY75/$DI$74","v":{"$error":"#N/A"}},{"$error":"#N/A"},{"$f":"1.15*$DK$74/CZ75","v":{"$error":"#N/A"}},{"$f":"CY75/(1.15*$DL$74)","v":{"$error":"#N/A"}},{"$error":"#N/A"},{"$f":"1.15*$DN$74/CZ75","v":{"$error":"#N/A"}},{"$f":"CY75/(1.15*$DO$74)","v":{"$error":"#N/A"}},{"$error":"#N/A"},{"$f":"1.15*$DQ$74/CZ75","v":{"$error":"#N/A"}},{"$f":"CY75/(1.15*$DR$74)","v":{"$error":"#N/A"}},{"$error":"#N/A"}]
[null,null,null,{"$f":"IF(MAX($I$104:$I$128)=I104,\"CAP\",\"\")","v":""},{"$f":"IF(G11<>\"\",G11,\"\")","v":"espagne 9 "},{"$f":"VLOOKUP(E104,$AI$8:$AV$33,14,FALSE)","v":1},{"$f":"IF(G11<>\"\",(L11/100+MIN(5000,M11)/500)/100,\"\")","v":5.638E-2},{"$f":"IF(G11<>\"\",IF(ISNA(IF(VLOOKUP(G11,$AI$8:$AV$33,14,FALSE)=\"\",\"\",(HLOOKUP(VLOOKUP(G11,$BA$10:$BB$20,2,FALSE),S58:AF63,6,FALSE)/100+MIN(5000,M11)/500)/100)),G104,IF(VLOOKUP(G11,$AI$8:$AV$33,14,FALSE)=\"\",\"\",(HLOOKUP(VLOOKUP(G11,$BA$10:$BB$20,2,FALSE),S58:AF63,6,FALSE)/100+MIN(5000,M11)/500)/100)),\"\")","v":7.397999999999999E-2},{"$f":"IF(G11<>\"\",IF(ISNA(IF(VLOOKUP(G11,$AI$8:$AV$29,14,FALSE)=\"\",\"\",((HLOOKUP(VLOOKUP(G11,$BA$10:$BB$20,2,FALSE),$S$58:$AF$63,6,FALSE)+IF(HLOOKUP(F104,$AJ$7:$AT$35,29,FALSE)=1,D19,0))/100+MIN(5000,M11)/500)/100)),H104,IF(VLOOKUP(G11,$AI$8:$AV$29,14,FALSE)=\"\",\"\",((HLOOKUP(VLOOKUP(G11,$BA$10:$BB$20,2,FALSE),$S$58:$AF$63,6,FALSE)+IF(HLOOKUP(F104,$AJ$7:$AT$35,29,FALSE)=1,D19,0))/100+MIN(5000,M11)/500)/100)),\"\")","v":7.397999999999999E-2},null,null,null,null,null,null,null,null,{"$f":"K17+AH42+D16+D17+D21+D19*AG14","v":564},{"$f":"R104+Q13","v":589},{"$f":"R104+R13","v":633},{"$f":"R104+S13","v":564},{"$f":"R104+T13","v":628},{"$f":"R104+U13","v":564},{"$f":"R104+V13","v":620},{"$f":"R104+W13","v":625},{"$f":"R104+X13","v":564},{"$f":"R104+Y13","v":625},{"$f":"R104+Z13","v":628},{"$f":"R104+AA13","v":620},{"$f":"R104+AB13","v":564},{"$f":"R104+AC13","v":624},{"$f":"R104+AD13","v":628},null,null,null,{"$f":"AJ212","v":"slovaquie 7 bis "},{"$f":"MIN((S206+$AL$35*$D$19)/$AK$44,(S207+$AL$35*$D$19)/$AL$44,(S208+$AL$35*$D$19)/$AM$44,(S209+$AL$35*$D$19)/$AN$44,(S210+$AL$35*$D$19)/$AO$44)*$AP$44","v":390.66666666666669},420,374,416.66666666666669,374,411.33333333333331,414.66666666666663,374,414.66666666666663,416.66666666666669,411.33333333333331,374,413.99999999999994,416.66666666666669,420,null,{"$f":"AJ212","v":"slovaquie 7 bis "},{"$f":"MIN((S206+$AM$35*$D$19)/$AK$45,(S207+$AM$35*$D$19)/$AL$45,(S208+$AM$35*$D$19)/$AM$45,(S209+$AM$35*$D$19)/$AN$45,(S210+$AM$35*$D$19)/$AO$45)*$AP$45","v":408},426.66666666666669,380.66666666666669,429.33333333333331,380.66666666666669,427.33333333333337,421.33333333333331,380.66666666666669,421.33333333333331,418,421.33333333333331,380.66666666666669,411.33333333333331,414.66666666666663,429.33333333333331,null,{"$f":"BB109","v":"kit 1"},{"$f":"$BC$109","v":"kit 2/3"},{"$f":"$BD$109","v":0},{"$f":"$BE$109","v":"kit 4"},{"$f":"$BF$109","v":0},{"$f":"$BG$109","v":"kit 5"},{"$f":"$BH$109","v":"kit 6/7"},{"$f":"$BI$109","v":0},{"$f":"$BJ$109","v":0},{"$f":"$BK$109","v":"kit 8"},{"$f":"$BL$109","v":"kit 9"},{"$f":"$BM$109","v":0},{"$f":"$BN$109","v":"kit 10"},{"$f":"$BO$109","v":"kit 11"},null,null,352,"def",{"$f":"$CJ$74*1.15/DC75","v":{"$error":"#N/A"}},{"$f":"DB75/(1.15*$CK$74)","v":{"$error":"#N/A"}},{"$error":"#N/A"},{"$f":"1.15*$CM$74/DC75","v":{"$error":"#N/A"}},{"$f":"DB75/(1.15*$CN$74)","v":{"$error":"#N/A"}},{"$error":"#N/A"},{"$f":"1.15*$CP$74/DC75","v":{"$error":"#N/A"}},{"$f":"DB75/(1.15*$CQ$74)","v":{"$error":"#N/A"}},{"$error":"#N/A"},{"$f":"$CS$74/DC75","v":{"$error":"#N/A"}},{"$f":"DB75/$CT$74","v":{"$error":"#N/A"}},{"$error":"#N/A"},{"$f":"$CV$74/DC75","v":{"$error":"#N/A"}},{"$f":"DB75/$CW$74","v":{"$error":"#N/A"}},{"$error":"#N/A"},{"$f":"$CY$74/DC75","v":{"$error":"#N/A"}},{"$f":"DB75/$CZ$74","v":{"$error":"#N/A"}},{"$error":"#N/A"},{"$f":"$DB$74/DC75","v":{"$error":"#N/A"}},{"$f":"DB75/$DC$74","v":{"$error":"#N/A"}},{"$error":"#N/A"},{"$f":"$DE$74/DC75","v":{"$error":"#N/A"}},{"$f":"DB75/$DF$74","v":{"$error":"#N/A"}},{"$error":"#N/A"},{"$f":"$DH$74/DC75","v":{"$error":"#N/A"}},{"$f":"DB75/$DI$74","v":{"$error":"#N/A"}},{"$error":"#N/A"},{"$f":"$DK$74/(1.15*DC75)","v":{"$error":"#N/A"}},{"$f":"1.15*DB75/$DL$74","v":{"$error":"#N/A"}},{"$error":"#N/A"},{"$f":"$DN$74/(1.15*DC75)","v":{"$error":"#N/A"}},{"$f":"1.15*DB75/$DO$74","v":{"$error":"#N/A"}},{"$error":"#N/A"},{"$f":"$DQ$74/(1.15*DC75)","v":{"$error":"#N/A"}},{"$f":"1.15*DB75/$DR$74","v":{"$error":"#N/A"}},{"$error":"#N/A"}]
[null,null,null,{"$f":"IF(MAX($I$104:$I$128)=I105,\"CAP\",\"\")","v":""},{"$f":"IF(G12<>\"\",G12,\"\")","v":2},{"$f":"VLOOKUP(E105,$AI$8:$AV$33,14,FALSE)","v":2},{"$f":"IF(G12<>\"\",(L12/100+MIN(5000,M12)/500)/100,\"\")","v":5.779999999999999E-2},{"$f":"IF(G12<>\"\",IF(ISNA(IF(VLOOKUP(G12,$AI$8:$AV$33,14,FALSE)=\"\",\"\",(HLOOKUP(VLOOKUP(G12,$BA$10:$BB$20,2,FALSE),S65:AF70,6,FALSE)/100+MIN(5000,M12)/500)/100)),G105,IF(VLOOKUP(G12,$AI$8:$AV$33,14,FALSE)=\"\",\"\",(HLOOKUP(VLOOKUP(G12,$BA$10:$BB$20,2,FALSE),S65:AF70,6,FALSE)/100+MIN(5000,M12)/500)/100)),\"\")","v":7.4999999999999997E-2},{"$f":"IF(G12<>\"\",IF(ISNA(IF(VLOOKUP(G12,$AI$8:$AV$29,14,FALSE)=\"\",\"\",((HLOOKUP(VLOOKUP(G12,$BA$10:$BB$20,2,FALSE),$S$65:$AF$70,6,FALSE)+IF(HLOOKUP(F105,$AJ$7:$AT$35,29,FALSE)=1,D19,0))/100+MIN(5000,M12)/500)/100)),H105,IF(VLOOKUP(G12,$AI$8:$AV$29,14,FALSE)=\"\",\"\",((HLOOKUP(VLOOKUP(G12,$BA$10:$BB$20,2,FALSE),$S$65:$AF$70,6,FALSE)+IF(HLOOKUP(F105,$AJ$7:$AT$35,29,FALSE)=1,D19,0))/100+MIN(5000,M12)/500)/100)),\"\")","v":7.4999999999999997E-2},null,null,null,null,null,null,null,null,{"$f":"L17+AH43+D15+D17+D21+D19*AG14","v":480},{"$f":"R105+Q14","v":536},{"$f":"R105+R14","v":532},{"$f":"R105+S14","v":480},{"$f":"R105+T14","v":525},{"$f":"R105+U14","v":480},{"$f":"R105+V14","v":536},{"$f":"R105+W14","v":533},{"$f":"R105+X14","v":480},{"$f":"R105+Y14","v":533},{"$f":"R105+Z14","v":528},{"$f":"R105+AA14","v":529},{"$f":"R105+AB14","v":480},{"$f":"R105+AC14","v":540},{"$f":"R105+AD14","v":524},null,null,null,{"$f":"AJ213","v":0},{"$f":"MIN((S213+$AL$35*$D$19)/$AK$44,(S214+$AL$35*$D$19)/$AL$44,(S215+$AL$35*$D$19)/$AM$44,(S216+$AL$35*$D$19)/$AN$44,(S217+$AL$35*$D$19)/$AO$44)*$AP$44","v":97.333333333333343},126.66666666666666,80.666666666666657,123.33333333333334,80.666666666666657,118,121.33333333333334,80.666666666666657,121.33333333333334,123.33333333333334,118,80.666666666666657,120.66666666666667,123.33333333333334,126.66666666666666,null,0,{"$f":"MIN((S213+$AM$35*$D$19)/$AK$45,(S214+$AM$35*$D$19)/$AL$45,(S215+$AM$35*$D$19)/$AM$45,(S216+$AM$35*$D$19)/$AN$45,(S217+$AM$35*$D$19)/$AO$45)*$AP$45","v":116.8},136.66666666666666,90.666666666666657,139.33333333333334,90.666666666666657,137.33333333333334,131.33333333333331,90.666666666666657,131.33333333333331,128,131.33333333333331,90.666666666666657,121.33333333333334,124.66666666666666,139.33333333333334,null,{"$f":"BB109","v":"kit 1"},"kit 2/3",0,"kit 4",0,"kit 5","kit 6/7",0,0,"kit 8","kit 9",0,"kit 10","kit 11",null,null,null,"neutre",{"$f":"$CJ$74*1.15/DF75","v":{"$error":"#N/A"}},{"$f":"DE75/($CK$74*1.15)","v":{"$error":"#N/A"}},{"$error":"#N/A"},{"$f":"1.15*$CM$74/DF75","v":{"$error":"#N/A"}},{"$f":"DE75/(1.105*$CN$74)","v":{"$error":"#N/A"}},{"$error":"#N/A"},{"$f":"1.15*$CP$74/DF75","v":{"$error":"#N/A"}},{"$f":"DE75/(1.15*$CQ$74)","v":{"$error":"#N/A"}},{"$error":"#N/A"},{"$f":"$CS$74/DF75","v":{"$error":"#N/A"}},{"$f":"DE75/$CT$74","v":{"$error":"#N/A"}},{"$error":"#N/A"},{"$f":"$CV$74/DF75","v":{"$error":"#N/A"}},{"$f":"DE75/$CW$74","v":{"$error":"#N/A"}},{"$error":"#N/A"},{"$f":"$CY$74/DF75","v":{"$error":"#N/A"}},{"$f":"DE75/$CZ$74","v":{"$error":"#N/A"}},{"$error":"#N/A"},{"$f":"$DB$74/DF75","v":{"$error":"#N/A"}},{"$f":"DE75/$DC$74","v":{"$error":"#N/A"}},{"$error":"#N/A"},{"$f":"$DE$74/DF75","v":{"$error":"#N/A"}},{"$f":"DE75/$DF$74","v":{"$error":"#N/A"}},{"$error":"#N/A"},{"$f":"$DH$74/DF75","v":{"$error":"#N/A"}},{"$f":"DE75/$DI$74","v":{"$error":"#N/A"}},{"$error":"#N/A"},{"$f":"$DK$74/(1.15*DF75)","v":{"$error":"#N/A"}},{"$f":"1.15*DE75/$DL$74","v":{"$error":"#N/A"}},{"$error":"#N/A"},{"$f":"$DN$74/(1.15*DF75)","v":{"$error":"#N/A"}},{"$f":"1.15*DE75/$DO$74","v":{"$error":"#N/A"}},{"$error":"#N/A"},{"$f":"$DQ$74/(1.15*DF75)","v":{"$error":"#N/A"}},{"$f":"1.15*DE75/$DR$74","v":{"$error":"#N/A"}},{"$error":"#N/A"}]
[null,null,null,"",3,3,5.0999999999999997E-2,{"$f":"IF(G13<>\"\",IF(ISNA(IF(VLOOKUP(G13,$AI$8:$AV$33,14,FALSE)=\"\",\"\",(HLOOKUP(VLOOKUP(G13,$BA$10:$BB$20,2,FALSE),S72:AF77,6,FALSE)/100+MIN(5000,M13)/500)/100)),G106,IF(VLOOKUP(G13,$AI$8:$AV$33,14,FALSE)=\"\",\"\",(HLOOKUP(VLOOKUP(G13,$BA$10:$BB$20,2,FALSE),S72:AF77,6,FALSE)/100+MIN(5000,M13)/500)/100)),\"\")","v":6.8199999999999997E-2},{"$f":"IF(G13<>\"\",IF(ISNA(IF(VLOOKUP(G13,$AI$8:$AV$29,14,FALSE)=\"\",\"\",((HLOOKUP(VLOOKUP(G13,$BA$10:$BB$20,2,FALSE),$S$72:$AF$77,6,FALSE)+IF(HLOOKUP(F106,$AJ$7:$AT$35,29,FALSE)=1,D19,0))/100+MIN(5000,M13)/500)/100)),H106,IF(VLOOKUP(G13,$AI$8:$AV$29,14,FALSE)=\"\",\"\",((HLOOKUP(VLOOKUP(G13,$BA$10:$BB$20,2,FALSE),$S$72:$AF$77,6,FALSE)+IF(HLOOKUP(F106,$AJ$7:$AT$35,29,FALSE)=1,D19,0))/100+MIN(5000,M13)/500)/100)),\"\")","v":6.8199999999999997E-2},null,null,null,null,null,null,null,null,null,null,null,null,null,null,null,null,null,null,null,null,null,null,null,null,null,null,{"$f":"AJ214","v":0},{"$f":"MIN((S220+$AL$35*$D$19)/$AK$44,(S221+$AL$35*$D$19)/$AL$44,(S222+$AL$35*$D$19)/$AM$44,(S223+$AL$35*$D$19)/$AN$44,(S224+$AL$35*$D$19)/$AO$44)*$AP$44","v":97.333333333333343},126.66666666666666,80.666666666666657,123.33333333333334,80.666666666666657,118,121.33333333333334,80.666666666666657,121.33333333333334,123.33333333333334,118,80.666666666666657,120.66666666666667,123.33333333333334,126.66666666666666,null,0,{"$f":"MIN((S220+$AM$35*$D$19)/$AK$45,(S221+$AM$35*$D$19)/$AL$45,(S222+$AM$35*$D$19)/$AM$45,(S223+$AM$35*$D$19)/$AN$45,(S224+$AM$35*$D$19)/$AO$45)*$AP$45","v":116.8},136.66666666666666,90.666666666666657,139.33333333333334,90.666666666666657,137.33333333333334,131.33333333333331,90.666666666666657,131.33333333333331,128,131.33333333333331,90.666666666666657,121.33333333333334,124.66666666666666,139.33333333333334,null,{"$f":"BB109","v":"kit 1"},"kit 2/3",0,"kit 4",0,"kit 5","kit 6/7",0,0,"kit 8","kit 9",0,"kit 10","kit 11",null,null,null,"off",{"$f":"$CJ$74*1.15/DI75","v":{"$error":"#N/A"}},{"$f":"DH75/(1.15*$CK$74)","v":{"$error":"#N/A"}},{"$error":"#N/A"},{"$f":"1.15*$CM$74/DI75","v":{"$error":"#N/A"}},{"$f":"DH75/(1.15*$CN$74)","v":{"$error":"#N/A"}},{"$error":"#N/A"},{"$f":"1.15*$CP$74/DI75","v":{"$error":"#N/A"}},{"$f":"DH75/(1.15*$CQ$74)","v":{"$error":"#N/A"}},{"$error":"#N/A"},{"$f":"$CS$74/DI75","v":{"$error":"#N/A"}},{"$f":"DH75/$CT$74","v":{"$error":"#N/A"}},{"$error":"#N/A"},{"$f":"$CV$74/DI75","v":{"$error":"#N/A"}},{"$f":"DH75/$CW$74","v":{"$error":"#N/A"}},{"$error":"#N/A"},{"$f":"$CY$74/DI75","v":{"$error":"#N/A"}},{"$f":"DH75/$CZ$74","v":{"$error":"#N/A"}},{"$error":"#N/A"},{"$f":"$DB$74/DI75","v":{"$error":"#N/A"}},{"$f":"DH75/$DC$74","v":{"$error":"#N/A"}},{"$error":"#N/A"},{"$f":"$DE$74/DI75","v":{"$error":"#N/A"}},{"$f":"DH75/$DF$74","v":{"$error":"#N/A"}},{"$error":"#N/A"},{"$f":"$DH$74/DI75","v":{"$error":"#N/A"}},{"$f":"DH75/$DI$74","v":{"$error":"#N/A"}},{"$error":"#N/A"},{"$f":"$DK$74/(1.15*DI75)","v":{"$error":"#N/A"}},{"$f":"1.15*DH75/$DL$74","v":{"$error":"#N/A"}},{"$error":"#N/A"},{"$f":"$DN$74/(1.15*DI75)","v":{"$error":"#N/A"}},{"$f":"1.15*DH75/$DO$74","v":{"$error":"#N/A"}},{"$error":"#N/A"},{"$f":"$DQ$74/(1.15*DI75)","v":{"$error":"#N/A"}},{"$f":"1.15*DH75/$DR$74","v":{"$error":"#N/A"}},{"$error":"#N/A"}]
[null,null,null,"","algerie 4 ",4,5.0220000000000001E-2,{"$f":"IF(G14<>\"\",IF(ISNA(IF(VLOOKUP(G14,$AI$8:$AV$33,14,FALSE)=\"\",\"\",(HLOOKUP(VLOOKUP(G14,$BA$10:$BB$20,2,FALSE),S79:AF84,6,FALSE)/100+MIN(5000,M14)/500)/100)),G107,IF(VLOOKUP(G14,$AI$8:$AV$33,14,FALSE)=\"\",\"\",(HLOOKUP(VLOOKUP(G14,$BA$10:$BB$20,2,FALSE),S79:AF84,6,FALSE)/100+MIN(5000,M14)/500)/100)),\"\")","v":6.7419999999999994E-2},{"$f":"IF(G14<>\"\",IF(ISNA(IF(VLOOKUP(G14,$AI$8:$AV$29,14,FALSE)=\"\",\"\",((HLOOKUP(VLOOKUP(G14,$BA$10:$BB$20,2,FALSE),$S$79:$AF$84,6,FALSE)+IF(HLOOKUP(F107,$AJ$7:$AT$35,29,FALSE)=1,D19,0))/100+MIN(5000,M14)/500)/100)),H107,IF(VLOOKUP(G14,$AI$8:$AV$29,14,FALSE)=\"\",\"\",((HLOOKUP(VLOOKUP(G14,$BA$10:$BB$20,2,FALSE),$S$79:$AF$84,6,FALSE)+IF(HLOOKUP(F107,$AJ$7:$AT$35,29,FALSE)=1,D19,0))/100+MIN(5000,M14)/500)/100)),\"\")","v":6.7419999999999994E-2},null,null,null,null,null,null,null,null,{"$f":"G18","v":"australie 11 "},{"$f":"S100","v":"kit 1"},{"$f":"T100","v":"kit 2/3"},0,"kit 4",0,"kit 5","kit 6/7",0,0,"kit 8","kit 9",0,{"$f":"AE100","v":"kit 10"},{"$f":"AF100","v":"kit 11"},null,null,null,{"$f":"AJ215","v":0},{"$f":"MIN((S227+$AL$35*$D$19)/$AK$44,(S228+$AL$35*$D$19)/$AL$44,(S229+$AL$35*$D$19)/$AM$44,(S230+$AL$35*$D$19)/$AN$44,(S231+$AL$35*$D$19)/$AO$44)*$AP$44","v":97.333333333333343},126.66666666666666,80.666666666666657,123.33333333333334,80.666666666666657,118,121.33333333333334,80.666666666666657,121.33333333333334,123.33333333333334,118,80.666666666666657,120.66666666666667,123.33333333333334,126.66666666666666,null,0,{"$f":"MIN((S227+$AM$35*$D$19)/$AK$45,(S228+$AM$35*$D$19)/$AL$45,(S229+$AM$35*$D$19)/$AM$45,(S230+$AM$35*$D$19)/$AN$45,(S231+$AM$35*$D$19)/$AO$45)*$AP$45","v":116.8},136.66666666666666,90.666666666666657,139.33333333333334,90.666666666666657,137.33333333333334,131.33333333333331,90.666666666666657,131.33333333333331,128,131.33333333333331,90.666666666666657,121.33333333333334,124.66666666666666,139.33333333333334,null,{"$f":"BB109","v":"kit 1"},"kit 2/3",0,"kit 4",0,"kit 5","kit 6/7",0,0,"kit 8","kit 9",0,"kit 10","kit 11",null,null,442,"def",{"$f":"$CJ$74/DL75","v":{"$error":"#N/A"}},{"$f":"DK75/$CK$74","v":{"$error":"#N/A"}},{"$error":"#N/A"},{"$f":"$CM$74/DL75","v":{"$error":"#N/A"}},{"$f":"DK75/$CN$74","v":{"$error":"#N/A"}},{"$error":"#N/A"},{"$f":"$CP$74/DL75","v":{"$error":"#N/A"}},{"$f":"DK75/$CQ$74","v":{"$error":"#N/A"}},{"$error":"#N/A"},{"$f":"$CS$74/(1.15*DL75)","v":{"$error":"#N/A"}},{"$f":"1.15*DK75/$CT$74","v":{"$error":"#N/A"}},{"$error":"#N/A"},{"$f":"$CV$74/(1.15*DL75)","v":{"$error":"#N/A"}},{"$f":"1.15*DK75/$CW$74","v":{"$error":"#N/A"}},{"$error":"#N/A"},{"$f":"$CY$74/(1.15*DL75)","v":{"$error":"#N/A"}},{"$f":"1.15*DK75/$CZ$74","v":{"$error":"#N/A"}},{"$error":"#N/A"},{"$f":"1.15*$DB$74/DL75","v":{"$error":"#N/A"}},{"$f":"DK75/(1.15*$DC$74)","v":{"$error":"#N/A"}},{"$error":"#N/A"},{"$f":"1.15*$DE$74/DL75","v":{"$error":"#N/A"}},{"$f":"DK75/(1.15*$DF$74)","v":{"$error":"#N/A"}},{"$error":"#N/A"},{"$f":"1.15*$DH$74/DL75","v":{"$error":"#N/A"}},{"$f":"DK75/(1.15*$DI$74)","v":{"$error":"#N/A"}},{"$error":"#N/A"},{"$f":"$DK$74/DL75","v":{"$error":"#N/A"}},{"$f":"DK75/$DL$74","v":{"$error":"#N/A"}},{"$error":"#N/A"},{"$f":"$DN$74/DL75","v":{"$error":"#N/A"}},{"$f":"DK75/$DO$74","v":{"$error":"#N/A"}},{"$error":"#N/A"},{"$f":"$DQ$74/DL75","v":{"$error":"#N/A"}},{"$f":"DK75/$DR$74","v":{"$error":"#N/A"}},{"$error":"#N/A"}]
[null,null,null,"","ghana 5 ",5,5.6400000000000006E-2,{"$f":"IF(G15<>\"\",IF(ISNA(IF(VLOOKUP(G15,$AI$8:$AV$33,14,FALSE)=\"\",\"\",(HLOOKUP(VLOOKUP(G15,$BA$10:$BB$20,2,FALSE),S86:AF91,6,FALSE)/100+MIN(5000,M15)/500)/100)),G108,IF(VLOOKUP(G15,$AI$8:$AV$33,14,FALSE)=\"\",\"\",(HLOOKUP(VLOOKUP(G15,$BA$10:$BB$20,2,FALSE),S86:AF91,6,FALSE)/100+MIN(5000,M15)/500)/100)),\"\")","v":7.2900000000000006E-2},{"$f":"IF(G15<>\"\",IF(ISNA(IF(VLOOKUP(G15,$AI$8:$AV$29,14,FALSE)=\"\",\"\",((HLOOKUP(VLOOKUP(G15,$BA$10:$BB$20,2,FALSE),$S$86:$AF$91,6,FALSE)+IF(HLOOKUP(F108,$AJ$7:$AT$35,29,FALSE)=1,D19,0))/100+MIN(5000,M15)/500)/100)),H108,IF(VLOOKUP(G15,$AI$8:$AV$29,14,FALSE)=\"\",\"\",((HLOOKUP(VLOOKUP(G15,$BA$10:$BB$20,2,FALSE),$S$86:$AF$91,6,FALSE)+IF(HLOOKUP(F108,$AJ$7:$AT$35,29,FALSE)=1,D19,0))/100+MIN(5000,M15)/500)/100)),\"\")","v":7.2900000000000006E-2},null,null,null,null,null,null,null,null,{"$f":"H18+AH39+D16+D17+D21+D19*AG15","v":530},{"$f":"R108+Q10","v":571},{"$f":"R108+R10","v":599},{"$f":"R108+S10","v":530},{"$f":"R108+T10","v":603},{"$f":"R108+U10","v":530},{"$f":"R108+V10","v":600},{"$f":"R108+W10","v":591},{"$f":"R108+X10","v":530},{"$f":"R108+Y10","v":591},{"$f":"R108+Z10","v":586},{"$f":"R108+AA10","v":591},{"$f":"R108+AB10","v":530},{"$f":"R108+AC10","v":576},{"$f":"R108+AD10","v":581},null,null,null,null,null,null,null,null,null,null,null,null,null,null,null,null,null,null,null,null,null,null,null,null,null,null,null,null,null,null,null,null,null,null,null,null,null,{"$f":"BB109","v":"kit 1"},"kit 2/3",0,"kit 4",0,"kit 5","kit 6/7",0,0,"kit 8","kit 9",0,"kit 10","kit 11",null,null,null,"neutre",{"$f":"$CJ$74/DO75","v":{"$error":"#N/A"}},{"$f":"DN75/$CK$74","v":{"$error":"#N/A"}},{"$error":"#N/A"},{"$f":"$CM$74/DO75","v":{"$error":"#N/A"}},{"$f":"DN75/$CN$74","v":{"$error":"#N/A"}},{"$error":"#N/A"},{"$f":"$CP$74/DO75","v":{"$error":"#N/A"}},{"$f":"DN75/$CQ$74","v":{"$error":"#N/A"}},{"$error":"#N/A"},{"$f":"$CS$74/(1.15*DO75)","v":{"$error":"#N/A"}},{"$f":"1.15*DN75/$CT$74","v":{"$error":"#N/A"}},{"$error":"#N/A"},{"$f":"$CV$74/(1.15*DO75)","v":{"$error":"#N/A"}},{"$f":"1.15*DN75/$CW$74","v":{"$error":"#N/A"}},{"$error":"#N/A"},{"$f":"$CY$74/(1.15*DO75)","v":{"$error":"#N/A"}},{"$f":"1.15*DN75/$CZ$74","v":{"$error":"#N/A"}},{"$error":"#N/A"},{"$f":"1.15*$DB$74/DO75","v":{"$error":"#N/A"}},{"$f":"DN75/(1.15*$DC$74)","v":{"$error":"#N/A"}},{"$error":"#N/A"},{"$f":"1.15*$DE$74/DO75","v":{"$error":"#N/A"}},{"$f":"DN75/(1.15*$DF$74)","v":{"$error":"#N/A"}},{"$error":"#N/A"},{"$f":"1.15*$DH$74/DO75","v":{"$error":"#N/A"}},{"$f":"DN75/(1.15*$DI$74)","v":{"$error":"#N/A"}},{"$error":"#N/A"},{"$f":"$DK$74/DO75","v":{"$error":"#N/A"}},{"$f":"DN75/$DL$74","v":{"$error":"#N/A"}},{"$error":"#N/A"},{"$f":"$DN$74/DO75","v":{"$error":"#N/A"}},{"$f":"DN75/$DO$74","v":{"$error":"#N/A"}},{"$error":"#N/A"},{"$f":"$DQ$74/DO75","v":{"$error":"#N/A"}},{"$f":"DN75/$DR$74","v":{"$error":"#N/A"}},{"$error":"#N/A"}]
[null,null,null,"","slovenie 6 ",6,6.472E-2,{"$f":"IF(G16<>\"\",IF(ISNA(IF(VLOOKUP(G16,$AI$8:$AV$33,14,FALSE)=\"\",\"\",(HLOOKUP(VLOOKUP(G16,$BA$10:$BB$20,2,FALSE),S93:AF98,6,FALSE)/100+MIN(5000,M16)/500)/100)),G109,IF(VLOOKUP(G16,$AI$8:$AV$33,14,FALSE)=\"\",\"\",(HLOOKUP(VLOOKUP(G16,$BA$10:$BB$20,2,FALSE),S93:AF98,6,FALSE)/100+MIN(5000,M16)/500)/100)),\"\")","v":8.1920000000000007E-2},{"$f":"IF(G16<>\"\",IF(ISNA(IF(VLOOKUP(G16,$AI$8:$AV$29,14,FALSE)=\"\",\"\",((HLOOKUP(VLOOKUP(G16,$BA$10:$BB$20,2,FALSE),$S$93:$AF$98,6,FALSE)+IF(HLOOKUP(F109,$AJ$7:$AT$35,29,FALSE)=1,D19,0))/100+MIN(5000,M16)/500)/100)),H109,IF(VLOOKUP(G16,$AI$8:$AV$29,14,FALSE)=\"\",\"\",((HLOOKUP(VLOOKUP(G16,$BA$10:$BB$20,2,FALSE),$S$93:$AF$98,6,FALSE)+IF(HLOOKUP(F109,$AJ$7:$AT$35,29,FALSE)=1,D19,0))/100+MIN(5000,M16)/500)/100)),\"\")","v":8.1920000000000007E-2},null,null,null,null,null,null,null,null,{"$f":"I18+AH40+D15+D17+D21+D19*AG15","v":583},{"$f":"R109+Q11","v":663},{"$f":"R109+R11","v":635},{"$f":"R109+S11","v":583},{"$f":"R109+T11","v":628},{"$f":"R109+U11","v":583},{"$f":"R109+V11","v":639},{"$f":"R109+W11","v":644},{"$f":"R109+X11","v":583},{"$f":"R109+Y11","v":644},{"$f":"R109+Z11","v":647},{"$f":"R109+AA11","v":651},{"$f":"R109+AB11","v":583},{"$f":"R109+AC11","v":651},{"$f":"R109+AD11","v":647},null,null,null,5,{"$f":"Q9","v":"kit 1"},"kit 2/3",0,"kit 4",0,"kit 5","kit 6/7",0,0,"kit 8","kit 9",0,"kit 10","kit 11","MAX",null,6,{"$f":"Q9","v":"kit 1"},"kit 2/3",0,"kit 4",0,"kit 5","kit 6/7",0,0,"kit 8","kit 9",0,"kit 10","kit 11","MAX",null,{"$f":"BB109","v":"kit 1"},"kit 2/3",0,"kit 4",0,"kit 5","kit 6/7",0,0,"kit 8","kit 9",0,"kit 10","kit 11",null,null,null,"off",{"$f":"$CJ$74/DR75","v":{"$error":"#N/A"}},{"$f":"DQ75/$CK$74","v":{"$error":"#N/A"}},{"$error":"#N/A"},{"$f":"$CM$74/DR75","v":{"$error":"#N/A"}},{"$f":"DQ75/$CN$74","v":{"$error":"#N/A"}},{"$error":"#N/A"},{"$f":"$CP$74/DR75","v":{"$error":"#N/A"}},{"$f":"DQ75/$CQ$74","v":{"$error":"#N/A"}},{"$error":"#N/A"},{"$f":"$CS$74/(1.15*DR75)","v":{"$error":"#N/A"}},{"$f":"1.15*DQ75/$CT$74","v":{"$error":"#N/A"}},{"$error":"#N/A"},{"$f":"$CV$74/(1.15*DR75)","v":{"$error":"#N/A"}},{"$f":"1.15*DQ75/$CW$74","v":{"$error":"#N/A"}},{"$error":"#N/A"},{"$f":"$CY$74/(1.15*DR75)","v":{"$error":"#N/A"}},{"$f":"1.15*DQ75/$CZ$74","v":{"$error":"#N/A"}},{"$error":"#N/A"},{"$f":"1.15*$DB$74/DR75","v":{"$error":"#N/A"}},{"$f":"DQ75/(1.15*$DC$74)","v":{"$error":"#N/A"}},{"$error":"#N/A"},{"$f":"1.15*$DE$74/DR75","v":{"$error":"#N/A"}},{"$f":"DQ75/(1.15*$DF$74)","v":{"$error":"#N/A"}},{"$error":"#N/A"},{"$f":"1.15*$DH$74/DR75","v":{"$error":"#N/A"}},{"$f":"DQ75/(1.15*$DI$74)","v":{"$error":"#N/A"}},{"$error":"#N/A"},{"$f":"$DK$74/DR75","v":{"$error":"#N/A"}},{"$f":"DQ75/$DL$74","v":{"$error":"#N/A"}},{"$error":"#N/A"},{"$f":"$DN$74/DR75","v":{"$error":"#N/A"}},{"$f":"DQ75/$DO$74","v":{"$error":"#N/A"}},{"$error":"#N/A"},{"$f":"$DQ$74/DR75","v":{"$error":"#N/A"}},{"$f":"DQ75/$DR$74","v":{"$error":"#N/A"}},{"$error":"#N/A"}]
[null,null,null,"CAP","grece 7 ",7,6.5920000000000006E-2,{"$f":"IF(G17<>\"\",IF(ISNA(IF(VLOOKUP(G17,$AI$8:$AV$33,14,FALSE)=\"\",\"\",(HLOOKUP(VLOOKUP(G17,$BA$10:$BB$20,2,FALSE),S100:AF105,6,FALSE)/100+MIN(5000,M17)/500)/100)),G110,IF(VLOOKUP(G17,$AI$8:$AV$33,14,FALSE)=\"\",\"\",(HLOOKUP(VLOOKUP(G17,$BA$10:$BB$20,2,FALSE),S100:AF105,6,FALSE)/100+MIN(5000,M17)/500)/100)),\"\")","v":8.3120000000000013E-2},{"$f":"IF(G17<>\"\",IF(ISNA(IF(VLOOKUP(G17,$AI$8:$AV$29,14,FALSE)=\"\",\"\",((HLOOKUP(VLOOKUP(G17,$BA$10:$BB$20,2,FALSE),$S$100:$AF$105,6,FALSE)+IF(HLOOKUP(F110,$AJ$7:$AT$35,29,FALSE)=1,D19,0))/100+MIN(5000,M17)/500)/100)),H110,IF(VLOOKUP(G17,$AI$8:$AV$29,14,FALSE)=\"\",\"\",((HLOOKUP(VLOOKUP(G17,$BA$10:$BB$20,2,FALSE),$S$100:$AF$105,6,FALSE)+IF(HLOOKUP(F110,$AJ$7:$AT$35,29,FALSE)=1,D19,0))/100+MIN(5000,M17)/500)/100)),\"\")","v":8.3120000000000013E-2},null,null,null,null,null,null,null,null,{"$f":"J18+AH41+D15+D17+D21+D19*AG15","v":627},{"$f":"R110+Q12","v":668},{"$f":"R110+R12","v":687},{"$f":"R110+S12","v":627},{"$f":"R110+T12","v":700},{"$f":"R110+U12","v":627},{"$f":"R110+V12","v":683},{"$f":"R110+W12","v":688},{"$f":"R110+X12","v":627},{"$f":"R110+Y12","v":688},{"$f":"R110+Z12","v":691},{"$f":"R110+AA12","v":695},{"$f":"R110+AB12","v":627},{"$f":"R110+AC12","v":680},{"$f":"R110+AD12","v":698},null,null,null,{"$f":"AJ191","v":"espagne 9 "},{"$f":"MIN((S59+AN35*D19)/AK46,(S60+AN35*D19)/AL46,(S61+AN35*D19)/AM46,(S62+AN35*D19)/AN46,(S63+AN35*D19)/AO46)*AP46","v":587},{"$f":"MIN((T59+AN35*D19)/AK46,(T60+AN35*D19)/AL46,(T61+AN35*D19)/AM46,(T62+AN35*D19)/AN46,(T63+AN35*D19)/AO46)*AP46","v":615},{"$f":"MIN((U59+AN35*D19)/AK46,(U60+AN35*D19)/AL46,(U61+AN35*D19)/AM46,(U62+AN35*D19)/AN46,(U63+AN35*D19)/AO46)*AP46","v":546},{"$f":"MIN((V59+AN35*D19)/AK46,(V60+AN35*D19)/AL46,(V61+AN35*D19)/AM46,(V62+AN35*D19)/AN46,(V63+AN35*D19)/AO46)*AP46","v":606.66666666666663},{"$f":"MIN((W59+AN35*D19)/AK46,(W60+AN35*D19)/AL46,(W61+AN35*D19)/AM46,(W62+AN35*D19)/AN46,(W63+AN35*D19)/AO46)*AP46","v":546},{"$f":"MIN((X59+AN35*D19)/AK46,(X60+AN35*D19)/AL46,(X61+AN35*D19)/AM46,(X62+AN35*D19)/AN46,(X63+AN35*D19)/AO46)*AP46","v":616},{"$f":"MIN((Y59+AN35*D19)/AK46,(Y60+AN35*D19)/AL46,(Y61+AN35*D19)/AM46,(Y62+AN35*D19)/AN46,(Y63+AN35*D19)/AO46)*AP46","v":607},{"$f":"MIN((Z59+AN35*D19)/AK46,(Z60+AN35*D19)/AL46,(Z61+AN35*D19)/AM46,(Z62+AN35*D19)/AN46,(Z63+AN35*D19)/AO46)*AP46","v":546},{"$f":"MIN((AA59+AN35*D19)/AK46,(AA60+AN35*D19)/AL46,(AA61+AN35*D19)/AM46,(AA62+AN35*D19)/AN46,(AA63+AN35*D19)/AO46)*AP46","v":607},{"$f":"MIN((AB59+AN35*D19)/AK46,(AB60+AN35*D19)/AL46,(AB61+AN35*D19)/AM46,(AB62+AN35*D19)/AN46,(AB63+AN35*D19)/AO46)*AP46","v":602},{"$f":"MIN((AC59+AN35*D19)/AK46,(AC60+AN35*D19)/AL46,(AC61+AN35*D19)/AM46,(AC62+AN35*D19)/AN46,(AC63+AN35*D19)/AO46)*AP46","v":607},{"$f":"MIN((AD59+$AN$35*$D$19)/$AK$46,(AD60+$AN$35*$D$19)/AL45,(AD61+$AN$35*$D$19)/AM45,($AD$62+$AN$35*$D$19)/$AN$46,(AD63+$AN$35*$D$19)/$AO$46)*$AP$46","v":490.4},{"$f":"MIN((AE59+AN35*D19)/AK46,(AE60+AN35*D19)/AL46,(AE61+AN35*D19)/AM46,(AE62+AN35*D19)/AN46,(AE63+AN35*D19)/AO46)*AP46","v":592},{"$f":"MIN((AF59+AN35*D19)/AK46,(AF60+AN35*D19)/AL46,(AF61+AN35*D19)/AM46,(AF62+AN35*D19)/AN46,(AF63+AN35*D19)/AO46)*AP46","v":597},{"$f":"MAX(AK110:AX110)","v":616},null,{"$f":"AJ191","v":"espagne 9 "},{"$f":"MIN((S59+AO35*D19)/AK47,(S60+AO35*D19)/AL47,(S61+AO35*D19)/AM47,(S62+AO35*D19)/AN47,(S63+AO35*D19)/AO47)*AP47","v":469.59999999999997},{"$f":"MIN((T59+AO35*D19)/AK47,(T60+AO35*D19)/AL47,(T61+AO35*D19)/AM47,(T62+AO35*D19)/AN47,(T63+AO35*D19)/AO47)*AP47","v":492},{"$f":"MIN((U59+AO35*D19)/AK47,(U60+AO35*D19)/AL47,(U61+AO35*D19)/AM47,(U62+AO35*D19)/AN47,(U63+AO35*D19)/AO47)*AP47","v":436.8},{"$f":"MIN((V59+AO35*D19)/AK47,(V60+AO35*D19)/AL47,(V61+AO35*D19)/AM47,(V62+AO35*D19)/AN47,(V63+AO35*D19)/AO47)*AP47","v":495.2},{"$f":"MIN((W59+AO35*D19)/AK47,(W60+AO35*D19)/AL47,(W61+AO35*D19)/AM47,(W62+AO35*D19)/AN47,(W63+AO35*D19)/AO47)*AP47","v":436.8},{"$f":"MIN((X59+AO35*D19)/AK47,(X60+AO35*D19)/AL47,(X61+AO35*D19)/AM47,(X62+AO35*D19)/AN47,(X63+AO35*D19)/AO47)*AP47","v":492.8},{"$f":"MIN((Y59+AO35*D19)/AK47,(Y60+AO35*D19)/AL47,(Y61+AO35*D19)/AM47,(Y62+AO35*D19)/AN47,(Y63+AO35*D19)/AO47)*AP47","v":485.59999999999997},{"$f":"MIN((Z59+AO35*D19)/AK47,(Z60+AO35*D19)/AL47,(Z61+AO35*D19)/AM47,(Z62+AO35*D19)/AN47,(Z63+AO35*D19)/AO47)*AP47","v":436.8},{"$f":"MIN((AA59+AO35*D19)/AK47,(AA60+AO35*D19)/AL47,(AA61+AO35*D19)/AM47,(AA62+AO35*D19)/AN47,(AA63+AO35*D19)/AO47)*AP47","v":485.59999999999997},{"$f":"MIN((AB59+AO35*D19)/AK47,(AB60+AO35*D19)/AL47,(AB61+AO35*D19)/AM47,(AB62+AO35*D19)/AN47,(AB63+AO35*D19)/AO47)*AP47","v":481.59999999999997},{"$f":"MIN((AC59+AO35*D19)/AK47,(AC60+AO35*D19)/AL47,(AC61+AO35*D19)/AM47,(AC62+AO35*D19)/AN47,(AC63+AO35*D19)/AO47)*AP47","v":485.59999999999997},{"$f":"MIN((AD59+AO35*D19)/AK47,(AD60+AO35*D19)/AL47,(AD61+AO35*D19)/AM47,(AD62+AO35*D19)/AN47,(AD63+AO35*D19)/AO47)*AP47","v":436.8},{"$f":"MIN((AE59+AO35*D19)/AK47,(AE60+AO35*D19)/AL47,(AE61+AO35*D19)/AM47,(AE62+AO35*D19)/AN47,(AE63+AO35*D19)/AO47)*AP47","v":473.59999999999997},{"$f":"MIN((AF59+AO35*D19)/AK47,(AF60+AO35*D19)/AL47,(AF61+AO35*D19)/AM47,(AF62+AO35*D19)/AN47,(AF63+AO35*D19)/AO47)*AP47","v":477.59999999999997},{"$f":"MAX(BB110:BO110)","v":495.2},null,{"$f":"BB109","v":"kit 1"},"kit 2/3",0,"kit 4",0,"kit 5","kit 6/7",0,0,"kit 8","kit 9",0,"kit 10","kit 11"]
[null,null,null,"","australie 11 ",8,5.6240000000000005E-2,{"$f":"IF(G18<>\"\",IF(ISNA(IF(VLOOKUP(G18,$AI$8:$AV$33,14,FALSE)=\"\",\"\",(HLOOKUP(VLOOKUP(G18,$BA$10:$BB$20,2,FALSE),S107:AF112,6,FALSE)/100+MIN(5000,M18)/500)/100)),G111,IF(VLOOKUP(G18,$AI$8:$AV$33,14,FALSE)=\"\",\"\",(HLOOKUP(VLOOKUP(G18,$BA$10:$BB$20,2,FALSE),S107:AF112,6,FALSE)/100+MIN(5000,M18)/500)/100)),\"\")","v":7.3040000000000008E-2},{"$f":"IF(G18<>\"\",IF(ISNA(IF(VLOOKUP(G18,$AI$8:$AV$29,14,FALSE)=\"\",\"\",((HLOOKUP(VLOOKUP(G18,$BA$10:$BB$20,2,FALSE),$S$107:$AF$112,6,FALSE)+IF(HLOOKUP(F111,$AJ$7:$AT$35,29,FALSE)=1,D19,0))/100+MIN(5000,M18)/500)/100)),H111,IF(VLOOKUP(G18,$AI$8:$AV$29,14,FALSE)=\"\",\"\",((HLOOKUP(VLOOKUP(G18,$BA$10:$BB$20,2,FALSE),$S$107:$AF$112,6,FALSE)+IF(HLOOKUP(F111,$AJ$7:$AT$35,29,FALSE)=1,D19,0))/100+MIN(5000,M18)/500)/100)),\"\")","v":7.3040000000000008E-2},null,null,null,null,null,null,null,null,{"$f":"K18+AH42+D16+D17+D21+D19*AG15","v":581},{"$f":"R111+Q13","v":606},{"$f":"R111+R13","v":650},{"$f":"R111+S13","v":581},{"$f":"R111+T13","v":645},{"$f":"R111+U13","v":581},{"$f":"R111+V13","v":637},{"$f":"R111+W13","v":642},{"$f":"R111+X13","v":581},{"$f":"R111+Y13","v":642},{"$f":"R111+Z13","v":645},{"$f":"R111+AA13","v":637},{"$f":"R111+AB13","v":581},{"$f":"R111+AC13","v":641},{"$f":"R111+AD13","v":645},null,null,null,2,{"$f":"MIN((S66+AN35*D19)/AK46,(S67+AN35*D19)/AL46,(S68+AN35*D19)/AM46,(S69+AN35*D19)/AN46,(S70+AN35*D19)/AO46)*AP46","v":673},{"$f":"MIN((T66+AN35*D19)/AK46,(T67+AN35*D19)/AL46,(T68+AN35*D19)/AM46,(T69+AN35*D19)/AN46,(T70+AN35*D19)/AO46)*AP46","v":682.66666666666674},{"$f":"MIN((U66+AN35*D19)/AK46,(U67+AN35*D19)/AL46,(U68+AN35*D19)/AM46,(U69+AN35*D19)/AN46,(U70+AN35*D19)/AO46)*AP46","v":613.33333333333337},{"$f":"MIN((V66+AN35*D19)/AK46,(V67+AN35*D19)/AL46,(V68+AN35*D19)/AM46,(V69+AN35*D19)/AN46,(V70+AN35*D19)/AO46)*AP46","v":673.33333333333337},{"$f":"MIN((W66+AN35*D19)/AK46,(W67+AN35*D19)/AL46,(W68+AN35*D19)/AM46,(W69+AN35*D19)/AN46,(W70+AN35*D19)/AO46)*AP46","v":613.33333333333337},{"$f":"MIN((X66+AN35*D19)/AK46,(X67+AN35*D19)/AL46,(X68+AN35*D19)/AM46,(X69+AN35*D19)/AN46,(X70+AN35*D19)/AO46)*AP46","v":688},{"$f":"MIN((Y66+AN35*D19)/AK46,(Y67+AN35*D19)/AL46,(Y68+AN35*D19)/AM46,(Y69+AN35*D19)/AN46,(Y70+AN35*D19)/AO46)*AP46","v":684},{"$f":"MIN((Z66+AN35*D19)/AK46,(Z67+AN35*D19)/AL46,(Z68+AN35*D19)/AM46,(Z69+AN35*D19)/AN46,(Z70+AN35*D19)/AO46)*AP46","v":613.33333333333337},{"$f":"MIN((AA66+AN35*D19)/AK46,(AA67+AN35*D19)/AL46,(AA68+AN35*D19)/AM46,(AA69+AN35*D19)/AN46,(AA70+AN35*D19)/AO46)*AP46","v":684},{"$f":"MIN((AB66+AN35*D19)/AK46,(AB67+AN35*D19)/AL46,(AB68+AN35*D19)/AM46,(AB69+AN35*D19)/AN46,(AB70+AN35*D19)/AO46)*AP46","v":677.33333333333337},{"$f":"MIN((AC66+AN35*D19)/AK46,(AC67+AN35*D19)/AL46,(AC68+AN35*D19)/AM46,(AC69+AN35*D19)/AN46,(AC70+AN35*D19)/AO46)*AP46","v":678.66666666666674},{"$f":"MIN((AD66+$AN$35*$D$19)/$AK$46,(AD67+$AN$35*$D$19)/AL46,(AD68+$AN$35*$D$19)/AM46,($AD$69+$AN$35*$D$19)/$AN$46,(AD70+$AN$35*$D$19)/$AO$46)*$AP$46","v":613.33333333333337},{"$f":"MIN((AE66+AN35*D19)/AK46,(AE67+AN35*D19)/AL46,(AE68+AN35*D19)/AM46,(AE69+AN35*D19)/AN46,(AE70+AN35*D19)/AO46)*AP46","v":678},{"$f":"MIN((AF66+AN35*D19)/AK46,(AF67+AN35*D19)/AL46,(AF68+AN35*D19)/AM46,(AF69+AN35*D19)/AN46,(AF70+AN35*D19)/AO46)*AP46","v":672},688,null,2,{"$f":"MIN((S66+AO35*D19)/AK47,(S67+AO35*D19)/AL47,(S68+AO35*D19)/AM47,(S69+AO35*D19)/AN47,(S70+AO35*D19)/AO47)*AP47","v":488},{"$f":"MIN((T66+AO35*D19)/AK47,(T67+AO35*D19)/AL47,(T68+AO35*D19)/AM47,(T69+AO35*D19)/AN47,(T70+AO35*D19)/AO47)*AP47","v":503.2},{"$f":"MIN((U66+AO35*D19)/AK47,(U67+AO35*D19)/AL47,(U68+AO35*D19)/AM47,(U69+AO35*D19)/AN47,(U70+AO35*D19)/AO47)*AP47","v":455.19999999999993},{"$f":"MIN((V66+AO35*D19)/AK47,(V67+AO35*D19)/AL47,(V68+AO35*D19)/AM47,(V69+AO35*D19)/AN47,(V70+AO35*D19)/AO47)*AP47","v":513.6},{"$f":"MIN((W66+AO35*D19)/AK47,(W67+AO35*D19)/AL47,(W68+AO35*D19)/AM47,(W69+AO35*D19)/AN47,(W70+AO35*D19)/AO47)*AP47","v":455.19999999999993},{"$f":"MIN((X66+AO35*D19)/AK47,(X67+AO35*D19)/AL47,(X68+AO35*D19)/AM47,(X69+AO35*D19)/AN47,(X70+AO35*D19)/AO47)*AP47","v":500},{"$f":"MIN((Y66+AO35*D19)/AK47,(Y67+AO35*D19)/AL47,(Y68+AO35*D19)/AM47,(Y69+AO35*D19)/AN47,(Y70+AO35*D19)/AO47)*AP47","v":504},{"$f":"MIN((Z66+AO35*D19)/AK47,(Z67+AO35*D19)/AL47,(Z68+AO35*D19)/AM47,(Z69+AO35*D19)/AN47,(Z70+AO35*D19)/AO47)*AP47","v":455.19999999999993},{"$f":"MIN((AA66+AO35*D19)/AK47,(AA67+AO35*D19)/AL47,(AA68+AO35*D19)/AM47,(AA69+AO35*D19)/AN47,(AA70+AO35*D19)/AO47)*AP47","v":504},{"$f":"MIN((AB66+AO35*D19)/AK47,(AB67+AO35*D19)/AL47,(AB68+AO35*D19)/AM47,(AB69+AO35*D19)/AN47,(AB70+AO35*D19)/AO47)*AP47","v":506.4},{"$f":"MIN((AC66+AO35*D19)/AK47,(AC67+AO35*D19)/AL47,(AC68+AO35*D19)/AM47,(AC69+AO35*D19)/AN47,(AC70+AO35*D19)/AO47)*AP47","v":509.6},{"$f":"MIN((AD66+AO35*D19)/AK47,(AD67+AO35*D19)/AL47,(AD68+AO35*D19)/AM47,(AD69+AO35*D19)/AN47,(AD70+AO35*D19)/AO47)*AP47","v":455.19999999999993},{"$f":"MIN((AE66+AO35*D19)/AK47,(AE67+AO35*D19)/AL47,(AE68+AO35*D19)/AM47,(AE69+AO35*D19)/AN47,(AE70+AO35*D19)/AO47)*AP47","v":497.6},{"$f":"MIN((AF66+AO35*D19)/AK47,(AF67+AO35*D19)/AL47,(AF68+AO35*D19)/AM47,(AF69+AO35*D19)/AN47,(AF70+AO35*D19)/AO47)*AP47","v":512},{"$f":"MAX(BB111:BO111)","v":513.6},"meilleur kit par poste / joueur"]
[null,null,null,"","grece 9 ",9,4.6799999999999994E-2,{"$f":"IF(G19<>\"\",IF(ISNA(IF(VLOOKUP(G19,$AI$8:$AV$33,14,FALSE)=\"\",\"\",(HLOOKUP(VLOOKUP(G19,$BA$10:$BB$20,2,FALSE),S114:AF119,6,FALSE)/100+MIN(5000,M19)/500)/100)),G112,IF(VLOOKUP(G19,$AI$8:$AV$33,14,FALSE)=\"\",\"\",(HLOOKUP(VLOOKUP(G19,$BA$10:$BB$20,2,FALSE),S114:AF119,6,FALSE)/100+MIN(5000,M19)/500)/100)),\"\")","v":6.4100000000000004E-2},{"$f":"IF(G19<>\"\",IF(ISNA(IF(VLOOKUP(G19,$AI$8:$AV$29,14,FALSE)=\"\",\"\",((HLOOKUP(VLOOKUP(G19,$BA$10:$BB$20,2,FALSE),$S$114:$AF$119,6,FALSE)+IF(HLOOKUP(F112,$AJ$7:$AT$35,29,FALSE)=1,D19,0))/100+MIN(5000,M19)/500)/100)),H112,IF(VLOOKUP(G19,$AI$8:$AV$29,14,FALSE)=\"\",\"\",((HLOOKUP(VLOOKUP(G19,$BA$10:$BB$20,2,FALSE),$S$114:$AF$119,6,FALSE)+IF(HLOOKUP(F112,$AJ$7:$AT$35,29,FALSE)=1,D19,0))/100+MIN(5000,M19)/500)/100)),\"\")","v":6.4100000000000004E-2},null,null,null,null,null,null,null,null,{"$f":"L18+AH43+D15+D17+D21+D19*AG15","v":437},{"$f":"R112+Q14","v":493},{"$f":"R112+R14","v":489},{"$f":"R112+S14","v":437},{"$f":"R112+T14","v":482},{"$f":"R112+U14","v":437},{"$f":"R112+V14","v":493},{"$f":"R112+W14","v":490},{"$f":"R112+X14","v":437},{"$f":"R112+Y14","v":490},{"$f":"R112+Z14","v":485},{"$f":"R112+AA14","v":486},{"$f":"R112+AB14","v":437},{"$f":"R112+AC14","v":497},{"$f":"R112+AD14","v":481},null,null,null,3,{"$f":"MIN((S73+AN35*D19)/AK46,(S74+AN35*D19)/AL46,(S75+AN35*D19)/AM46,(S76+AN35*D19)/AN46,(S77+AN35*D19)/AO46)*AP46","v":618.66666666666663},{"$f":"MIN((T73+AN35*D19)/AK46,(T74+AN35*D19)/AL46,(T75+AN35*D19)/AM46,(T76+AN35*D19)/AN46,(T77+AN35*D19)/AO46)*AP46","v":613.33333333333337},{"$f":"MIN((U73+AN35*D19)/AK46,(U74+AN35*D19)/AL46,(U75+AN35*D19)/AM46,(U76+AN35*D19)/AN46,(U77+AN35*D19)/AO46)*AP46","v":544},{"$f":"MIN((V73+AN35*D19)/AK46,(V74+AN35*D19)/AL46,(V75+AN35*D19)/AM46,(V76+AN35*D19)/AN46,(V77+AN35*D19)/AO46)*AP46","v":604},{"$f":"MIN((W73+AN35*D19)/AK46,(W74+AN35*D19)/AL46,(W75+AN35*D19)/AM46,(W76+AN35*D19)/AN46,(W77+AN35*D19)/AO46)*AP46","v":544},{"$f":"MIN((X73+AN35*D19)/AK46,(X74+AN35*D19)/AL46,(X75+AN35*D19)/AM46,(X76+AN35*D19)/AN46,(X77+AN35*D19)/AO46)*AP46","v":618.66666666666663},{"$f":"MIN((Y73+AN35*D19)/AK46,(Y74+AN35*D19)/AL46,(Y75+AN35*D19)/AM46,(Y76+AN35*D19)/AN46,(Y77+AN35*D19)/AO46)*AP46","v":614.66666666666663},{"$f":"MIN((Z73+AN35*D19)/AK46,(Z74+AN35*D19)/AL46,(Z75+AN35*D19)/AM46,(Z76+AN35*D19)/AN46,(Z77+AN35*D19)/AO46)*AP46","v":544},{"$f":"MIN((AA73+AN35*D19)/AK46,(AA74+AN35*D19)/AL46,(AA75+AN35*D19)/AM46,(AA76+AN35*D19)/AN46,(AA77+AN35*D19)/AO46)*AP46","v":614.66666666666663},{"$f":"MIN((AB73+AN35*D19)/AK46,(AB74+AN35*D19)/AL46,(AB75+AN35*D19)/AM46,(AB76+AN35*D19)/AN46,(AB77+AN35*D19)/AO46)*AP46","v":608},{"$f":"MIN((AC73+AN35*D19)/AK46,(AC74+AN35*D19)/AL46,(AC75+AN35*D19)/AM46,(AC76+AN35*D19)/AN46,(AC77+AN35*D19)/AO46)*AP46","v":609.33333333333337},{"$f":"MIN((AD73+AN35*D19)/AK46,(AD74+AN35*D19)/AL46,(AD75+AN35*D19)/AM46,(AD76+AN35*D19)/AN46,(AD77+AN35*D19)/AO46)*AP46","v":544},{"$f":"MIN((AE73+AN35*D19)/AK46,(AE74+AN35*D19)/AL46,(AE75+AN35*D19)/AM46,(AE76+AN35*D19)/AN46,(AE77+AN35*D19)/AO46)*AP46","v":624},{"$f":"MIN((AF73+AN35*D19)/AK46,(AF74+AN35*D19)/AL46,(AF75+AN35*D19)/AM46,(AF76+AN35*D19)/AN46,(AF77+AN35*D19)/AO46)*AP46","v":602.66666666666663},624,null,3,{"$f":"MIN((S73+AO35*D19)/AK47,(S74+AO35*D19)/AL47,(S75+AO35*D19)/AM47,(S76+AO35*D19)/AN47,(S77+AO35*D19)/AO47)*AP47","v":435.20000000000005},{"$f":"MIN((T73+AO35*D19)/AK47,(T74+AO35*D19)/AL47,(T75+AO35*D19)/AM47,(T76+AO35*D19)/AN47,(T77+AO35*D19)/AO47)*AP47","v":450.4},{"$f":"MIN((U73+AO35*D19)/AK47,(U74+AO35*D19)/AL47,(U75+AO35*D19)/AM47,(U76+AO35*D19)/AN47,(U77+AO35*D19)/AO47)*AP47","v":402.4},{"$f":"MIN((V73+AO35*D19)/AK47,(V74+AO35*D19)/AL47,(V75+AO35*D19)/AM47,(V76+AO35*D19)/AN47,(V77+AO35*D19)/AO47)*AP47","v":460.79999999999995},{"$f":"MIN((W73+AO35*D19)/AK47,(W74+AO35*D19)/AL47,(W75+AO35*D19)/AM47,(W76+AO35*D19)/AN47,(W77+AO35*D19)/AO47)*AP47","v":402.4},{"$f":"MIN((X73+AO35*D19)/AK47,(X74+AO35*D19)/AL47,(X75+AO35*D19)/AM47,(X76+AO35*D19)/AN47,(X77+AO35*D19)/AO47)*AP47","v":447.20000000000005},{"$f":"MIN((Y73+AO35*D19)/AK47,(Y74+AO35*D19)/AL47,(Y75+AO35*D19)/AM47,(Y76+AO35*D19)/AN47,(Y77+AO35*D19)/AO47)*AP47","v":451.19999999999993},{"$f":"MIN((Z73+AO35*D19)/AK47,(Z74+AO35*D19)/AL47,(Z75+AO35*D19)/AM47,(Z76+AO35*D19)/AN47,(Z77+AO35*D19)/AO47)*AP47","v":402.4},{"$f":"MIN((AA73+AO35*D19)/AK47,(AA74+AO35*D19)/AL47,(AA75+AO35*D19)/AM47,(AA76+AO35*D19)/AN47,(AA77+AO35*D19)/AO47)*AP47","v":451.19999999999993},{"$f":"MIN((AB73+AO35*D19)/AK47,(AB74+AO35*D19)/AL47,(AB75+AO35*D19)/AM47,(AB76+AO35*D19)/AN47,(AB77+AO35*D19)/AO47)*AP47","v":453.59999999999997},{"$f":"MIN((AC73+AO35*D19)/AK47,(AC74+AO35*D19)/AL47,(AC75+AO35*D19)/AM47,(AC76+AO35*D19)/AN47,(AC77+AO35*D19)/AO47)*AP47","v":456.79999999999995},{"$f":"MIN((AD73+AO35*D19)/AK47,(AD74+AO35*D19)/AL47,(AD75+AO35*D19)/AM47,(AD76+AO35*D19)/AN47,(AD77+AO35*D19)/AO47)*AP47","v":402.4},{"$f":"MIN((AE73+AO35*D19)/AK47,(AE74+AO35*D19)/AL47,(AE75+AO35*D19)/AM47,(AE76+AO35*D19)/AN47,(AE77+AO35*D19)/AO47)*AP47","v":444.80000000000007},{"$f":"MIN((AF73+AO35*D19)/AK47,(AF74+AO35*D19)/AL47,(AF75+AO35*D19)/AM47,(AF76+AO35*D19)/AN47,(AF77+AO35*D19)/AO47)*AP47","v":459.2},460.79999999999995,null,null,1,null,2,null,3,null,4,null,5,null,6,null,7,null,8,null,9,null,10,null,11,null,null,"resultat match selon stratégie"]
[null,null,null,"","nigeria 8 ",10,5.8759999999999993E-2,{"$f":"IF(G20<>\"\",IF(ISNA(IF(VLOOKUP(G20,$AI$8:$AV$33,14,FALSE)=\"\",\"\",(HLOOKUP(VLOOKUP(G20,$BA$10:$BB$20,2,FALSE),S121:AF126,6,FALSE)/100+MIN(5000,M20)/500)/100)),G113,IF(VLOOKUP(G20,$AI$8:$AV$33,14,FALSE)=\"\",\"\",(HLOOKUP(VLOOKUP(G20,$BA$10:$BB$20,2,FALSE),S121:AF126,6,FALSE)/100+MIN(5000,M20)/500)/100)),\"\")","v":7.6759999999999995E-2},{"$f":"IF(G20<>\"\",IF(ISNA(IF(VLOOKUP(G20,$AI$8:$AV$29,14,FALSE)=\"\",\"\",((HLOOKUP(VLOOKUP(G20,$BA$10:$BB$20,2,FALSE),$S$121:$AF$126,6,FALSE)+IF(HLOOKUP(F113,$AJ$7:$AT$35,29,FALSE)=1,D19,0))/100+MIN(5000,M20)/500)/100)),H113,IF(VLOOKUP(G20,$AI$8:$AV$29,14,FALSE)=\"\",\"\",((HLOOKUP(VLOOKUP(G20,$BA$10:$BB$20,2,FALSE),$S$121:$AF$126,6,FALSE)+IF(HLOOKUP(F113,$AJ$7:$AT$35,29,FALSE)=1,D19,0))/100+MIN(5000,M20)/500)/100)),\"\")","v":7.6759999999999995E-2},null,null,null,null,null,null,null,null,null,null,null,null,null,null,null,null,null,null,null,null,null,null,null,null,null,null,"algerie 4 ",{"$f":"MIN((S80+AN35*D19)/AK46,(S81+AN35*D19)/AL46,(S82+AN35*D19)/AM46,(S83+AN35*D19)/AN46,(S84+AN35*D19)/AO46)*AP46","v":524},{"$f":"MIN((T80+AN35*D19)/AK46,(T81+AN35*D19)/AL46,(T82+AN35*D19)/AM46,(T83+AN35*D19)/AN46,(T84+AN35*D19)/AO46)*AP46","v":518.66666666666663},{"$f":"MIN((U80+AN35*D19)/AK46,(U81+AN35*D19)/AL46,(U82+AN35*D19)/AM46,(U83+AN35*D19)/AN46,(U84+AN35*D19)/AO46)*AP46","v":449.33333333333331},{"$f":"MIN((V80+AN35*D19)/AK46,(V81+AN35*D19)/AL46,(V82+AN35*D19)/AM46,(V83+AN35*D19)/AN46,(V84+AN35*D19)/AO46)*AP46","v":509.33333333333337},{"$f":"MIN((W80+AN35*D19)/AK46,(W81+AN35*D19)/AL46,(W82+AN35*D19)/AM46,(W83+AN35*D19)/AN46,(W84+AN35*D19)/AO46)*AP46","v":449.33333333333331},{"$f":"MIN((X80+AN35*D19)/AK46,(X81+AN35*D19)/AL46,(X82+AN35*D19)/AM46,(X83+AN35*D19)/AN46,(X84+AN35*D19)/AO46)*AP46","v":524},{"$f":"MIN((Y80+AN35*D19)/AK46,(Y81+AN35*D19)/AL46,(Y82+AN35*D19)/AM46,(Y83+AN35*D19)/AN46,(Y84+AN35*D19)/AO46)*AP46","v":520},{"$f":"MIN((Z80+AN35*D19)/AK46,(Z81+AN35*D19)/AL46,(Z82+AN35*D19)/AM46,(Z83+AN35*D19)/AN46,(Z84+AN35*D19)/AO46)*AP46","v":449.33333333333331},{"$f":"MIN((AA80+AN35*D19)/AK46,(AA81+AN35*D19)/AL46,(AA82+AN35*D19)/AM46,(AA83+AN35*D19)/AN46,(AA84+AN35*D19)/AO46)*AP46","v":520},{"$f":"MIN((AB80+AN35*D19)/AK46,(AB81+AN35*D19)/AL46,(AB82+AN35*D19)/AM46,(AB83+AN35*D19)/AN46,(AB84+AN35*D19)/AO46)*AP46","v":513.33333333333337},{"$f":"MIN((AC80+AN35*D19)/AK46,(AC81+AN35*D19)/AL46,(AC82+AN35*D19)/AM46,(AC83+AN35*D19)/AN46,(AC84+AN35*D19)/AO46)*AP46","v":514.66666666666663},{"$f":"MIN((AD80+AN35*D19)/AK46,(AD81+AN35*D19)/AL46,(AD82+AN35*D19)/AM46,(AD83+AN35*D19)/AN46,(AD84+AN35*D19)/AO46)*AP46","v":449.33333333333331},{"$f":"MIN((AE80+AN35*D19)/AK46,(AE81+AN35*D19)/AL46,(AE82+AN35*D19)/AM46,(AE83+AN35*D19)/AN46,(AE84+AN35*D19)/AO46)*AP46","v":529.33333333333326},{"$f":"MIN((AF80+AN35*D19)/AK46,(AF81+AN35*D19)/AL46,(AF82+AN35*D19)/AM46,(AF83+AN35*D19)/AN46,(AF84+AN35*D19)/AO46)*AP46","v":508},529.33333333333326,null,"algerie 4 ",{"$f":"MIN((S80+AO35*D19)/AK47,(S81+AO35*D19)/AL47,(S82+AO35*D19)/AM47,(S83+AO35*D19)/AN47,(S84+AO35*D19)/AO47)*AP47","v":433.6},{"$f":"MIN((T80+AO35*D19)/AK47,(T81+AO35*D19)/AL47,(T82+AO35*D19)/AM47,(T83+AO35*D19)/AN47,(T84+AO35*D19)/AO47)*AP47","v":422},{"$f":"MIN((U80+AO35*D19)/AK47,(U81+AO35*D19)/AL47,(U82+AO35*D19)/AM47,(U83+AO35*D19)/AN47,(U84+AO35*D19)/AO47)*AP47","v":370},{"$f":"MIN((V80+AO35*D19)/AK47,(V81+AO35*D19)/AL47,(V82+AO35*D19)/AM47,(V83+AO35*D19)/AN47,(V84+AO35*D19)/AO47)*AP47","v":415.00000000000006},{"$f":"MIN((W80+AO35*D19)/AK47,(W81+AO35*D19)/AL47,(W82+AO35*D19)/AM47,(W83+AO35*D19)/AN47,(W84+AO35*D19)/AO47)*AP47","v":370},{"$f":"MIN((X80+AO35*D19)/AK47,(X81+AO35*D19)/AL47,(X82+AO35*D19)/AM47,(X83+AO35*D19)/AN47,(X84+AO35*D19)/AO47)*AP47","v":426},{"$f":"MIN((Y80+AO35*D19)/AK47,(Y81+AO35*D19)/AL47,(Y82+AO35*D19)/AM47,(Y83+AO35*D19)/AN47,(Y84+AO35*D19)/AO47)*AP47","v":430.99999999999994},{"$f":"MIN((Z80+AO35*D19)/AK47,(Z81+AO35*D19)/AL47,(Z82+AO35*D19)/AM47,(Z83+AO35*D19)/AN47,(Z84+AO35*D19)/AO47)*AP47","v":370},{"$f":"MIN((AA80+AO35*D19)/AK47,(AA81+AO35*D19)/AL47,(AA82+AO35*D19)/AM47,(AA83+AO35*D19)/AN47,(AA84+AO35*D19)/AO47)*AP47","v":430.99999999999994},{"$f":"MIN((AB80+AO35*D19)/AK47,(AB81+AO35*D19)/AL47,(AB82+AO35*D19)/AM47,(AB83+AO35*D19)/AN47,(AB84+AO35*D19)/AO47)*AP47","v":434},{"$f":"MIN((AC80+AO35*D19)/AK47,(AC81+AO35*D19)/AL47,(AC82+AO35*D19)/AM47,(AC83+AO35*D19)/AN47,(AC84+AO35*D19)/AO47)*AP47","v":438},{"$f":"MIN((AD80+AO35*D19)/AK47,(AD81+AO35*D19)/AL47,(AD82+AO35*D19)/AM47,(AD83+AO35*D19)/AN47,(AD84+AO35*D19)/AO47)*AP47","v":370},{"$f":"MIN((AE80+AO35*D19)/AK47,(AE81+AO35*D19)/AL47,(AE82+AO35*D19)/AM47,(AE83+AO35*D19)/AN47,(AE84+AO35*D19)/AO47)*AP47","v":438},{"$f":"MIN((AF80+AO35*D19)/AK47,(AF81+AO35*D19)/AL47,(AF82+AO35*D19)/AM47,(AF83+AO35*D19)/AN47,(AF84+AO35*D19)/AO47)*AP47","v":434},438,null,{"$f":"BA110","v":"espagne 9 "},{"$f":"IF(AY56=AK56,BR86,IF(AY56=AL56,BS86,IF(AY56=AM56,BT86,IF(AY56=AN56,BU86,IF(AY56=AO56,BV86,IF(AY56=AP56,BW86,IF(AY56=AQ56,BX86,IF(AY56=AR56,BY86,BT113))))))))","v":"kit 1"},{"$f":"IF(AY56=AS56,BZ86,IF(AY56=AT56,CA86,IF(AY56=AU56,CB86,IF(AY56=AV56,CC86,IF(AY56=AW56,CD86,IF(AY56=AX56,CE86,CO113))))))","v":"-"},{"$f":"IF(BP56=BB56,BR86,IF(BP56=BC56,BS86,IF(BP56=BD56,BT86,IF(BP56=BE56,BU86,IF(BP56=BF56,BV86,IF(BP56=BG56,BW86,IF(BP56=BH56,BX86,IF(BP56=BI56,BY86,BV113))))))))","v":"kit 2/3"},{"$f":"IF(BP56=BJ56,BZ86,IF(BP56=BK56,CA86,IF(BP56=BL56,CB86,IF(BP56=BM56,CC86,IF(BP56=BN56,CD86,IF(BP56=BO56,CE86,CO113))))))","v":"-"},{"$f":"IF(AY83=AK83,BR86,IF(AY83=AL83,BS86,IF(AY83=AM83,BT86,IF(AY83=AN83,BU86,IF(AY83=AO83,BV86,IF(AY83=AP83,BW86,IF(AY83=AQ83,BX86,IF(AY83=AR83,BY86,BX113))))))))","v":"kit 2/3"},{"$f":"IF(AY83=AS83,BZ86,IF(AY83=AT83,CA86,IF(AY83=AU83,CB86,IF(AY83=AV83,CC86,IF(AY83=AW83,CD86,IF(AY83=AX83,CE86,CO113))))))","v":"-"},{"$f":"IF(BP83=BB83,BR86,IF(BP83=BC83,BS86,IF(BP83=BD83,BT86,IF(BP83=BE83,BU86,IF(BP83=BF83,BV86,IF(BP83=BG83,BW86,IF(BP83=BH83,BX86,IF(BP83=BI83,BY86,BZ113))))))))","v":"kit 4"},{"$f":"IF(BP83=BJ83,BZ86,IF(BP83=BK83,CA86,IF(BP83=BL83,CB86,IF(BP83=BM83,CC86,IF(BP83=BN83,CD86,IF(BP83=BO83,CE86,CO113))))))","v":"-"},{"$f":"IF(AY110=AK110,BR86,IF(AY110=AL110,BS86,IF(AY110=AM110,BT86,IF(AY110=AN110,BU86,IF(AY110=AO110,BV86,IF(AY110=AP110,BW86,IF(AY110=AQ110,BX86,IF(AY110=AR110,BY86,CB113))))))))","v":"kit 5"},{"$f":"IF(AY110=AS110,BZ86,IF(AY110=AT110,CA86,IF(AY110=AU110,CB86,IF(AY110=AV110,CC86,IF(AY110=AW110,CD86,IF(AY110=AX110,CE86,CO113))))))","v":"-"},{"$f":"IF(BP110=BB110,BR86,IF(BP110=BC110,BS86,IF(BP110=BD110,BT86,IF(BP110=BE110,BU86,IF(BP110=BF110,BV86,IF(BP110=BG110,BW86,IF(BP110=BH110,BX86,IF(BP110=BI110,BY86,CD113))))))))","v":"kit 4"},{"$f":"IF(BP110=BJ110,BZ86,IF(BP110=BK110,CA86,IF(BP110=BL110,CB86,IF(BP110=BM110,CC86,IF(BP110=BN110,CD86,IF(BP110=BO110,CE86,CO113))))))","v":"-"},{"$f":"IF(AY137=AK137,BR86,IF(AY137=AL137,BS86,IF(AY137=AM137,BT86,IF(AY137=AN137,BU86,IF(AY137=AO137,BV86,IF(AY137=AP137,BW86,IF(AY137=AQ137,BX86,IF(AY137=AR137,BY86,CF113))))))))","v":"kit 10"},{"$f":"IF(AY137=AS137,BZ86,IF(AY137=AT137,CA86,IF(AY137=AU137,CB86,IF(AY137=AV137,CC86,IF(AY137=AW137,CD86,IF(AY137=AX137,CE86,CO113))))))","v":"kit 10"},{"$f":"IF(BP137=BB137,BR86,IF(BP137=BC137,BS86,IF(BP137=BD137,BT86,IF(BP137=BE137,BU86,IF(BP137=BF137,BV86,IF(BP137=BG137,BW86,IF(BP137=BH137,BX86,IF(BP137=BI137,BY86,CH113))))))))","v":"kit 2/3"},{"$f":"IF(BP137=BJ137,BZ86,IF(BP137=BK137,CA86,IF(BP137=BL137,CB86,IF(BP137=BM137,CC86,IF(BP137=BN137,CD86,IF(BP137=BO137,CE86,CO113))))))","v":"-"},{"$f":"IF(AY164=AK164,BR86,IF(AY164=AL164,BS86,IF(AY164=AM164,BT86,IF(AY164=AN164,BU86,IF(AY164=AO164,BV86,IF(AY164=AP164,BW86,IF(AY164=AQ164,BX86,IF(AY164=AR164,BY86,CJ113))))))))","v":"kit 5"},{"$f":"IF(AY164=AS164,BZ86,IF(AY164=AT164,CA86,IF(AY164=AU164,CB86,IF(AY164=AV164,CC86,IF(AY164=AW164,CD86,IF(AY164=AX164,CE86,CO113))))))","v":"-"},{"$f":"IF(BP164=BB164,BR86,IF(BP164=BC164,BS86,IF(BP164=BD164,BT86,IF(BP164=BE164,BU86,IF(BP164=BF164,BV86,IF(BP164=BG164,BW86,IF(BP164=BH164,BX86,IF(BP164=BI164,BY86,CL113))))))))","v":"kit 10"},{"$f":"IF(BP164=BJ164,BZ86,IF(BP164=BK164,CA86,IF(BP164=BL164,CB86,IF(BP164=BM164,CC86,IF(BP164=BN164,CD86,IF(BP164=BO164,CE86,CO113))))))","v":"kit 10"},{"$f":"IF(AY191=AK191,BR86,IF(AY191=AL191,BS86,IF(AY191=AM191,BT86,IF(AY191=AN191,BU86,IF(AY191=AO191,BV86,IF(AY191=AP191,BW86,IF(AY191=AQ191,BX86,IF(AY191=AR191,BY86,CN113))))))))","v":"kit 2/3"},{"$f":"IF(AY191=AS191,BZ86,IF(AY191=AT191,CA86,IF(AY191=AU191,CB86,IF(AY191=AV191,CC86,IF(AY191=AW191,CD86,IF(AY191=AX191,CE86,CO113))))))","v":"-"},"-"]
[null,null,null,"","slovaquie 8 ",11,5.3719999999999997E-2,{"$f":"IF(G21<>\"\",IF(ISNA(IF(VLOOKUP(G21,$AI$8:$AV$33,14,FALSE)=\"\",\"\",(HLOOKUP(VLOOKUP(G21,$BA$10:$BB$20,2,FALSE),S128:AF133,6,FALSE)/100+MIN(5000,M21)/500)/100)),G114,IF(VLOOKUP(G21,$AI$8:$AV$33,14,FALSE)=\"\",\"\",(HLOOKUP(VLOOKUP(G21,$BA$10:$BB$20,2,FALSE),S128:AF133,6,FALSE)/100+MIN(5000,M21)/500)/100)),\"\")","v":7.0220000000000005E-2},{"$f":"IF(G21<>\"\",IF(ISNA(IF(VLOOKUP(G21,$AI$8:$AV$29,14,FALSE)=\"\",\"\",((HLOOKUP(VLOOKUP(G21,$BA$10:$BB$20,2,FALSE),$S$128:$AF$133,6,FALSE)+IF(HLOOKUP(F114,$AJ$7:$AT$35,29,FALSE)=1,D19,0))/100+MIN(5000,M21)/500)/100)),H114,IF(VLOOKUP(G21,$AI$8:$AV$29,14,FALSE)=\"\",\"\",((HLOOKUP(VLOOKUP(G21,$BA$10:$BB$20,2,FALSE),$S$128:$AF$133,6,FALSE)+IF(HLOOKUP(F114,$AJ$7:$AT$35,29,FALSE)=1,D19,0))/100+MIN(5000,M21)/500)/100)),\"\")","v":7.0220000000000005E-2},null,null,null,null,null,null,null,null,{"$f":"G19","v":"grece 9 "},{"$f":"S107","v":"kit 1"},{"$f":"T107","v":"kit 2/3"},0,"kit 4",0,"kit 5","kit 6/7",0,0,"kit 8","kit 9",0,{"$f":"AE107","v":"kit 10"},{"$f":"AF107","v":"kit 11"},null,null,null,"ghana 5 ",{"$f":"MIN((S87+AN35*D19)/AK46,(S88+AN35*D19)/AL46,(S89+AN35*D19)/AM46,(S90+AN35*D19)/AN46,(S91+AN35*D19)/AO46)*AP46","v":630},{"$f":"MIN((T87+AN35*D19)/AK46,(T88+AN35*D19)/AL46,(T89+AN35*D19)/AM46,(T90+AN35*D19)/AN46,(T91+AN35*D19)/AO46)*AP46","v":658},{"$f":"MIN((U87+AN35*D19)/AK46,(U88+AN35*D19)/AL46,(U89+AN35*D19)/AM46,(U90+AN35*D19)/AN46,(U91+AN35*D19)/AO46)*AP46","v":589},{"$f":"MIN((V87+AN35*D19)/AK46,(V88+AN35*D19)/AL46,(V89+AN35*D19)/AM46,(V90+AN35*D19)/AN46,(V91+AN35*D19)/AO46)*AP46","v":662},{"$f":"MIN((W87+AN35*D19)/AK46,(W88+AN35*D19)/AL46,(W89+AN35*D19)/AM46,(W90+AN35*D19)/AN46,(W91+AN35*D19)/AO46)*AP46","v":589},{"$f":"MIN((X87+AN35*D19)/AK46,(X88+AN35*D19)/AL46,(X89+AN35*D19)/AM46,(X90+AN35*D19)/AN46,(X91+AN35*D19)/AO46)*AP46","v":659},{"$f":"MIN((Y87+AN35*D19)/AK46,(Y88+AN35*D19)/AL46,(Y89+AN35*D19)/AM46,(Y90+AN35*D19)/AN46,(Y91+AN35*D19)/AO46)*AP46","v":650},{"$f":"MIN((Z87+AN35*D19)/AK46,(Z88+AN35*D19)/AL46,(Z89+AN35*D19)/AM46,(Z90+AN35*D19)/AN46,(Z91+AN35*D19)/AO46)*AP46","v":589},{"$f":"MIN((AA87+AN35*D19)/AK46,(AA88+AN35*D19)/AL46,(AA89+AN35*D19)/AM46,(AA90+AN35*D19)/AN46,(AA91+AN35*D19)/AO46)*AP46","v":650},{"$f":"MIN((AB87+AN35*D19)/AK46,(AB88+AN35*D19)/AL46,(AB89+AN35*D19)/AM46,(AB90+AN35*D19)/AN46,(AB91+AN35*D19)/AO46)*AP46","v":645},{"$f":"MIN((AC87+AN35*D19)/AK46,(AC88+AN35*D19)/AL46,(AC89+AN35*D19)/AM46,(AC90+AN35*D19)/AN46,(AC91+AN35*D19)/AO46)*AP46","v":650},{"$f":"MIN((AD87+AN35*D19)/AK46,(AD88+AN35*D19)/AL46,(AD89+AN35*D19)/AM46,(AD90+AN35*D19)/AN46,(AD91+AN35*D19)/AO46)*AP46","v":589},{"$f":"MIN((AE87+AN35*D19)/AK46,(AE88+AN35*D19)/AL46,(AE89+AN35*D19)/AM46,(AE90+AN35*D19)/AN46,(AE91+AN35*D19)/AO46)*AP46","v":635},{"$f":"MIN((AF87+AN35*D19)/AK46,(AF88+AN35*D19)/AL46,(AF89+AN35*D19)/AM46,(AF90+AN35*D19)/AN46,(AF91+AN35*D19)/AO46)*AP46","v":640},662,null,"ghana 5 ",{"$f":"MIN((S87+AO35*D19)/AK47,(S88+AO35*D19)/AL47,(S89+AO35*D19)/AM47,(S90+AO35*D19)/AN47,(S91+AO35*D19)/AO47)*AP47","v":445.6},{"$f":"MIN((T87+AO35*D19)/AK47,(T88+AO35*D19)/AL47,(T89+AO35*D19)/AM47,(T90+AO35*D19)/AN47,(T91+AO35*D19)/AO47)*AP47","v":480.79999999999995},{"$f":"MIN((U87+AO35*D19)/AK47,(U88+AO35*D19)/AL47,(U89+AO35*D19)/AM47,(U90+AO35*D19)/AN47,(U91+AO35*D19)/AO47)*AP47","v":425.6},{"$f":"MIN((V87+AO35*D19)/AK47,(V88+AO35*D19)/AL47,(V89+AO35*D19)/AM47,(V90+AO35*D19)/AN47,(V91+AO35*D19)/AO47)*AP47","v":476.79999999999995},{"$f":"MIN((W87+AO35*D19)/AK47,(W88+AO35*D19)/AL47,(W89+AO35*D19)/AM47,(W90+AO35*D19)/AN47,(W91+AO35*D19)/AO47)*AP47","v":425.6},{"$f":"MIN((X87+AO35*D19)/AK47,(X88+AO35*D19)/AL47,(X89+AO35*D19)/AM47,(X90+AO35*D19)/AN47,(X91+AO35*D19)/AO47)*AP47","v":470.4},{"$f":"MIN((Y87+AO35*D19)/AK47,(Y88+AO35*D19)/AL47,(Y89+AO35*D19)/AM47,(Y90+AO35*D19)/AN47,(Y91+AO35*D19)/AO47)*AP47","v":474.4},{"$f":"MIN((Z87+AO35*D19)/AK47,(Z88+AO35*D19)/AL47,(Z89+AO35*D19)/AM47,(Z90+AO35*D19)/AN47,(Z91+AO35*D19)/AO47)*AP47","v":425.6},{"$f":"MIN((AA87+AO35*D19)/AK47,(AA88+AO35*D19)/AL47,(AA89+AO35*D19)/AM47,(AA90+AO35*D19)/AN47,(AA91+AO35*D19)/AO47)*AP47","v":474.4},{"$f":"MIN((AB87+AO35*D19)/AK47,(AB88+AO35*D19)/AL47,(AB89+AO35*D19)/AM47,(AB90+AO35*D19)/AN47,(AB91+AO35*D19)/AO47)*AP47","v":476.79999999999995},{"$f":"MIN((AC87+AO35*D19)/AK47,(AC88+AO35*D19)/AL47,(AC89+AO35*D19)/AM47,(AC90+AO35*D19)/AN47,(AC91+AO35*D19)/AO47)*AP47","v":470.4},{"$f":"MIN((AD87+AO35*D19)/AK47,(AD88+AO35*D19)/AL47,(AD89+AO35*D19)/AM47,(AD90+AO35*D19)/AN47,(AD91+AO35*D19)/AO47)*AP47","v":425.6},{"$f":"MIN((AE87+AO35*D19)/AK47,(AE88+AO35*D19)/AL47,(AE89+AO35*D19)/AM47,(AE90+AO35*D19)/AN47,(AE91+AO35*D19)/AO47)*AP47","v":473.59999999999997},{"$f":"MIN((AF87+AO35*D19)/AK47,(AF88+AO35*D19)/AL47,(AF89+AO35*D19)/AM47,(AF90+AO35*D19)/AN47,(AF91+AO35*D19)/AO47)*AP47","v":476.79999999999995},480.79999999999995,null,2,"kit 1","-","kit 2/3","-","kit 2/3","-","kit 4","-","kit 5","-","kit 4","-","kit 9","kit 9","kit 11","kit 11","kit 1","-","kit 10","kit 10","kit 11","kit 11","-",null,null,null,null,"adversaire"]
[null,null,null,"","afrique du sud 4 ",12,4.9680000000000002E-2,{"$f":"IF(G22<>\"\",IF(ISNA(IF(VLOOKUP(G22,$AI$8:$AV$33,14,FALSE)=\"\",\"\",(HLOOKUP(VLOOKUP(G22,$BA$10:$BB$20,2,FALSE),S135:AF140,6,FALSE)/100+MIN(5000,M22)/500)/100)),G115,IF(VLOOKUP(G22,$AI$8:$AV$33,14,FALSE)=\"\",\"\",(HLOOKUP(VLOOKUP(G22,$BA$10:$BB$20,2,FALSE),S135:AF140,6,FALSE)/100+MIN(5000,M22)/500)/100)),\"\")","v":4.9680000000000002E-2},{"$f":"IF(G22<>\"\",IF(ISNA(IF(VLOOKUP(G22,$AI$8:$AV$29,14,FALSE)=\"\",\"\",((HLOOKUP(VLOOKUP(G22,$BA$10:$BB$20,2,FALSE),$S$135:$AF$140,6,FALSE)+IF(HLOOKUP(F115,$AJ$7:$AT$35,29,FALSE)=1,D19,0))/100+MIN(5000,M22)/500)/100)),H115,IF(VLOOKUP(G22,$AI$8:$AV$29,14,FALSE)=\"\",\"\",((HLOOKUP(VLOOKUP(G22,$BA$10:$BB$20,2,FALSE),$S$135:$AF$140,6,FALSE)+IF(HLOOKUP(F115,$AJ$7:$AT$35,29,FALSE)=1,D19,0))/100+MIN(5000,M22)/500)/100)),\"\")","v":4.9680000000000002E-2},null,null,null,null,null,null,null,null,{"$f":"H19+AH39+D16+D17+D21+D19*AG16","v":524},{"$f":"R115+Q10","v":565},{"$f":"R115+R10","v":593},{"$f":"R115+S10","v":524},{"$f":"R115+T10","v":597},{"$f":"R115+U10","v":524},{"$f":"R115+V10","v":594},{"$f":"R115+W10","v":585},{"$f":"R115+X10","v":524},{"$f":"R115+Y10","v":585},{"$f":"R115+Z10","v":580},{"$f":"R115+AA10","v":585},{"$f":"R115+AB10","v":524},{"$f":"R115+AC10","v":570},{"$f":"R115+AD10","v":575},null,null,null,"slovenie 6 ",{"$f":"MIN((S94+AN35*D19)/AK46,(S95+AN35*D19)/AL46,(S96+AN35*D19)/AM46,(S97+AN35*D19)/AN46,(S98+AN35*D19)/AO46)*AP46","v":615},{"$f":"MIN((T94+AN35*D19)/AK46,(T95+AN35*D19)/AL46,(T96+AN35*D19)/AM46,(T97+AN35*D19)/AN46,(T98+AN35*D19)/AO46)*AP46","v":643},{"$f":"MIN((U94+AN35*D19)/AK46,(U95+AN35*D19)/AL46,(U96+AN35*D19)/AM46,(U97+AN35*D19)/AN46,(U98+AN35*D19)/AO46)*AP46","v":574},{"$f":"MIN((V94+AN35*D19)/AK46,(V95+AN35*D19)/AL46,(V96+AN35*D19)/AM46,(V97+AN35*D19)/AN46,(V98+AN35*D19)/AO46)*AP46","v":647},{"$f":"MIN((W94+AN35*D19)/AK46,(W95+AN35*D19)/AL46,(W96+AN35*D19)/AM46,(W97+AN35*D19)/AN46,(W98+AN35*D19)/AO46)*AP46","v":574},{"$f":"MIN((X94+AN35*D19)/AK46,(X95+AN35*D19)/AL46,(X96+AN35*D19)/AM46,(X97+AN35*D19)/AN46,(X98+AN35*D19)/AO46)*AP46","v":644},{"$f":"MIN((Y94+AN35*D19)/AK46,(Y95+AN35*D19)/AL46,(Y96+AN35*D19)/AM46,(Y97+AN35*D19)/AN46,(Y98+AN35*D19)/AO46)*AP46","v":635},{"$f":"MIN((Z94+AN35*D19)/AK46,(Z95+AN35*D19)/AL46,(Z96+AN35*D19)/AM46,(Z97+AN35*D19)/AN46,(Z98+AN35*D19)/AO46)*AP46","v":574},{"$f":"MIN((AA94+AN35*D19)/AK46,(AA95+AN35*D19)/AL46,(AA96+AN35*D19)/AM46,(AA97+AN35*D19)/AN46,(AA98+AN35*D19)/AO46)*AP46","v":635},{"$f":"MIN((AB94+AN35*D19)/AK46,(AB95+AN35*D19)/AL46,(AB96+AN35*D19)/AM46,(AB97+AN35*D19)/AN46,(AB98+AN35*D19)/AO46)*AP46","v":630},{"$f":"MIN((AC94+AN35*D19)/AK46,(AC95+AN35*D19)/AL46,(AC96+AN35*D19)/AM46,(AC97+AN35*D19)/AN46,(AC98+AN35*D19)/AO46)*AP46","v":635},{"$f":"MIN((AD94+AN35*D19)/AK46,(AD95+AN35*D19)/AL46,(AD96+AN35*D19)/AM46,(AD97+AN35*D19)/AN46,(AD98+AN35*D19)/AO46)*AP46","v":574},{"$f":"MIN((AE94+AN35*D19)/AK46,(AE95+AN35*D19)/AL46,(AE96+AN35*D19)/AM46,(AE97+AN35*D19)/AN46,(AE98+AN35*D19)/AO46)*AP46","v":620},{"$f":"MIN((AF94+AN35*D19)/AK46,(AF95+AN35*D19)/AL46,(AF96+AN35*D19)/AM46,(AF97+AN35*D19)/AN46,(AF98+AN35*D19)/AO46)*AP46","v":625},647,null,"slovenie 6 ",{"$f":"MIN((S94+AO35*D19)/AK47,(S95+AO35*D19)/AL47,(S96+AO35*D19)/AM47,(S97+AO35*D19)/AN47,(S98+AO35*D19)/AO47)*AP47","v":463.99999999999994},{"$f":"MIN((T94+AO35*D19)/AK47,(T95+AO35*D19)/AL47,(T96+AO35*D19)/AM47,(T97+AO35*D19)/AN47,(T98+AO35*D19)/AO47)*AP47","v":499.2},{"$f":"MIN((U94+AO35*D19)/AK47,(U95+AO35*D19)/AL47,(U96+AO35*D19)/AM47,(U97+AO35*D19)/AN47,(U98+AO35*D19)/AO47)*AP47","v":444.00000000000006},{"$f":"MIN((V94+AO35*D19)/AK47,(V95+AO35*D19)/AL47,(V96+AO35*D19)/AM47,(V97+AO35*D19)/AN47,(V98+AO35*D19)/AO47)*AP47","v":495.2},{"$f":"MIN((W94+AO35*D19)/AK47,(W95+AO35*D19)/AL47,(W96+AO35*D19)/AM47,(W97+AO35*D19)/AN47,(W98+AO35*D19)/AO47)*AP47","v":444.00000000000006},{"$f":"MIN((X94+AO35*D19)/AK47,(X95+AO35*D19)/AL47,(X96+AO35*D19)/AM47,(X97+AO35*D19)/AN47,(X98+AO35*D19)/AO47)*AP47","v":488.8},{"$f":"MIN((Y94+AO35*D19)/AK47,(Y95+AO35*D19)/AL47,(Y96+AO35*D19)/AM47,(Y97+AO35*D19)/AN47,(Y98+AO35*D19)/AO47)*AP47","v":492.8},{"$f":"MIN((Z94+AO35*D19)/AK47,(Z95+AO35*D19)/AL47,(Z96+AO35*D19)/AM47,(Z97+AO35*D19)/AN47,(Z98+AO35*D19)/AO47)*AP47","v":444.00000000000006},{"$f":"MIN((AA94+AO35*D19)/AK47,(AA95+AO35*D19)/AL47,(AA96+AO35*D19)/AM47,(AA97+AO35*D19)/AN47,(AA98+AO35*D19)/AO47)*AP47","v":492.8},{"$f":"MIN((AB94+AO35*D19)/AK47,(AB95+AO35*D19)/AL47,(AB96+AO35*D19)/AM47,(AB97+AO35*D19)/AN47,(AB98+AO35*D19)/AO47)*AP47","v":495.2},{"$f":"MIN((AC94+AO35*D19)/AK47,(AC95+AO35*D19)/AL47,(AC96+AO35*D19)/AM47,(AC97+AO35*D19)/AN47,(AC98+AO35*D19)/AO47)*AP47","v":488.8},{"$f":"MIN((AD94+AO35*D19)/AK47,(AD95+AO35*D19)/AL47,(AD96+AO35*D19)/AM47,(AD97+AO35*D19)/AN47,(AD98+AO35*D19)/AO47)*AP47","v":444.00000000000006},{"$f":"MIN((AE94+AO35*D19)/AK47,(AE95+AO35*D19)/AL47,(AE96+AO35*D19)/AM47,(AE97+AO35*D19)/AN47,(AE98+AO35*D19)/AO47)*AP47","v":492},{"$f":"MIN((AF94+AO35*D19)/AK47,(AF95+AO35*D19)/AL47,(AF96+AO35*D19)/AM47,(AF97+AO35*D19)/AN47,(AF98+AO35*D19)/AO47)*AP47","v":495.2},499.2,null,3,"kit 1","-","kit 2/3","-","kit 2/3","-","kit 4","-","kit 10","kit 10","kit 4","-","kit 1","-","kit 1","-","kit 1","-","kit 1","-","kit 1","-","-",null,null,null,null,541,null,null,null,null,null,null,null,null,null,null,null,433,null,null,null,null,null,null,null,null,null,null,null,352,null,null,null,null,null,null,null,null,null,null,null,442]
[null,null,null,"","allemagne 11 ",13,6.1820000000000007E-2,{"$f":"IF(G23<>\"\",IF(ISNA(IF(VLOOKUP(G23,$AI$8:$AV$33,14,FALSE)=\"\",\"\",(HLOOKUP(VLOOKUP(G23,$BA$10:$BB$20,2,FALSE),S142:AF147,6,FALSE)/100+MIN(5000,M23)/500)/100)),G116,IF(VLOOKUP(G23,$AI$8:$AV$33,14,FALSE)=\"\",\"\",(HLOOKUP(VLOOKUP(G23,$BA$10:$BB$20,2,FALSE),S142:AF147,6,FALSE)/100+MIN(5000,M23)/500)/100)),\"\")","v":6.1820000000000007E-2},{"$f":"IF(G23<>\"\",IF(ISNA(IF(VLOOKUP(G23,$AI$8:$AV$29,14,FALSE)=\"\",\"\",((HLOOKUP(VLOOKUP(G23,$BA$10:$BB$20,2,FALSE),$S$142:$AF$147,6,FALSE)+IF(HLOOKUP(F116,$AJ$7:$AT$35,29,FALSE)=1,D19,0))/100+MIN(5000,M23)/500)/100)),H116,IF(VLOOKUP(G23,$AI$8:$AV$29,14,FALSE)=\"\",\"\",((HLOOKUP(VLOOKUP(G23,$BA$10:$BB$20,2,FALSE),$S$142:$AF$147,6,FALSE)+IF(HLOOKUP(F116,$AJ$7:$AT$35,29,FALSE)=1,D19,0))/100+MIN(5000,M23)/500)/100)),\"\")","v":6.1820000000000007E-2},null,null,null,null,null,null,null,null,{"$f":"I19+AH40+D15+D17+D21+D19*AG16","v":609},{"$f":"R116+Q11","v":689},{"$f":"R116+R11","v":661},{"$f":"R116+S11","v":609},{"$f":"R116+T11","v":654},{"$f":"R116+U11","v":609},{"$f":"R116+V11","v":665},{"$f":"R116+W11","v":670},{"$f":"R116+X11","v":609},{"$f":"R116+Y11","v":670},{"$f":"R116+Z11","v":673},{"$f":"R116+AA11","v":677},{"$f":"R116+AB11","v":609},{"$f":"R116+AC11","v":677},{"$f":"R116+AD11","v":673},null,null,null,"grece 7 ",{"$f":"MIN((S101+AN35*D19)/AK46,(S102+AN35*D19)/AL46,(S103+AN35*D19)/AM46,(S104+AN35*D19)/AN46,(S105+AN35*D19)/AO46)*AP46","v":623},{"$f":"MIN((T101+AN35*D19)/AK46,(T102+AN35*D19)/AL46,(T103+AN35*D19)/AM46,(T104+AN35*D19)/AN46,(T105+AN35*D19)/AO46)*AP46","v":651},{"$f":"MIN((U101+AN35*D19)/AK46,(U102+AN35*D19)/AL46,(U103+AN35*D19)/AM46,(U104+AN35*D19)/AN46,(U105+AN35*D19)/AO46)*AP46","v":582},{"$f":"MIN((V101+AN35*D19)/AK46,(V102+AN35*D19)/AL46,(V103+AN35*D19)/AM46,(V104+AN35*D19)/AN46,(V105+AN35*D19)/AO46)*AP46","v":655},{"$f":"MIN((W101+AN35*D19)/AK46,(W102+AN35*D19)/AL46,(W103+AN35*D19)/AM46,(W104+AN35*D19)/AN46,(W105+AN35*D19)/AO46)*AP46","v":582},{"$f":"MIN((X101+AN35*D19)/AK46,(X102+AN35*D19)/AL46,(X103+AN35*D19)/AM46,(X104+AN35*D19)/AN46,(X105+AN35*D19)/AO46)*AP46","v":652},{"$f":"MIN((Y101+AN35*D19)/AK46,(Y102+AN35*D19)/AL46,(Y103+AN35*D19)/AM46,(Y104+AN35*D19)/AN46,(Y105+AN35*D19)/AO46)*AP46","v":643},{"$f":"MIN((Z101+AN35*D19)/AK46,(Z102+AN35*D19)/AL46,(Z103+AN35*D19)/AM46,(Z104+AN35*D19)/AN46,(Z105+AN35*D19)/AO46)*AP46","v":582},{"$f":"MIN((AA101+AN35*D19)/AK46,(AA102+AN35*D19)/AL46,(AA103+AN35*D19)/AM46,(AA104+AN35*D19)/AN46,(AA105+AN35*D19)/AO46)*AP46","v":643},{"$f":"MIN((AB101+AN35*D19)/AK46,(AB102+AN35*D19)/AL46,(AB103+AN35*D19)/AM46,(AB104+AN35*D19)/AN46,(AB105+AN35*D19)/AO46)*AP46","v":638},{"$f":"MIN((AC101+AN35*D19)/AK46,(AC102+AN35*D19)/AL46,(AC103+AN35*D19)/AM46,(AC104+AN35*D19)/AN46,(AC105+AN35*D19)/AO46)*AP46","v":643},{"$f":"MIN((AD101+AN35*D19)/AK46,(AD102+AN35*D19)/AL46,(AD103+AN35*D19)/AM46,(AD104+AN35*D19)/AN46,(AD105+AN35*D19)/AO46)*AP46","v":582},{"$f":"MIN((AE101+AN35*D19)/AK46,(AE102+AN35*D19)/AL46,(AE103+AN35*D19)/AM46,(AE104+AN35*D19)/AN46,(AE105+AN35*D19)/AO46)*AP46","v":628},{"$f":"MIN((AF101+AN35*D19)/AK46,(AF102+AN35*D19)/AL46,(AF103+AN35*D19)/AM46,(AF104+AN35*D19)/AN46,(AF105+AN35*D19)/AO46)*AP46","v":633},655,null,"grece 7 ",{"$f":"MIN((S101+AO35*D19)/AK47,(S102+AO35*D19)/AL47,(S103+AO35*D19)/AM47,(S104+AO35*D19)/AN47,(S105+AO35*D19)/AO47)*AP47","v":471.2},{"$f":"MIN((T101+AO35*D19)/AK47,(T102+AO35*D19)/AL47,(T103+AO35*D19)/AM47,(T104+AO35*D19)/AN47,(T105+AO35*D19)/AO47)*AP47","v":503.2},{"$f":"MIN((U101+AO35*D19)/AK47,(U102+AO35*D19)/AL47,(U103+AO35*D19)/AM47,(U104+AO35*D19)/AN47,(U105+AO35*D19)/AO47)*AP47","v":451.19999999999993},{"$f":"MIN((V101+AO35*D19)/AK47,(V102+AO35*D19)/AL47,(V103+AO35*D19)/AM47,(V104+AO35*D19)/AN47,(V105+AO35*D19)/AO47)*AP47","v":502.4},{"$f":"MIN((W101+AO35*D19)/AK47,(W102+AO35*D19)/AL47,(W103+AO35*D19)/AM47,(W104+AO35*D19)/AN47,(W105+AO35*D19)/AO47)*AP47","v":451.19999999999993},{"$f":"MIN((X101+AO35*D19)/AK47,(X102+AO35*D19)/AL47,(X103+AO35*D19)/AM47,(X104+AO35*D19)/AN47,(X105+AO35*D19)/AO47)*AP47","v":496},{"$f":"MIN((Y101+AO35*D19)/AK47,(Y102+AO35*D19)/AL47,(Y103+AO35*D19)/AM47,(Y104+AO35*D19)/AN47,(Y105+AO35*D19)/AO47)*AP47","v":500},{"$f":"MIN((Z101+AO35*D19)/AK47,(Z102+AO35*D19)/AL47,(Z103+AO35*D19)/AM47,(Z104+AO35*D19)/AN47,(Z105+AO35*D19)/AO47)*AP47","v":451.19999999999993},{"$f":"MIN((AA101+AO35*D19)/AK47,(AA102+AO35*D19)/AL47,(AA103+AO35*D19)/AM47,(AA104+AO35*D19)/AN47,(AA105+AO35*D19)/AO47)*AP47","v":500},{"$f":"MIN((AB101+AO35*D19)/AK47,(AB102+AO35*D19)/AL47,(AB103+AO35*D19)/AM47,(AB104+AO35*D19)/AN47,(AB105+AO35*D19)/AO47)*AP47","v":502.4},{"$f":"MIN((AC101+AO35*D19)/AK47,(AC102+AO35*D19)/AL47,(AC103+AO35*D19)/AM47,(AC104+AO35*D19)/AN47,(AC105+AO35*D19)/AO47)*AP47","v":496},{"$f":"MIN((AD101+AO35*D19)/AK47,(AD102+AO35*D19)/AL47,(AD103+AO35*D19)/AM47,(AD104+AO35*D19)/AN47,(AD105+AO35*D19)/AO47)*AP47","v":451.19999999999993},{"$f":"MIN((AE101+AO35*D19)/AK47,(AE102+AO35*D19)/AL47,(AE103+AO35*D19)/AM47,(AE104+AO35*D19)/AN47,(AE105+AO35*D19)/AO47)*AP47","v":497.6},{"$f":"MIN((AF101+AO35*D19)/AK47,(AF102+AO35*D19)/AL47,(AF103+AO35*D19)/AM47,(AF104+AO35*D19)/AN47,(AF105+AO35*D19)/AO47)*AP47","v":502.4},503.2,null,"algerie 4 ","kit 1","-","kit 2/3","-","kit 2/3","-","kit 2/3","-","kit 10","kit 10","kit 9","kit 9","kit 1","-","kit 1","-","kit 1","-","kit 1","-","kit 1","-","-",null,null,null,null,"def",null,null,null,"neutre",null,null,null,"off",null,null,null,"def",null,null,null,"neutre",null,null,null,"off",null,null,null,"def",null,null,null,"neutre",null,null,null,"off",null,null,null,"def",null,null,null,"neutre",null,null,null,"off"]
[null,null,null,"","chili 11 ",14,4.7279999999999996E-2,{"$f":"IF(G24<>\"\",IF(ISNA(IF(VLOOKUP(G24,$AI$8:$AV$33,14,FALSE)=\"\",\"\",(HLOOKUP(VLOOKUP(G24,$BA$10:$BB$20,2,FALSE),S149:AF154,6,FALSE)/100+MIN(5000,M24)/500)/100)),G117,IF(VLOOKUP(G24,$AI$8:$AV$33,14,FALSE)=\"\",\"\",(HLOOKUP(VLOOKUP(G24,$BA$10:$BB$20,2,FALSE),S149:AF154,6,FALSE)/100+MIN(5000,M24)/500)/100)),\"\")","v":4.7279999999999996E-2},{"$f":"IF(G24<>\"\",IF(ISNA(IF(VLOOKUP(G24,$AI$8:$AV$29,14,FALSE)=\"\",\"\",((HLOOKUP(VLOOKUP(G24,$BA$10:$BB$20,2,FALSE),$S$149:$AF$154,6,FALSE)+IF(HLOOKUP(F117,$AJ$7:$AT$35,29,FALSE)=1,D19,0))/100+MIN(5000,M24)/500)/100)),H117,IF(VLOOKUP(G24,$AI$8:$AV$29,14,FALSE)=\"\",\"\",((HLOOKUP(VLOOKUP(G24,$BA$10:$BB$20,2,FALSE),$S$149:$AF$154,6,FALSE)+IF(HLOOKUP(F117,$AJ$7:$AT$35,29,FALSE)=1,D19,0))/100+MIN(5000,M24)/500)/100)),\"\")","v":4.7279999999999996E-2},null,null,null,null,null,null,null,null,{"$f":"J19+AH41+D15+D17+D21+D19*AG16","v":569},{"$f":"R117+Q12","v":610},{"$f":"R117+R12","v":629},{"$f":"R117+S12","v":569},{"$f":"R117+T12","v":642},{"$f":"R117+U12","v":569},{"$f":"R117+V12","v":625},{"$f":"R117+W12","v":630},{"$f":"R117+X12","v":569},{"$f":"R117+Y12","v":630},{"$f":"R117+Z12","v":633},{"$f":"R117+AA12","v":637},{"$f":"R117+AB12","v":569},{"$f":"R117+AC12","v":622},{"$f":"R117+AD12","v":640},null,null,null,"australie 11 ",{"$f":"MIN((S108+AN35*D19)/AK46,(S109+AN35*D19)/AL46,(S110+AN35*D19)/AM46,(S111+AN35*D19)/AN46,(S112+AN35*D19)/AO46)*AP46","v":571},{"$f":"MIN((T108+AN35*D19)/AK46,(T109+AN35*D19)/AL46,(T110+AN35*D19)/AM46,(T111+AN35*D19)/AN46,(T112+AN35*D19)/AO46)*AP46","v":599},{"$f":"MIN((U108+AN35*D19)/AK46,(U109+AN35*D19)/AL46,(U110+AN35*D19)/AM46,(U111+AN35*D19)/AN46,(U112+AN35*D19)/AO46)*AP46","v":530},{"$f":"MIN((V108+AN35*D19)/AK46,(V109+AN35*D19)/AL46,(V110+AN35*D19)/AM46,(V111+AN35*D19)/AN46,(V112+AN35*D19)/AO46)*AP46","v":603},{"$f":"MIN((W108+AN35*D19)/AK46,(W109+AN35*D19)/AL46,(W110+AN35*D19)/AM46,(W111+AN35*D19)/AN46,(W112+AN35*D19)/AO46)*AP46","v":530},{"$f":"MIN((X108+AN35*D19)/AK46,(X109+AN35*D19)/AL46,(X110+AN35*D19)/AM46,(X111+AN35*D19)/AN46,(X112+AN35*D19)/AO46)*AP46","v":600},{"$f":"MIN((Y108+AN35*D19)/AK46,(Y109+AN35*D19)/AL46,(Y110+AN35*D19)/AM46,(Y111+AN35*D19)/AN46,(Y112+AN35*D19)/AO46)*AP46","v":591},{"$f":"MIN((Z108+AN35*D19)/AK46,(Z109+AN35*D19)/AL46,(Z110+AN35*D19)/AM46,(Z111+AN35*D19)/AN46,(Z112+AN35*D19)/AO46)*AP46","v":530},{"$f":"MIN((AA108+AN35*D19)/AK46,(AA109+AN35*D19)/AL46,(AA110+AN35*D19)/AM46,(AA111+AN35*D19)/AN46,(AA112+AN35*D19)/AO46)*AP46","v":591},{"$f":"MIN((AB108+AN35*D19)/AK46,(AB109+AN35*D19)/AL46,(AB110+AN35*D19)/AM46,(AB111+AN35*D19)/AN46,(AB112+AN35*D19)/AO46)*AP46","v":586},{"$f":"MIN((AC108+AN35*D19)/AK46,(AC109+AN35*D19)/AL46,(AC110+AN35*D19)/AM46,(AC111+AN35*D19)/AN46,(AC112+AN35*D19)/AO46)*AP46","v":591},{"$f":"MIN((AD108+AN35*D19)/AK46,(AD109+AN35*D19)/AL46,(AD110+AN35*D19)/AM46,(AD111+AN35*D19)/AN46,(AD112+AN35*D19)/AO46)*AP46","v":530},{"$f":"MIN((AE108+AN35*D19)/AK46,(AE109+AN35*D19)/AL46,(AE110+AN35*D19)/AM46,(AE111+AN35*D19)/AN46,(AE112+AN35*D19)/AO46)*AP46","v":576},{"$f":"MIN((AF108+AN35*D19)/AK46,(AF109+AN35*D19)/AL46,(AF110+AN35*D19)/AM46,(AF111+AN35*D19)/AN46,(AF112+AN35*D19)/AO46)*AP46","v":581},603,null,"australie 11 ",{"$f":"MIN((S108+AO35*D19)/AK47,(S109+AO35*D19)/AL47,(S110+AO35*D19)/AM47,(S111+AO35*D19)/AN47,(S112+AO35*D19)/AO47)*AP47","v":456.79999999999995},{"$f":"MIN((T108+AO35*D19)/AK47,(T109+AO35*D19)/AL47,(T110+AO35*D19)/AM47,(T111+AO35*D19)/AN47,(T112+AO35*D19)/AO47)*AP47","v":479.2},{"$f":"MIN((U108+AO35*D19)/AK47,(U109+AO35*D19)/AL47,(U110+AO35*D19)/AM47,(U111+AO35*D19)/AN47,(U112+AO35*D19)/AO47)*AP47","v":424},{"$f":"MIN((V108+AO35*D19)/AK47,(V109+AO35*D19)/AL47,(V110+AO35*D19)/AM47,(V111+AO35*D19)/AN47,(V112+AO35*D19)/AO47)*AP47","v":482.4},{"$f":"MIN((W108+AO35*D19)/AK47,(W109+AO35*D19)/AL47,(W110+AO35*D19)/AM47,(W111+AO35*D19)/AN47,(W112+AO35*D19)/AO47)*AP47","v":424},{"$f":"MIN((X108+AO35*D19)/AK47,(X109+AO35*D19)/AL47,(X110+AO35*D19)/AM47,(X111+AO35*D19)/AN47,(X112+AO35*D19)/AO47)*AP47","v":480},{"$f":"MIN((Y108+AO35*D19)/AK47,(Y109+AO35*D19)/AL47,(Y110+AO35*D19)/AM47,(Y111+AO35*D19)/AN47,(Y112+AO35*D19)/AO47)*AP47","v":472.79999999999995},{"$f":"MIN((Z108+AO35*D19)/AK47,(Z109+AO35*D19)/AL47,(Z110+AO35*D19)/AM47,(Z111+AO35*D19)/AN47,(Z112+AO35*D19)/AO47)*AP47","v":424},{"$f":"MIN((AA108+AO35*D19)/AK47,(AA109+AO35*D19)/AL47,(AA110+AO35*D19)/AM47,(AA111+AO35*D19)/AN47,(AA112+AO35*D19)/AO47)*AP47","v":472.79999999999995},{"$f":"MIN((AB108+AO35*D19)/AK47,(AB109+AO35*D19)/AL47,(AB110+AO35*D19)/AM47,(AB111+AO35*D19)/AN47,(AB112+AO35*D19)/AO47)*AP47","v":468.79999999999995},{"$f":"MIN((AC108+AO35*D19)/AK47,(AC109+AO35*D19)/AL47,(AC110+AO35*D19)/AM47,(AC111+AO35*D19)/AN47,(AC112+AO35*D19)/AO47)*AP47","v":472.79999999999995},{"$f":"MIN((AD108+AO35*D19)/AK47,(AD109+AO35*D19)/AL47,(AD110+AO35*D19)/AM47,(AD111+AO35*D19)/AN47,(AD112+AO35*D19)/AO47)*AP47","v":424},{"$f":"MIN((AE108+AO35*D19)/AK47,(AE109+AO35*D19)/AL47,(AE110+AO35*D19)/AM47,(AE111+AO35*D19)/AN47,(AE112+AO35*D19)/AO47)*AP47","v":460.79999999999995},{"$f":"MIN((AF108+AO35*D19)/AK47,(AF109+AO35*D19)/AL47,(AF110+AO35*D19)/AM47,(AF111+AO35*D19)/AN47,(AF112+AO35*D19)/AO47)*AP47","v":464.79999999999995},482.4,null,"ghana 5 ","kit 1","-","kit 2/3","-","kit 2/3","-","kit 4","-","kit 4","-","kit 2/3","-","kit 2/3","-","kit 2/3","-","kit 1","-","kit 10","kit 10","kit 2/3","-","-",null,"Mon équipe",541,"def",{"$f":"IF(CJ98>1,CU117,CW117)","v":{"$error":"#N/A"}},{"$f":"IF(CL98=0,$BZ$79,CV117)","v":{"$error":"#N/A"}},{"$f":"IF(CL98>0,$BZ$80,$BZ$81)","v":{"$error":"#N/A"}},{"$f":"IF(CK98>1,$BZ$81,$BZ$79)","v":{"$error":"#N/A"}},{"$f":"IF(CM98>1,CY117,DA117)","v":{"$error":"#N/A"}},{"$f":"IF(CO98=0,$BZ$79,CZ117)","v":{"$error":"#N/A"}},{"$f":"IF(CO98>0,$BZ$80,$BZ$81)","v":{"$error":"#N/A"}},{"$f":"IF(CN98>1,$BZ$81,$BZ$79)","v":{"$error":"#N/A"}},{"$f":"IF(CP98>1,DC117,DE117)","v":{"$error":"#N/A"}},{"$f":"IF(CR98=0,$BZ$79,DD117)","v":{"$error":"#N/A"}},{"$f":"IF(CR98>0,$BZ$80,$BZ$81)","v":{"$error":"#N/A"}},{"$f":"IF(CQ98>1,$BZ$81,$BZ$79)","v":{"$error":"#N/A"}},{"$f":"IF(CS98>1,DG117,DI117)","v":{"$error":"#N/A"}},{"$f":"IF(CU98=0,$BZ$79,DH117)","v":{"$error":"#N/A"}},{"$f":"IF(CU98>0,$BZ$80,$BZ$81)","v":{"$error":"#N/A"}},{"$f":"IF(CT98>1,$BZ$81,$BZ$79)","v":{"$error":"#N/A"}},{"$f":"IF(CV98>1,DK117,DM117)","v":{"$error":"#N/A"}},{"$f":"IF(CX98=0,$BZ$79,DL117)","v":{"$error":"#N/A"}},{"$f":"IF(CX98>0,$BZ$80,$BZ$81)","v":{"$error":"#N/A"}},{"$f":"IF(CW98>1,$BZ$81,$BZ$79)","v":{"$error":"#N/A"}},{"$f":"IF(CY98>1,DO117,DQ117)","v":{"$error":"#N/A"}},{"$f":"IF(DA98=0,$BZ$79,DP117)","v":{"$error":"#N/A"}},{"$f":"IF(DA98>0,$BZ$80,$BZ$81)","v":{"$error":"#N/A"}},{"$f":"IF(CZ98>1,$BZ$81,$BZ$79)","v":{"$error":"#N/A"}},{"$f":"IF(DB98>1,DS117,DU117)","v":{"$error":"#N/A"}},{"$f":"IF(DD98=0,$BZ$79,DT117)","v":{"$error":"#N/A"}},{"$f":"IF(DD98>0,$BZ$80,$BZ$81)","v":{"$error":"#N/A"}},{"$f":"IF(DC98>1,$BZ$81,$BZ$79)","v":{"$error":"#N/A"}},{"$f":"IF(DE98>1,DW117,DY117)","v":{"$error":"#N/A"}},{"$f":"IF(DG98=0,$BZ$79,DX117)","v":{"$error":"#N/A"}},{"$f":"IF(DG98>0,$BZ$80,$BZ$81)","v":{"$error":"#N/A"}},{"$f":"IF(DF98>1,$BZ$81,$BZ$79)","v":{"$error":"#N/A"}},{"$f":"IF(DH98>1,EA117,EC117)","v":{"$error":"#N/A"}},{"$f":"IF(DJ98=0,$BZ$79,EB117)","v":{"$error":"#N/A"}},{"$f":"IF(DJ98>0,$BZ$80,$BZ$81)","v":{"$error":"#N/A"}},{"$f":"IF(DI98>1,$BZ$81,$BZ$79)","v":{"$error":"#N/A"}},{"$f":"IF(DK98>1,EE117,EG117)","v":{"$error":"#N/A"}},{"$f":"IF(DM98=0,$BZ$79,EF117)","v":{"$error":"#N/A"}},{"$f":"IF(DM98>0,$BZ$80,$BZ$81)","v":{"$error":"#N/A"}},{"$f":"IF(DL98>1,$BZ$81,$BZ$79)","v":{"$error":"#N/A"}},{"$f":"IF(DN98>1,EI117,EK117)","v":{"$error":"#N/A"}},{"$f":"IF(DP98=0,$BZ$79,EJ117)","v":{"$error":"#N/A"}},{"$f":"IF(DP98>0,$BZ$80,$BZ$81)","v":{"$error":"#N/A"}},{"$f":"IF(DO98>1,$BZ$81,$BZ$79)","v":{"$error":"#N/A"}},{"$f":"IF(DQ98>1,EM117,EO117)","v":{"$error":"#N/A"}},{"$f":"IF(DS98=0,$BZ$79,EN117)","v":{"$error":"#N/A"}},{"$f":"IF(DS98>0,$BZ$80,$BZ$81)","v":{"$error":"#N/A"}},{"$f":"IF(DR98>1,$BZ$81,$BZ$79)","v":{"$error":"#N/A"}}]
[null,null,null,"","corée du sud 3 ",15,4.5579999999999996E-2,{"$f":"IF(G25<>\"\",IF(ISNA(IF(VLOOKUP(G25,$AI$8:$AV$33,14,FALSE)=\"\",\"\",(HLOOKUP(VLOOKUP(G25,$BA$10:$BB$20,2,FALSE),S156:AF161,6,FALSE)/100+MIN(5000,M25)/500)/100)),G118,IF(VLOOKUP(G25,$AI$8:$AV$33,14,FALSE)=\"\",\"\",(HLOOKUP(VLOOKUP(G25,$BA$10:$BB$20,2,FALSE),S156:AF161,6,FALSE)/100+MIN(5000,M25)/500)/100)),\"\")","v":4.5579999999999996E-2},{"$f":"IF(G25<>\"\",IF(ISNA(IF(VLOOKUP(G25,$AI$8:$AV$29,14,FALSE)=\"\",\"\",((HLOOKUP(VLOOKUP(G25,$BA$10:$BB$20,2,FALSE),$S$156:$AF$161,6,FALSE)+IF(HLOOKUP(F118,$AJ$7:$AT$35,29,FALSE)=1,D19,0))/100+MIN(5000,M25)/500)/100)),H118,IF(VLOOKUP(G25,$AI$8:$AV$29,14,FALSE)=\"\",\"\",((HLOOKUP(VLOOKUP(G25,$BA$10:$BB$20,2,FALSE),$S$156:$AF$161,6,FALSE)+IF(HLOOKUP(F118,$AJ$7:$AT$35,29,FALSE)=1,D19,0))/100+MIN(5000,M25)/500)/100)),\"\")","v":4.5579999999999996E-2},null,null,null,null,null,null,null,null,{"$f":"K19+AH42+D16+D17+D21+D19*AG16","v":446},{"$f":"R118+Q13","v":471},{"$f":"R118+R13","v":515},{"$f":"R118+S13","v":446},{"$f":"R118+T13","v":510},{"$f":"R118+U13","v":446},{"$f":"R118+V13","v":502},{"$f":"R118+W13","v":507},{"$f":"R118+X13","v":446},{"$f":"R118+Y13","v":507},{"$f":"R118+Z13","v":510},{"$f":"R118+AA13","v":502},{"$f":"R118+AB13","v":446},{"$f":"R118+AC13","v":506},{"$f":"R118+AD13","v":510},null,null,null,"grece 9 ",{"$f":"MIN((S115+AN35*D19)/AK46,(S116+AN35*D19)/AL46,(S117+AN35*D19)/AM46,(S118+AN35*D19)/AN46,(S119+AN35*D19)/AO46)*AP46","v":565},{"$f":"MIN((T115+AN35*D19)/AK46,(T116+AN35*D19)/AL46,(T117+AN35*D19)/AM46,(T118+AN35*D19)/AN46,(T119+AN35*D19)/AO46)*AP46","v":593},{"$f":"MIN((U115+AN35*D19)/AK46,(U116+AN35*D19)/AL46,(U117+AN35*D19)/AM46,(U118+AN35*D19)/AN46,(U119+AN35*D19)/AO46)*AP46","v":524},{"$f":"MIN((V115+AN35*D19)/AK46,(V116+AN35*D19)/AL46,(V117+AN35*D19)/AM46,(V118+AN35*D19)/AN46,(V119+AN35*D19)/AO46)*AP46","v":597},{"$f":"MIN((W115+AN35*D19)/AK46,(W116+AN35*D19)/AL46,(W117+AN35*D19)/AM46,(W118+AN35*D19)/AN46,(W119+AN35*D19)/AO46)*AP46","v":524},{"$f":"MIN((X115+AN35*D19)/AK46,(X116+AN35*D19)/AL46,(X117+AN35*D19)/AM46,(X118+AN35*D19)/AN46,(X119+AN35*D19)/AO46)*AP46","v":594},{"$f":"MIN((Y115+AN35*D19)/AK46,(Y116+AN35*D19)/AL46,(Y117+AN35*D19)/AM46,(Y118+AN35*D19)/AN46,(Y119+AN35*D19)/AO46)*AP46","v":585},{"$f":"MIN((Z115+AN35*D19)/AK46,(Z116+AN35*D19)/AL46,(Z117+AN35*D19)/AM46,(Z118+AN35*D19)/AN46,(Z119+AN35*D19)/AO46)*AP46","v":524},{"$f":"MIN((AA115+AN35*D19)/AK46,(AA116+AN35*D19)/AL46,(AA117+AN35*D19)/AM46,(AA118+AN35*D19)/AN46,(AA119+AN35*D19)/AO46)*AP46","v":585},{"$f":"MIN((AB115+AN35*D19)/AK46,(AB116+AN35*D19)/AL46,(AB117+AN35*D19)/AM46,(AB118+AN35*D19)/AN46,(AB119+AN35*D19)/AO46)*AP46","v":580},{"$f":"MIN((AC115+AN35*D19)/AK46,(AC116+AN35*D19)/AL46,(AC117+AN35*D19)/AM46,(AC118+AN35*D19)/AN46,(AC119+AN35*D19)/AO46)*AP46","v":585},{"$f":"MIN((AD115+AN35*D19)/AK46,(AD116+AN35*D19)/AL46,(AD117+AN35*D19)/AM46,(AD118+AN35*D19)/AN46,(AD119+AN35*D19)/AO46)*AP46","v":524},{"$f":"MIN((AE115+AN35*D19)/AK46,(AE116+AN35*D19)/AL46,(AE117+AN35*D19)/AM46,(AE118+AN35*D19)/AN46,(AE119+AN35*D19)/AO46)*AP46","v":570},{"$f":"MIN((AF115+AN35*D19)/AK46,(AF116+AN35*D19)/AL46,(AF117+AN35*D19)/AM46,(AF118+AN35*D19)/AN46,(AF119+AN35*D19)/AO46)*AP46","v":575},597,null,"grece 9 ",{"$f":"MIN((S115+AO35*D19)/AK47,(S116+AO35*D19)/AL47,(S117+AO35*D19)/AM47,(S118+AO35*D19)/AN47,(S119+AO35*D19)/AO47)*AP47","v":376.79999999999995},{"$f":"MIN((T115+AO35*D19)/AK47,(T116+AO35*D19)/AL47,(T117+AO35*D19)/AM47,(T118+AO35*D19)/AN47,(T119+AO35*D19)/AO47)*AP47","v":412},{"$f":"MIN((U115+AO35*D19)/AK47,(U116+AO35*D19)/AL47,(U117+AO35*D19)/AM47,(U118+AO35*D19)/AN47,(U119+AO35*D19)/AO47)*AP47","v":356.8},{"$f":"MIN((V115+AO35*D19)/AK47,(V116+AO35*D19)/AL47,(V117+AO35*D19)/AM47,(V118+AO35*D19)/AN47,(V119+AO35*D19)/AO47)*AP47","v":408},{"$f":"MIN((W115+AO35*D19)/AK47,(W116+AO35*D19)/AL47,(W117+AO35*D19)/AM47,(W118+AO35*D19)/AN47,(W119+AO35*D19)/AO47)*AP47","v":356.8},{"$f":"MIN((X115+AO35*D19)/AK47,(X116+AO35*D19)/AL47,(X117+AO35*D19)/AM47,(X118+AO35*D19)/AN47,(X119+AO35*D19)/AO47)*AP47","v":401.6},{"$f":"MIN((Y115+AO35*D19)/AK47,(Y116+AO35*D19)/AL47,(Y117+AO35*D19)/AM47,(Y118+AO35*D19)/AN47,(Y119+AO35*D19)/AO47)*AP47","v":405.6},{"$f":"MIN((Z115+AO35*D19)/AK47,(Z116+AO35*D19)/AL47,(Z117+AO35*D19)/AM47,(Z118+AO35*D19)/AN47,(Z119+AO35*D19)/AO47)*AP47","v":356.8},{"$f":"MIN((AA115+AO35*D19)/AK47,(AA116+AO35*D19)/AL47,(AA117+AO35*D19)/AM47,(AA118+AO35*D19)/AN47,(AA119+AO35*D19)/AO47)*AP47","v":405.6},{"$f":"MIN((AB115+AO35*D19)/AK47,(AB116+AO35*D19)/AL47,(AB117+AO35*D19)/AM47,(AB118+AO35*D19)/AN47,(AB119+AO35*D19)/AO47)*AP47","v":408},{"$f":"MIN((AC115+AO35*D19)/AK47,(AC116+AO35*D19)/AL47,(AC117+AO35*D19)/AM47,(AC118+AO35*D19)/AN47,(AC119+AO35*D19)/AO47)*AP47","v":401.6},{"$f":"MIN((AD115+AO35*D19)/AK47,(AD116+AO35*D19)/AL47,(AD117+AO35*D19)/AM47,(AD118+AO35*D19)/AN47,(AD119+AO35*D19)/AO47)*AP47","v":356.8},{"$f":"MIN((AE115+AO35*D19)/AK47,(AE116+AO35*D19)/AL47,(AE117+AO35*D19)/AM47,(AE118+AO35*D19)/AN47,(AE119+AO35*D19)/AO47)*AP47","v":404.8},{"$f":"MIN((AF115+AO35*D19)/AK47,(AF116+AO35*D19)/AL47,(AF117+AO35*D19)/AM47,(AF118+AO35*D19)/AN47,(AF119+AO35*D19)/AO47)*AP47","v":408},412,null,"slovenie 6 ","kit 1","-","kit 2/3","-","kit 2/3","-","kit 4","-","kit 4","-","kit 2/3","-","kit 2/3","-","kit 2/3","-","kit 1","-","kit 10","kit 10","kit 2/3","-","-",null,null,null,"neutre",{"$error":"#N/A"},{"$error":"#N/A"},{"$error":"#N/A"},{"$error":"#N/A"},{"$error":"#N/A"},{"$error":"#N/A"},{"$error":"#N/A"},{"$error":"#N/A"},{"$error":"#N/A"},{"$error":"#N/A"},{"$error":"#N/A"},{"$error":"#N/A"},{"$error":"#N/A"},{"$error":"#N/A"},{"$error":"#N/A"},{"$error":"#N/A"},{"$error":"#N/A"},{"$error":"#N/A"},{"$error":"#N/A"},{"$error":"#N/A"},{"$error":"#N/A"},{"$error":"#N/A"},{"$error":"#N/A"},{"$error":"#N/A"},{"$error":"#N/A"},{"$error":"#N/A"},{"$error":"#N/A"},{"$error":"#N/A"},{"$error":"#N/A"},{"$error":"#N/A"},{"$error":"#N/A"},{"$error":"#N/A"},{"$error":"#N/A"},{"$error":"#N/A"},{"$error":"#N/A"},{"$error":"#N/A"},{"$error":"#N/A"},{"$error":"#N/A"},{"$error":"#N/A"},{"$error":"#N/A"},{"$error":"#N/A"},{"$error":"#N/A"},{"$error":"#N/A"},{"$error":"#N/A"},{"$error":"#N/A"},{"$error":"#N/A"},{"$error":"#N/A"},{"$error":"#N/A"}]
[null,null,null,"","france 11 ",16,4.5319999999999999E-2,{"$f":"IF(G26<>\"\",IF(ISNA(IF(VLOOKUP(G26,$AI$8:$AV$33,14,FALSE)=\"\",\"\",(HLOOKUP(VLOOKUP(G26,$BA$10:$BB$20,2,FALSE),S163:AF168,6,FALSE)/100+MIN(5000,M26)/500)/100)),G119,IF(VLOOKUP(G26,$AI$8:$AV$33,14,FALSE)=\"\",\"\",(HLOOKUP(VLOOKUP(G26,$BA$10:$BB$20,2,FALSE),S163:AF168,6,FALSE)/100+MIN(5000,M26)/500)/100)),\"\")","v":4.5319999999999999E-2},{"$f":"IF(G26<>\"\",IF(ISNA(IF(VLOOKUP(G26,$AI$8:$AV$29,14,FALSE)=\"\",\"\",((HLOOKUP(VLOOKUP(G26,$BA$10:$BB$20,2,FALSE),$S$163:$AF$168,6,FALSE)+IF(HLOOKUP(F119,$AJ$7:$AT$35,29,FALSE)=1,D19,0))/100+MIN(5000,M26)/500)/100)),H119,IF(VLOOKUP(G26,$AI$8:$AV$29,14,FALSE)=\"\",\"\",((HLOOKUP(VLOOKUP(G26,$BA$10:$BB$20,2,FALSE),$S$163:$AF$168,6,FALSE)+IF(HLOOKUP(F119,$AJ$7:$AT$35,29,FALSE)=1,D19,0))/100+MIN(5000,M26)/500)/100)),\"\")","v":4.5319999999999999E-2},null,null,null,null,null,null,null,null,{"$f":"L19+AH43+D15+D17+D21+D19*AG16","v":404},{"$f":"R119+Q14","v":460},{"$f":"R119+R14","v":456},{"$f":"R119+S14","v":404},{"$f":"R119+T14","v":449},{"$f":"R119+U14","v":404},{"$f":"R119+V14","v":460},{"$f":"R119+W14","v":457},{"$f":"R119+X14","v":404},{"$f":"R119+Y14","v":457},{"$f":"R119+Z14","v":452},{"$f":"R119+AA14","v":453},{"$f":"R119+AB14","v":404},{"$f":"R119+AC14","v":464},{"$f":"R119+AD14","v":448},null,null,null,"nigeria 8 ",{"$f":"MIN((S122+AN35*D19)/AK46,(S123+AN35*D19)/AL46,(S124+AN35*D19)/AM46,(S125+AN35*D19)/AN46,(S126+AN35*D19)/AO46)*AP46","v":624},{"$f":"MIN((T122+AN35*D19)/AK46,(T123+AN35*D19)/AL46,(T124+AN35*D19)/AM46,(T125+AN35*D19)/AN46,(T126+AN35*D19)/AO46)*AP46","v":652},{"$f":"MIN((U122+AN35*D19)/AK46,(U123+AN35*D19)/AL46,(U124+AN35*D19)/AM46,(U125+AN35*D19)/AN46,(U126+AN35*D19)/AO46)*AP46","v":583},{"$f":"MIN((V122+AN35*D19)/AK46,(V123+AN35*D19)/AL46,(V124+AN35*D19)/AM46,(V125+AN35*D19)/AN46,(V126+AN35*D19)/AO46)*AP46","v":656},{"$f":"MIN((W122+AN35*D19)/AK46,(W123+AN35*D19)/AL46,(W124+AN35*D19)/AM46,(W125+AN35*D19)/AN46,(W126+AN35*D19)/AO46)*AP46","v":583},{"$f":"MIN((X122+AN35*D19)/AK46,(X123+AN35*D19)/AL46,(X124+AN35*D19)/AM46,(X125+AN35*D19)/AN46,(X126+AN35*D19)/AO46)*AP46","v":653},{"$f":"MIN((Y122+AN35*D19)/AK46,(Y123+AN35*D19)/AL46,(Y124+AN35*D19)/AM46,(Y125+AN35*D19)/AN46,(Y126+AN35*D19)/AO46)*AP46","v":644},{"$f":"MIN((Z122+AN35*D19)/AK46,(Z123+AN35*D19)/AL46,(Z124+AN35*D19)/AM46,(Z125+AN35*D19)/AN46,(Z126+AN35*D19)/AO46)*AP46","v":583},{"$f":"MIN((AA122+AN35*D19)/AK46,(AA123+AN35*D19)/AL46,(AA124+AN35*D19)/AM46,(AA125+AN35*D19)/AN46,(AA126+AN35*D19)/AO46)*AP46","v":644},{"$f":"MIN((AB122+AN35*D19)/AK46,(AB123+AN35*D19)/AL46,(AB124+AN35*D19)/AM46,(AB125+AN35*D19)/AN46,(AB126+AN35*D19)/AO46)*AP46","v":639},{"$f":"MIN((AC122+AN35*D19)/AK46,(AC123+AN35*D19)/AL46,(AC124+AN35*D19)/AM46,(AC125+AN35*D19)/AN46,(AC126+AN35*D19)/AO46)*AP46","v":644},{"$f":"MIN((AD122+AN35*D19)/AK46,(AD123+AN35*D19)/AL46,(AD124+AN35*D19)/AM46,(AD125+AN35*D19)/AN46,(AD126+AN35*D19)/AO46)*AP46","v":583},{"$f":"MIN((AE122+AN35*D19)/AK46,(AE123+AN35*D19)/AL46,(AE124+AN35*D19)/AM46,(AE125+AN35*D19)/AN46,(AE126+AN35*D19)/AO46)*AP46","v":629},{"$f":"MIN((AF122+AN35*D19)/AK46,(AF123+AN35*D19)/AL46,(AF124+AN35*D19)/AM46,(AF125+AN35*D19)/AN46,(AF126+AN35*D19)/AO46)*AP46","v":634},656,null,"nigeria 8 ",{"$f":"MIN((S122+AO35*D19)/AK47,(S123+AO35*D19)/AL47,(S124+AO35*D19)/AM47,(S125+AO35*D19)/AN47,(S126+AO35*D19)/AO47)*AP47","v":471.2},{"$f":"MIN((T122+AO35*D19)/AK47,(T123+AO35*D19)/AL47,(T124+AO35*D19)/AM47,(T125+AO35*D19)/AN47,(T126+AO35*D19)/AO47)*AP47","v":497.6},{"$f":"MIN((U122+AO35*D19)/AK47,(U123+AO35*D19)/AL47,(U124+AO35*D19)/AM47,(U125+AO35*D19)/AN47,(U126+AO35*D19)/AO47)*AP47","v":449.6},{"$f":"MIN((V122+AO35*D19)/AK47,(V123+AO35*D19)/AL47,(V124+AO35*D19)/AM47,(V125+AO35*D19)/AN47,(V126+AO35*D19)/AO47)*AP47","v":502.4},{"$f":"MIN((W122+AO35*D19)/AK47,(W123+AO35*D19)/AL47,(W124+AO35*D19)/AM47,(W125+AO35*D19)/AN47,(W126+AO35*D19)/AO47)*AP47","v":449.6},{"$f":"MIN((X122+AO35*D19)/AK47,(X123+AO35*D19)/AL47,(X124+AO35*D19)/AM47,(X125+AO35*D19)/AN47,(X126+AO35*D19)/AO47)*AP47","v":494.4},{"$f":"MIN((Y122+AO35*D19)/AK47,(Y123+AO35*D19)/AL47,(Y124+AO35*D19)/AM47,(Y125+AO35*D19)/AN47,(Y126+AO35*D19)/AO47)*AP47","v":498.4},{"$f":"MIN((Z122+AO35*D19)/AK47,(Z123+AO35*D19)/AL47,(Z124+AO35*D19)/AM47,(Z125+AO35*D19)/AN47,(Z126+AO35*D19)/AO47)*AP47","v":449.6},{"$f":"MIN((AA122+AO35*D19)/AK47,(AA123+AO35*D19)/AL47,(AA124+AO35*D19)/AM47,(AA125+AO35*D19)/AN47,(AA126+AO35*D19)/AO47)*AP47","v":498.4},{"$f":"MIN((AB122+AO35*D19)/AK47,(AB123+AO35*D19)/AL47,(AB124+AO35*D19)/AM47,(AB125+AO35*D19)/AN47,(AB126+AO35*D19)/AO47)*AP47","v":500.8},{"$f":"MIN((AC122+AO35*D19)/AK47,(AC123+AO35*D19)/AL47,(AC124+AO35*D19)/AM47,(AC125+AO35*D19)/AN47,(AC126+AO35*D19)/AO47)*AP47","v":496},{"$f":"MIN((AD122+AO35*D19)/AK47,(AD123+AO35*D19)/AL47,(AD124+AO35*D19)/AM47,(AD125+AO35*D19)/AN47,(AD126+AO35*D19)/AO47)*AP47","v":449.6},{"$f":"MIN((AE122+AO35*D19)/AK47,(AE123+AO35*D19)/AL47,(AE124+AO35*D19)/AM47,(AE125+AO35*D19)/AN47,(AE126+AO35*D19)/AO47)*AP47","v":492},{"$f":"MIN((AF122+AO35*D19)/AK47,(AF123+AO35*D19)/AL47,(AF124+AO35*D19)/AM47,(AF125+AO35*D19)/AN47,(AF126+AO35*D19)/AO47)*AP47","v":502.4},502.4,null,"grece 7 ","kit 1","-","kit 2/3","-","kit 2/3","-","kit 4","-","kit 4","-","kit 2/3","-","kit 2/3","-","kit 2/3","-","kit 1","-","kit 10","kit 10","kit 2/3","-","-",null,null,null,"off",{"$error":"#N/A"},{"$error":"#N/A"},{"$error":"#N/A"},{"$error":"#N/A"},{"$error":"#N/A"},{"$error":"#N/A"},{"$error":"#N/A"},{"$error":"#N/A"},{"$error":"#N/A"},{"$error":"#N/A"},{"$error":"#N/A"},{"$error":"#N/A"},{"$error":"#N/A"},{"$error":"#N/A"},{"$error":"#N/A"},{"$error":"#N/A"},{"$error":"#N/A"},{"$error":"#N/A"},{"$error":"#N/A"},{"$error":"#N/A"},{"$error":"#N/A"},{"$error":"#N/A"},{"$error":"#N/A"},{"$error":"#N/A"},{"$error":"#N/A"},{"$error":"#N/A"},{"$error":"#N/A"},{"$error":"#N/A"},{"$error":"#N/A"},{"$error":"#N/A"},{"$error":"#N/A"},{"$error":"#N/A"},{"$error":"#N/A"},{"$error":"#N/A"},{"$error":"#N/A"},{"$error":"#N/A"},{"$error":"#N/A"},{"$error":"#N/A"},{"$error":"#N/A"},{"$error":"#N/A"},{"$error":"#N/A"},{"$error":"#N/A"},{"$error":"#N/A"},{"$error":"#N/A"},{"$error":"#N/A"},{"$error":"#N/A"},{"$error":"#N/A"},{"$error":"#N/A"}]
[null,null,null,"","france 2 ",17,5.4480000000000001E-2,{"$f":"IF(G27<>\"\",IF(ISNA(IF(VLOOKUP(G27,$AI$8:$AV$33,14,FALSE)=\"\",\"\",(HLOOKUP(VLOOKUP(G27,$BA$10:$BB$20,2,FALSE),S170:AF175,6,FALSE)/100+MIN(5000,M27)/500)/100)),G120,IF(VLOOKUP(G27,$AI$8:$AV$33,14,FALSE)=\"\",\"\",(HLOOKUP(VLOOKUP(G27,$BA$10:$BB$20,2,FALSE),S170:AF175,6,FALSE)/100+MIN(5000,M27)/500)/100)),\"\")","v":5.4480000000000001E-2},{"$f":"IF(G27<>\"\",IF(ISNA(IF(VLOOKUP(G27,$AI$8:$AV$29,14,FALSE)=\"\",\"\",((HLOOKUP(VLOOKUP(G27,$BA$10:$BB$20,2,FALSE),$S$170:$AF$175,6,FALSE)+IF(HLOOKUP(F120,$AJ$7:$AT$35,29,FALSE)=1,D19,0))/100+MIN(5000,M27)/500)/100)),H120,IF(VLOOKUP(G27,$AI$8:$AV$29,14,FALSE)=\"\",\"\",((HLOOKUP(VLOOKUP(G27,$BA$10:$BB$20,2,FALSE),$S$170:$AF$175,6,FALSE)+IF(HLOOKUP(F120,$AJ$7:$AT$35,29,FALSE)=1,D19,0))/100+MIN(5000,M27)/500)/100)),\"\")","v":5.4480000000000001E-2},null,null,null,null,null,null,null,null,null,null,null,null,null,null,null,null,null,null,null,null,null,null,null,null,null,null,"slovaquie 8 ",{"$f":"MIN((S129+AN35*D19)/AK46,(S130+AN35*D19)/AL46,(S131+AN35*D19)/AM46,(S132+AN35*D19)/AN46,(S133+AN35*D19)/AO46)*AP46","v":565},{"$f":"MIN((T129+AN35*D19)/AK46,(T130+AN35*D19)/AL46,(T131+AN35*D19)/AM46,(T132+AN35*D19)/AN46,(T133+AN35*D19)/AO46)*AP46","v":593},{"$f":"MIN((U129+AN35*D19)/AK46,(U130+AN35*D19)/AL46,(U131+AN35*D19)/AM46,(U132+AN35*D19)/AN46,(U133+AN35*D19)/AO46)*AP46","v":524},{"$f":"MIN((V129+AN35*D19)/AK46,(V130+AN35*D19)/AL46,(V131+AN35*D19)/AM46,(V132+AN35*D19)/AN46,(V133+AN35*D19)/AO46)*AP46","v":597},{"$f":"MIN((W129+AN35*D19)/AK46,(W130+AN35*D19)/AL46,(W131+AN35*D19)/AM46,(W132+AN35*D19)/AN46,(W133+AN35*D19)/AO46)*AP46","v":524},{"$f":"MIN((X129+AN35*D19)/AK46,(X130+AN35*D19)/AL46,(X131+AN35*D19)/AM46,(X132+AN35*D19)/AN46,(X133+AN35*D19)/AO46)*AP46","v":594},{"$f":"MIN((Y129+AN35*D19)/AK46,(Y130+AN35*D19)/AL46,(Y131+AN35*D19)/AM46,(Y132+AN35*D19)/AN46,(Y133+AN35*D19)/AO46)*AP46","v":585},{"$f":"MIN((Z129+AN35*D19)/AK46,(Z130+AN35*D19)/AL46,(Z131+AN35*D19)/AM46,(Z132+AN35*D19)/AN46,(Z133+AN35*D19)/AO46)*AP46","v":524},{"$f":"MIN((AA129+AN35*D19)/AK46,(AA130+AN35*D19)/AL46,(AA131+AN35*D19)/AM46,(AA132+AN35*D19)/AN46,(AA133+AN35*D19)/AO46)*AP46","v":585},{"$f":"MIN((AB129+AN35*D19)/AK46,(AB130+AN35*D19)/AL46,(AB131+AN35*D19)/AM46,(AB132+AN35*D19)/AN46,(AB133+AN35*D19)/AO46)*AP46","v":580},{"$f":"MIN((AC129+AN35*D19)/AK46,(AC130+AN35*D19)/AL46,(AC131+AN35*D19)/AM46,(AC132+AN35*D19)/AN46,(AC133+AN35*D19)/AO46)*AP46","v":585},{"$f":"MIN((AD129+AN35*D19)/AK46,(AD130+AN35*D19)/AL46,(AD131+AN35*D19)/AM46,(AD132+AN35*D19)/AN46,(AD133+AN35*D19)/AO46)*AP46","v":524},{"$f":"MIN((AE129+AN35*D19)/AK46,(AE130+AN35*D19)/AL46,(AE131+AN35*D19)/AM46,(AE132+AN35*D19)/AN46,(AE133+AN35*D19)/AO46)*AP46","v":570},{"$f":"MIN((AF129+AN35*D19)/AK46,(AF130+AN35*D19)/AL46,(AF131+AN35*D19)/AM46,(AF132+AN35*D19)/AN46,(AF133+AN35*D19)/AO46)*AP46","v":575},597,null,"slovaquie 8 ",{"$f":"MIN((S129+AO35*D19)/AK47,(S130+AO35*D19)/AL47,(S131+AO35*D19)/AM47,(S132+AO35*D19)/AN47,(S133+AO35*D19)/AO47)*AP47","v":451.99999999999994},{"$f":"MIN((T129+AO35*D19)/AK47,(T130+AO35*D19)/AL47,(T131+AO35*D19)/AM47,(T132+AO35*D19)/AN47,(T133+AO35*D19)/AO47)*AP47","v":474.4},{"$f":"MIN((U129+AO35*D19)/AK47,(U130+AO35*D19)/AL47,(U131+AO35*D19)/AM47,(U132+AO35*D19)/AN47,(U133+AO35*D19)/AO47)*AP47","v":419.20000000000005},{"$f":"MIN((V129+AO35*D19)/AK47,(V130+AO35*D19)/AL47,(V131+AO35*D19)/AM47,(V132+AO35*D19)/AN47,(V133+AO35*D19)/AO47)*AP47","v":477.59999999999997},{"$f":"MIN((W129+AO35*D19)/AK47,(W130+AO35*D19)/AL47,(W131+AO35*D19)/AM47,(W132+AO35*D19)/AN47,(W133+AO35*D19)/AO47)*AP47","v":419.20000000000005},{"$f":"MIN((X129+AO35*D19)/AK47,(X130+AO35*D19)/AL47,(X131+AO35*D19)/AM47,(X132+AO35*D19)/AN47,(X133+AO35*D19)/AO47)*AP47","v":475.2},{"$f":"MIN((Y129+AO35*D19)/AK47,(Y130+AO35*D19)/AL47,(Y131+AO35*D19)/AM47,(Y132+AO35*D19)/AN47,(Y133+AO35*D19)/AO47)*AP47","v":468},{"$f":"MIN((Z129+AO35*D19)/AK47,(Z130+AO35*D19)/AL47,(Z131+AO35*D19)/AM47,(Z132+AO35*D19)/AN47,(Z133+AO35*D19)/AO47)*AP47","v":419.20000000000005},{"$f":"MIN((AA129+AO35*D19)/AK47,(AA130+AO35*D19)/AL47,(AA131+AO35*D19)/AM47,(AA132+AO35*D19)/AN47,(AA133+AO35*D19)/AO47)*AP47","v":468},{"$f":"MIN((AB129+AO35*D19)/AK47,(AB130+AO35*D19)/AL47,(AB131+AO35*D19)/AM47,(AB132+AO35*D19)/AN47,(AB133+AO35*D19)/AO47)*AP47","v":463.99999999999994},{"$f":"MIN((AC129+AO35*D19)/AK47,(AC130+AO35*D19)/AL47,(AC131+AO35*D19)/AM47,(AC132+AO35*D19)/AN47,(AC133+AO35*D19)/AO47)*AP47","v":468},{"$f":"MIN((AD129+AO35*D19)/AK47,(AD130+AO35*D19)/AL47,(AD131+AO35*D19)/AM47,(AD132+AO35*D19)/AN47,(AD133+AO35*D19)/AO47)*AP47","v":419.20000000000005},{"$f":"MIN((AE129+AO35*D19)/AK47,(AE130+AO35*D19)/AL47,(AE131+AO35*D19)/AM47,(AE132+AO35*D19)/AN47,(AE133+AO35*D19)/AO47)*AP47","v":455.99999999999994},{"$f":"MIN((AF129+AO35*D19)/AK47,(AF130+AO35*D19)/AL47,(AF131+AO35*D19)/AM47,(AF132+AO35*D19)/AN47,(AF133+AO35*D19)/AO47)*AP47","v":459.99999999999994},477.59999999999997,null,"australie 11 ","kit 1","-","kit 2/3","-","kit 2/3","-","kit 4","-","kit 4","-","kit 4","-","kit 4","-","kit 8","kit 8","kit 1","-","kit 10","kit 10","kit 8","kit 8","-",null,null,433,"def",{"$error":"#N/A"},{"$error":"#N/A"},{"$error":"#N/A"},{"$error":"#N/A"},{"$error":"#N/A"},{"$error":"#N/A"},{"$error":"#N/A"},{"$error":"#N/A"},{"$error":"#N/A"},{"$error":"#N/A"},{"$error":"#N/A"},{"$error":"#N/A"},{"$error":"#N/A"},{"$error":"#N/A"},{"$error":"#N/A"},{"$error":"#N/A"},{"$error":"#N/A"},{"$error":"#N/A"},{"$error":"#N/A"},{"$error":"#N/A"},{"$error":"#N/A"},{"$error":"#N/A"},{"$error":"#N/A"},{"$error":"#N/A"},{"$error":"#N/A"},{"$error":"#N/A"},{"$error":"#N/A"},{"$error":"#N/A"},{"$error":"#N/A"},{"$error":"#N/A"},{"$error":"#N/A"},{"$error":"#N/A"},{"$error":"#N/A"},{"$error":"#N/A"},{"$error":"#N/A"},{"$error":"#N/A"},{"$error":"#N/A"},{"$error":"#N/A"},{"$error":"#N/A"},{"$error":"#N/A"},{"$error":"#N/A"},{"$error":"#N/A"},{"$error":"#N/A"},{"$error":"#N/A"},{"$error":"#N/A"},{"$error":"#N/A"},{"$error":"#N/A"},{"$error":"#N/A"}]
[null,null,null,"",{"$f":"IF(G28<>\"\",G28,\"\")","v":"italie 7 "},18,5.954000000000001E-2,{"$f":"IF(G28<>\"\",IF(ISNA(IF(VLOOKUP(G28,$AI$8:$AV$33,14,FALSE)=\"\",\"\",(HLOOKUP(VLOOKUP(G28,$BA$10:$BB$20,2,FALSE),S177:AF182,6,FALSE)/100+MIN(5000,M28)/500)/100)),G121,IF(VLOOKUP(G28,$AI$8:$AV$33,14,FALSE)=\"\",\"\",(HLOOKUP(VLOOKUP(G28,$BA$10:$BB$20,2,FALSE),S177:AF182,6,FALSE)/100+MIN(5000,M28)/500)/100)),\"\")","v":5.954000000000001E-2},{"$f":"IF(G28<>\"\",IF(ISNA(IF(VLOOKUP(G28,$AI$8:$AV$29,14,FALSE)=\"\",\"\",((HLOOKUP(VLOOKUP(G28,$BA$10:$BB$20,2,FALSE),$S$177:$AF$182,6,FALSE)+IF(HLOOKUP(F121,$AJ$7:$AT$35,29,FALSE)=1,D19,0))/100+MIN(5000,M28)/500)/100)),H121,IF(VLOOKUP(G28,$AI$8:$AV$29,14,FALSE)=\"\",\"\",((HLOOKUP(VLOOKUP(G28,$BA$10:$BB$20,2,FALSE),$S$177:$AF$182,6,FALSE)+IF(HLOOKUP(F121,$AJ$7:$AT$35,29,FALSE)=1,D19,0))/100+MIN(5000,M28)/500)/100)),\"\")","v":5.954000000000001E-2},null,null,null,null,null,null,null,null,{"$f":"G20","v":"nigeria 8 "},{"$f":"S114","v":"kit 1"},{"$f":"T114","v":"kit 2/3"},0,"kit 4",0,"kit 5","kit 6/7",0,0,"kit 8","kit 9",0,{"$f":"AE114","v":"kit 10"},{"$f":"AF114","v":"kit 11"},null,null,null,"afrique du sud 4 ",{"$f":"MIN((S136+AN35*D19)/AK46,(S137+AN35*D19)/AL46,(S138+AN35*D19)/AM46,(S139+AN35*D19)/AN46,(S140+AN35*D19)/AO46)*AP46","v":562.66666666666674},{"$f":"MIN((T136+AN35*D19)/AK46,(T137+AN35*D19)/AL46,(T138+AN35*D19)/AM46,(T139+AN35*D19)/AN46,(T140+AN35*D19)/AO46)*AP46","v":557.33333333333337},{"$f":"MIN((U136+AN35*D19)/AK46,(U137+AN35*D19)/AL46,(U138+AN35*D19)/AM46,(U139+AN35*D19)/AN46,(U140+AN35*D19)/AO46)*AP46","v":488},{"$f":"MIN((V136+AN35*D19)/AK46,(V137+AN35*D19)/AL46,(V138+AN35*D19)/AM46,(V139+AN35*D19)/AN46,(V140+AN35*D19)/AO46)*AP46","v":548},{"$f":"MIN((W136+AN35*D19)/AK46,(W137+AN35*D19)/AL46,(W138+AN35*D19)/AM46,(W139+AN35*D19)/AN46,(W140+AN35*D19)/AO46)*AP46","v":488},{"$f":"MIN((X136+AN35*D19)/AK46,(X137+AN35*D19)/AL46,(X138+AN35*D19)/AM46,(X139+AN35*D19)/AN46,(X140+AN35*D19)/AO46)*AP46","v":562.66666666666674},{"$f":"MIN((Y136+AN35*D19)/AK46,(Y137+AN35*D19)/AL46,(Y138+AN35*D19)/AM46,(Y139+AN35*D19)/AN46,(Y140+AN35*D19)/AO46)*AP46","v":558.66666666666674},{"$f":"MIN((Z136+AN35*D19)/AK46,(Z137+AN35*D19)/AL46,(Z138+AN35*D19)/AM46,(Z139+AN35*D19)/AN46,(Z140+AN35*D19)/AO46)*AP46","v":488},{"$f":"MIN((AA136+AN35*D19)/AK46,(AA137+AN35*D19)/AL46,(AA138+AN35*D19)/AM46,(AA139+AN35*D19)/AN46,(AA140+AN35*D19)/AO46)*AP46","v":558.66666666666674},{"$f":"MIN((AB136+AN35*D19)/AK46,(AB137+AN35*D19)/AL46,(AB138+AN35*D19)/AM46,(AB139+AN35*D19)/AN46,(AB140+AN35*D19)/AO46)*AP46","v":552},{"$f":"MIN((AC136+AN35*D19)/AK46,(AC137+AN35*D19)/AL46,(AC138+AN35*D19)/AM46,(AC139+AN35*D19)/AN46,(AC140+AN35*D19)/AO46)*AP46","v":553.33333333333337},{"$f":"MIN((AD136+AN35*D19)/AK46,(AD137+AN35*D19)/AL46,(AD138+AN35*D19)/AM46,(AD139+AN35*D19)/AN46,(AD140+AN35*D19)/AO46)*AP46","v":488},{"$f":"MIN((AE136+AN35*D19)/AK46,(AE137+AN35*D19)/AL46,(AE138+AN35*D19)/AM46,(AE139+AN35*D19)/AN46,(AE140+AN35*D19)/AO46)*AP46","v":568},{"$f":"MIN((AF136+AN35*D19)/AK46,(AF137+AN35*D19)/AL46,(AF138+AN35*D19)/AM46,(AF139+AN35*D19)/AN46,(AF140+AN35*D19)/AO46)*AP46","v":546.66666666666663},568,null,"afrique du sud 4 ",{"$f":"MIN((S136+AO35*D19)/AK47,(S137+AO35*D19)/AL47,(S138+AO35*D19)/AM47,(S139+AO35*D19)/AN47,(S140+AO35*D19)/AO47)*AP47","v":401.6},{"$f":"MIN((T136+AO35*D19)/AK47,(T137+AO35*D19)/AL47,(T138+AO35*D19)/AM47,(T139+AO35*D19)/AN47,(T140+AO35*D19)/AO47)*AP47","v":418},{"$f":"MIN((U136+AO35*D19)/AK47,(U137+AO35*D19)/AL47,(U138+AO35*D19)/AM47,(U139+AO35*D19)/AN47,(U140+AO35*D19)/AO47)*AP47","v":366},{"$f":"MIN((V136+AO35*D19)/AK47,(V137+AO35*D19)/AL47,(V138+AO35*D19)/AM47,(V139+AO35*D19)/AN47,(V140+AO35*D19)/AO47)*AP47","v":411.00000000000006},{"$f":"MIN((W136+AO35*D19)/AK47,(W137+AO35*D19)/AL47,(W138+AO35*D19)/AM47,(W139+AO35*D19)/AN47,(W140+AO35*D19)/AO47)*AP47","v":366},{"$f":"MIN((X136+AO35*D19)/AK47,(X137+AO35*D19)/AL47,(X138+AO35*D19)/AM47,(X139+AO35*D19)/AN47,(X140+AO35*D19)/AO47)*AP47","v":422},{"$f":"MIN((Y136+AO35*D19)/AK47,(Y137+AO35*D19)/AL47,(Y138+AO35*D19)/AM47,(Y139+AO35*D19)/AN47,(Y140+AO35*D19)/AO47)*AP47","v":426.99999999999994},{"$f":"MIN((Z136+AO35*D19)/AK47,(Z137+AO35*D19)/AL47,(Z138+AO35*D19)/AM47,(Z139+AO35*D19)/AN47,(Z140+AO35*D19)/AO47)*AP47","v":366},{"$f":"MIN((AA136+AO35*D19)/AK47,(AA137+AO35*D19)/AL47,(AA138+AO35*D19)/AM47,(AA139+AO35*D19)/AN47,(AA140+AO35*D19)/AO47)*AP47","v":426.99999999999994},{"$f":"MIN((AB136+AO35*D19)/AK47,(AB137+AO35*D19)/AL47,(AB138+AO35*D19)/AM47,(AB139+AO35*D19)/AN47,(AB140+AO35*D19)/AO47)*AP47","v":430},{"$f":"MIN((AC136+AO35*D19)/AK47,(AC137+AO35*D19)/AL47,(AC138+AO35*D19)/AM47,(AC139+AO35*D19)/AN47,(AC140+AO35*D19)/AO47)*AP47","v":426.40000000000003},{"$f":"MIN((AD136+AO35*D19)/AK47,(AD137+AO35*D19)/AL47,(AD138+AO35*D19)/AM47,(AD139+AO35*D19)/AN47,(AD140+AO35*D19)/AO47)*AP47","v":366},{"$f":"MIN((AE136+AO35*D19)/AK47,(AE137+AO35*D19)/AL47,(AE138+AO35*D19)/AM47,(AE139+AO35*D19)/AN47,(AE140+AO35*D19)/AO47)*AP47","v":429.6},{"$f":"MIN((AF136+AO35*D19)/AK47,(AF137+AO35*D19)/AL47,(AF138+AO35*D19)/AM47,(AF139+AO35*D19)/AN47,(AF140+AO35*D19)/AO47)*AP47","v":430},430,null,"grece 9 ","kit 1","-","kit 2/3","-","kit 2/3","-","kit 4","-","kit 4","-","kit 2/3","-","kit 2/3","-","kit 2/3","-","kit 6/7",0,"kit 10","kit 10","kit 2/3","-","-",null,null,null,"neutre",{"$error":"#N/A"},{"$error":"#N/A"},{"$error":"#N/A"},{"$error":"#N/A"},{"$error":"#N/A"},{"$error":"#N/A"},{"$error":"#N/A"},{"$error":"#N/A"},{"$error":"#N/A"},{"$error":"#N/A"},{"$error":"#N/A"},{"$error":"#N/A"},{"$error":"#N/A"},{"$error":"#N/A"},{"$error":"#N/A"},{"$error":"#N/A"},{"$error":"#N/A"},{"$error":"#N/A"},{"$error":"#N/A"},{"$error":"#N/A"},{"$error":"#N/A"},{"$error":"#N/A"},{"$error":"#N/A"},{"$error":"#N/A"},{"$error":"#N/A"},{"$error":"#N/A"},{"$error":"#N/A"},{"$error":"#N/A"},{"$error":"#N/A"},{"$error":"#N/A"},{"$error":"#N/A"},{"$error":"#N/A"},{"$error":"#N/A"},{"$error":"#N/A"},{"$error":"#N/A"},{"$error":"#N/A"},{"$error":"#N/A"},{"$error":"#N/A"},{"$error":"#N/A"},{"$error":"#N/A"},{"$error":"#N/A"},{"$error":"#N/A"},{"$error":"#N/A"},{"$error":"#N/A"},{"$error":"#N/A"},{"$error":"#N/A"},{"$error":"#N/A"},{"$error":"#N/A"}]
[null,null,null,"",{"$f":"IF(G29<>\"\",G29,\"\")","v":"japon 5 "},19,6.1040000000000004E-2,{"$f":"IF(G29<>\"\",IF(ISNA(IF(VLOOKUP(G29,$AI$8:$AV$33,14,FALSE)=\"\",\"\",(HLOOKUP(VLOOKUP(G29,$BA$10:$BB$20,2,FALSE),S184:AF189,6,FALSE)/100+MIN(5000,M29)/500)/100)),G122,IF(VLOOKUP(G29,$AI$8:$AV$33,14,FALSE)=\"\",\"\",(HLOOKUP(VLOOKUP(G29,$BA$10:$BB$20,2,FALSE),S184:AF189,6,FALSE)/100+MIN(5000,M29)/500)/100)),\"\")","v":6.1040000000000004E-2},{"$f":"IF(G29<>\"\",IF(ISNA(IF(VLOOKUP(G29,$AI$8:$AV$29,14,FALSE)=\"\",\"\",((HLOOKUP(VLOOKUP(G29,$BA$10:$BB$20,2,FALSE),$S$184:$AF$189,6,FALSE)+IF(HLOOKUP(F122,$AJ$7:$AT$35,29,FALSE)=1,D19,0))/100+MIN(5000,M29)/500)/100)),H122,IF(VLOOKUP(G29,$AI$8:$AV$29,14,FALSE)=\"\",\"\",((HLOOKUP(VLOOKUP(G29,$BA$10:$BB$20,2,FALSE),$S$184:$AF$189,6,FALSE)+IF(HLOOKUP(F122,$AJ$7:$AT$35,29,FALSE)=1,D19,0))/100+MIN(5000,M29)/500)/100)),\"\")","v":6.1040000000000004E-2},null,null,null,null,null,null,null,null,{"$f":"H20+AH39+D16+D17+D21+D19*AG17","v":583},{"$f":"R122+Q10","v":624},{"$f":"R122+R10","v":652},{"$f":"R122+S10","v":583},{"$f":"R122+T10","v":656},{"$f":"R122+U10","v":583},{"$f":"R122+V10","v":653},{"$f":"R122+W10","v":644},{"$f":"R122+X10","v":583},{"$f":"R122+Y10","v":644},{"$f":"R122+Z10","v":639},{"$f":"R122+AA10","v":644},{"$f":"R122+AB10","v":583},{"$f":"R122+AC10","v":629},{"$f":"R122+AD10","v":634},null,null,null,"allemagne 11 ",{"$f":"MIN((S143+AN35*D19)/AK46,(S144+AN35*D19)/AL46,(S145+AN35*D19)/AM46,(S146+AN35*D19)/AN46,(S147+AN35*D19)/AO46)*AP46","v":581},{"$f":"MIN((T143+AN35*D19)/AK46,(T144+AN35*D19)/AL46,(T145+AN35*D19)/AM46,(T146+AN35*D19)/AN46,(T147+AN35*D19)/AO46)*AP46","v":609},{"$f":"MIN((U143+AN35*D19)/AK46,(U144+AN35*D19)/AL46,(U145+AN35*D19)/AM46,(U146+AN35*D19)/AN46,(U147+AN35*D19)/AO46)*AP46","v":540},{"$f":"MIN((V143+AN35*D19)/AK46,(V144+AN35*D19)/AL46,(V145+AN35*D19)/AM46,(V146+AN35*D19)/AN46,(V147+AN35*D19)/AO46)*AP46","v":613},{"$f":"MIN((W143+AN35*D19)/AK46,(W144+AN35*D19)/AL46,(W145+AN35*D19)/AM46,(W146+AN35*D19)/AN46,(W147+AN35*D19)/AO46)*AP46","v":540},{"$f":"MIN((X143+AN35*D19)/AK46,(X144+AN35*D19)/AL46,(X145+AN35*D19)/AM46,(X146+AN35*D19)/AN46,(X147+AN35*D19)/AO46)*AP46","v":610},{"$f":"MIN((Y143+AN35*D19)/AK46,(Y144+AN35*D19)/AL46,(Y145+AN35*D19)/AM46,(Y146+AN35*D19)/AN46,(Y147+AN35*D19)/AO46)*AP46","v":601},{"$f":"MIN((Z143+AN35*D19)/AK46,(Z144+AN35*D19)/AL46,(Z145+AN35*D19)/AM46,(Z146+AN35*D19)/AN46,(Z147+AN35*D19)/AO46)*AP46","v":540},{"$f":"MIN((AA143+AN35*D19)/AK46,(AA144+AN35*D19)/AL46,(AA145+AN35*D19)/AM46,(AA146+AN35*D19)/AN46,(AA147+AN35*D19)/AO46)*AP46","v":601},{"$f":"MIN((AB143+AN35*D19)/AK46,(AB144+AN35*D19)/AL46,(AB145+AN35*D19)/AM46,(AB146+AN35*D19)/AN46,(AB147+AN35*D19)/AO46)*AP46","v":596},{"$f":"MIN((AC143+AN35*D19)/AK46,(AC144+AN35*D19)/AL46,(AC145+AN35*D19)/AM46,(AC146+AN35*D19)/AN46,(AC147+AN35*D19)/AO46)*AP46","v":601},{"$f":"MIN((AD143+AN35*D19)/AK46,(AD144+AN35*D19)/AL46,(AD145+AN35*D19)/AM46,(AD146+AN35*D19)/AN46,(AD147+AN35*D19)/AO46)*AP46","v":540},{"$f":"MIN((AE143+AN35*D19)/AK46,(AE144+AN35*D19)/AL46,(AE145+AN35*D19)/AM46,(AE146+AN35*D19)/AN46,(AE147+AN35*D19)/AO46)*AP46","v":586},{"$f":"MIN((AF143+AN35*D19)/AK46,(AF144+AN35*D19)/AL46,(AF145+AN35*D19)/AM46,(AF146+AN35*D19)/AN46,(AF147+AN35*D19)/AO46)*AP46","v":591},613,null,"allemagne 11 ",{"$f":"MIN((S143+AO35*D19)/AK47,(S144+AO35*D19)/AL47,(S145+AO35*D19)/AM47,(S146+AO35*D19)/AN47,(S147+AO35*D19)/AO47)*AP47","v":464.79999999999995},{"$f":"MIN((T143+AO35*D19)/AK47,(T144+AO35*D19)/AL47,(T145+AO35*D19)/AM47,(T146+AO35*D19)/AN47,(T147+AO35*D19)/AO47)*AP47","v":487.2},{"$f":"MIN((U143+AO35*D19)/AK47,(U144+AO35*D19)/AL47,(U145+AO35*D19)/AM47,(U146+AO35*D19)/AN47,(U147+AO35*D19)/AO47)*AP47","v":432},{"$f":"MIN((V143+AO35*D19)/AK47,(V144+AO35*D19)/AL47,(V145+AO35*D19)/AM47,(V146+AO35*D19)/AN47,(V147+AO35*D19)/AO47)*AP47","v":490.4},{"$f":"MIN((W143+AO35*D19)/AK47,(W144+AO35*D19)/AL47,(W145+AO35*D19)/AM47,(W146+AO35*D19)/AN47,(W147+AO35*D19)/AO47)*AP47","v":432},{"$f":"MIN((X143+AO35*D19)/AK47,(X144+AO35*D19)/AL47,(X145+AO35*D19)/AM47,(X146+AO35*D19)/AN47,(X147+AO35*D19)/AO47)*AP47","v":488},{"$f":"MIN((Y143+AO35*D19)/AK47,(Y144+AO35*D19)/AL47,(Y145+AO35*D19)/AM47,(Y146+AO35*D19)/AN47,(Y147+AO35*D19)/AO47)*AP47","v":480.79999999999995},{"$f":"MIN((Z143+AO35*D19)/AK47,(Z144+AO35*D19)/AL47,(Z145+AO35*D19)/AM47,(Z146+AO35*D19)/AN47,(Z147+AO35*D19)/AO47)*AP47","v":432},{"$f":"MIN((AA143+AO35*D19)/AK47,(AA144+AO35*D19)/AL47,(AA145+AO35*D19)/AM47,(AA146+AO35*D19)/AN47,(AA147+AO35*D19)/AO47)*AP47","v":480.79999999999995},{"$f":"MIN((AB143+AO35*D19)/AK47,(AB144+AO35*D19)/AL47,(AB145+AO35*D19)/AM47,(AB146+AO35*D19)/AN47,(AB147+AO35*D19)/AO47)*AP47","v":476.79999999999995},{"$f":"MIN((AC143+AO35*D19)/AK47,(AC144+AO35*D19)/AL47,(AC145+AO35*D19)/AM47,(AC146+AO35*D19)/AN47,(AC147+AO35*D19)/AO47)*AP47","v":480.79999999999995},{"$f":"MIN((AD143+AO35*D19)/AK47,(AD144+AO35*D19)/AL47,(AD145+AO35*D19)/AM47,(AD146+AO35*D19)/AN47,(AD147+AO35*D19)/AO47)*AP47","v":432},{"$f":"MIN((AE143+AO35*D19)/AK47,(AE144+AO35*D19)/AL47,(AE145+AO35*D19)/AM47,(AE146+AO35*D19)/AN47,(AE147+AO35*D19)/AO47)*AP47","v":468.79999999999995},{"$f":"MIN((AF143+AO35*D19)/AK47,(AF144+AO35*D19)/AL47,(AF145+AO35*D19)/AM47,(AF146+AO35*D19)/AN47,(AF147+AO35*D19)/AO47)*AP47","v":472.79999999999995},490.4,null,"nigeria 8 ","kit 1","-","kit 2/3","-","kit 2/3","-","kit 4","-","kit 4","-","kit 4","kit 11","kit 4","kit 11","kit 4","kit 11","kit 1","-","kit 10","kit 10","kit 4","kit 11","-",null,null,null,"off",{"$error":"#N/A"},{"$error":"#N/A"},{"$error":"#N/A"},{"$error":"#N/A"},{"$error":"#N/A"},{"$error":"#N/A"},{"$error":"#N/A"},{"$error":"#N/A"},{"$error":"#N/A"},{"$error":"#N/A"},{"$error":"#N/A"},{"$error":"#N/A"},{"$error":"#N/A"},{"$error":"#N/A"},{"$error":"#N/A"},{"$error":"#N/A"},{"$error":"#N/A"},{"$error":"#N/A"},{"$error":"#N/A"},{"$error":"#N/A"},{"$error":"#N/A"},{"$error":"#N/A"},{"$error":"#N/A"},{"$error":"#N/A"},{"$error":"#N/A"},{"$error":"#N/A"},{"$error":"#N/A"},{"$error":"#N/A"},{"$error":"#N/A"},{"$error":"#N/A"},{"$error":"#N/A"},{"$error":"#N/A"},{"$error":"#N/A"},{"$error":"#N/A"},{"$error":"#N/A"},{"$error":"#N/A"},{"$error":"#N/A"},{"$error":"#N/A"},{"$error":"#N/A"},{"$error":"#N/A"},{"$error":"#N/A"},{"$error":"#N/A"},{"$error":"#N/A"},{"$error":"#N/A"},{"$error":"#N/A"},{"$error":"#N/A"},{"$error":"#N/A"},{"$error":"#N/A"}]
[null,null,null,"","nigeria 4 ",20,4.1860000000000001E-2,{"$f":"IF(G30<>\"\",IF(ISNA(IF(VLOOKUP(G30,$AI$8:$AV$33,14,FALSE)=\"\",\"\",(HLOOKUP(VLOOKUP(G30,$BA$10:$BB$20,2,FALSE),S191:AF196,6,FALSE)/100+MIN(5000,M30)/500)/100)),G123,IF(VLOOKUP(G30,$AI$8:$AV$33,14,FALSE)=\"\",\"\",(HLOOKUP(VLOOKUP(G30,$BA$10:$BB$20,2,FALSE),S191:AF196,6,FALSE)/100+MIN(5000,M30)/500)/100)),\"\")","v":4.1860000000000001E-2},{"$f":"IF(G30<>\"\",IF(ISNA(IF(VLOOKUP(G30,$AI$8:$AV$29,14,FALSE)=\"\",\"\",((HLOOKUP(VLOOKUP(G30,$BA$10:$BB$20,2,FALSE),$S$191:$AF$196,6,FALSE)+IF(HLOOKUP(F123,$AJ$7:$AT$35,29,FALSE)=1,D19,0))/100+MIN(5000,M30)/500)/100)),H123,IF(VLOOKUP(G30,$AI$8:$AV$29,14,FALSE)=\"\",\"\",((HLOOKUP(VLOOKUP(G30,$BA$10:$BB$20,2,FALSE),$S$191:$AF$196,6,FALSE)+IF(HLOOKUP(F123,$AJ$7:$AT$35,29,FALSE)=1,D19,0))/100+MIN(5000,M30)/500)/100)),\"\")","v":4.1860000000000001E-2},null,null,null,null,null,null,null,null,{"$f":"I20+AH40+D15+D17+D21+D19*AG17","v":589},{"$f":"R123+Q11","v":669},{"$f":"R123+R11","v":641},{"$f":"R123+S11","v":589},{"$f":"R123+T11","v":634},{"$f":"R123+U11","v":589},{"$f":"R123+V11","v":645},{"$f":"R123+W11","v":650},{"$f":"R123+X11","v":589},{"$f":"R123+Y11","v":650},{"$f":"R123+Z11","v":653},{"$f":"R123+AA11","v":657},{"$f":"R123+AB11","v":589},{"$f":"R123+AC11","v":657},{"$f":"R123+AD11","v":653},null,null,null,"chili 11 ",{"$f":"MIN((S150+AN35*D19)/AK46,(S151+AN35*D19)/AL46,(S152+AN35*D19)/AM46,(S153+AN35*D19)/AN46,(S154+AN35*D19)/AO46)*AP46","v":501.99999999999994},{"$f":"MIN((T150+AN35*D19)/AK46,(T151+AN35*D19)/AL46,(T152+AN35*D19)/AM46,(T153+AN35*D19)/AN46,(T154+AN35*D19)/AO46)*AP46","v":530},{"$f":"MIN((U150+AN35*D19)/AK46,(U151+AN35*D19)/AL46,(U152+AN35*D19)/AM46,(U153+AN35*D19)/AN46,(U154+AN35*D19)/AO46)*AP46","v":461.00000000000006},{"$f":"MIN((V150+AN35*D19)/AK46,(V151+AN35*D19)/AL46,(V152+AN35*D19)/AM46,(V153+AN35*D19)/AN46,(V154+AN35*D19)/AO46)*AP46","v":534},{"$f":"MIN((W150+AN35*D19)/AK46,(W151+AN35*D19)/AL46,(W152+AN35*D19)/AM46,(W153+AN35*D19)/AN46,(W154+AN35*D19)/AO46)*AP46","v":461.00000000000006},{"$f":"MIN((X150+AN35*D19)/AK46,(X151+AN35*D19)/AL46,(X152+AN35*D19)/AM46,(X153+AN35*D19)/AN46,(X154+AN35*D19)/AO46)*AP46","v":531},{"$f":"MIN((Y150+AN35*D19)/AK46,(Y151+AN35*D19)/AL46,(Y152+AN35*D19)/AM46,(Y153+AN35*D19)/AN46,(Y154+AN35*D19)/AO46)*AP46","v":522},{"$f":"MIN((Z150+AN35*D19)/AK46,(Z151+AN35*D19)/AL46,(Z152+AN35*D19)/AM46,(Z153+AN35*D19)/AN46,(Z154+AN35*D19)/AO46)*AP46","v":461.00000000000006},{"$f":"MIN((AA150+AN35*D19)/AK46,(AA151+AN35*D19)/AL46,(AA152+AN35*D19)/AM46,(AA153+AN35*D19)/AN46,(AA154+AN35*D19)/AO46)*AP46","v":522},{"$f":"MIN((AB150+AN35*D19)/AK46,(AB151+AN35*D19)/AL46,(AB152+AN35*D19)/AM46,(AB153+AN35*D19)/AN46,(AB154+AN35*D19)/AO46)*AP46","v":517},{"$f":"MIN((AC150+AN35*D19)/AK46,(AC151+AN35*D19)/AL46,(AC152+AN35*D19)/AM46,(AC153+AN35*D19)/AN46,(AC154+AN35*D19)/AO46)*AP46","v":522},{"$f":"MIN((AD150+AN35*D19)/AK46,(AD151+AN35*D19)/AL46,(AD152+AN35*D19)/AM46,(AD153+AN35*D19)/AN46,(AD154+AN35*D19)/AO46)*AP46","v":461.00000000000006},{"$f":"MIN((AE150+AN35*D19)/AK46,(AE151+AN35*D19)/AL46,(AE152+AN35*D19)/AM46,(AE153+AN35*D19)/AN46,(AE154+AN35*D19)/AO46)*AP46","v":507},{"$f":"MIN((AF150+AN35*D19)/AK46,(AF151+AN35*D19)/AL46,(AF152+AN35*D19)/AM46,(AF153+AN35*D19)/AN46,(AF154+AN35*D19)/AO46)*AP46","v":512},534,null,"chili 11 ",{"$f":"MIN((S150+AO35*D19)/AK47,(S151+AO35*D19)/AL47,(S152+AO35*D19)/AM47,(S153+AO35*D19)/AN47,(S154+AO35*D19)/AO47)*AP47","v":401.6},{"$f":"MIN((T150+AO35*D19)/AK47,(T151+AO35*D19)/AL47,(T152+AO35*D19)/AM47,(T153+AO35*D19)/AN47,(T154+AO35*D19)/AO47)*AP47","v":424},{"$f":"MIN((U150+AO35*D19)/AK47,(U151+AO35*D19)/AL47,(U152+AO35*D19)/AM47,(U153+AO35*D19)/AN47,(U154+AO35*D19)/AO47)*AP47","v":368.8},{"$f":"MIN((V150+AO35*D19)/AK47,(V151+AO35*D19)/AL47,(V152+AO35*D19)/AM47,(V153+AO35*D19)/AN47,(V154+AO35*D19)/AO47)*AP47","v":427.20000000000005},{"$f":"MIN((W150+AO35*D19)/AK47,(W151+AO35*D19)/AL47,(W152+AO35*D19)/AM47,(W153+AO35*D19)/AN47,(W154+AO35*D19)/AO47)*AP47","v":368.8},{"$f":"MIN((X150+AO35*D19)/AK47,(X151+AO35*D19)/AL47,(X152+AO35*D19)/AM47,(X153+AO35*D19)/AN47,(X154+AO35*D19)/AO47)*AP47","v":424.8},{"$f":"MIN((Y150+AO35*D19)/AK47,(Y151+AO35*D19)/AL47,(Y152+AO35*D19)/AM47,(Y153+AO35*D19)/AN47,(Y154+AO35*D19)/AO47)*AP47","v":417.6},{"$f":"MIN((Z150+AO35*D19)/AK47,(Z151+AO35*D19)/AL47,(Z152+AO35*D19)/AM47,(Z153+AO35*D19)/AN47,(Z154+AO35*D19)/AO47)*AP47","v":368.8},{"$f":"MIN((AA150+AO35*D19)/AK47,(AA151+AO35*D19)/AL47,(AA152+AO35*D19)/AM47,(AA153+AO35*D19)/AN47,(AA154+AO35*D19)/AO47)*AP47","v":417.6},{"$f":"MIN((AB150+AO35*D19)/AK47,(AB151+AO35*D19)/AL47,(AB152+AO35*D19)/AM47,(AB153+AO35*D19)/AN47,(AB154+AO35*D19)/AO47)*AP47","v":413.6},{"$f":"MIN((AC150+AO35*D19)/AK47,(AC151+AO35*D19)/AL47,(AC152+AO35*D19)/AM47,(AC153+AO35*D19)/AN47,(AC154+AO35*D19)/AO47)*AP47","v":417.6},{"$f":"MIN((AD150+AO35*D19)/AK47,(AD151+AO35*D19)/AL47,(AD152+AO35*D19)/AM47,(AD153+AO35*D19)/AN47,(AD154+AO35*D19)/AO47)*AP47","v":368.8},{"$f":"MIN((AE150+AO35*D19)/AK47,(AE151+AO35*D19)/AL47,(AE152+AO35*D19)/AM47,(AE153+AO35*D19)/AN47,(AE154+AO35*D19)/AO47)*AP47","v":405.6},{"$f":"MIN((AF150+AO35*D19)/AK47,(AF151+AO35*D19)/AL47,(AF152+AO35*D19)/AM47,(AF153+AO35*D19)/AN47,(AF154+AO35*D19)/AO47)*AP47","v":409.6},427.20000000000005,null,"slovaquie 8 ","kit 1","-","kit 2/3","-","kit 2/3","-","kit 4","-","kit 4","-","kit 4","-","kit 5","-","kit 4","-","kit 6/7",0,"kit 10","kit 10","kit 4","-","-",null,null,352,"def",{"$error":"#N/A"},{"$error":"#N/A"},{"$error":"#N/A"},{"$error":"#N/A"},{"$error":"#N/A"},{"$error":"#N/A"},{"$error":"#N/A"},{"$error":"#N/A"},{"$error":"#N/A"},{"$error":"#N/A"},{"$error":"#N/A"},{"$error":"#N/A"},{"$error":"#N/A"},{"$error":"#N/A"},{"$error":"#N/A"},{"$error":"#N/A"},{"$error":"#N/A"},{"$error":"#N/A"},{"$error":"#N/A"},{"$error":"#N/A"},{"$error":"#N/A"},{"$error":"#N/A"},{"$error":"#N/A"},{"$error":"#N/A"},{"$error":"#N/A"},{"$error":"#N/A"},{"$error":"#N/A"},{"$error":"#N/A"},{"$error":"#N/A"},{"$error":"#N/A"},{"$error":"#N/A"},{"$error":"#N/A"},{"$error":"#N/A"},{"$error":"#N/A"},{"$error":"#N/A"},{"$error":"#N/A"},{"$error":"#N/A"},{"$error":"#N/A"},{"$error":"#N/A"},{"$error":"#N/A"},{"$error":"#N/A"},{"$error":"#N/A"},{"$error":"#N/A"},{"$error":"#N/A"},{"$error":"#N/A"},{"$error":"#N/A"},{"$error":"#N/A"},{"$error":"#N/A"}]
[null,null,null,"",{"$f":"IF(G31<>\"\",G31,\"\")","v":"slovaquie 7 "},21,2.8500000000000001E-2,{"$f":"IF(G31<>\"\",IF(ISNA(IF(VLOOKUP(G31,$AI$8:$AV$33,14,FALSE)=\"\",\"\",(HLOOKUP(VLOOKUP(G31,$BA$10:$BB$20,2,FALSE),S198:AF203,6,FALSE)/100+MIN(5000,M31)/500)/100)),G124,IF(VLOOKUP(G31,$AI$8:$AV$33,14,FALSE)=\"\",\"\",(HLOOKUP(VLOOKUP(G31,$BA$10:$BB$20,2,FALSE),S198:AF203,6,FALSE)/100+MIN(5000,M31)/500)/100)),\"\")","v":2.8500000000000001E-2},{"$f":"IF(G31<>\"\",IF(ISNA(IF(VLOOKUP(G31,$AI$8:$AV$29,14,FALSE)=\"\",\"\",((HLOOKUP(VLOOKUP(G31,$BA$10:$BB$20,2,FALSE),$S$198:$AF$203,6,FALSE)+IF(HLOOKUP(F124,$AJ$7:$AT$35,29,FALSE)=1,D19,0))/100+MIN(5000,M31)/500)/100)),H124,IF(VLOOKUP(G31,$AI$8:$AV$29,14,FALSE)=\"\",\"\",((HLOOKUP(VLOOKUP(G31,$BA$10:$BB$20,2,FALSE),$S$198:$AF$203,6,FALSE)+IF(HLOOKUP(F124,$AJ$7:$AT$35,29,FALSE)=1,D19,0))/100+MIN(5000,M31)/500)/100)),\"\")","v":2.8500000000000001E-2},null,null,null,null,null,null,null,null,{"$f":"J20+AH41+D15+D17+D21+D19*AG17","v":562},{"$f":"R124+Q12","v":603},{"$f":"R124+R12","v":622},{"$f":"R124+S12","v":562},{"$f":"R124+T12","v":635},{"$f":"R124+U12","v":562},{"$f":"R124+V12","v":618},{"$f":"R124+W12","v":623},{"$f":"R124+X12","v":562},{"$f":"R124+Y12","v":623},{"$f":"R124+Z12","v":626},{"$f":"R124+AA12","v":630},{"$f":"R124+AB12","v":562},{"$f":"R124+AC12","v":615},{"$f":"R124+AD12","v":633},null,null,null,"corée du sud 3 ",{"$f":"MIN((S157+AN35*D19)/AK46,(S158+AN35*D19)/AL46,(S159+AN35*D19)/AM46,(S160+AN35*D19)/AN46,(S161+AN35*D19)/AO46)*AP46","v":602.66666666666663},{"$f":"MIN((T157+AN35*D19)/AK46,(T158+AN35*D19)/AL46,(T159+AN35*D19)/AM46,(T160+AN35*D19)/AN46,(T161+AN35*D19)/AO46)*AP46","v":597.33333333333337},{"$f":"MIN((U157+AN35*D19)/AK46,(U158+AN35*D19)/AL46,(U159+AN35*D19)/AM46,(U160+AN35*D19)/AN46,(U161+AN35*D19)/AO46)*AP46","v":528},{"$f":"MIN((V157+AN35*D19)/AK46,(V158+AN35*D19)/AL46,(V159+AN35*D19)/AM46,(V160+AN35*D19)/AN46,(V161+AN35*D19)/AO46)*AP46","v":588},{"$f":"MIN((W157+AN35*D19)/AK46,(W158+AN35*D19)/AL46,(W159+AN35*D19)/AM46,(W160+AN35*D19)/AN46,(W161+AN35*D19)/AO46)*AP46","v":528},{"$f":"MIN((X157+AN35*D19)/AK46,(X158+AN35*D19)/AL46,(X159+AN35*D19)/AM46,(X160+AN35*D19)/AN46,(X161+AN35*D19)/AO46)*AP46","v":602.66666666666663},{"$f":"MIN((Y157+AN35*D19)/AK46,(Y158+AN35*D19)/AL46,(Y159+AN35*D19)/AM46,(Y160+AN35*D19)/AN46,(Y161+AN35*D19)/AO46)*AP46","v":598.66666666666663},{"$f":"MIN((Z157+AN35*D19)/AK46,(Z158+AN35*D19)/AL46,(Z159+AN35*D19)/AM46,(Z160+AN35*D19)/AN46,(Z161+AN35*D19)/AO46)*AP46","v":528},{"$f":"MIN((AA157+AN35*D19)/AK46,(AA158+AN35*D19)/AL46,(AA159+AN35*D19)/AM46,(AA160+AN35*D19)/AN46,(AA161+AN35*D19)/AO46)*AP46","v":598.66666666666663},{"$f":"MIN((AB157+AN35*D19)/AK46,(AB158+AN35*D19)/AL46,(AB159+AN35*D19)/AM46,(AB160+AN35*D19)/AN46,(AB161+AN35*D19)/AO46)*AP46","v":592},{"$f":"MIN((AC157+AN35*D19)/AK46,(AC158+AN35*D19)/AL46,(AC159+AN35*D19)/AM46,(AC160+AN35*D19)/AN46,(AC161+AN35*D19)/AO46)*AP46","v":593.33333333333337},{"$f":"MIN((AD157+AN35*D19)/AK46,(AD158+AN35*D19)/AL46,(AD159+AN35*D19)/AM46,(AD160+AN35*D19)/AN46,(AD161+AN35*D19)/AO46)*AP46","v":528},{"$f":"MIN((AE157+AN35*D19)/AK46,(AE158+AN35*D19)/AL46,(AE159+AN35*D19)/AM46,(AE160+AN35*D19)/AN46,(AE161+AN35*D19)/AO46)*AP46","v":608},{"$f":"MIN((AF157+AN35*D19)/AK46,(AF158+AN35*D19)/AL46,(AF159+AN35*D19)/AM46,(AF160+AN35*D19)/AN46,(AF161+AN35*D19)/AO46)*AP46","v":586.66666666666663},608,null,"corée du sud 3 ",{"$f":"MIN((S157+AO35*D19)/AK47,(S158+AO35*D19)/AL47,(S159+AO35*D19)/AM47,(S160+AO35*D19)/AN47,(S161+AO35*D19)/AO47)*AP47","v":412.8},{"$f":"MIN((T157+AO35*D19)/AK47,(T158+AO35*D19)/AL47,(T159+AO35*D19)/AM47,(T160+AO35*D19)/AN47,(T161+AO35*D19)/AO47)*AP47","v":428},{"$f":"MIN((U157+AO35*D19)/AK47,(U158+AO35*D19)/AL47,(U159+AO35*D19)/AM47,(U160+AO35*D19)/AN47,(U161+AO35*D19)/AO47)*AP47","v":380},{"$f":"MIN((V157+AO35*D19)/AK47,(V158+AO35*D19)/AL47,(V159+AO35*D19)/AM47,(V160+AO35*D19)/AN47,(V161+AO35*D19)/AO47)*AP47","v":438.40000000000003},{"$f":"MIN((W157+AO35*D19)/AK47,(W158+AO35*D19)/AL47,(W159+AO35*D19)/AM47,(W160+AO35*D19)/AN47,(W161+AO35*D19)/AO47)*AP47","v":380},{"$f":"MIN((X157+AO35*D19)/AK47,(X158+AO35*D19)/AL47,(X159+AO35*D19)/AM47,(X160+AO35*D19)/AN47,(X161+AO35*D19)/AO47)*AP47","v":424.8},{"$f":"MIN((Y157+AO35*D19)/AK47,(Y158+AO35*D19)/AL47,(Y159+AO35*D19)/AM47,(Y160+AO35*D19)/AN47,(Y161+AO35*D19)/AO47)*AP47","v":428.8},{"$f":"MIN((Z157+AO35*D19)/AK47,(Z158+AO35*D19)/AL47,(Z159+AO35*D19)/AM47,(Z160+AO35*D19)/AN47,(Z161+AO35*D19)/AO47)*AP47","v":380},{"$f":"MIN((AA157+AO35*D19)/AK47,(AA158+AO35*D19)/AL47,(AA159+AO35*D19)/AM47,(AA160+AO35*D19)/AN47,(AA161+AO35*D19)/AO47)*AP47","v":428.8},{"$f":"MIN((AB157+AO35*D19)/AK47,(AB158+AO35*D19)/AL47,(AB159+AO35*D19)/AM47,(AB160+AO35*D19)/AN47,(AB161+AO35*D19)/AO47)*AP47","v":431.20000000000005},{"$f":"MIN((AC157+AO35*D19)/AK47,(AC158+AO35*D19)/AL47,(AC159+AO35*D19)/AM47,(AC160+AO35*D19)/AN47,(AC161+AO35*D19)/AO47)*AP47","v":434.40000000000003},{"$f":"MIN((AD157+AO35*D19)/AK47,(AD158+AO35*D19)/AL47,(AD159+AO35*D19)/AM47,(AD160+AO35*D19)/AN47,(AD161+AO35*D19)/AO47)*AP47","v":380},{"$f":"MIN((AE157+AO35*D19)/AK47,(AE158+AO35*D19)/AL47,(AE159+AO35*D19)/AM47,(AE160+AO35*D19)/AN47,(AE161+AO35*D19)/AO47)*AP47","v":422.40000000000003},{"$f":"MIN((AF157+AO35*D19)/AK47,(AF158+AO35*D19)/AL47,(AF159+AO35*D19)/AM47,(AF160+AO35*D19)/AN47,(AF161+AO35*D19)/AO47)*AP47","v":436.8},438.40000000000003,null,"afrique du sud 4 ","kit 1","-","kit 2/3","-","kit 2/3","-","kit 2/3","-","kit 10","kit 10","kit 8","kit 8","kit 1","-","kit 1","-","kit 1","-","kit 1","-","kit 1","-","-",null,null,null,"neutre",{"$error":"#N/A"},{"$error":"#N/A"},{"$error":"#N/A"},{"$error":"#N/A"},{"$error":"#N/A"},{"$error":"#N/A"},{"$error":"#N/A"},{"$error":"#N/A"},{"$error":"#N/A"},{"$error":"#N/A"},{"$error":"#N/A"},{"$error":"#N/A"},{"$error":"#N/A"},{"$error":"#N/A"},{"$error":"#N/A"},{"$error":"#N/A"},{"$error":"#N/A"},{"$error":"#N/A"},{"$error":"#N/A"},{"$error":"#N/A"},{"$error":"#N/A"},{"$error":"#N/A"},{"$error":"#N/A"},{"$error":"#N/A"},{"$error":"#N/A"},{"$error":"#N/A"},{"$error":"#N/A"},{"$error":"#N/A"},{"$error":"#N/A"},{"$error":"#N/A"},{"$error":"#N/A"},{"$error":"#N/A"},{"$error":"#N/A"},{"$error":"#N/A"},{"$error":"#N/A"},{"$error":"#N/A"},{"$error":"#N/A"},{"$error":"#N/A"},{"$error":"#N/A"},{"$error":"#N/A"},{"$error":"#N/A"},{"$error":"#N/A"},{"$error":"#N/A"},{"$error":"#N/A"},{"$error":"#N/A"},{"$error":"#N/A"},{"$error":"#N/A"},{"$error":"#N/A"}]
[null,null,null,"","slovaquie 7 bis ",{"$f":"VLOOKUP(E125,$AI$8:$AV$33,14,FALSE)","v":22},{"$f":"IF(G32<>\"\",(L32/100+MIN(5000,M32)/500)/100,\"\")","v":4.7919999999999997E-2},{"$f":"IF(G32<>\"\",IF(ISNA(IF(VLOOKUP(G32,$AI$8:$AV$33,14,FALSE)=\"\",\"\",(HLOOKUP(VLOOKUP(G32,$BA$10:$BB$20,2,FALSE),S205:AF210,6,FALSE)/100+MIN(5000,M32)/500)/100)),G125,IF(VLOOKUP(G32,$AI$8:$AV$33,14,FALSE)=\"\",\"\",(HLOOKUP(VLOOKUP(G32,$BA$10:$BB$20,2,FALSE),S205:AF210,6,FALSE)/100+MIN(5000,M32)/500)/100)),\"\")","v":4.7919999999999997E-2},{"$f":"IF(G32<>\"\",IF(ISNA(IF(VLOOKUP(G32,$AI$8:$AV$29,14,FALSE)=\"\",\"\",((HLOOKUP(VLOOKUP(G32,$BA$10:$BB$20,2,FALSE),$S$205:$AF$210,6,FALSE)+IF(HLOOKUP(F125,$AJ$7:$AT$35,29,FALSE)=1,D19,0))/100+MIN(5000,M32)/500)/100)),H125,IF(VLOOKUP(G32,$AI$8:$AV$29,14,FALSE)=\"\",\"\",((HLOOKUP(VLOOKUP(G32,$BA$10:$BB$20,2,FALSE),$S$205:$AF$210,6,FALSE)+IF(HLOOKUP(F125,$AJ$7:$AT$35,29,FALSE)=1,D19,0))/100+MIN(5000,M32)/500)/100)),\"\")","v":4.7919999999999997E-2},null,null,null,null,null,null,null,null,{"$f":"K20+AH42+D16+D17+D21+D19*AG17","v":564},{"$f":"R125+Q13","v":589},{"$f":"R125+R13","v":633},{"$f":"R125+S13","v":564},{"$f":"R125+T13","v":628},{"$f":"R125+U13","v":564},{"$f":"R125+V13","v":620},{"$f":"R125+W13","v":625},{"$f":"R125+X13","v":564},{"$f":"R125+Y13","v":625},{"$f":"R125+Z13","v":628},{"$f":"R125+AA13","v":620},{"$f":"R125+AB13","v":564},{"$f":"R125+AC13","v":624},{"$f":"R125+AD13","v":628},null,null,null,"france 11 ",{"$f":"MIN((S164+AN35*D19)/AK46,(S165+AN35*D19)/AL46,(S166+AN35*D19)/AM46,(S167+AN35*D19)/AN46,(S168+AN35*D19)/AO46)*AP46","v":539},{"$f":"MIN((T164+AN35*D19)/AK46,(T165+AN35*D19)/AL46,(T166+AN35*D19)/AM46,(T167+AN35*D19)/AN46,(T168+AN35*D19)/AO46)*AP46","v":567},{"$f":"MIN((U164+AN35*D19)/AK46,(U165+AN35*D19)/AL46,(U166+AN35*D19)/AM46,(U167+AN35*D19)/AN46,(U168+AN35*D19)/AO46)*AP46","v":498.00000000000006},{"$f":"MIN((V164+AN35*D19)/AK46,(V165+AN35*D19)/AL46,(V166+AN35*D19)/AM46,(V167+AN35*D19)/AN46,(V168+AN35*D19)/AO46)*AP46","v":571},{"$f":"MIN((W164+AN35*D19)/AK46,(W165+AN35*D19)/AL46,(W166+AN35*D19)/AM46,(W167+AN35*D19)/AN46,(W168+AN35*D19)/AO46)*AP46","v":498.00000000000006},{"$f":"MIN((X164+AN35*D19)/AK46,(X165+AN35*D19)/AL46,(X166+AN35*D19)/AM46,(X167+AN35*D19)/AN46,(X168+AN35*D19)/AO46)*AP46","v":568},{"$f":"MIN((Y164+AN35*D19)/AK46,(Y165+AN35*D19)/AL46,(Y166+AN35*D19)/AM46,(Y167+AN35*D19)/AN46,(Y168+AN35*D19)/AO46)*AP46","v":559},{"$f":"MIN((Z164+AN35*D19)/AK46,(Z165+AN35*D19)/AL46,(Z166+AN35*D19)/AM46,(Z167+AN35*D19)/AN46,(Z168+AN35*D19)/AO46)*AP46","v":498.00000000000006},{"$f":"MIN((AA164+AN35*D19)/AK46,(AA165+AN35*D19)/AL46,(AA166+AN35*D19)/AM46,(AA167+AN35*D19)/AN46,(AA168+AN35*D19)/AO46)*AP46","v":559},{"$f":"MIN((AB164+AN35*D19)/AK46,(AB165+AN35*D19)/AL46,(AB166+AN35*D19)/AM46,(AB167+AN35*D19)/AN46,(AB168+AN35*D19)/AO46)*AP46","v":554},{"$f":"MIN((AC164+AN35*D19)/AK46,(AC165+AN35*D19)/AL46,(AC166+AN35*D19)/AM46,(AC167+AN35*D19)/AN46,(AC168+AN35*D19)/AO46)*AP46","v":559},{"$f":"MIN((AD164+AN35*D19)/AK46,(AD165+AN35*D19)/AL46,(AD166+AN35*D19)/AM46,(AD167+AN35*D19)/AN46,(AD168+AN35*D19)/AO46)*AP46","v":498.00000000000006},{"$f":"MIN((AE164+AN35*D19)/AK46,(AE165+AN35*D19)/AL46,(AE166+AN35*D19)/AM46,(AE167+AN35*D19)/AN46,(AE168+AN35*D19)/AO46)*AP46","v":544},{"$f":"MIN((AF164+AN35*D19)/AK46,(AF165+AN35*D19)/AL46,(AF166+AN35*D19)/AM46,(AF167+AN35*D19)/AN46,(AF168+AN35*D19)/AO46)*AP46","v":549},571,null,"france 11 ",{"$f":"MIN((S164+AO35*D19)/AK47,(S165+AO35*D19)/AL47,(S166+AO35*D19)/AM47,(S167+AO35*D19)/AN47,(S168+AO35*D19)/AO47)*AP47","v":431.20000000000005},{"$f":"MIN((T164+AO35*D19)/AK47,(T165+AO35*D19)/AL47,(T166+AO35*D19)/AM47,(T167+AO35*D19)/AN47,(T168+AO35*D19)/AO47)*AP47","v":453.59999999999997},{"$f":"MIN((U164+AO35*D19)/AK47,(U165+AO35*D19)/AL47,(U166+AO35*D19)/AM47,(U167+AO35*D19)/AN47,(U168+AO35*D19)/AO47)*AP47","v":398.4},{"$f":"MIN((V164+AO35*D19)/AK47,(V165+AO35*D19)/AL47,(V166+AO35*D19)/AM47,(V167+AO35*D19)/AN47,(V168+AO35*D19)/AO47)*AP47","v":456.79999999999995},{"$f":"MIN((W164+AO35*D19)/AK47,(W165+AO35*D19)/AL47,(W166+AO35*D19)/AM47,(W167+AO35*D19)/AN47,(W168+AO35*D19)/AO47)*AP47","v":398.4},{"$f":"MIN((X164+AO35*D19)/AK47,(X165+AO35*D19)/AL47,(X166+AO35*D19)/AM47,(X167+AO35*D19)/AN47,(X168+AO35*D19)/AO47)*AP47","v":454.4},{"$f":"MIN((Y164+AO35*D19)/AK47,(Y165+AO35*D19)/AL47,(Y166+AO35*D19)/AM47,(Y167+AO35*D19)/AN47,(Y168+AO35*D19)/AO47)*AP47","v":447.20000000000005},{"$f":"MIN((Z164+AO35*D19)/AK47,(Z165+AO35*D19)/AL47,(Z166+AO35*D19)/AM47,(Z167+AO35*D19)/AN47,(Z168+AO35*D19)/AO47)*AP47","v":398.4},{"$f":"MIN((AA164+AO35*D19)/AK47,(AA165+AO35*D19)/AL47,(AA166+AO35*D19)/AM47,(AA167+AO35*D19)/AN47,(AA168+AO35*D19)/AO47)*AP47","v":447.20000000000005},{"$f":"MIN((AB164+AO35*D19)/AK47,(AB165+AO35*D19)/AL47,(AB166+AO35*D19)/AM47,(AB167+AO35*D19)/AN47,(AB168+AO35*D19)/AO47)*AP47","v":443.20000000000005},{"$f":"MIN((AC164+AO35*D19)/AK47,(AC165+AO35*D19)/AL47,(AC166+AO35*D19)/AM47,(AC167+AO35*D19)/AN47,(AC168+AO35*D19)/AO47)*AP47","v":447.20000000000005},{"$f":"MIN((AD164+AO35*D19)/AK47,(AD165+AO35*D19)/AL47,(AD166+AO35*D19)/AM47,(AD167+AO35*D19)/AN47,(AD168+AO35*D19)/AO47)*AP47","v":398.4},{"$f":"MIN((AE164+AO35*D19)/AK47,(AE165+AO35*D19)/AL47,(AE166+AO35*D19)/AM47,(AE167+AO35*D19)/AN47,(AE168+AO35*D19)/AO47)*AP47","v":435.20000000000005},{"$f":"MIN((AF164+AO35*D19)/AK47,(AF165+AO35*D19)/AL47,(AF166+AO35*D19)/AM47,(AF167+AO35*D19)/AN47,(AF168+AO35*D19)/AO47)*AP47","v":439.20000000000005},456.79999999999995,null,"allemagne 11 ","kit 1","-","kit 2/3","-","kit 2/3","-","kit 4","-","kit 4","-","kit 4","-","kit 5","-","kit 8","kit 8","kit 1","-","kit 10","kit 10","kit 8","kit 8","-",null,null,null,"off",{"$error":"#N/A"},{"$error":"#N/A"},{"$error":"#N/A"},{"$error":"#N/A"},{"$error":"#N/A"},{"$error":"#N/A"},{"$error":"#N/A"},{"$error":"#N/A"},{"$error":"#N/A"},{"$error":"#N/A"},{"$error":"#N/A"},{"$error":"#N/A"},{"$error":"#N/A"},{"$error":"#N/A"},{"$error":"#N/A"},{"$error":"#N/A"},{"$error":"#N/A"},{"$error":"#N/A"},{"$error":"#N/A"},{"$error":"#N/A"},{"$error":"#N/A"},{"$error":"#N/A"},{"$error":"#N/A"},{"$error":"#N/A"},{"$error":"#N/A"},{"$error":"#N/A"},{"$error":"#N/A"},{"$error":"#N/A"},{"$error":"#N/A"},{"$error":"#N/A"},{"$error":"#N/A"},{"$error":"#N/A"},{"$error":"#N/A"},{"$error":"#N/A"},{"$error":"#N/A"},{"$error":"#N/A"},{"$error":"#N/A"},{"$error":"#N/A"},{"$error":"#N/A"},{"$error":"#N/A"},{"$error":"#N/A"},{"$error":"#N/A"},{"$error":"#N/A"},{"$error":"#N/A"},{"$error":"#N/A"},{"$error":"#N/A"},{"$error":"#N/A"},{"$error":"#N/A"}]
[null,null,null,"",{"$f":"IF(G34<>\"\",G34,\"\")","v":""},23,{"$f":"IF(G34<>\"\",(L34/100+MIN(5000,M34)/500)/100,\"\")","v":""},{"$f":"IF(G34<>\"\",IF(ISNA(IF(VLOOKUP(G34,$AI$8:$AV$33,14,FALSE)=\"\",\"\",(HLOOKUP(VLOOKUP(G34,$BA$10:$BB$20,2,FALSE),S212:AF217,6,FALSE)/100+MIN(5000,M34)/500)/100)),G126,IF(VLOOKUP(G34,$AI$8:$AV$33,14,FALSE)=\"\",\"\",(HLOOKUP(VLOOKUP(G34,$BA$10:$BB$20,2,FALSE),S212:AF217,6,FALSE)/100+MIN(5000,M34)/500)/100)),\"\")","v":""},{"$f":"IF(G34<>\"\",IF(ISNA(IF(VLOOKUP(G34,$AI$8:$AV$29,14,FALSE)=\"\",\"\",((HLOOKUP(VLOOKUP(G34,$BA$10:$BB$20,2,FALSE),$S$212:$AF$217,6,FALSE)+IF(HLOOKUP(F126,$AJ$7:$AT$35,29,FALSE)=1,D19,0))/100+MIN(5000,M34)/500)/100)),H126,IF(VLOOKUP(G34,$AI$8:$AV$29,14,FALSE)=\"\",\"\",((HLOOKUP(VLOOKUP(G34,$BA$10:$BB$20,2,FALSE),$S$212:$AF$217,6,FALSE)+IF(HLOOKUP(F126,$AJ$7:$AT$35,29,FALSE)=1,D19,0))/100+MIN(5000,M34)/500)/100)),\"\")","v":""},null,null,null,null,null,null,null,null,{"$f":"L20+AH43+D15+D17+D21+D19*AG17","v":479},{"$f":"R126+Q14","v":535},{"$f":"R126+R14","v":531},{"$f":"R126+S14","v":479},{"$f":"R126+T14","v":524},{"$f":"R126+U14","v":479},{"$f":"R126+V14","v":535},{"$f":"R126+W14","v":532},{"$f":"R126+X14","v":479},{"$f":"R126+Y14","v":532},{"$f":"R126+Z14","v":527},{"$f":"R126+AA14","v":528},{"$f":"R126+AB14","v":479},{"$f":"R126+AC14","v":539},{"$f":"R126+AD14","v":523},null,null,null,"france 2 ",{"$f":"MIN((S171+AN35*D19)/AK46,(S172+AN35*D19)/AL46,(S173+AN35*D19)/AM46,(S174+AN35*D19)/AN46,(S175+AN35*D19)/AO46)*AP46","v":644},{"$f":"MIN((T171+AN35*D19)/AK46,(T172+AN35*D19)/AL46,(T173+AN35*D19)/AM46,(T174+AN35*D19)/AN46,(T175+AN35*D19)/AO46)*AP46","v":640},{"$f":"MIN((U171+AN35*D19)/AK46,(U172+AN35*D19)/AL46,(U173+AN35*D19)/AM46,(U174+AN35*D19)/AN46,(U175+AN35*D19)/AO46)*AP46","v":570.66666666666674},{"$f":"MIN((V171+AN35*D19)/AK46,(V172+AN35*D19)/AL46,(V173+AN35*D19)/AM46,(V174+AN35*D19)/AN46,(V175+AN35*D19)/AO46)*AP46","v":630.66666666666663},{"$f":"MIN((W171+AN35*D19)/AK46,(W172+AN35*D19)/AL46,(W173+AN35*D19)/AM46,(W174+AN35*D19)/AN46,(W175+AN35*D19)/AO46)*AP46","v":570.66666666666674},{"$f":"MIN((X171+AN35*D19)/AK46,(X172+AN35*D19)/AL46,(X173+AN35*D19)/AM46,(X174+AN35*D19)/AN46,(X175+AN35*D19)/AO46)*AP46","v":645.33333333333326},{"$f":"MIN((Y171+AN35*D19)/AK46,(Y172+AN35*D19)/AL46,(Y173+AN35*D19)/AM46,(Y174+AN35*D19)/AN46,(Y175+AN35*D19)/AO46)*AP46","v":641.33333333333326},{"$f":"MIN((Z171+AN35*D19)/AK46,(Z172+AN35*D19)/AL46,(Z173+AN35*D19)/AM46,(Z174+AN35*D19)/AN46,(Z175+AN35*D19)/AO46)*AP46","v":570.66666666666674},{"$f":"MIN((AA171+AN35*D19)/AK46,(AA172+AN35*D19)/AL46,(AA173+AN35*D19)/AM46,(AA174+AN35*D19)/AN46,(AA175+AN35*D19)/AO46)*AP46","v":641.33333333333326},{"$f":"MIN((AB171+AN35*D19)/AK46,(AB172+AN35*D19)/AL46,(AB173+AN35*D19)/AM46,(AB174+AN35*D19)/AN46,(AB175+AN35*D19)/AO46)*AP46","v":634.66666666666663},{"$f":"MIN((AC171+AN35*D19)/AK46,(AC172+AN35*D19)/AL46,(AC173+AN35*D19)/AM46,(AC174+AN35*D19)/AN46,(AC175+AN35*D19)/AO46)*AP46","v":636},{"$f":"MIN((AD171+AN35*D19)/AK46,(AD172+AN35*D19)/AL46,(AD173+AN35*D19)/AM46,(AD174+AN35*D19)/AN46,(AD175+AN35*D19)/AO46)*AP46","v":570.66666666666674},{"$f":"MIN((AE171+AN35*D19)/AK46,(AE172+AN35*D19)/AL46,(AE173+AN35*D19)/AM46,(AE174+AN35*D19)/AN46,(AE175+AN35*D19)/AO46)*AP46","v":649},{"$f":"MIN((AF171+AN35*D19)/AK46,(AF172+AN35*D19)/AL46,(AF173+AN35*D19)/AM46,(AF174+AN35*D19)/AN46,(AF175+AN35*D19)/AO46)*AP46","v":629.33333333333326},649,null,"france 2 ",{"$f":"MIN((S171+AO35*D19)/AK47,(S172+AO35*D19)/AL47,(S173+AO35*D19)/AM47,(S174+AO35*D19)/AN47,(S175+AO35*D19)/AO47)*AP47","v":448.80000000000007},{"$f":"MIN((T171+AO35*D19)/AK47,(T172+AO35*D19)/AL47,(T173+AO35*D19)/AM47,(T174+AO35*D19)/AN47,(T175+AO35*D19)/AO47)*AP47","v":463.99999999999994},{"$f":"MIN((U171+AO35*D19)/AK47,(U172+AO35*D19)/AL47,(U173+AO35*D19)/AM47,(U174+AO35*D19)/AN47,(U175+AO35*D19)/AO47)*AP47","v":416},{"$f":"MIN((V171+AO35*D19)/AK47,(V172+AO35*D19)/AL47,(V173+AO35*D19)/AM47,(V174+AO35*D19)/AN47,(V175+AO35*D19)/AO47)*AP47","v":474.4},{"$f":"MIN((W171+AO35*D19)/AK47,(W172+AO35*D19)/AL47,(W173+AO35*D19)/AM47,(W174+AO35*D19)/AN47,(W175+AO35*D19)/AO47)*AP47","v":416},{"$f":"MIN((X171+AO35*D19)/AK47,(X172+AO35*D19)/AL47,(X173+AO35*D19)/AM47,(X174+AO35*D19)/AN47,(X175+AO35*D19)/AO47)*AP47","v":460.79999999999995},{"$f":"MIN((Y171+AO35*D19)/AK47,(Y172+AO35*D19)/AL47,(Y173+AO35*D19)/AM47,(Y174+AO35*D19)/AN47,(Y175+AO35*D19)/AO47)*AP47","v":464.79999999999995},{"$f":"MIN((Z171+AO35*D19)/AK47,(Z172+AO35*D19)/AL47,(Z173+AO35*D19)/AM47,(Z174+AO35*D19)/AN47,(Z175+AO35*D19)/AO47)*AP47","v":416},{"$f":"MIN((AA171+AO35*D19)/AK47,(AA172+AO35*D19)/AL47,(AA173+AO35*D19)/AM47,(AA174+AO35*D19)/AN47,(AA175+AO35*D19)/AO47)*AP47","v":464.79999999999995},{"$f":"MIN((AB171+AO35*D19)/AK47,(AB172+AO35*D19)/AL47,(AB173+AO35*D19)/AM47,(AB174+AO35*D19)/AN47,(AB175+AO35*D19)/AO47)*AP47","v":467.2},{"$f":"MIN((AC171+AO35*D19)/AK47,(AC172+AO35*D19)/AL47,(AC173+AO35*D19)/AM47,(AC174+AO35*D19)/AN47,(AC175+AO35*D19)/AO47)*AP47","v":470.4},{"$f":"MIN((AD171+AO35*D19)/AK47,(AD172+AO35*D19)/AL47,(AD173+AO35*D19)/AM47,(AD174+AO35*D19)/AN47,(AD175+AO35*D19)/AO47)*AP47","v":416},{"$f":"MIN((AE171+AO35*D19)/AK47,(AE172+AO35*D19)/AL47,(AE173+AO35*D19)/AM47,(AE174+AO35*D19)/AN47,(AE175+AO35*D19)/AO47)*AP47","v":458.4},{"$f":"MIN((AF171+AO35*D19)/AK47,(AF172+AO35*D19)/AL47,(AF173+AO35*D19)/AM47,(AF174+AO35*D19)/AN47,(AF175+AO35*D19)/AO47)*AP47","v":472.79999999999995},474.4,null,"chili 11 ","kit 1","-","kit 2/3","-","kit 2/3","-","kit 4","-","kit 4","-","kit 4","-","kit 4","-","kit 8","kit 8","kit 5","-","kit 10","kit 10","kit 8","kit 8","-",null,null,442,"def",{"$error":"#N/A"},{"$error":"#N/A"},{"$error":"#N/A"},{"$error":"#N/A"},{"$error":"#N/A"},{"$error":"#N/A"},{"$error":"#N/A"},{"$error":"#N/A"},{"$error":"#N/A"},{"$error":"#N/A"},{"$error":"#N/A"},{"$error":"#N/A"},{"$error":"#N/A"},{"$error":"#N/A"},{"$error":"#N/A"},{"$error":"#N/A"},{"$error":"#N/A"},{"$error":"#N/A"},{"$error":"#N/A"},{"$error":"#N/A"},{"$error":"#N/A"},{"$error":"#N/A"},{"$error":"#N/A"},{"$error":"#N/A"},{"$error":"#N/A"},{"$error":"#N/A"},{"$error":"#N/A"},{"$error":"#N/A"},{"$error":"#N/A"},{"$error":"#N/A"},{"$error":"#N/A"},{"$error":"#N/A"},{"$error":"#N/A"},{"$error":"#N/A"},{"$error":"#N/A"},{"$error":"#N/A"},{"$error":"#N/A"},{"$error":"#N/A"},{"$error":"#N/A"},{"$error":"#N/A"},{"$error":"#N/A"},{"$error":"#N/A"},{"$error":"#N/A"},{"$error":"#N/A"},{"$error":"#N/A"},{"$error":"#N/A"},{"$error":"#N/A"},{"$error":"#N/A"}]
[null,null,null,"",{"$f":"IF(G35<>\"\",G35,\"\")","v":""},23,{"$f":"IF(G35<>\"\",(L35/100+MIN(5000,M35)/500)/100,\"\")","v":""},{"$f":"IF(G35<>\"\",IF(ISNA(IF(VLOOKUP(G35,$AI$8:$AV$33,14,FALSE)=\"\",\"\",(HLOOKUP(VLOOKUP(G35,$BA$10:$BB$20,2,FALSE),S219:AF224,6,FALSE)/100+MIN(5000,M35)/500)/100)),G127,IF(VLOOKUP(G35,$AI$8:$AV$33,14,FALSE)=\"\",\"\",(HLOOKUP(VLOOKUP(G35,$BA$10:$BB$20,2,FALSE),S219:AF224,6,FALSE)/100+MIN(5000,M35)/500)/100)),\"\")","v":""},{"$f":"IF(G35<>\"\",IF(ISNA(IF(VLOOKUP(G35,$AI$8:$AV$29,14,FALSE)=\"\",\"\",((HLOOKUP(VLOOKUP(G35,$BA$10:$BB$20,2,FALSE),$S$219:$AF$224,6,FALSE)+IF(HLOOKUP(F127,$AJ$7:$AT$35,29,FALSE)=1,D19,0))/100+MIN(5000,M35)/500)/100)),H127,IF(VLOOKUP(G35,$AI$8:$AV$29,14,FALSE)=\"\",\"\",((HLOOKUP(VLOOKUP(G35,$BA$10:$BB$20,2,FALSE),$S$219:$AF$224,6,FALSE)+IF(HLOOKUP(F127,$AJ$7:$AT$35,29,FALSE)=1,D19,0))/100+MIN(5000,M35)/500)/100)),\"\")","v":""},null,null,null,null,null,null,null,null,null,null,null,null,null,null,null,null,null,null,null,null,null,null,null,null,null,null,"italie 7 ",{"$f":"MIN((S178+$AN$35*$D$19)/$AK$46,(S179+$AN$35*$D$19)/$AL$46,(S180+$AN$35*$D$19)/$AM$46,(S181+$AN$35*$D$19)/$AN$46,(S182+$AN$35*$D$19)/$AO$46)*$AP$46","v":601},629,560,633,560,630,621,560,621,616,621,560,606,611,633,null,"italie 7 ",{"$f":"MIN((S178+$AO$35*$D$19)/$AK$47,(S179+$AO$35*$D$19)/$AL$47,(S180+$AO$35*$D$19)/$AM$47,(S181+$AO$35*$D$19)/$AN$47,(S182+$AO$35*$D$19)/$AO$47)*$AP$47","v":455.19999999999993},{"$f":"MIN((T178+AO35*D19)/AK47,(T179+AO35*D19)/AL47,(T180+AO35*D19)/AM47,(T181+AO35*D19)/AN47,(T182+AO35*D19)/AO47)*AP47","v":490.4},{"$f":"MIN((U178+AO35*D19)/AK47,(U179+AO35*D19)/AL47,(U180+AO35*D19)/AM47,(U181+AO35*D19)/AN47,(U182+AO35*D19)/AO47)*AP47","v":435.20000000000005},{"$f":"MIN((V178+AO35*D19)/AK47,(V179+AO35*D19)/AL47,(V180+AO35*D19)/AM47,(V181+AO35*D19)/AN47,(V182+AO35*D19)/AO47)*AP47","v":486.4},{"$f":"MIN((W178+AO35*D19)/AK47,(W179+AO35*D19)/AL47,(W180+AO35*D19)/AM47,(W181+AO35*D19)/AN47,(W182+AO35*D19)/AO47)*AP47","v":435.20000000000005},{"$f":"MIN((X178+AO35*D19)/AK47,(X179+AO35*D19)/AL47,(X180+AO35*D19)/AM47,(X181+AO35*D19)/AN47,(X182+AO35*D19)/AO47)*AP47","v":480},{"$f":"MIN((Y178+AO35*D19)/AK47,(Y179+AO35*D19)/AL47,(Y180+AO35*D19)/AM47,(Y181+AO35*D19)/AN47,(Y182+AO35*D19)/AO47)*AP47","v":484},{"$f":"MIN((Z178+AO35*D19)/AK47,(Z179+AO35*D19)/AL47,(Z180+AO35*D19)/AM47,(Z181+AO35*D19)/AN47,(Z182+AO35*D19)/AO47)*AP47","v":435.20000000000005},{"$f":"MIN((AA178+AO35*D19)/AK47,(AA179+AO35*D19)/AL47,(AA180+AO35*D19)/AM47,(AA181+AO35*D19)/AN47,(AA182+AO35*D19)/AO47)*AP47","v":484},{"$f":"MIN((AB178+AO35*D19)/AK47,(AB179+AO35*D19)/AL47,(AB180+AO35*D19)/AM47,(AB181+AO35*D19)/AN47,(AB182+AO35*D19)/AO47)*AP47","v":486.4},{"$f":"MIN((AC178+AO35*D19)/AK47,(AC179+AO35*D19)/AL47,(AC180+AO35*D19)/AM47,(AC181+AO35*D19)/AN47,(AC182+AO35*D19)/AO47)*AP47","v":480},{"$f":"MIN((AD178+AO35*D19)/AK47,(AD179+AO35*D19)/AL47,(AD180+AO35*D19)/AM47,(AD181+AO35*D19)/AN47,(AD182+AO35*D19)/AO47)*AP47","v":435.20000000000005},{"$f":"MIN((AE178+AO35*D19)/AK47,(AE179+AO35*D19)/AL47,(AE180+AO35*D19)/AM47,(AE181+AO35*D19)/AN47,(AE182+AO35*D19)/AO47)*AP47","v":483.2},{"$f":"MIN((AF178+AO35*D19)/AK47,(AF179+AO35*D19)/AL47,(AF180+AO35*D19)/AM47,(AF181+AO35*D19)/AN47,(AF182+AO35*D19)/AO47)*AP47","v":486.4},490.4,null,"corée du sud 3 ","kit 1","-","kit 2/3","-","kit 2/3","-","kit 4","-","kit 10","kit 10","kit 4","-","kit 1","-","kit 1","-","kit 1","-","kit 1","-","kit 1","-","-",null,null,null,"neutre",{"$error":"#N/A"},{"$error":"#N/A"},{"$error":"#N/A"},{"$error":"#N/A"},{"$error":"#N/A"},{"$error":"#N/A"},{"$error":"#N/A"},{"$error":"#N/A"},{"$error":"#N/A"},{"$error":"#N/A"},{"$error":"#N/A"},{"$error":"#N/A"},{"$error":"#N/A"},{"$error":"#N/A"},{"$error":"#N/A"},{"$error":"#N/A"},{"$error":"#N/A"},{"$error":"#N/A"},{"$error":"#N/A"},{"$error":"#N/A"},{"$error":"#N/A"},{"$error":"#N/A"},{"$error":"#N/A"},{"$error":"#N/A"},{"$error":"#N/A"},{"$error":"#N/A"},{"$error":"#N/A"},{"$error":"#N/A"},{"$error":"#N/A"},{"$error":"#N/A"},{"$error":"#N/A"},{"$error":"#N/A"},{"$error":"#N/A"},{"$error":"#N/A"},{"$error":"#N/A"},{"$error":"#N/A"},{"$error":"#N/A"},{"$error":"#N/A"},{"$error":"#N/A"},{"$error":"#N/A"},{"$error":"#N/A"},{"$error":"#N/A"},{"$error":"#N/A"},{"$error":"#N/A"},{"$error":"#N/A"},{"$error":"#N/A"},{"$error":"#N/A"},{"$error":"#N/A"}]
[null,null,null,"","",23,{"$f":"IF(G36<>\"\",(L36/100+MIN(5000,M36)/500)/100,\"\")","v":""},{"$f":"IF(G36<>\"\",IF(ISNA(IF(VLOOKUP(G36,$AI$8:$AV$33,14,FALSE)=\"\",\"\",(HLOOKUP(VLOOKUP(G36,$BA$10:$BB$20,2,FALSE),S226:AF231,6,FALSE)/100+MIN(5000,M36)/500)/100)),G128,IF(VLOOKUP(G36,$AI$8:$AV$33,14,FALSE)=\"\",\"\",(HLOOKUP(VLOOKUP(G36,$BA$10:$BB$20,2,FALSE),S226:AF231,6,FALSE)/100+MIN(5000,M36)/500)/100)),\"\")","v":""},{"$f":"IF(G36<>\"\",IF(ISNA(IF(VLOOKUP(G36,$AI$8:$AV$29,14,FALSE)=\"\",\"\",((HLOOKUP(VLOOKUP(G36,$BA$10:$BB$20,2,FALSE),$S$226:$AF$231,6,FALSE)+IF(HLOOKUP(F128,$AJ$7:$AT$35,29,FALSE)=1,D19,0))/100+MIN(5000,M36)/500)/100)),H128,IF(VLOOKUP(G36,$AI$8:$AV$29,14,FALSE)=\"\",\"\",((HLOOKUP(VLOOKUP(G36,$BA$10:$BB$20,2,FALSE),$S$226:$AF$231,6,FALSE)+IF(HLOOKUP(F128,$AJ$7:$AT$35,29,FALSE)=1,D19,0))/100+MIN(5000,M36)/500)/100)),\"\")","v":""},null,null,null,null,null,null,null,null,{"$f":"G21","v":"slovaquie 8 "},{"$f":"S121","v":"kit 1"},"kit 2/3",0,"kit 4",0,"kit 5","kit 6/7",0,0,"kit 8","kit 9",0,"kit 10","kit 11",null,null,null,"japon 5 ",{"$f":"MIN((S185+$AN$35*$D$19)/$AK$46,(S186+$AN$35*$D$19)/$AL$46,(S187+$AN$35*$D$19)/$AM$46,(S188+$AN$35*$D$19)/$AN$46,(S189+$AN$35*$D$19)/$AO$46)*$AP$46","v":619},647,578,651,578,648,639,578,639,634,639,578,624,629,651,null,"japon 5 ",{"$f":"MIN((S185+$AO$35*$D$19)/$AK$47,(S186+$AO$35*$D$19)/$AL$47,(S187+$AO$35*$D$19)/$AM$47,(S188+$AO$35*$D$19)/$AN$47,(S189+$AO$35*$D$19)/$AO$47)*$AP$47","v":372},407.2,352,403.2,352,396.8,400.8,352,400.8,403.2,396.8,352,400,403.2,407.2,null,"france 11 ","kit 1","-","kit 2/3","-","kit 2/3","-","kit 4","-","kit 4","-","kit 4","-","kit 4","-","kit 10","kit 10","kit 9","kit 9","kit 10","kit 10","kit 10","kit 10","-",null,null,null,"off",{"$error":"#N/A"},{"$error":"#N/A"},{"$error":"#N/A"},{"$error":"#N/A"},{"$error":"#N/A"},{"$error":"#N/A"},{"$error":"#N/A"},{"$error":"#N/A"},{"$error":"#N/A"},{"$error":"#N/A"},{"$error":"#N/A"},{"$error":"#N/A"},{"$error":"#N/A"},{"$error":"#N/A"},{"$error":"#N/A"},{"$error":"#N/A"},{"$error":"#N/A"},{"$error":"#N/A"},{"$error":"#N/A"},{"$error":"#N/A"},{"$error":"#N/A"},{"$error":"#N/A"},{"$error":"#N/A"},{"$error":"#N/A"},{"$error":"#N/A"},{"$error":"#N/A"},{"$error":"#N/A"},{"$error":"#N/A"},{"$error":"#N/A"},{"$error":"#N/A"},{"$error":"#N/A"},{"$error":"#N/A"},{"$error":"#N/A"},{"$error":"#N/A"},{"$error":"#N/A"},{"$error":"#N/A"},{"$error":"#N/A"},{"$error":"#N/A"},{"$error":"#N/A"},{"$error":"#N/A"},{"$error":"#N/A"},{"$error":"#N/A"},{"$error":"#N/A"},{"$error":"#N/A"},{"$error":"#N/A"},{"$error":"#N/A"},{"$error":"#N/A"},{"$error":"#N/A"}]
[null,null,null,null,null,null,null,null,null,null,null,null,null,null,null,null,null,{"$f":"H21+AH39+D16+D17+D21+D19*AG18","v":524},{"$f":"R129+Q10","v":565},{"$f":"R129+R10","v":593},{"$f":"R129+S10","v":524},{"$f":"R129+T10","v":597},{"$f":"R129+U10","v":524},{"$f":"R129+V10","v":594},{"$f":"R129+W10","v":585},{"$f":"R129+X10","v":524},{"$f":"R129+Y10","v":585},{"$f":"R129+Z10","v":580},{"$f":"R129+AA10","v":585},{"$f":"R129+AB10","v":524},{"$f":"R129+AC10","v":570},{"$f":"R129+AD10","v":575},null,null,null,"nigeria 4 ",{"$f":"MIN((S192+$AN$35*$D$19)/$AK$46,(S193+$AN$35*$D$19)/$AL$46,(S194+$AN$35*$D$19)/$AM$46,(S195+$AN$35*$D$19)/$AN$46,(S196+$AN$35*$D$19)/$AO$46)*$AP$46","v":521.33333333333326},516,446.66666666666669,506.66666666666663,446.66666666666669,521.33333333333326,517.33333333333326,446.66666666666669,517.33333333333326,510.66666666666663,512,446.66666666666669,526.66666666666663,505.33333333333337,526.66666666666663,null,"nigeria 4 ",{"$f":"MIN((S192+$AO$35*$D$19)/$AK$47,(S193+$AO$35*$D$19)/$AL$47,(S194+$AO$35*$D$19)/$AM$47,(S195+$AO$35*$D$19)/$AN$47,(S196+$AO$35*$D$19)/$AO$47)*$AP$47","v":384.8},413.99999999999994,362,407,362,409.6,413.6,362,413.6,416,409.6,362,412.8,416,416,null,"france 2 ","kit 1","-","kit 2/3","-","kit 2/3","-","kit 4","-","kit 10","kit 10","kit 4","-","kit 1","-","kit 1","-","kit 1","-","kit 1","-","kit 1","-","-"]
[null,null,null,null,null,null,null,null,null,null,null,null,null,null,null,null,null,{"$f":"I21+AH40+D15+D17+D21+D19*AG18","v":612},{"$f":"R130+Q11","v":692},{"$f":"R130+R11","v":664},{"$f":"R130+S11","v":612},{"$f":"R130+T11","v":657},{"$f":"R130+U11","v":612},{"$f":"R130+V11","v":668},{"$f":"R130+W11","v":673},{"$f":"R130+X11","v":612},{"$f":"R130+Y11","v":673},{"$f":"R130+Z11","v":676},{"$f":"R130+AA11","v":680},{"$f":"R130+AB11","v":612},{"$f":"R130+AC11","v":680},{"$f":"R130+AD11","v":676},null,null,null,"slovaquie 7 ",{"$f":"MIN((S199+$AN$35*$D$19)/$AK$46,(S200+$AN$35*$D$19)/$AL$46,(S201+$AN$35*$D$19)/$AM$46,(S202+$AN$35*$D$19)/$AN$46,(S203+$AN$35*$D$19)/$AO$46)*$AP$46","v":538},566,497,570,497,567,558,497,558,553,558,497,543,548,570,null,"slovaquie 7 ",{"$f":"MIN((S199+$AO$35*$D$19)/$AK$47,(S200+$AO$35*$D$19)/$AL$47,(S201+$AO$35*$D$19)/$AM$47,(S202+$AO$35*$D$19)/$AN$47,(S203+$AO$35*$D$19)/$AO$47)*$AP$47","v":384},413.6,364,415.2,364,408.8,412.8,364,412.8,415.2,408.8,364,408,415.2,415.2,null,"italie 7 ","kit 1","-","kit 2/3","-","kit 2/3","-","kit 4","-","kit 4","-","kit 2/3","-","kit 2/3","-","kit 2/3","-","kit 1","-","kit 10","kit 10","kit 2/3","-","-"]
[null,null,null,null,null,null,null,null,null,null,null,null,null,null,null,null,null,{"$f":"J21+AH41+D15+D17+D21+D19*AG18","v":561},{"$f":"R131+Q12","v":602},{"$f":"R131+R12","v":621},{"$f":"R131+S12","v":561},{"$f":"R131+T12","v":634},{"$f":"R131+U12","v":561},{"$f":"R131+V12","v":617},{"$f":"R131+W12","v":622},{"$f":"R131+X12","v":561},{"$f":"R131+Y12","v":622},{"$f":"R131+Z12","v":625},{"$f":"R131+AA12","v":629},{"$f":"R131+AB12","v":561},{"$f":"R131+AC12","v":614},{"$f":"R131+AD12","v":632},null,null,null,"slovaquie 7 bis ",{"$f":"MIN((S206+$AN$35*$D$19)/$AK$46,(S207+$AN$35*$D$19)/$AL$46,(S208+$AN$35*$D$19)/$AM$46,(S209+$AN$35*$D$19)/$AN$46,(S210+$AN$35*$D$19)/$AO$46)*$AP$46","v":612},640,571,634.66666666666663,571,641,632,571,632,627,632,571,617,622,641,null,{"$f":"AJ212","v":"slovaquie 7 bis "},{"$f":"MIN((S206+$AO$35*$D$19)/$AK$47,(S207+$AO$35*$D$19)/$AL$47,(S208+$AO$35*$D$19)/$AM$47,(S209+$AO$35*$D$19)/$AN$47,(S210+$AO$35*$D$19)/$AO$47)*$AP$47","v":467.2},482.4,434.40000000000003,492.8,434.40000000000003,479.2,483.2,434.40000000000003,483.2,485.59999999999997,488.8,434.40000000000003,476.79999999999995,491.2,492.8,null,"japon 5 ","kit 1","-","kit 2/3","-","kit 2/3","-","kit 2/3","-","kit 4","-","kit 2/3","-","kit 2/3","-","kit 2/3","-","kit 1","-","kit 1","-","kit 2/3","-","-"]
[null,null,null,null,null,null,null,null,null,null,null,null,null,null,null,null,null,{"$f":"K21+AH42+D16+D17+D21+D19*AG18","v":578},{"$f":"R132+Q13","v":603},{"$f":"R132+R13","v":647},{"$f":"R132+S13","v":578},{"$f":"R132+T13","v":642},{"$f":"R132+U13","v":578},{"$f":"R132+V13","v":634},{"$f":"R132+W13","v":639},{"$f":"R132+X13","v":578},{"$f":"R132+Y13","v":639},{"$f":"R132+Z13","v":642},{"$f":"R132+AA13","v":634},{"$f":"R132+AB13","v":578},{"$f":"R132+AC13","v":638},{"$f":"R132+AD13","v":642},null,null,null,0,{"$f":"MIN((S213+$AN$35*$D$19)/$AK$46,(S214+$AN$35*$D$19)/$AL$46,(S215+$AN$35*$D$19)/$AM$46,(S216+$AN$35*$D$19)/$AN$46,(S217+$AN$35*$D$19)/$AO$46)*$AP$46","v":177},204.99999999999997,136,209,136,206,197,136,197,192,197,136,182,187,209,null,0,{"$f":"MIN((S213+$AO$35*$D$19)/$AK$47,(S214+$AO$35*$D$19)/$AL$47,(S215+$AO$35*$D$19)/$AM$47,(S216+$AO$35*$D$19)/$AN$47,(S217+$AO$35*$D$19)/$AO$47)*$AP$47","v":116.8},148.80000000000001,96.8,148,96.8,141.6,145.6,96.8,145.6,148,141.6,96.8,143.19999999999999,148,148.80000000000001,null,"nigeria 4 ","kit 1","-","kit 2/3","-","kit 2/3","-","kit 2/3","-","kit 10","kit 10","kit 8","kit 8","kit 1","-","kit 1","-","kit 1","-","kit 1","-","kit 1","-","-"]
[null,null,null,null,null,null,null,null,null,null,null,null,null,null,null,null,null,{"$f":"L21+AH43+D15+D17+D21+D19*AG18","v":404},{"$f":"R133+Q14","v":460},{"$f":"R133+R14","v":456},{"$f":"R133+S14","v":404},{"$f":"R133+T14","v":449},{"$f":"R133+U14","v":404},{"$f":"R133+V14","v":460},{"$f":"R133+W14","v":457},{"$f":"R133+X14","v":404},{"$f":"R133+Y14","v":457},{"$f":"R133+Z14","v":452},{"$f":"R133+AA14","v":453},{"$f":"R133+AB14","v":404},{"$f":"R133+AC14","v":464},{"$f":"R133+AD14","v":448},null,null,null,0,{"$f":"MIN((S220+$AN$35*$D$19)/$AK$46,(S221+$AN$35*$D$19)/$AL$46,(S222+$AN$35*$D$19)/$AM$46,(S223+$AN$35*$D$19)/$AN$46,(S224+$AN$35*$D$19)/$AO$46)*$AP$46","v":177},204.99999999999997,136,209,136,206,197,136,197,192,197,136,182,187,209,null,0,{"$f":"MIN((S220+$AO$35*$D$19)/$AK$47,(S221+$AO$35*$D$19)/$AL$47,(S222+$AO$35*$D$19)/$AM$47,(S223+$AO$35*$D$19)/$AN$47,(S224+$AO$35*$D$19)/$AO$47)*$AP$47","v":116.8},148.80000000000001,96.8,148,96.8,141.6,145.6,96.8,145.6,148,141.6,96.8,143.19999999999999,148,148.80000000000001,null,"slovaquie 7 ","kit 1","-","kit 2/3","-","kit 2/3","-","kit 4","-","kit 4","-","kit 4","kit 8","kit 4","kit 8","kit 4","kit 8","kit 1","-","kit 10","kit 10","kit 4","kit 8","-"]
[null,null,null,null,null,null,null,null,null,null,null,null,null,null,null,null,null,null,null,null,null,null,null,null,null,null,null,null,null,null,null,null,null,null,null,0,{"$f":"MIN((S227+$AN$35*$D$19)/$AK$46,(S228+$AN$35*$D$19)/$AL$46,(S229+$AN$35*$D$19)/$AM$46,(S230+$AN$35*$D$19)/$AN$46,(S231+$AN$35*$D$19)/$AO$46)*$AP$46","v":177},204.99999999999997,136,209,136,206,197,136,197,192,197,136,182,187,209,null,0,{"$f":"MIN((S227+$AO$35*$D$19)/$AK$47,(S228+$AO$35*$D$19)/$AL$47,(S229+$AO$35*$D$19)/$AM$47,(S230+$AO$35*$D$19)/$AN$47,(S231+$AO$35*$D$19)/$AO$47)*$AP$47","v":116.8},148.80000000000001,96.8,148,96.8,141.6,145.6,96.8,145.6,148,141.6,96.8,143.19999999999999,148,148.80000000000001,null,"slovaquie 7 bis ","kit 1","-","kit 2/3","-","kit 2/3","-","kit 4","-","kit 5","-","kit 4","-","kit 6/7",0,"kit 11","kit 11","kit 1","-","kit 10","kit 10","kit 11","kit 11","-"]
[null,null,null,null,null,null,null,null,null,null,null,null,null,null,null,null,null,{"$f":"G22","v":"afrique du sud 4 "},{"$f":"S128","v":"kit 1"},{"$f":"T128","v":"kit 2/3"},0,"kit 4",0,"kit 5","kit 6/7",0,0,"kit 8","kit 9",0,{"$f":"AE128","v":"kit 10"},{"$f":"AF128","v":"kit 11"},null,null,null,null,null,null,null,null,null,null,null,null,null,null,null,null,null,null,null,null,null,null,null,null,null,null,null,null,null,null,null,null,null,null,null,null,null,{"$f":"BA132","v":0},{"$f":"IF(AY78=AK78,BR108,IF(AY78=AL78,BS108,IF(AY78=AM78,BT108,IF(AY78=AN78,BU108,IF(AY78=AO78,BV108,IF(AY78=AP78,BW108,IF(AY78=AQ78,BX108,IF(AY78=AR78,BY108,BT135))))))))","v":"kit 1"},{"$f":"IF(AY78=AS78,BZ108,IF(AY78=AT78,CA108,IF(AY78=AU78,CB108,IF(AY78=AV78,CC108,IF(AY78=AW78,CD108,IF(AY78=AX78,CE108,CO135))))))","v":"-"},{"$f":"IF(BP78=BB78,BR108,IF(BP78=BC78,BS108,IF(BP78=BD78,BT108,IF(BP78=BE78,BU108,IF(BP78=BF78,BV108,IF(BP78=BG78,BW108,IF(BP78=BH78,BX108,IF(BP78=BI78,BY108,BV135))))))))","v":"kit 2/3"},{"$f":"IF(BP78=BJ78,BZ108,IF(BP78=BK78,CA108,IF(BP78=BL78,CB108,IF(BP78=BM78,CC108,IF(BP78=BN78,CD108,IF(BP78=BO78,CE108,CO135))))))","v":"-"},{"$f":"IF(AY105=AK105,BR108,IF(AY105=AL105,BS108,IF(AY105=AM105,BT108,IF(AY105=AN105,BU108,IF(AY105=AO105,BV108,IF(AY105=AP105,BW108,IF(AY105=AQ105,BX108,IF(AY105=AR105,BY108,BX135))))))))","v":"kit 2/3"},{"$f":"IF(AY105=AS105,BZ108,IF(AY105=AT105,CA108,IF(AY105=AU105,CB108,IF(AY105=AV105,CC108,IF(AY105=AW105,CD108,IF(AY105=AX105,CE108,CO135))))))","v":"-"},{"$f":"IF(BP105=BB105,BR108,IF(BP105=BC105,BS108,IF(BP105=BD105,BT108,IF(BP105=BE105,BU108,IF(BP105=BF105,BV108,IF(BP105=BG105,BW108,IF(BP105=BH105,BX108,IF(BP105=BI105,BY108,BZ135))))))))","v":"kit 4"},{"$f":"IF(BP105=BJ105,BZ108,IF(BP105=BK105,CA108,IF(BP105=BL105,CB108,IF(BP105=BM105,CC108,IF(BP105=BN105,CD108,IF(BP105=BO105,CE108,CO135))))))","v":"-"},{"$f":"IF(AY132=AK132,BR108,IF(AY132=AL132,BS108,IF(AY132=AM132,BT108,IF(AY132=AN132,BU108,IF(AY132=AO132,BV108,IF(AY132=AP132,BW108,IF(AY132=AQ132,BX108,IF(AY132=AR132,BY108,CB135))))))))","v":"kit 4"},{"$f":"IF(AY132=AS132,BZ108,IF(AY132=AT132,CA108,IF(AY132=AU132,CB108,IF(AY132=AV132,CC108,IF(AY132=AW132,CD108,IF(AY132=AX132,CE108,CO135))))))","v":"-"},{"$f":"IF(BP132=BB132,BR108,IF(BP132=BC132,BS108,IF(BP132=BD132,BT108,IF(BP132=BE132,BU108,IF(BP132=BF132,BV108,IF(BP132=BG132,BW108,IF(BP132=BH132,BX108,IF(BP132=BI132,BY108,CD135))))))))","v":"kit 2/3"},{"$f":"IF(BP132=BJ132,BZ108,IF(BP132=BK132,CA108,IF(BP132=BL132,CB108,IF(BP132=BM132,CC108,IF(BP132=BN132,CD108,IF(BP132=BO132,CE108,CO135))))))","v":"-"},{"$f":"IF(AY159=AK159,BR108,IF(AY159=AL159,BS108,IF(AY159=AM159,BT108,IF(AY159=AN159,BU108,IF(AY159=AO159,BV108,IF(AY159=AP159,BW108,IF(AY159=AQ159,BX108,IF(AY159=AR159,BY108,CF135))))))))","v":"kit 2/3"},{"$f":"IF(AY159=AS159,BZ108,IF(AY159=AT159,CA108,IF(AY159=AU159,CB108,IF(AY159=AV159,CC108,IF(AY159=AW159,CD108,IF(AY159=AX159,CE108,CO135))))))","v":"-"},{"$f":"IF(BP159=BB159,BR108,IF(BP159=BC159,BS108,IF(BP159=BD159,BT108,IF(BP159=BE159,BU108,IF(BP159=BF159,BV108,IF(BP159=BG159,BW108,IF(BP159=BH159,BX108,IF(BP159=BI159,BY108,CH135))))))))","v":"kit 2/3"},{"$f":"IF(BP159=BJ159,BZ108,IF(BP159=BK159,CA108,IF(BP159=BL159,CB108,IF(BP159=BM159,CC108,IF(BP159=BN159,CD108,IF(BP159=BO159,CE108,CO135))))))","v":"-"},{"$f":"IF(AY186=AK186,BR108,IF(AY186=AL186,BS108,IF(AY186=AM186,BT108,IF(AY186=AN186,BU108,IF(AY186=AO186,BV108,IF(AY186=AP186,BW108,IF(AY186=AQ186,BX108,IF(AY186=AR186,BY108,CJ135))))))))","v":"kit 9"},{"$f":"IF(AY186=AS186,BZ108,IF(AY186=AT186,CA108,IF(AY186=AU186,CB108,IF(AY186=AV186,CC108,IF(AY186=AW186,CD108,IF(AY186=AX186,CE108,CO135))))))","v":"kit 9"},{"$f":"IF(BP186=BB186,BR108,IF(BP186=BC186,BS108,IF(BP186=BD186,BT108,IF(BP186=BE186,BU108,IF(BP186=BF186,BV108,IF(BP186=BG186,BW108,IF(BP186=BH186,BX108,IF(BP186=BI186,BY108,CL135))))))))","v":"kit 10"},{"$f":"IF(BP186=BJ186,BZ108,IF(BP186=BK186,CA108,IF(BP186=BL186,CB108,IF(BP186=BM186,CC108,IF(BP186=BN186,CD108,IF(BP186=BO186,CE108,CO135))))))","v":"kit 10"},{"$f":"IF(AY213=AK213,BR108,IF(AY213=AL213,BS108,IF(AY213=AM213,BT108,IF(AY213=AN213,BU108,IF(AY213=AO213,BV108,IF(AY213=AP213,BW108,IF(AY213=AQ213,BX108,IF(AY213=AR213,BY108,CN135))))))))","v":"kit 2/3"},{"$f":"IF(AY213=AS213,BZ108,IF(AY213=AT213,CA108,IF(AY213=AU213,CB108,IF(AY213=AV213,CC108,IF(AY213=AW213,CD108,IF(AY213=AX213,CE108,CO135))))))","v":"-"},"-"]
[null,null,null,null,null,null,null,null,null,null,null,null,null,null,null,null,null,{"$f":"H22+AH39+D16+D17+D21+D19*AG19","v":593},{"$f":"R136+Q10","v":634},{"$f":"R136+R10","v":662},{"$f":"R136+S10","v":593},{"$f":"R136+T10","v":666},{"$f":"R136+U10","v":593},{"$f":"R136+V10","v":663},{"$f":"R136+W10","v":654},{"$f":"R136+X10","v":593},{"$f":"R136+Y10","v":654},{"$f":"R136+Z10","v":649},{"$f":"R136+AA10","v":654},{"$f":"R136+AB10","v":593},{"$f":"R136+AC10","v":639},{"$f":"R136+AD10","v":644},null,null,null,7,{"$f":"Q9","v":"kit 1"},"kit 2/3",0,"kit 4",0,"kit 5","kit 6/7",0,0,"kit 8","kit 9",0,"kit 10","kit 11","MAX",null,8,{"$f":"Q9","v":"kit 1"},"kit 2/3",0,"kit 4",0,"kit 5","kit 6/7",0,0,"kit 8","kit 9",0,"kit 10","kit 11","MAX",null,0,"kit 1","-","kit 2/3","-","kit 2/3","-","kit 4","-","kit 4","-","kit 2/3","-","kit 2/3","-","kit 2/3","-","kit 9","kit 9","kit 10","kit 10","kit 2/3","-","-"]
[null,null,null,null,null,null,null,null,null,null,null,null,null,null,null,null,null,{"$f":"I22+AH40+D15+D17+D21+D19*AG19","v":366},{"$f":"R137+Q11","v":446},{"$f":"R137+R11","v":418},{"$f":"R137+S11","v":366},{"$f":"R137+T11","v":411},{"$f":"R137+U11","v":366},{"$f":"R137+V11","v":422},{"$f":"R137+W11","v":427},{"$f":"R137+X11","v":366},{"$f":"R137+Y11","v":427},{"$f":"R137+Z11","v":430},{"$f":"R137+AA11","v":434},{"$f":"R137+AB11","v":366},{"$f":"R137+AC11","v":434},{"$f":"R137+AD11","v":430},null,null,null,{"$f":"AJ191","v":"espagne 9 "},{"$f":"MIN((S59+AP35*D19)/AK48,(S60+AP35*D19)/AL48,(S61+AP35*D19)/AM48,(S62+AP35*D19)/AN48,(S63+AP35*D19)/AO48)*AP48","v":466},{"$f":"MIN((T59+AP35*D19)/AK48,(T60+AP35*D19)/AL48,(T61+AP35*D19)/AM48,(T62+AP35*D19)/AN48,(T63+AP35*D19)/AO48)*AP48","v":462},{"$f":"MIN((U59+AP35*D19)/AK48,(U60+AP35*D19)/AL48,(U61+AP35*D19)/AM48,(U62+AP35*D19)/AN48,(U63+AP35*D19)/AO48)*AP48","v":409.99999999999994},{"$f":"MIN((V59+AP35*D19)/AK48,(V60+AP35*D19)/AL48,(V61+AP35*D19)/AM48,(V62+AP35*D19)/AN48,(V63+AP35*D19)/AO48)*AP48","v":455},{"$f":"MIN((W59+AP35*D19)/AK48,(W60+AP35*D19)/AL48,(W61+AP35*D19)/AM48,(W62+AP35*D19)/AN48,(W63+AP35*D19)/AO48)*AP48","v":409.99999999999994},{"$f":"MIN((X59+AP35*D19)/AK48,(X60+AP35*D19)/AL48,(X61+AP35*D19)/AM48,(X62+AP35*D19)/AN48,(X63+AP35*D19)/AO48)*AP48","v":466},{"$f":"MIN((Y59+AP35*D19)/AK48,(Y60+AP35*D19)/AL48,(Y61+AP35*D19)/AM48,(Y62+AP35*D19)/AN48,(Y63+AP35*D19)/AO48)*AP48","v":463},{"$f":"MIN((Z59+AP35*D19)/AK48,(Z60+AP35*D19)/AL48,(Z61+AP35*D19)/AM48,(Z62+AP35*D19)/AN48,(Z63+AP35*D19)/AO48)*AP48","v":409.99999999999994},{"$f":"MIN((AA59+AP35*D19)/AK48,(AA60+AP35*D19)/AL48,(AA61+AP35*D19)/AM48,(AA62+AP35*D19)/AN48,(AA63+AP35*D19)/AO48)*AP48","v":463},{"$f":"MIN((AB59+AP35*D19)/AK48,(AB60+AP35*D19)/AL48,(AB61+AP35*D19)/AM48,(AB62+AP35*D19)/AN48,(AB63+AP35*D19)/AO48)*AP48","v":458},{"$f":"MIN((AC59+AP35*D19)/AK48,(AC60+AP35*D19)/AL48,(AC61+AP35*D19)/AM48,(AC62+AP35*D19)/AN48,(AC63+AP35*D19)/AO48)*AP48","v":459},{"$f":"MIN((AD59+AP35*D19)/AK48,(AD60+AP35*D19)/AL48,(AD61+AP35*D19)/AM48,(AD62+AP35*D19)/AN48,(AD63+AP35*D19)/AO48)*AP48","v":409.99999999999994},{"$f":"MIN((AE59+AP35*D19)/AK48,(AE60+AP35*D19)/AL48,(AE61+AP35*D19)/AM48,(AE62+AP35*D19)/AN48,(AE63+AP35*D19)/AO48)*AP48","v":470},{"$f":"MIN((AF59+AP35*D19)/AK48,(AF60+AP35*D19)/AL48,(AF61+AP35*D19)/AM48,(AF62+AP35*D19)/AN48,(AF63+AP35*D19)/AO48)*AP48","v":454},{"$f":"MAX(AK137:AX137)","v":470},null,{"$f":"AJ191","v":"espagne 9 "},{"$f":"MIN((S59+AQ35*D19)/AK49,(S60+AQ35*D19)/AL49,(S61+AQ35*D19)/AM49,(S62+AQ35*D19)/AN49,(S63+AQ35*D19)/AO49)*AP49","v":406.66666666666663},{"$f":"MIN((T59+AQ35*D19)/AK49,(T60+AQ35*D19)/AL49,(T61+AQ35*D19)/AM49,(T62+AQ35*D19)/AN49,(T63+AQ35*D19)/AO49)*AP49","v":436.00000000000006},{"$f":"MIN((U59+AQ35*D19)/AK49,(U60+AQ35*D19)/AL49,(U61+AQ35*D19)/AM49,(U62+AQ35*D19)/AN49,(U63+AQ35*D19)/AO49)*AP49","v":390},{"$f":"MIN((V59+AQ35*D19)/AK49,(V60+AQ35*D19)/AL49,(V61+AQ35*D19)/AM49,(V62+AQ35*D19)/AN49,(V63+AQ35*D19)/AO49)*AP49","v":432.66666666666669},{"$f":"MIN((W59+AQ35*D19)/AK49,(W60+AQ35*D19)/AL49,(W61+AQ35*D19)/AM49,(W62+AQ35*D19)/AN49,(W63+AQ35*D19)/AO49)*AP49","v":390},{"$f":"MIN((X59+AQ35*D19)/AK49,(X60+AQ35*D19)/AL49,(X61+AQ35*D19)/AM49,(X62+AQ35*D19)/AN49,(X63+AQ35*D19)/AO49)*AP49","v":427.33333333333337},{"$f":"MIN((Y59+AQ35*D19)/AK49,(Y60+AQ35*D19)/AL49,(Y61+AQ35*D19)/AM49,(Y62+AQ35*D19)/AN49,(Y63+AQ35*D19)/AO49)*AP49","v":430.66666666666669},{"$f":"MIN((Z59+AQ35*D19)/AK49,(Z60+AQ35*D19)/AL49,(Z61+AQ35*D19)/AM49,(Z62+AQ35*D19)/AN49,(Z63+AQ35*D19)/AO49)*AP49","v":390},{"$f":"MIN((AA59+AQ35*D19)/AK49,(AA60+AQ35*D19)/AL49,(AA61+AQ35*D19)/AM49,(AA62+AQ35*D19)/AN49,(AA63+AQ35*D19)/AO49)*AP49","v":430.66666666666669},{"$f":"MIN((AB59+AQ35*D19)/AK49,(AB60+AQ35*D19)/AL49,(AB61+AQ35*D19)/AM49,(AB62+AQ35*D19)/AN49,(AB63+AQ35*D19)/AO49)*AP49","v":432.66666666666669},{"$f":"MIN((AC59+AQ35*D19)/AK49,(AC60+AQ35*D19)/AL49,(AC61+AQ35*D19)/AM49,(AC62+AQ35*D19)/AN49,(AC63+AQ35*D19)/AO49)*AP49","v":427.33333333333337},{"$f":"MIN((AD59+AQ35*D19)/AK49,(AD60+AQ35*D19)/AL49,(AD61+AQ35*D19)/AM49,(AD62+AQ35*D19)/AN49,(AD63+AQ35*D19)/AO49)*AP49","v":390},{"$f":"MIN((AE59+AQ35*D19)/AK49,(AE60+AQ35*D19)/AL49,(AE61+AQ35*D19)/AM49,(AE62+AQ35*D19)/AN49,(AE63+AQ35*D19)/AO49)*AP49","v":430},{"$f":"MIN((AF59+AQ35*D19)/AK49,(AF60+AQ35*D19)/AL49,(AF61+AQ35*D19)/AM49,(AF62+AQ35*D19)/AN49,(AF63+AQ35*D19)/AO49)*AP49","v":432.66666666666669},{"$f":"MAX(BB137:BO137)","v":436.00000000000006},null,0,"kit 1","-","kit 2/3","-","kit 2/3","-","kit 4","-","kit 4","-","kit 2/3","-","kit 2/3","-","kit 2/3","-","kit 9","kit 9","kit 10","kit 10","kit 2/3","-","-"]
[null,null,null,null,null,null,null,null,null,null,null,null,null,null,null,null,null,{"$f":"J22+AH41+D15+D17+D21+D19*AG19","v":580},{"$f":"R138+Q12","v":621},{"$f":"R138+R12","v":640},{"$f":"R138+S12","v":580},{"$f":"R138+T12","v":653},{"$f":"R138+U12","v":580},{"$f":"R138+V12","v":636},{"$f":"R138+W12","v":641},{"$f":"R138+X12","v":580},{"$f":"R138+Y12","v":641},{"$f":"R138+Z12","v":644},{"$f":"R138+AA12","v":648},{"$f":"R138+AB12","v":580},{"$f":"R138+AC12","v":633},{"$f":"R138+AD12","v":651},null,null,null,{"$f":"AJ192","v":2},{"$f":"MIN((S66+AP35*D19)/AK48,(S67+AP35*D19)/AL48,(S68+AP35*D19)/AM48,(S69+AP35*D19)/AN48,(S70+AP35*D19)/AO48)*AP48","v":488},{"$f":"MIN((T66+AP35*D19)/AK48,(T67+AP35*D19)/AL48,(T68+AP35*D19)/AM48,(T69+AP35*D19)/AN48,(T70+AP35*D19)/AO48)*AP48","v":500.8},{"$f":"MIN((U66+AP35*D19)/AK48,(U67+AP35*D19)/AL48,(U68+AP35*D19)/AM48,(U69+AP35*D19)/AN48,(U70+AP35*D19)/AO48)*AP48","v":455.19999999999993},{"$f":"MIN((V66+AP35*D19)/AK48,(V67+AP35*D19)/AL48,(V68+AP35*D19)/AM48,(V69+AP35*D19)/AN48,(V70+AP35*D19)/AO48)*AP48","v":495.2},{"$f":"MIN((W66+AP35*D19)/AK48,(W67+AP35*D19)/AL48,(W68+AP35*D19)/AM48,(W69+AP35*D19)/AN48,(W70+AP35*D19)/AO48)*AP48","v":455.19999999999993},{"$f":"MIN((X66+AP35*D19)/AK48,(X67+AP35*D19)/AL48,(X68+AP35*D19)/AM48,(X69+AP35*D19)/AN48,(X70+AP35*D19)/AO48)*AP48","v":500},{"$f":"MIN((Y66+AP35*D19)/AK48,(Y67+AP35*D19)/AL48,(Y68+AP35*D19)/AM48,(Y69+AP35*D19)/AN48,(Y70+AP35*D19)/AO48)*AP48","v":504},{"$f":"MIN((Z66+AP35*D19)/AK48,(Z67+AP35*D19)/AL48,(Z68+AP35*D19)/AM48,(Z69+AP35*D19)/AN48,(Z70+AP35*D19)/AO48)*AP48","v":455.19999999999993},{"$f":"MIN((AA66+AP35*D19)/AK48,(AA67+AP35*D19)/AL48,(AA68+AP35*D19)/AM48,(AA69+AP35*D19)/AN48,(AA70+AP35*D19)/AO48)*AP48","v":504},{"$f":"MIN((AB66+AP35*D19)/AK48,(AB67+AP35*D19)/AL48,(AB68+AP35*D19)/AM48,(AB69+AP35*D19)/AN48,(AB70+AP35*D19)/AO48)*AP48","v":506.4},{"$f":"MIN((AC66+AP35*D19)/AK48,(AC67+AP35*D19)/AL48,(AC68+AP35*D19)/AM48,(AC69+AP35*D19)/AN48,(AC70+AP35*D19)/AO48)*AP48","v":509},{"$f":"MIN((AD66+AP35*D19)/AK48,(AD67+AP35*D19)/AL48,(AD68+AP35*D19)/AM48,(AD69+AP35*D19)/AN48,(AD70+AP35*D19)/AO48)*AP48","v":455.19999999999993},{"$f":"MIN((AE66+AP35*D19)/AK48,(AE67+AP35*D19)/AL48,(AE68+AP35*D19)/AM48,(AE69+AP35*D19)/AN48,(AE70+AP35*D19)/AO48)*AP48","v":497.6},{"$f":"MIN((AF66+AP35*D19)/AK48,(AF67+AP35*D19)/AL48,(AF68+AP35*D19)/AM48,(AF69+AP35*D19)/AN48,(AF70+AP35*D19)/AO48)*AP48","v":504},509,null,2,{"$f":"MIN((S66+AQ35*D19)/AK49,(S67+AQ35*D19)/AL49,(S68+AQ35*D19)/AM49,(S69+AQ35*D19)/AN49,(S70+AQ35*D19)/AO49)*AP49","v":406.66666666666663},{"$f":"MIN((T66+AQ35*D19)/AK49,(T67+AQ35*D19)/AL49,(T68+AQ35*D19)/AM49,(T69+AQ35*D19)/AN49,(T70+AQ35*D19)/AO49)*AP49","v":417.33333333333331},{"$f":"MIN((U66+AQ35*D19)/AK49,(U67+AQ35*D19)/AL49,(U68+AQ35*D19)/AM49,(U69+AQ35*D19)/AN49,(U70+AQ35*D19)/AO49)*AP49","v":379.33333333333337},{"$f":"MIN((V66+AQ35*D19)/AK49,(V67+AQ35*D19)/AL49,(V68+AQ35*D19)/AM49,(V69+AQ35*D19)/AN49,(V70+AQ35*D19)/AO49)*AP49","v":412.66666666666669},{"$f":"MIN((W66+AQ35*D19)/AK49,(W67+AQ35*D19)/AL49,(W68+AQ35*D19)/AM49,(W69+AQ35*D19)/AN49,(W70+AQ35*D19)/AO49)*AP49","v":379.33333333333337},{"$f":"MIN((X66+AQ35*D19)/AK49,(X67+AQ35*D19)/AL49,(X68+AQ35*D19)/AM49,(X69+AQ35*D19)/AN49,(X70+AQ35*D19)/AO49)*AP49","v":416.66666666666669},{"$f":"MIN((Y66+AQ35*D19)/AK49,(Y67+AQ35*D19)/AL49,(Y68+AQ35*D19)/AM49,(Y69+AQ35*D19)/AN49,(Y70+AQ35*D19)/AO49)*AP49","v":420},{"$f":"MIN((Z66+AQ35*D19)/AK49,(Z67+AQ35*D19)/AL49,(Z68+AQ35*D19)/AM49,(Z69+AQ35*D19)/AN49,(Z70+AQ35*D19)/AO49)*AP49","v":379.33333333333337},{"$f":"MIN((AA66+AQ35*D19)/AK49,(AA67+AQ35*D19)/AL49,(AA68+AQ35*D19)/AM49,(AA69+AQ35*D19)/AN49,(AA70+AQ35*D19)/AO49)*AP49","v":420},{"$f":"MIN((AB66+AQ35*D19)/AK49,(AB67+AQ35*D19)/AL49,(AB68+AQ35*D19)/AM49,(AB69+AQ35*D19)/AN49,(AB70+AQ35*D19)/AO49)*AP49","v":422},{"$f":"MIN((AC66+AQ35*D19)/AK49,(AC67+AQ35*D19)/AL49,(AC68+AQ35*D19)/AM49,(AC69+AQ35*D19)/AN49,(AC70+AQ35*D19)/AO49)*AP49","v":424.66666666666669},{"$f":"MIN((AD66+AQ35*D19)/AK49,(AD67+AQ35*D19)/AL49,(AD68+AQ35*D19)/AM49,(AD69+AQ35*D19)/AN49,(AD70+AQ35*D19)/AO49)*AP49","v":379.33333333333337},{"$f":"MIN((AE66+AQ35*D19)/AK49,(AE67+AQ35*D19)/AL49,(AE68+AQ35*D19)/AM49,(AE69+AQ35*D19)/AN49,(AE70+AQ35*D19)/AO49)*AP49","v":414.66666666666663},{"$f":"MIN((AF66+AQ35*D19)/AK49,(AF67+AQ35*D19)/AL49,(AF68+AQ35*D19)/AM49,(AF69+AQ35*D19)/AN49,(AF70+AQ35*D19)/AO49)*AP49","v":425.33333333333331},425.33333333333331,null,"formule meilleur kit par poste /joueur"]
[null,null,null,null,null,null,null,null,null,null,null,null,null,null,null,null,null,{"$f":"K22+AH42+D16+D17+D21+D19*AG19","v":477},{"$f":"R139+Q13","v":502},{"$f":"R139+R13","v":546},{"$f":"R139+S13","v":477},{"$f":"R139+T13","v":541},{"$f":"R139+U13","v":477},{"$f":"R139+V13","v":533},{"$f":"R139+W13","v":538},{"$f":"R139+X13","v":477},{"$f":"R139+Y13","v":538},{"$f":"R139+Z13","v":541},{"$f":"R139+AA13","v":533},{"$f":"R139+AB13","v":477},{"$f":"R139+AC13","v":537},{"$f":"R139+AD13","v":541},null,null,null,3,{"$f":"MIN((S73+AP35*D19)/AK48,(S74+AP35*D19)/AL48,(S75+AP35*D19)/AM48,(S76+AP35*D19)/AN48,(S77+AP35*D19)/AO48)*AP48","v":412},{"$f":"MIN((T73+AP35*D19)/AK48,(T74+AP35*D19)/AL48,(T75+AP35*D19)/AM48,(T76+AP35*D19)/AN48,(T77+AP35*D19)/AO48)*AP48","v":389.59999999999997},{"$f":"MIN((U73+AP35*D19)/AK48,(U74+AP35*D19)/AL48,(U75+AP35*D19)/AM48,(U76+AP35*D19)/AN48,(U77+AP35*D19)/AO48)*AP48","v":348},{"$f":"MIN((V73+AP35*D19)/AK48,(V74+AP35*D19)/AL48,(V75+AP35*D19)/AM48,(V76+AP35*D19)/AN48,(V77+AP35*D19)/AO48)*AP48","v":384},{"$f":"MIN((W73+AP35*D19)/AK48,(W74+AP35*D19)/AL48,(W75+AP35*D19)/AM48,(W76+AP35*D19)/AN48,(W77+AP35*D19)/AO48)*AP48","v":348},{"$f":"MIN((X73+AP35*D19)/AK48,(X74+AP35*D19)/AL48,(X75+AP35*D19)/AM48,(X76+AP35*D19)/AN48,(X77+AP35*D19)/AO48)*AP48","v":392.8},{"$f":"MIN((Y73+AP35*D19)/AK48,(Y74+AP35*D19)/AL48,(Y75+AP35*D19)/AM48,(Y76+AP35*D19)/AN48,(Y77+AP35*D19)/AO48)*AP48","v":396.8},{"$f":"MIN((Z73+AP35*D19)/AK48,(Z74+AP35*D19)/AL48,(Z75+AP35*D19)/AM48,(Z76+AP35*D19)/AN48,(Z77+AP35*D19)/AO48)*AP48","v":348},{"$f":"MIN((AA73+AP35*D19)/AK48,(AA74+AP35*D19)/AL48,(AA75+AP35*D19)/AM48,(AA76+AP35*D19)/AN48,(AA77+AP35*D19)/AO48)*AP48","v":396.8},{"$f":"MIN((AB73+AP35*D19)/AK48,(AB74+AP35*D19)/AL48,(AB75+AP35*D19)/AM48,(AB76+AP35*D19)/AN48,(AB77+AP35*D19)/AO48)*AP48","v":399.2},{"$f":"MIN((AC73+AP35*D19)/AK48,(AC74+AP35*D19)/AL48,(AC75+AP35*D19)/AM48,(AC76+AP35*D19)/AN48,(AC77+AP35*D19)/AO48)*AP48","v":402.4},{"$f":"MIN((AD73+AP35*D19)/AK48,(AD74+AP35*D19)/AL48,(AD75+AP35*D19)/AM48,(AD76+AP35*D19)/AN48,(AD77+AP35*D19)/AO48)*AP48","v":348},{"$f":"MIN((AE73+AP35*D19)/AK48,(AE74+AP35*D19)/AL48,(AE75+AP35*D19)/AM48,(AE76+AP35*D19)/AN48,(AE77+AP35*D19)/AO48)*AP48","v":402.4},{"$f":"MIN((AF73+AP35*D19)/AK48,(AF74+AP35*D19)/AL48,(AF75+AP35*D19)/AM48,(AF76+AP35*D19)/AN48,(AF77+AP35*D19)/AO48)*AP48","v":399.2},412,null,3,{"$f":"MIN((S73+AQ35*D19)/AK49,(S74+AQ35*D19)/AL49,(S75+AQ35*D19)/AM49,(S76+AQ35*D19)/AN49,(S77+AQ35*D19)/AO49)*AP49","v":343.33333333333331},{"$f":"MIN((T73+AQ35*D19)/AK49,(T74+AQ35*D19)/AL49,(T75+AQ35*D19)/AM49,(T76+AQ35*D19)/AN49,(T77+AQ35*D19)/AO49)*AP49","v":324.66666666666669},{"$f":"MIN((U73+AQ35*D19)/AK49,(U74+AQ35*D19)/AL49,(U75+AQ35*D19)/AM49,(U76+AQ35*D19)/AN49,(U77+AQ35*D19)/AO49)*AP49","v":290},{"$f":"MIN((V73+AQ35*D19)/AK49,(V74+AQ35*D19)/AL49,(V75+AQ35*D19)/AM49,(V76+AQ35*D19)/AN49,(V77+AQ35*D19)/AO49)*AP49","v":320},{"$f":"MIN((W73+AQ35*D19)/AK49,(W74+AQ35*D19)/AL49,(W75+AQ35*D19)/AM49,(W76+AQ35*D19)/AN49,(W77+AQ35*D19)/AO49)*AP49","v":290},{"$f":"MIN((X73+AQ35*D19)/AK49,(X74+AQ35*D19)/AL49,(X75+AQ35*D19)/AM49,(X76+AQ35*D19)/AN49,(X77+AQ35*D19)/AO49)*AP49","v":327.33333333333337},{"$f":"MIN((Y73+AQ35*D19)/AK49,(Y74+AQ35*D19)/AL49,(Y75+AQ35*D19)/AM49,(Y76+AQ35*D19)/AN49,(Y77+AQ35*D19)/AO49)*AP49","v":330.66666666666669},{"$f":"MIN((Z73+AQ35*D19)/AK49,(Z74+AQ35*D19)/AL49,(Z75+AQ35*D19)/AM49,(Z76+AQ35*D19)/AN49,(Z77+AQ35*D19)/AO49)*AP49","v":290},{"$f":"MIN((AA73+AQ35*D19)/AK49,(AA74+AQ35*D19)/AL49,(AA75+AQ35*D19)/AM49,(AA76+AQ35*D19)/AN49,(AA77+AQ35*D19)/AO49)*AP49","v":330.66666666666669},{"$f":"MIN((AB73+AQ35*D19)/AK49,(AB74+AQ35*D19)/AL49,(AB75+AQ35*D19)/AM49,(AB76+AQ35*D19)/AN49,(AB77+AQ35*D19)/AO49)*AP49","v":332.66666666666669},{"$f":"MIN((AC73+AQ35*D19)/AK49,(AC74+AQ35*D19)/AL49,(AC75+AQ35*D19)/AM49,(AC76+AQ35*D19)/AN49,(AC77+AQ35*D19)/AO49)*AP49","v":335.33333333333337},{"$f":"MIN((AD73+AQ35*D19)/AK49,(AD74+AQ35*D19)/AL49,(AD75+AQ35*D19)/AM49,(AD76+AQ35*D19)/AN49,(AD77+AQ35*D19)/AO49)*AP49","v":290},{"$f":"MIN((AE73+AQ35*D19)/AK49,(AE74+AQ35*D19)/AL49,(AE75+AQ35*D19)/AM49,(AE76+AQ35*D19)/AN49,(AE77+AQ35*D19)/AO49)*AP49","v":335.33333333333337},{"$f":"MIN((AF73+AQ35*D19)/AK49,(AF74+AQ35*D19)/AL49,(AF75+AQ35*D19)/AM49,(AF76+AQ35*D19)/AN49,(AF77+AQ35*D19)/AO49)*AP49","v":332.66666666666669},343.33333333333331,null,null,null,null,null,null,null,null,null,null,null,null,null,null,null,null,null,null,null,null,"match nul"]
[null,null,null,null,null,null,null,null,null,null,null,null,null,null,null,null,null,{"$f":"L22+AH43+D15+D17+D21+D19*AG19","v":366},{"$f":"R140+Q14","v":422},{"$f":"R140+R14","v":418},{"$f":"R140+S14","v":366},{"$f":"R140+T14","v":411},{"$f":"R140+U14","v":366},{"$f":"R140+V14","v":422},{"$f":"R140+W14","v":419},{"$f":"R140+X14","v":366},{"$f":"R140+Y14","v":419},{"$f":"R140+Z14","v":414},{"$f":"R140+AA14","v":415},{"$f":"R140+AB14","v":366},{"$f":"R140+AC14","v":426},{"$f":"R140+AD14","v":410},null,null,null,"algerie 4 ",{"$f":"MIN((S80+AP35*D19)/AK48,(S81+AP35*D19)/AL48,(S82+AP35*D19)/AM48,(S83+AP35*D19)/AN48,(S84+AP35*D19)/AO48)*AP48","v":360},{"$f":"MIN((T80+AP35*D19)/AK48,(T81+AP35*D19)/AL48,(T82+AP35*D19)/AM48,(T83+AP35*D19)/AN48,(T84+AP35*D19)/AO48)*AP48","v":337.59999999999997},{"$f":"MIN((U80+AP35*D19)/AK48,(U81+AP35*D19)/AL48,(U82+AP35*D19)/AM48,(U83+AP35*D19)/AN48,(U84+AP35*D19)/AO48)*AP48","v":296},{"$f":"MIN((V80+AP35*D19)/AK48,(V81+AP35*D19)/AL48,(V82+AP35*D19)/AM48,(V83+AP35*D19)/AN48,(V84+AP35*D19)/AO48)*AP48","v":332},{"$f":"MIN((W80+AP35*D19)/AK48,(W81+AP35*D19)/AL48,(W82+AP35*D19)/AM48,(W83+AP35*D19)/AN48,(W84+AP35*D19)/AO48)*AP48","v":296},{"$f":"MIN((X80+AP35*D19)/AK48,(X81+AP35*D19)/AL48,(X82+AP35*D19)/AM48,(X83+AP35*D19)/AN48,(X84+AP35*D19)/AO48)*AP48","v":340.8},{"$f":"MIN((Y80+AP35*D19)/AK48,(Y81+AP35*D19)/AL48,(Y82+AP35*D19)/AM48,(Y83+AP35*D19)/AN48,(Y84+AP35*D19)/AO48)*AP48","v":344.8},{"$f":"MIN((Z80+AP35*D19)/AK48,(Z81+AP35*D19)/AL48,(Z82+AP35*D19)/AM48,(Z83+AP35*D19)/AN48,(Z84+AP35*D19)/AO48)*AP48","v":296},{"$f":"MIN((AA80+AP35*D19)/AK48,(AA81+AP35*D19)/AL48,(AA82+AP35*D19)/AM48,(AA83+AP35*D19)/AN48,(AA84+AP35*D19)/AO48)*AP48","v":344.8},{"$f":"MIN((AB80+AP35*D19)/AK48,(AB81+AP35*D19)/AL48,(AB82+AP35*D19)/AM48,(AB83+AP35*D19)/AN48,(AB84+AP35*D19)/AO48)*AP48","v":347.2},{"$f":"MIN((AC80+AP35*D19)/AK48,(AC81+AP35*D19)/AL48,(AC82+AP35*D19)/AM48,(AC83+AP35*D19)/AN48,(AC84+AP35*D19)/AO48)*AP48","v":350.4},{"$f":"MIN((AD80+AP35*D19)/AK48,(AD81+AP35*D19)/AL48,(AD82+AP35*D19)/AM48,(AD83+AP35*D19)/AN48,(AD84+AP35*D19)/AO48)*AP48","v":296},{"$f":"MIN((AE80+AP35*D19)/AK48,(AE81+AP35*D19)/AL48,(AE82+AP35*D19)/AM48,(AE83+AP35*D19)/AN48,(AE84+AP35*D19)/AO48)*AP48","v":350.4},{"$f":"MIN((AF80+AP35*D19)/AK48,(AF81+AP35*D19)/AL48,(AF82+AP35*D19)/AM48,(AF83+AP35*D19)/AN48,(AF84+AP35*D19)/AO48)*AP48","v":347.2},360,null,"algerie 4 ",{"$f":"MIN((S80+AQ35*D19)/AK49,(S81+AQ35*D19)/AL49,(S82+AQ35*D19)/AM49,(S83+AQ35*D19)/AN49,(S84+AQ35*D19)/AO49)*AP49","v":300},{"$f":"MIN((T80+AQ35*D19)/AK49,(T81+AQ35*D19)/AL49,(T82+AQ35*D19)/AM49,(T83+AQ35*D19)/AN49,(T84+AQ35*D19)/AO49)*AP49","v":281.33333333333337},{"$f":"MIN((U80+AQ35*D19)/AK49,(U81+AQ35*D19)/AL49,(U82+AQ35*D19)/AM49,(U83+AQ35*D19)/AN49,(U84+AQ35*D19)/AO49)*AP49","v":246.66666666666669},{"$f":"MIN((V80+AQ35*D19)/AK49,(V81+AQ35*D19)/AL49,(V82+AQ35*D19)/AM49,(V83+AQ35*D19)/AN49,(V84+AQ35*D19)/AO49)*AP49","v":276.66666666666669},{"$f":"MIN((W80+AQ35*D19)/AK49,(W81+AQ35*D19)/AL49,(W82+AQ35*D19)/AM49,(W83+AQ35*D19)/AN49,(W84+AQ35*D19)/AO49)*AP49","v":246.66666666666669},{"$f":"MIN((X80+AQ35*D19)/AK49,(X81+AQ35*D19)/AL49,(X82+AQ35*D19)/AM49,(X83+AQ35*D19)/AN49,(X84+AQ35*D19)/AO49)*AP49","v":284},{"$f":"MIN((Y80+AQ35*D19)/AK49,(Y81+AQ35*D19)/AL49,(Y82+AQ35*D19)/AM49,(Y83+AQ35*D19)/AN49,(Y84+AQ35*D19)/AO49)*AP49","v":287.33333333333337},{"$f":"MIN((Z80+AQ35*D19)/AK49,(Z81+AQ35*D19)/AL49,(Z82+AQ35*D19)/AM49,(Z83+AQ35*D19)/AN49,(Z84+AQ35*D19)/AO49)*AP49","v":246.66666666666669},{"$f":"MIN((AA80+AQ35*D19)/AK49,(AA81+AQ35*D19)/AL49,(AA82+AQ35*D19)/AM49,(AA83+AQ35*D19)/AN49,(AA84+AQ35*D19)/AO49)*AP49","v":287.33333333333337},{"$f":"MIN((AB80+AQ35*D19)/AK49,(AB81+AQ35*D19)/AL49,(AB82+AQ35*D19)/AM49,(AB83+AQ35*D19)/AN49,(AB84+AQ35*D19)/AO49)*AP49","v":289.33333333333337},{"$f":"MIN((AC80+AQ35*D19)/AK49,(AC81+AQ35*D19)/AL49,(AC82+AQ35*D19)/AM49,(AC83+AQ35*D19)/AN49,(AC84+AQ35*D19)/AO49)*AP49","v":292},{"$f":"MIN((AD80+AQ35*D19)/AK49,(AD81+AQ35*D19)/AL49,(AD82+AQ35*D19)/AM49,(AD83+AQ35*D19)/AN49,(AD84+AQ35*D19)/AO49)*AP49","v":246.66666666666669},{"$f":"MIN((AE80+AQ35*D19)/AK49,(AE81+AQ35*D19)/AL49,(AE82+AQ35*D19)/AM49,(AE83+AQ35*D19)/AN49,(AE84+AQ35*D19)/AO49)*AP49","v":292},{"$f":"MIN((AF80+AQ35*D19)/AK49,(AF81+AQ35*D19)/AL49,(AF82+AQ35*D19)/AM49,(AF83+AQ35*D19)/AN49,(AF84+AQ35*D19)/AO49)*AP49","v":289.33333333333337},300,null,null,{"$f":"IF(AV24=1,BS129,IF(AV25=1,BS130,IF(AV26=1,BS131,IF(AV27=1,BS132,IF(AV28=1,BS133,IF(AV29=1,BS134,IF(AV31=1,BS135,BS83)))))))","v":"attente"},{"$f":"IF(AV16=1,BS121,IF(AV17=1,BS122,IF(AV18=1,BS123,IF(AV19=1,BS124,IF(AV20=1,BS125,IF(AV21=1,BS126,IF(AV22=1,BS127,IF(AV23=1,BS128,BS140))))))))","v":"attente"},null,null,null,null,null,null,null,null,null,null,null,null,null,null,null,null,"victoire de l'adversaire"]
[null,null,null,null,null,null,null,null,null,null,null,null,null,null,null,null,null,null,null,null,null,null,null,null,null,null,null,null,null,null,null,null,null,null,null,"ghana 5 ",{"$f":"MIN((S87+AP35*D19)/AK48,(S88+AP35*D19)/AL48,(S89+AP35*D19)/AM48,(S90+AP35*D19)/AN48,(S91+AP35*D19)/AO48)*AP48","v":445.6},{"$f":"MIN((T87+AP35*D19)/AK48,(T88+AP35*D19)/AL48,(T89+AP35*D19)/AM48,(T90+AP35*D19)/AN48,(T91+AP35*D19)/AO48)*AP48","v":480.79999999999995},{"$f":"MIN((U87+AP35*D19)/AK48,(U88+AP35*D19)/AL48,(U89+AP35*D19)/AM48,(U90+AP35*D19)/AN48,(U91+AP35*D19)/AO48)*AP48","v":425.6},{"$f":"MIN((V87+AP35*D19)/AK48,(V88+AP35*D19)/AL48,(V89+AP35*D19)/AM48,(V90+AP35*D19)/AN48,(V91+AP35*D19)/AO48)*AP48","v":476.79999999999995},{"$f":"MIN((W87+AP35*D19)/AK48,(W88+AP35*D19)/AL48,(W89+AP35*D19)/AM48,(W90+AP35*D19)/AN48,(W91+AP35*D19)/AO48)*AP48","v":425.6},{"$f":"MIN((X87+AP35*D19)/AK48,(X88+AP35*D19)/AL48,(X89+AP35*D19)/AM48,(X90+AP35*D19)/AN48,(X91+AP35*D19)/AO48)*AP48","v":470.4},{"$f":"MIN((Y87+AP35*D19)/AK48,(Y88+AP35*D19)/AL48,(Y89+AP35*D19)/AM48,(Y90+AP35*D19)/AN48,(Y91+AP35*D19)/AO48)*AP48","v":474.4},{"$f":"MIN((Z87+AP35*D19)/AK48,(Z88+AP35*D19)/AL48,(Z89+AP35*D19)/AM48,(Z90+AP35*D19)/AN48,(Z91+AP35*D19)/AO48)*AP48","v":425.6},{"$f":"MIN((AA87+AP35*D19)/AK48,(AA88+AP35*D19)/AL48,(AA89+AP35*D19)/AM48,(AA90+AP35*D19)/AN48,(AA91+AP35*D19)/AO48)*AP48","v":474.4},{"$f":"MIN((AB87+AP35*D19)/AK48,(AB88+AP35*D19)/AL48,(AB89+AP35*D19)/AM48,(AB90+AP35*D19)/AN48,(AB91+AP35*D19)/AO48)*AP48","v":476.79999999999995},{"$f":"MIN((AC87+AP35*D19)/AK48,(AC88+AP35*D19)/AL48,(AC89+AP35*D19)/AM48,(AC90+AP35*D19)/AN48,(AC91+AP35*D19)/AO48)*AP48","v":470.4},{"$f":"MIN((AD87+AP35*D19)/AK48,(AD88+AP35*D19)/AL48,(AD89+AP35*D19)/AM48,(AD90+AP35*D19)/AN48,(AD91+AP35*D19)/AO48)*AP48","v":425.6},{"$f":"MIN((AE87+AP35*D19)/AK48,(AE88+AP35*D19)/AL48,(AE89+AP35*D19)/AM48,(AE90+AP35*D19)/AN48,(AE91+AP35*D19)/AO48)*AP48","v":473.59999999999997},{"$f":"MIN((AF87+AP35*D19)/AK48,(AF88+AP35*D19)/AL48,(AF89+AP35*D19)/AM48,(AF90+AP35*D19)/AN48,(AF91+AP35*D19)/AO48)*AP48","v":476.79999999999995},480.79999999999995,null,"ghana 5 ",{"$f":"MIN((S87+AQ35*D19)/AK49,(S88+AQ35*D19)/AL49,(S89+AQ35*D19)/AM49,(S90+AQ35*D19)/AN49,(S91+AQ35*D19)/AO49)*AP49","v":371.33333333333331},{"$f":"MIN((T87+AQ35*D19)/AK49,(T88+AQ35*D19)/AL49,(T89+AQ35*D19)/AM49,(T90+AQ35*D19)/AN49,(T91+AQ35*D19)/AO49)*AP49","v":400.66666666666669},{"$f":"MIN((U87+AQ35*D19)/AK49,(U88+AQ35*D19)/AL49,(U89+AQ35*D19)/AM49,(U90+AQ35*D19)/AN49,(U91+AQ35*D19)/AO49)*AP49","v":354.66666666666669},{"$f":"MIN((V87+AQ35*D19)/AK49,(V88+AQ35*D19)/AL49,(V89+AQ35*D19)/AM49,(V90+AQ35*D19)/AN49,(V91+AQ35*D19)/AO49)*AP49","v":397.33333333333331},{"$f":"MIN((W87+AQ35*D19)/AK49,(W88+AQ35*D19)/AL49,(W89+AQ35*D19)/AM49,(W90+AQ35*D19)/AN49,(W91+AQ35*D19)/AO49)*AP49","v":354.66666666666669},{"$f":"MIN((X87+AQ35*D19)/AK49,(X88+AQ35*D19)/AL49,(X89+AQ35*D19)/AM49,(X90+AQ35*D19)/AN49,(X91+AQ35*D19)/AO49)*AP49","v":392},{"$f":"MIN((Y87+AQ35*D19)/AK49,(Y88+AQ35*D19)/AL49,(Y89+AQ35*D19)/AM49,(Y90+AQ35*D19)/AN49,(Y91+AQ35*D19)/AO49)*AP49","v":395.33333333333331},{"$f":"MIN((Z87+AQ35*D19)/AK49,(Z88+AQ35*D19)/AL49,(Z89+AQ35*D19)/AM49,(Z90+AQ35*D19)/AN49,(Z91+AQ35*D19)/AO49)*AP49","v":354.66666666666669},{"$f":"MIN((AA87+AQ35*D19)/AK49,(AA88+AQ35*D19)/AL49,(AA89+AQ35*D19)/AM49,(AA90+AQ35*D19)/AN49,(AA91+AQ35*D19)/AO49)*AP49","v":395.33333333333331},{"$f":"MIN((AB87+AQ35*D19)/AK49,(AB88+AQ35*D19)/AL49,(AB89+AQ35*D19)/AM49,(AB90+AQ35*D19)/AN49,(AB91+AQ35*D19)/AO49)*AP49","v":397.33333333333331},{"$f":"MIN((AC87+AQ35*D19)/AK49,(AC88+AQ35*D19)/AL49,(AC89+AQ35*D19)/AM49,(AC90+AQ35*D19)/AN49,(AC91+AQ35*D19)/AO49)*AP49","v":392},{"$f":"MIN((AD87+AQ35*D19)/AK49,(AD88+AQ35*D19)/AL49,(AD89+AQ35*D19)/AM49,(AD90+AQ35*D19)/AN49,(AD91+AQ35*D19)/AO49)*AP49","v":354.66666666666669},{"$f":"MIN((AE87+AQ35*D19)/AK49,(AE88+AQ35*D19)/AL49,(AE89+AQ35*D19)/AM49,(AE90+AQ35*D19)/AN49,(AE91+AQ35*D19)/AO49)*AP49","v":394.66666666666669},{"$f":"MIN((AF87+AQ35*D19)/AK49,(AF88+AQ35*D19)/AL49,(AF89+AQ35*D19)/AM49,(AF90+AQ35*D19)/AN49,(AF91+AQ35*D19)/AO49)*AP49","v":397.33333333333331},400.66666666666669,null,null,{"$f":"IF(AV24=2,BU129,IF(AV25=2,BU130,IF(AV26=2,BU131,IF(AV27=2,BU132,IF(AV28=2,BU133,IF(AV29=2,BU134,IF(AV31=2,BU135,BS83)))))))","v":"attente"},{"$f":"IF(AV16=2,BU121,IF(AV17=2,BU122,IF(AV18=2,BU123,IF(AV19=2,BU124,IF(AV20=2,BU125,IF(AV21=2,BU126,IF(AV22=2,BU127,IF(AV23=2,BU128,BS141))))))))","v":"attente"},null,null,null,null,null,null,null,null,null,null,null,null,null,null,null,null,"victoire de mon équipe"]
[null,null,null,null,null,null,null,null,null,null,null,null,null,null,null,null,null,{"$f":"G23","v":"allemagne 11 "},{"$f":"S135","v":"kit 1"},{"$f":"T135","v":"kit 2/3"},0,"kit 4",0,"kit 5","kit 6/7",0,0,"kit 8","kit 9",0,{"$f":"AE135","v":"kit 10"},{"$f":"AF135","v":"kit 11"},null,null,null,"slovenie 6 ",{"$f":"MIN((S94+AP35*D19)/AK48,(S95+AP35*D19)/AL48,(S96+AP35*D19)/AM48,(S97+AP35*D19)/AN48,(S98+AP35*D19)/AO48)*AP48","v":463.99999999999994},{"$f":"MIN((T94+AP35*D19)/AK48,(T95+AP35*D19)/AL48,(T96+AP35*D19)/AM48,(T97+AP35*D19)/AN48,(T98+AP35*D19)/AO48)*AP48","v":499.2},{"$f":"MIN((U94+AP35*D19)/AK48,(U95+AP35*D19)/AL48,(U96+AP35*D19)/AM48,(U97+AP35*D19)/AN48,(U98+AP35*D19)/AO48)*AP48","v":444.00000000000006},{"$f":"MIN((V94+AP35*D19)/AK48,(V95+AP35*D19)/AL48,(V96+AP35*D19)/AM48,(V97+AP35*D19)/AN48,(V98+AP35*D19)/AO48)*AP48","v":495.2},{"$f":"MIN((W94+AP35*D19)/AK48,(W95+AP35*D19)/AL48,(W96+AP35*D19)/AM48,(W97+AP35*D19)/AN48,(W98+AP35*D19)/AO48)*AP48","v":444.00000000000006},{"$f":"MIN((X94+AP35*D19)/AK48,(X95+AP35*D19)/AL48,(X96+AP35*D19)/AM48,(X97+AP35*D19)/AN48,(X98+AP35*D19)/AO48)*AP48","v":488.8},{"$f":"MIN((Y94+AP35*D19)/AK48,(Y95+AP35*D19)/AL48,(Y96+AP35*D19)/AM48,(Y97+AP35*D19)/AN48,(Y98+AP35*D19)/AO48)*AP48","v":492.8},{"$f":"MIN((Z94+AP35*D19)/AK48,(Z95+AP35*D19)/AL48,(Z96+AP35*D19)/AM48,(Z97+AP35*D19)/AN48,(Z98+AP35*D19)/AO48)*AP48","v":444.00000000000006},{"$f":"MIN((AA94+AP35*D19)/AK48,(AA95+AP35*D19)/AL48,(AA96+AP35*D19)/AM48,(AA97+AP35*D19)/AN48,(AA98+AP35*D19)/AO48)*AP48","v":492.8},{"$f":"MIN((AB94+AP35*D19)/AK48,(AB95+AP35*D19)/AL48,(AB96+AP35*D19)/AM48,(AB97+AP35*D19)/AN48,(AB98+AP35*D19)/AO48)*AP48","v":495.2},{"$f":"MIN((AC94+AP35*D19)/AK48,(AC95+AP35*D19)/AL48,(AC96+AP35*D19)/AM48,(AC97+AP35*D19)/AN48,(AC98+AP35*D19)/AO48)*AP48","v":488.8},{"$f":"MIN((AD94+AP35*D19)/AK48,(AD95+AP35*D19)/AL48,(AD96+AP35*D19)/AM48,(AD97+AP35*D19)/AN48,(AD98+AP35*D19)/AO48)*AP48","v":444.00000000000006},{"$f":"MIN((AE94+AP35*D19)/AK48,(AE95+AP35*D19)/AL48,(AE96+AP35*D19)/AM48,(AE97+AP35*D19)/AN48,(AE98+AP35*D19)/AO48)*AP48","v":492},{"$f":"MIN((AF94+AP35*D19)/AK48,(AF95+AP35*D19)/AL48,(AF96+AP35*D19)/AM48,(AF97+AP35*D19)/AN48,(AF98+AP35*D19)/AO48)*AP48","v":495.2},499.2,null,"slovenie 6 ",{"$f":"MIN((S94+AQ35*D19)/AK49,(S95+AQ35*D19)/AL49,(S96+AQ35*D19)/AM49,(S97+AQ35*D19)/AN49,(S98+AQ35*D19)/AO49)*AP49","v":386.66666666666669},{"$f":"MIN((T94+AQ35*D19)/AK49,(T95+AQ35*D19)/AL49,(T96+AQ35*D19)/AM49,(T97+AQ35*D19)/AN49,(T98+AQ35*D19)/AO49)*AP49","v":416},{"$f":"MIN((U94+AQ35*D19)/AK49,(U95+AQ35*D19)/AL49,(U96+AQ35*D19)/AM49,(U97+AQ35*D19)/AN49,(U98+AQ35*D19)/AO49)*AP49","v":370},{"$f":"MIN((V94+AQ35*D19)/AK49,(V95+AQ35*D19)/AL49,(V96+AQ35*D19)/AM49,(V97+AQ35*D19)/AN49,(V98+AQ35*D19)/AO49)*AP49","v":412.66666666666669},{"$f":"MIN((W94+AQ35*D19)/AK49,(W95+AQ35*D19)/AL49,(W96+AQ35*D19)/AM49,(W97+AQ35*D19)/AN49,(W98+AQ35*D19)/AO49)*AP49","v":370},{"$f":"MIN((X94+AQ35*D19)/AK49,(X95+AQ35*D19)/AL49,(X96+AQ35*D19)/AM49,(X97+AQ35*D19)/AN49,(X98+AQ35*D19)/AO49)*AP49","v":407.33333333333331},{"$f":"MIN((Y94+AQ35*D19)/AK49,(Y95+AQ35*D19)/AL49,(Y96+AQ35*D19)/AM49,(Y97+AQ35*D19)/AN49,(Y98+AQ35*D19)/AO49)*AP49","v":410.66666666666663},{"$f":"MIN((Z94+AQ35*D19)/AK49,(Z95+AQ35*D19)/AL49,(Z96+AQ35*D19)/AM49,(Z97+AQ35*D19)/AN49,(Z98+AQ35*D19)/AO49)*AP49","v":370},{"$f":"MIN((AA94+AQ35*D19)/AK49,(AA95+AQ35*D19)/AL49,(AA96+AQ35*D19)/AM49,(AA97+AQ35*D19)/AN49,(AA98+AQ35*D19)/AO49)*AP49","v":410.66666666666663},{"$f":"MIN((AB94+AQ35*D19)/AK49,(AB95+AQ35*D19)/AL49,(AB96+AQ35*D19)/AM49,(AB97+AQ35*D19)/AN49,(AB98+AQ35*D19)/AO49)*AP49","v":412.66666666666669},{"$f":"MIN((AC94+AQ35*D19)/AK49,(AC95+AQ35*D19)/AL49,(AC96+AQ35*D19)/AM49,(AC97+AQ35*D19)/AN49,(AC98+AQ35*D19)/AO49)*AP49","v":407.33333333333331},{"$f":"MIN((AD94+AQ35*D19)/AK49,(AD95+AQ35*D19)/AL49,(AD96+AQ35*D19)/AM49,(AD97+AQ35*D19)/AN49,(AD98+AQ35*D19)/AO49)*AP49","v":370},{"$f":"MIN((AE94+AQ35*D19)/AK49,(AE95+AQ35*D19)/AL49,(AE96+AQ35*D19)/AM49,(AE97+AQ35*D19)/AN49,(AE98+AQ35*D19)/AO49)*AP49","v":409.99999999999994},{"$f":"MIN((AF94+AQ35*D19)/AK49,(AF95+AQ35*D19)/AL49,(AF96+AQ35*D19)/AM49,(AF97+AQ35*D19)/AN49,(AF98+AQ35*D19)/AO49)*AP49","v":412.66666666666669},416,null,null,{"$f":"IF(AV24=3,BW129,IF(AV25=3,BW130,IF(AV26=3,BW131,IF(AV27=3,BW132,IF(AV28=3,BW133,IF(AV29=3,BW134,IF(AV31=3,BW135,BS83)))))))","v":"attente"},{"$f":"IF(AV16=3,BW121,IF(AV17=3,BW122,IF(AV18=3,BW123,IF(AV19=3,BW124,IF(AV20=3,BW125,IF(AV21=3,BW126,IF(AV22=3,BW127,IF(AV23=3,BW128,BS142))))))))","v":"attente"}]
[null,null,null,null,null,null,null,null,null,null,null,null,null,null,null,null,null,{"$f":"H23+AH39+D16+D17+D21+D19*AG20","v":540},{"$f":"R143+Q10","v":581},{"$f":"R143+R10","v":609},{"$f":"R143+S10","v":540},{"$f":"R143+T10","v":613},{"$f":"R143+U10","v":540},{"$f":"R143+V10","v":610},{"$f":"R143+W10","v":601},{"$f":"R143+X10","v":540},{"$f":"R143+Y10","v":601},{"$f":"R143+Z10","v":596},{"$f":"R143+AA10","v":601},{"$f":"R143+AB10","v":540},{"$f":"R143+AC10","v":586},{"$f":"R143+AD10","v":591},null,null,null,"grece 7 ",{"$f":"MIN((S101+AP35*D19)/AK48,(S102+AP35*D19)/AL48,(S103+AP35*D19)/AM48,(S104+AP35*D19)/AN48,(S105+AP35*D19)/AO48)*AP48","v":471.2},{"$f":"MIN((T101+AP35*D19)/AK48,(T102+AP35*D19)/AL48,(T103+AP35*D19)/AM48,(T104+AP35*D19)/AN48,(T105+AP35*D19)/AO48)*AP48","v":503.2},{"$f":"MIN((U101+AP35*D19)/AK48,(U102+AP35*D19)/AL48,(U103+AP35*D19)/AM48,(U104+AP35*D19)/AN48,(U105+AP35*D19)/AO48)*AP48","v":451.19999999999993},{"$f":"MIN((V101+AP35*D19)/AK48,(V102+AP35*D19)/AL48,(V103+AP35*D19)/AM48,(V104+AP35*D19)/AN48,(V105+AP35*D19)/AO48)*AP48","v":502.4},{"$f":"MIN((W101+AP35*D19)/AK48,(W102+AP35*D19)/AL48,(W103+AP35*D19)/AM48,(W104+AP35*D19)/AN48,(W105+AP35*D19)/AO48)*AP48","v":451.19999999999993},{"$f":"MIN((X101+AP35*D19)/AK48,(X102+AP35*D19)/AL48,(X103+AP35*D19)/AM48,(X104+AP35*D19)/AN48,(X105+AP35*D19)/AO48)*AP48","v":496},{"$f":"MIN((Y101+AP35*D19)/AK48,(Y102+AP35*D19)/AL48,(Y103+AP35*D19)/AM48,(Y104+AP35*D19)/AN48,(Y105+AP35*D19)/AO48)*AP48","v":500},{"$f":"MIN((Z101+AP35*D19)/AK48,(Z102+AP35*D19)/AL48,(Z103+AP35*D19)/AM48,(Z104+AP35*D19)/AN48,(Z105+AP35*D19)/AO48)*AP48","v":451.19999999999993},{"$f":"MIN((AA101+AP35*D19)/AK48,(AA102+AP35*D19)/AL48,(AA103+AP35*D19)/AM48,(AA104+AP35*D19)/AN48,(AA105+AP35*D19)/AO48)*AP48","v":500},{"$f":"MIN((AB101+AP35*D19)/AK48,(AB102+AP35*D19)/AL48,(AB103+AP35*D19)/AM48,(AB104+AP35*D19)/AN48,(AB105+AP35*D19)/AO48)*AP48","v":502.4},{"$f":"MIN((AC101+AP35*D19)/AK48,(AC102+AP35*D19)/AL48,(AC103+AP35*D19)/AM48,(AC104+AP35*D19)/AN48,(AC105+AP35*D19)/AO48)*AP48","v":496},{"$f":"MIN((AD101+AP35*D19)/AK48,(AD102+AP35*D19)/AL48,(AD103+AP35*D19)/AM48,(AD104+AP35*D19)/AN48,(AD105+AP35*D19)/AO48)*AP48","v":451.19999999999993},{"$f":"MIN((AE101+AP35*D19)/AK48,(AE102+AP35*D19)/AL48,(AE103+AP35*D19)/AM48,(AE104+AP35*D19)/AN48,(AE105+AP35*D19)/AO48)*AP48","v":497.6},{"$f":"MIN((AF101+AP35*D19)/AK48,(AF102+AP35*D19)/AL48,(AF103+AP35*D19)/AM48,(AF104+AP35*D19)/AN48,(AF105+AP35*D19)/AO48)*AP48","v":502.4},503.2,null,"grece 7 ",{"$f":"MIN((S101+AQ35*D19)/AK49,(S102+AQ35*D19)/AL49,(S103+AQ35*D19)/AM49,(S104+AQ35*D19)/AN49,(S105+AQ35*D19)/AO49)*AP49","v":392.66666666666669},{"$f":"MIN((T101+AQ35*D19)/AK49,(T102+AQ35*D19)/AL49,(T103+AQ35*D19)/AM49,(T104+AQ35*D19)/AN49,(T105+AQ35*D19)/AO49)*AP49","v":419.33333333333331},{"$f":"MIN((U101+AQ35*D19)/AK49,(U102+AQ35*D19)/AL49,(U103+AQ35*D19)/AM49,(U104+AQ35*D19)/AN49,(U105+AQ35*D19)/AO49)*AP49","v":376},{"$f":"MIN((V101+AQ35*D19)/AK49,(V102+AQ35*D19)/AL49,(V103+AQ35*D19)/AM49,(V104+AQ35*D19)/AN49,(V105+AQ35*D19)/AO49)*AP49","v":418.66666666666663},{"$f":"MIN((W101+AQ35*D19)/AK49,(W102+AQ35*D19)/AL49,(W103+AQ35*D19)/AM49,(W104+AQ35*D19)/AN49,(W105+AQ35*D19)/AO49)*AP49","v":376},{"$f":"MIN((X101+AQ35*D19)/AK49,(X102+AQ35*D19)/AL49,(X103+AQ35*D19)/AM49,(X104+AQ35*D19)/AN49,(X105+AQ35*D19)/AO49)*AP49","v":413.33333333333337},{"$f":"MIN((Y101+AQ35*D19)/AK49,(Y102+AQ35*D19)/AL49,(Y103+AQ35*D19)/AM49,(Y104+AQ35*D19)/AN49,(Y105+AQ35*D19)/AO49)*AP49","v":416.66666666666669},{"$f":"MIN((Z101+AQ35*D19)/AK49,(Z102+AQ35*D19)/AL49,(Z103+AQ35*D19)/AM49,(Z104+AQ35*D19)/AN49,(Z105+AQ35*D19)/AO49)*AP49","v":376},{"$f":"MIN((AA101+AQ35*D19)/AK49,(AA102+AQ35*D19)/AL49,(AA103+AQ35*D19)/AM49,(AA104+AQ35*D19)/AN49,(AA105+AQ35*D19)/AO49)*AP49","v":416.66666666666669},{"$f":"MIN((AB101+AQ35*D19)/AK49,(AB102+AQ35*D19)/AL49,(AB103+AQ35*D19)/AM49,(AB104+AQ35*D19)/AN49,(AB105+AQ35*D19)/AO49)*AP49","v":418.66666666666663},{"$f":"MIN((AC101+AQ35*D19)/AK49,(AC102+AQ35*D19)/AL49,(AC103+AQ35*D19)/AM49,(AC104+AQ35*D19)/AN49,(AC105+AQ35*D19)/AO49)*AP49","v":413.33333333333337},{"$f":"MIN((AD101+AQ35*D19)/AK49,(AD102+AQ35*D19)/AL49,(AD103+AQ35*D19)/AM49,(AD104+AQ35*D19)/AN49,(AD105+AQ35*D19)/AO49)*AP49","v":376},{"$f":"MIN((AE101+AQ35*D19)/AK49,(AE102+AQ35*D19)/AL49,(AE103+AQ35*D19)/AM49,(AE104+AQ35*D19)/AN49,(AE105+AQ35*D19)/AO49)*AP49","v":414.66666666666663},{"$f":"MIN((AF101+AQ35*D19)/AK49,(AF102+AQ35*D19)/AL49,(AF103+AQ35*D19)/AM49,(AF104+AQ35*D19)/AN49,(AF105+AQ35*D19)/AO49)*AP49","v":418.66666666666663},419.33333333333331,null,null,{"$f":"IF(AV24=4,BY129,IF(AV25=4,BY130,IF(AV26=4,BY131,IF(AV27=4,BY132,IF(AV28=4,BY133,IF(AV29=4,BY134,IF(AV31=4,BY135,BS83)))))))","v":"attente"},{"$f":"IF(AV16=4,BY121,IF(AV17=4,BY122,IF(AV18=4,BY123,IF(AV19=4,BY124,IF(AV20=4,BY125,IF(AV21=4,BY126,IF(AV22=4,BY127,IF(AV23=4,BY128,BS143))))))))","v":"attente"}]
[null,null,null,null,null,null,null,null,null,null,null,null,null,null,null,null,null,{"$f":"I23+AH40+D15+D17+D21+D19*AG20","v":563},{"$f":"R144+Q11","v":643},{"$f":"R144+R11","v":615},{"$f":"R144+S11","v":563},{"$f":"R144+T11","v":608},{"$f":"R144+U11","v":563},{"$f":"R144+V11","v":619},{"$f":"R144+W11","v":624},{"$f":"R144+X11","v":563},{"$f":"R144+Y11","v":624},{"$f":"R144+Z11","v":627},{"$f":"R144+AA11","v":631},{"$f":"R144+AB11","v":563},{"$f":"R144+AC11","v":631},{"$f":"R144+AD11","v":627},null,null,null,"australie 11 ",{"$f":"MIN((S108+AP35*D19)/AK48,(S109+AP35*D19)/AL48,(S110+AP35*D19)/AM48,(S111+AP35*D19)/AN48,(S112+AP35*D19)/AO48)*AP48","v":456.79999999999995},{"$f":"MIN((T108+AP35*D19)/AK48,(T109+AP35*D19)/AL48,(T110+AP35*D19)/AM48,(T111+AP35*D19)/AN48,(T112+AP35*D19)/AO48)*AP48","v":479.2},{"$f":"MIN((U108+AP35*D19)/AK48,(U109+AP35*D19)/AL48,(U110+AP35*D19)/AM48,(U111+AP35*D19)/AN48,(U112+AP35*D19)/AO48)*AP48","v":424},{"$f":"MIN((V108+AP35*D19)/AK48,(V109+AP35*D19)/AL48,(V110+AP35*D19)/AM48,(V111+AP35*D19)/AN48,(V112+AP35*D19)/AO48)*AP48","v":482},{"$f":"MIN((W108+AP35*D19)/AK48,(W109+AP35*D19)/AL48,(W110+AP35*D19)/AM48,(W111+AP35*D19)/AN48,(W112+AP35*D19)/AO48)*AP48","v":424},{"$f":"MIN((X108+AP35*D19)/AK48,(X109+AP35*D19)/AL48,(X110+AP35*D19)/AM48,(X111+AP35*D19)/AN48,(X112+AP35*D19)/AO48)*AP48","v":480},{"$f":"MIN((Y108+AP35*D19)/AK48,(Y109+AP35*D19)/AL48,(Y110+AP35*D19)/AM48,(Y111+AP35*D19)/AN48,(Y112+AP35*D19)/AO48)*AP48","v":472.79999999999995},{"$f":"MIN((Z108+AP35*D19)/AK48,(Z109+AP35*D19)/AL48,(Z110+AP35*D19)/AM48,(Z111+AP35*D19)/AN48,(Z112+AP35*D19)/AO48)*AP48","v":424},{"$f":"MIN((AA108+AP35*D19)/AK48,(AA109+AP35*D19)/AL48,(AA110+AP35*D19)/AM48,(AA111+AP35*D19)/AN48,(AA112+AP35*D19)/AO48)*AP48","v":472.79999999999995},{"$f":"MIN((AB108+AP35*D19)/AK48,(AB109+AP35*D19)/AL48,(AB110+AP35*D19)/AM48,(AB111+AP35*D19)/AN48,(AB112+AP35*D19)/AO48)*AP48","v":468.79999999999995},{"$f":"MIN((AC108+AP35*D19)/AK48,(AC109+AP35*D19)/AL48,(AC110+AP35*D19)/AM48,(AC111+AP35*D19)/AN48,(AC112+AP35*D19)/AO48)*AP48","v":472.79999999999995},{"$f":"MIN((AD108+AP35*D19)/AK48,(AD109+AP35*D19)/AL48,(AD110+AP35*D19)/AM48,(AD111+AP35*D19)/AN48,(AD112+AP35*D19)/AO48)*AP48","v":424},{"$f":"MIN((AE108+AP35*D19)/AK48,(AE109+AP35*D19)/AL48,(AE110+AP35*D19)/AM48,(AE111+AP35*D19)/AN48,(AE112+AP35*D19)/AO48)*AP48","v":460.79999999999995},{"$f":"MIN((AF108+AP35*D19)/AK48,(AF109+AP35*D19)/AL48,(AF110+AP35*D19)/AM48,(AF111+AP35*D19)/AN48,(AF112+AP35*D19)/AO48)*AP48","v":464.79999999999995},482,null,"australie 11 ",{"$f":"MIN((S108+AQ35*D19)/AK49,(S109+AQ35*D19)/AL49,(S110+AQ35*D19)/AM49,(S111+AQ35*D19)/AN49,(S112+AQ35*D19)/AO49)*AP49","v":404},{"$f":"MIN((T108+AQ35*D19)/AK49,(T109+AQ35*D19)/AL49,(T110+AQ35*D19)/AM49,(T111+AQ35*D19)/AN49,(T112+AQ35*D19)/AO49)*AP49","v":423.33333333333331},{"$f":"MIN((U108+AQ35*D19)/AK49,(U109+AQ35*D19)/AL49,(U110+AQ35*D19)/AM49,(U111+AQ35*D19)/AN49,(U112+AQ35*D19)/AO49)*AP49","v":387.33333333333337},{"$f":"MIN((V108+AQ35*D19)/AK49,(V109+AQ35*D19)/AL49,(V110+AQ35*D19)/AM49,(V111+AQ35*D19)/AN49,(V112+AQ35*D19)/AO49)*AP49","v":418.66666666666663},{"$f":"MIN((W108+AQ35*D19)/AK49,(W109+AQ35*D19)/AL49,(W110+AQ35*D19)/AM49,(W111+AQ35*D19)/AN49,(W112+AQ35*D19)/AO49)*AP49","v":387.33333333333337},{"$f":"MIN((X108+AQ35*D19)/AK49,(X109+AQ35*D19)/AL49,(X110+AQ35*D19)/AM49,(X111+AQ35*D19)/AN49,(X112+AQ35*D19)/AO49)*AP49","v":424.66666666666669},{"$f":"MIN((Y108+AQ35*D19)/AK49,(Y109+AQ35*D19)/AL49,(Y110+AQ35*D19)/AM49,(Y111+AQ35*D19)/AN49,(Y112+AQ35*D19)/AO49)*AP49","v":428},{"$f":"MIN((Z108+AQ35*D19)/AK49,(Z109+AQ35*D19)/AL49,(Z110+AQ35*D19)/AM49,(Z111+AQ35*D19)/AN49,(Z112+AQ35*D19)/AO49)*AP49","v":387.33333333333337},{"$f":"MIN((AA108+AQ35*D19)/AK49,(AA109+AQ35*D19)/AL49,(AA110+AQ35*D19)/AM49,(AA111+AQ35*D19)/AN49,(AA112+AQ35*D19)/AO49)*AP49","v":428},{"$f":"MIN((AB108+AQ35*D19)/AK49,(AB109+AQ35*D19)/AL49,(AB110+AQ35*D19)/AM49,(AB111+AQ35*D19)/AN49,(AB112+AQ35*D19)/AO49)*AP49","v":430},{"$f":"MIN((AC108+AQ35*D19)/AK49,(AC109+AQ35*D19)/AL49,(AC110+AQ35*D19)/AM49,(AC111+AQ35*D19)/AN49,(AC112+AQ35*D19)/AO49)*AP49","v":424.66666666666669},{"$f":"MIN((AD108+AQ35*D19)/AK49,(AD109+AQ35*D19)/AL49,(AD110+AQ35*D19)/AM49,(AD111+AQ35*D19)/AN49,(AD112+AQ35*D19)/AO49)*AP49","v":387.33333333333337},{"$f":"MIN((AE108+AQ35*D19)/AK49,(AE109+AQ35*D19)/AL49,(AE110+AQ35*D19)/AM49,(AE111+AQ35*D19)/AN49,(AE112+AQ35*D19)/AO49)*AP49","v":427.33333333333337},{"$f":"MIN((AF108+AQ35*D19)/AK49,(AF109+AQ35*D19)/AL49,(AF110+AQ35*D19)/AM49,(AF111+AQ35*D19)/AN49,(AF112+AQ35*D19)/AO49)*AP49","v":430},430,null,null,{"$f":"IF(AV24=5,CA129,IF(AV25=5,CA130,IF(AV26=5,CA131,IF(AV27=5,CA132,IF(AV28=5,CA133,IF(AV29=5,CA134,IF(AV31=5,CA135,BS83)))))))","v":"attente"},{"$f":"IF(AV16=5,CA121,IF(AV17=5,CA122,IF(AV18=5,CA123,IF(AV19=5,CA124,IF(AV20=5,CA125,IF(AV21=5,CA126,IF(AV22=5,CA127,IF(AV23=5,CA128,BS144))))))))","v":"attente"}]
[null,null,null,null,null,null,null,null,null,null,null,null,null,null,null,null,null,{"$f":"J23+AH41+D15+D17+D21+D19*AG20","v":573},{"$f":"R145+Q12","v":614},{"$f":"R145+R12","v":633},{"$f":"R145+S12","v":573},{"$f":"R145+T12","v":646},{"$f":"R145+U12","v":573},{"$f":"R145+V12","v":629},{"$f":"R145+W12","v":634},{"$f":"R145+X12","v":573},{"$f":"R145+Y12","v":634},{"$f":"R145+Z12","v":637},{"$f":"R145+AA12","v":641},{"$f":"R145+AB12","v":573},{"$f":"R145+AC12","v":626},{"$f":"R145+AD12","v":644},null,null,null,"grece 9 ",{"$f":"MIN((S115+AP35*D19)/AK48,(S116+AP35*D19)/AL48,(S117+AP35*D19)/AM48,(S118+AP35*D19)/AN48,(S119+AP35*D19)/AO48)*AP48","v":376.79999999999995},{"$f":"MIN((T115+AP35*D19)/AK48,(T116+AP35*D19)/AL48,(T117+AP35*D19)/AM48,(T118+AP35*D19)/AN48,(T119+AP35*D19)/AO48)*AP48","v":412},{"$f":"MIN((U115+AP35*D19)/AK48,(U116+AP35*D19)/AL48,(U117+AP35*D19)/AM48,(U118+AP35*D19)/AN48,(U119+AP35*D19)/AO48)*AP48","v":356.8},{"$f":"MIN((V115+AP35*D19)/AK48,(V116+AP35*D19)/AL48,(V117+AP35*D19)/AM48,(V118+AP35*D19)/AN48,(V119+AP35*D19)/AO48)*AP48","v":408},{"$f":"MIN((W115+AP35*D19)/AK48,(W116+AP35*D19)/AL48,(W117+AP35*D19)/AM48,(W118+AP35*D19)/AN48,(W119+AP35*D19)/AO48)*AP48","v":356.8},{"$f":"MIN((X115+AP35*D19)/AK48,(X116+AP35*D19)/AL48,(X117+AP35*D19)/AM48,(X118+AP35*D19)/AN48,(X119+AP35*D19)/AO48)*AP48","v":401.6},{"$f":"MIN((Y115+AP35*D19)/AK48,(Y116+AP35*D19)/AL48,(Y117+AP35*D19)/AM48,(Y118+AP35*D19)/AN48,(Y119+AP35*D19)/AO48)*AP48","v":405.6},{"$f":"MIN((Z115+AP35*D19)/AK48,(Z116+AP35*D19)/AL48,(Z117+AP35*D19)/AM48,(Z118+AP35*D19)/AN48,(Z119+AP35*D19)/AO48)*AP48","v":356.8},{"$f":"MIN((AA115+AP35*D19)/AK48,(AA116+AP35*D19)/AL48,(AA117+AP35*D19)/AM48,(AA118+AP35*D19)/AN48,(AA119+AP35*D19)/AO48)*AP48","v":405.6},{"$f":"MIN((AB115+AP35*D19)/AK48,(AB116+AP35*D19)/AL48,(AB117+AP35*D19)/AM48,(AB118+AP35*D19)/AN48,(AB119+AP35*D19)/AO48)*AP48","v":408},{"$f":"MIN((AC115+AP35*D19)/AK48,(AC116+AP35*D19)/AL48,(AC117+AP35*D19)/AM48,(AC118+AP35*D19)/AN48,(AC119+AP35*D19)/AO48)*AP48","v":401.6},{"$f":"MIN((AD115+AP35*D19)/AK48,(AD116+AP35*D19)/AL48,(AD117+AP35*D19)/AM48,(AD118+AP35*D19)/AN48,(AD119+AP35*D19)/AO48)*AP48","v":356.8},{"$f":"MIN((AE115+AP35*D19)/AK48,(AE116+AP35*D19)/AL48,(AE117+AP35*D19)/AM48,(AE118+AP35*D19)/AN48,(AE119+AP35*D19)/AO48)*AP48","v":404.8},{"$f":"MIN((AF115+AP35*D19)/AK48,(AF116+AP35*D19)/AL48,(AF117+AP35*D19)/AM48,(AF118+AP35*D19)/AN48,(AF119+AP35*D19)/AO48)*AP48","v":408},412,null,"grece 9 ",{"$f":"MIN((S115+AQ35*D19)/AK49,(S116+AQ35*D19)/AL49,(S117+AQ35*D19)/AM49,(S118+AQ35*D19)/AN49,(S119+AQ35*D19)/AO49)*AP49","v":314},{"$f":"MIN((T115+AQ35*D19)/AK49,(T116+AQ35*D19)/AL49,(T117+AQ35*D19)/AM49,(T118+AQ35*D19)/AN49,(T119+AQ35*D19)/AO49)*AP49","v":343.33333333333331},{"$f":"MIN((U115+AQ35*D19)/AK49,(U116+AQ35*D19)/AL49,(U117+AQ35*D19)/AM49,(U118+AQ35*D19)/AN49,(U119+AQ35*D19)/AO49)*AP49","v":297.33333333333331},{"$f":"MIN((V115+AQ35*D19)/AK49,(V116+AQ35*D19)/AL49,(V117+AQ35*D19)/AM49,(V118+AQ35*D19)/AN49,(V119+AQ35*D19)/AO49)*AP49","v":340},{"$f":"MIN((W115+AQ35*D19)/AK49,(W116+AQ35*D19)/AL49,(W117+AQ35*D19)/AM49,(W118+AQ35*D19)/AN49,(W119+AQ35*D19)/AO49)*AP49","v":297.33333333333331},{"$f":"MIN((X115+AQ35*D19)/AK49,(X116+AQ35*D19)/AL49,(X117+AQ35*D19)/AM49,(X118+AQ35*D19)/AN49,(X119+AQ35*D19)/AO49)*AP49","v":334.66666666666669},{"$f":"MIN((Y115+AQ35*D19)/AK49,(Y116+AQ35*D19)/AL49,(Y117+AQ35*D19)/AM49,(Y118+AQ35*D19)/AN49,(Y119+AQ35*D19)/AO49)*AP49","v":338},{"$f":"MIN((Z115+AQ35*D19)/AK49,(Z116+AQ35*D19)/AL49,(Z117+AQ35*D19)/AM49,(Z118+AQ35*D19)/AN49,(Z119+AQ35*D19)/AO49)*AP49","v":297.33333333333331},{"$f":"MIN((AA115+AQ35*D19)/AK49,(AA116+AQ35*D19)/AL49,(AA117+AQ35*D19)/AM49,(AA118+AQ35*D19)/AN49,(AA119+AQ35*D19)/AO49)*AP49","v":338},{"$f":"MIN((AB115+AQ35*D19)/AK49,(AB116+AQ35*D19)/AL49,(AB117+AQ35*D19)/AM49,(AB118+AQ35*D19)/AN49,(AB119+AQ35*D19)/AO49)*AP49","v":340},{"$f":"MIN((AC115+AQ35*D19)/AK49,(AC116+AQ35*D19)/AL49,(AC117+AQ35*D19)/AM49,(AC118+AQ35*D19)/AN49,(AC119+AQ35*D19)/AO49)*AP49","v":334.66666666666669},{"$f":"MIN((AD115+AQ35*D19)/AK49,(AD116+AQ35*D19)/AL49,(AD117+AQ35*D19)/AM49,(AD118+AQ35*D19)/AN49,(AD119+AQ35*D19)/AO49)*AP49","v":297.33333333333331},{"$f":"MIN((AE115+AQ35*D19)/AK49,(AE116+AQ35*D19)/AL49,(AE117+AQ35*D19)/AM49,(AE118+AQ35*D19)/AN49,(AE119+AQ35*D19)/AO49)*AP49","v":337.33333333333337},{"$f":"MIN((AF115+AQ35*D19)/AK49,(AF116+AQ35*D19)/AL49,(AF117+AQ35*D19)/AM49,(AF118+AQ35*D19)/AN49,(AF119+AQ35*D19)/AO49)*AP49","v":340},343.33333333333331,null,null,{"$f":"IF(AV24=6,CC129,IF(AV25=6,CC130,IF(AV26=6,CC131,IF(AV27=6,CC132,IF(AV28=6,CC133,IF(AV29=6,CC134,IF(AV31=6,CC135,BS83)))))))","v":"attente"},{"$f":"IF(AV16=6,CC121,IF(AV17=6,CC122,IF(AV18=6,CC123,IF(AV19=6,CC124,IF(AV20=6,CC125,IF(AV21=6,CC126,IF(AV22=6,CC127,IF(AV23=6,CC128,BS145))))))))","v":"attente"}]
[null,null,null,null,null,null,null,null,null,null,null,null,null,null,null,null,null,{"$f":"K23+AH42+D16+D17+D21+D19*AG20","v":570},{"$f":"R146+Q13","v":595},{"$f":"R146+R13","v":639},{"$f":"R146+S13","v":570},{"$f":"R146+T13","v":634},{"$f":"R146+U13","v":570},{"$f":"R146+V13","v":626},{"$f":"R146+W13","v":631},{"$f":"R146+X13","v":570},{"$f":"R146+Y13","v":631},{"$f":"R146+Z13","v":634},{"$f":"R146+AA13","v":626},{"$f":"R146+AB13","v":570},{"$f":"R146+AC13","v":630},{"$f":"R146+AD13","v":634},null,null,null,"nigeria 8 ",{"$f":"MIN((S122+AP35*D19)/AK48,(S123+AP35*D19)/AL48,(S124+AP35*D19)/AM48,(S125+AP35*D19)/AN48,(S126+AP35*D19)/AO48)*AP48","v":471.2},{"$f":"MIN((T122+AP35*D19)/AK48,(T123+AP35*D19)/AL48,(T124+AP35*D19)/AM48,(T125+AP35*D19)/AN48,(T126+AP35*D19)/AO48)*AP48","v":497.6},{"$f":"MIN((U122+AP35*D19)/AK48,(U123+AP35*D19)/AL48,(U124+AP35*D19)/AM48,(U125+AP35*D19)/AN48,(U126+AP35*D19)/AO48)*AP48","v":449.6},{"$f":"MIN((V122+AP35*D19)/AK48,(V123+AP35*D19)/AL48,(V124+AP35*D19)/AM48,(V125+AP35*D19)/AN48,(V126+AP35*D19)/AO48)*AP48","v":502.4},{"$f":"MIN((W122+AP35*D19)/AK48,(W123+AP35*D19)/AL48,(W124+AP35*D19)/AM48,(W125+AP35*D19)/AN48,(W126+AP35*D19)/AO48)*AP48","v":449.6},{"$f":"MIN((X122+AP35*D19)/AK48,(X123+AP35*D19)/AL48,(X124+AP35*D19)/AM48,(X125+AP35*D19)/AN48,(X126+AP35*D19)/AO48)*AP48","v":494.4},{"$f":"MIN((Y122+AP35*D19)/AK48,(Y123+AP35*D19)/AL48,(Y124+AP35*D19)/AM48,(Y125+AP35*D19)/AN48,(Y126+AP35*D19)/AO48)*AP48","v":498.4},{"$f":"MIN((Z122+AP35*D19)/AK48,(Z123+AP35*D19)/AL48,(Z124+AP35*D19)/AM48,(Z125+AP35*D19)/AN48,(Z126+AP35*D19)/AO48)*AP48","v":449.6},{"$f":"MIN((AA122+AP35*D19)/AK48,(AA123+AP35*D19)/AL48,(AA124+AP35*D19)/AM48,(AA125+AP35*D19)/AN48,(AA126+AP35*D19)/AO48)*AP48","v":498.4},{"$f":"MIN((AB122+AP35*D19)/AK48,(AB123+AP35*D19)/AL48,(AB124+AP35*D19)/AM48,(AB125+AP35*D19)/AN48,(AB126+AP35*D19)/AO48)*AP48","v":500.8},{"$f":"MIN((AC122+AP35*D19)/AK48,(AC123+AP35*D19)/AL48,(AC124+AP35*D19)/AM48,(AC125+AP35*D19)/AN48,(AC126+AP35*D19)/AO48)*AP48","v":496},{"$f":"MIN((AD122+AP35*D19)/AK48,(AD123+AP35*D19)/AL48,(AD124+AP35*D19)/AM48,(AD125+AP35*D19)/AN48,(AD126+AP35*D19)/AO48)*AP48","v":449.6},{"$f":"MIN((AE122+AP35*D19)/AK48,(AE123+AP35*D19)/AL48,(AE124+AP35*D19)/AM48,(AE125+AP35*D19)/AN48,(AE126+AP35*D19)/AO48)*AP48","v":492},{"$f":"MIN((AF122+AP35*D19)/AK48,(AF123+AP35*D19)/AL48,(AF124+AP35*D19)/AM48,(AF125+AP35*D19)/AN48,(AF126+AP35*D19)/AO48)*AP48","v":502.4},502.4,null,"nigeria 8 ",{"$f":"MIN((S122+AQ35*D19)/AK49,(S123+AQ35*D19)/AL49,(S124+AQ35*D19)/AM49,(S125+AQ35*D19)/AN49,(S126+AQ35*D19)/AO49)*AP49","v":392.66666666666669},{"$f":"MIN((T122+AQ35*D19)/AK49,(T123+AQ35*D19)/AL49,(T124+AQ35*D19)/AM49,(T125+AQ35*D19)/AN49,(T126+AQ35*D19)/AO49)*AP49","v":414.66666666666663},{"$f":"MIN((U122+AQ35*D19)/AK49,(U123+AQ35*D19)/AL49,(U124+AQ35*D19)/AM49,(U125+AQ35*D19)/AN49,(U126+AQ35*D19)/AO49)*AP49","v":374.66666666666669},{"$f":"MIN((V122+AQ35*D19)/AK49,(V123+AQ35*D19)/AL49,(V124+AQ35*D19)/AM49,(V125+AQ35*D19)/AN49,(V126+AQ35*D19)/AO49)*AP49","v":418.66666666666663},{"$f":"MIN((W122+AQ35*D19)/AK49,(W123+AQ35*D19)/AL49,(W124+AQ35*D19)/AM49,(W125+AQ35*D19)/AN49,(W126+AQ35*D19)/AO49)*AP49","v":374.66666666666669},{"$f":"MIN((X122+AQ35*D19)/AK49,(X123+AQ35*D19)/AL49,(X124+AQ35*D19)/AM49,(X125+AQ35*D19)/AN49,(X126+AQ35*D19)/AO49)*AP49","v":412},{"$f":"MIN((Y122+AQ35*D19)/AK49,(Y123+AQ35*D19)/AL49,(Y124+AQ35*D19)/AM49,(Y125+AQ35*D19)/AN49,(Y126+AQ35*D19)/AO49)*AP49","v":415.33333333333331},{"$f":"MIN((Z122+AQ35*D19)/AK49,(Z123+AQ35*D19)/AL49,(Z124+AQ35*D19)/AM49,(Z125+AQ35*D19)/AN49,(Z126+AQ35*D19)/AO49)*AP49","v":374.66666666666669},{"$f":"MIN((AA122+AQ35*D19)/AK49,(AA123+AQ35*D19)/AL49,(AA124+AQ35*D19)/AM49,(AA125+AQ35*D19)/AN49,(AA126+AQ35*D19)/AO49)*AP49","v":415.33333333333331},{"$f":"MIN((AB122+AQ35*D19)/AK49,(AB123+AQ35*D19)/AL49,(AB124+AQ35*D19)/AM49,(AB125+AQ35*D19)/AN49,(AB126+AQ35*D19)/AO49)*AP49","v":417.33333333333331},{"$f":"MIN((AC122+AQ35*D19)/AK49,(AC123+AQ35*D19)/AL49,(AC124+AQ35*D19)/AM49,(AC125+AQ35*D19)/AN49,(AC126+AQ35*D19)/AO49)*AP49","v":413.33333333333337},{"$f":"MIN((AD122+AQ35*D19)/AK49,(AD123+AQ35*D19)/AL49,(AD124+AQ35*D19)/AM49,(AD125+AQ35*D19)/AN49,(AD126+AQ35*D19)/AO49)*AP49","v":374.66666666666669},{"$f":"MIN((AE122+AQ35*D19)/AK49,(AE123+AQ35*D19)/AL49,(AE124+AQ35*D19)/AM49,(AE125+AQ35*D19)/AN49,(AE126+AQ35*D19)/AO49)*AP49","v":409.99999999999994},{"$f":"MIN((AF122+AQ35*D19)/AK49,(AF123+AQ35*D19)/AL49,(AF124+AQ35*D19)/AM49,(AF125+AQ35*D19)/AN49,(AF126+AQ35*D19)/AO49)*AP49","v":418.66666666666663},418.66666666666663,null,null,{"$f":"IF(AV24=7,CE129,IF(AV25=7,CE130,IF(AV26=7,CE131,IF(AV27=7,CE132,IF(AV28=7,CE133,IF(AV29=7,CE134,IF(AV31=7,CE135,BS83)))))))","v":"attente"},{"$f":"IF(AV16=7,CE121,IF(AV17=7,CE122,IF(AV18=7,CE123,IF(AV19=7,CE124,IF(AV20=7,CE125,IF(AV21=7,CE126,IF(AV22=7,CE127,IF(AV23=7,CE128,BS146))))))))","v":"attente"}]
[null,null,null,null,null,null,null,null,null,null,null,null,null,null,null,null,null,{"$f":"L23+AH43+D15+D17+D21+D19*AG20","v":458},{"$f":"R147+Q14","v":514},{"$f":"R147+R14","v":510},{"$f":"R147+S14","v":458},{"$f":"R147+T14","v":503},{"$f":"R147+U14","v":458},{"$f":"R147+V14","v":514},{"$f":"R147+W14","v":511},{"$f":"R147+X14","v":458},{"$f":"R147+Y14","v":511},{"$f":"R147+Z14","v":506},{"$f":"R147+AA14","v":507},{"$f":"R147+AB14","v":458},{"$f":"R147+AC14","v":518},{"$f":"R147+AD14","v":502},null,null,null,"slovaquie 8 ",{"$f":"MIN((S129+AP35*D19)/AK48,(S130+AP35*D19)/AL48,(S131+AP35*D19)/AM48,(S132+AP35*D19)/AN48,(S133+AP35*D19)/AO48)*AP48","v":451.99999999999994},{"$f":"MIN((T129+AP35*D19)/AK48,(T130+AP35*D19)/AL48,(T131+AP35*D19)/AM48,(T132+AP35*D19)/AN48,(T133+AP35*D19)/AO48)*AP48","v":455.99999999999994},{"$f":"MIN((U129+AP35*D19)/AK48,(U130+AP35*D19)/AL48,(U131+AP35*D19)/AM48,(U132+AP35*D19)/AN48,(U133+AP35*D19)/AO48)*AP48","v":404},{"$f":"MIN((V129+AP35*D19)/AK48,(V130+AP35*D19)/AL48,(V131+AP35*D19)/AM48,(V132+AP35*D19)/AN48,(V133+AP35*D19)/AO48)*AP48","v":449},{"$f":"MIN((W129+AP35*D19)/AK48,(W130+AP35*D19)/AL48,(W131+AP35*D19)/AM48,(W132+AP35*D19)/AN48,(W133+AP35*D19)/AO48)*AP48","v":404},{"$f":"MIN((X129+AP35*D19)/AK48,(X130+AP35*D19)/AL48,(X131+AP35*D19)/AM48,(X132+AP35*D19)/AN48,(X133+AP35*D19)/AO48)*AP48","v":459.99999999999994},{"$f":"MIN((Y129+AP35*D19)/AK48,(Y130+AP35*D19)/AL48,(Y131+AP35*D19)/AM48,(Y132+AP35*D19)/AN48,(Y133+AP35*D19)/AO48)*AP48","v":457},{"$f":"MIN((Z129+AP35*D19)/AK48,(Z130+AP35*D19)/AL48,(Z131+AP35*D19)/AM48,(Z132+AP35*D19)/AN48,(Z133+AP35*D19)/AO48)*AP48","v":404},{"$f":"MIN((AA129+AP35*D19)/AK48,(AA130+AP35*D19)/AL48,(AA131+AP35*D19)/AM48,(AA132+AP35*D19)/AN48,(AA133+AP35*D19)/AO48)*AP48","v":457},{"$f":"MIN((AB129+AP35*D19)/AK48,(AB130+AP35*D19)/AL48,(AB131+AP35*D19)/AM48,(AB132+AP35*D19)/AN48,(AB133+AP35*D19)/AO48)*AP48","v":451.99999999999994},{"$f":"MIN((AC129+AP35*D19)/AK48,(AC130+AP35*D19)/AL48,(AC131+AP35*D19)/AM48,(AC132+AP35*D19)/AN48,(AC133+AP35*D19)/AO48)*AP48","v":453},{"$f":"MIN((AD129+AP35*D19)/AK48,(AD130+AP35*D19)/AL48,(AD131+AP35*D19)/AM48,(AD132+AP35*D19)/AN48,(AD133+AP35*D19)/AO48)*AP48","v":404},{"$f":"MIN((AE129+AP35*D19)/AK48,(AE130+AP35*D19)/AL48,(AE131+AP35*D19)/AM48,(AE132+AP35*D19)/AN48,(AE133+AP35*D19)/AO48)*AP48","v":455.99999999999994},{"$f":"MIN((AF129+AP35*D19)/AK48,(AF130+AP35*D19)/AL48,(AF131+AP35*D19)/AM48,(AF132+AP35*D19)/AN48,(AF133+AP35*D19)/AO48)*AP48","v":448.00000000000006},459.99999999999994,null,"slovaquie 8 ",{"$f":"MIN((S129+AQ35*D19)/AK49,(S130+AQ35*D19)/AL49,(S131+AQ35*D19)/AM49,(S132+AQ35*D19)/AN49,(S133+AQ35*D19)/AO49)*AP49","v":401.33333333333337},{"$f":"MIN((T129+AQ35*D19)/AK49,(T130+AQ35*D19)/AL49,(T131+AQ35*D19)/AM49,(T132+AQ35*D19)/AN49,(T133+AQ35*D19)/AO49)*AP49","v":413.99999999999994},{"$f":"MIN((U129+AQ35*D19)/AK49,(U130+AQ35*D19)/AL49,(U131+AQ35*D19)/AM49,(U132+AQ35*D19)/AN49,(U133+AQ35*D19)/AO49)*AP49","v":374},{"$f":"MIN((V129+AQ35*D19)/AK49,(V130+AQ35*D19)/AL49,(V131+AQ35*D19)/AM49,(V132+AQ35*D19)/AN49,(V133+AQ35*D19)/AO49)*AP49","v":422.66666666666663},{"$f":"MIN((W129+AQ35*D19)/AK49,(W130+AQ35*D19)/AL49,(W131+AQ35*D19)/AM49,(W132+AQ35*D19)/AN49,(W133+AQ35*D19)/AO49)*AP49","v":374},{"$f":"MIN((X129+AQ35*D19)/AK49,(X130+AQ35*D19)/AL49,(X131+AQ35*D19)/AM49,(X132+AQ35*D19)/AN49,(X133+AQ35*D19)/AO49)*AP49","v":411.33333333333331},{"$f":"MIN((Y129+AQ35*D19)/AK49,(Y130+AQ35*D19)/AL49,(Y131+AQ35*D19)/AM49,(Y132+AQ35*D19)/AN49,(Y133+AQ35*D19)/AO49)*AP49","v":414.66666666666663},{"$f":"MIN((Z129+AQ35*D19)/AK49,(Z130+AQ35*D19)/AL49,(Z131+AQ35*D19)/AM49,(Z132+AQ35*D19)/AN49,(Z133+AQ35*D19)/AO49)*AP49","v":374},{"$f":"MIN((AA129+AQ35*D19)/AK49,(AA130+AQ35*D19)/AL49,(AA131+AQ35*D19)/AM49,(AA132+AQ35*D19)/AN49,(AA133+AQ35*D19)/AO49)*AP49","v":414.66666666666663},{"$f":"MIN((AB129+AQ35*D19)/AK49,(AB130+AQ35*D19)/AL49,(AB131+AQ35*D19)/AM49,(AB132+AQ35*D19)/AN49,(AB133+AQ35*D19)/AO49)*AP49","v":416.66666666666669},{"$f":"MIN((AC129+AQ35*D19)/AK49,(AC130+AQ35*D19)/AL49,(AC131+AQ35*D19)/AM49,(AC132+AQ35*D19)/AN49,(AC133+AQ35*D19)/AO49)*AP49","v":419.33333333333331},{"$f":"MIN((AD129+AQ35*D19)/AK49,(AD130+AQ35*D19)/AL49,(AD131+AQ35*D19)/AM49,(AD132+AQ35*D19)/AN49,(AD133+AQ35*D19)/AO49)*AP49","v":374},{"$f":"MIN((AE129+AQ35*D19)/AK49,(AE130+AQ35*D19)/AL49,(AE131+AQ35*D19)/AM49,(AE132+AQ35*D19)/AN49,(AE133+AQ35*D19)/AO49)*AP49","v":409.33333333333337},{"$f":"MIN((AF129+AQ35*D19)/AK49,(AF130+AQ35*D19)/AL49,(AF131+AQ35*D19)/AM49,(AF132+AQ35*D19)/AN49,(AF133+AQ35*D19)/AO49)*AP49","v":421.33333333333331},422.66666666666663,null,null,{"$f":"IF(AV24=8,CG129,IF(AV25=8,CG130,IF(AV26=8,CG131,IF(AV27=8,CG132,IF(AV28=8,CG133,IF(AV29=8,CG134,IF(AV31=8,CG135,BS83)))))))","v":"attente"},{"$f":"IF(AV16=8,CG121,IF(AV17=8,CG122,IF(AV18=8,CG123,IF(AV19=8,CG124,IF(AV20=8,CG125,IF(AV21=8,CG126,IF(AV22=8,CG127,IF(AV23=8,CG128,BS147))))))))","v":"attente"}]
[null,null,null,null,null,null,null,null,null,null,null,null,null,null,null,null,null,null,null,null,null,null,null,null,null,null,null,null,null,null,null,null,null,null,null,"afrique du sud 4 ",{"$f":"MIN((S136+AP35*D19)/AK48,(S137+AP35*D19)/AL48,(S138+AP35*D19)/AM48,(S139+AP35*D19)/AN48,(S140+AP35*D19)/AO48)*AP48","v":356.8},{"$f":"MIN((T136+AP35*D19)/AK48,(T137+AP35*D19)/AL48,(T138+AP35*D19)/AM48,(T139+AP35*D19)/AN48,(T140+AP35*D19)/AO48)*AP48","v":334.4},{"$f":"MIN((U136+AP35*D19)/AK48,(U137+AP35*D19)/AL48,(U138+AP35*D19)/AM48,(U139+AP35*D19)/AN48,(U140+AP35*D19)/AO48)*AP48","v":292.8},{"$f":"MIN((V136+AP35*D19)/AK48,(V137+AP35*D19)/AL48,(V138+AP35*D19)/AM48,(V139+AP35*D19)/AN48,(V140+AP35*D19)/AO48)*AP48","v":328.79999999999995},{"$f":"MIN((W136+AP35*D19)/AK48,(W137+AP35*D19)/AL48,(W138+AP35*D19)/AM48,(W139+AP35*D19)/AN48,(W140+AP35*D19)/AO48)*AP48","v":292.8},{"$f":"MIN((X136+AP35*D19)/AK48,(X137+AP35*D19)/AL48,(X138+AP35*D19)/AM48,(X139+AP35*D19)/AN48,(X140+AP35*D19)/AO48)*AP48","v":337.59999999999997},{"$f":"MIN((Y136+AP35*D19)/AK48,(Y137+AP35*D19)/AL48,(Y138+AP35*D19)/AM48,(Y139+AP35*D19)/AN48,(Y140+AP35*D19)/AO48)*AP48","v":341.59999999999997},{"$f":"MIN((Z136+AP35*D19)/AK48,(Z137+AP35*D19)/AL48,(Z138+AP35*D19)/AM48,(Z139+AP35*D19)/AN48,(Z140+AP35*D19)/AO48)*AP48","v":292.8},{"$f":"MIN((AA136+AP35*D19)/AK48,(AA137+AP35*D19)/AL48,(AA138+AP35*D19)/AM48,(AA139+AP35*D19)/AN48,(AA140+AP35*D19)/AO48)*AP48","v":341.59999999999997},{"$f":"MIN((AB136+AP35*D19)/AK48,(AB137+AP35*D19)/AL48,(AB138+AP35*D19)/AM48,(AB139+AP35*D19)/AN48,(AB140+AP35*D19)/AO48)*AP48","v":344},{"$f":"MIN((AC136+AP35*D19)/AK48,(AC137+AP35*D19)/AL48,(AC138+AP35*D19)/AM48,(AC139+AP35*D19)/AN48,(AC140+AP35*D19)/AO48)*AP48","v":347.2},{"$f":"MIN((AD136+AP35*D19)/AK48,(AD137+AP35*D19)/AL48,(AD138+AP35*D19)/AM48,(AD139+AP35*D19)/AN48,(AD140+AP35*D19)/AO48)*AP48","v":292.8},{"$f":"MIN((AE136+AP35*D19)/AK48,(AE137+AP35*D19)/AL48,(AE138+AP35*D19)/AM48,(AE139+AP35*D19)/AN48,(AE140+AP35*D19)/AO48)*AP48","v":347.2},{"$f":"MIN((AF136+AP35*D19)/AK48,(AF137+AP35*D19)/AL48,(AF138+AP35*D19)/AM48,(AF139+AP35*D19)/AN48,(AF140+AP35*D19)/AO48)*AP48","v":344},356.8,null,"afrique du sud 4 ",{"$f":"MIN((S136+AQ35*D19)/AK49,(S137+AQ35*D19)/AL49,(S138+AQ35*D19)/AM49,(S139+AQ35*D19)/AN49,(S140+AQ35*D19)/AO49)*AP49","v":297.33333333333331},{"$f":"MIN((T136+AQ35*D19)/AK49,(T137+AQ35*D19)/AL49,(T138+AQ35*D19)/AM49,(T139+AQ35*D19)/AN49,(T140+AQ35*D19)/AO49)*AP49","v":278.66666666666669},{"$f":"MIN((U136+AQ35*D19)/AK49,(U137+AQ35*D19)/AL49,(U138+AQ35*D19)/AM49,(U139+AQ35*D19)/AN49,(U140+AQ35*D19)/AO49)*AP49","v":244},{"$f":"MIN((V136+AQ35*D19)/AK49,(V137+AQ35*D19)/AL49,(V138+AQ35*D19)/AM49,(V139+AQ35*D19)/AN49,(V140+AQ35*D19)/AO49)*AP49","v":274},{"$f":"MIN((W136+AQ35*D19)/AK49,(W137+AQ35*D19)/AL49,(W138+AQ35*D19)/AM49,(W139+AQ35*D19)/AN49,(W140+AQ35*D19)/AO49)*AP49","v":244},{"$f":"MIN((X136+AQ35*D19)/AK49,(X137+AQ35*D19)/AL49,(X138+AQ35*D19)/AM49,(X139+AQ35*D19)/AN49,(X140+AQ35*D19)/AO49)*AP49","v":281.33333333333337},{"$f":"MIN((Y136+AQ35*D19)/AK49,(Y137+AQ35*D19)/AL49,(Y138+AQ35*D19)/AM49,(Y139+AQ35*D19)/AN49,(Y140+AQ35*D19)/AO49)*AP49","v":284.66666666666669},{"$f":"MIN((Z136+AQ35*D19)/AK49,(Z137+AQ35*D19)/AL49,(Z138+AQ35*D19)/AM49,(Z139+AQ35*D19)/AN49,(Z140+AQ35*D19)/AO49)*AP49","v":244},{"$f":"MIN((AA136+AQ35*D19)/AK49,(AA137+AQ35*D19)/AL49,(AA138+AQ35*D19)/AM49,(AA139+AQ35*D19)/AN49,(AA140+AQ35*D19)/AO49)*AP49","v":284.66666666666669},{"$f":"MIN((AB136+AQ35*D19)/AK49,(AB137+AQ35*D19)/AL49,(AB138+AQ35*D19)/AM49,(AB139+AQ35*D19)/AN49,(AB140+AQ35*D19)/AO49)*AP49","v":286.66666666666669},{"$f":"MIN((AC136+AQ35*D19)/AK49,(AC137+AQ35*D19)/AL49,(AC138+AQ35*D19)/AM49,(AC139+AQ35*D19)/AN49,(AC140+AQ35*D19)/AO49)*AP49","v":289.33333333333337},{"$f":"MIN((AD136+AQ35*D19)/AK49,(AD137+AQ35*D19)/AL49,(AD138+AQ35*D19)/AM49,(AD139+AQ35*D19)/AN49,(AD140+AQ35*D19)/AO49)*AP49","v":244},{"$f":"MIN((AE136+AQ35*D19)/AK49,(AE137+AQ35*D19)/AL49,(AE138+AQ35*D19)/AM49,(AE139+AQ35*D19)/AN49,(AE140+AQ35*D19)/AO49)*AP49","v":289.33333333333337},{"$f":"MIN((AF136+AQ35*D19)/AK49,(AF137+AQ35*D19)/AL49,(AF138+AQ35*D19)/AM49,(AF139+AQ35*D19)/AN49,(AF140+AQ35*D19)/AO49)*AP49","v":286.66666666666669},297.33333333333331,null,null,{"$f":"IF(AV24=9,CI129,IF(AV25=9,CI130,IF(AV26=9,CI131,IF(AV27=9,CI132,IF(AV28=9,CI133,IF(AV29=9,CI134,IF(AV31=9,CI135,BS83)))))))","v":"attente"},{"$f":"IF(AV16=9,CI121,IF(AV17=9,CI122,IF(AV18=9,CI123,IF(AV19=9,CI124,IF(AV20=9,CI125,IF(AV21=9,CI126,IF(AV22=9,CI127,IF(AV23=9,CI128,BS148))))))))","v":"kit 6/7"}]
[null,null,null,null,null,null,null,null,null,null,null,null,null,null,null,null,null,{"$f":"G24","v":"chili 11 "},{"$f":"S142","v":"kit 1"},{"$f":"T142","v":"kit 2/3"},0,"kit 4",0,"kit 5","kit 6/7",0,0,"kit 8","kit 9",0,{"$f":"AE142","v":"kit 10"},{"$f":"AF142","v":"kit 11"},null,null,null,"allemagne 11 ",{"$f":"MIN((S143+AP35*D19)/AK48,(S144+AP35*D19)/AL48,(S145+AP35*D19)/AM48,(S146+AP35*D19)/AN48,(S147+AP35*D19)/AO48)*AP48","v":464.79999999999995},{"$f":"MIN((T143+AP35*D19)/AK48,(T144+AP35*D19)/AL48,(T145+AP35*D19)/AM48,(T146+AP35*D19)/AN48,(T147+AP35*D19)/AO48)*AP48","v":487.2},{"$f":"MIN((U143+AP35*D19)/AK48,(U144+AP35*D19)/AL48,(U145+AP35*D19)/AM48,(U146+AP35*D19)/AN48,(U147+AP35*D19)/AO48)*AP48","v":432},{"$f":"MIN((V143+AP35*D19)/AK48,(V144+AP35*D19)/AL48,(V145+AP35*D19)/AM48,(V146+AP35*D19)/AN48,(V147+AP35*D19)/AO48)*AP48","v":486.4},{"$f":"MIN((W143+AP35*D19)/AK48,(W144+AP35*D19)/AL48,(W145+AP35*D19)/AM48,(W146+AP35*D19)/AN48,(W147+AP35*D19)/AO48)*AP48","v":432},{"$f":"MIN((X143+AP35*D19)/AK48,(X144+AP35*D19)/AL48,(X145+AP35*D19)/AM48,(X146+AP35*D19)/AN48,(X147+AP35*D19)/AO48)*AP48","v":488},{"$f":"MIN((Y143+AP35*D19)/AK48,(Y144+AP35*D19)/AL48,(Y145+AP35*D19)/AM48,(Y146+AP35*D19)/AN48,(Y147+AP35*D19)/AO48)*AP48","v":480.79999999999995},{"$f":"MIN((Z143+AP35*D19)/AK48,(Z144+AP35*D19)/AL48,(Z145+AP35*D19)/AM48,(Z146+AP35*D19)/AN48,(Z147+AP35*D19)/AO48)*AP48","v":432},{"$f":"MIN((AA143+AP35*D19)/AK48,(AA144+AP35*D19)/AL48,(AA145+AP35*D19)/AM48,(AA146+AP35*D19)/AN48,(AA147+AP35*D19)/AO48)*AP48","v":480.79999999999995},{"$f":"MIN((AB143+AP35*D19)/AK48,(AB144+AP35*D19)/AL48,(AB145+AP35*D19)/AM48,(AB146+AP35*D19)/AN48,(AB147+AP35*D19)/AO48)*AP48","v":476.79999999999995},{"$f":"MIN((AC143+AP35*D19)/AK48,(AC144+AP35*D19)/AL48,(AC145+AP35*D19)/AM48,(AC146+AP35*D19)/AN48,(AC147+AP35*D19)/AO48)*AP48","v":480.79999999999995},{"$f":"MIN((AD143+AP35*D19)/AK48,(AD144+AP35*D19)/AL48,(AD145+AP35*D19)/AM48,(AD146+AP35*D19)/AN48,(AD147+AP35*D19)/AO48)*AP48","v":432},{"$f":"MIN((AE143+AP35*D19)/AK48,(AE144+AP35*D19)/AL48,(AE145+AP35*D19)/AM48,(AE146+AP35*D19)/AN48,(AE147+AP35*D19)/AO48)*AP48","v":468.79999999999995},{"$f":"MIN((AF143+AP35*D19)/AK48,(AF144+AP35*D19)/AL48,(AF145+AP35*D19)/AM48,(AF146+AP35*D19)/AN48,(AF147+AP35*D19)/AO48)*AP48","v":472.79999999999995},488,null,"allemagne 11 ",{"$f":"MIN((S143+AQ35*D19)/AK49,(S144+AQ35*D19)/AL49,(S145+AQ35*D19)/AM49,(S146+AQ35*D19)/AN49,(S147+AQ35*D19)/AO49)*AP49","v":396.66666666666669},{"$f":"MIN((T143+AQ35*D19)/AK49,(T144+AQ35*D19)/AL49,(T145+AQ35*D19)/AM49,(T146+AQ35*D19)/AN49,(T147+AQ35*D19)/AO49)*AP49","v":409.99999999999994},{"$f":"MIN((U143+AQ35*D19)/AK49,(U144+AQ35*D19)/AL49,(U145+AQ35*D19)/AM49,(U146+AQ35*D19)/AN49,(U147+AQ35*D19)/AO49)*AP49","v":375.33333333333331},{"$f":"MIN((V143+AQ35*D19)/AK49,(V144+AQ35*D19)/AL49,(V145+AQ35*D19)/AM49,(V146+AQ35*D19)/AN49,(V147+AQ35*D19)/AO49)*AP49","v":405.33333333333337},{"$f":"MIN((W143+AQ35*D19)/AK49,(W144+AQ35*D19)/AL49,(W145+AQ35*D19)/AM49,(W146+AQ35*D19)/AN49,(W147+AQ35*D19)/AO49)*AP49","v":375.33333333333331},{"$f":"MIN((X143+AQ35*D19)/AK49,(X144+AQ35*D19)/AL49,(X145+AQ35*D19)/AM49,(X146+AQ35*D19)/AN49,(X147+AQ35*D19)/AO49)*AP49","v":412.66666666666669},{"$f":"MIN((Y143+AQ35*D19)/AK49,(Y144+AQ35*D19)/AL49,(Y145+AQ35*D19)/AM49,(Y146+AQ35*D19)/AN49,(Y147+AQ35*D19)/AO49)*AP49","v":416},{"$f":"MIN((Z143+AQ35*D19)/AK49,(Z144+AQ35*D19)/AL49,(Z145+AQ35*D19)/AM49,(Z146+AQ35*D19)/AN49,(Z147+AQ35*D19)/AO49)*AP49","v":375.33333333333331},{"$f":"MIN((AA143+AQ35*D19)/AK49,(AA144+AQ35*D19)/AL49,(AA145+AQ35*D19)/AM49,(AA146+AQ35*D19)/AN49,(AA147+AQ35*D19)/AO49)*AP49","v":416},{"$f":"MIN((AB143+AQ35*D19)/AK49,(AB144+AQ35*D19)/AL49,(AB145+AQ35*D19)/AM49,(AB146+AQ35*D19)/AN49,(AB147+AQ35*D19)/AO49)*AP49","v":418},{"$f":"MIN((AC143+AQ35*D19)/AK49,(AC144+AQ35*D19)/AL49,(AC145+AQ35*D19)/AM49,(AC146+AQ35*D19)/AN49,(AC147+AQ35*D19)/AO49)*AP49","v":417.33333333333331},{"$f":"MIN((AD143+AQ35*D19)/AK49,(AD144+AQ35*D19)/AL49,(AD145+AQ35*D19)/AM49,(AD146+AQ35*D19)/AN49,(AD147+AQ35*D19)/AO49)*AP49","v":375.33333333333331},{"$f":"MIN((AE143+AQ35*D19)/AK49,(AE144+AQ35*D19)/AL49,(AE145+AQ35*D19)/AM49,(AE146+AQ35*D19)/AN49,(AE147+AQ35*D19)/AO49)*AP49","v":417.33333333333331},{"$f":"MIN((AF143+AQ35*D19)/AK49,(AF144+AQ35*D19)/AL49,(AF145+AQ35*D19)/AM49,(AF146+AQ35*D19)/AN49,(AF147+AQ35*D19)/AO49)*AP49","v":418},418,null,null,{"$f":"IF(AV24=10,CK129,IF(AV25=10,CK130,IF(AV26=10,CK131,IF(AV27=10,CK132,IF(AV28=10,CK133,IF(AV29=10,CK134,IF(AV31=10,CK135,BS83)))))))","v":"attente"},{"$f":"IF(AV16=10,CK121,IF(AV17=10,CK122,IF(AV18=10,CK123,IF(AV19=10,CK124,IF(AV20=10,CK125,IF(AV21=10,CK126,IF(AV22=10,CK127,IF(AV23=10,CK128,BS149))))))))","v":"kit 10"}]
[null,null,null,null,null,null,null,null,null,null,null,null,null,null,null,null,null,{"$f":"H24+AH39+D16+D17+D21+D19*AG21","v":461},{"$f":"R150+Q10","v":502},{"$f":"R150+R10","v":530},{"$f":"R150+S10","v":461},{"$f":"R150+T10","v":534},{"$f":"R150+U10","v":461},{"$f":"R150+V10","v":531},{"$f":"R150+W10","v":522},{"$f":"R150+X10","v":461},{"$f":"R150+Y10","v":522},{"$f":"R150+Z10","v":517},{"$f":"R150+AA10","v":522},{"$f":"R150+AB10","v":461},{"$f":"R150+AC10","v":507},{"$f":"R150+AD10","v":512},null,null,null,"chili 11 ",{"$f":"MIN((S150+AP35*D19)/AK48,(S151+AP35*D19)/AL48,(S152+AP35*D19)/AM48,(S153+AP35*D19)/AN48,(S154+AP35*D19)/AO48)*AP48","v":401.6},{"$f":"MIN((T150+AP35*D19)/AK48,(T151+AP35*D19)/AL48,(T152+AP35*D19)/AM48,(T153+AP35*D19)/AN48,(T154+AP35*D19)/AO48)*AP48","v":424},{"$f":"MIN((U150+AP35*D19)/AK48,(U151+AP35*D19)/AL48,(U152+AP35*D19)/AM48,(U153+AP35*D19)/AN48,(U154+AP35*D19)/AO48)*AP48","v":368.8},{"$f":"MIN((V150+AP35*D19)/AK48,(V151+AP35*D19)/AL48,(V152+AP35*D19)/AM48,(V153+AP35*D19)/AN48,(V154+AP35*D19)/AO48)*AP48","v":427.20000000000005},{"$f":"MIN((W150+AP35*D19)/AK48,(W151+AP35*D19)/AL48,(W152+AP35*D19)/AM48,(W153+AP35*D19)/AN48,(W154+AP35*D19)/AO48)*AP48","v":368.8},{"$f":"MIN((X150+AP35*D19)/AK48,(X151+AP35*D19)/AL48,(X152+AP35*D19)/AM48,(X153+AP35*D19)/AN48,(X154+AP35*D19)/AO48)*AP48","v":424.8},{"$f":"MIN((Y150+AP35*D19)/AK48,(Y151+AP35*D19)/AL48,(Y152+AP35*D19)/AM48,(Y153+AP35*D19)/AN48,(Y154+AP35*D19)/AO48)*AP48","v":417.6},{"$f":"MIN((Z150+AP35*D19)/AK48,(Z151+AP35*D19)/AL48,(Z152+AP35*D19)/AM48,(Z153+AP35*D19)/AN48,(Z154+AP35*D19)/AO48)*AP48","v":368.8},{"$f":"MIN((AA150+AP35*D19)/AK48,(AA151+AP35*D19)/AL48,(AA152+AP35*D19)/AM48,(AA153+AP35*D19)/AN48,(AA154+AP35*D19)/AO48)*AP48","v":417.6},{"$f":"MIN((AB150+AP35*D19)/AK48,(AB151+AP35*D19)/AL48,(AB152+AP35*D19)/AM48,(AB153+AP35*D19)/AN48,(AB154+AP35*D19)/AO48)*AP48","v":413.6},{"$f":"MIN((AC150+AP35*D19)/AK48,(AC151+AP35*D19)/AL48,(AC152+AP35*D19)/AM48,(AC153+AP35*D19)/AN48,(AC154+AP35*D19)/AO48)*AP48","v":417.6},{"$f":"MIN((AD150+AP35*D19)/AK48,(AD151+AP35*D19)/AL48,(AD152+AP35*D19)/AM48,(AD153+AP35*D19)/AN48,(AD154+AP35*D19)/AO48)*AP48","v":368.8},{"$f":"MIN((AE150+AP35*D19)/AK48,(AE151+AP35*D19)/AL48,(AE152+AP35*D19)/AM48,(AE153+AP35*D19)/AN48,(AE154+AP35*D19)/AO48)*AP48","v":405.6},{"$f":"MIN((AF150+AP35*D19)/AK48,(AF151+AP35*D19)/AL48,(AF152+AP35*D19)/AM48,(AF153+AP35*D19)/AN48,(AF154+AP35*D19)/AO48)*AP48","v":409.6},427.20000000000005,null,"chili 11 ",{"$f":"MIN((S150+AQ35*D19)/AK49,(S151+AQ35*D19)/AL49,(S152+AQ35*D19)/AM49,(S153+AQ35*D19)/AN49,(S154+AQ35*D19)/AO49)*AP49","v":376},{"$f":"MIN((T150+AQ35*D19)/AK49,(T151+AQ35*D19)/AL49,(T152+AQ35*D19)/AM49,(T153+AQ35*D19)/AN49,(T154+AQ35*D19)/AO49)*AP49","v":400.66666666666669},{"$f":"MIN((U150+AQ35*D19)/AK49,(U151+AQ35*D19)/AL49,(U152+AQ35*D19)/AM49,(U153+AQ35*D19)/AN49,(U154+AQ35*D19)/AO49)*AP49","v":359.33333333333331},{"$f":"MIN((V150+AQ35*D19)/AK49,(V151+AQ35*D19)/AL49,(V152+AQ35*D19)/AM49,(V153+AQ35*D19)/AN49,(V154+AQ35*D19)/AO49)*AP49","v":396},{"$f":"MIN((W150+AQ35*D19)/AK49,(W151+AQ35*D19)/AL49,(W152+AQ35*D19)/AM49,(W153+AQ35*D19)/AN49,(W154+AQ35*D19)/AO49)*AP49","v":359.33333333333331},{"$f":"MIN((X150+AQ35*D19)/AK49,(X151+AQ35*D19)/AL49,(X152+AQ35*D19)/AM49,(X153+AQ35*D19)/AN49,(X154+AQ35*D19)/AO49)*AP49","v":396.66666666666669},{"$f":"MIN((Y150+AQ35*D19)/AK49,(Y151+AQ35*D19)/AL49,(Y152+AQ35*D19)/AM49,(Y153+AQ35*D19)/AN49,(Y154+AQ35*D19)/AO49)*AP49","v":400},{"$f":"MIN((Z150+AQ35*D19)/AK49,(Z151+AQ35*D19)/AL49,(Z152+AQ35*D19)/AM49,(Z153+AQ35*D19)/AN49,(Z154+AQ35*D19)/AO49)*AP49","v":359.33333333333331},{"$f":"MIN((AA150+AQ35*D19)/AK49,(AA151+AQ35*D19)/AL49,(AA152+AQ35*D19)/AM49,(AA153+AQ35*D19)/AN49,(AA154+AQ35*D19)/AO49)*AP49","v":400},{"$f":"MIN((AB150+AQ35*D19)/AK49,(AB151+AQ35*D19)/AL49,(AB152+AQ35*D19)/AM49,(AB153+AQ35*D19)/AN49,(AB154+AQ35*D19)/AO49)*AP49","v":401.99999999999994},{"$f":"MIN((AC150+AQ35*D19)/AK49,(AC151+AQ35*D19)/AL49,(AC152+AQ35*D19)/AM49,(AC153+AQ35*D19)/AN49,(AC154+AQ35*D19)/AO49)*AP49","v":396.66666666666669},{"$f":"MIN((AD150+AQ35*D19)/AK49,(AD151+AQ35*D19)/AL49,(AD152+AQ35*D19)/AM49,(AD153+AQ35*D19)/AN49,(AD154+AQ35*D19)/AO49)*AP49","v":359.33333333333331},{"$f":"MIN((AE150+AQ35*D19)/AK49,(AE151+AQ35*D19)/AL49,(AE152+AQ35*D19)/AM49,(AE153+AQ35*D19)/AN49,(AE154+AQ35*D19)/AO49)*AP49","v":399.33333333333331},{"$f":"MIN((AF150+AQ35*D19)/AK49,(AF151+AQ35*D19)/AL49,(AF152+AQ35*D19)/AM49,(AF153+AQ35*D19)/AN49,(AF154+AQ35*D19)/AO49)*AP49","v":401.99999999999994},401.99999999999994,null,null,{"$f":"IF(AV24=11,CM129,IF(AV25=10,CM130,IF(AV26=11,CM131,IF(AV27=11,CM132,IF(AV28=11,CM133,IF(AV29=11,CM134,IF(AV31=11,CM135,BS83)))))))","v":"attente"},{"$f":"IF(AV16=11,CM121,IF(AV17=11,CM122,IF(AV18=11,CM123,IF(AV19=11,CM124,IF(AV20=11,CM125,IF(AV21=11,CM126,IF(AV22=11,CM127,IF(AV23=11,CM128,BS150))))))))","v":"kit 4"}]
[null,null,null,null,null,null,null,null,null,null,null,null,null,null,null,null,null,{"$f":"I24+AH40+D15+D17+D21+D19*AG21","v":549},{"$f":"R151+Q11","v":629},{"$f":"R151+R11","v":601},{"$f":"R151+S11","v":549},{"$f":"R151+T11","v":594},{"$f":"R151+U11","v":549},{"$f":"R151+V11","v":605},{"$f":"R151+W11","v":610},{"$f":"R151+X11","v":549},{"$f":"R151+Y11","v":610},{"$f":"R151+Z11","v":613},{"$f":"R151+AA11","v":617},{"$f":"R151+AB11","v":549},{"$f":"R151+AC11","v":617},{"$f":"R151+AD11","v":613},null,null,null,"corée du sud 3 ",{"$f":"MIN((S157+AP35*D19)/AK48,(S158+AP35*D19)/AL48,(S159+AP35*D19)/AM48,(S160+AP35*D19)/AN48,(S161+AP35*D19)/AO48)*AP48","v":404},{"$f":"MIN((T157+AP35*D19)/AK48,(T158+AP35*D19)/AL48,(T159+AP35*D19)/AM48,(T160+AP35*D19)/AN48,(T161+AP35*D19)/AO48)*AP48","v":381.59999999999997},{"$f":"MIN((U157+AP35*D19)/AK48,(U158+AP35*D19)/AL48,(U159+AP35*D19)/AM48,(U160+AP35*D19)/AN48,(U161+AP35*D19)/AO48)*AP48","v":340},{"$f":"MIN((V157+AP35*D19)/AK48,(V158+AP35*D19)/AL48,(V159+AP35*D19)/AM48,(V160+AP35*D19)/AN48,(V161+AP35*D19)/AO48)*AP48","v":376},{"$f":"MIN((W157+AP35*D19)/AK48,(W158+AP35*D19)/AL48,(W159+AP35*D19)/AM48,(W160+AP35*D19)/AN48,(W161+AP35*D19)/AO48)*AP48","v":340},{"$f":"MIN((X157+AP35*D19)/AK48,(X158+AP35*D19)/AL48,(X159+AP35*D19)/AM48,(X160+AP35*D19)/AN48,(X161+AP35*D19)/AO48)*AP48","v":384.8},{"$f":"MIN((Y157+AP35*D19)/AK48,(Y158+AP35*D19)/AL48,(Y159+AP35*D19)/AM48,(Y160+AP35*D19)/AN48,(Y161+AP35*D19)/AO48)*AP48","v":388.8},{"$f":"MIN((Z157+AP35*D19)/AK48,(Z158+AP35*D19)/AL48,(Z159+AP35*D19)/AM48,(Z160+AP35*D19)/AN48,(Z161+AP35*D19)/AO48)*AP48","v":340},{"$f":"MIN((AA157+AP35*D19)/AK48,(AA158+AP35*D19)/AL48,(AA159+AP35*D19)/AM48,(AA160+AP35*D19)/AN48,(AA161+AP35*D19)/AO48)*AP48","v":388.8},{"$f":"MIN((AB157+AP35*D19)/AK48,(AB158+AP35*D19)/AL48,(AB159+AP35*D19)/AM48,(AB160+AP35*D19)/AN48,(AB161+AP35*D19)/AO48)*AP48","v":391.2},{"$f":"MIN((AC157+AP35*D19)/AK48,(AC158+AP35*D19)/AL48,(AC159+AP35*D19)/AM48,(AC160+AP35*D19)/AN48,(AC161+AP35*D19)/AO48)*AP48","v":394.4},{"$f":"MIN((AD157+AP35*D19)/AK48,(AD158+AP35*D19)/AL48,(AD159+AP35*D19)/AM48,(AD160+AP35*D19)/AN48,(AD161+AP35*D19)/AO48)*AP48","v":340},{"$f":"MIN((AE157+AP35*D19)/AK48,(AE158+AP35*D19)/AL48,(AE159+AP35*D19)/AM48,(AE160+AP35*D19)/AN48,(AE161+AP35*D19)/AO48)*AP48","v":394.4},{"$f":"MIN((AF157+AP35*D19)/AK48,(AF158+AP35*D19)/AL48,(AF159+AP35*D19)/AM48,(AF160+AP35*D19)/AN48,(AF161+AP35*D19)/AO48)*AP48","v":391.2},404,null,"corée du sud 3 ",{"$f":"MIN((S157+AQ35*D19)/AK49,(S158+AQ35*D19)/AL49,(S159+AQ35*D19)/AM49,(S160+AQ35*D19)/AN49,(S161+AQ35*D19)/AO49)*AP49","v":336.66666666666669},{"$f":"MIN((T157+AQ35*D19)/AK49,(T158+AQ35*D19)/AL49,(T159+AQ35*D19)/AM49,(T160+AQ35*D19)/AN49,(T161+AQ35*D19)/AO49)*AP49","v":318},{"$f":"MIN((U157+AQ35*D19)/AK49,(U158+AQ35*D19)/AL49,(U159+AQ35*D19)/AM49,(U160+AQ35*D19)/AN49,(U161+AQ35*D19)/AO49)*AP49","v":283.33333333333337},{"$f":"MIN((V157+AQ35*D19)/AK49,(V158+AQ35*D19)/AL49,(V159+AQ35*D19)/AM49,(V160+AQ35*D19)/AN49,(V161+AQ35*D19)/AO49)*AP49","v":313.33333333333331},{"$f":"MIN((W157+AQ35*D19)/AK49,(W158+AQ35*D19)/AL49,(W159+AQ35*D19)/AM49,(W160+AQ35*D19)/AN49,(W161+AQ35*D19)/AO49)*AP49","v":283.33333333333337},{"$f":"MIN((X157+AQ35*D19)/AK49,(X158+AQ35*D19)/AL49,(X159+AQ35*D19)/AM49,(X160+AQ35*D19)/AN49,(X161+AQ35*D19)/AO49)*AP49","v":320.66666666666663},{"$f":"MIN((Y157+AQ35*D19)/AK49,(Y158+AQ35*D19)/AL49,(Y159+AQ35*D19)/AM49,(Y160+AQ35*D19)/AN49,(Y161+AQ35*D19)/AO49)*AP49","v":324},{"$f":"MIN((Z157+AQ35*D19)/AK49,(Z158+AQ35*D19)/AL49,(Z159+AQ35*D19)/AM49,(Z160+AQ35*D19)/AN49,(Z161+AQ35*D19)/AO49)*AP49","v":283.33333333333337},{"$f":"MIN((AA157+AQ35*D19)/AK49,(AA158+AQ35*D19)/AL49,(AA159+AQ35*D19)/AM49,(AA160+AQ35*D19)/AN49,(AA161+AQ35*D19)/AO49)*AP49","v":324},{"$f":"MIN((AB157+AQ35*D19)/AK49,(AB158+AQ35*D19)/AL49,(AB159+AQ35*D19)/AM49,(AB160+AQ35*D19)/AN49,(AB161+AQ35*D19)/AO49)*AP49","v":326},{"$f":"MIN((AC157+AQ35*D19)/AK49,(AC158+AQ35*D19)/AL49,(AC159+AQ35*D19)/AM49,(AC160+AQ35*D19)/AN49,(AC161+AQ35*D19)/AO49)*AP49","v":328.66666666666669},{"$f":"MIN((AD157+AQ35*D19)/AK49,(AD158+AQ35*D19)/AL49,(AD159+AQ35*D19)/AM49,(AD160+AQ35*D19)/AN49,(AD161+AQ35*D19)/AO49)*AP49","v":283.33333333333337},{"$f":"MIN((AE157+AQ35*D19)/AK49,(AE158+AQ35*D19)/AL49,(AE159+AQ35*D19)/AM49,(AE160+AQ35*D19)/AN49,(AE161+AQ35*D19)/AO49)*AP49","v":328.66666666666669},{"$f":"MIN((AF157+AQ35*D19)/AK49,(AF158+AQ35*D19)/AL49,(AF159+AQ35*D19)/AM49,(AF160+AQ35*D19)/AN49,(AF161+AQ35*D19)/AO49)*AP49","v":326},336.66666666666669]
[null,null,null,null,null,null,null,null,null,null,null,null,null,null,null,null,null,{"$f":"J24+AH41+D15+D17+D21+D19*AG21","v":567},{"$f":"R152+Q12","v":608},{"$f":"R152+R12","v":627},{"$f":"R152+S12","v":567},{"$f":"R152+T12","v":640},{"$f":"R152+U12","v":567},{"$f":"R152+V12","v":623},{"$f":"R152+W12","v":628},{"$f":"R152+X12","v":567},{"$f":"R152+Y12","v":628},{"$f":"R152+Z12","v":631},{"$f":"R152+AA12","v":635},{"$f":"R152+AB12","v":567},{"$f":"R152+AC12","v":620},{"$f":"R152+AD12","v":638},null,null,null,"france 11 ",{"$f":"MIN((S164+AP35*D19)/AK48,(S165+AP35*D19)/AL48,(S166+AP35*D19)/AM48,(S167+AP35*D19)/AN48,(S168+AP35*D19)/AO48)*AP48","v":431.20000000000005},{"$f":"MIN((T164+AP35*D19)/AK48,(T165+AP35*D19)/AL48,(T166+AP35*D19)/AM48,(T167+AP35*D19)/AN48,(T168+AP35*D19)/AO48)*AP48","v":453.59999999999997},{"$f":"MIN((U164+AP35*D19)/AK48,(U165+AP35*D19)/AL48,(U166+AP35*D19)/AM48,(U167+AP35*D19)/AN48,(U168+AP35*D19)/AO48)*AP48","v":398.4},{"$f":"MIN((V164+AP35*D19)/AK48,(V165+AP35*D19)/AL48,(V166+AP35*D19)/AM48,(V167+AP35*D19)/AN48,(V168+AP35*D19)/AO48)*AP48","v":456.79999999999995},{"$f":"MIN((W164+AP35*D19)/AK48,(W165+AP35*D19)/AL48,(W166+AP35*D19)/AM48,(W167+AP35*D19)/AN48,(W168+AP35*D19)/AO48)*AP48","v":398.4},{"$f":"MIN((X164+AP35*D19)/AK48,(X165+AP35*D19)/AL48,(X166+AP35*D19)/AM48,(X167+AP35*D19)/AN48,(X168+AP35*D19)/AO48)*AP48","v":454.4},{"$f":"MIN((Y164+AP35*D19)/AK48,(Y165+AP35*D19)/AL48,(Y166+AP35*D19)/AM48,(Y167+AP35*D19)/AN48,(Y168+AP35*D19)/AO48)*AP48","v":447.20000000000005},{"$f":"MIN((Z164+AP35*D19)/AK48,(Z165+AP35*D19)/AL48,(Z166+AP35*D19)/AM48,(Z167+AP35*D19)/AN48,(Z168+AP35*D19)/AO48)*AP48","v":398.4},{"$f":"MIN((AA164+AP35*D19)/AK48,(AA165+AP35*D19)/AL48,(AA166+AP35*D19)/AM48,(AA167+AP35*D19)/AN48,(AA168+AP35*D19)/AO48)*AP48","v":447.20000000000005},{"$f":"MIN((AB164+AP35*D19)/AK48,(AB165+AP35*D19)/AL48,(AB166+AP35*D19)/AM48,(AB167+AP35*D19)/AN48,(AB168+AP35*D19)/AO48)*AP48","v":443.20000000000005},{"$f":"MIN((AC164+AP35*D19)/AK48,(AC165+AP35*D19)/AL48,(AC166+AP35*D19)/AM48,(AC167+AP35*D19)/AN48,(AC168+AP35*D19)/AO48)*AP48","v":447.20000000000005},{"$f":"MIN((AD164+AP35*D19)/AK48,(AD165+AP35*D19)/AL48,(AD166+AP35*D19)/AM48,(AD167+AP35*D19)/AN48,(AD168+AP35*D19)/AO48)*AP48","v":398.4},{"$f":"MIN((AE164+AP35*D19)/AK48,(AE165+AP35*D19)/AL48,(AE166+AP35*D19)/AM48,(AE167+AP35*D19)/AN48,(AE168+AP35*D19)/AO48)*AP48","v":435.20000000000005},{"$f":"MIN((AF164+AP35*D19)/AK48,(AF165+AP35*D19)/AL48,(AF166+AP35*D19)/AM48,(AF167+AP35*D19)/AN48,(AF168+AP35*D19)/AO48)*AP48","v":439.20000000000005},456.79999999999995,null,"france 11 ",{"$f":"MIN((S164+AQ35*D19)/AK49,(S165+AQ35*D19)/AL49,(S166+AQ35*D19)/AM49,(S167+AQ35*D19)/AN49,(S168+AQ35*D19)/AO49)*AP49","v":392.66666666666669},{"$f":"MIN((T164+AQ35*D19)/AK49,(T165+AQ35*D19)/AL49,(T166+AQ35*D19)/AM49,(T167+AQ35*D19)/AN49,(T168+AQ35*D19)/AO49)*AP49","v":403.33333333333331},{"$f":"MIN((U164+AQ35*D19)/AK49,(U165+AQ35*D19)/AL49,(U166+AQ35*D19)/AM49,(U167+AQ35*D19)/AN49,(U168+AQ35*D19)/AO49)*AP49","v":368.66666666666663},{"$f":"MIN((V164+AQ35*D19)/AK49,(V165+AQ35*D19)/AL49,(V166+AQ35*D19)/AM49,(V167+AQ35*D19)/AN49,(V168+AQ35*D19)/AO49)*AP49","v":398.66666666666669},{"$f":"MIN((W164+AQ35*D19)/AK49,(W165+AQ35*D19)/AL49,(W166+AQ35*D19)/AM49,(W167+AQ35*D19)/AN49,(W168+AQ35*D19)/AO49)*AP49","v":368.66666666666663},{"$f":"MIN((X164+AQ35*D19)/AK49,(X165+AQ35*D19)/AL49,(X166+AQ35*D19)/AM49,(X167+AQ35*D19)/AN49,(X168+AQ35*D19)/AO49)*AP49","v":405.99999999999994},{"$f":"MIN((Y164+AQ35*D19)/AK49,(Y165+AQ35*D19)/AL49,(Y166+AQ35*D19)/AM49,(Y167+AQ35*D19)/AN49,(Y168+AQ35*D19)/AO49)*AP49","v":409.33333333333337},{"$f":"MIN((Z164+AQ35*D19)/AK49,(Z165+AQ35*D19)/AL49,(Z166+AQ35*D19)/AM49,(Z167+AQ35*D19)/AN49,(Z168+AQ35*D19)/AO49)*AP49","v":368.66666666666663},{"$f":"MIN((AA164+AQ35*D19)/AK49,(AA165+AQ35*D19)/AL49,(AA166+AQ35*D19)/AM49,(AA167+AQ35*D19)/AN49,(AA168+AQ35*D19)/AO49)*AP49","v":409.33333333333337},{"$f":"MIN((AB164+AQ35*D19)/AK49,(AB165+AQ35*D19)/AL49,(AB166+AQ35*D19)/AM49,(AB167+AQ35*D19)/AN49,(AB168+AQ35*D19)/AO49)*AP49","v":411.33333333333331},{"$f":"MIN((AC164+AQ35*D19)/AK49,(AC165+AQ35*D19)/AL49,(AC166+AQ35*D19)/AM49,(AC167+AQ35*D19)/AN49,(AC168+AQ35*D19)/AO49)*AP49","v":413.33333333333337},{"$f":"MIN((AD164+AQ35*D19)/AK49,(AD165+AQ35*D19)/AL49,(AD166+AQ35*D19)/AM49,(AD167+AQ35*D19)/AN49,(AD168+AQ35*D19)/AO49)*AP49","v":368.66666666666663},{"$f":"MIN((AE164+AQ35*D19)/AK49,(AE165+AQ35*D19)/AL49,(AE166+AQ35*D19)/AM49,(AE167+AQ35*D19)/AN49,(AE168+AQ35*D19)/AO49)*AP49","v":413.99999999999994},{"$f":"MIN((AF164+AQ35*D19)/AK49,(AF165+AQ35*D19)/AL49,(AF166+AQ35*D19)/AM49,(AF167+AQ35*D19)/AN49,(AF168+AQ35*D19)/AO49)*AP49","v":411.33333333333331},413.99999999999994]
[null,null,null,null,null,null,null,null,null,null,null,null,null,null,null,null,null,{"$f":"K24+AH42+D16+D17+D21+D19*AG21","v":539},{"$f":"R153+Q13","v":564},{"$f":"R153+R13","v":608},{"$f":"R153+S13","v":539},{"$f":"R153+T13","v":603},{"$f":"R153+U13","v":539},{"$f":"R153+V13","v":595},{"$f":"R153+W13","v":600},{"$f":"R153+X13","v":539},{"$f":"R153+Y13","v":600},{"$f":"R153+Z13","v":603},{"$f":"R153+AA13","v":595},{"$f":"R153+AB13","v":539},{"$f":"R153+AC13","v":599},{"$f":"R153+AD13","v":603},null,null,null,"france 2 ",{"$f":"MIN((S171+AP35*D19)/AK48,(S172+AP35*D19)/AL48,(S173+AP35*D19)/AM48,(S174+AP35*D19)/AN48,(S175+AP35*D19)/AO48)*AP48","v":419.20000000000005},{"$f":"MIN((T171+AP35*D19)/AK48,(T172+AP35*D19)/AL48,(T173+AP35*D19)/AM48,(T174+AP35*D19)/AN48,(T175+AP35*D19)/AO48)*AP48","v":396.8},{"$f":"MIN((U171+AP35*D19)/AK48,(U172+AP35*D19)/AL48,(U173+AP35*D19)/AM48,(U174+AP35*D19)/AN48,(U175+AP35*D19)/AO48)*AP48","v":355.2},{"$f":"MIN((V171+AP35*D19)/AK48,(V172+AP35*D19)/AL48,(V173+AP35*D19)/AM48,(V174+AP35*D19)/AN48,(V175+AP35*D19)/AO48)*AP48","v":391.2},{"$f":"MIN((W171+AP35*D19)/AK48,(W172+AP35*D19)/AL48,(W173+AP35*D19)/AM48,(W174+AP35*D19)/AN48,(W175+AP35*D19)/AO48)*AP48","v":355.2},{"$f":"MIN((X171+AP35*D19)/AK48,(X172+AP35*D19)/AL48,(X173+AP35*D19)/AM48,(X174+AP35*D19)/AN48,(X175+AP35*D19)/AO48)*AP48","v":400},{"$f":"MIN((Y171+AP35*D19)/AK48,(Y172+AP35*D19)/AL48,(Y173+AP35*D19)/AM48,(Y174+AP35*D19)/AN48,(Y175+AP35*D19)/AO48)*AP48","v":404},{"$f":"MIN((Z171+AP35*D19)/AK48,(Z172+AP35*D19)/AL48,(Z173+AP35*D19)/AM48,(Z174+AP35*D19)/AN48,(Z175+AP35*D19)/AO48)*AP48","v":355.2},{"$f":"MIN((AA171+AP35*D19)/AK48,(AA172+AP35*D19)/AL48,(AA173+AP35*D19)/AM48,(AA174+AP35*D19)/AN48,(AA175+AP35*D19)/AO48)*AP48","v":404},{"$f":"MIN((AB171+AP35*D19)/AK48,(AB172+AP35*D19)/AL48,(AB173+AP35*D19)/AM48,(AB174+AP35*D19)/AN48,(AB175+AP35*D19)/AO48)*AP48","v":406.4},{"$f":"MIN((AC171+AP35*D19)/AK48,(AC172+AP35*D19)/AL48,(AC173+AP35*D19)/AM48,(AC174+AP35*D19)/AN48,(AC175+AP35*D19)/AO48)*AP48","v":409.6},{"$f":"MIN((AD171+AP35*D19)/AK48,(AD172+AP35*D19)/AL48,(AD173+AP35*D19)/AM48,(AD174+AP35*D19)/AN48,(AD175+AP35*D19)/AO48)*AP48","v":355.2},{"$f":"MIN((AE171+AP35*D19)/AK48,(AE172+AP35*D19)/AL48,(AE173+AP35*D19)/AM48,(AE174+AP35*D19)/AN48,(AE175+AP35*D19)/AO48)*AP48","v":409.6},{"$f":"MIN((AF171+AP35*D19)/AK48,(AF172+AP35*D19)/AL48,(AF173+AP35*D19)/AM48,(AF174+AP35*D19)/AN48,(AF175+AP35*D19)/AO48)*AP48","v":406.4},419.20000000000005,null,"france 2 ",{"$f":"MIN((S171+AQ35*D19)/AK49,(S172+AQ35*D19)/AL49,(S173+AQ35*D19)/AM49,(S174+AQ35*D19)/AN49,(S175+AQ35*D19)/AO49)*AP49","v":349.33333333333331},{"$f":"MIN((T171+AQ35*D19)/AK49,(T172+AQ35*D19)/AL49,(T173+AQ35*D19)/AM49,(T174+AQ35*D19)/AN49,(T175+AQ35*D19)/AO49)*AP49","v":330.66666666666669},{"$f":"MIN((U171+AQ35*D19)/AK49,(U172+AQ35*D19)/AL49,(U173+AQ35*D19)/AM49,(U174+AQ35*D19)/AN49,(U175+AQ35*D19)/AO49)*AP49","v":296},{"$f":"MIN((V171+AQ35*D19)/AK49,(V172+AQ35*D19)/AL49,(V173+AQ35*D19)/AM49,(V174+AQ35*D19)/AN49,(V175+AQ35*D19)/AO49)*AP49","v":326},{"$f":"MIN((W171+AQ35*D19)/AK49,(W172+AQ35*D19)/AL49,(W173+AQ35*D19)/AM49,(W174+AQ35*D19)/AN49,(W175+AQ35*D19)/AO49)*AP49","v":296},{"$f":"MIN((X171+AQ35*D19)/AK49,(X172+AQ35*D19)/AL49,(X173+AQ35*D19)/AM49,(X174+AQ35*D19)/AN49,(X175+AQ35*D19)/AO49)*AP49","v":333.33333333333337},{"$f":"MIN((Y171+AQ35*D19)/AK49,(Y172+AQ35*D19)/AL49,(Y173+AQ35*D19)/AM49,(Y174+AQ35*D19)/AN49,(Y175+AQ35*D19)/AO49)*AP49","v":336.66666666666669},{"$f":"MIN((Z171+AQ35*D19)/AK49,(Z172+AQ35*D19)/AL49,(Z173+AQ35*D19)/AM49,(Z174+AQ35*D19)/AN49,(Z175+AQ35*D19)/AO49)*AP49","v":296},{"$f":"MIN((AA171+AQ35*D19)/AK49,(AA172+AQ35*D19)/AL49,(AA173+AQ35*D19)/AM49,(AA174+AQ35*D19)/AN49,(AA175+AQ35*D19)/AO49)*AP49","v":336.66666666666669},{"$f":"MIN((AB171+AQ35*D19)/AK49,(AB172+AQ35*D19)/AL49,(AB173+AQ35*D19)/AM49,(AB174+AQ35*D19)/AN49,(AB175+AQ35*D19)/AO49)*AP49","v":338.66666666666669},{"$f":"MIN((AC171+AQ35*D19)/AK49,(AC172+AQ35*D19)/AL49,(AC173+AQ35*D19)/AM49,(AC174+AQ35*D19)/AN49,(AC175+AQ35*D19)/AO49)*AP49","v":341.33333333333337},{"$f":"MIN((AD171+AQ35*D19)/AK49,(AD172+AQ35*D19)/AL49,(AD173+AQ35*D19)/AM49,(AD174+AQ35*D19)/AN49,(AD175+AQ35*D19)/AO49)*AP49","v":296},{"$f":"MIN((AE171+AQ35*D19)/AK49,(AE172+AQ35*D19)/AL49,(AE173+AQ35*D19)/AM49,(AE174+AQ35*D19)/AN49,(AE175+AQ35*D19)/AO49)*AP49","v":341.33333333333337},{"$f":"MIN((AF171+AQ35*D19)/AK49,(AF172+AQ35*D19)/AL49,(AF173+AQ35*D19)/AM49,(AF174+AQ35*D19)/AN49,(AF175+AQ35*D19)/AO49)*AP49","v":338.66666666666669},349.33333333333331]
[null,null,null,null,null,null,null,null,null,null,null,null,null,null,null,null,null,{"$f":"L24+AH43+D15+D17+D21+D19*AG21","v":388},{"$f":"R154+Q14","v":444},{"$f":"R154+R14","v":440},{"$f":"R154+S14","v":388},{"$f":"R154+T14","v":433},{"$f":"R154+U14","v":388},{"$f":"R154+V14","v":444},{"$f":"R154+W14","v":441},{"$f":"R154+X14","v":388},{"$f":"R154+Y14","v":441},{"$f":"R154+Z14","v":436},{"$f":"R154+AA14","v":437},{"$f":"R154+AB14","v":388},{"$f":"R154+AC14","v":448},{"$f":"R154+AD14","v":432},null,null,null,"italie 7 ",{"$f":"MIN((S178+$AP$35*$D$19)/$AK$48,(S179+$AP$35*$D$19)/$AL$48,(S180+$AP$35*$D$19)/$AM$48,(S181+$AP$35*$D$19)/$AN$48,(S182+$AP$35*$D$19)/$AO$48)*$AP$48","v":455.19999999999993},{"$f":"MIN((T178+AP35*D19)/AK48,(T179+AP35*D19)/AL48,(T180+AP35*D19)/AM48,(T181+AP35*D19)/AN48,(T182+AP35*D19)/AO48)*AP48","v":490.4},{"$f":"MIN((U178+AP35*D19)/AK48,(U179+AP35*D19)/AL48,(U180+AP35*D19)/AM48,(U181+AP35*D19)/AN48,(U182+AP35*D19)/AO48)*AP48","v":435.20000000000005},{"$f":"MIN((V178+AP35*D19)/AK48,(V179+AP35*D19)/AL48,(V180+AP35*D19)/AM48,(V181+AP35*D19)/AN48,(V182+AP35*D19)/AO48)*AP48","v":486.4},{"$f":"MIN((W178+AP35*D19)/AK48,(W179+AP35*D19)/AL48,(W180+AP35*D19)/AM48,(W181+AP35*D19)/AN48,(W182+AP35*D19)/AO48)*AP48","v":435.20000000000005},{"$f":"MIN((X178+AP35*D19)/AK48,(X179+AP35*D19)/AL48,(X180+AP35*D19)/AM48,(X181+AP35*D19)/AN48,(X182+AP35*D19)/AO48)*AP48","v":480},{"$f":"MIN((Y178+AP35*D19)/AK48,(Y179+AP35*D19)/AL48,(Y180+AP35*D19)/AM48,(Y181+AP35*D19)/AN48,(Y182+AP35*D19)/AO48)*AP48","v":484},{"$f":"MIN((Z178+AP35*D19)/AK48,(Z179+AP35*D19)/AL48,(Z180+AP35*D19)/AM48,(Z181+AP35*D19)/AN48,(Z182+AP35*D19)/AO48)*AP48","v":435.20000000000005},{"$f":"MIN((AA178+AP35*D19)/AK48,(AA179+AP35*D19)/AL48,(AA180+AP35*D19)/AM48,(AA181+AP35*D19)/AN48,(AA182+AP35*D19)/AO48)*AP48","v":484},{"$f":"MIN((AB178+AP35*D19)/AK48,(AB179+AP35*D19)/AL48,(AB180+AP35*D19)/AM48,(AB181+AP35*D19)/AN48,(AB182+AP35*D19)/AO48)*AP48","v":486.4},{"$f":"MIN((AC178+AP35*D19)/AK48,(AC179+AP35*D19)/AL48,(AC180+AP35*D19)/AM48,(AC181+AP35*D19)/AN48,(AC182+AP35*D19)/AO48)*AP48","v":480},{"$f":"MIN((AD178+AP35*D19)/AK48,(AD179+AP35*D19)/AL48,(AD180+AP35*D19)/AM48,(AD181+AP35*D19)/AN48,(AD182+AP35*D19)/AO48)*AP48","v":435.20000000000005},{"$f":"MIN((AE178+AP35*D19)/AK48,(AE179+AP35*D19)/AL48,(AE180+AP35*D19)/AM48,(AE181+AP35*D19)/AN48,(AE182+AP35*D19)/AO48)*AP48","v":483.2},{"$f":"MIN((AF178+AP35*D19)/AK48,(AF179+AP35*D19)/AL48,(AF180+AP35*D19)/AM48,(AF181+AP35*D19)/AN48,(AF182+AP35*D19)/AO48)*AP48","v":486.4},490.4,null,"italie 7 ",{"$f":"MIN((S178+AQ35*D19)/AK49,(S179+AQ35*D19)/AL49,(S180+AQ35*D19)/AM49,(S181+AQ35*D19)/AN49,(S182+AQ35*D19)/AO49)*AP49","v":379.33333333333337},{"$f":"MIN((T178+AQ35*D19)/AK49,(T179+AQ35*D19)/AL49,(T180+AQ35*D19)/AM49,(T181+AQ35*D19)/AN49,(T182+AQ35*D19)/AO49)*AP49","v":408.66666666666669},{"$f":"MIN((U178+AQ35*D19)/AK49,(U179+AQ35*D19)/AL49,(U180+AQ35*D19)/AM49,(U181+AQ35*D19)/AN49,(U182+AQ35*D19)/AO49)*AP49","v":362.66666666666663},{"$f":"MIN((V178+AQ35*D19)/AK49,(V179+AQ35*D19)/AL49,(V180+AQ35*D19)/AM49,(V181+AQ35*D19)/AN49,(V182+AQ35*D19)/AO49)*AP49","v":405.33333333333337},{"$f":"MIN((W178+AQ35*D19)/AK49,(W179+AQ35*D19)/AL49,(W180+AQ35*D19)/AM49,(W181+AQ35*D19)/AN49,(W182+AQ35*D19)/AO49)*AP49","v":362.66666666666663},{"$f":"MIN((X178+AQ35*D19)/AK49,(X179+AQ35*D19)/AL49,(X180+AQ35*D19)/AM49,(X181+AQ35*D19)/AN49,(X182+AQ35*D19)/AO49)*AP49","v":400},{"$f":"MIN((Y178+AQ35*D19)/AK49,(Y179+AQ35*D19)/AL49,(Y180+AQ35*D19)/AM49,(Y181+AQ35*D19)/AN49,(Y182+AQ35*D19)/AO49)*AP49","v":403.33333333333331},{"$f":"MIN((Z178+AQ35*D19)/AK49,(Z179+AQ35*D19)/AL49,(Z180+AQ35*D19)/AM49,(Z181+AQ35*D19)/AN49,(Z182+AQ35*D19)/AO49)*AP49","v":362.66666666666663},{"$f":"MIN((AA178+AQ35*D19)/AK49,(AA179+AQ35*D19)/AL49,(AA180+AQ35*D19)/AM49,(AA181+AQ35*D19)/AN49,(AA182+AQ35*D19)/AO49)*AP49","v":403.33333333333331},{"$f":"MIN((AB178+AQ35*D19)/AK49,(AB179+AQ35*D19)/AL49,(AB180+AQ35*D19)/AM49,(AB181+AQ35*D19)/AN49,(AB182+AQ35*D19)/AO49)*AP49","v":405.33333333333337},{"$f":"MIN((AC178+AQ35*D19)/AK49,(AC179+AQ35*D19)/AL49,(AC180+AQ35*D19)/AM49,(AC181+AQ35*D19)/AN49,(AC182+AQ35*D19)/AO49)*AP49","v":400},{"$f":"MIN((AD178+AQ35*D19)/AK49,(AD179+AQ35*D19)/AL49,(AD180+AQ35*D19)/AM49,(AD181+AQ35*D19)/AN49,(AD182+AQ35*D19)/AO49)*AP49","v":362.66666666666663},{"$f":"MIN((AE178+AQ35*D19)/AK49,(AE179+AQ35*D19)/AL49,(AE180+AQ35*D19)/AM49,(AE181+AQ35*D19)/AN49,(AE182+AQ35*D19)/AO49)*AP49","v":402.66666666666663},{"$f":"MIN((AF178+AQ35*D19)/AK49,(AF179+AQ35*D19)/AL49,(AF180+AQ35*D19)/AM49,(AF181+AQ35*D19)/AN49,(AF182+AQ35*D19)/AO49)*AP49","v":405.33333333333337},408.66666666666669]
[null,null,null,null,null,null,null,null,null,null,null,null,null,null,null,null,null,null,null,null,null,null,null,null,null,null,null,null,null,null,null,null,null,null,null,"japon 5 ",{"$f":"MIN((S185+$AP$35*$D$19)/$AK$48,(S186+$AP$35*$D$19)/$AL$48,(S187+$AP$35*$D$19)/$AM$48,(S188+$AP$35*$D$19)/$AN$48,(S189+$AP$35*$D$19)/$AO$48)*$AP$48","v":372},407.2,352,403.2,352,396.8,400.8,352,400.8,403.2,396.8,352,400,403.2,407.2,null,"japon 5 ",{"$f":"MIN((S185+$AQ$35*$D$19)/$AK$49,(S186+$AQ$35*$D$19)/$AL$49,(S187+$AQ$35*$D$19)/$AM$49,(S188+$AQ$35*$D$19)/$AN$49,(S189+$AQ$35*$D$19)/$AO$49)*$AP$49","v":310},339.33333333333337,293.33333333333331,336,293.33333333333331,330.66666666666669,334,293.33333333333331,334,336,330.66666666666669,293.33333333333331,333.33333333333337,336,339.33333333333337]
[null,null,null,null,null,null,null,null,null,null,null,null,null,null,null,null,null,{"$f":"G25","v":"corée du sud 3 "},{"$f":"S149","v":"kit 1"},{"$f":"T149","v":"kit 2/3"},0,"kit 4",0,"kit 5","kit 6/7",0,0,"kit 8","kit 9",0,{"$f":"AE149","v":"kit 10"},{"$f":"AF149","v":"kit 11"},null,null,null,"nigeria 4 ",{"$f":"MIN((S192+$AP$35*$D$19)/$AK$48,(S193+$AP$35*$D$19)/$AL$48,(S194+$AP$35*$D$19)/$AM$48,(S195+$AP$35*$D$19)/$AN$48,(S196+$AP$35*$D$19)/$AO$48)*$AP$48","v":353.6},331.2,289.59999999999997,325.59999999999997,289.59999999999997,334.4,338.4,289.59999999999997,338.4,340.8,344,289.59999999999997,344,340.8,353.6,null,"nigeria 4 ",{"$f":"MIN((S192+$AQ$35*$D$19)/$AK$49,(S193+$AQ$35*$D$19)/$AL$49,(S194+$AQ$35*$D$19)/$AM$49,(S195+$AQ$35*$D$19)/$AN$49,(S196+$AQ$35*$D$19)/$AO$49)*$AP$49","v":294.66666666666669},276,241.33333333333334,271.33333333333331,241.33333333333334,278.66666666666669,282,241.33333333333334,282,284,286.66666666666669,241.33333333333334,286.66666666666669,284,294.66666666666669]
[null,null,null,null,null,null,null,null,null,null,null,null,null,null,null,null,null,{"$f":"H25+AH39+D16+D17+D21+D19*AG22","v":569},{"$f":"R157+Q10","v":610},{"$f":"R157+R10","v":638},{"$f":"R157+S10","v":569},{"$f":"R157+T10","v":642},{"$f":"R157+U10","v":569},{"$f":"R157+V10","v":639},{"$f":"R157+W10","v":630},{"$f":"R157+X10","v":569},{"$f":"R157+Y10","v":630},{"$f":"R157+Z10","v":625},{"$f":"R157+AA10","v":630},{"$f":"R157+AB10","v":569},{"$f":"R157+AC10","v":615},{"$f":"R157+AD10","v":620},null,null,null,"slovaquie 7 ",{"$f":"MIN((S199+$AP$35*$D$19)/$AK$48,(S200+$AP$35*$D$19)/$AL$48,(S201+$AP$35*$D$19)/$AM$48,(S202+$AP$35*$D$19)/$AN$48,(S203+$AP$35*$D$19)/$AO$48)*$AP$48","v":384},413.6,364,415.2,364,408.8,412.8,364,412.8,415.2,408.8,364,408,415.2,415.2,null,"slovaquie 7 ",{"$f":"MIN((S199+$AQ$35*$D$19)/$AK$49,(S200+$AQ$35*$D$19)/$AL$49,(S201+$AQ$35*$D$19)/$AM$49,(S202+$AQ$35*$D$19)/$AN$49,(S203+$AQ$35*$D$19)/$AO$49)*$AP$49","v":320},344.66666666666669,303.33333333333331,346,303.33333333333331,340.66666666666669,344,303.33333333333331,344,346,340.66666666666669,303.33333333333331,340,346,346]
[null,null,null,null,null,null,null,null,null,null,null,null,null,null,null,null,null,{"$f":"I25+AH40+D15+D17+D21+D19*AG22","v":425},{"$f":"R158+Q11","v":505},{"$f":"R158+R11","v":477},{"$f":"R158+S11","v":425},{"$f":"R158+T11","v":470},{"$f":"R158+U11","v":425},{"$f":"R158+V11","v":481},{"$f":"R158+W11","v":486},{"$f":"R158+X11","v":425},{"$f":"R158+Y11","v":486},{"$f":"R158+Z11","v":489},{"$f":"R158+AA11","v":493},{"$f":"R158+AB11","v":425},{"$f":"R158+AC11","v":493},{"$f":"R158+AD11","v":489},null,null,null,"slovaquie 7 bis ",{"$f":"MIN((S206+$AP$35*$D$19)/$AK$48,(S207+$AP$35*$D$19)/$AL$48,(S208+$AP$35*$D$19)/$AM$48,(S209+$AP$35*$D$19)/$AN$48,(S210+$AP$35*$D$19)/$AO$48)*$AP$48","v":467.2},482.4,430.99999999999994,476,430.99999999999994,479.2,483.2,430.99999999999994,483.2,479,480,430.99999999999994,476.79999999999995,475,483.2,null,{"$f":"AJ212","v":"slovaquie 7 bis "},{"$f":"MIN((S206+$AQ$35*$D$19)/$AK$49,(S207+$AQ$35*$D$19)/$AL$49,(S208+$AQ$35*$D$19)/$AM$49,(S209+$AQ$35*$D$19)/$AN$49,(S210+$AQ$35*$D$19)/$AO$49)*$AP$49","v":389.33333333333337},401.99999999999994,362,406.66666666666663,362,399.33333333333331,402.66666666666663,362,402.66666666666663,404.66666666666669,407.33333333333331,362,397.33333333333331,409.33333333333337,409.33333333333337]
[null,null,null,null,null,null,null,null,null,null,null,null,null,null,null,null,null,{"$f":"J25+AH41+D15+D17+D21+D19*AG22","v":475},{"$f":"R159+Q12","v":516},{"$f":"R159+R12","v":535},{"$f":"R159+S12","v":475},{"$f":"R159+T12","v":548},{"$f":"R159+U12","v":475},{"$f":"R159+V12","v":531},{"$f":"R159+W12","v":536},{"$f":"R159+X12","v":475},{"$f":"R159+Y12","v":536},{"$f":"R159+Z12","v":539},{"$f":"R159+AA12","v":543},{"$f":"R159+AB12","v":475},{"$f":"R159+AC12","v":528},{"$f":"R159+AD12","v":546},null,null,null,0,{"$f":"MIN((S213+$AP$35*$D$19)/$AK$48,(S214+$AP$35*$D$19)/$AL$48,(S215+$AP$35*$D$19)/$AM$48,(S216+$AP$35*$D$19)/$AN$48,(S217+$AP$35*$D$19)/$AO$48)*$AP$48","v":116.8},148.80000000000001,96.8,144.79999999999998,96.8,141.6,145.6,96.8,145.6,148,141.6,96.8,143.19999999999999,148,148.80000000000001,null,0,{"$f":"MIN((S213+$AQ$35*$D$19)/$AK$49,(S214+$AQ$35*$D$19)/$AL$49,(S215+$AQ$35*$D$19)/$AM$49,(S216+$AQ$35*$D$19)/$AN$49,(S217+$AQ$35*$D$19)/$AO$49)*$AP$49","v":97.333333333333343},124,80.666666666666657,120.66666666666667,80.666666666666657,118,121.33333333333334,80.666666666666657,121.33333333333334,123.33333333333334,118,80.666666666666657,119.33333333333334,123.33333333333334,124]
[null,null,null,null,null,null,null,null,null,null,null,null,null,null,null,null,null,{"$f":"K25+AH42+D16+D17+D21+D19*AG22","v":550},{"$f":"R160+Q13","v":575},{"$f":"R160+R13","v":619},{"$f":"R160+S13","v":550},{"$f":"R160+T13","v":614},{"$f":"R160+U13","v":550},{"$f":"R160+V13","v":606},{"$f":"R160+W13","v":611},{"$f":"R160+X13","v":550},{"$f":"R160+Y13","v":611},{"$f":"R160+Z13","v":614},{"$f":"R160+AA13","v":606},{"$f":"R160+AB13","v":550},{"$f":"R160+AC13","v":610},{"$f":"R160+AD13","v":614},null,null,null,0,{"$f":"MIN((S220+$AP$35*$D$19)/$AK$48,(S221+$AP$35*$D$19)/$AL$48,(S222+$AP$35*$D$19)/$AM$48,(S223+$AP$35*$D$19)/$AN$48,(S224+$AP$35*$D$19)/$AO$48)*$AP$48","v":116.8},148.80000000000001,96.8,144.79999999999998,96.8,141.6,145.6,96.8,145.6,148,141.6,96.8,143.19999999999999,148,148.80000000000001,null,0,{"$f":"MIN((S220+$AQ$35*$D$19)/$AK$49,(S221+$AQ$35*$D$19)/$AL$49,(S222+$AQ$35*$D$19)/$AM$49,(S223+$AQ$35*$D$19)/$AN$49,(S224+$AQ$35*$D$19)/$AO$49)*$AP$49","v":97.333333333333343},124,80.666666666666657,120.66666666666667,80.666666666666657,118,121.33333333333334,80.666666666666657,121.33333333333334,123.33333333333334,118,80.666666666666657,119.33333333333334,123.33333333333334,124]
[null,null,null,null,null,null,null,null,null,null,null,null,null,null,null,null,null,{"$f":"L25+AH43+D15+D17+D21+D19*AG22","v":396},{"$f":"R161+Q14","v":452},{"$f":"R161+R14","v":448},{"$f":"R161+S14","v":396},{"$f":"R161+T14","v":441},{"$f":"R161+U14","v":396},{"$f":"R161+V14","v":452},{"$f":"R161+W14","v":449},{"$f":"R161+X14","v":396},{"$f":"R161+Y14","v":449},{"$f":"R161+Z14","v":444},{"$f":"R161+AA14","v":445},{"$f":"R161+AB14","v":396},{"$f":"R161+AC14","v":456},{"$f":"R161+AD14","v":440},null,null,null,0,{"$f":"MIN((S227+$AP$35*$D$19)/$AK$48,(S228+$AP$35*$D$19)/$AL$48,(S229+$AP$35*$D$19)/$AM$48,(S230+$AP$35*$D$19)/$AN$48,(S231+$AP$35*$D$19)/$AO$48)*$AP$48","v":116.8},148.80000000000001,96.8,144.79999999999998,96.8,141.6,145.6,96.8,145.6,148,141.6,96.8,143.19999999999999,148,148.80000000000001,null,0,{"$f":"MIN((S227+$AQ$35*$D$19)/$AK$49,(S228+$AQ$35*$D$19)/$AL$49,(S229+$AQ$35*$D$19)/$AM$49,(S230+$AQ$35*$D$19)/$AN$49,(S231+$AQ$35*$D$19)/$AO$49)*$AP$49","v":97.333333333333343},124,80.666666666666657,120.66666666666667,80.666666666666657,118,121.33333333333334,80.666666666666657,121.33333333333334,123.33333333333334,118,80.666666666666657,119.33333333333334,123.33333333333334,124]
[]
[null,null,null,null,null,null,null,null,null,null,null,null,null,null,null,null,null,{"$f":"G26","v":"france 11 "},{"$f":"S156","v":"kit 1"},{"$f":"T156","v":"kit 2/3"},0,"kit 4",0,"kit 5","kit 6/7",0,0,"kit 8","kit 9",0,{"$f":"AE156","v":"kit 10"},{"$f":"AF156","v":"kit 11"},null,null,null,9,{"$f":"Q9","v":"kit 1"},"kit 2/3",0,"kit 4",0,"kit 5","kit 6/7",0,0,"kit 8","kit 9",0,"kit 10","kit 11","MAX",null,10,{"$f":"Q9","v":"kit 1"},"kit 2/3",0,"kit 4",0,"kit 5","kit 6/7",0,0,"kit 8","kit 9",0,"kit 10","kit 11","MAX"]
[null,null,null,null,null,null,null,null,null,null,null,null,null,null,null,null,null,{"$f":"H26+AH39+D16+D17+D21+D19*AG23","v":498},{"$f":"R164+Q10","v":539},{"$f":"R164+R10","v":567},{"$f":"R164+S10","v":498},{"$f":"R164+T10","v":571},{"$f":"R164+U10","v":498},{"$f":"R164+V10","v":568},{"$f":"R164+W10","v":559},{"$f":"R164+X10","v":498},{"$f":"R164+Y10","v":559},{"$f":"R164+Z10","v":554},{"$f":"R164+AA10","v":559},{"$f":"R164+AB10","v":498},{"$f":"R164+AC10","v":544},{"$f":"R164+AD10","v":549},null,null,null,{"$f":"AJ191","v":"espagne 9 "},{"$f":"MIN((S59+AR35*D19)/AK50,(S60+AR35*D19)/AL50,(S61+AR35*D19)/AM50,(S62+AR35*D19)/AN50,(S63+AR35*D19)/AO50)*AP50","v":335.42857142857139},{"$f":"MIN((T59+AR35*D19)/AK50,(T60+AR35*D19)/AL50,(T61+AR35*D19)/AM50,(T62+AR35*D19)/AN50,(T63+AR35*D19)/AO50)*AP50","v":351.42857142857144},{"$f":"MIN((U59+AR35*D19)/AK50,(U60+AR35*D19)/AL50,(U61+AR35*D19)/AM50,(U62+AR35*D19)/AN50,(U63+AR35*D19)/AO50)*AP50","v":312},{"$f":"MIN((V59+AR35*D19)/AK50,(V60+AR35*D19)/AL50,(V61+AR35*D19)/AM50,(V62+AR35*D19)/AN50,(V63+AR35*D19)/AO50)*AP50","v":349.5},{"$f":"MIN((W59+AR35*D19)/AK50,(W60+AR35*D19)/AL50,(W61+AR35*D19)/AM50,(W62+AR35*D19)/AN50,(W63+AR35*D19)/AO50)*AP50","v":312},{"$f":"MIN((X59+AR35*D19)/AK50,(X60+AR35*D19)/AL50,(X61+AR35*D19)/AM50,(X62+AR35*D19)/AN50,(X63+AR35*D19)/AO50)*AP50","v":352},{"$f":"MIN((Y59+AR35*D19)/AK50,(Y60+AR35*D19)/AL50,(Y61+AR35*D19)/AM50,(Y62+AR35*D19)/AN50,(Y63+AR35*D19)/AO50)*AP50","v":346.85714285714283},{"$f":"MIN((Z59+AR35*D19)/AK50,(Z60+AR35*D19)/AL50,(Z61+AR35*D19)/AM50,(Z62+AR35*D19)/AN50,(Z63+AR35*D19)/AO50)*AP50","v":312},{"$f":"MIN((AA59+AR35*D19)/AK50,(AA60+AR35*D19)/AL50,(AA61+AR35*D19)/AM50,(AA62+AR35*D19)/AN50,(AA63+AR35*D19)/AO50)*AP50","v":346.85714285714283},{"$f":"MIN((AB59+AR35*D19)/AK50,(AB60+AR35*D19)/AL50,(AB61+AR35*D19)/AM50,(AB62+AR35*D19)/AN50,(AB63+AR35*D19)/AO50)*AP50","v":344},{"$f":"MIN((AC59+AR35*D19)/AK50,(AC60+AR35*D19)/AL50,(AC61+AR35*D19)/AM50,(AC62+AR35*D19)/AN50,(AC63+AR35*D19)/AO50)*AP50","v":346.85714285714283},{"$f":"MIN((AD59+AR35*D19)/AK50,(AD60+AR35*D19)/AL50,(AD61+AR35*D19)/AM50,(AD62+AR35*D19)/AN50,(AD63+AR35*D19)/AO50)*AP50","v":312},{"$f":"MIN((AE59+AR35*D19)/AK50,(AE60+AR35*D19)/AL50,(AE61+AR35*D19)/AM50,(AE62+AR35*D19)/AN50,(AE63+AR35*D19)/AO50)*AP50","v":338.28571428571428},{"$f":"MIN((AF59+AR35*D19)/AK50,(AF60+AR35*D19)/AL50,(AF61+AR35*D19)/AM50,(AF62+AR35*D19)/AN50,(AF63+AR35*D19)/AO50)*AP50","v":341.14285714285717},{"$f":"MAX(AK164:AX164)","v":352},null,{"$f":"AJ191","v":"espagne 9 "},{"$f":"MIN((S59+AS35*D19)/AK51,(S60+AS35*D19)/AL51,(S61+AS35*D19)/AM51,(S62+AS35*D19)/AN51,(S63+AS35*D19)/AO51)*AP51","v":310.66666666666663},{"$f":"MIN((T59+AS35*D19)/AK51,(T60+AS35*D19)/AL51,(T61+AS35*D19)/AM51,(T62+AS35*D19)/AN51,(T63+AS35*D19)/AO51)*AP51","v":308},{"$f":"MIN((U59+AS35*D19)/AK51,(U60+AS35*D19)/AL51,(U61+AS35*D19)/AM51,(U62+AS35*D19)/AN51,(U63+AS35*D19)/AO51)*AP51","v":273.33333333333331},{"$f":"MIN((V59+AS35*D19)/AK51,(V60+AS35*D19)/AL51,(V61+AS35*D19)/AM51,(V62+AS35*D19)/AN51,(V63+AS35*D19)/AO51)*AP51","v":303.33333333333331},{"$f":"MIN((W59+AS35*D19)/AK51,(W60+AS35*D19)/AL51,(W61+AS35*D19)/AM51,(W62+AS35*D19)/AN51,(W63+AS35*D19)/AO51)*AP51","v":273.33333333333331},{"$f":"MIN((X59+AS35*D19)/AK51,(X60+AS35*D19)/AL51,(X61+AS35*D19)/AM51,(X62+AS35*D19)/AN51,(X63+AS35*D19)/AO51)*AP51","v":310.66666666666663},{"$f":"MIN((Y59+AS35*D19)/AK51,(Y60+AS35*D19)/AL51,(Y61+AS35*D19)/AM51,(Y62+AS35*D19)/AN51,(Y63+AS35*D19)/AO51)*AP51","v":308.66666666666663},{"$f":"MIN((Z59+AS35*D19)/AK51,(Z60+AS35*D19)/AL51,(Z61+AS35*D19)/AM51,(Z62+AS35*D19)/AN51,(Z63+AS35*D19)/AO51)*AP51","v":273.33333333333331},{"$f":"MIN((AA59+AS35*D19)/AK51,(AA60+AS35*D19)/AL51,(AA61+AS35*D19)/AM51,(AA62+AS35*D19)/AN51,(AA63+AS35*D19)/AO51)*AP51","v":308.66666666666663},{"$f":"MIN((AB59+AS35*D19)/AK51,(AB60+AS35*D19)/AL51,(AB61+AS35*D19)/AM51,(AB62+AS35*D19)/AN51,(AB63+AS35*D19)/AO51)*AP51","v":305.33333333333331},{"$f":"MIN((AC59+AS35*D19)/AK51,(AC60+AS35*D19)/AL51,(AC61+AS35*D19)/AM51,(AC62+AS35*D19)/AN51,(AC63+AS35*D19)/AO51)*AP51","v":306},{"$f":"MIN((AD59+AS35*D19)/AK51,(AD60+AS35*D19)/AL51,(AD61+AS35*D19)/AM51,(AD62+AS35*D19)/AN51,(AD63+AS35*D19)/AO51)*AP51","v":273.33333333333331},{"$f":"MIN((AE59+AS35*D19)/AK51,(AE60+AS35*D19)/AL51,(AE61+AS35*D19)/AM51,(AE62+AS35*D19)/AN51,(AE63+AS35*D19)/AO51)*AP51","v":313.33333333333331},{"$f":"MIN((AF59+AS35*D19)/AK51,(AF60+AS35*D19)/AL51,(AF61+AS35*D19)/AM51,(AF62+AS35*D19)/AN51,(AF63+AS35*D19)/AO51)*AP51","v":302.66666666666669},{"$f":"MAX(BB164:BO164)","v":313.33333333333331}]
[null,null,null,null,null,null,null,null,null,null,null,null,null,null,null,null,null,{"$f":"I26+AH40+D15+D17+D21+D19*AG23","v":553},{"$f":"R165+Q11","v":633},{"$f":"R165+R11","v":605},{"$f":"R165+S11","v":553},{"$f":"R165+T11","v":598},{"$f":"R165+U11","v":553},{"$f":"R165+V11","v":609},{"$f":"R165+W11","v":614},{"$f":"R165+X11","v":553},{"$f":"R165+Y11","v":614},{"$f":"R165+Z11","v":617},{"$f":"R165+AA11","v":621},{"$f":"R165+AB11","v":553},{"$f":"R165+AC11","v":621},{"$f":"R165+AD11","v":617},null,null,null,2,{"$f":"MIN((S66+AR35*D19)/AK50,(S67+AR35*D19)/AL50,(S68+AR35*D19)/AM50,(S69+AR35*D19)/AN50,(S70+AR35*D19)/AO50)*AP50","v":327},{"$f":"MIN((T66+AR35*D19)/AK50,(T67+AR35*D19)/AL50,(T68+AR35*D19)/AM50,(T69+AR35*D19)/AN50,(T70+AR35*D19)/AO50)*AP50","v":313},{"$f":"MIN((U66+AR35*D19)/AK50,(U67+AR35*D19)/AL50,(U68+AR35*D19)/AM50,(U69+AR35*D19)/AN50,(U70+AR35*D19)/AO50)*AP50","v":287},{"$f":"MIN((V66+AR35*D19)/AK50,(V67+AR35*D19)/AL50,(V68+AR35*D19)/AM50,(V69+AR35*D19)/AN50,(V70+AR35*D19)/AO50)*AP50","v":309.5},{"$f":"MIN((W66+AR35*D19)/AK50,(W67+AR35*D19)/AL50,(W68+AR35*D19)/AM50,(W69+AR35*D19)/AN50,(W70+AR35*D19)/AO50)*AP50","v":287},{"$f":"MIN((X66+AR35*D19)/AK50,(X67+AR35*D19)/AL50,(X68+AR35*D19)/AM50,(X69+AR35*D19)/AN50,(X70+AR35*D19)/AO50)*AP50","v":315},{"$f":"MIN((Y66+AR35*D19)/AK50,(Y67+AR35*D19)/AL50,(Y68+AR35*D19)/AM50,(Y69+AR35*D19)/AN50,(Y70+AR35*D19)/AO50)*AP50","v":317.5},{"$f":"MIN((Z66+AR35*D19)/AK50,(Z67+AR35*D19)/AL50,(Z68+AR35*D19)/AM50,(Z69+AR35*D19)/AN50,(Z70+AR35*D19)/AO50)*AP50","v":287},{"$f":"MIN((AA66+AR35*D19)/AK50,(AA67+AR35*D19)/AL50,(AA68+AR35*D19)/AM50,(AA69+AR35*D19)/AN50,(AA70+AR35*D19)/AO50)*AP50","v":317.5},{"$f":"MIN((AB66+AR35*D19)/AK50,(AB67+AR35*D19)/AL50,(AB68+AR35*D19)/AM50,(AB69+AR35*D19)/AN50,(AB70+AR35*D19)/AO50)*AP50","v":319},{"$f":"MIN((AC66+AR35*D19)/AK50,(AC67+AR35*D19)/AL50,(AC68+AR35*D19)/AM50,(AC69+AR35*D19)/AN50,(AC70+AR35*D19)/AO50)*AP50","v":321},{"$f":"MIN((AD66+AR35*D19)/AK50,(AD67+AR35*D19)/AL50,(AD68+AR35*D19)/AM50,(AD69+AR35*D19)/AN50,(AD70+AR35*D19)/AO50)*AP50","v":287},{"$f":"MIN((AE66+AR35*D19)/AK50,(AE67+AR35*D19)/AL50,(AE68+AR35*D19)/AM50,(AE69+AR35*D19)/AN50,(AE70+AR35*D19)/AO50)*AP50","v":321},{"$f":"MIN((AF66+AR35*D19)/AK50,(AF67+AR35*D19)/AL50,(AF68+AR35*D19)/AM50,(AF69+AR35*D19)/AN50,(AF70+AR35*D19)/AO50)*AP50","v":319},327,null,2,{"$f":"MIN((S66+AS35*D19)/AK51,(S67+AS35*D19)/AL51,(S68+AS35*D19)/AM51,(S69+AS35*D19)/AN51,(S70+AS35*D19)/AO51)*AP51","v":344},{"$f":"MIN((T66+AS35*D19)/AK51,(T67+AS35*D19)/AL51,(T68+AS35*D19)/AM51,(T69+AS35*D19)/AN51,(T70+AS35*D19)/AO51)*AP51","v":341.33333333333337},{"$f":"MIN((U66+AS35*D19)/AK51,(U67+AS35*D19)/AL51,(U68+AS35*D19)/AM51,(U69+AS35*D19)/AN51,(U70+AS35*D19)/AO51)*AP51","v":306.66666666666669},{"$f":"MIN((V66+AS35*D19)/AK51,(V67+AS35*D19)/AL51,(V68+AS35*D19)/AM51,(V69+AS35*D19)/AN51,(V70+AS35*D19)/AO51)*AP51","v":336.66666666666669},{"$f":"MIN((W66+AS35*D19)/AK51,(W67+AS35*D19)/AL51,(W68+AS35*D19)/AM51,(W69+AS35*D19)/AN51,(W70+AS35*D19)/AO51)*AP51","v":306.66666666666669},{"$f":"MIN((X66+AS35*D19)/AK51,(X67+AS35*D19)/AL51,(X68+AS35*D19)/AM51,(X69+AS35*D19)/AN51,(X70+AS35*D19)/AO51)*AP51","v":344},{"$f":"MIN((Y66+AS35*D19)/AK51,(Y67+AS35*D19)/AL51,(Y68+AS35*D19)/AM51,(Y69+AS35*D19)/AN51,(Y70+AS35*D19)/AO51)*AP51","v":342},{"$f":"MIN((Z66+AS35*D19)/AK51,(Z67+AS35*D19)/AL51,(Z68+AS35*D19)/AM51,(Z69+AS35*D19)/AN51,(Z70+AS35*D19)/AO51)*AP51","v":306.66666666666669},{"$f":"MIN((AA66+AS35*D19)/AK51,(AA67+AS35*D19)/AL51,(AA68+AS35*D19)/AM51,(AA69+AS35*D19)/AN51,(AA70+AS35*D19)/AO51)*AP51","v":342},{"$f":"MIN((AB66+AS35*D19)/AK51,(AB67+AS35*D19)/AL51,(AB68+AS35*D19)/AM51,(AB69+AS35*D19)/AN51,(AB70+AS35*D19)/AO51)*AP51","v":338.66666666666669},{"$f":"MIN((AC66+AS35*D19)/AK51,(AC67+AS35*D19)/AL51,(AC68+AS35*D19)/AM51,(AC69+AS35*D19)/AN51,(AC70+AS35*D19)/AO51)*AP51","v":339.33333333333337},{"$f":"MIN((AD66+AS35*D19)/AK51,(AD67+AS35*D19)/AL51,(AD68+AS35*D19)/AM51,(AD69+AS35*D19)/AN51,(AD70+AS35*D19)/AO51)*AP51","v":306.66666666666669},{"$f":"MIN((AE66+AS35*D19)/AK51,(AE67+AS35*D19)/AL51,(AE68+AS35*D19)/AM51,(AE69+AS35*D19)/AN51,(AE70+AS35*D19)/AO51)*AP51","v":346.66666666666669},{"$f":"MIN((AF66+AS35*D19)/AK51,(AF67+AS35*D19)/AL51,(AF68+AS35*D19)/AM51,(AF69+AS35*D19)/AN51,(AF70+AS35*D19)/AO51)*AP51","v":336},346.66666666666669]
[null,null,null,null,null,null,null,null,null,null,null,null,null,null,null,null,null,{"$f":"J26+AH41+D15+D17+D21+D19*AG23","v":580},{"$f":"R166+Q12","v":621},{"$f":"R166+R12","v":640},{"$f":"R166+S12","v":580},{"$f":"R166+T12","v":653},{"$f":"R166+U12","v":580},{"$f":"R166+V12","v":636},{"$f":"R166+W12","v":641},{"$f":"R166+X12","v":580},{"$f":"R166+Y12","v":641},{"$f":"R166+Z12","v":644},{"$f":"R166+AA12","v":648},{"$f":"R166+AB12","v":580},{"$f":"R166+AC12","v":633},{"$f":"R166+AD12","v":651},null,null,null,3,{"$f":"MIN((S73+AR35*D19)/AK50,(S74+AR35*D19)/AL50,(S75+AR35*D19)/AM50,(S76+AR35*D19)/AN50,(S77+AR35*D19)/AO50)*AP50","v":257.5},{"$f":"MIN((T73+AR35*D19)/AK50,(T74+AR35*D19)/AL50,(T75+AR35*D19)/AM50,(T76+AR35*D19)/AN50,(T77+AR35*D19)/AO50)*AP50","v":243.5},{"$f":"MIN((U73+AR35*D19)/AK50,(U74+AR35*D19)/AL50,(U75+AR35*D19)/AM50,(U76+AR35*D19)/AN50,(U77+AR35*D19)/AO50)*AP50","v":217.49999999999997},{"$f":"MIN((V73+AR35*D19)/AK50,(V74+AR35*D19)/AL50,(V75+AR35*D19)/AM50,(V76+AR35*D19)/AN50,(V77+AR35*D19)/AO50)*AP50","v":240},{"$f":"MIN((W73+AR35*D19)/AK50,(W74+AR35*D19)/AL50,(W75+AR35*D19)/AM50,(W76+AR35*D19)/AN50,(W77+AR35*D19)/AO50)*AP50","v":217.49999999999997},{"$f":"MIN((X73+AR35*D19)/AK50,(X74+AR35*D19)/AL50,(X75+AR35*D19)/AM50,(X76+AR35*D19)/AN50,(X77+AR35*D19)/AO50)*AP50","v":245.5},{"$f":"MIN((Y73+AR35*D19)/AK50,(Y74+AR35*D19)/AL50,(Y75+AR35*D19)/AM50,(Y76+AR35*D19)/AN50,(Y77+AR35*D19)/AO50)*AP50","v":248},{"$f":"MIN((Z73+AR35*D19)/AK50,(Z74+AR35*D19)/AL50,(Z75+AR35*D19)/AM50,(Z76+AR35*D19)/AN50,(Z77+AR35*D19)/AO50)*AP50","v":217.49999999999997},{"$f":"MIN((AA73+AR35*D19)/AK50,(AA74+AR35*D19)/AL50,(AA75+AR35*D19)/AM50,(AA76+AR35*D19)/AN50,(AA77+AR35*D19)/AO50)*AP50","v":248},{"$f":"MIN((AB73+AR35*D19)/AK50,(AB74+AR35*D19)/AL50,(AB75+AR35*D19)/AM50,(AB76+AR35*D19)/AN50,(AB77+AR35*D19)/AO50)*AP50","v":249.5},{"$f":"MIN((AC73+AR35*D19)/AK50,(AC74+AR35*D19)/AL50,(AC75+AR35*D19)/AM50,(AC76+AR35*D19)/AN50,(AC77+AR35*D19)/AO50)*AP50","v":251.5},{"$f":"MIN((AD73+AR35*D19)/AK50,(AD74+AR35*D19)/AL50,(AD75+AR35*D19)/AM50,(AD76+AR35*D19)/AN50,(AD77+AR35*D19)/AO50)*AP50","v":217.49999999999997},{"$f":"MIN((AE73+AR35*D19)/AK50,(AE74+AR35*D19)/AL50,(AE75+AR35*D19)/AM50,(AE76+AR35*D19)/AN50,(AE77+AR35*D19)/AO50)*AP50","v":251.5},{"$f":"MIN((AF73+AR35*D19)/AK50,(AF74+AR35*D19)/AL50,(AF75+AR35*D19)/AM50,(AF76+AR35*D19)/AN50,(AF77+AR35*D19)/AO50)*AP50","v":249.5},257.5,null,3,{"$f":"MIN((S73+AS35*D19)/AK51,(S74+AS35*D19)/AL51,(S75+AS35*D19)/AM51,(S76+AS35*D19)/AN51,(S77+AS35*D19)/AO51)*AP51","v":294.28571428571433},{"$f":"MIN((T73+AS35*D19)/AK51,(T74+AS35*D19)/AL51,(T75+AS35*D19)/AM51,(T76+AS35*D19)/AN51,(T77+AS35*D19)/AO51)*AP51","v":278.28571428571428},{"$f":"MIN((U73+AS35*D19)/AK51,(U74+AS35*D19)/AL51,(U75+AS35*D19)/AM51,(U76+AS35*D19)/AN51,(U77+AS35*D19)/AO51)*AP51","v":248.57142857142858},{"$f":"MIN((V73+AS35*D19)/AK51,(V74+AS35*D19)/AL51,(V75+AS35*D19)/AM51,(V76+AS35*D19)/AN51,(V77+AS35*D19)/AO51)*AP51","v":274.28571428571428},{"$f":"MIN((W73+AS35*D19)/AK51,(W74+AS35*D19)/AL51,(W75+AS35*D19)/AM51,(W76+AS35*D19)/AN51,(W77+AS35*D19)/AO51)*AP51","v":248.57142857142858},{"$f":"MIN((X73+AS35*D19)/AK51,(X74+AS35*D19)/AL51,(X75+AS35*D19)/AM51,(X76+AS35*D19)/AN51,(X77+AS35*D19)/AO51)*AP51","v":280.57142857142856},{"$f":"MIN((Y73+AS35*D19)/AK51,(Y74+AS35*D19)/AL51,(Y75+AS35*D19)/AM51,(Y76+AS35*D19)/AN51,(Y77+AS35*D19)/AO51)*AP51","v":283.42857142857139},{"$f":"MIN((Z73+AS35*D19)/AK51,(Z74+AS35*D19)/AL51,(Z75+AS35*D19)/AM51,(Z76+AS35*D19)/AN51,(Z77+AS35*D19)/AO51)*AP51","v":248.57142857142858},{"$f":"MIN((AA73+AS35*D19)/AK51,(AA74+AS35*D19)/AL51,(AA75+AS35*D19)/AM51,(AA76+AS35*D19)/AN51,(AA77+AS35*D19)/AO51)*AP51","v":283.42857142857139},{"$f":"MIN((AB73+AS35*D19)/AK51,(AB74+AS35*D19)/AL51,(AB75+AS35*D19)/AM51,(AB76+AS35*D19)/AN51,(AB77+AS35*D19)/AO51)*AP51","v":285.14285714285717},{"$f":"MIN((AC73+AS35*D19)/AK51,(AC74+AS35*D19)/AL51,(AC75+AS35*D19)/AM51,(AC76+AS35*D19)/AN51,(AC77+AS35*D19)/AO51)*AP51","v":287.42857142857139},{"$f":"MIN((AD73+AS35*D19)/AK51,(AD74+AS35*D19)/AL51,(AD75+AS35*D19)/AM51,(AD76+AS35*D19)/AN51,(AD77+AS35*D19)/AO51)*AP51","v":248.57142857142858},{"$f":"MIN((AE73+AS35*D19)/AK51,(AE74+AS35*D19)/AL51,(AE75+AS35*D19)/AM51,(AE76+AS35*D19)/AN51,(AE77+AS35*D19)/AO51)*AP51","v":287.42857142857139},{"$f":"MIN((AF73+AS35*D19)/AK51,(AF74+AS35*D19)/AL51,(AF75+AS35*D19)/AM51,(AF76+AS35*D19)/AN51,(AF77+AS35*D19)/AO51)*AP51","v":285.14285714285717},294.28571428571433]
[null,null,null,null,null,null,null,null,null,null,null,null,null,null,null,null,null,{"$f":"K26+AH42+D16+D17+D21+D19*AG23","v":564},{"$f":"R167+Q13","v":589},{"$f":"R167+R13","v":633},{"$f":"R167+S13","v":564},{"$f":"R167+T13","v":628},{"$f":"R167+U13","v":564},{"$f":"R167+V13","v":620},{"$f":"R167+W13","v":625},{"$f":"R167+X13","v":564},{"$f":"R167+Y13","v":625},{"$f":"R167+Z13","v":628},{"$f":"R167+AA13","v":620},{"$f":"R167+AB13","v":564},{"$f":"R167+AC13","v":624},{"$f":"R167+AD13","v":628},null,null,null,"algerie 4 ",{"$f":"MIN((S80+AR35*D19)/AK50,(S81+AR35*D19)/AL50,(S82+AR35*D19)/AM50,(S83+AR35*D19)/AN50,(S84+AR35*D19)/AO50)*AP50","v":225},{"$f":"MIN((T80+AR35*D19)/AK50,(T81+AR35*D19)/AL50,(T82+AR35*D19)/AM50,(T83+AR35*D19)/AN50,(T84+AR35*D19)/AO50)*AP50","v":211},{"$f":"MIN((U80+AR35*D19)/AK50,(U81+AR35*D19)/AL50,(U82+AR35*D19)/AM50,(U83+AR35*D19)/AN50,(U84+AR35*D19)/AO50)*AP50","v":185},{"$f":"MIN((V80+AR35*D19)/AK50,(V81+AR35*D19)/AL50,(V82+AR35*D19)/AM50,(V83+AR35*D19)/AN50,(V84+AR35*D19)/AO50)*AP50","v":207.50000000000003},{"$f":"MIN((W80+AR35*D19)/AK50,(W81+AR35*D19)/AL50,(W82+AR35*D19)/AM50,(W83+AR35*D19)/AN50,(W84+AR35*D19)/AO50)*AP50","v":185},{"$f":"MIN((X80+AR35*D19)/AK50,(X81+AR35*D19)/AL50,(X82+AR35*D19)/AM50,(X83+AR35*D19)/AN50,(X84+AR35*D19)/AO50)*AP50","v":213},{"$f":"MIN((Y80+AR35*D19)/AK50,(Y81+AR35*D19)/AL50,(Y82+AR35*D19)/AM50,(Y83+AR35*D19)/AN50,(Y84+AR35*D19)/AO50)*AP50","v":215.49999999999997},{"$f":"MIN((Z80+AR35*D19)/AK50,(Z81+AR35*D19)/AL50,(Z82+AR35*D19)/AM50,(Z83+AR35*D19)/AN50,(Z84+AR35*D19)/AO50)*AP50","v":185},{"$f":"MIN((AA80+AR35*D19)/AK50,(AA81+AR35*D19)/AL50,(AA82+AR35*D19)/AM50,(AA83+AR35*D19)/AN50,(AA84+AR35*D19)/AO50)*AP50","v":215.49999999999997},{"$f":"MIN((AB80+AR35*D19)/AK50,(AB81+AR35*D19)/AL50,(AB82+AR35*D19)/AM50,(AB83+AR35*D19)/AN50,(AB84+AR35*D19)/AO50)*AP50","v":217},{"$f":"MIN((AC80+AR35*D19)/AK50,(AC81+AR35*D19)/AL50,(AC82+AR35*D19)/AM50,(AC83+AR35*D19)/AN50,(AC84+AR35*D19)/AO50)*AP50","v":219},{"$f":"MIN((AD80+AR35*D19)/AK50,(AD81+AR35*D19)/AL50,(AD82+AR35*D19)/AM50,(AD83+AR35*D19)/AN50,(AD84+AR35*D19)/AO50)*AP50","v":185},{"$f":"MIN((AE80+AR35*D19)/AK50,(AE81+AR35*D19)/AL50,(AE82+AR35*D19)/AM50,(AE83+AR35*D19)/AN50,(AE84+AR35*D19)/AO50)*AP50","v":219},{"$f":"MIN((AF80+AR35*D19)/AK50,(AF81+AR35*D19)/AL50,(AF82+AR35*D19)/AM50,(AF83+AR35*D19)/AN50,(AF84+AR35*D19)/AO50)*AP50","v":217},225,null,"algerie 4 ",{"$f":"MIN((S80+AS35*D19)/AK51,(S81+AS35*D19)/AL51,(S82+AS35*D19)/AM51,(S83+AS35*D19)/AN51,(S84+AS35*D19)/AO51)*AP51","v":257.14285714285717},{"$f":"MIN((T80+AS35*D19)/AK51,(T81+AS35*D19)/AL51,(T82+AS35*D19)/AM51,(T83+AS35*D19)/AN51,(T84+AS35*D19)/AO51)*AP51","v":241.14285714285714},{"$f":"MIN((U80+AS35*D19)/AK51,(U81+AS35*D19)/AL51,(U82+AS35*D19)/AM51,(U83+AS35*D19)/AN51,(U84+AS35*D19)/AO51)*AP51","v":211.42857142857144},{"$f":"MIN((V80+AS35*D19)/AK51,(V81+AS35*D19)/AL51,(V82+AS35*D19)/AM51,(V83+AS35*D19)/AN51,(V84+AS35*D19)/AO51)*AP51","v":237.14285714285714},{"$f":"MIN((W80+AS35*D19)/AK51,(W81+AS35*D19)/AL51,(W82+AS35*D19)/AM51,(W83+AS35*D19)/AN51,(W84+AS35*D19)/AO51)*AP51","v":211.42857142857144},{"$f":"MIN((X80+AS35*D19)/AK51,(X81+AS35*D19)/AL51,(X82+AS35*D19)/AM51,(X83+AS35*D19)/AN51,(X84+AS35*D19)/AO51)*AP51","v":243.42857142857142},{"$f":"MIN((Y80+AS35*D19)/AK51,(Y81+AS35*D19)/AL51,(Y82+AS35*D19)/AM51,(Y83+AS35*D19)/AN51,(Y84+AS35*D19)/AO51)*AP51","v":246.28571428571431},{"$f":"MIN((Z80+AS35*D19)/AK51,(Z81+AS35*D19)/AL51,(Z82+AS35*D19)/AM51,(Z83+AS35*D19)/AN51,(Z84+AS35*D19)/AO51)*AP51","v":211.42857142857144},{"$f":"MIN((AA80+AS35*D19)/AK51,(AA81+AS35*D19)/AL51,(AA82+AS35*D19)/AM51,(AA83+AS35*D19)/AN51,(AA84+AS35*D19)/AO51)*AP51","v":246.28571428571431},{"$f":"MIN((AB80+AS35*D19)/AK51,(AB81+AS35*D19)/AL51,(AB82+AS35*D19)/AM51,(AB83+AS35*D19)/AN51,(AB84+AS35*D19)/AO51)*AP51","v":248},{"$f":"MIN((AC80+AS35*D19)/AK51,(AC81+AS35*D19)/AL51,(AC82+AS35*D19)/AM51,(AC83+AS35*D19)/AN51,(AC84+AS35*D19)/AO51)*AP51","v":250.28571428571428},{"$f":"MIN((AD80+AS35*D19)/AK51,(AD81+AS35*D19)/AL51,(AD82+AS35*D19)/AM51,(AD83+AS35*D19)/AN51,(AD84+AS35*D19)/AO51)*AP51","v":211.42857142857144},{"$f":"MIN((AE80+AS35*D19)/AK51,(AE81+AS35*D19)/AL51,(AE82+AS35*D19)/AM51,(AE83+AS35*D19)/AN51,(AE84+AS35*D19)/AO51)*AP51","v":250.28571428571428},{"$f":"MIN((AF80+AS35*D19)/AK51,(AF81+AS35*D19)/AL51,(AF82+AS35*D19)/AM51,(AF83+AS35*D19)/AN51,(AF84+AS35*D19)/AO51)*AP51","v":248},257.14285714285717]
[null,null,null,null,null,null,null,null,null,null,null,null,null,null,null,null,null,{"$f":"L26+AH43+D15+D17+D21+D19*AG23","v":418},{"$f":"R168+Q14","v":474},{"$f":"R168+R14","v":470},{"$f":"R168+S14","v":418},{"$f":"R168+T14","v":463},{"$f":"R168+U14","v":418},{"$f":"R168+V14","v":474},{"$f":"R168+W14","v":471},{"$f":"R168+X14","v":418},{"$f":"R168+Y14","v":471},{"$f":"R168+Z14","v":466},{"$f":"R168+AA14","v":467},{"$f":"R168+AB14","v":418},{"$f":"R168+AC14","v":478},{"$f":"R168+AD14","v":462},null,null,null,"ghana 5 ",{"$f":"MIN((S87+AR35*D19)/AK50,(S88+AR35*D19)/AL50,(S89+AR35*D19)/AM50,(S90+AR35*D19)/AN50,(S91+AR35*D19)/AO50)*AP50","v":326},{"$f":"MIN((T87+AR35*D19)/AK50,(T88+AR35*D19)/AL50,(T89+AR35*D19)/AM50,(T90+AR35*D19)/AN50,(T91+AR35*D19)/AO50)*AP50","v":312},{"$f":"MIN((U87+AR35*D19)/AK50,(U88+AR35*D19)/AL50,(U89+AR35*D19)/AM50,(U90+AR35*D19)/AN50,(U91+AR35*D19)/AO50)*AP50","v":286},{"$f":"MIN((V87+AR35*D19)/AK50,(V88+AR35*D19)/AL50,(V89+AR35*D19)/AM50,(V90+AR35*D19)/AN50,(V91+AR35*D19)/AO50)*AP50","v":308.5},{"$f":"MIN((W87+AR35*D19)/AK50,(W88+AR35*D19)/AL50,(W89+AR35*D19)/AM50,(W90+AR35*D19)/AN50,(W91+AR35*D19)/AO50)*AP50","v":286},{"$f":"MIN((X87+AR35*D19)/AK50,(X88+AR35*D19)/AL50,(X89+AR35*D19)/AM50,(X90+AR35*D19)/AN50,(X91+AR35*D19)/AO50)*AP50","v":314},{"$f":"MIN((Y87+AR35*D19)/AK50,(Y88+AR35*D19)/AL50,(Y89+AR35*D19)/AM50,(Y90+AR35*D19)/AN50,(Y91+AR35*D19)/AO50)*AP50","v":316.5},{"$f":"MIN((Z87+AR35*D19)/AK50,(Z88+AR35*D19)/AL50,(Z89+AR35*D19)/AM50,(Z90+AR35*D19)/AN50,(Z91+AR35*D19)/AO50)*AP50","v":286},{"$f":"MIN((AA87+AR35*D19)/AK50,(AA88+AR35*D19)/AL50,(AA89+AR35*D19)/AM50,(AA90+AR35*D19)/AN50,(AA91+AR35*D19)/AO50)*AP50","v":316.5},{"$f":"MIN((AB87+AR35*D19)/AK50,(AB88+AR35*D19)/AL50,(AB89+AR35*D19)/AM50,(AB90+AR35*D19)/AN50,(AB91+AR35*D19)/AO50)*AP50","v":318},{"$f":"MIN((AC87+AR35*D19)/AK50,(AC88+AR35*D19)/AL50,(AC89+AR35*D19)/AM50,(AC90+AR35*D19)/AN50,(AC91+AR35*D19)/AO50)*AP50","v":320},{"$f":"MIN((AD87+AR35*D19)/AK50,(AD88+AR35*D19)/AL50,(AD89+AR35*D19)/AM50,(AD90+AR35*D19)/AN50,(AD91+AR35*D19)/AO50)*AP50","v":286},{"$f":"MIN((AE87+AR35*D19)/AK50,(AE88+AR35*D19)/AL50,(AE89+AR35*D19)/AM50,(AE90+AR35*D19)/AN50,(AE91+AR35*D19)/AO50)*AP50","v":320},{"$f":"MIN((AF87+AR35*D19)/AK50,(AF88+AR35*D19)/AL50,(AF89+AR35*D19)/AM50,(AF90+AR35*D19)/AN50,(AF91+AR35*D19)/AO50)*AP50","v":318},326,null,"ghana 5 ",{"$f":"MIN((S87+AS35*D19)/AK51,(S88+AS35*D19)/AL51,(S89+AS35*D19)/AM51,(S90+AS35*D19)/AN51,(S91+AS35*D19)/AO51)*AP51","v":350.66666666666669},{"$f":"MIN((T87+AS35*D19)/AK51,(T88+AS35*D19)/AL51,(T89+AS35*D19)/AM51,(T90+AS35*D19)/AN51,(T91+AS35*D19)/AO51)*AP51","v":348},{"$f":"MIN((U87+AS35*D19)/AK51,(U88+AS35*D19)/AL51,(U89+AS35*D19)/AM51,(U90+AS35*D19)/AN51,(U91+AS35*D19)/AO51)*AP51","v":313.33333333333331},{"$f":"MIN((V87+AS35*D19)/AK51,(V88+AS35*D19)/AL51,(V89+AS35*D19)/AM51,(V90+AS35*D19)/AN51,(V91+AS35*D19)/AO51)*AP51","v":343.33333333333331},{"$f":"MIN((W87+AS35*D19)/AK51,(W88+AS35*D19)/AL51,(W89+AS35*D19)/AM51,(W90+AS35*D19)/AN51,(W91+AS35*D19)/AO51)*AP51","v":313.33333333333331},{"$f":"MIN((X87+AS35*D19)/AK51,(X88+AS35*D19)/AL51,(X89+AS35*D19)/AM51,(X90+AS35*D19)/AN51,(X91+AS35*D19)/AO51)*AP51","v":350.66666666666669},{"$f":"MIN((Y87+AS35*D19)/AK51,(Y88+AS35*D19)/AL51,(Y89+AS35*D19)/AM51,(Y90+AS35*D19)/AN51,(Y91+AS35*D19)/AO51)*AP51","v":348.66666666666669},{"$f":"MIN((Z87+AS35*D19)/AK51,(Z88+AS35*D19)/AL51,(Z89+AS35*D19)/AM51,(Z90+AS35*D19)/AN51,(Z91+AS35*D19)/AO51)*AP51","v":313.33333333333331},{"$f":"MIN((AA87+AS35*D19)/AK51,(AA88+AS35*D19)/AL51,(AA89+AS35*D19)/AM51,(AA90+AS35*D19)/AN51,(AA91+AS35*D19)/AO51)*AP51","v":348.66666666666669},{"$f":"MIN((AB87+AS35*D19)/AK51,(AB88+AS35*D19)/AL51,(AB89+AS35*D19)/AM51,(AB90+AS35*D19)/AN51,(AB91+AS35*D19)/AO51)*AP51","v":345.33333333333331},{"$f":"MIN((AC87+AS35*D19)/AK51,(AC88+AS35*D19)/AL51,(AC89+AS35*D19)/AM51,(AC90+AS35*D19)/AN51,(AC91+AS35*D19)/AO51)*AP51","v":346},{"$f":"MIN((AD87+AS35*D19)/AK51,(AD88+AS35*D19)/AL51,(AD89+AS35*D19)/AM51,(AD90+AS35*D19)/AN51,(AD91+AS35*D19)/AO51)*AP51","v":313.33333333333331},{"$f":"MIN((AE87+AS35*D19)/AK51,(AE88+AS35*D19)/AL51,(AE89+AS35*D19)/AM51,(AE90+AS35*D19)/AN51,(AE91+AS35*D19)/AO51)*AP51","v":353.33333333333331},{"$f":"MIN((AF87+AS35*D19)/AK51,(AF88+AS35*D19)/AL51,(AF89+AS35*D19)/AM51,(AF90+AS35*D19)/AN51,(AF91+AS35*D19)/AO51)*AP51","v":342.66666666666669},353.33333333333331]
[null,null,null,null,null,null,null,null,null,null,null,null,null,null,null,null,null,null,null,null,null,null,null,null,null,null,null,null,null,null,null,null,null,null,null,"slovenie 6 ",{"$f":"MIN((S94+AR35*D19)/AK50,(S95+AR35*D19)/AL50,(S96+AR35*D19)/AM50,(S97+AR35*D19)/AN50,(S98+AR35*D19)/AO50)*AP50","v":346},{"$f":"MIN((T94+AR35*D19)/AK50,(T95+AR35*D19)/AL50,(T96+AR35*D19)/AM50,(T97+AR35*D19)/AN50,(T98+AR35*D19)/AO50)*AP50","v":332},{"$f":"MIN((U94+AR35*D19)/AK50,(U95+AR35*D19)/AL50,(U96+AR35*D19)/AM50,(U97+AR35*D19)/AN50,(U98+AR35*D19)/AO50)*AP50","v":306},{"$f":"MIN((V94+AR35*D19)/AK50,(V95+AR35*D19)/AL50,(V96+AR35*D19)/AM50,(V97+AR35*D19)/AN50,(V98+AR35*D19)/AO50)*AP50","v":328.5},{"$f":"MIN((W94+AR35*D19)/AK50,(W95+AR35*D19)/AL50,(W96+AR35*D19)/AM50,(W97+AR35*D19)/AN50,(W98+AR35*D19)/AO50)*AP50","v":306},{"$f":"MIN((X94+AR35*D19)/AK50,(X95+AR35*D19)/AL50,(X96+AR35*D19)/AM50,(X97+AR35*D19)/AN50,(X98+AR35*D19)/AO50)*AP50","v":334},{"$f":"MIN((Y94+AR35*D19)/AK50,(Y95+AR35*D19)/AL50,(Y96+AR35*D19)/AM50,(Y97+AR35*D19)/AN50,(Y98+AR35*D19)/AO50)*AP50","v":336.5},{"$f":"MIN((Z94+AR35*D19)/AK50,(Z95+AR35*D19)/AL50,(Z96+AR35*D19)/AM50,(Z97+AR35*D19)/AN50,(Z98+AR35*D19)/AO50)*AP50","v":306},{"$f":"MIN((AA94+AR35*D19)/AK50,(AA95+AR35*D19)/AL50,(AA96+AR35*D19)/AM50,(AA97+AR35*D19)/AN50,(AA98+AR35*D19)/AO50)*AP50","v":336.5},{"$f":"MIN((AB94+AR35*D19)/AK50,(AB95+AR35*D19)/AL50,(AB96+AR35*D19)/AM50,(AB97+AR35*D19)/AN50,(AB98+AR35*D19)/AO50)*AP50","v":338},{"$f":"MIN((AC94+AR35*D19)/AK50,(AC95+AR35*D19)/AL50,(AC96+AR35*D19)/AM50,(AC97+AR35*D19)/AN50,(AC98+AR35*D19)/AO50)*AP50","v":340},{"$f":"MIN((AD94+AR35*D19)/AK50,(AD95+AR35*D19)/AL50,(AD96+AR35*D19)/AM50,(AD97+AR35*D19)/AN50,(AD98+AR35*D19)/AO50)*AP50","v":306},{"$f":"MIN((AE94+AR35*D19)/AK50,(AE95+AR35*D19)/AL50,(AE96+AR35*D19)/AM50,(AE97+AR35*D19)/AN50,(AE98+AR35*D19)/AO50)*AP50","v":340},{"$f":"MIN((AF94+AR35*D19)/AK50,(AF95+AR35*D19)/AL50,(AF96+AR35*D19)/AM50,(AF97+AR35*D19)/AN50,(AF98+AR35*D19)/AO50)*AP50","v":338},346,null,"slovenie 6 ",{"$f":"MIN((S94+AS35*D19)/AK51,(S95+AS35*D19)/AL51,(S96+AS35*D19)/AM51,(S97+AS35*D19)/AN51,(S98+AS35*D19)/AO51)*AP51","v":370.66666666666663},{"$f":"MIN((T94+AS35*D19)/AK51,(T95+AS35*D19)/AL51,(T96+AS35*D19)/AM51,(T97+AS35*D19)/AN51,(T98+AS35*D19)/AO51)*AP51","v":368},{"$f":"MIN((U94+AS35*D19)/AK51,(U95+AS35*D19)/AL51,(U96+AS35*D19)/AM51,(U97+AS35*D19)/AN51,(U98+AS35*D19)/AO51)*AP51","v":333.33333333333337},{"$f":"MIN((V94+AS35*D19)/AK51,(V95+AS35*D19)/AL51,(V96+AS35*D19)/AM51,(V97+AS35*D19)/AN51,(V98+AS35*D19)/AO51)*AP51","v":363.33333333333331},{"$f":"MIN((W94+AS35*D19)/AK51,(W95+AS35*D19)/AL51,(W96+AS35*D19)/AM51,(W97+AS35*D19)/AN51,(W98+AS35*D19)/AO51)*AP51","v":333.33333333333337},{"$f":"MIN((X94+AS35*D19)/AK51,(X95+AS35*D19)/AL51,(X96+AS35*D19)/AM51,(X97+AS35*D19)/AN51,(X98+AS35*D19)/AO51)*AP51","v":370.66666666666663},{"$f":"MIN((Y94+AS35*D19)/AK51,(Y95+AS35*D19)/AL51,(Y96+AS35*D19)/AM51,(Y97+AS35*D19)/AN51,(Y98+AS35*D19)/AO51)*AP51","v":368.66666666666663},{"$f":"MIN((Z94+AS35*D19)/AK51,(Z95+AS35*D19)/AL51,(Z96+AS35*D19)/AM51,(Z97+AS35*D19)/AN51,(Z98+AS35*D19)/AO51)*AP51","v":333.33333333333337},{"$f":"MIN((AA94+AS35*D19)/AK51,(AA95+AS35*D19)/AL51,(AA96+AS35*D19)/AM51,(AA97+AS35*D19)/AN51,(AA98+AS35*D19)/AO51)*AP51","v":368.66666666666663},{"$f":"MIN((AB94+AS35*D19)/AK51,(AB95+AS35*D19)/AL51,(AB96+AS35*D19)/AM51,(AB97+AS35*D19)/AN51,(AB98+AS35*D19)/AO51)*AP51","v":365.33333333333331},{"$f":"MIN((AC94+AS35*D19)/AK51,(AC95+AS35*D19)/AL51,(AC96+AS35*D19)/AM51,(AC97+AS35*D19)/AN51,(AC98+AS35*D19)/AO51)*AP51","v":366},{"$f":"MIN((AD94+AS35*D19)/AK51,(AD95+AS35*D19)/AL51,(AD96+AS35*D19)/AM51,(AD97+AS35*D19)/AN51,(AD98+AS35*D19)/AO51)*AP51","v":333.33333333333337},{"$f":"MIN((AE94+AS35*D19)/AK51,(AE95+AS35*D19)/AL51,(AE96+AS35*D19)/AM51,(AE97+AS35*D19)/AN51,(AE98+AS35*D19)/AO51)*AP51","v":373.33333333333331},{"$f":"MIN((AF94+AS35*D19)/AK51,(AF95+AS35*D19)/AL51,(AF96+AS35*D19)/AM51,(AF97+AS35*D19)/AN51,(AF98+AS35*D19)/AO51)*AP51","v":362.66666666666663},373.33333333333331]
[null,null,null,null,null,null,null,null,null,null,null,null,null,null,null,null,null,{"$f":"G27","v":"france 2 "},{"$f":"S163","v":"kit 1"},{"$f":"T163","v":"kit 2/3"},0,"kit 4",0,"kit 5","kit 6/7",0,0,"kit 8","kit 9",0,{"$f":"AE163","v":"kit 10"},{"$f":"AF163","v":"kit 11"},null,null,null,"grece 7 ",{"$f":"MIN((S101+AR35*D19)/AK50,(S102+AR35*D19)/AL50,(S103+AR35*D19)/AM50,(S104+AR35*D19)/AN50,(S105+AR35*D19)/AO50)*AP50","v":337.5},{"$f":"MIN((T101+AR35*D19)/AK50,(T102+AR35*D19)/AL50,(T103+AR35*D19)/AM50,(T104+AR35*D19)/AN50,(T105+AR35*D19)/AO50)*AP50","v":323.5},{"$f":"MIN((U101+AR35*D19)/AK50,(U102+AR35*D19)/AL50,(U103+AR35*D19)/AM50,(U104+AR35*D19)/AN50,(U105+AR35*D19)/AO50)*AP50","v":297.5},{"$f":"MIN((V101+AR35*D19)/AK50,(V102+AR35*D19)/AL50,(V103+AR35*D19)/AM50,(V104+AR35*D19)/AN50,(V105+AR35*D19)/AO50)*AP50","v":320},{"$f":"MIN((W101+AR35*D19)/AK50,(W102+AR35*D19)/AL50,(W103+AR35*D19)/AM50,(W104+AR35*D19)/AN50,(W105+AR35*D19)/AO50)*AP50","v":297.5},{"$f":"MIN((X101+AR35*D19)/AK50,(X102+AR35*D19)/AL50,(X103+AR35*D19)/AM50,(X104+AR35*D19)/AN50,(X105+AR35*D19)/AO50)*AP50","v":325.5},{"$f":"MIN((Y101+AR35*D19)/AK50,(Y102+AR35*D19)/AL50,(Y103+AR35*D19)/AM50,(Y104+AR35*D19)/AN50,(Y105+AR35*D19)/AO50)*AP50","v":328},{"$f":"MIN((Z101+AR35*D19)/AK50,(Z102+AR35*D19)/AL50,(Z103+AR35*D19)/AM50,(Z104+AR35*D19)/AN50,(Z105+AR35*D19)/AO50)*AP50","v":297.5},{"$f":"MIN((AA101+AR35*D19)/AK50,(AA102+AR35*D19)/AL50,(AA103+AR35*D19)/AM50,(AA104+AR35*D19)/AN50,(AA105+AR35*D19)/AO50)*AP50","v":328},{"$f":"MIN((AB101+AR35*D19)/AK50,(AB102+AR35*D19)/AL50,(AB103+AR35*D19)/AM50,(AB104+AR35*D19)/AN50,(AB105+AR35*D19)/AO50)*AP50","v":329.5},{"$f":"MIN((AC101+AR35*D19)/AK50,(AC102+AR35*D19)/AL50,(AC103+AR35*D19)/AM50,(AC104+AR35*D19)/AN50,(AC105+AR35*D19)/AO50)*AP50","v":331.5},{"$f":"MIN((AD101+AR35*D19)/AK50,(AD102+AR35*D19)/AL50,(AD103+AR35*D19)/AM50,(AD104+AR35*D19)/AN50,(AD105+AR35*D19)/AO50)*AP50","v":297.5},{"$f":"MIN((AE101+AR35*D19)/AK50,(AE102+AR35*D19)/AL50,(AE103+AR35*D19)/AM50,(AE104+AR35*D19)/AN50,(AE105+AR35*D19)/AO50)*AP50","v":331.5},{"$f":"MIN((AF101+AR35*D19)/AK50,(AF102+AR35*D19)/AL50,(AF103+AR35*D19)/AM50,(AF104+AR35*D19)/AN50,(AF105+AR35*D19)/AO50)*AP50","v":329.5},337.5,null,"grece 7 ",{"$f":"MIN((S101+AS35*D19)/AK51,(S102+AS35*D19)/AL51,(S103+AS35*D19)/AM51,(S104+AS35*D19)/AN51,(S105+AS35*D19)/AO51)*AP51","v":357.33333333333331},{"$f":"MIN((T101+AS35*D19)/AK51,(T102+AS35*D19)/AL51,(T103+AS35*D19)/AM51,(T104+AS35*D19)/AN51,(T105+AS35*D19)/AO51)*AP51","v":354.66666666666669},{"$f":"MIN((U101+AS35*D19)/AK51,(U102+AS35*D19)/AL51,(U103+AS35*D19)/AM51,(U104+AS35*D19)/AN51,(U105+AS35*D19)/AO51)*AP51","v":320},{"$f":"MIN((V101+AS35*D19)/AK51,(V102+AS35*D19)/AL51,(V103+AS35*D19)/AM51,(V104+AS35*D19)/AN51,(V105+AS35*D19)/AO51)*AP51","v":350},{"$f":"MIN((W101+AS35*D19)/AK51,(W102+AS35*D19)/AL51,(W103+AS35*D19)/AM51,(W104+AS35*D19)/AN51,(W105+AS35*D19)/AO51)*AP51","v":320},{"$f":"MIN((X101+AS35*D19)/AK51,(X102+AS35*D19)/AL51,(X103+AS35*D19)/AM51,(X104+AS35*D19)/AN51,(X105+AS35*D19)/AO51)*AP51","v":357.33333333333331},{"$f":"MIN((Y101+AS35*D19)/AK51,(Y102+AS35*D19)/AL51,(Y103+AS35*D19)/AM51,(Y104+AS35*D19)/AN51,(Y105+AS35*D19)/AO51)*AP51","v":355.33333333333331},{"$f":"MIN((Z101+AS35*D19)/AK51,(Z102+AS35*D19)/AL51,(Z103+AS35*D19)/AM51,(Z104+AS35*D19)/AN51,(Z105+AS35*D19)/AO51)*AP51","v":320},{"$f":"MIN((AA101+AS35*D19)/AK51,(AA102+AS35*D19)/AL51,(AA103+AS35*D19)/AM51,(AA104+AS35*D19)/AN51,(AA105+AS35*D19)/AO51)*AP51","v":355.33333333333331},{"$f":"MIN((AB101+AS35*D19)/AK51,(AB102+AS35*D19)/AL51,(AB103+AS35*D19)/AM51,(AB104+AS35*D19)/AN51,(AB105+AS35*D19)/AO51)*AP51","v":352},{"$f":"MIN((AC101+AS35*D19)/AK51,(AC102+AS35*D19)/AL51,(AC103+AS35*D19)/AM51,(AC104+AS35*D19)/AN51,(AC105+AS35*D19)/AO51)*AP51","v":352.66666666666669},{"$f":"MIN((AD101+AS35*D19)/AK51,(AD102+AS35*D19)/AL51,(AD103+AS35*D19)/AM51,(AD104+AS35*D19)/AN51,(AD105+AS35*D19)/AO51)*AP51","v":320},{"$f":"MIN((AE101+AS35*D19)/AK51,(AE102+AS35*D19)/AL51,(AE103+AS35*D19)/AM51,(AE104+AS35*D19)/AN51,(AE105+AS35*D19)/AO51)*AP51","v":360},{"$f":"MIN((AF101+AS35*D19)/AK51,(AF102+AS35*D19)/AL51,(AF103+AS35*D19)/AM51,(AF104+AS35*D19)/AN51,(AF105+AS35*D19)/AO51)*AP51","v":349.33333333333331},360]
[null,null,null,null,null,null,null,null,null,null,null,null,null,null,null,null,null,{"$f":"H27+AH39+D16+D17+D21+D19*AG24","v":603},{"$f":"R171+Q10","v":644},{"$f":"R171+R10","v":672},{"$f":"R171+S10","v":603},{"$f":"R171+T10","v":676},{"$f":"R171+U10","v":603},{"$f":"R171+V10","v":673},{"$f":"R171+W10","v":664},{"$f":"R171+X10","v":603},{"$f":"R171+Y10","v":664},{"$f":"R171+Z10","v":659},{"$f":"R171+AA10","v":664},{"$f":"R171+AB10","v":603},{"$f":"R171+AC10","v":649},{"$f":"R171+AD10","v":654},null,null,null,"australie 11 ",{"$f":"MIN((S108+AR35*D19)/AK50,(S109+AR35*D19)/AL50,(S110+AR35*D19)/AM50,(S111+AR35*D19)/AN50,(S112+AR35*D19)/AO50)*AP50","v":326.28571428571428},{"$f":"MIN((T108+AR35*D19)/AK50,(T109+AR35*D19)/AL50,(T110+AR35*D19)/AM50,(T111+AR35*D19)/AN50,(T112+AR35*D19)/AO50)*AP50","v":317.5},{"$f":"MIN((U108+AR35*D19)/AK50,(U109+AR35*D19)/AL50,(U110+AR35*D19)/AM50,(U111+AR35*D19)/AN50,(U112+AR35*D19)/AO50)*AP50","v":291.5},{"$f":"MIN((V108+AR35*D19)/AK50,(V109+AR35*D19)/AL50,(V110+AR35*D19)/AM50,(V111+AR35*D19)/AN50,(V112+AR35*D19)/AO50)*AP50","v":314},{"$f":"MIN((W108+AR35*D19)/AK50,(W109+AR35*D19)/AL50,(W110+AR35*D19)/AM50,(W111+AR35*D19)/AN50,(W112+AR35*D19)/AO50)*AP50","v":291.5},{"$f":"MIN((X108+AR35*D19)/AK50,(X109+AR35*D19)/AL50,(X110+AR35*D19)/AM50,(X111+AR35*D19)/AN50,(X112+AR35*D19)/AO50)*AP50","v":319.5},{"$f":"MIN((Y108+AR35*D19)/AK50,(Y109+AR35*D19)/AL50,(Y110+AR35*D19)/AM50,(Y111+AR35*D19)/AN50,(Y112+AR35*D19)/AO50)*AP50","v":322},{"$f":"MIN((Z108+AR35*D19)/AK50,(Z109+AR35*D19)/AL50,(Z110+AR35*D19)/AM50,(Z111+AR35*D19)/AN50,(Z112+AR35*D19)/AO50)*AP50","v":291.5},{"$f":"MIN((AA108+AR35*D19)/AK50,(AA109+AR35*D19)/AL50,(AA110+AR35*D19)/AM50,(AA111+AR35*D19)/AN50,(AA112+AR35*D19)/AO50)*AP50","v":322},{"$f":"MIN((AB108+AR35*D19)/AK50,(AB109+AR35*D19)/AL50,(AB110+AR35*D19)/AM50,(AB111+AR35*D19)/AN50,(AB112+AR35*D19)/AO50)*AP50","v":323.5},{"$f":"MIN((AC108+AR35*D19)/AK50,(AC109+AR35*D19)/AL50,(AC110+AR35*D19)/AM50,(AC111+AR35*D19)/AN50,(AC112+AR35*D19)/AO50)*AP50","v":325.5},{"$f":"MIN((AD108+AR35*D19)/AK50,(AD109+AR35*D19)/AL50,(AD110+AR35*D19)/AM50,(AD111+AR35*D19)/AN50,(AD112+AR35*D19)/AO50)*AP50","v":291.5},{"$f":"MIN((AE108+AR35*D19)/AK50,(AE109+AR35*D19)/AL50,(AE110+AR35*D19)/AM50,(AE111+AR35*D19)/AN50,(AE112+AR35*D19)/AP50)*AP50","v":325.5},{"$f":"MIN((AF108+AR35*D19)/AK50,(AF109+AR35*D19)/AL50,(AF110+AR35*D19)/AM50,(AF111+AR35*D19)/AN50,(AF112+AR35*D19)/AO50)*AP50","v":323.5},326.28571428571428,null,"australie 11 ",{"$f":"MIN((S108+AS35*D19)/AK51,(S109+AS35*D19)/AL51,(S110+AS35*D19)/AM51,(S111+AS35*D19)/AN51,(S112+AS35*D19)/AO51)*AP51","v":328.66666666666669},{"$f":"MIN((T108+AS35*D19)/AK51,(T109+AS35*D19)/AL51,(T110+AS35*D19)/AM51,(T111+AS35*D19)/AN51,(T112+AS35*D19)/AO51)*AP51","v":326},{"$f":"MIN((U108+AS35*D19)/AK51,(U109+AS35*D19)/AL51,(U110+AS35*D19)/AM51,(U111+AS35*D19)/AN51,(U112+AS35*D19)/AO51)*AP51","v":291.33333333333337},{"$f":"MIN((V108+AS35*D19)/AK51,(V109+AS35*D19)/AL51,(V110+AS35*D19)/AM51,(V111+AS35*D19)/AN51,(V112+AS35*D19)/AO51)*AP51","v":321.33333333333331},{"$f":"MIN((W108+AS35*D19)/AK51,(W109+AS35*D19)/AL51,(W110+AS35*D19)/AM51,(W111+AS35*D19)/AN51,(W112+AS35*D19)/AO51)*AP51","v":291.33333333333337},{"$f":"MIN((X108+AS35*D19)/AK51,(X109+AS35*D19)/AL51,(X110+AS35*D19)/AM51,(X111+AS35*D19)/AN51,(X112+AS35*D19)/AO51)*AP51","v":328.66666666666669},{"$f":"MIN((Y108+AS35*D19)/AK51,(Y109+AS35*D19)/AL51,(Y110+AS35*D19)/AM51,(Y111+AS35*D19)/AN51,(Y112+AS35*D19)/AO51)*AP51","v":326.66666666666669},{"$f":"MIN((Z108+AS35*D19)/AK51,(Z109+AS35*D19)/AL51,(Z110+AS35*D19)/AM51,(Z111+AS35*D19)/AN51,(Z112+AS35*D19)/AO51)*AP51","v":291.33333333333337},{"$f":"MIN((AA108+AS35*D19)/AK51,(AA109+AS35*D19)/AL51,(AA110+AS35*D19)/AM51,(AA111+AS35*D19)/AN51,(AA112+AS35*D19)/AO51)*AP51","v":326.66666666666669},{"$f":"MIN((AB108+AS35*D19)/AK51,(AB109+AS35*D19)/AL51,(AB110+AS35*D19)/AM51,(AB111+AS35*D19)/AN51,(AB112+AS35*D19)/AO51)*AP51","v":323.33333333333331},{"$f":"MIN((AC108+AS35*D19)/AK51,(AC109+AS35*D19)/AL51,(AC110+AS35*D19)/AM51,(AC111+AS35*D19)/AN51,(AC112+AS35*D19)/AO51)*AP51","v":324},{"$f":"MIN((AD108+AS35*D19)/AK51,(AD109+AS35*D19)/AL51,(AD110+AS35*D19)/AM51,(AD111+AS35*D19)/AN51,(AD112+AS35*D19)/AO51)*AP51","v":291.33333333333337},{"$f":"MIN((AE108+AS35*D19)/AK51,(AE109+AS35*D19)/AL51,(AE110+AS35*D19)/AM51,(AE111+AS35*D19)/AN51,(AE112+AS35*D19)/AO51)*AP51","v":331.33333333333337},{"$f":"MIN((AF108+AS35*D19)/AK51,(AF109+AS35*D19)/AL51,(AF110+AS35*D19)/AM51,(AF111+AS35*D19)/AN51,(AF112+AS35*D19)/AO51)*AP51","v":320.66666666666663},331.33333333333337]
[null,null,null,null,null,null,null,null,null,null,null,null,null,null,null,null,null,{"$f":"I27+AH40+D15+D17+D21+D19*AG24","v":444},{"$f":"R172+Q11","v":524},{"$f":"R172+R11","v":496},{"$f":"R172+S11","v":444},{"$f":"R172+T11","v":489},{"$f":"R172+U11","v":444},{"$f":"R172+V11","v":500},{"$f":"R172+W11","v":505},{"$f":"R172+X11","v":444},{"$f":"R172+Y11","v":505},{"$f":"R172+Z11","v":508},{"$f":"R172+AA11","v":512},{"$f":"R172+AB11","v":444},{"$f":"R172+AC11","v":512},{"$f":"R172+AD11","v":508},null,null,null,"grece 9 ",{"$f":"MIN((S115+AR35*D19)/AK50,(S116+AR35*D19)/AL50,(S117+AR35*D19)/AM50,(S118+AR35*D19)/AN50,(S119+AR35*D19)/AO50)*AP50","v":322.85714285714289},{"$f":"MIN((T115+AR35*D19)/AK50,(T116+AR35*D19)/AL50,(T117+AR35*D19)/AM50,(T118+AR35*D19)/AN50,(T119+AR35*D19)/AO50)*AP50","v":330.5},{"$f":"MIN((U115+AR35*D19)/AK50,(U116+AR35*D19)/AL50,(U117+AR35*D19)/AM50,(U118+AR35*D19)/AN50,(U119+AR35*D19)/AO50)*AP50","v":299.42857142857144},{"$f":"MIN((V115+AR35*D19)/AK50,(V116+AR35*D19)/AL50,(V117+AR35*D19)/AM50,(V118+AR35*D19)/AN50,(V119+AR35*D19)/AO50)*AP50","v":327},{"$f":"MIN((W115+AR35*D19)/AK50,(W116+AR35*D19)/AL50,(W117+AR35*D19)/AM50,(W118+AR35*D19)/AN50,(W119+AR35*D19)/AO50)*AP50","v":299.42857142857144},{"$f":"MIN((X115+AR35*D19)/AK50,(X116+AR35*D19)/AL50,(X117+AR35*D19)/AM50,(X118+AR35*D19)/AN50,(X119+AR35*D19)/AO50)*AP50","v":332.5},{"$f":"MIN((Y115+AR35*D19)/AK50,(Y116+AR35*D19)/AL50,(Y117+AR35*D19)/AM50,(Y118+AR35*D19)/AN50,(Y119+AR35*D19)/AO50)*AP50","v":334.28571428571428},{"$f":"MIN((Z115+AR35*D19)/AK50,(Z116+AR35*D19)/AL50,(Z117+AR35*D19)/AM50,(Z118+AR35*D19)/AN50,(Z119+AR35*D19)/AO50)*AP50","v":299.42857142857144},{"$f":"MIN((AA115+AR35*D19)/AK50,(AA116+AR35*D19)/AL50,(AA117+AR35*D19)/AM50,(AA118+AR35*D19)/AN50,(AA119+AR35*D19)/AO50)*AP50","v":334.28571428571428},{"$f":"MIN((AB115+AR35*D19)/AK50,(AB116+AR35*D19)/AL50,(AB117+AR35*D19)/AM50,(AB118+AR35*D19)/AN50,(AB119+AR35*D19)/AO50)*AP50","v":331.42857142857144},{"$f":"MIN((AC115+AR35*D19)/AK50,(AC116+AR35*D19)/AL50,(AC117+AR35*D19)/AM50,(AC118+AR35*D19)/AN50,(AC119+AR35*D19)/AO50)*AP50","v":334.28571428571428},{"$f":"MIN((AD115+AR35*D19)/AK50,(AD116+AR35*D19)/AL50,(AD117+AR35*D19)/AM50,(AD118+AR35*D19)/AN50,(AD119+AR35*D19)/AO50)*AP50","v":299.42857142857144},{"$f":"MIN((AE115+AR35*D19)/AK50,(AE116+AR35*D19)/AL50,(AE117+AR35*D19)/AM50,(AE118+AR35*D19)/AN50,(AE119+AR35*D19)/AO50)*AP50","v":325.71428571428572},{"$f":"MIN((AF115+AR35*D19)/AK50,(AF116+AR35*D19)/AL50,(AF117+AR35*D19)/AM50,(AF118+AR35*D19)/AN50,(AF119+AR35*D19)/AO50)*AP50","v":328.57142857142856},334.28571428571428,null,"grece 9 ",{"$f":"MIN((S115+AS35*D19)/AK51,(S116+AS35*D19)/AL51,(S117+AS35*D19)/AM51,(S118+AS35*D19)/AN51,(S119+AS35*D19)/AO51)*AP51","v":306.66666666666669},{"$f":"MIN((T115+AS35*D19)/AK51,(T116+AS35*D19)/AL51,(T117+AS35*D19)/AM51,(T118+AS35*D19)/AN51,(T119+AS35*D19)/AO51)*AP51","v":304},{"$f":"MIN((U115+AS35*D19)/AK51,(U116+AS35*D19)/AL51,(U117+AS35*D19)/AM51,(U118+AS35*D19)/AN51,(U119+AS35*D19)/AO51)*AP51","v":269.33333333333331},{"$f":"MIN((V115+AS35*D19)/AK51,(V116+AS35*D19)/AL51,(V117+AS35*D19)/AM51,(V118+AS35*D19)/AN51,(V119+AS35*D19)/AO51)*AP51","v":299.33333333333331},{"$f":"MIN((W115+AS35*D19)/AK51,(W116+AS35*D19)/AL51,(W117+AS35*D19)/AM51,(W118+AS35*D19)/AN51,(W119+AS35*D19)/AO51)*AP51","v":269.33333333333331},{"$f":"MIN((X115+AS35*D19)/AK51,(X116+AS35*D19)/AL51,(X117+AS35*D19)/AM51,(X118+AS35*D19)/AN51,(X119+AS35*D19)/AO51)*AP51","v":306.66666666666669},{"$f":"MIN((Y115+AS35*D19)/AK51,(Y116+AS35*D19)/AL51,(Y117+AS35*D19)/AM51,(Y118+AS35*D19)/AN51,(Y119+AS35*D19)/AO51)*AP51","v":304.66666666666669},{"$f":"MIN((Z115+AS35*D19)/AK51,(Z116+AS35*D19)/AL51,(Z117+AS35*D19)/AM51,(Z118+AS35*D19)/AN51,(Z119+AS35*D19)/AO51)*AP51","v":269.33333333333331},{"$f":"MIN((AA115+AS35*D19)/AK51,(AA116+AS35*D19)/AL51,(AA117+AS35*D19)/AM51,(AA118+AS35*D19)/AN51,(AA119+AS35*D19)/AO51)*AP51","v":304.66666666666669},{"$f":"MIN((AB115+AS35*D19)/AK51,(AB116+AS35*D19)/AL51,(AB117+AS35*D19)/AM51,(AB118+AS35*D19)/AN51,(AB119+AS35*D19)/AO51)*AP51","v":301.33333333333331},{"$f":"MIN((AC115+AS35*D19)/AK51,(AC116+AS35*D19)/AL51,(AC117+AS35*D19)/AM51,(AC118+AS35*D19)/AN51,(AC119+AS35*D19)/AO51)*AP51","v":302},{"$f":"MIN((AD115+AS35*D19)/AK51,(AD116+AS35*D19)/AL51,(AD117+AS35*D19)/AM51,(AD118+AS35*D19)/AN51,(AD119+AS35*D19)/AO51)*AP51","v":269.33333333333331},{"$f":"MIN((AE115+AS35*D19)/AK51,(AE116+AS35*D19)/AL51,(AE117+AS35*D19)/AM51,(AE118+AS35*D19)/AN51,(AE119+AS35*D19)/AO51)*AP51","v":309.33333333333331},{"$f":"MIN((AF115+AS35*D19)/AK51,(AF116+AS35*D19)/AL51,(AF117+AS35*D19)/AM51,(AF118+AS35*D19)/AN51,(AF119+AS35*D19)/AO51)*AP51","v":298.66666666666669},309.33333333333331]
[null,null,null,null,null,null,null,null,null,null,null,null,null,null,null,null,null,{"$f":"J27+AH41+D15+D17+D21+D19*AG24","v":520},{"$f":"R173+Q12","v":561},{"$f":"R173+R12","v":580},{"$f":"R173+S12","v":520},{"$f":"R173+T12","v":593},{"$f":"R173+U12","v":520},{"$f":"R173+V12","v":576},{"$f":"R173+W12","v":581},{"$f":"R173+X12","v":520},{"$f":"R173+Y12","v":581},{"$f":"R173+Z12","v":584},{"$f":"R173+AA12","v":588},{"$f":"R173+AB12","v":520},{"$f":"R173+AC12","v":573},{"$f":"R173+AD12","v":591},null,null,null,"nigeria 8 ",{"$f":"MIN((S122+AR35*D19)/AK50,(S123+AR35*D19)/AL50,(S124+AR35*D19)/AM50,(S125+AR35*D19)/AN50,(S126+AR35*D19)/AO50)*AP50","v":334.5},{"$f":"MIN((T122+AR35*D19)/AK50,(T123+AR35*D19)/AL50,(T124+AR35*D19)/AM50,(T125+AR35*D19)/AN50,(T126+AR35*D19)/AO50)*AP50","v":320.5},{"$f":"MIN((U122+AR35*D19)/AK50,(U123+AR35*D19)/AL50,(U124+AR35*D19)/AM50,(U125+AR35*D19)/AN50,(U126+AR35*D19)/AO50)*AP50","v":294.5},{"$f":"MIN((V122+AR35*D19)/AK50,(V123+AR35*D19)/AL50,(V124+AR35*D19)/AM50,(V125+AR35*D19)/AN50,(V126+AR35*D19)/AO50)*AP50","v":317},{"$f":"MIN((W122+AR35*D19)/AK50,(W123+AR35*D19)/AL50,(W124+AR35*D19)/AM50,(W125+AR35*D19)/AN50,(W126+AR35*D19)/AO50)*AP50","v":294.5},{"$f":"MIN((X122+AR35*D19)/AK50,(X123+AR35*D19)/AL50,(X124+AR35*D19)/AM50,(X125+AR35*D19)/AN50,(X126+AR35*D19)/AO50)*AP50","v":322.5},{"$f":"MIN((Y122+AR35*D19)/AK50,(Y123+AR35*D19)/AL50,(Y124+AR35*D19)/AM50,(Y125+AR35*D19)/AN50,(Y126+AR35*D19)/AO50)*AP50","v":325},{"$f":"MIN((Z122+AR35*D19)/AK50,(Z123+AR35*D19)/AL50,(Z124+AR35*D19)/AM50,(Z125+AR35*D19)/AN50,(Z126+AR35*D19)/AO50)*AP50","v":294.5},{"$f":"MIN((AA122+AR35*D19)/AK50,(AA123+AR35*D19)/AL50,(AA124+AR35*D19)/AM50,(AA125+AR35*D19)/AN50,(AA126+AR35*D19)/AO50)*AP50","v":325},{"$f":"MIN((AB122+AR35*D19)/AK50,(AB123+AR35*D19)/AL50,(AB124+AR35*D19)/AM50,(AB125+AR35*D19)/AN50,(AB126+AR35*D19)/AO50)*AP50","v":326.5},{"$f":"MIN((AC122+AR35*D19)/AK50,(AC123+AR35*D19)/AL50,(AC124+AR35*D19)/AM50,(AC125+AR35*D19)/AN50,(AC126+AR35*D19)/AO50)*AP50","v":328.5},{"$f":"MIN((AD122+AR35*D19)/AK50,(AD123+AR35*D19)/AL50,(AD124+AR35*D19)/AM50,(AD125+AR35*D19)/AN50,(AD126+AR35*D19)/AO50)*AP50","v":294.5},{"$f":"MIN((AE122+AR35*D19)/AK50,(AE123+AR35*D19)/AL50,(AE124+AR35*D19)/AM50,(AE125+AR35*D19)/AN50,(AE126+AR35*D19)/AO50)*AP50","v":328.5},{"$f":"MIN((AF122+AR35*D19)/AK50,(AF123+AR35*D19)/AL50,(AF124+AR35*D19)/AM50,(AF125+AR35*D19)/AN50,(AF126+AR35*D19)/AO50)*AP50","v":326.5},334.5,null,"nigeria 8 ",{"$f":"MIN((S122+AS35*D19)/AK51,(S123+AS35*D19)/AL51,(S124+AS35*D19)/AM51,(S125+AS35*D19)/AN51,(S126+AS35*D19)/AO51)*AP51","v":356.66666666666669},{"$f":"MIN((T122+AS35*D19)/AK51,(T123+AS35*D19)/AL51,(T124+AS35*D19)/AM51,(T125+AS35*D19)/AN51,(T126+AS35*D19)/AO51)*AP51","v":354},{"$f":"MIN((U122+AS35*D19)/AK51,(U123+AS35*D19)/AL51,(U124+AS35*D19)/AM51,(U125+AS35*D19)/AN51,(U126+AS35*D19)/AO51)*AP51","v":319.33333333333331},{"$f":"MIN((V122+AS35*D19)/AK51,(V123+AS35*D19)/AL51,(V124+AS35*D19)/AM51,(V125+AS35*D19)/AN51,(V126+AS35*D19)/AO51)*AP51","v":349.33333333333331},{"$f":"MIN((W122+AS35*D19)/AK51,(W123+AS35*D19)/AL51,(W124+AS35*D19)/AM51,(W125+AS35*D19)/AN51,(W126+AS35*D19)/AO51)*AP51","v":319.33333333333331},{"$f":"MIN((X122+AS35*D19)/AK51,(X123+AS35*D19)/AL51,(X124+AS35*D19)/AM51,(X125+AS35*D19)/AN51,(X126+AS35*D19)/AO51)*AP51","v":356.66666666666669},{"$f":"MIN((Y122+AS35*D19)/AK51,(Y123+AS35*D19)/AL51,(Y124+AS35*D19)/AM51,(Y125+AS35*D19)/AN51,(Y126+AS35*D19)/AO51)*AP51","v":354.66666666666669},{"$f":"MIN((Z122+AS35*D19)/AK51,(Z123+AS35*D19)/AL51,(Z124+AS35*D19)/AM51,(Z125+AS35*D19)/AN51,(Z126+AS35*D19)/AO51)*AP51","v":319.33333333333331},{"$f":"MIN((AA122+AS35*D19)/AK51,(AA123+AS35*D19)/AL51,(AA124+AS35*D19)/AM51,(AA125+AS35*D19)/AN51,(AA126+AS35*D19)/AO51)*AP51","v":354.66666666666669},{"$f":"MIN((AB122+AS35*D19)/AK51,(AB123+AS35*D19)/AL51,(AB124+AS35*D19)/AM51,(AB125+AS35*D19)/AN51,(AB126+AS35*D19)/AO51)*AP51","v":351.33333333333331},{"$f":"MIN((AC122+AS35*D19)/AK51,(AC123+AS35*D19)/AL51,(AC124+AS35*D19)/AM51,(AC125+AS35*D19)/AN51,(AC126+AS35*D19)/AO51)*AP51","v":352},{"$f":"MIN((AD122+AS35*D19)/AK51,(AD123+AS35*D19)/AL51,(AD124+AS35*D19)/AM51,(AD125+AS35*D19)/AN51,(AD126+AS35*D19)/AO51)*AP51","v":319.33333333333331},{"$f":"MIN((AE122+AS35*D19)/AK51,(AE123+AS35*D19)/AL51,(AE124+AS35*D19)/AM51,(AE125+AS35*D19)/AN51,(AE126+AS35*D19)/AO51)*AP51","v":359.33333333333331},{"$f":"MIN((AF122+AS35*D19)/AK51,(AF123+AS35*D19)/AL51,(AF124+AS35*D19)/AM51,(AF125+AS35*D19)/AN51,(AF126+AS35*D19)/AO51)*AP51","v":348.66666666666669},359.33333333333331]
[null,null,null,null,null,null,null,null,null,null,null,null,null,null,null,null,null,{"$f":"K27+AH42+D16+D17+D21+D19*AG24","v":579},{"$f":"R174+Q13","v":604},{"$f":"R174+R13","v":648},{"$f":"R174+S13","v":579},{"$f":"R174+T13","v":643},{"$f":"R174+U13","v":579},{"$f":"R174+V13","v":635},{"$f":"R174+W13","v":640},{"$f":"R174+X13","v":579},{"$f":"R174+Y13","v":640},{"$f":"R174+Z13","v":643},{"$f":"R174+AA13","v":635},{"$f":"R174+AB13","v":579},{"$f":"R174+AC13","v":639},{"$f":"R174+AD13","v":643},null,null,null,"slovaquie 8 ",{"$f":"MIN((S129+AR35*D19)/AK50,(S130+AR35*D19)/AL50,(S131+AR35*D19)/AM50,(S132+AR35*D19)/AN50,(S133+AR35*D19)/AO50)*AP50","v":322.85714285714289},{"$f":"MIN((T129+AR35*D19)/AK50,(T130+AR35*D19)/AL50,(T131+AR35*D19)/AM50,(T132+AR35*D19)/AN50,(T133+AR35*D19)/AO50)*AP50","v":332},{"$f":"MIN((U129+AR35*D19)/AK50,(U130+AR35*D19)/AL50,(U131+AR35*D19)/AM50,(U132+AR35*D19)/AN50,(U133+AR35*D19)/AO50)*AP50","v":299.42857142857144},{"$f":"MIN((V129+AR35*D19)/AK50,(V130+AR35*D19)/AL50,(V131+AR35*D19)/AM50,(V132+AR35*D19)/AN50,(V133+AR35*D19)/AO50)*AP50","v":328.5},{"$f":"MIN((W129+AR35*D19)/AK50,(W130+AR35*D19)/AL50,(W131+AR35*D19)/AM50,(W132+AR35*D19)/AN50,(W133+AR35*D19)/AO50)*AP50","v":299.42857142857144},{"$f":"MIN((X129+AR35*D19)/AK50,(X130+AR35*D19)/AL50,(X131+AR35*D19)/AM50,(X132+AR35*D19)/AN50,(X133+AR35*D19)/AO50)*AP50","v":334},{"$f":"MIN((Y129+AR35*D19)/AK50,(Y130+AR35*D19)/AL50,(Y131+AR35*D19)/AM50,(Y132+AR35*D19)/AN50,(Y133+AR35*D19)/AO50)*AP50","v":334.28571428571428},{"$f":"MIN((Z129+AR35*D19)/AK50,(Z130+AR35*D19)/AL50,(Z131+AR35*D19)/AM50,(Z132+AR35*D19)/AN50,(Z133+AR35*D19)/AO50)*AP50","v":299.42857142857144},{"$f":"MIN((AA129+AR35*D19)/AK50,(AA130+AR35*D19)/AL50,(AA131+AR35*D19)/AM50,(AA132+AR35*D19)/AN50,(AA133+AR35*D19)/AO50)*AP50","v":334.28571428571428},{"$f":"MIN((AB129+AR35*D19)/AK50,(AB130+AR35*D19)/AL50,(AB131+AR35*D19)/AM50,(AB132+AR35*D19)/AN50,(AB133+AR35*D19)/AO50)*AP50","v":331.42857142857144},{"$f":"MIN((AC129+AR35*D19)/AK50,(AC130+AR35*D19)/AL50,(AC131+AR35*D19)/AM50,(AC132+AR35*D19)/AN50,(AC133+AR35*D19)/AO50)*AP50","v":334.28571428571428},{"$f":"MIN((AD129+AR35*D19)/AK50,(AD130+AR35*D19)/AL50,(AD131+AR35*D19)/AM50,(AD132+AR35*D19)/AN50,(AD133+AR35*D19)/AO50)*AP50","v":299.42857142857144},{"$f":"MIN((AE129+AR35*D19)/AK50,(AE130+AR35*D19)/AL50,(AE131+AR35*D19)/AM50,(AE132+AR35*D19)/AN50,(AE133+AR35*D19)/AO50)*AP50","v":325.71428571428572},{"$f":"MIN((AF129+AR35*D19)/AK50,(AF130+AR35*D19)/AL50,(AF131+AR35*D19)/AM50,(AF132+AR35*D19)/AN50,(AF133+AR35*D19)/AO50)*AP50","v":328.57142857142856},334.28571428571428,null,"slovaquie 8 ",{"$f":"MIN((S129+AS35*D19)/AK51,(S130+AS35*D19)/AL51,(S131+AS35*D19)/AM51,(S132+AS35*D19)/AN51,(S133+AS35*D19)/AO51)*AP51","v":306.66666666666669},{"$f":"MIN((T129+AS35*D19)/AK51,(T130+AS35*D19)/AL51,(T131+AS35*D19)/AM51,(T132+AS35*D19)/AN51,(T133+AS35*D19)/AO51)*AP51","v":304},{"$f":"MIN((U129+AS35*D19)/AK51,(U130+AS35*D19)/AL51,(U131+AS35*D19)/AM51,(U132+AS35*D19)/AN51,(U133+AS35*D19)/AO51)*AP51","v":269.33333333333331},{"$f":"MIN((V129+AS35*D19)/AK51,(V130+AS35*D19)/AL51,(V131+AS35*D19)/AM51,(V132+AS35*D19)/AN51,(V133+AS35*D19)/AO51)*AP51","v":299.33333333333331},{"$f":"MIN((W129+AS35*D19)/AK51,(W130+AS35*D19)/AL51,(W131+AS35*D19)/AM51,(W132+AS35*D19)/AN51,(W133+AS35*D19)/AO51)*AP51","v":269.33333333333331},{"$f":"MIN((X129+AS35*D19)/AK51,(X130+AS35*D19)/AL51,(X131+AS35*D19)/AM51,(X132+AS35*D19)/AN51,(X133+AS35*D19)/AO51)*AP51","v":306.66666666666669},{"$f":"MIN((Y129+AS35*D19)/AK51,(Y130+AS35*D19)/AL51,(Y131+AS35*D19)/AM51,(Y132+AS35*D19)/AN51,(Y133+AS35*D19)/AO51)*AP51","v":304.66666666666669},{"$f":"MIN((Z129+AS35*D19)/AK51,(Z130+AS35*D19)/AL51,(Z131+AS35*D19)/AM51,(Z132+AS35*D19)/AN51,(Z133+AS35*D19)/AO51)*AP51","v":269.33333333333331},{"$f":"MIN((AA129+AS35*D19)/AK51,(AA130+AS35*D19)/AL51,(AA131+AS35*D19)/AM51,(AA132+AS35*D19)/AN51,(AA133+AS35*D19)/AO51)*AP51","v":304.66666666666669},{"$f":"MIN((AB129+AS35*D19)/AK51,(AB130+AS35*D19)/AL51,(AB131+AS35*D19)/AM51,(AB132+AS35*D19)/AN51,(AB133+AS35*D19)/AO51)*AP51","v":301.33333333333331},{"$f":"MIN((AC129+AS35*D19)/AK51,(AC130+AS35*D19)/AL51,(AC131+AS35*D19)/AM51,(AC132+AS35*D19)/AN51,(AC133+AS35*D19)/AO51)*AP51","v":302},{"$f":"MIN((AD129+AS35*D19)/AK51,(AD130+AS35*D19)/AL51,(AD131+AS35*D19)/AM51,(AD132+AS35*D19)/AN51,(AD133+AS35*D19)/AO51)*AP51","v":269.33333333333331},{"$f":"MIN((AE129+AS35*D19)/AK51,(AE130+AS35*D19)/AL51,(AE131+AS35*D19)/AM51,(AE132+AS35*D19)/AN51,(AE133+AS35*D19)/AO51)*AP51","v":309.33333333333331},{"$f":"MIN((AF129+AS35*D19)/AK51,(AF130+AS35*D19)/AL51,(AF131+AS35*D19)/AM51,(AF132+AS35*D19)/AN51,(AF133+AS35*D19)/AO51)*AP51","v":298.66666666666669},309.33333333333331]
[null,null,null,null,null,null,null,null,null,null,null,null,null,null,null,null,null,{"$f":"L27+AH43+D15+D17+D21+D19*AG24","v":428},{"$f":"R175+Q14","v":484},{"$f":"R175+R14","v":480},{"$f":"R175+S14","v":428},{"$f":"R175+T14","v":473},{"$f":"R175+U14","v":428},{"$f":"R175+V14","v":484},{"$f":"R175+W14","v":481},{"$f":"R175+X14","v":428},{"$f":"R175+Y14","v":481},{"$f":"R175+Z14","v":476},{"$f":"R175+AA14","v":477},{"$f":"R175+AB14","v":428},{"$f":"R175+AC14","v":488},{"$f":"R175+AD14","v":472},null,null,null,"afrique du sud 4 ",{"$f":"MIN((S136+AR35*D19)/AK50,(S137+AR35*D19)/AL50,(S138+AR35*D19)/AM50,(S139+AR35*D19)/AN50,(S140+AR35*D19)/AO50)*AP50","v":223},{"$f":"MIN((T136+AR35*D19)/AK50,(T137+AR35*D19)/AL50,(T138+AR35*D19)/AM50,(T139+AR35*D19)/AN50,(T140+AR35*D19)/AO50)*AP50","v":209},{"$f":"MIN((U136+AR35*D19)/AK50,(U137+AR35*D19)/AL50,(U138+AR35*D19)/AM50,(U139+AR35*D19)/AN50,(U140+AR35*D19)/AO50)*AP50","v":183},{"$f":"MIN((V136+AR35*D19)/AK50,(V137+AR35*D19)/AL50,(V138+AR35*D19)/AM50,(V139+AR35*D19)/AN50,(V140+AR35*D19)/AO50)*AP50","v":205.50000000000003},{"$f":"MIN((W136+AR35*D19)/AK50,(W137+AR35*D19)/AL50,(W138+AR35*D19)/AM50,(W139+AR35*D19)/AN50,(W140+AR35*D19)/AO50)*AP50","v":183},{"$f":"MIN((X136+AR35*D19)/AK50,(X137+AR35*D19)/AL50,(X138+AR35*D19)/AM50,(X139+AR35*D19)/AN50,(X140+AR35*D19)/AO50)*AP50","v":211},{"$f":"MIN((Y136+AR35*D19)/AK50,(Y137+AR35*D19)/AL50,(Y138+AR35*D19)/AM50,(Y139+AR35*D19)/AN50,(Y140+AR35*D19)/AO50)*AP50","v":213.49999999999997},{"$f":"MIN((Z136+AR35*D19)/AK50,(Z137+AR35*D19)/AL50,(Z138+AR35*D19)/AM50,(Z139+AR35*D19)/AN50,(Z140+AR35*D19)/AO50)*AP50","v":183},{"$f":"MIN((AA136+AR35*D19)/AK50,(AA137+AR35*D19)/AL50,(AA138+AR35*D19)/AM50,(AA139+AR35*D19)/AN50,(AA140+AR35*D19)/AO50)*AP50","v":213.49999999999997},{"$f":"MIN((AB136+AR35*D19)/AK50,(AB137+AR35*D19)/AL50,(AB138+AR35*D19)/AM50,(AB139+AR35*D19)/AN50,(AB140+AR35*D19)/AO50)*AP50","v":215},{"$f":"MIN((AC136+AR35*D19)/AK50,(AC137+AR35*D19)/AL50,(AC138+AR35*D19)/AM50,(AC139+AR35*D19)/AN50,(AC140+AR35*D19)/AO50)*AP50","v":217},{"$f":"MIN((AD136+AR35*D19)/AK50,(AD137+AR35*D19)/AL50,(AD138+AR35*D19)/AM50,(AD139+AR35*D19)/AN50,(AD140+AR35*D19)/AO50)*AP50","v":183},{"$f":"MIN((AE136+AR35*D19)/AK50,(AE137+AR35*D19)/AL50,(AE138+AR35*D19)/AM50,(AE139+AR35*D19)/AN50,(AE140+AR35*D19)/AO50)*AP50","v":217},{"$f":"MIN((AF136+AR35*D19)/AK50,(AF137+AR35*D19)/AL50,(AF138+AR35*D19)/AM50,(AF139+AR35*D19)/AN50,(AF140+AR35*D19)/AO50)*AP50","v":215},223,null,"afrique du sud 4 ",{"$f":"MIN((S136+AS35*D19)/AK51,(S137+AS35*D19)/AL51,(S138+AS35*D19)/AM51,(S139+AS35*D19)/AN51,(S140+AS35*D19)/AO51)*AP51","v":254.85714285714286},{"$f":"MIN((T136+AS35*D19)/AK51,(T137+AS35*D19)/AL51,(T138+AS35*D19)/AM51,(T139+AS35*D19)/AN51,(T140+AS35*D19)/AO51)*AP51","v":238.85714285714289},{"$f":"MIN((U136+AS35*D19)/AK51,(U137+AS35*D19)/AL51,(U138+AS35*D19)/AM51,(U139+AS35*D19)/AN51,(U140+AS35*D19)/AO51)*AP51","v":209.14285714285717},{"$f":"MIN((V136+AS35*D19)/AK51,(V137+AS35*D19)/AL51,(V138+AS35*D19)/AM51,(V139+AS35*D19)/AN51,(V140+AS35*D19)/AO51)*AP51","v":234.85714285714289},{"$f":"MIN((W136+AS35*D19)/AK51,(W137+AS35*D19)/AL51,(W138+AS35*D19)/AM51,(W139+AS35*D19)/AN51,(W140+AS35*D19)/AO51)*AP51","v":209.14285714285717},{"$f":"MIN((X136+AS35*D19)/AK51,(X137+AS35*D19)/AL51,(X138+AS35*D19)/AM51,(X139+AS35*D19)/AN51,(X140+AS35*D19)/AO51)*AP51","v":241.14285714285714},{"$f":"MIN((Y136+AS35*D19)/AK51,(Y137+AS35*D19)/AL51,(Y138+AS35*D19)/AM51,(Y139+AS35*D19)/AN51,(Y140+AS35*D19)/AO51)*AP51","v":244},{"$f":"MIN((Z136+AS35*D19)/AK51,(Z137+AS35*D19)/AL51,(Z138+AS35*D19)/AM51,(Z139+AS35*D19)/AN51,(Z140+AS35*D19)/AO51)*AP51","v":209.14285714285717},{"$f":"MIN((AA136+AS35*D19)/AK51,(AA137+AS35*D19)/AL51,(AA138+AS35*D19)/AM51,(AA139+AS35*D19)/AN51,(AA140+AS35*D19)/AO51)*AP51","v":244},{"$f":"MIN((AB136+AS35*D19)/AK51,(AB137+AS35*D19)/AL51,(AB138+AS35*D19)/AM51,(AB139+AS35*D19)/AN51,(AB140+AS35*D19)/AO51)*AP51","v":245.71428571428572},{"$f":"MIN((AC136+AS35*D19)/AK51,(AC137+AS35*D19)/AL51,(AC138+AS35*D19)/AM51,(AC139+AS35*D19)/AN51,(AC140+AS35*D19)/AO51)*AP51","v":248},{"$f":"MIN((AD136+AS35*D19)/AK51,(AD137+AS35*D19)/AL51,(AD138+AS35*D19)/AM51,(AD139+AS35*D19)/AN51,(AD140+AS35*D19)/AO51)*AP51","v":209.14285714285717},{"$f":"MIN((AE136+AS35*D19)/AK51,(AE137+AS35*D19)/AL51,(AE138+AS35*D19)/AM51,(AE139+AS35*D19)/AN51,(AE140+AS35*D19)/AO51)*AP51","v":248},{"$f":"MIN((AF136+AS35*D19)/AK51,(AF137+AS35*D19)/AL51,(AF138+AS35*D19)/AM51,(AF139+AS35*D19)/AN51,(AF140+AS35*D19)/AO51)*AP51","v":245.71428571428572},254.85714285714286]
[null,null,null,null,null,null,null,null,null,null,null,null,null,null,null,null,null,null,null,null,null,null,null,null,null,null,null,null,null,null,null,null,null,null,null,"allemagne 11 ",{"$f":"MIN((S143+AR35*D19)/AK50,(S144+AR35*D19)/AL50,(S145+AR35*D19)/AM50,(S146+AR35*D19)/AN50,(S147+AR35*D19)/AO50)*AP50","v":321.5},{"$f":"MIN((T143+AR35*D19)/AK50,(T144+AR35*D19)/AL50,(T145+AR35*D19)/AM50,(T146+AR35*D19)/AN50,(T147+AR35*D19)/AO50)*AP50","v":307.5},{"$f":"MIN((U143+AR35*D19)/AK50,(U144+AR35*D19)/AL50,(U145+AR35*D19)/AM50,(U146+AR35*D19)/AN50,(U147+AR35*D19)/AO50)*AP50","v":281.5},{"$f":"MIN((V143+AR35*D19)/AK50,(V144+AR35*D19)/AL50,(V145+AR35*D19)/AM50,(V146+AR35*D19)/AN50,(V147+AR35*D19)/AO50)*AP50","v":304},{"$f":"MIN((W143+AR35*D19)/AK50,(W144+AR35*D19)/AL50,(W145+AR35*D19)/AM50,(W146+AR35*D19)/AN50,(W147+AR35*D19)/AO50)*AP50","v":281.5},{"$f":"MIN((X143+AR35*D19)/AK50,(X144+AR35*D19)/AL50,(X145+AR35*D19)/AM50,(X146+AR35*D19)/AN50,(X147+AR35*D19)/AO50)*AP50","v":309.5},{"$f":"MIN((Y143+AR35*D19)/AK50,(Y144+AR35*D19)/AL50,(Y145+AR35*D19)/AM50,(Y146+AR35*D19)/AN50,(Y147+AR35*D19)/AO50)*AP50","v":312},{"$f":"MIN((Z143+AR35*D19)/AK50,(Z144+AR35*D19)/AL50,(Z145+AR35*D19)/AM50,(Z146+AR35*D19)/AN50,(Z147+AR35*D19)/AO50)*AP50","v":281.5},{"$f":"MIN((AA143+AR35*D19)/AK50,(AA144+AR35*D19)/AL50,(AA145+AR35*D19)/AM50,(AA146+AR35*D19)/AN50,(AA147+AR35*D19)/AO50)*AP50","v":312},{"$f":"MIN((AB143+AR35*D19)/AK50,(AB144+AR35*D19)/AL50,(AB145+AR35*D19)/AM50,(AB146+AR35*D19)/AN50,(AB147+AR35*D19)/AO50)*AP50","v":313.5},{"$f":"MIN((AC143+AR35*D19)/AK50,(AC144+AR35*D19)/AL50,(AC145+AR35*D19)/AM50,(AC146+AR35*D19)/AN50,(AC147+AR35*D19)/AO50)*AP50","v":315.5},{"$f":"MIN((AD143+AR35*D19)/AK50,(AD144+AR35*D19)/AL50,(AD145+AR35*D19)/AM50,(AD146+AR35*D19)/AN50,(AD147+AR35*D19)/AO50)*AP50","v":281.5},{"$f":"MIN((AE143+AR35*D19)/AK50,(AE144+AR35*D19)/AL50,(AE145+AR35*D19)/AM50,(AE146+AR35*D19)/AN50,(AE147+AR35*D19)/AO50)*AP50","v":315.5},{"$f":"MIN((AF143+AR35*D19)/AK50,(AF144+AR35*D19)/AL50,(AF145+AR35*D19)/AM50,(AF146+AR35*D19)/AN50,(AF147+AR35*D19)/AO50)*AP50","v":313.5},321.5,null,"allemagne 11 ",{"$f":"MIN((S143+AS35*D19)/AK51,(S144+AS35*D19)/AL51,(S145+AS35*D19)/AM51,(S146+AS35*D19)/AN51,(S147+AS35*D19)/AO51)*AP51","v":342.66666666666669},{"$f":"MIN((T143+AS35*D19)/AK51,(T144+AS35*D19)/AL51,(T145+AS35*D19)/AM51,(T146+AS35*D19)/AN51,(T147+AS35*D19)/AO51)*AP51","v":340},{"$f":"MIN((U143+AS35*D19)/AK51,(U144+AS35*D19)/AL51,(U145+AS35*D19)/AM51,(U146+AS35*D19)/AN51,(U147+AS35*D19)/AO51)*AP51","v":305.33333333333331},{"$f":"MIN((V143+AS35*D19)/AK51,(V144+AS35*D19)/AL51,(V145+AS35*D19)/AM51,(V146+AS35*D19)/AN51,(V147+AS35*D19)/AO51)*AP51","v":335.33333333333337},{"$f":"MIN((W143+AS35*D19)/AK51,(W144+AS35*D19)/AL51,(W145+AS35*D19)/AM51,(W146+AS35*D19)/AN51,(W147+AS35*D19)/AO51)*AP51","v":305.33333333333331},{"$f":"MIN((X143+AS35*D19)/AK51,(X144+AS35*D19)/AL51,(X145+AS35*D19)/AM51,(X146+AS35*D19)/AN51,(X147+AS35*D19)/AO51)*AP51","v":342.66666666666669},{"$f":"MIN((Y143+AS35*D19)/AK51,(Y144+AS35*D19)/AL51,(Y145+AS35*D19)/AM51,(Y146+AS35*D19)/AN51,(Y147+AS35*D19)/AO51)*AP51","v":340.66666666666669},{"$f":"MIN((Z143+AS35*D19)/AK51,(Z144+AS35*D19)/AL51,(Z145+AS35*D19)/AM51,(Z146+AS35*D19)/AN51,(Z147+AS35*D19)/AO51)*AP51","v":305.33333333333331},{"$f":"MIN((AA143+AS35*D19)/AK51,(AA144+AS35*D19)/AL51,(AA145+AS35*D19)/AM51,(AA146+AS35*D19)/AN51,(AA147+AS35*D19)/AO51)*AP51","v":340.66666666666669},{"$f":"MIN((AB143+AS35*D19)/AK51,(AB144+AS35*D19)/AL51,(AB145+AS35*D19)/AM51,(AB146+AS35*D19)/AN51,(AB147+AS35*D19)/AO51)*AP51","v":337.33333333333337},{"$f":"MIN((AC143+AS35*D19)/AK51,(AC144+AS35*D19)/AL51,(AC145+AS35*D19)/AM51,(AC146+AS35*D19)/AN51,(AC147+AS35*D19)/AO51)*AP51","v":338},{"$f":"MIN((AD143+AS35*D19)/AK51,(AD144+AS35*D19)/AL51,(AD145+AS35*D19)/AM51,(AD146+AS35*D19)/AN51,(AD147+AS35*D19)/AO51)*AP51","v":305.33333333333331},{"$f":"MIN((AE143+AS35*D19)/AK51,(AE144+AS35*D19)/AL51,(AE145+AS35*D19)/AM51,(AE146+AS35*D19)/AN51,(AE147+AS35*D19)/AO51)*AP51","v":345.33333333333331},{"$f":"MIN((AF143+AS35*D19)/AK51,(AF144+AS35*D19)/AL51,(AF145+AS35*D19)/AM51,(AF146+AS35*D19)/AN51,(AF147+AS35*D19)/AO51)*AP51","v":334.66666666666669},345.33333333333331]
[null,null,null,null,null,null,null,null,null,null,null,null,null,null,null,null,null,{"$f":"G28","v":"italie 7 "},{"$f":"S170","v":"kit 1"},{"$f":"T170","v":"kit 2/3"},0,"kit 4",0,"kit 5","kit 6/7",0,0,"kit 8","kit 9",0,{"$f":"AE170","v":"kit 10"},{"$f":"AF170","v":"kit 11"},null,null,null,"chili 11 ",{"$f":"MIN((S150+AR35*D19)/AK50,(S151+AR35*D19)/AL50,(S152+AR35*D19)/AM50,(S153+AR35*D19)/AN50,(S154+AR35*D19)/AO50)*AP50","v":286.85714285714289},{"$f":"MIN((T150+AR35*D19)/AK50,(T151+AR35*D19)/AL50,(T152+AR35*D19)/AM50,(T153+AR35*D19)/AN50,(T154+AR35*D19)/AO50)*AP50","v":300.5},{"$f":"MIN((U150+AR35*D19)/AK50,(U151+AR35*D19)/AL50,(U152+AR35*D19)/AM50,(U153+AR35*D19)/AN50,(U154+AR35*D19)/AO50)*AP50","v":263.42857142857144},{"$f":"MIN((V150+AR35*D19)/AK50,(V151+AR35*D19)/AL50,(V152+AR35*D19)/AM50,(V153+AR35*D19)/AN50,(V154+AR35*D19)/AO50)*AP50","v":297},{"$f":"MIN((W150+AR35*D19)/AK50,(W151+AR35*D19)/AL50,(W152+AR35*D19)/AM50,(W153+AR35*D19)/AN50,(W154+AR35*D19)/AO50)*AP50","v":263.42857142857144},{"$f":"MIN((X150+AR35*D19)/AK50,(X151+AR35*D19)/AL50,(X152+AR35*D19)/AM50,(X153+AR35*D19)/AN50,(X154+AR35*D19)/AO50)*AP50","v":302.5},{"$f":"MIN((Y150+AR35*D19)/AK50,(Y151+AR35*D19)/AL50,(Y152+AR35*D19)/AM50,(Y153+AR35*D19)/AN50,(Y154+AR35*D19)/AO50)*AP50","v":298.28571428571428},{"$f":"MIN((Z150+AR35*D19)/AK50,(Z151+AR35*D19)/AL50,(Z152+AR35*D19)/AM50,(Z153+AR35*D19)/AN50,(Z154+AR35*D19)/AO50)*AP50","v":263.42857142857144},{"$f":"MIN((AA150+AR35*D19)/AK50,(AA151+AR35*D19)/AL50,(AA152+AR35*D19)/AM50,(AA153+AR35*D19)/AN50,(AA154+AR35*D19)/AO50)*AP50","v":298.28571428571428},{"$f":"MIN((AB150+AR35*D19)/AK50,(AB151+AR35*D19)/AL50,(AB152+AR35*D19)/AM50,(AB153+AR35*D19)/AN50,(AB154+AR35*D19)/AO50)*AP50","v":295.42857142857144},{"$f":"MIN((AC150+AR35*D19)/AK50,(AC151+AR35*D19)/AL50,(AC152+AR35*D19)/AM50,(AC153+AR35*D19)/AN50,(AC154+AR35*D19)/AO50)*AP50","v":298.28571428571428},{"$f":"MIN((AD150+AR35*D19)/AK50,(AD151+AR35*D19)/AL50,(AD152+AR35*D19)/AM50,(AD153+AR35*D19)/AN50,(AD154+AR35*D19)/AO50)*AP50","v":263.42857142857144},{"$f":"MIN((AE150+AR35*D19)/AK50,(AE151+AR35*D19)/AL50,(AE152+AR35*D19)/AM50,(AE153+AR35*D19)/AN50,(AE154+AR35*D19)/AO50)*AP50","v":289.71428571428572},{"$f":"MIN((AF150+AR35*D19)/AK50,(AF151+AR35*D19)/AL50,(AF152+AR35*D19)/AM50,(AF153+AR35*D19)/AN50,(AF154+AR35*D19)/AO50)*AP50","v":292.57142857142856},302.5,null,"chili 11 ",{"$f":"MIN((S150+AS35*D19)/AK51,(S151+AS35*D19)/AL51,(S152+AS35*D19)/AM51,(S153+AS35*D19)/AN51,(S154+AS35*D19)/AO51)*AP51","v":296},{"$f":"MIN((T150+AS35*D19)/AK51,(T151+AS35*D19)/AL51,(T152+AS35*D19)/AM51,(T153+AS35*D19)/AN51,(T154+AS35*D19)/AO51)*AP51","v":293.33333333333331},{"$f":"MIN((U150+AS35*D19)/AK51,(U151+AS35*D19)/AL51,(U152+AS35*D19)/AM51,(U153+AS35*D19)/AN51,(U154+AS35*D19)/AO51)*AP51","v":258.66666666666663},{"$f":"MIN((V150+AS35*D19)/AK51,(V151+AS35*D19)/AL51,(V152+AS35*D19)/AM51,(V153+AS35*D19)/AN51,(V154+AS35*D19)/AO51)*AP51","v":288.66666666666669},{"$f":"MIN((W150+AS35*D19)/AK51,(W151+AS35*D19)/AL51,(W152+AS35*D19)/AM51,(W153+AS35*D19)/AN51,(W154+AS35*D19)/AO51)*AP51","v":258.66666666666663},{"$f":"MIN((X150+AS35*D19)/AK51,(X151+AS35*D19)/AL51,(X152+AS35*D19)/AM51,(X153+AS35*D19)/AN51,(X154+AS35*D19)/AO51)*AP51","v":296},{"$f":"MIN((Y150+AS35*D19)/AK51,(Y151+AS35*D19)/AL51,(Y152+AS35*D19)/AM51,(Y153+AS35*D19)/AN51,(Y154+AS35*D19)/AO51)*AP51","v":294},{"$f":"MIN((Z150+AS35*D19)/AK51,(Z151+AS35*D19)/AL51,(Z152+AS35*D19)/AM51,(Z153+AS35*D19)/AN51,(Z154+AS35*D19)/AO51)*AP51","v":258.66666666666663},{"$f":"MIN((AA150+AS35*D19)/AK51,(AA151+AS35*D19)/AL51,(AA152+AS35*D19)/AM51,(AA153+AS35*D19)/AN51,(AA154+AS35*D19)/AO51)*AP51","v":294},{"$f":"MIN((AB150+AS35*D19)/AK51,(AB151+AS35*D19)/AL51,(AB152+AS35*D19)/AM51,(AB153+AS35*D19)/AN51,(AB154+AS35*D19)/AO51)*AP51","v":290.66666666666669},{"$f":"MIN((AC150+AS35*D19)/AK51,(AC151+AS35*D19)/AL51,(AC152+AS35*D19)/AM51,(AC153+AS35*D19)/AN51,(AC154+AS35*D19)/AO51)*AP51","v":291.33333333333337},{"$f":"MIN((AD150+AS35*D19)/AK51,(AD151+AS35*D19)/AL51,(AD152+AS35*D19)/AM51,(AD153+AS35*D19)/AN51,(AD154+AS35*D19)/AO51)*AP51","v":258.66666666666663},{"$f":"MIN((AE150+AS35*D19)/AK51,(AE151+AS35*D19)/AL51,(AE152+AS35*D19)/AM51,(AE153+AS35*D19)/AN51,(AE154+AS35*D19)/AO51)*AP51","v":298.66666666666669},{"$f":"MIN((AF150+AS35*D19)/AK51,(AF151+AS35*D19)/AL51,(AF152+AS35*D19)/AM51,(AF153+AS35*D19)/AN51,(AF154+AS35*D19)/AO51)*AP51","v":288},298.66666666666669]
[null,null,null,null,null,null,null,null,null,null,null,null,null,null,null,null,null,{"$f":"H28+AH39+D16+D17+D21+D19*AG25","v":560},{"$f":"R178+Q10","v":601},{"$f":"R178+R10","v":629},{"$f":"R178+S10","v":560},{"$f":"R178+T10","v":633},{"$f":"R178+U10","v":560},{"$f":"R178+V10","v":630},{"$f":"R178+W10","v":621},{"$f":"R178+X10","v":560},{"$f":"R178+Y10","v":621},{"$f":"R178+Z10","v":616},{"$f":"R178+AA10","v":621},{"$f":"R178+AB10","v":560},{"$f":"R178+AC10","v":606},{"$f":"R178+AD10","v":611},null,null,null,"corée du sud 3 ",{"$f":"MIN((S157+AR35*D19)/AK50,(S158+AR35*D19)/AL50,(S159+AR35*D19)/AM50,(S160+AR35*D19)/AN50,(S161+AR35*D19)/AO50)*AP50","v":252.5},{"$f":"MIN((T157+AR35*D19)/AK50,(T158+AR35*D19)/AL50,(T159+AR35*D19)/AM50,(T160+AR35*D19)/AN50,(T161+AR35*D19)/AO50)*AP50","v":238.49999999999997},{"$f":"MIN((U157+AR35*D19)/AK50,(U158+AR35*D19)/AL50,(U159+AR35*D19)/AM50,(U160+AR35*D19)/AN50,(U161+AR35*D19)/AO50)*AP50","v":212.5},{"$f":"MIN((V157+AR35*D19)/AK50,(V158+AR35*D19)/AL50,(V159+AR35*D19)/AM50,(V160+AR35*D19)/AN50,(V161+AR35*D19)/AO50)*AP50","v":235},{"$f":"MIN((W157+AR35*D19)/AK50,(W158+AR35*D19)/AL50,(W159+AR35*D19)/AM50,(W160+AR35*D19)/AN50,(W161+AR35*D19)/AO50)*AP50","v":212.5},{"$f":"MIN((X157+AR35*D19)/AK50,(X158+AR35*D19)/AL50,(X159+AR35*D19)/AM50,(X160+AR35*D19)/AN50,(X161+AR35*D19)/AO50)*AP50","v":240.49999999999997},{"$f":"MIN((Y157+AR35*D19)/AK50,(Y158+AR35*D19)/AL50,(Y159+AR35*D19)/AM50,(Y160+AR35*D19)/AN50,(Y161+AR35*D19)/AO50)*AP50","v":243.00000000000003},{"$f":"MIN((Z157+AR35*D19)/AK50,(Z158+AR35*D19)/AL50,(Z159+AR35*D19)/AM50,(Z160+AR35*D19)/AN50,(Z161+AR35*D19)/AO50)*AP50","v":212.5},{"$f":"MIN((AA157+AR35*D19)/AK50,(AA158+AR35*D19)/AL50,(AA159+AR35*D19)/AM50,(AA160+AR35*D19)/AN50,(AA161+AR35*D19)/AO50)*AP50","v":243.00000000000003},{"$f":"MIN((AB157+AR35*D19)/AK50,(AB158+AR35*D19)/AL50,(AB159+AR35*D19)/AM50,(AB160+AR35*D19)/AN50,(AB161+AR35*D19)/AO50)*AP50","v":244.49999999999997},{"$f":"MIN((AC157+AR35*D19)/AK50,(AC158+AR35*D19)/AL50,(AC159+AR35*D19)/AM50,(AC160+AR35*D19)/AN50,(AC161+AR35*D19)/AO50)*AP50","v":246.5},{"$f":"MIN((AD157+AR35*D19)/AK50,(AD158+AR35*D19)/AL50,(AD159+AR35*D19)/AM50,(AD160+AR35*D19)/AN50,(AD161+AR35*D19)/AO50)*AP50","v":212.5},{"$f":"MIN((AE157+AR35*D19)/AK50,(AE158+AR35*D19)/AL50,(AE159+AR35*D19)/AM50,(AE160+AR35*D19)/AN50,(AE161+AR35*D19)/AO50)*AP50","v":246.5},{"$f":"MIN((AF157+AR35*D19)/AK50,(AF158+AR35*D19)/AL50,(AF159+AR35*D19)/AM50,(AF160+AR35*D19)/AN50,(AF161+AR35*D19)/AO50)*AP50","v":244.49999999999997},252.5,null,"corée du sud 3 ",{"$f":"MIN((S157+AS35*D19)/AK51,(S158+AS35*D19)/AL51,(S159+AS35*D19)/AM51,(S160+AS35*D19)/AN51,(S161+AS35*D19)/AO51)*AP51","v":288.57142857142856},{"$f":"MIN((T157+AS35*D19)/AK51,(T158+AS35*D19)/AL51,(T159+AS35*D19)/AM51,(T160+AS35*D19)/AN51,(T161+AS35*D19)/AO51)*AP51","v":272.57142857142856},{"$f":"MIN((U157+AS35*D19)/AK51,(U158+AS35*D19)/AL51,(U159+AS35*D19)/AM51,(U160+AS35*D19)/AN51,(U161+AS35*D19)/AO51)*AP51","v":242.85714285714283},{"$f":"MIN((V157+AS35*D19)/AK51,(V158+AS35*D19)/AL51,(V159+AS35*D19)/AM51,(V160+AS35*D19)/AN51,(V161+AS35*D19)/AO51)*AP51","v":268.57142857142856},{"$f":"MIN((W157+AS35*D19)/AK51,(W158+AS35*D19)/AL51,(W159+AS35*D19)/AM51,(W160+AS35*D19)/AN51,(W161+AS35*D19)/AO51)*AP51","v":242.85714285714283},{"$f":"MIN((X157+AS35*D19)/AK51,(X158+AS35*D19)/AL51,(X159+AS35*D19)/AM51,(X160+AS35*D19)/AN51,(X161+AS35*D19)/AO51)*AP51","v":274.85714285714289},{"$f":"MIN((Y157+AS35*D19)/AK51,(Y158+AS35*D19)/AL51,(Y159+AS35*D19)/AM51,(Y160+AS35*D19)/AN51,(Y161+AS35*D19)/AO51)*AP51","v":277.71428571428572},{"$f":"MIN((Z157+AS35*D19)/AK51,(Z158+AS35*D19)/AL51,(Z159+AS35*D19)/AM51,(Z160+AS35*D19)/AN51,(Z161+AS35*D19)/AO51)*AP51","v":242.85714285714283},{"$f":"MIN((AA157+AS35*D19)/AK51,(AA158+AS35*D19)/AL51,(AA159+AS35*D19)/AM51,(AA160+AS35*D19)/AN51,(AA161+AS35*D19)/AO51)*AP51","v":277.71428571428572},{"$f":"MIN((AB157+AS35*D19)/AK51,(AB158+AS35*D19)/AL51,(AB159+AS35*D19)/AM51,(AB160+AS35*D19)/AN51,(AB161+AS35*D19)/AO51)*AP51","v":279.42857142857144},{"$f":"MIN((AC157+AS35*D19)/AK51,(AC158+AS35*D19)/AL51,(AC159+AS35*D19)/AM51,(AC160+AS35*D19)/AN51,(AC161+AS35*D19)/AO51)*AP51","v":281.71428571428572},{"$f":"MIN((AD157+AS35*D19)/AK51,(AD158+AS35*D19)/AL51,(AD159+AS35*D19)/AM51,(AD160+AS35*D19)/AN51,(AD161+AS35*D19)/AO51)*AP51","v":242.85714285714283},{"$f":"MIN((AE157+AS35*D19)/AK51,(AE158+AS35*D19)/AL51,(AE159+AS35*D19)/AM51,(AE160+AS35*D19)/AN51,(AE161+AS35*D19)/AO51)*AP51","v":281.71428571428572},{"$f":"MIN((AF157+AS35*D19)/AK51,(AF158+AS35*D19)/AL51,(AF159+AS35*D19)/AM51,(AF160+AS35*D19)/AN51,(AF161+AS35*D19)/AO51)*AP51","v":279.42857142857144},288.57142857142856]
[null,null,null,null,null,null,null,null,null,null,null,null,null,null,null,null,null,{"$f":"I28+AH40+D15+D17+D21+D19*AG25","v":577},{"$f":"R179+Q11","v":657},{"$f":"R179+R11","v":629},{"$f":"R179+S11","v":577},{"$f":"R179+T11","v":622},{"$f":"R179+U11","v":577},{"$f":"R179+V11","v":633},{"$f":"R179+W11","v":638},{"$f":"R179+X11","v":577},{"$f":"R179+Y11","v":638},{"$f":"R179+Z11","v":641},{"$f":"R179+AA11","v":645},{"$f":"R179+AB11","v":577},{"$f":"R179+AC11","v":645},{"$f":"R179+AD11","v":641},null,null,null,"france 11 ",{"$f":"MIN((S164+AR35*D19)/AK50,(S165+AR35*D19)/AL50,(S166+AR35*D19)/AM50,(S167+AR35*D19)/AN50,(S168+AR35*D19)/AO50)*AP50","v":308},{"$f":"MIN((T164+AR35*D19)/AK50,(T165+AR35*D19)/AL50,(T166+AR35*D19)/AM50,(T167+AR35*D19)/AN50,(T168+AR35*D19)/AO50)*AP50","v":302.5},{"$f":"MIN((U164+AR35*D19)/AK50,(U165+AR35*D19)/AL50,(U166+AR35*D19)/AM50,(U167+AR35*D19)/AN50,(U168+AR35*D19)/AO50)*AP50","v":276.5},{"$f":"MIN((V164+AR35*D19)/AK50,(V165+AR35*D19)/AL50,(V166+AR35*D19)/AM50,(V167+AR35*D19)/AN50,(V168+AR35*D19)/AO50)*AP50","v":299},{"$f":"MIN((W164+AR35*D19)/AK50,(W165+AR35*D19)/AL50,(W166+AR35*D19)/AM50,(W167+AR35*D19)/AN50,(W168+AR35*D19)/AO50)*AP50","v":276.5},{"$f":"MIN((X164+AR35*D19)/AK50,(X165+AR35*D19)/AL50,(X166+AR35*D19)/AM50,(X167+AR35*D19)/AN50,(X168+AR35*D19)/AO50)*AP50","v":304.5},{"$f":"MIN((Y164+AR35*D19)/AK50,(Y165+AR35*D19)/AL50,(Y166+AR35*D19)/AM50,(Y167+AR35*D19)/AN50,(Y168+AR35*D19)/AO50)*AP50","v":307},{"$f":"MIN((Z164+AR35*D19)/AK50,(Z165+AR35*D19)/AL50,(Z166+AR35*D19)/AM50,(Z167+AR35*D19)/AN50,(Z168+AR35*D19)/AO50)*AP50","v":276.5},{"$f":"MIN((AA164+AR35*D19)/AK50,(AA165+AR35*D19)/AL50,(AA166+AR35*D19)/AM50,(AA167+AR35*D19)/AN50,(AA168+AR35*D19)/AO50)*AP50","v":307},{"$f":"MIN((AB164+AR35*D19)/AK50,(AB165+AR35*D19)/AL50,(AB166+AR35*D19)/AM50,(AB167+AR35*D19)/AN50,(AB168+AR35*D19)/AO50)*AP50","v":308.5},{"$f":"MIN((AC164+AR35*D19)/AK50,(AC165+AR35*D19)/AL50,(AC166+AR35*D19)/AM50,(AC167+AR35*D19)/AN50,(AC168+AR35*D19)/AO50)*AP50","v":310.5},{"$f":"MIN((AD164+AR35*D19)/AK50,(AD165+AR35*D19)/AL50,(AD166+AR35*D19)/AM50,(AD167+AR35*D19)/AN50,(AD168+AR35*D19)/AO50)*AP50","v":276.5},{"$f":"MIN((AE164+AR35*D19)/AK50,(AE165+AR35*D19)/AL50,(AE166+AR35*D19)/AM50,(AE167+AR35*D19)/AN50,(AE168+AR35*D19)/AO50)*AP50","v":310.5},{"$f":"MIN((AF164+AR35*D19)/AK50,(AF165+AR35*D19)/AL50,(AF166+AR35*D19)/AM50,(AF167+AR35*D19)/AN50,(AF168+AR35*D19)/AO50)*AP50","v":308.5},310.5,null,"france 11 ",{"$f":"MIN((S164+AS35*D19)/AK51,(S165+AS35*D19)/AL51,(S166+AS35*D19)/AM51,(S167+AS35*D19)/AN51,(S168+AS35*D19)/AO51)*AP51","v":316},{"$f":"MIN((T164+AS35*D19)/AK51,(T165+AS35*D19)/AL51,(T166+AS35*D19)/AM51,(T167+AS35*D19)/AN51,(T168+AS35*D19)/AO51)*AP51","v":313.33333333333331},{"$f":"MIN((U164+AS35*D19)/AK51,(U165+AS35*D19)/AL51,(U166+AS35*D19)/AM51,(U167+AS35*D19)/AN51,(U168+AS35*D19)/AO51)*AP51","v":278.66666666666669},{"$f":"MIN((V164+AS35*D19)/AK51,(V165+AS35*D19)/AL51,(V166+AS35*D19)/AM51,(V167+AS35*D19)/AN51,(V168+AS35*D19)/AO51)*AP51","v":308.66666666666663},{"$f":"MIN((W164+AS35*D19)/AK51,(W165+AS35*D19)/AL51,(W166+AS35*D19)/AM51,(W167+AS35*D19)/AN51,(W168+AS35*D19)/AO51)*AP51","v":278.66666666666669},{"$f":"MIN((X164+AS35*D19)/AK51,(X165+AS35*D19)/AL51,(X166+AS35*D19)/AM51,(X167+AS35*D19)/AN51,(X168+AS35*D19)/AO51)*AP51","v":316},{"$f":"MIN((Y164+AS35*D19)/AK51,(Y165+AS35*D19)/AL51,(Y166+AS35*D19)/AM51,(Y167+AS35*D19)/AN51,(Y168+AS35*D19)/AO51)*AP51","v":314},{"$f":"MIN((Z164+AS35*D19)/AK51,(Z165+AS35*D19)/AL51,(Z166+AS35*D19)/AM51,(Z167+AS35*D19)/AN51,(Z168+AS35*D19)/AO51)*AP51","v":278.66666666666669},{"$f":"MIN((AA164+AS35*D19)/AK51,(AA165+AS35*D19)/AL51,(AA166+AS35*D19)/AM51,(AA167+AS35*D19)/AN51,(AA168+AS35*D19)/AO51)*AP51","v":314},{"$f":"MIN((AB164+AS35*D19)/AK51,(AB165+AS35*D19)/AL51,(AB166+AS35*D19)/AM51,(AB167+AS35*D19)/AN51,(AB168+AS35*D19)/AO51)*AP51","v":310.66666666666663},{"$f":"MIN((AC164+AS35*D19)/AK51,(AC165+AS35*D19)/AL51,(AC166+AS35*D19)/AM51,(AC167+AS35*D19)/AN51,(AC168+AS35*D19)/AO51)*AP51","v":311.33333333333331},{"$f":"MIN((AD164+AS35*D19)/AK51,(AD165+AS35*D19)/AL51,(AD166+AS35*D19)/AM51,(AD167+AS35*D19)/AN51,(AD168+AS35*D19)/AO51)*AP51","v":278.66666666666669},{"$f":"MIN((AE164+AS35*D19)/AK51,(AE165+AS35*D19)/AL51,(AE166+AS35*D19)/AM51,(AE167+AS35*D19)/AN51,(AE168+AS35*D19)/AO51)*AP51","v":318.66666666666663},{"$f":"MIN((AF164+AS35*D19)/AK51,(AF165+AS35*D19)/AL51,(AF166+AS35*D19)/AM51,(AF167+AS35*D19)/AN51,(AF168+AS35*D19)/AO51)*AP51","v":308},318.66666666666663]
[null,null,null,null,null,null,null,null,null,null,null,null,null,null,null,null,null,{"$f":"J28+AH41+D15+D17+D21+D19*AG25","v":569},{"$f":"R180+Q12","v":610},{"$f":"R180+R12","v":629},{"$f":"R180+S12","v":569},{"$f":"R180+T12","v":642},{"$f":"R180+U12","v":569},{"$f":"R180+V12","v":625},{"$f":"R180+W12","v":630},{"$f":"R180+X12","v":569},{"$f":"R180+Y12","v":630},{"$f":"R180+Z12","v":633},{"$f":"R180+AA12","v":637},{"$f":"R180+AB12","v":569},{"$f":"R180+AC12","v":622},{"$f":"R180+AD12","v":640},null,null,null,"france 2 ",{"$f":"MIN((S171+AR35*D19)/AK50,(S172+AR35*D19)/AL50,(S173+AR35*D19)/AM50,(S174+AR35*D19)/AN50,(S175+AR35*D19)/AO50)*AP50","v":262},{"$f":"MIN((T171+AR35*D19)/AK50,(T172+AR35*D19)/AL50,(T173+AR35*D19)/AM50,(T174+AR35*D19)/AN50,(T175+AR35*D19)/AO50)*AP50","v":248},{"$f":"MIN((U171+AR35*D19)/AK50,(U172+AR35*D19)/AL50,(U173+AR35*D19)/AM50,(U174+AR35*D19)/AN50,(U175+AR35*D19)/AO50)*AP50","v":222.00000000000003},{"$f":"MIN((V171+AR35*D19)/AK50,(V172+AR35*D19)/AL50,(V173+AR35*D19)/AM50,(V174+AR35*D19)/AN50,(V175+AR35*D19)/AO50)*AP50","v":244.49999999999997},{"$f":"MIN((W171+AR35*D19)/AK50,(W172+AR35*D19)/AL50,(W173+AR35*D19)/AM50,(W174+AR35*D19)/AN50,(W175+AR35*D19)/AO50)*AP50","v":222.00000000000003},{"$f":"MIN((X171+AR35*D19)/AK50,(X172+AR35*D19)/AL50,(X173+AR35*D19)/AM50,(X174+AR35*D19)/AN50,(X175+AR35*D19)/AO50)*AP50","v":250},{"$f":"MIN((Y171+AR35*D19)/AK50,(Y172+AR35*D19)/AL50,(Y173+AR35*D19)/AM50,(Y174+AR35*D19)/AN50,(Y175+AR35*D19)/AO50)*AP50","v":252.5},{"$f":"MIN((Z171+AR35*D19)/AK50,(Z172+AR35*D19)/AL50,(Z173+AR35*D19)/AM50,(Z174+AR35*D19)/AN50,(Z175+AR35*D19)/AO50)*AP50","v":222.00000000000003},{"$f":"MIN((AA171+AR35*D19)/AK50,(AA172+AR35*D19)/AL50,(AA173+AR35*D19)/AM50,(AA174+AR35*D19)/AN50,(AA175+AR35*D19)/AO50)*AP50","v":252.5},{"$f":"MIN((AB171+AR35*D19)/AK50,(AB172+AR35*D19)/AL50,(AB173+AR35*D19)/AM50,(AB174+AR35*D19)/AN50,(AB175+AR35*D19)/AO50)*AP50","v":254},{"$f":"MIN((AC171+AR35*D19)/AK50,(AC172+AR35*D19)/AL50,(AC173+AR35*D19)/AM50,(AC174+AR35*D19)/AN50,(AC175+AR35*D19)/AO50)*AP50","v":256},{"$f":"MIN((AD171+AR35*D19)/AK50,(AD172+AR35*D19)/AL50,(AD173+AR35*D19)/AM50,(AD174+AR35*D19)/AN50,(AD175+AR35*D19)/AO50)*AP50","v":222.00000000000003},{"$f":"MIN((AE171+AR35*D19)/AK50,(AE172+AR35*D19)/AL50,(AE173+AR35*D19)/AM50,(AE174+AR35*D19)/AN50,(AE175+AR35*D19)/AO50)*AP50","v":256},{"$f":"MIN((AF171+AR35*D19)/AK50,(AF172+AR35*D19)/AL50,(AF173+AR35*D19)/AM50,(AF174+AR35*D19)/AN50,(AF175+AR35*D19)/AO50)*AP50","v":254},262,null,"france 2 ",{"$f":"MIN((S171+AS35*D19)/AK51,(S172+AS35*D19)/AL51,(S173+AS35*D19)/AM51,(S174+AS35*D19)/AN51,(S175+AS35*D19)/AO51)*AP51","v":299.42857142857144},{"$f":"MIN((T171+AS35*D19)/AK51,(T172+AS35*D19)/AL51,(T173+AS35*D19)/AM51,(T174+AS35*D19)/AN51,(T175+AS35*D19)/AO51)*AP51","v":283.42857142857139},{"$f":"MIN((U171+AS35*D19)/AK51,(U172+AS35*D19)/AL51,(U173+AS35*D19)/AM51,(U174+AS35*D19)/AN51,(U175+AS35*D19)/AO51)*AP51","v":253.71428571428569},{"$f":"MIN((V171+AS35*D19)/AK51,(V172+AS35*D19)/AL51,(V173+AS35*D19)/AM51,(V174+AS35*D19)/AN51,(V175+AS35*D19)/AO51)*AP51","v":279.42857142857144},{"$f":"MIN((W171+AS35*D19)/AK51,(W172+AS35*D19)/AL51,(W173+AS35*D19)/AM51,(W174+AS35*D19)/AN51,(W175+AS35*D19)/AO51)*AP51","v":253.71428571428569},{"$f":"MIN((X171+AS35*D19)/AK51,(X172+AS35*D19)/AL51,(X173+AS35*D19)/AM51,(X174+AS35*D19)/AN51,(X175+AS35*D19)/AO51)*AP51","v":285.71428571428572},{"$f":"MIN((Y171+AS35*D19)/AK51,(Y172+AS35*D19)/AL51,(Y173+AS35*D19)/AM51,(Y174+AS35*D19)/AN51,(Y175+AS35*D19)/AO51)*AP51","v":288.57142857142856},{"$f":"MIN((Z171+AS35*D19)/AK51,(Z172+AS35*D19)/AL51,(Z173+AS35*D19)/AM51,(Z174+AS35*D19)/AN51,(Z175+AS35*D19)/AO51)*AP51","v":253.71428571428569},{"$f":"MIN((AA171+AS35*D19)/AK51,(AA172+AS35*D19)/AL51,(AA173+AS35*D19)/AM51,(AA174+AS35*D19)/AN51,(AA175+AS35*D19)/AO51)*AP51","v":288.57142857142856},{"$f":"MIN((AB171+AS35*D19)/AK51,(AB172+AS35*D19)/AL51,(AB173+AS35*D19)/AM51,(AB174+AS35*D19)/AN51,(AB175+AS35*D19)/AO51)*AP51","v":290.28571428571428},{"$f":"MIN((AC171+AS35*D19)/AK51,(AC172+AS35*D19)/AL51,(AC173+AS35*D19)/AM51,(AC174+AS35*D19)/AN51,(AC175+AS35*D19)/AO51)*AP51","v":292.57142857142856},{"$f":"MIN((AD171+AS35*D19)/AK51,(AD172+AS35*D19)/AL51,(AD173+AS35*D19)/AM51,(AD174+AS35*D19)/AN51,(AD175+AS35*D19)/AO51)*AP51","v":253.71428571428569},{"$f":"MIN((AE171+AS35*D19)/AK51,(AE172+AS35*D19)/AL51,(AE173+AS35*D19)/AM51,(AE174+AS35*D19)/AN51,(AE175+AS35*D19)/AO51)*AP51","v":292.57142857142856},{"$f":"MIN((AF171+AS35*D19)/AK51,(AF172+AS35*D19)/AL51,(AF173+AS35*D19)/AM51,(AF174+AS35*D19)/AN51,(AF175+AS35*D19)/AO51)*AP51","v":290.28571428571428},299.42857142857144]
[null,null,null,null,null,null,null,null,null,null,null,null,null,null,null,null,null,{"$f":"K28+AH42+D16+D17+D21+D19*AG25","v":544},{"$f":"R181+Q13","v":569},{"$f":"R181+R13","v":613},{"$f":"R181+S13","v":544},{"$f":"R181+T13","v":608},{"$f":"R181+U13","v":544},{"$f":"R181+V13","v":600},{"$f":"R181+W13","v":605},{"$f":"R181+X13","v":544},{"$f":"R181+Y13","v":605},{"$f":"R181+Z13","v":608},{"$f":"R181+AA13","v":600},{"$f":"R181+AB13","v":544},{"$f":"R181+AC13","v":604},{"$f":"R181+AD13","v":608},null,null,null,"italie 7 ",{"$f":"MIN((S178+$AR$35*$D$19)/$AK$50,(S179+$AR$35*$D$19)/$AL$50,(S180+$AR$35*$D$19)/$AM$50,(S181+$AR$35*$D$19)/$AN$50,(S182+$AR$35*$D$19)/$AO$50)*$AP$50","v":328.5},{"$f":"MIN((T178+AR35*D19)/AK50,(T179+AR35*D19)/AL50,(T180+AR35*D19)/AM50,(T181+AR35*D19)/AN50,(T182+AR35*D19)/AO50)*AP50","v":314.5},{"$f":"MIN((U178+AR35*D19)/AK50,(U179+AR35*D19)/AL50,(U180+AR35*D19)/AM50,(U181+AR35*D19)/AN50,(U182+AR35*D19)/AO50)*AP50","v":288.5},{"$f":"MIN((V178+AR35*D19)/AK50,(V179+AR35*D19)/AL50,(V180+AR35*D19)/AM50,(V181+AR35*D19)/AN50,(V182+AR35*D19)/AO50)*AP50","v":311},{"$f":"MIN((W178+AR35*D19)/AK50,(W179+AR35*D19)/AL50,(W180+AR35*D19)/AM50,(W181+AR35*D19)/AN50,(W182+AR35*D19)/AO50)*AP50","v":288.5},{"$f":"MIN((X178+AR35*D19)/AK50,(X179+AR35*D19)/AL50,(X180+AR35*D19)/AM50,(X181+AR35*D19)/AN50,(X182+AR35*D19)/AO50)*AP50","v":316.5},{"$f":"MIN((Y178+AR35*D19)/AK50,(Y179+AR35*D19)/AL50,(Y180+AR35*D19)/AM50,(Y181+AR35*D19)/AN50,(Y182+AR35*D19)/AO50)*AP50","v":319},{"$f":"MIN((Z178+AR35*D19)/AK50,(Z179+AR35*D19)/AL50,(Z180+AR35*D19)/AM50,(Z181+AR35*D19)/AN50,(Z182+AR35*D19)/AO50)*AP50","v":288.5},{"$f":"MIN((AA178+AR35*D19)/AK50,(AA179+AR35*D19)/AL50,(AA180+AR35*D19)/AM50,(AA181+AR35*D19)/AN50,(AA182+AR35*D19)/AO50)*AP50","v":319},{"$f":"MIN((AB178+AR35*D19)/AK50,(AB179+AR35*D19)/AL50,(AB180+AR35*D19)/AM50,(AB181+AR35*D19)/AN50,(AB182+AR35*D19)/AO50)*AP50","v":320.5},{"$f":"MIN((AC178+AR35*D19)/AK50,(AC179+AR35*D19)/AL50,(AC180+AR35*D19)/AM50,(AC181+AR35*D19)/AN50,(AC182+AR35*D19)/AO50)*AP50","v":322.5},{"$f":"MIN((AD178+AR35*D19)/AK50,(AD179+AR35*D19)/AL50,(AD180+AR35*D19)/AM50,(AD181+AR35*D19)/AN50,(AD182+AR35*D19)/AO50)*AP50","v":288.5},{"$f":"MIN((AE178+AR35*D19)/AK50,(AE179+AR35*D19)/AL50,(AE180+AR35*D19)/AM50,(AE181+AR35*D19)/AN50,(AE182+AR35*D19)/AO50)*AP50","v":322.5},{"$f":"MIN((AF178+AR35*D19)/AK50,(AF179+AR35*D19)/AL50,(AF180+AR35*D19)/AM50,(AF181+AR35*D19)/AN50,(AF182+AR35*D19)/AO50)*AP50","v":320.5},328.5,null,"italie 7 ",{"$f":"MIN((S178+AS35*D19)/AK51,(S179+AS35*D19)/AL51,(S180+AS35*D19)/AM51,(S181+AS35*D19)/AN51,(S182+AS35*D19)/AO51)*AP51","v":350},{"$f":"MIN((T178+AS35*D19)/AK51,(T179+AS35*D19)/AL51,(T180+AS35*D19)/AM51,(T181+AS35*D19)/AN51,(T182+AS35*D19)/AO51)*AP51","v":347.33333333333331},{"$f":"MIN((U178+AS35*D19)/AK51,(U179+AS35*D19)/AL51,(U180+AS35*D19)/AM51,(U181+AS35*D19)/AN51,(U182+AS35*D19)/AO51)*AP51","v":312.66666666666663},{"$f":"MIN((V178+AS35*D19)/AK51,(V179+AS35*D19)/AL51,(V180+AS35*D19)/AM51,(V181+AS35*D19)/AN51,(V182+AS35*D19)/AO51)*AP51","v":342.66666666666669},{"$f":"MIN((W178+AS35*D19)/AK51,(W179+AS35*D19)/AL51,(W180+AS35*D19)/AM51,(W181+AS35*D19)/AN51,(W182+AS35*D19)/AO51)*AP51","v":312.66666666666663},{"$f":"MIN((X178+AS35*D19)/AK51,(X179+AS35*D19)/AL51,(X180+AS35*D19)/AM51,(X181+AS35*D19)/AN51,(X182+AS35*D19)/AO51)*AP51","v":350},{"$f":"MIN((Y178+AS35*D19)/AK51,(Y179+AS35*D19)/AL51,(Y180+AS35*D19)/AM51,(Y181+AS35*D19)/AN51,(Y182+AS35*D19)/AO51)*AP51","v":348},{"$f":"MIN((Z178+AS35*D19)/AK51,(Z179+AS35*D19)/AL51,(Z180+AS35*D19)/AM51,(Z181+AS35*D19)/AN51,(Z182+AS35*D19)/AO51)*AP51","v":312.66666666666663},{"$f":"MIN((AA178+AS35*D19)/AK51,(AA179+AS35*D19)/AL51,(AA180+AS35*D19)/AM51,(AA181+AS35*D19)/AN51,(AA182+AS35*D19)/AO51)*AP51","v":348},{"$f":"MIN((AB178+AS35*D19)/AK51,(AB179+AS35*D19)/AL51,(AB180+AS35*D19)/AM51,(AB181+AS35*D19)/AN51,(AB182+AS35*D19)/AO51)*AP51","v":344.66666666666669},{"$f":"MIN((AC178+AS35*D19)/AK51,(AC179+AS35*D19)/AL51,(AC180+AS35*D19)/AM51,(AC181+AS35*D19)/AN51,(AC182+AS35*D19)/AO51)*AP51","v":345.33333333333331},{"$f":"MIN((AD178+AS35*D19)/AK51,(AD179+AS35*D19)/AL51,(AD180+AS35*D19)/AM51,(AD181+AS35*D19)/AN51,(AD182+AS35*D19)/AO51)*AP51","v":312.66666666666663},{"$f":"MIN((AE178+AS35*D19)/AK51,(AE179+AS35*D19)/AL51,(AE180+AS35*D19)/AM51,(AE181+AS35*D19)/AN51,(AE182+AS35*D19)/AO51)*AP51","v":352.66666666666669},{"$f":"MIN((AF178+AS35*D19)/AK51,(AF179+AS35*D19)/AL51,(AF180+AS35*D19)/AM51,(AF181+AS35*D19)/AN51,(AF182+AS35*D19)/AO51)*AP51","v":342},352.66666666666669]
[null,null,null,null,null,null,null,null,null,null,null,null,null,null,null,null,null,{"$f":"L28+AH43+D15+D17+D21+D19*AG25","v":469},{"$f":"R182+Q14","v":525},{"$f":"R182+R14","v":521},{"$f":"R182+S14","v":469},{"$f":"R182+T14","v":514},{"$f":"R182+U14","v":469},{"$f":"R182+V14","v":525},{"$f":"R182+W14","v":522},{"$f":"R182+X14","v":469},{"$f":"R182+Y14","v":522},{"$f":"R182+Z14","v":517},{"$f":"R182+AA14","v":518},{"$f":"R182+AB14","v":469},{"$f":"R182+AC14","v":529},{"$f":"R182+AD14","v":513},null,null,null,{"$f":"AJ209","v":"japon 5 "},{"$f":"MIN((S185+$AR$35*$D$19)/$AK$50,(S186+$AR$35*$D$19)/$AL$50,(S187+$AR$35*$D$19)/$AM$50,(S188+$AR$35*$D$19)/$AN$50,(S189+$AR$35*$D$19)/$AO$50)*$AP$50","v":276.5},262.5,236.50000000000003,259,236.50000000000003,264.5,267,236.50000000000003,267,268.5,270.5,236.50000000000003,270.5,268.5,276.5,null,"japon 5 ",{"$f":"MIN((S185+$AS$35*$D$19)/$AK$51,(S186+$AS$35*$D$19)/$AL$51,(S187+$AS$35*$D$19)/$AM$51,(S188+$AS$35*$D$19)/$AN$51,(S189+$AS$35*$D$19)/$AO$51)*$AP$51","v":310},300,270.28571428571428,296,270.28571428571428,302.28571428571428,305.14285714285717,270.28571428571428,305.14285714285717,306.85714285714283,309.14285714285717,270.28571428571428,309.14285714285717,306.85714285714283,310]
[null,null,null,null,null,null,null,null,null,null,null,null,null,null,null,null,null,null,null,null,null,null,null,null,null,null,null,null,null,null,null,null,null,null,null,"nigeria 4 ",{"$f":"MIN((S192+$AR$35*$D$19)/$AK$50,(S193+$AR$35*$D$19)/$AL$50,(S194+$AR$35*$D$19)/$AM$50,(S195+$AR$35*$D$19)/$AN$50,(S196+$AR$35*$D$19)/$AO$50)*$AP$50","v":221},206.99999999999997,181,203.5,181,209,211.50000000000003,181,211.50000000000003,213,215,181,215,213,221,null,"nigeria 4 ",{"$f":"MIN((S192+$AS$35*$D$19)/$AK$51,(S193+$AS$35*$D$19)/$AL$51,(S194+$AS$35*$D$19)/$AM$51,(S195+$AS$35*$D$19)/$AN$51,(S196+$AS$35*$D$19)/$AO$51)*$AP$51","v":252.57142857142858},236.57142857142856,206.85714285714286,232.57142857142856,206.85714285714286,238.85714285714289,241.71428571428572,206.85714285714286,241.71428571428572,243.42857142857142,245.71428571428572,206.85714285714286,245.71428571428572,243.42857142857142,252.57142857142858]
[null,null,null,null,null,null,null,null,null,null,null,null,null,null,null,null,null,{"$f":"G29","v":"japon 5 "},{"$f":"S170","v":"kit 1"},{"$f":"T170","v":"kit 2/3"},0,"kit 4",0,"kit 5","kit 6/7",0,0,"kit 8","kit 9",0,{"$f":"AE170","v":"kit 10"},{"$f":"AF170","v":"kit 11"},null,null,null,"slovaquie 7 ",{"$f":"MIN((S199+$AR$35*$D$19)/$AK$50,(S200+$AR$35*$D$19)/$AL$50,(S201+$AR$35*$D$19)/$AM$50,(S202+$AR$35*$D$19)/$AN$50,(S203+$AR$35*$D$19)/$AO$50)*$AP$50","v":291.5},277.5,251.5,274,251.5,279.5,282,251.5,282,283.5,285.5,251.5,285.5,283.5,291.5,null,"slovaquie 7 ",{"$f":"MIN((S199+$AS$35*$D$19)/$AK$51,(S200+$AS$35*$D$19)/$AL$51,(S201+$AS$35*$D$19)/$AM$51,(S202+$AS$35*$D$19)/$AN$51,(S203+$AS$35*$D$19)/$AO$51)*$AP$51","v":307.33333333333331},304.66666666666669,270,300,270,307.33333333333331,305.33333333333331,270,305.33333333333331,302,302.66666666666669,270,310,299.33333333333331,310]
[null,null,null,null,null,null,null,null,null,null,null,null,null,null,null,null,null,{"$f":"H29+AH39+D16+D17+D21+D19*AG26","v":578},{"$f":"R185+Q10","v":619},{"$f":"R185+R10","v":647},{"$f":"R185+S10","v":578},{"$f":"R185+T10","v":651},{"$f":"R185+U10","v":578},{"$f":"R185+V10","v":648},{"$f":"R185+W10","v":639},{"$f":"R185+X10","v":578},{"$f":"R185+Y10","v":639},{"$f":"R185+Z10","v":634},{"$f":"R185+AA10","v":639},{"$f":"R185+AB10","v":578},{"$f":"R185+AC10","v":624},{"$f":"R185+AD10","v":629},null,null,null,"slovaquie 7 bis ",{"$f":"MIN((S206+$AR$35*$D$19)/$AK$50,(S207+$AR$35*$D$19)/$AL$50,(S208+$AR$35*$D$19)/$AM$50,(S209+$AR$35*$D$19)/$AN$50,(S210+$AR$35*$D$19)/$AO$50)*$AP$50","v":322.5},308.5,282.5,305,282.5,310.5,313,282.5,313,314.5,316.5,282.5,316.5,314.5,322.5,null,{"$f":"AJ212","v":"slovaquie 7 bis "},{"$f":"MIN((S206+$AS$35*$D$19)/$AK$51,(S207+$AS$35*$D$19)/$AL$51,(S208+$AS$35*$D$19)/$AM$51,(S209+$AS$35*$D$19)/$AN$51,(S210+$AS$35*$D$19)/$AO$51)*$AP$51","v":324.66666666666669},322,287.33333333333337,317.33333333333331,287.33333333333337,324.66666666666669,322.66666666666663,287.33333333333337,322.66666666666663,319.33333333333331,320,287.33333333333337,327.33333333333337,316.66666666666663,{"$f":"MAX(BB185:BO185)","v":327.33333333333337}]
[null,null,null,null,null,null,null,null,null,null,null,null,null,null,null,null,null,{"$f":"I29+AH40+D15+D17+D21+D19*AG26","v":473},{"$f":"R186+Q11","v":553},{"$f":"R186+R11","v":525},{"$f":"R186+S11","v":473},{"$f":"R186+T11","v":518},{"$f":"R186+U11","v":473},{"$f":"R186+V11","v":529},{"$f":"R186+W11","v":534},{"$f":"R186+X11","v":473},{"$f":"R186+Y11","v":534},{"$f":"R186+Z11","v":537},{"$f":"R186+AA11","v":541},{"$f":"R186+AB11","v":473},{"$f":"R186+AC11","v":541},{"$f":"R186+AD11","v":537},null,null,null,0,{"$f":"MIN((S213+$AR$35*$D$19)/$AK$50,(S214+$AR$35*$D$19)/$AL$50,(S215+$AR$35*$D$19)/$AM$50,(S216+$AR$35*$D$19)/$AN$50,(S217+$AR$35*$D$19)/$AO$50)*$AP$50","v":101.14285714285714},94,68,90.5,68,96,98.5,68,98.5,100,102,68,102,100,102,null,0,{"$f":"MIN((S213+$AS$35*$D$19)/$AK$51,(S214+$AS$35*$D$19)/$AL$51,(S215+$AS$35*$D$19)/$AM$51,(S216+$AS$35*$D$19)/$AN$51,(S217+$AS$35*$D$19)/$AO$51)*$AP$51","v":97.333333333333343},107.42857142857143,77.714285714285708,103.42857142857143,77.714285714285708,109.71428571428572,112.57142857142857,77.714285714285708,112.57142857142857,112.00000000000001,112.66666666666667,77.714285714285708,116.57142857142857,109.33333333333333,116.57142857142857]
[null,null,null,null,null,null,null,null,null,null,null,null,null,null,null,null,null,{"$f":"J29+AH41+D15+D17+D21+D19*AG26","v":471},{"$f":"R187+Q12","v":512},{"$f":"R187+R12","v":531},{"$f":"R187+S12","v":471},{"$f":"R187+T12","v":544},{"$f":"R187+U12","v":471},{"$f":"R187+V12","v":527},{"$f":"R187+W12","v":532},{"$f":"R187+X12","v":471},{"$f":"R187+Y12","v":532},{"$f":"R187+Z12","v":535},{"$f":"R187+AA12","v":539},{"$f":"R187+AB12","v":471},{"$f":"R187+AC12","v":524},{"$f":"R187+AD12","v":542},null,null,null,0,{"$f":"MIN((S220+$AR$35*$D$19)/$AK$50,(S221+$AR$35*$D$19)/$AL$50,(S222+$AR$35*$D$19)/$AM$50,(S223+$AR$35*$D$19)/$AN$50,(S224+$AR$35*$D$19)/$AO$50)*$AP$50","v":101.14285714285714},94,68,90.5,68,96,98.5,68,98.5,100,102,68,102,100,102,null,0,{"$f":"MIN((S220+$AS$35*$D$19)/$AK$51,(S221+$AS$35*$D$19)/$AL$51,(S222+$AS$35*$D$19)/$AM$51,(S223+$AS$35*$D$19)/$AN$51,(S224+$AS$35*$D$19)/$AO$51)*$AP$51","v":97.333333333333343},107.42857142857143,77.714285714285708,103.42857142857143,77.714285714285708,109.71428571428572,112.57142857142857,77.714285714285708,112.57142857142857,112.00000000000001,112.66666666666667,77.714285714285708,116.57142857142857,109.33333333333333,116.57142857142857]
[null,null,null,null,null,null,null,null,null,null,null,null,null,null,null,null,null,{"$f":"K29+AH42+D16+D17+D21+D19*AG26","v":440},{"$f":"R188+Q13","v":465},{"$f":"R188+R13","v":509},{"$f":"R188+S13","v":440},{"$f":"R188+T13","v":504},{"$f":"R188+U13","v":440},{"$f":"R188+V13","v":496},{"$f":"R188+W13","v":501},{"$f":"R188+X13","v":440},{"$f":"R188+Y13","v":501},{"$f":"R188+Z13","v":504},{"$f":"R188+AA13","v":496},{"$f":"R188+AB13","v":440},{"$f":"R188+AC13","v":500},{"$f":"R188+AD13","v":504},null,null,null,0,{"$f":"MIN((S227+$AR$35*$D$19)/$AK$50,(S228+$AR$35*$D$19)/$AL$50,(S229+$AR$35*$D$19)/$AM$50,(S230+$AR$35*$D$19)/$AN$50,(S231+$AR$35*$D$19)/$AO$50)*$AP$50","v":101.14285714285714},94,68,90.5,68,96,98.5,68,98.5,100,102,68,102,100,102,null,0,{"$f":"MIN((S227+$AS$35*$D$19)/$AK$51,(S228+$AS$35*$D$19)/$AL$51,(S229+$AS$35*$D$19)/$AM$51,(S230+$AS$35*$D$19)/$AN$51,(S231+$AS$35*$D$19)/$AO$51)*$AP$51","v":97.333333333333343},107.42857142857143,77.714285714285708,103.42857142857143,77.714285714285708,109.71428571428572,112.57142857142857,77.714285714285708,112.57142857142857,112.00000000000001,112.66666666666667,77.714285714285708,116.57142857142857,109.33333333333333,116.57142857142857]
[null,null,null,null,null,null,null,null,null,null,null,null,null,null,null,null,null,{"$f":"L29+AH43+D15+D17+D21+D19*AG26","v":461},{"$f":"R189+Q14","v":517},{"$f":"R189+R14","v":513},{"$f":"R189+S14","v":461},{"$f":"R189+T14","v":506},{"$f":"R189+U14","v":461},{"$f":"R189+V14","v":517},{"$f":"R189+W14","v":514},{"$f":"R189+X14","v":461},{"$f":"R189+Y14","v":514},{"$f":"R189+Z14","v":509},{"$f":"R189+AA14","v":510},{"$f":"R189+AB14","v":461},{"$f":"R189+AC14","v":521},{"$f":"R189+AD14","v":505}]
[null,null,null,null,null,null,null,null,null,null,null,null,null,null,null,null,null,null,null,null,null,null,null,null,null,null,null,null,null,null,null,null,null,null,null,11,{"$f":"Q9","v":"kit 1"},"kit 2/3",0,"kit 4",0,"kit 5","kit 6/7",0,0,"kit 8",{"$f":"AA9","v":"kit 9"},0,"kit 10","kit 11","MAX","gain minimum pour une pilule par position"]
[null,null,null,null,null,null,null,null,null,null,null,null,null,null,null,null,null,{"$f":"G30","v":"nigeria 4 "},{"$f":"S170","v":"kit 1"},{"$f":"T170","v":"kit 2/3"},0,"kit 4",0,"kit 5","kit 6/7",0,0,"kit 8","kit 9",0,{"$f":"AE170","v":"kit 10"},{"$f":"AF170","v":"kit 11"},null,null,null,{"$f":"R58","v":"espagne 9 "},{"$f":"MIN((S59+AT35*D19)/AK52,(S60+AT35*D19)/AL52,(S61+AT35*D19)/AM52,(S62+AT35*D19)/AN52,(S63+AT35*D19)/AO52)*AP52","v":406.66666666666663},{"$f":"MIN((T59+AT35*D19)/AK52,(T60+AT35*D19)/AL52,(T61+AT35*D19)/AM52,(T62+AT35*D19)/AN52,(T63+AT35*D19)/AO52)*AP52","v":436.00000000000006},{"$f":"MIN((U59+AT35*D19)/AK52,(U60+AT35*D19)/AL52,(U61+AT35*D19)/AM52,(U62+AT35*D19)/AN52,(U63+AT35*D19)/AO52)*AP52","v":390},{"$f":"MIN((V59+AT35*D19)/AK52,(V60+AT35*D19)/AL52,(V61+AT35*D19)/AM52,(V62+AT35*D19)/AN52,(V63+AT35*D19)/AO52)*AP52","v":432.66666666666669},{"$f":"MIN((W59+AT35*D19)/AK52,(W60+AT35*D19)/AL52,(W61+AT35*D19)/AM52,(W62+AT35*D19)/AN52,(W63+AT35*D19)/AO52)*AP52","v":390},{"$f":"MIN((X59+AT35*D19)/AK52,(X60+AT35*D19)/AL52,(X61+AT35*D19)/AM52,(X62+AT35*D19)/AN52,(X63+AT35*D19)/AO52)*AP52","v":427.33333333333337},{"$f":"MIN((Y59+AT35*D19)/AK52,(Y60+AT35*D19)/AL52,(Y61+AT35*D19)/AM52,(Y62+AT35*D19)/AN52,(Y63+AT35*D19)/AO52)*AP52","v":430.66666666666669},{"$f":"MIN((Z59+AT35*D19)/AK52,(Z60+AT35*D19)/AL52,(Z61+AT35*D19)/AM52,(Z62+AT35*D19)/AN52,(Z63+AT35*D19)/AO52)*AP52","v":390},{"$f":"MIN((AA59+AT35*D19)/AK52,(AA60+AT35*D19)/AL52,(AA61+AT35*D19)/AM52,(AA62+AT35*D19)/AN52,(AA63+AT35*D19)/AO52)*AP52","v":430.66666666666669},{"$f":"MIN((AB59+AT35*D19)/AK52,(AB60+AT35*D19)/AL52,(AB61+AT35*D19)/AM52,(AB62+AT35*D19)/AN52,(AB63+AT35*D19)/AO52)*AP52","v":432.66666666666669},{"$f":"MIN((AC59+AT35*D19)/AK52,(AC60+AT35*D19)/AL52,(AC61+AT35*D19)/AM52,(AC62+AT35*D19)/AN52,(AC63+AT35*D19)/AO52)*AP52","v":427.33333333333337},{"$f":"MIN((AD59+AT35*D19)/AK52,(AD60+AT35*D19)/AL52,(AD61+AT35*D19)/AM52,(AD62+AT35*D19)/AN52,(AD63+AT35*D19)/AO52)*AP52","v":390},{"$f":"MIN((AE59+AT35*D19)/AK52,(AE60+AT35*D19)/AL52,(AE61+AT35*D19)/AM52,(AE62+AT35*D19)/AN52,(AE63+AT35*D19)/AO52)*AP52","v":430},{"$f":"MIN((AF59+AT35*D19)/AK52,(AF60+AT35*D19)/AL52,(AF61+AT35*D19)/AM52,(AF62+AT35*D19)/AN52,(AF63+AT35*D19)/AO52)*AP52","v":432.66666666666669},{"$f":"MAX(AK191:AX191)","v":436.00000000000006},null,"position",1,2,3,4,5,6,7,8,9,10,11]
[null,null,null,null,null,null,null,null,null,null,null,null,null,null,null,null,null,{"$f":"H30+AH39+D16+D17+D21+D19*AG27","v":561},{"$f":"R192+Q10","v":602},{"$f":"R192+R10","v":630},{"$f":"R192+S10","v":561},{"$f":"R192+T10","v":634},{"$f":"R192+U10","v":561},{"$f":"R192+V10","v":631},{"$f":"R192+W10","v":622},{"$f":"R192+X10","v":561},{"$f":"R192+Y10","v":622},{"$f":"R192+Z10","v":617},{"$f":"R192+AA10","v":622},{"$f":"R192+AB10","v":561},{"$f":"R192+AC10","v":607},{"$f":"R192+AD10","v":612},null,null,null,{"$f":"R65","v":2},{"$f":"MIN((S66+AT35*D19)/AK52,(S67+AT35*D19)/AL52,(S68+AT35*D19)/AM52,(S69+AT35*D19)/AN52,(S70+AT35*D19)/AO52)*AP52","v":406.66666666666663},{"$f":"MIN((T66+AT35*D19)/AK52,(T67+AT35*D19)/AL52,(T68+AT35*D19)/AM52,(T69+AT35*D19)/AN52,(T70+AT35*D19)/AO52)*AP52","v":417.33333333333331},{"$f":"MIN((U66+AT35*D19)/AK52,(U67+AT35*D19)/AL52,(U68+AT35*D19)/AM52,(U69+AT35*D19)/AN52,(U70+AT35*D19)/AO52)*AP52","v":379.33333333333337},{"$f":"MIN((V66+AT35*D19)/AK52,(V67+AT35*D19)/AL52,(V68+AT35*D19)/AM52,(V69+AT35*D19)/AN52,(V70+AT35*D19)/AO52)*AP52","v":412.66666666666669},{"$f":"MIN((W66+AT35*D19)/AK52,(W67+AT35*D19)/AL52,(W68+AT35*D19)/AM52,(W69+AT35*D19)/AN52,(W70+AT35*D19)/AO52)*AP52","v":379.33333333333337},{"$f":"MIN((X66+AT35*D19)/AK52,(X67+AT35*D19)/AL52,(X68+AT35*D19)/AM52,(X69+AT35*D19)/AN52,(X70+AT35*D19)/AO52)*AP52","v":416.66666666666669},{"$f":"MIN((Y66+AT35*D19)/AK52,(Y67+AT35*D19)/AL52,(Y68+AT35*D19)/AM52,(Y69+AT35*D19)/AN52,(Y70+AT35*D19)/AO52)*AP52","v":420},{"$f":"MIN((Z66+AT35*D19)/AK52,(Z67+AT35*D19)/AL52,(Z68+AT35*D19)/AM52,(Z69+AT35*D19)/AN52,(Z70+AT35*D19)/AO52)*AP52","v":379.33333333333337},{"$f":"MIN((AA66+AT35*D19)/AK52,(AA67+AT35*D19)/AL52,(AA68+AT35*D19)/AM52,(AA69+AT35*D19)/AN52,(AA70+AT35*D19)/AO52)*AP52","v":420},{"$f":"MIN((AB66+AT35*D19)/AK52,(AB67+AT35*D19)/AL52,(AB68+AT35*D19)/AM52,(AB69+AT35*D19)/AN52,(AB70+AT35*D19)/AO52)*AP52","v":422},{"$f":"MIN((AC66+AT35*D19)/AK52,(AC67+AT35*D19)/AL52,(AC68+AT35*D19)/AM52,(AC69+AT35*D19)/AN52,(AC70+AT35*D19)/AO52)*AP52","v":424.66666666666669},{"$f":"MIN((AD66+AT35*D19)/AK52,(AD67+AT35*D19)/AL52,(AD68+AT35*D19)/AM52,(AD69+AT35*D19)/AN52,(AD70+AT35*D19)/AO52)*AP52","v":379.33333333333337},{"$f":"MIN((AE66+AT35*D19)/AK52,(AE67+AT35*D19)/AL52,(AE68+AT35*D19)/AM52,(AE69+AT35*D19)/AN52,(AE70+AT35*D19)/AO52)*AP52","v":414.66666666666663},{"$f":"MIN((AF66+AT35*D19)/AK52,(AF67+AT35*D19)/AL52,(AF68+AT35*D19)/AM52,(AF69+AT35*D19)/AN52,(AF70+AT35*D19)/AO52)*AP52","v":425.33333333333331},425.33333333333331,null,"gain pilule",{"$f":"MIN((D19)/AK42,(D19)/AL42,(D19)/AM42,(D19)/AN42,(D19)/AO42)*AP42*BW58","v":73.568250000000006},{"$f":"MIN((D19)/AK43,(D19)/AL43,(D19)/AM43,(D19)/AN43,(D19)/AO43)*AP43*BW59","v":49.044599999999996},{"$f":"MIN((D19)/AK44,(D19)/AL44,(D19)/AM44,(D19)/AN44,(D19)/AO44)*AP44*BW60","v":49.044599999999996},{"$f":"MIN((D19)/AK45,(D19)/AL45,(D19)/AM45,(D19)/AN45,(D19)/AO45)*AP45*BW61","v":32.697000000000003},{"$f":"MIN((D19)/AK46,(D19)/AL46,(D19)/AM46,(D19)/AN46,(D19)/AO46)*AP46*BW62","v":73.566900000000004},{"$f":"MIN((D19)/AK47,(D19)/AL47,(D19)/AM47,(D19)/AN47,(D19)/AO47)*AP47*BW63","v":58.853520000000003},{"$f":"MIN((D19)/AK48,(D19)/AL48,(D19)/AM48,(D19)/AN48,(D19)/AO48)*AP48*BW64","v":58.618080000000006},{"$f":"MIN((D19)/AK49,(D19)/AL49,(D19)/AM49,(D19)/AN49,(D19)/AO49)*AP49*BW65","v":98.091000000000008},{"$f":"MIN((D19)/AK50,(D19)/AL50,(D19)/AM50,(D19)/AN50,(D19)/AO50)*AP50*BW66","v":61.306200000000011},{"$f":"MIN((D19)/AK51,(D19)/AL51,(D19)/AM51,(D19)/AN51,(D19)/AO51)*AP51*BW67","v":56.051999999999992},{"$f":"MIN((D19)/AK52,(D19)/AL52,(D19)/AM52,(D19)/AN52,(D19)/AO52)*AP52*BW68","v":98.091000000000008}]
[null,null,null,null,null,null,null,null,null,null,null,null,null,null,null,null,null,{"$f":"I30+AH40+D15+D17+D21+D19*AG27","v":362},{"$f":"R193+Q11","v":442},{"$f":"R193+R11","v":414},{"$f":"R193+S11","v":362},{"$f":"R193+T11","v":407},{"$f":"R193+U11","v":362},{"$f":"R193+V11","v":418},{"$f":"R193+W11","v":423},{"$f":"R193+X11","v":362},{"$f":"R193+Y11","v":423},{"$f":"R193+Z11","v":426},{"$f":"R193+AA11","v":430},{"$f":"R193+AB11","v":362},{"$f":"R193+AC11","v":430},{"$f":"R193+AD11","v":426},null,null,null,{"$f":"R72","v":3},{"$f":"MIN((S73+AT35*D19)/AK52,(S74+AT35*D19)/AL52,(S75+AT35*D19)/AM52,(S76+AT35*D19)/AN52,(S77+AT35*D19)/AO52)*AP52","v":343.33333333333331},{"$f":"MIN((T73+AT35*D19)/AK52,(T74+AT35*D19)/AL52,(T75+AT35*D19)/AM52,(T76+AT35*D19)/AN52,(T77+AT35*D19)/AO52)*AP52","v":324.66666666666669},{"$f":"MIN((U73+AT35*D19)/AK52,(U74+AT35*D19)/AL52,(U75+AT35*D19)/AM52,(U76+AT35*D19)/AN52,(U77+AT35*D19)/AO52)*AP52","v":290},{"$f":"MIN((V73+AT35*D19)/AK52,(V74+AT35*D19)/AL52,(V75+AT35*D19)/AM52,(V76+AT35*D19)/AN52,(V77+AT35*D19)/AO52)*AP52","v":320},{"$f":"MIN((W73+AT35*D19)/AK52,(W74+AT35*D19)/AL52,(W75+AT35*D19)/AM52,(W76+AT35*D19)/AN52,(W77+AT35*D19)/AO52)*AP52","v":290},{"$f":"MIN((X73+AT35*D19)/AK52,(X74+AT35*D19)/AL52,(X75+AT35*D19)/AM52,(X76+AT35*D19)/AN52,(X77+AT35*D19)/AO52)*AP52","v":327.33333333333337},{"$f":"MIN((Y73+AT35*D19)/AK52,(Y74+AT35*D19)/AL52,(Y75+AT35*D19)/AM52,(Y76+AT35*D19)/AN52,(Y77+AT35*D19)/AO52)*AP52","v":330.66666666666669},{"$f":"MIN((Z73+AT35*D19)/AK52,(Z74+AT35*D19)/AL52,(Z75+AT35*D19)/AM52,(Z76+AT35*D19)/AN52,(Z77+AT35*D19)/AO52)*AP52","v":290},{"$f":"MIN((AA73+AT35*D19)/AK52,(AA74+AT35*D19)/AL52,(AA75+AT35*D19)/AM52,(AA76+AT35*D19)/AN52,(AA77+AT35*D19)/AO52)*AP52","v":330.66666666666669},{"$f":"MIN((AB73+AT35*D19)/AK52,(AB74+AT35*D19)/AL52,(AB75+AT35*D19)/AM52,(AB76+AT35*D19)/AN52,(AB77+AT35*D19)/AO52)*AP52","v":332.66666666666669},{"$f":"MIN((AC73+AT35*D19)/AK52,(AC74+AT35*D19)/AL52,(AC75+AT35*D19)/AM52,(AC76+AT35*D19)/AN52,(AC77+AT35*D19)/AO52)*AP52","v":335.33333333333337},{"$f":"MIN((AD73+AT35*D19)/AK52,(AD74+AT35*D19)/AL52,(AD75+AT35*D19)/AM52,(AD76+AT35*D19)/AN52,(AD77+AT35*D19)/AO52)*AP52","v":290},{"$f":"MIN((AE73+AT35*D19)/AK52,(AE74+AT35*D19)/AL52,(AE75+AT35*D19)/AM52,(AE76+AT35*D19)/AN52,(AE77+AT35*D19)/AO52)*AP52","v":335.33333333333337},{"$f":"MIN((AF73+AT35*D19)/AK52,(AF74+AT35*D19)/AL52,(AF75+AT35*D19)/AM52,(AF76+AT35*D19)/AN52,(AF77+AT35*D19)/AO52)*AP52","v":332.66666666666669},343.33333333333331]
[null,null,null,null,null,null,null,null,null,null,null,null,null,null,null,null,null,{"$f":"J30+AH41+D15+D17+D21+D19*AG27","v":552},{"$f":"R194+Q12","v":593},{"$f":"R194+R12","v":612},{"$f":"R194+S12","v":552},{"$f":"R194+T12","v":625},{"$f":"R194+U12","v":552},{"$f":"R194+V12","v":608},{"$f":"R194+W12","v":613},{"$f":"R194+X12","v":552},{"$f":"R194+Y12","v":613},{"$f":"R194+Z12","v":616},{"$f":"R194+AA12","v":620},{"$f":"R194+AB12","v":552},{"$f":"R194+AC12","v":605},{"$f":"R194+AD12","v":623},null,null,null,{"$f":"R79","v":"algerie 4 "},{"$f":"MIN((S80+AT35*D19)/AK52,(S81+AT35*D19)/AL52,(S82+AT35*D19)/AM52,(S83+AT35*D19)/AN52,(S84+AT35*D19)/AO52)*AP52","v":300},{"$f":"MIN((T80+AT35*D19)/AK52,(T81+AT35*D19)/AL52,(T82+AT35*D19)/AM52,(T83+AT35*D19)/AN52,(T84+AT35*D19)/AO52)*AP52","v":281.33333333333337},{"$f":"MIN((U80+AT35*D19)/AK52,(U81+AT35*D19)/AL52,(U82+AT35*D19)/AM52,(U83+AT35*D19)/AN52,(U84+AT35*D19)/AO52)*AP52","v":246.66666666666669},{"$f":"MIN((V80+AT35*D19)/AK52,(V81+AT35*D19)/AL52,(V82+AT35*D19)/AM52,(V83+AT35*D19)/AN52,(V84+AT35*D19)/AO52)*AP52","v":276.66666666666669},{"$f":"MIN((W80+AT35*D19)/AK52,(W81+AT35*D19)/AL52,(W82+AT35*D19)/AM52,(W83+AT35*D19)/AN52,(W84+AT35*D19)/AO52)*AP52","v":246.66666666666669},{"$f":"MIN((X80+AT35*D19)/AK52,(X81+AT35*D19)/AL52,(X82+AT35*D19)/AM52,(X83+AT35*D19)/AN52,(X84+AT35*D19)/AO52)*AP52","v":284},{"$f":"MIN((Y80+AT35*D19)/AK52,(Y81+AT35*D19)/AL52,(Y82+AT35*D19)/AM52,(Y83+AT35*D19)/AN52,(Y84+AT35*D19)/AO52)*AP52","v":287.33333333333337},{"$f":"MIN((Z80+AT35*D19)/AK52,(Z81+AT35*D19)/AL52,(Z82+AT35*D19)/AM52,(Z83+AT35*D19)/AN52,(Z84+AT35*D19)/AO52)*AP52","v":246.66666666666669},{"$f":"MIN((AA80+AT35*D19)/AK52,(AA81+AT35*D19)/AL52,(AA82+AT35*D19)/AM52,(AA83+AT35*D19)/AN52,(AA84+AT35*D19)/AO52)*AP52","v":287.33333333333337},{"$f":"MIN((AB80+AT35*D19)/AK52,(AB81+AT35*D19)/AL52,(AB82+AT35*D19)/AM52,(AB83+AT35*D19)/AN52,(AB84+AT35*D19)/AO52)*AP52","v":289.33333333333337},{"$f":"MIN((AC80+AT35*D19)/AK52,(AC81+AT35*D19)/AL52,(AC82+AT35*D19)/AM52,(AC83+AT35*D19)/AN52,(AC84+AT35*D19)/AO52)*AP52","v":292},{"$f":"MIN((AD80+AT35*D19)/AK52,(AD81+AT35*D19)/AL52,(AD82+AT35*D19)/AM52,(AD83+AT35*D19)/AN52,(AD84+AT35*D19)/AO52)*AP52","v":246.66666666666669},{"$f":"MIN((AE80+AT35*D19)/AK52,(AE81+AT35*D19)/AL52,(AE82+AT35*D19)/AM52,(AE83+AT35*D19)/AN52,(AE84+AT35*D19)/AO52)*AP52","v":292},{"$f":"MIN((AF80+AT35*D19)/AK52,(AF81+AT35*D19)/AL52,(AF82+AT35*D19)/AM52,(AF83+AT35*D19)/AN52,(AF84+AT35*D19)/AO52)*AP52","v":289.33333333333337},300]
[null,null,null,null,null,null,null,null,null,null,null,null,null,null,null,null,null,{"$f":"K30+AH42+D16+D17+D21+D19*AG27","v":456},{"$f":"R195+Q13","v":481},{"$f":"R195+R13","v":525},{"$f":"R195+S13","v":456},{"$f":"R195+T13","v":520},{"$f":"R195+U13","v":456},{"$f":"R195+V13","v":512},{"$f":"R195+W13","v":517},{"$f":"R195+X13","v":456},{"$f":"R195+Y13","v":517},{"$f":"R195+Z13","v":520},{"$f":"R195+AA13","v":512},{"$f":"R195+AB13","v":456},{"$f":"R195+AC13","v":516},{"$f":"R195+AD13","v":520},null,null,null,{"$f":"R86","v":"ghana 5 "},{"$f":"MIN((S87+AT35*D19)/AK52,(S88+AT35*D19)/AL52,(S89+AT35*D19)/AM52,(S90+AT35*D19)/AN52,(S91+AT35*D19)/AO52)*AP52","v":371.33333333333331},{"$f":"MIN((T87+AT35*D19)/AK52,(T88+AT35*D19)/AL52,(T89+AT35*D19)/AM52,(T90+AT35*D19)/AN52,(T91+AT35*D19)/AO52)*AP52","v":400.66666666666669},{"$f":"MIN((U87+AT35*D19)/AK52,(U88+AT35*D19)/AL52,(U89+AT35*D19)/AM52,(U90+AT35*D19)/AN52,(U91+AT35*D19)/AO52)*AP52","v":354.66666666666669},{"$f":"MIN((V87+AT35*D19)/AK52,(V88+AT35*D19)/AL52,(V89+AT35*D19)/AM52,(V90+AT35*D19)/AN52,(V91+AT35*D19)/AO52)*AP52","v":397.33333333333331},{"$f":"MIN((W87+AT35*D19)/AK52,(W88+AT35*D19)/AL52,(W89+AT35*D19)/AM52,(W90+AT35*D19)/AN52,(W91+AT35*D19)/AO52)*AP52","v":354.66666666666669},{"$f":"MIN((X87+AT35*D19)/AK52,(X88+AT35*D19)/AL52,(X89+AT35*D19)/AM52,(X90+AT35*D19)/AN52,(X91+AT35*D19)/AO52)*AP52","v":392},{"$f":"MIN((Y87+AT35*D19)/AK52,(Y88+AT35*D19)/AL52,(Y89+AT35*D19)/AM52,(Y90+AT35*D19)/AN52,(Y91+AT35*D19)/AO52)*AP52","v":395.33333333333331},{"$f":"MIN((Z87+AT35*D19)/AK52,(Z88+AT35*D19)/AL52,(Z89+AT35*D19)/AM52,(Z90+AT35*D19)/AN52,(Z91+AT35*D19)/AO52)*AP52","v":354.66666666666669},{"$f":"MIN((AA87+AT35*D19)/AK52,(AA88+AT35*D19)/AL52,(AA89+AT35*D19)/AM52,(AA90+AT35*D19)/AN52,(AA91+AT35*D19)/AO52)*AP52","v":395.33333333333331},{"$f":"MIN((AB87+AT35*D19)/AK52,(AB88+AT35*D19)/AL52,(AB89+AT35*D19)/AM52,(AB90+AT35*D19)/AN52,(AB91+AT35*D19)/AO52)*AP52","v":397.33333333333331},{"$f":"MIN((AC87+AT35*D19)/AK52,(AC88+AT35*D19)/AL52,(AC89+AT35*D19)/AM52,(AC90+AT35*D19)/AN52,(AC91+AT35*D19)/AO52)*AP52","v":392},{"$f":"MIN((AD87+AT35*D19)/AK52,(AD88+AT35*D19)/AL52,(AD89+AT35*D19)/AM52,(AD90+AT35*D19)/AN52,(AD91+AT35*D19)/AO52)*AP52","v":354.66666666666669},{"$f":"MIN((AE87+AT35*D19)/AK52,(AE88+AT35*D19)/AL52,(AE89+AT35*D19)/AM52,(AE90+AT35*D19)/AN52,(AE91+AT35*D19)/AO52)*AP52","v":394.66666666666669},{"$f":"MIN((AF87+AT35*D19)/AK52,(AF88+AT35*D19)/AL52,(AF89+AT35*D19)/AM52,(AF90+AT35*D19)/AN52,(AF91+AT35*D19)/AO52)*AP52","v":397.33333333333331},400.66666666666669]
[null,null,null,null,null,null,null,null,null,null,null,null,null,null,null,null,null,{"$f":"L30+AH43+D15+D17+D21+D19*AG27","v":335},{"$f":"R196+Q14","v":391},{"$f":"R196+R14","v":387},{"$f":"R196+S14","v":335},{"$f":"R196+T14","v":380},{"$f":"R196+U14","v":335},{"$f":"R196+V14","v":391},{"$f":"R196+W14","v":388},{"$f":"R196+X14","v":335},{"$f":"R196+Y14","v":388},{"$f":"R196+Z14","v":383},{"$f":"R196+AA14","v":384},{"$f":"R196+AB14","v":335},{"$f":"R196+AC14","v":395},{"$f":"R196+AD14","v":379},null,null,null,{"$f":"R93","v":"slovenie 6 "},{"$f":"MIN((S94+AT35*D19)/AK52,(S95+AT35*D19)/AL52,(S96+AT35*D19)/AM52,(S97+AT35*D19)/AN52,(S98++AT35*D19)/AO52)*AP52","v":386.66666666666669},{"$f":"MIN((T94+AT35*D19)/AK52,(T95+AT35*D19)/AL52,(T96+AT35*D19)/AM52,(T97+AT35*D19)/AN52,(T98+AT35*D19)/AO52)*AP52","v":416},{"$f":"MIN((U94+AT35*D19)/AK52,(U95+AT35*D19)/AL52,(U96+AT35*D19)/AM52,(U97+AT35*D19)/AN52,(U98+AT35*D19)/AO52)*AP52","v":370},{"$f":"MIN((V94+AT35*D19)/AK52,(V95+AT35*D19)/AL52,(V96+AT35*D19)/AM52,(V97+AT35*D19)/AN52,(V98+AT35*D19)/AO52)*AP52","v":412.66666666666669},{"$f":"MIN((W94+AT35*D19)/AK52,(W95+AT35*D19)/AL52,(W96+AT35*D19)/AM52,(W97+AT35*D19)/AN52,(W98+AT35*D19)/AO52)*AP52","v":370},{"$f":"MIN((X94+AT35*D19)/AK52,(X95+AT35*D19)/AL52,(X96+AT35*D19)/AM52,(X97+AT35*D19)/AN52,(X98+AT35*D19)/AO52)*AP52","v":407.33333333333331},{"$f":"MIN((Y94+AT35*D19)/AK52,(Y95+AT35*D19)/AL52,(Y96+AT35*D19)/AM52,(Y97+AT35*D19)/AN52,(Y98+AT35*D19)/AO52)*AP52","v":410.66666666666663},{"$f":"MIN((Z94+AT35*D19)/AK52,(Z95+AT35*D19)/AL52,(Z96+AT35*D19)/AM52,(Z97+AT35*D19)/AN52,(Z98+AT35*D19)/AO52)*AP52","v":370},{"$f":"MIN((AA94+AT35*D19)/AK52,(AA95+AT35*D19)/AL52,(AA96+AT35*D19)/AM52,(AA97+AT35*D19)/AN52,(AA98+AT35*D19)/AO52)*AP52","v":410.66666666666663},{"$f":"MIN((AB94+AT35*D19)/AK52,(AB95+AT35*D19)/AL52,(AB96+AT35*D19)/AM52,(AB97+AT35*D19)/AN52,(AB98+AT35*D19)/AO52)*AP52","v":412.66666666666669},{"$f":"MIN((AC94+AT35*D19)/AK52,(AC95+AT35*D19)/AL52,(AC96+AT35*D19)/AM52,(AC97+AT35*D19)/AN52,(AC98+AT35*D19)/AO52)*AP52","v":407.33333333333331},{"$f":"MIN((AD94+AT35*D19)/AK52,(AD95+AT35*D19)/AL52,(AD96+AT35*D19)/AM52,(AD97+AT35*D19)/AN52,(AD98+AT35*D19)/AO52)*AP52","v":370},{"$f":"MIN((AE94+AT35*D19)/AK52,(AE95+AT35*D19)/AL52,(AE96+AT35*D19)/AM52,(AE97+AT35*D19)/AN52,(AE98+AT35*D19)/AO52)*AP52","v":409.99999999999994},{"$f":"MIN((AF94+AT35*D19)/AK52,(AF95+AT35*D19)/AL52,(AF96+AT35*D19)/AM52,(AF97+AT35*D19)/AN52,(AF98+AT35*D19)/AO52)*AP52","v":412.66666666666669},416]
[null,null,null,null,null,null,null,null,null,null,null,null,null,null,null,null,null,null,null,null,null,null,null,null,null,null,null,null,null,null,null,null,null,null,null,{"$f":"R100","v":"grece 7 "},{"$f":"MIN((S101+AT35*D19)/AK52,(S102+AT35*D19)/AL52,(S103+AT35*D19)/AM52,(S104+AT35*D19)/AN52,(S105+AT35*D19)/AO52)*AP52","v":392.66666666666669},{"$f":"MIN((T101+AT35*D19)/AK52,(T102+AT35*D19)/AL52,(T103+AT35*D19)/AM52,(T104+AT35*D19)/AN52,(T105+AT35*D19)/AO52)*AP52","v":419.33333333333331},{"$f":"MIN((U101+AT35*D19)/AK52,(U102+AT35*D19)/AL52,(U103+AT35*D19)/AM52,(U104+AT35*D19)/AN52,(U105+AT35*D19)/AO52)*AP52","v":376},{"$f":"MIN((V101+AT35*D19)/AK52,(V102+AT35*D19)/AL52,(V103+AT35*D19)/AM52,(V104+AT35*D19)/AN52,(V105+AT35*D19)/AO52)*AP52","v":418.66666666666663},{"$f":"MIN((W101+AT35*D19)/AK52,(W102+AT35*D19)/AL52,(W103+AT35*D19)/AM52,(W104+AT35*D19)/AN52,(W105+AT35*D19)/AO52)*AP52","v":376},{"$f":"MIN((X101+AT35*D19)/AK52,(X102+AT35*D19)/AL52,(X103+AT35*D19)/AM52,(X104+AT35*D19)/AN52,(X105+AT35*D19)/AO52)*AP52","v":413.33333333333337},{"$f":"MIN((Y101+AT35*D19)/AK52,(Y102+AT35*D19)/AL52,(Y103+AT35*D19)/AM52,(Y104+AT35*D19)/AN52,(Y105+AT35*D19)/AO52)*AP52","v":416.66666666666669},{"$f":"MIN((Z101+AT35*D19)/AK52,(Z102+AT35*D19)/AL52,(Z103+AT35*D19)/AM52,(Z104+AT35*D19)/AN52,(Z105+AT35*D19)/AO52)*AP52","v":376},{"$f":"MIN((AA101+AT35*D19)/AK52,(AA102+AT35*D19)/AL52,(AA103+AT35*D19)/AM52,(AA104+AT35*D19)/AN52,(AA105+AT35*D19)/AO52)*AP52","v":416.66666666666669},{"$f":"MIN((AB101+AT35*D19)/AK52,(AB102+AT35*D19)/AL52,(AB103+AT35*D19)/AM52,(AB104+AT35*D19)/AN52,(AB105+AT35*D19)/AO52)*AP52","v":418.66666666666663},{"$f":"MIN((AC101+AT35*D19)/AK52,(AC102+AT35*D19)/AL52,(AC103+AT35*D19)/AM52,(AC104+AT35*D19)/AN52,(AC105+AT35*D19)/AO52)*AP52","v":413.33333333333337},{"$f":"MIN((AD101+AT35*D19)/AK52,(AD102+AT35*D19)/AL52,(AD103+AT35*D19)/AM52,(AD104+AT35*D19)/AN52,(AD105+AT35*D19)/AO52)*AP52","v":376},{"$f":"MIN((AE101+AT35*D19)/AK52,(AE102+AT35*D19)/AL52,(AE103+AT35*D19)/AM52,(AE104+AT35*D19)/AN52,(AE105+AT35*D19)/AO52)*AP52","v":414.66666666666663},{"$f":"MIN((AF101+AT35*D19)/AK52,(AF102+AT35*D19)/AL52,(AF103+AT35*D19)/AM52,(AF104+AT35*D19)/AN52,(AF105+AT35*D19)/AO52)*AP52","v":418.66666666666663},419.33333333333331]
[null,null,null,null,null,null,null,null,null,null,null,null,null,null,null,null,null,{"$f":"G31","v":"slovaquie 7 "},{"$f":"S170","v":"kit 1"},{"$f":"T170","v":"kit 2/3"},0,"kit 4",0,"kit 5","kit 6/7",0,0,"kit 8","kit 9",0,{"$f":"AE170","v":"kit 10"},{"$f":"AF170","v":"kit 11"},null,null,null,{"$f":"R107","v":"australie 11 "},{"$f":"MIN((S108+AT35*D19)/AK52,(S109+AT35*D19)/AL52,(S110+AT35*D19)/AM52,(S111+AT35*D19)/AN52,(S112+AT35*D19)/AO52)*AP52","v":404},{"$f":"MIN((T108+AT35*D19)/AK52,(T109+AT35*D19)/AL52,(T110+AT35*D19)/AM52,(T111+AT35*D19)/AN52,(T112+AT35*D19)/AO52)*AP52","v":423.33333333333331},{"$f":"MIN((U108+AT35*D19)/AK52,(U109+AT35*D19)/AL52,(U110+AT35*D19)/AM52,(U111+AT35*D19)/AN52,(U112+AT35*D19)/AO52)*AP52","v":387.33333333333337},{"$f":"MIN((V108+AT35*D19)/AK52,(V109+AT35*D19)/AL52,(V110+AT35*D19)/AM52,(V111+AT35*D19)/AN52,(V112+AT35*D19)/AO52)*AP52","v":418.66666666666663},{"$f":"MIN((W108+AT35*D19)/AK52,(W109+AT35*D19)/AL52,(W110+AT35*D19)/AM52,(W111+AT35*D19)/AN52,(W112+AT35*D19)/AO52)*AP52","v":387.33333333333337},{"$f":"MIN((X108+AT35*D19)/AK52,(X109+AT35*D19)/AL52,(X110+AT35*D19)/AM52,(X111+AT35*D19)/AN52,(X112+AT35*D19)/AO52)*AP52","v":424.66666666666669},{"$f":"MIN((Y108+AT35*D19)/AK52,(Y109+AT35*D19)/AL52,(Y110+AT35*D19)/AM52,(Y111+AT35*D19)/AN52,(Y112+AT35*D19)/AO52)*AP52","v":428},{"$f":"MIN((Z108+AT35*D19)/AK52,(Z109+AT35*D19)/AL52,(Z110+AT35*D19)/AM52,(Z111+AT35*D19)/AN52,(Z112+AT35*D19)/AO52)*AP52","v":387.33333333333337},{"$f":"MIN((AA108+AT35*D19)/AK52,(AA109+AT35*D19)/AL52,(AA110+AT35*D19)/AM52,(AA111+AT35*D19)/AN52,(AA112+AT35*D19)/AO52)*AP52","v":428},{"$f":"MIN((AB108+AT35*D19)/AK52,(AB109+AT35*D19)/AL52,(AB110+AT35*D19)/AM52,(AB111+AT35*D19)/AN52,(AB112+AT35*D19)/AO52)*AP52","v":430},{"$f":"MIN((AC108+AT35*D19)/AK52,(AC109+AT35*D19)/AL52,(AC110+AT35*D19)/AM52,(AC111+AT35*D19)/AN52,(AC112+AT35*D19)/AO52)*AP52","v":424.66666666666669},{"$f":"MIN((AD108+AT35*D19)/AK52,(AD109+AT35*D19)/AL52,(AD110+AT35*D19)/AM52,(AD111+AT35*D19)/AN52,(AD112+AT35*D19)/AO52)*AP52","v":387.33333333333337},{"$f":"MIN((AE108+AT35*D19)/AK52,(AE109+AT35*D19)/AL52,(AE110+AT35*D19)/AM52,(AE111+AT35*D19)/AN52,(AE112+AT35*D19)/AO52)*AP52","v":427.33333333333337},{"$f":"MIN((AF108+AT35*D19)/AK52,(AF109+AT35*D19)/AL52,(AF110+AT35*D19)/AM52,(AF111+AT35*D19)/AN52,(AF112+AT35*D19)/AO52)*AP52","v":430},430]
[null,null,null,null,null,null,null,null,null,null,null,null,null,null,null,null,null,{"$f":"H31+AH39+D16+D17+D21+D19*AG28","v":497},{"$f":"R199+Q10","v":538},{"$f":"R199+R10","v":566},{"$f":"R199+S10","v":497},{"$f":"R199+T10","v":570},{"$f":"R199+U10","v":497},{"$f":"R199+V10","v":567},{"$f":"R199+W10","v":558},{"$f":"R199+X10","v":497},{"$f":"R199+Y10","v":558},{"$f":"R199+Z10","v":553},{"$f":"R199+AA10","v":558},{"$f":"R199+AB10","v":497},{"$f":"R199+AC10","v":543},{"$f":"R199+AD10","v":548},null,null,null,{"$f":"R114","v":"grece 9 "},{"$f":"MIN((S115+AT35*D19)/AK52,(S116+AT35*D19)/AL52,(S117+AT35*D19)/AM52,(S118+AT35*D19)/AN52,(S119+AT35*D19)/AO52)*AP52","v":314},{"$f":"MIN((T115+AT35*D19)/AK52,(T116+AT35*D19)/AL52,(T117+AT35*D19)/AM52,(T118+AT35*D19)/AN52,(T119+AT35*D19)/AO52)*AP52","v":343.33333333333331},{"$f":"MIN((U115+AT35*D19)/AK52,(U116+AT35*D19)/AL52,(U117+AT35*D19)/AM52,(U118+AT35*D19)/AN52,(U119+AT35*D19)/AO52)*AP52","v":297.33333333333331},{"$f":"MIN((V115+AT35*D19)/AK52,(V116+AT35*D19)/AL52,(V117+AT35*D19)/AM52,(V118+AT35*D19)/AN52,(V119+AT35*D19)/AO52)*AP52","v":340},{"$f":"MIN((W115+AT35*D19)/AK52,(W116+AT35*D19)/AL52,(W117+AT35*D19)/AM52,(W118+AT35*D19)/AN52,(W119+AT35*D19)/AO52)*AP52","v":297.33333333333331},{"$f":"MIN((X115+AT35*D19)/AK52,(X116+AT35*D19)/AL52,(X117+AT35*D19)/AM52,(X118+AT35*D19)/AN52,(X119+AT35*D19)/AO52)*AP52","v":334.66666666666669},{"$f":"MIN((Y115+AT35*D19)/AK52,(Y116+AT35*D19)/AL52,(Y117+AT35*D19)/AM52,(Y118+AT35*D19)/AN52,(Y119+AT35*D19)/AO52)*AP52","v":338},{"$f":"MIN((Z115+AT35*D19)/AK52,(Z116+AT35*D19)/AL52,(Z117+AT35*D19)/AM52,(Z118+AT35*D19)/AN52,(Z119+AT35*D19)/AO52)*AP52","v":297.33333333333331},{"$f":"MIN((AA115+AT35*D19)/AK52,(AA116+AT35*D19)/AL52,(AA117+AT35*D19)/AM52,(AA118+AT35*D19)/AN52,(AA119+AT35*D19)/AO52)*AP52","v":338},{"$f":"MIN((AB115+AT35*D19)/AK52,(AB116+AT35*D19)/AL52,(AB117+AT35*D19)/AM52,(AB118+AT35*D19)/AN52,(AB119+AT35*D19)/AO52)*AP52","v":340},{"$f":"MIN((AC115+AT35*D19)/AK52,(AC116+AT35*D19)/AL52,(AC117+AT35*D19)/AM52,(AC118+AT35*D19)/AN52,(AC119+AT35*D19)/AO52)*AP52","v":334.66666666666669},{"$f":"MIN((AD115+AT35*D19)/AK52,(AD116+AT35*D19)/AL52,(AD117+AT35*D19)/AM52,(AD118+AT35*D19)/AN52,(AD119+AT35*D19)/AO52)*AP52","v":297.33333333333331},{"$f":"MIN((AE115+AT35*D19)/AK52,(AE116+AT35*D19)/AL52,(AE117+AT35*D19)/AM52,(AE118+AT35*D19)/AN52,(AE119+AT35*D19)/AO52)*AP52","v":337.33333333333337},{"$f":"MIN((AF115+AT35*D19)/AK52,(AF116+AT35*D19)/AL52,(AF117+AT35*D19)/AM52,(AF118+AT35*D19)/AN52,(AF119+AT35*D19)/AO52)*AP52","v":340},343.33333333333331]
[null,null,null,null,null,null,null,null,null,null,null,null,null,null,null,null,null,{"$f":"I31+AH40+D15+D17+D21+D19*AG28","v":503},{"$f":"R200+Q11","v":583},{"$f":"R200+R11","v":555},{"$f":"R200+S11","v":503},{"$f":"R200+T11","v":548},{"$f":"R200+U11","v":503},{"$f":"R200+V11","v":559},{"$f":"R200+W11","v":564},{"$f":"R200+X11","v":503},{"$f":"R200+Y11","v":564},{"$f":"R200+Z11","v":567},{"$f":"R200+AA11","v":571},{"$f":"R200+AB11","v":503},{"$f":"R200+AC11","v":571},{"$f":"R200+AD11","v":567},null,null,null,{"$f":"R121","v":"nigeria 8 "},{"$f":"MIN((S122+AT35*D19)/AK52,(S123+AT35*D19)/AL52,(S124+AT35*D19)/AM52,(S125+AT35*D19)/AN52,(S126+AT35*D19)/AO52)*AP52","v":392.66666666666669},{"$f":"MIN((T122+AT35*D19)/AK52,(T123+AT35*D19)/AL52,(T124+AT35*D19)/AM52,(T125+AT35*D19)/AN52,(T126+AT35*D19)/AO52)*AP52","v":414.66666666666663},{"$f":"MIN((U122+AT35*D19)/AK52,(U123+AT35*D19)/AL52,(U124+AT35*D19)/AM52,(U125+AT35*D19)/AN52,(U126+AT35*D19)/AO52)*AP52","v":374.66666666666669},{"$f":"MIN((V122+AT35*D19)/AK52,(V123+AT35*D19)/AL52,(V124+AT35*D19)/AM52,(V125+AT35*D19)/AN52,(V126+AT35*D19)/AO52)*AP52","v":418.66666666666663},{"$f":"MIN((W122+AT35*D19)/AK52,(W123+AT35*D19)/AL52,(W124+AT35*D19)/AM52,(W125+AT35*D19)/AN52,(W126+AT35*D19)/AO52)*AP52","v":374.66666666666669},{"$f":"MIN((X122+AT35*D19)/AK52,(X123+AT35*D19)/AL52,(X124+AT35*D19)/AM52,(X125+AT35*D19)/AN52,(X126+AT35*D19)/AO52)*AP52","v":412},{"$f":"MIN((Y122+AT35*D19)/AK52,(Y123+AT35*D19)/AL52,(Y124+AT35*D19)/AM52,(Y125+AT35*D19)/AN52,(Y126+AT35*D19)/AO52)*AP52","v":415.33333333333331},{"$f":"MIN((Z122+AT35*D19)/AK52,(Z123+AT35*D19)/AL52,(Z124+AT35*D19)/AM52,(Z125+AT35*D19)/AN52,(Z126+AT35*D19)/AO52)*AP52","v":374.66666666666669},{"$f":"MIN((AA122+AT35*D19)/AK52,(AA123+AT35*D19)/AL52,(AA124+AT35*D19)/AM52,(AA125+AT35*D19)/AN52,(AA126+AT35*D19)/AO52)*AP52","v":415.33333333333331},{"$f":"MIN((AB122+AT35*D19)/AK52,(AB123+AT35*D19)/AL52,(AB124+AT35*D19)/AM52,(AB125+AT35*D19)/AN52,(AB126+AT35*D19)/AO52)*AP52","v":417.33333333333331},{"$f":"MIN((AC122+AT35*D19)/AK52,(AC123+AT35*D19)/AL52,(AC124+AT35*D19)/AM52,(AC125+AT35*D19)/AN52,(AC126+AT35*D19)/AO52)*AP52","v":413.33333333333337},{"$f":"MIN((AD122+AT35*D19)/AK52,(AD123+AT35*D19)/AL52,(AD124+AT35*D19)/AM52,(AD125+AT35*D19)/AN52,(AD126+AT35*D19)/AO52)*AP52","v":374.66666666666669},{"$f":"MIN((AE122+AT35*D19)/AK52,(AE123+AT35*D19)/AL52,(AE124+AT35*D19)/AM52,(AE125+AT35*D19)/AN52,(AE126+AT35*D19)/AO52)*AP52","v":409.99999999999994},{"$f":"MIN((AF122+AT35*D19)/AK52,(AF123+AT35*D19)/AL52,(AF124+AT35*D19)/AM52,(AF125+AT35*D19)/AN52,(AF126+AT35*D19)/AO52)*AP52","v":418.66666666666663},418.66666666666663]
[null,null,null,null,null,null,null,null,null,null,null,null,null,null,null,null,null,{"$f":"J31+AH41+D15+D17+D21+D19*AG28","v":457},{"$f":"R201+Q12","v":498},{"$f":"R201+R12","v":517},{"$f":"R201+S12","v":457},{"$f":"R201+T12","v":530},{"$f":"R201+U12","v":457},{"$f":"R201+V12","v":513},{"$f":"R201+W12","v":518},{"$f":"R201+X12","v":457},{"$f":"R201+Y12","v":518},{"$f":"R201+Z12","v":521},{"$f":"R201+AA12","v":525},{"$f":"R201+AB12","v":457},{"$f":"R201+AC12","v":510},{"$f":"R201+AD12","v":528},null,null,null,{"$f":"R128","v":"slovaquie 8 "},{"$f":"MIN((S129+AT35*D19)/AK52,(S130+AT35*D19)/AL52,(S131+AT35*D19)/AM52,(S132+AT35*D19)/AN52,(S133+AT35*D19)/AO52)*AP52","v":401.33333333333337},{"$f":"MIN((T129+AT35*D19)/AK52,(T130+AT35*D19)/AL52,(T131+AT35*D19)/AM52,(T132+AT35*D19)/AN52,(T133+AT35*D19)/AO52)*AP52","v":413.99999999999994},{"$f":"MIN((U129+AT35*D19)/AK52,(U130+AT35*D19)/AL52,(U131+AT35*D19)/AM52,(U132+AT35*D19)/AN52,(U133+AT35*D19)/AO52)*AP52","v":374},{"$f":"MIN((V129+AT35*D19)/AK52,(V130+AT35*D19)/AL52,(V131+AT35*D19)/AM52,(V132+AT35*D19)/AN52,(V133+AT35*D19)/AO52)*AP52","v":422.66666666666663},{"$f":"MIN((W129+AT35*D19)/AK52,(W130+AT35*D19)/AL52,(W131+AT35*D19)/AM52,(W132+AT35*D19)/AN52,(W133+AT35*D19)/AO52)*AP52","v":374},{"$f":"MIN((X129+AT35*D19)/AK52,(X130+AT35*D19)/AL52,(X131+AT35*D19)/AM52,(X132+AT35*D19)/AN52,(X133+AT35*D19)/AO52)*AP52","v":411.33333333333331},{"$f":"MIN((Y129+AT35*D19)/AK52,(Y130+AT35*D19)/AL52,(Y131+AT35*D19)/AM52,(Y132+AT35*D19)/AN52,(Y133+AT35*D19)/AO52)*AP52","v":414.66666666666663},{"$f":"MIN((Z129+AT35*D19)/AK52,(Z130+AT35*D19)/AL52,(Z131+AT35*D19)/AM52,(Z132+AT35*D19)/AN52,(Z133+AT35*D19)/AO52)*AP52","v":374},{"$f":"MIN((AA129+AT35*D19)/AK52,(AA130+AT35*D19)/AL52,(AA131+AT35*D19)/AM52,(AA132+AT35*D19)/AN52,(AA133+AT35*D19)/AO52)*AP52","v":414.66666666666663},{"$f":"MIN((AB129+AT35*D19)/AK52,(AB130+AT35*D19)/AL52,(AB131+AT35*D19)/AM52,(AB132+AT35*D19)/AN52,(AB133+AT35*D19)/AO52)*AP52","v":416.66666666666669},{"$f":"MIN((AC129+AT35*D19)/AK52,(AC130+AT35*D19)/AL52,(AC131+AT35*D19)/AM52,(AC132+AT35*D19)/AN52,(AC133+AT35*D19)/AO52)*AP52","v":419.33333333333331},{"$f":"MIN((AD129+AT35*D19)/AK52,(AD130+AT35*D19)/AL52,(AD131+AT35*D19)/AM52,(AD132+AT35*D19)/AN52,(AD133+AT35*D19)/AO52)*AP52","v":374},{"$f":"MIN((AE129+AT35*D19)/AK52,(AE130+AT35*D19)/AL52,(AE131+AT35*D19)/AM52,(AE132+AT35*D19)/AN52,(AE133+AT35*D19)/AO52)*AP52","v":409.33333333333337},{"$f":"MIN((AF129+AT35*D19)/AK52,(AF130+AT35*D19)/AL52,(AF131+AT35*D19)/AM52,(AF132+AT35*D19)/AN52,(AF133+AT35*D19)/AO52)*AP52","v":421.33333333333331},422.66666666666663]
[null,null,null,null,null,null,null,null,null,null,null,null,null,null,null,null,null,{"$f":"K31+AH42+D16+D17+D21+D19*AG28","v":455},{"$f":"R202+Q13","v":480},{"$f":"R202+R13","v":524},{"$f":"R202+S13","v":455},{"$f":"R202+T13","v":519},{"$f":"R202+U13","v":455},{"$f":"R202+V13","v":511},{"$f":"R202+W13","v":516},{"$f":"R202+X13","v":455},{"$f":"R202+Y13","v":516},{"$f":"R202+Z13","v":519},{"$f":"R202+AA13","v":511},{"$f":"R202+AB13","v":455},{"$f":"R202+AC13","v":515},{"$f":"R202+AD13","v":519},null,null,null,{"$f":"R135","v":"afrique du sud 4 "},{"$f":"MIN((S136+AT35*D19)/AK52,(S137+AT35*D19)/AL52,(S138+AT35*D19)/AM52,(S139+AT35*D19)/AN52,(S140+AT35*D19)/AO52)*AP52","v":297.33333333333331},{"$f":"MIN((T136+AT35*D19)/AK52,(T137+AT35*D19)/AL52,(T138+AT35*D19)/AM52,(T139+AT35*D19)/AN52,(T140+AT35*D19)/AO52)*AP52","v":278.66666666666669},{"$f":"MIN((U136+AT35*D19)/AK52,(U137+AT35*D19)/AL52,(U138+AT35*D19)/AM52,(U139+AT35*D19)/AN52,(U140+AT35*D19)/AO52)*AP52","v":244},{"$f":"MIN((V136+AT35*D19)/AK52,(V137+AT35*D19)/AL52,(V138+AT35*D19)/AM52,(V139+AT35*D19)/AN52,(V140+AT35*D19)/AO52)*AP52","v":274},{"$f":"MIN((W136+AT35*D19)/AK52,(W137+AT35*D19)/AL52,(W138+AT35*D19)/AM52,(W139+AT35*D19)/AN52,(W140+AT35*D19)/AO52)*AP52","v":244},{"$f":"MIN((X136+AT35*D19)/AK52,(X137+AT35*D19)/AL52,(X138+AT35*D19)/AM52,(X139+AT35*D19)/AN52,(X140+AT35*D19)/AO52)*AP52","v":281.33333333333337},{"$f":"MIN((Y136+AT35*D19)/AK52,(Y137+AT35*D19)/AL52,(Y138+AT35*D19)/AM52,(Y139+AT35*D19)/AN52,(Y140+AT35*D19)/AO52)*AP52","v":284.66666666666669},{"$f":"MIN((Z136+AT35*D19)/AK52,(Z137+AT35*D19)/AL52,(Z138+AT35*D19)/AM52,(Z139+AT35*D19)/AN52,(Z140+AT35*D19)/AO52)*AP52","v":244},{"$f":"MIN((AA136+AT35*D19)/AK52,(AA137+AT35*D19)/AL52,(AA138+AT35*D19)/AM52,(AA139+AT35*D19)/AN52,(AA140+AT35*D19)/AO52)*AP52","v":284.66666666666669},{"$f":"MIN((AB136+AT35*D19)/AK52,(AB137+AT35*D19)/AL52,(AB138+AT35*D19)/AM52,(AB139+AT35*D19)/AN52,(AB140+AT35*D19)/AO52)*AP52","v":286.66666666666669},{"$f":"MIN((AC136+AT35*D19)/AK52,(AC137+AT35*D19)/AL52,(AC138+AT35*D19)/AM52,(AC139+AT35*D19)/AN52,(AC140+AT35*D19)/AO52)*AP52","v":289.33333333333337},{"$f":"MIN((AD136+AT35*D19)/AK52,(AD137+AT35*D19)/AL52,(AD138+AT35*D19)/AM52,(AD139+AT35*D19)/AN52,(AD140+AT35*D19)/AO52)*AP52","v":244},{"$f":"MIN((AE136+AT35*D19)/AK52,(AE137+AT35*D19)/AL52,(AE138+AT35*D19)/AM52,(AE139+AT35*D19)/AN52,(AE140+AT35*D19)/AO52)*AP52","v":289.33333333333337},{"$f":"MIN((AF136+AT35*D19)/AK52,(AF137+AT35*D19)/AL52,(AF138+AT35*D19)/AM52,(AF139+AT35*D19)/AN52,(AF140+AT35*D19)/AO52)*AP52","v":286.66666666666669},297.33333333333331]
[null,null,null,null,null,null,null,null,null,null,null,null,null,null,null,null,null,{"$f":"L31+AH43+D15+D17+D21+D19*AG28","v":405},{"$f":"R203+Q14","v":461},{"$f":"R203+R14","v":457},{"$f":"R203+S14","v":405},{"$f":"R203+T14","v":450},{"$f":"R203+U14","v":405},{"$f":"R203+V14","v":461},{"$f":"R203+W14","v":458},{"$f":"R203+X14","v":405},{"$f":"R203+Y14","v":458},{"$f":"R203+Z14","v":453},{"$f":"R203+AA14","v":454},{"$f":"R203+AB14","v":405},{"$f":"R203+AC14","v":465},{"$f":"R203+AD14","v":449},null,null,null,{"$f":"R142","v":"allemagne 11 "},{"$f":"MIN((S143+AT35*D19)/AK52,(S144+AT35*D19)/AL52,(S145+AT35*D19)/AM52,(S146+AT35*D19)/AN52,(S147+AT35*D19)/AO52)*AP52","v":396.66666666666669},{"$f":"MIN((T143+AT35*D19)/AK52,(T144+AT35*D19)/AL52,(T145+AT35*D19)/AM52,(T146+AT35*D19)/AN52,(T147+AT35*D19)/AO52)*AP52","v":409.99999999999994},{"$f":"MIN((U143+AT35*D19)/AK52,(U144+AT35*D19)/AL52,(U145+AT35*D19)/AM52,(U146+AT35*D19)/AN52,(U147+AT35*D19)/AO52)*AP52","v":375.33333333333331},{"$f":"MIN((V143+AT35*D19)/AK52,(V144+AT35*D19)/AL52,(V145+AT35*D19)/AM52,(V146+AT35*D19)/AN52,(V147+AT35*D19)/AO52)*AP52","v":405.33333333333337},{"$f":"MIN((W143+AT35*D19)/AK52,(W144+AT35*D19)/AL52,(W145+AT35*D19)/AM52,(W146+AT35*D19)/AN52,(W147+AT35*D19)/AO52)*AP52","v":375.33333333333331},{"$f":"MIN((X143+AT35*D19)/AK52,(X144+AT35*D19)/AL52,(X145+AT35*D19)/AM52,(X146+AT35*D19)/AN52,(X147+AT35*D19)/AO52)*AP52","v":412.66666666666669},{"$f":"MIN((Y143+AT35*D19)/AK52,(Y144+AT35*D19)/AL52,(Y145+AT35*D19)/AM52,(Y146+AT35*D19)/AN52,(Y147+AT35*D19)/AO52)*AP52","v":416},{"$f":"MIN((Z143+AT35*D19)/AK52,(Z144+AT35*D19)/AL52,(Z145+AT35*D19)/AM52,(Z146+AT35*D19)/AN52,(Z147+AT35*D19)/AO52)*AP52","v":375.33333333333331},{"$f":"MIN((AA143+AT35*D19)/AK52,(AA144+AT35*D19)/AL52,(AA145+AT35*D19)/AM52,(AA146+AT35*D19)/AN52,(AA147+AT35*D19)/AO52)*AP52","v":416},{"$f":"MIN((AB143+AT35*D19)/AK52,(AB144+AT35*D19)/AL52,(AB145+AT35*D19)/AM52,(AB146+AT35*D19)/AN52,(AB147+AT35*D19)/AO52)*AP52","v":418},{"$f":"MIN((AC143+AT35*D19)/AK52,(AC144+AT35*D19)/AL52,(AC145+AT35*D19)/AM52,(AC146+AT35*D19)/AN52,(AC147+AT35*D19)/AO52)*AP52","v":417.33333333333331},{"$f":"MIN((AD143+AT35*D19)/AK52,(AD144+AT35*D19)/AL52,(AD145+AT35*D19)/AM52,(AD146+AT35*D19)/AN52,(AD147+AT35*D19)/AO52)*AP52","v":375.33333333333331},{"$f":"MIN((AE143+AT35*D19)/AK52,(AE144+AT35*D19)/AL52,(AE145+AT35*D19)/AM52,(AE146+AT35*D19)/AN52,(AE147+AT35*D19)/AO52)*AP52","v":417.33333333333331},{"$f":"MIN((AF143+AT35*D19)/AK52,(AF144+AT35*D19)/AL52,(AF145+AT35*D19)/AM52,(AF146+AT35*D19)/AN52,(AF147+AT35*D19)/AO52)*AP52","v":418},418]
[null,null,null,null,null,null,null,null,null,null,null,null,null,null,null,null,null,null,null,null,null,null,null,null,null,null,null,null,null,null,null,null,null,null,null,{"$f":"R149","v":"chili 11 "},{"$f":"MIN((S150+AT35*D19)/AK52,(S151+AT35*D19)/AL52,(S152+AT35*D19)/AM52,(S153+AT35*D19)/AN52,(S154+AT35*D19)/AO52)*AP52","v":376},{"$f":"MIN((T150+AT35*D19)/AK52,(T151+AT35*D19)/AL52,(T152+AT35*D19)/AM52,(T153+AT35*D19)/AN52,(T154+AT35*D19)/AO52)*AP52","v":400.66666666666669},{"$f":"MIN((U150+AT35*D19)/AK52,(U151+AT35*D19)/AL52,(U152+AT35*D19)/AM52,(U153+AT35*D19)/AN52,(U154+AT35*D19)/AO52)*AP52","v":359.33333333333331},{"$f":"MIN((V150+AT35*D19)/AK52,(V151+AT35*D19)/AL52,(V152+AT35*D19)/AM52,(V153+AT35*D19)/AN52,(V154+AT35*D19)/AO52)*AP52","v":396},{"$f":"MIN((W150+AT35*D19)/AK52,(W151+AT35*D19)/AL52,(W152+AT35*D19)/AM52,(W153+AT35*D19)/AN52,(W154+AT35*D19)/AO52)*AP52","v":359.33333333333331},{"$f":"MIN((X150+AT35*D19)/AK52,(X151+AT35*D19)/AL52,(X152+AT35*D19)/AM52,(X153+AT35*D19)/AN52,(X154+AT35*D19)/AO52)*AP52","v":396.66666666666669},{"$f":"MIN((Y150+AT35*D19)/AK52,(Y151+AT35*D19)/AL52,(Y152+AT35*D19)/AM52,(Y153+AT35*D19)/AN52,(Y154+AT35*D19)/AO52)*AP52","v":400},{"$f":"MIN((Z150+AT35*D19)/AK52,(Z151+AT35*D19)/AL52,(Z152+AT35*D19)/AM52,(Z153+AT35*D19)/AN52,(Z154+AT35*D19)/AO52)*AP52","v":359.33333333333331},{"$f":"MIN((AA150+AT35*D19)/AK52,(AA151+AT35*D19)/AL52,(AA152+AT35*D19)/AM52,(AA153+AT35*D19)/AN52,(AA154+AT35*D19)/AO52)*AP52","v":400},{"$f":"MIN((AB150+AT35*D19)/AK52,(AB151+AT35*D19)/AL52,(AB152+AT35*D19)/AM52,(AB153+AT35*D19)/AN52,(AB154+AT35*D19)/AO52)*AP52","v":401.99999999999994},{"$f":"MIN((AC150+AT35*D19)/AK52,(AC151+AT35*D19)/AL52,(AC152+AT35*D19)/AM52,(AC153+AT35*D19)/AN52,(AC154+AT35*D19)/AO52)*AP52","v":396.66666666666669},{"$f":"MIN((AD150+AT35*D19)/AK52,(AD151+AT35*D19)/AL52,(AD152+AT35*D19)/AM52,(AD153+AT35*D19)/AN52,(AD154+AT35*D19)/AO52)*AP52","v":359.33333333333331},{"$f":"MIN((AE150+AT35*D19)/AK52,(AE151+AT35*D19)/AL52,(AE152+AT35*D19)/AM52,(AE153+AT35*D19)/AN52,(AE154+AT35*D19)/AO52)*AP52","v":399.33333333333331},{"$f":"MIN((AF150+AT35*D19)/AK52,(AF151+AT35*D19)/AL52,(AF152+AT35*D19)/AM52,(AF153+AT35*D19)/AN52,(AF154+AT35*D19)/AO52)*AP52","v":401.99999999999994},401.99999999999994]
[null,null,null,null,null,null,null,null,null,null,null,null,null,null,null,null,null,{"$f":"G32","v":"slovaquie 7 bis "},{"$f":"S177","v":"kit 1"},{"$f":"T177","v":"kit 2/3"},0,"kit 4",0,"kit 5","kit 6/7",0,0,"kit 8","kit 9",0,{"$f":"AE177","v":"kit 10"},{"$f":"AF177","v":"kit 11"},null,null,null,{"$f":"R156","v":"corée du sud 3 "},{"$f":"MIN((S157+AT35*D19)/AK52,(S158+AT35*D19)/AL52,(S159+AT35*D19)/AM52,(S160+AT35*D19)/AN52,(S161+AT35*D19)/AO52)*AP52","v":336.66666666666669},{"$f":"MIN((T157+AT35*D19)/AK52,(T158+AT35*D19)/AL52,(T159+AT35*D19)/AM52,(T160+AT35*D19)/AN52,(T161+AT35*D19)/AO52)*AP52","v":318},{"$f":"MIN((U157+AT35*D19)/AK52,(U158+AT35*D19)/AL52,(U159+AT35*D19)/AM52,(U160+AT35*D19)/AN52,(U161+AT35*D19)/AO52)*AP52","v":283.33333333333337},{"$f":"MIN((V157+AT35*D19)/AK52,(V158+AT35*D19)/AL52,(V159+AT35*D19)/AM52,(V160+AT35*D19)/AN52,(V161+AT35*D19)/AO52)*AP52","v":313.33333333333331},{"$f":"MIN((W157+AT35*D19)/AK52,(W158+AT35*D19)/AL52,(W159+AT35*D19)/AM52,(W160+AT35*D19)/AN52,(W161+AT35*D19)/AO52)*AP52","v":283.33333333333337},{"$f":"MIN((X157+AT35*D19)/AK52,(X158+AT35*D19)/AL52,(X159+AT35*D19)/AM52,(X160+AT35*D19)/AN52,(X161+AT35*D19)/AO52)*AP52","v":320.66666666666663},{"$f":"MIN((Y157+AT35*D19)/AK52,(Y158+AT35*D19)/AL52,(Y159+AT35*D19)/AM52,(Y160+AT35*D19)/AN52,(Y161+AT35*D19)/AO52)*AP52","v":324},{"$f":"MIN((Z157+AT35*D19)/AK52,(Z158+AT35*D19)/AL52,(Z159+AT35*D19)/AM52,(Z160+AT35*D19)/AN52,(Z161+AT35*D19)/AO52)*AP52","v":283.33333333333337},{"$f":"MIN((AA157+AT35*D19)/AK52,(AA158+AT35*D19)/AL52,(AA159+AT35*D19)/AM52,(AA160+AT35*D19)/AN52,(AA161+AT35*D19)/AO52)*AP52","v":324},{"$f":"MIN((AB157+AT35*D19)/AK52,(AB158+AT35*D19)/AL52,(AB159+AT35*D19)/AM52,(AB160+AT35*D19)/AN52,(AB161+AT35*D19)/AO52)*AP52","v":326},{"$f":"MIN((AC157+AT35*D19)/AK52,(AC158+AT35*D19)/AL52,(AC159+AT35*D19)/AM52,(AC160+AT35*D19)/AN52,(AC161+AT35*D19)/AO52)*AP52","v":328.66666666666669},{"$f":"MIN((AD157+AT35*D19)/AK52,(AD158+AT35*D19)/AL52,(AD159+AT35*D19)/AM52,(AD160+AT35*D19)/AN52,(AD161+AT35*D19)/AO52)*AP52","v":283.33333333333337},{"$f":"MIN((AE157+AT35*D19)/AK52,(AE158+AT35*D19)/AL52,(AE159+AT35*D19)/AM52,(AE160+AT35*D19)/AN52,(AE161+AT35*D19)/AO52)*AP52","v":328.66666666666669},{"$f":"MIN((AF157+AT35*D19)/AK52,(AF158+AT35*D19)/AL52,(AF159+AT35*D19)/AM52,(AF160+AT35*D19)/AN52,(AF161+AT35*D19)/AO52)*AP52","v":326},336.66666666666669]
[null,null,null,null,null,null,null,null,null,null,null,null,null,null,null,null,null,{"$f":"H32+AH39+D16+D17+D21+D19*AG29","v":571},{"$f":"R206+Q10","v":612},{"$f":"R206+R10","v":640},{"$f":"R206+S10","v":571},{"$f":"R206+T10","v":644},{"$f":"R206+U10","v":571},{"$f":"R206+V10","v":641},{"$f":"R206+W10","v":632},{"$f":"R206+X10","v":571},{"$f":"R206+Y10","v":632},{"$f":"R206+Z10","v":627},{"$f":"R206+AA10","v":632},{"$f":"R206+AB10","v":571},{"$f":"R206+AC10","v":617},{"$f":"R206+AD10","v":622},null,null,null,{"$f":"R163","v":"france 11 "},{"$f":"MIN((S164+AT35*D19)/AK52,(S165+AT35*D19)/AL52,(S166+AT35*D19)/AM52,(S167+AT35*D19)/AN52,(S168+AT35*D19)/AO52)*AP52","v":392.66666666666669},{"$f":"MIN((T164+AT35*D19)/AK52,(T165+AT35*D19)/AL52,(T166+AT35*D19)/AM52,(T167+AT35*D19)/AN52,(T168+AT35*D19)/AO52)*AP52","v":403.33333333333331},{"$f":"MIN((U164+AT35*D19)/AK52,(U165+AT35*D19)/AL52,(U166+AT35*D19)/AM52,(U167+AT35*D19)/AN52,(U168+AT35*D19)/AO52)*AP52","v":368.66666666666663},{"$f":"MIN((V164+AT35*D19)/AK52,(V165+AT35*D19)/AL52,(V166+AT35*D19)/AM52,(V167+AT35*D19)/AN52,(V168+AT35*D19)/AO52)*AP52","v":398.66666666666669},{"$f":"MIN((W164+AT35*D19)/AK52,(W165+AT35*D19)/AL52,(W166+AT35*D19)/AM52,(W167+AT35*D19)/AN52,(W168+AT35*D19)/AO52)*AP52","v":368.66666666666663},{"$f":"MIN((X164+AT35*D19)/AK52,(X165+AT35*D19)/AL52,(X166+AT35*D19)/AM52,(X167+AT35*D19)/AN52,(X168+AT35*D19)/AO52)*AP52","v":405.99999999999994},{"$f":"MIN((Y164+AT35*D19)/AK52,(Y165+AT35*D19)/AL52,(Y166+AT35*D19)/AM52,(Y167+AT35*D19)/AN52,(Y168+AT35*D19)/AO52)*AP52","v":409.33333333333337},{"$f":"MIN((Z164+AT35*D19)/AK52,(Z165+AT35*D19)/AL52,(Z166+AT35*D19)/AM52,(Z167+AT35*D19)/AN52,(Z168+AT35*D19)/AO52)*AP52","v":368.66666666666663},{"$f":"MIN((AA164+AT35*D19)/AK52,(AA165+AT35*D19)/AL52,(AA166+AT35*D19)/AM52,(AA167+AT35*D19)/AN52,(AA168+AT35*D19)/AO52)*AP52","v":409.33333333333337},{"$f":"MIN((AB164+AT35*D19)/AK52,(AB165+AT35*D19)/AL52,(AB166+AT35*D19)/AM52,(AB167+AT35*D19)/AN52,(AB168+AT35*D19)/AO52)*AP52","v":411.33333333333331},{"$f":"MIN((AC164+AT35*D19)/AK52,(AC165+AT35*D19)/AL52,(AC166+AT35*D19)/AM52,(AC167+AT35*D19)/AN52,(AC168+AT35*D19)/AO52)*AP52","v":413.33333333333337},{"$f":"MIN((AD164+AT35*D19)/AK52,(AD165+AT35*D19)/AL52,(AD166+AT35*D19)/AM52,(AD167+AT35*D19)/AN52,(AD168+AT35*D19)/AO52)*AP52","v":368.66666666666663},{"$f":"MIN((AE164+AT35*D19)/AK52,(AE165+AT35*D19)/AL52,(AE166+AT35*D19)/AM52,(AE167+AT35*D19)/AN52,(AE168+AT35*D19)/AO52)*AP52","v":413.99999999999994},{"$f":"MIN((AF164+AT35*D19)/AK52,(AF165+AT35*D19)/AL52,(AF166+AT35*D19)/AM52,(AF167+AT35*D19)/AN52,(AF168+AT35*D19)/AO52)*AP52","v":411.33333333333331},413.99999999999994]
[null,null,null,null,null,null,null,null,null,null,null,null,null,null,null,null,null,{"$f":"I32+AH40+D15+D17+D21+D19*AG29","v":565},{"$f":"R207+Q11","v":645},{"$f":"R207+R11","v":617},{"$f":"R207+S11","v":565},{"$f":"R207+T11","v":610},{"$f":"R207+U11","v":565},{"$f":"R207+V11","v":621},{"$f":"R207+W11","v":626},{"$f":"R207+X11","v":565},{"$f":"R207+Y11","v":626},{"$f":"R207+Z11","v":629},{"$f":"R207+AA11","v":633},{"$f":"R207+AB11","v":565},{"$f":"R207+AC11","v":633},{"$f":"R207+AD11","v":629},null,null,null,{"$f":"R170","v":"france 2 "},{"$f":"MIN((S171+AT35*D19)/AK52,(S172+AT35*D19)/AL52,(S173+AT35*D19)/AM52,(S174+AT35*D19)/AN52,(S175+AT35*D19)/AO52)*AP52","v":349.33333333333331},{"$f":"MIN((T171+AT35*D19)/AK52,(T172+AT35*D19)/AL52,(T173+AT35*D19)/AM52,(T174+AT35*D19)/AN52,(T175+AT35*D19)/AO52)*AP52","v":330.66666666666669},{"$f":"MIN((U171+AT35*D19)/AK52,(U172+AT35*D19)/AL52,(U173+AT35*D19)/AM52,(U174+AT35*D19)/AN52,(U175+AT35*D19)/AO52)*AP52","v":296},{"$f":"MIN((V171+AT35*D19)/AK52,(V172+AT35*D19)/AL52,(V173+AT35*D19)/AM52,(V174+AT35*D19)/AN52,(V175+AT35*D19)/AO52)*AP52","v":326},{"$f":"MIN((W171+AT35*D19)/AK52,(W172+AT35*D19)/AL52,(W173+AT35*D19)/AM52,(W174+AT35*D19)/AN52,(W175+AT35*D19)/AO52)*AP52","v":296},{"$f":"MIN((X171+AT35*D19)/AK52,(X172+AT35*D19)/AL52,(X173+AT35*D19)/AM52,(X174+AT35*D19)/AN52,(X175+AT35*D19)/AO52)*AP52","v":333.33333333333337},{"$f":"MIN((Y171+AT35*D19)/AK52,(Y172+AT35*D19)/AL52,(Y173+AT35*D19)/AM52,(Y174+AT35*D19)/AN52,(Y175+AT35*D19)/AO52)*AP52","v":336.66666666666669},{"$f":"MIN((Z171+AT35*D19)/AK52,(Z172+AT35*D19)/AL52,(Z173+AT35*D19)/AM52,(Z174+AT35*D19)/AN52,(Z175+AT35*D19)/AO52)*AP52","v":296},{"$f":"MIN((AA171+AT35*D19)/AK52,(AA172+AT35*D19)/AL52,(AA173+AT35*D19)/AM52,(AA174+AT35*D19)/AN52,(AA175+AT35*D19)/AO52)*AP52","v":336.66666666666669},{"$f":"MIN((AB171+AT35*D19)/AK52,(AB172+AT35*D19)/AL52,(AB173+AT35*D19)/AM52,(AB174+AT35*D19)/AN52,(AB175+AT35*D19)/AO52)*AP52","v":338.66666666666669},{"$f":"MIN((AC171+AT35*D19)/AK52,(AC172+AT35*D19)/AL52,(AC173+AT35*D19)/AM52,(AC174+AT35*D19)/AN52,(AC175+AT35*D19)/AO52)*AP52","v":341.33333333333337},{"$f":"MIN((AD171+AT35*D19)/AK52,(AD172+AT35*D19)/AL52,(AD173+AT35*D19)/AM52,(AD174+AT35*D19)/AN52,(AD175+AT35*D19)/AO52)*AP52","v":296},{"$f":"MIN((AE171+AT35*D19)/AK52,(AE172+AT35*D19)/AL52,(AE173+AT35*D19)/AM52,(AE174+AT35*D19)/AN52,(AE175+AT35*D19)/AO52)*AP52","v":341.33333333333337},{"$f":"MIN((AF171+AT35*D19)/AK52,(AF172+AT35*D19)/AL52,(AF173+AT35*D19)/AM52,(AF174+AT35*D19)/AN52,(AF175+AT35*D19)/AO52)*AP52","v":338.66666666666669},349.33333333333331]
[null,null,null,null,null,null,null,null,null,null,null,null,null,null,null,null,null,{"$f":"J32+AH41+D15+D17+D21+D19*AG29","v":543},{"$f":"R208+Q12","v":584},{"$f":"R208+R12","v":603},{"$f":"R208+S12","v":543},{"$f":"R208+T12","v":616},{"$f":"R208+U12","v":543},{"$f":"R208+V12","v":599},{"$f":"R208+W12","v":604},{"$f":"R208+X12","v":543},{"$f":"R208+Y12","v":604},{"$f":"R208+Z12","v":607},{"$f":"R208+AA12","v":611},{"$f":"R208+AB12","v":543},{"$f":"R208+AC12","v":596},{"$f":"R208+AD12","v":614},null,null,null,{"$f":"R177","v":"italie 7 "},{"$f":"MIN((S178+AT35*D19)/AK52,(S179+AT35*D19)/AL52,(S180+AT35*D19)/AM52,(S181+AT35*D19)/AN52,(S182+AT35*D19)/AO52)*AP52","v":379.33333333333337},{"$f":"MIN((T178+AT35*D19)/AK52,(T179+AT35*D19)/AL52,(T180+AT35*D19)/AM52,(T181+AT35*D19)/AN52,(T182+AT35*D19)/AO52)*AP52","v":408.66666666666669},{"$f":"MIN((U178+AT35*D19)/AK52,(U179+AT35*D19)/AL52,(U180+AT35*D19)/AM52,(U181+AT35*D19)/AN52,(U182+AT35*D19)/AO52)*AP52","v":362.66666666666663},{"$f":"MIN((V178+AT35*D19)/AK52,(V179+AT35*D19)/AL52,(V180+AT35*D19)/AM52,(V181+AT35*D19)/AN52,(V182+AT35*D19)/AO52)*AP52","v":405.33333333333337},{"$f":"MIN((W178+AT35*D19)/AK52,(W179+AT35*D19)/AL52,(W180+AT35*D19)/AM52,(W181+AT35*D19)/AN52,(W182+AT35*D19)/AO52)*AP52","v":362.66666666666663},{"$f":"MIN((X178+AT35*D19)/AK52,(X179+AT35*D19)/AL52,(X180+AT35*D19)/AM52,(X181+AT35*D19)/AN52,(X182+AT35*D19)/AO52)*AP52","v":400},{"$f":"MIN((Y178+AT35*D19)/AK52,(Y179+AT35*D19)/AL52,(Y180+AT35*D19)/AM52,(Y181+AT35*D19)/AN52,(Y182+AT35*D19)/AO52)*AP52","v":403.33333333333331},{"$f":"MIN((Z178+AT35*D19)/AK52,(Z179+AT35*D19)/AL52,(Z180+AT35*D19)/AM52,(Z181+AT35*D19)/AN52,(Z182+AT35*D19)/AO52)*AP52","v":362.66666666666663},{"$f":"MIN((AA178+AT35*D19)/AK52,(AA179+AT35*D19)/AL52,(AA180+AT35*D19)/AM52,(AA181+AT35*D19)/AN52,(AA182+AT35*D19)/AO52)*AP52","v":403.33333333333331},{"$f":"MIN((AB178+AT35*D19)/AK52,(AB179+AT35*D19)/AL52,(AB180+AT35*D19)/AM52,(AB181+AT35*D19)/AN52,(AB182+AT35*D19)/AO52)*AP52","v":405.33333333333337},{"$f":"MIN((AC178+AT35*D19)/AK52,(AC179+AT35*D19)/AL52,(AC180+AT35*D19)/AM52,(AC181+AT35*D19)/AN52,(AC182+AT35*D19)/AO52)*AP52","v":400},{"$f":"MIN((AD178+AT35*D19)/AK52,(AD179+AT35*D19)/AL52,(AD180+AT35*D19)/AM52,(AD181+AT35*D19)/AN52,(AD182+AT35*D19)/AO52)*AP52","v":362.66666666666663},{"$f":"MIN((AE178+AT35*D19)/AK52,(AE179+AT35*D19)/AL52,(AE180+AT35*D19)/AM52,(AE181+AT35*D19)/AN52,(AE182+AT35*D19)/AO52)*AP52","v":402.66666666666663},{"$f":"MIN((AF178+AT35*D19)/AK52,(AF179+AT35*D19)/AL52,(AF180+AT35*D19)/AM52,(AF181+AT35*D19)/AN52,(AF182+AT35*D19)/AO52)*AP52","v":405.33333333333337},408.66666666666669]
[null,null,null,null,null,null,null,null,null,null,null,null,null,null,null,null,null,{"$f":"K32+AH42+D16+D17+D21+D19*AG29","v":561},{"$f":"R209+Q13","v":586},{"$f":"R209+R13","v":630},{"$f":"R209+S13","v":561},{"$f":"R209+T13","v":625},{"$f":"R209+U13","v":561},{"$f":"R209+V13","v":617},{"$f":"R209+W13","v":622},{"$f":"R209+X13","v":561},{"$f":"R209+Y13","v":622},{"$f":"R209+Z13","v":625},{"$f":"R209+AA13","v":617},{"$f":"R209+AB13","v":561},{"$f":"R209+AC13","v":621},{"$f":"R209+AD13","v":625},null,null,null,{"$f":"R184","v":"japon 5 "},{"$f":"MIN((S185+$AT$35*$D$19)/$AK$52,(S186+$AT$35*$D$19)/$AL$52,(S187+$AT$35*$D$19)/$AM$52,(S188+$AT$35*$D$19)/$AN$52,(S189+$AT$35*$D$19)/$AO$52)*$AP$52","v":310},339.33333333333337,293.33333333333331,336,293.33333333333331,330.66666666666669,334,293.33333333333331,334,336,330.66666666666669,293.33333333333331,333.33333333333337,336,339.33333333333337]
[null,null,null,null,null,null,null,null,null,null,null,null,null,null,null,null,null,{"$f":"L32+AH43+D15+D17+D21+D19*AG29","v":431},{"$f":"R210+Q14","v":487},{"$f":"R210+R14","v":483},{"$f":"R210+S14","v":431},{"$f":"R210+T14","v":476},{"$f":"R210+U14","v":431},{"$f":"R210+V14","v":487},{"$f":"R210+W14","v":484},{"$f":"R210+X14","v":431},{"$f":"R210+Y14","v":484},{"$f":"R210+Z14","v":479},{"$f":"R210+AA14","v":480},{"$f":"R210+AB14","v":431},{"$f":"R210+AC14","v":491},{"$f":"R210+AD14","v":475},null,null,null,{"$f":"R191","v":"nigeria 4 "},{"$f":"MIN((S192+$AT$35*$D$19)/$AK$52,(S193+$AT$35*$D$19)/$AL$52,(S194+$AT$35*$D$19)/$AM$52,(S195+$AT$35*$D$19)/$AN$52,(S196+$AT$35*$D$19)/$AO$52)*$AP$52","v":294.66666666666669},276,241.33333333333334,271.33333333333331,241.33333333333334,278.66666666666669,282,241.33333333333334,282,284,286.66666666666669,241.33333333333334,286.66666666666669,284,294.66666666666669]
[null,null,null,null,null,null,null,null,null,null,null,null,null,null,null,null,null,null,null,null,null,null,null,null,null,null,null,null,null,null,null,null,null,null,null,{"$f":"R198","v":"slovaquie 7 "},{"$f":"MIN((S199+$AT$35*$D$19)/$AK$52,(S200+$AT$35*$D$19)/$AL$52,(S201+$AT$35*$D$19)/$AM$52,(S202+$AT$35*$D$19)/$AN$52,(S203+$AT$35*$D$19)/$AO$52)*$AP$52","v":320},344.66666666666669,303.33333333333331,346,303.33333333333331,340.66666666666669,344,303.33333333333331,344,346,340.66666666666669,303.33333333333331,340,346,346]
[null,null,null,null,null,null,null,null,null,null,null,null,null,null,null,null,null,{"$f":"G34","v":0},{"$f":"S184","v":"kit 1"},{"$f":"T184","v":"kit 2/3"},0,"kit 4",0,"kit 5","kit 6/7",0,0,"kit 8","kit 9",0,{"$f":"AE184","v":"kit 10"},{"$f":"AF184","v":"kit 11"},null,null,null,{"$f":"R205","v":"slovaquie 7 bis "},{"$f":"MIN((S206+$AT$35*$D$19)/$AK$52,(S207+$AT$35*$D$19)/$AL$52,(S208+$AT$35*$D$19)/$AM$52,(S209+$AT$35*$D$19)/$AN$52,(S210+$AT$35*$D$19)/$AO$52)*$AP$52","v":389.33333333333337},401.99999999999994,362,406.66666666666663,362,399.33333333333331,402.66666666666663,362,402.66666666666663,404.66666666666669,407.33333333333331,362,397.33333333333331,409.33333333333337,409.33333333333337]
[null,null,null,null,null,null,null,null,null,null,null,null,null,null,null,null,null,{"$f":"H34+AH39+D16+D17+D21+D19*AG31","v":136},{"$f":"R213+Q10","v":177},{"$f":"R213+R10","v":205},{"$f":"R213+S10","v":136},{"$f":"R213+T10","v":209},{"$f":"R213+U10","v":136},{"$f":"R213+V10","v":206},{"$f":"R213+W10","v":197},{"$f":"R213+X10","v":136},{"$f":"R213+Y10","v":197},{"$f":"R213+Z10","v":192},{"$f":"R213+AA10","v":197},{"$f":"R213+AB10","v":136},{"$f":"R213+AC10","v":182},{"$f":"R213+AD10","v":187},null,null,null,{"$f":"R212","v":0},{"$f":"MIN((S213+$AT$35*$D$19)/$AK$52,(S214+$AT$35*$D$19)/$AL$52,(S215+$AT$35*$D$19)/$AM$52,(S216+$AT$35*$D$19)/$AN$52,(S217+$AT$35*$D$19)/$AO$52)*$AP$52","v":97.333333333333343},124,80.666666666666657,120.66666666666667,80.666666666666657,118,121.33333333333334,80.666666666666657,121.33333333333334,123.33333333333334,118,80.666666666666657,119.33333333333334,123.33333333333334,124]
[null,null,null,null,null,null,null,null,null,null,null,null,null,null,null,null,null,{"$f":"I34+AH40+D15+D17+D21+D19*AG31","v":136},{"$f":"R214+Q11","v":216},{"$f":"R214+R11","v":188},{"$f":"R214+S11","v":136},{"$f":"R214+T11","v":181},{"$f":"R214+U11","v":136},{"$f":"R214+V11","v":192},{"$f":"R214+W11","v":197},{"$f":"R214+X11","v":136},{"$f":"R214+Y11","v":197},{"$f":"R214+Z11","v":200},{"$f":"R214+AA11","v":204},{"$f":"R214+AB11","v":136},{"$f":"R214+AC11","v":204},{"$f":"R214+AD11","v":200},null,null,null,{"$f":"R219","v":0},{"$f":"MIN((S220+$AT$35*$D$19)/$AK$52,(S221+$AT$35*$D$19)/$AL$52,(S222+$AT$35*$D$19)/$AM$52,(S223+$AT$35*$D$19)/$AN$52,(S224+$AT$35*$D$19)/$AO$52)*$AP$52","v":97.333333333333343},124,80.666666666666657,120.66666666666667,80.666666666666657,118,121.33333333333334,80.666666666666657,121.33333333333334,123.33333333333334,118,80.666666666666657,119.33333333333334,123.33333333333334,124]
[null,null,null,null,null,null,null,null,null,null,null,null,null,null,null,null,null,{"$f":"J34+AH41+D15+D17+D21+D19*AG31","v":126},{"$f":"R215+Q12","v":167},{"$f":"R215+R12","v":186},{"$f":"R215+S12","v":126},{"$f":"R215+T12","v":199},{"$f":"R215+U12","v":126},{"$f":"R215+V12","v":182},{"$f":"R215+W12","v":187},{"$f":"R215+X12","v":126},{"$f":"R215+Y12","v":187},{"$f":"R215+Z12","v":190},{"$f":"R215+AA12","v":194},{"$f":"R215+AB12","v":126},{"$f":"R215+AC12","v":179},{"$f":"R215+AD12","v":197},null,null,null,{"$f":"R226","v":0},{"$f":"MIN((S227+$AT$35*$D$19)/$AK$52,(S228+$AT$35*$D$19)/$AL$52,(S229+$AT$35*$D$19)/$AM$52,(S230+$AT$35*$D$19)/$AN$52,(S231+$AT$35*$D$19)/$AO$52)*$AP$52","v":97.333333333333343},124,80.666666666666657,120.66666666666667,80.666666666666657,118,121.33333333333334,80.666666666666657,121.33333333333334,123.33333333333334,118,80.666666666666657,119.33333333333334,123.33333333333334,124]
[null,null,null,null,null,null,null,null,null,null,null,null,null,null,null,null,null,{"$f":"K34+AH42+D16+D17+D21+D19*AG31","v":121},{"$f":"R216+Q13","v":146},{"$f":"R216+R13","v":190},{"$f":"R216+S13","v":121},{"$f":"R216+T13","v":185},{"$f":"R216+U13","v":121},{"$f":"R216+V13","v":177},{"$f":"R216+W13","v":182},{"$f":"R216+X13","v":121},{"$f":"R216+Y13","v":182},{"$f":"R216+Z13","v":185},{"$f":"R216+AA13","v":177},{"$f":"R216+AB13","v":121},{"$f":"R216+AC13","v":181},{"$f":"R216+AD13","v":185}]
[null,null,null,null,null,null,null,null,null,null,null,null,null,null,null,null,null,{"$f":"L34+AH43+D15+D17+D21+D19*AG31","v":120},{"$f":"R217+Q14","v":176},{"$f":"R217+R14","v":172},{"$f":"R217+S14","v":120},{"$f":"R217+T14","v":165},{"$f":"R217+U14","v":120},{"$f":"R217+V14","v":176},{"$f":"R217+W14","v":173},{"$f":"R217+X14","v":120},{"$f":"R217+Y14","v":173},{"$f":"R217+Z14","v":168},{"$f":"R217+AA14","v":169},{"$f":"R217+AB14","v":120},{"$f":"R217+AC14","v":180},{"$f":"R217+AD14","v":164}]
[]
[null,null,null,null,null,null,null,null,null,null,null,null,null,null,null,null,null,{"$f":"G35","v":0},{"$f":"S191","v":"kit 1"},{"$f":"T191","v":"kit 2/3"},0,"kit 4",0,"kit 5","kit 6/7",0,0,"kit 8","kit 9",0,{"$f":"AE191","v":"kit 10"},{"$f":"AF191","v":"kit 11"}]
[null,null,null,null,null,null,null,null,null,null,null,null,null,null,null,null,null,{"$f":"H35+AH39+D16+D17+D21+D19*AG32","v":136},{"$f":"R220+Q10","v":177},{"$f":"R220+R10","v":205},{"$f":"R220+S10","v":136},{"$f":"R220+T10","v":209},{"$f":"R220+U10","v":136},{"$f":"R220+V10","v":206},{"$f":"R220+W10","v":197},{"$f":"R220+X10","v":136},{"$f":"R220+Y10","v":197},{"$f":"R220+Z10","v":192},{"$f":"R220+AA10","v":197},{"$f":"R220+AB10","v":136},{"$f":"R220+AC10","v":182},{"$f":"R220+AD10","v":187}]
[null,null,null,null,null,null,null,null,null,null,null,null,null,null,null,null,null,{"$f":"I35+AH40+D15+D17+D21+D19*AG32","v":136},{"$f":"R221+Q11","v":216},{"$f":"R221+R11","v":188},{"$f":"R221+S11","v":136},{"$f":"R221+T11","v":181},{"$f":"R221+U11","v":136},{"$f":"R221+V11","v":192},{"$f":"R221+W11","v":197},{"$f":"R221+X11","v":136},{"$f":"R221+Y11","v":197},{"$f":"R221+Z11","v":200},{"$f":"R221+AA11","v":204},{"$f":"R221+AB11","v":136},{"$f":"R221+AC11","v":204},{"$f":"R221+AD11","v":200}]
[null,null,null,null,null,null,null,null,null,null,null,null,null,null,null,null,null,{"$f":"J35+AH41+D15+D17+D21+D19*AG32","v":126},{"$f":"R222+Q12","v":167},{"$f":"R222+R12","v":186},{"$f":"R222+S12","v":126},{"$f":"R222+T12","v":199},{"$f":"R222+U12","v":126},{"$f":"R222+V12","v":182},{"$f":"R222+W12","v":187},{"$f":"R222+X12","v":126},{"$f":"R222+Y12","v":187},{"$f":"R222+Z12","v":190},{"$f":"R222+AA12","v":194},{"$f":"R222+AB12","v":126},{"$f":"R222+AC12","v":179},{"$f":"R222+AD12","v":197}]
[null,null,null,null,null,null,null,null,null,null,null,null,null,null,null,null,null,{"$f":"K35+AH42+D16+D17+D21+D19*AG32","v":121},{"$f":"R223+Q13","v":146},{"$f":"R223+R13","v":190},{"$f":"R223+S13","v":121},{"$f":"R223+T13","v":185},{"$f":"R223+U13","v":121},{"$f":"R223+V13","v":177},{"$f":"R223+W13","v":182},{"$f":"R223+X13","v":121},{"$f":"R223+Y13","v":182},{"$f":"R223+Z13","v":185},{"$f":"R223+AA13","v":177},{"$f":"R223+AB13","v":121},{"$f":"R223+AC13","v":181},{"$f":"R223+AD13","v":185}]
[null,null,null,null,null,null,null,null,null,null,null,null,null,null,null,null,null,{"$f":"L35+AH43+D15+D17+D21+D19*AG32","v":120},{"$f":"R224+Q14","v":176},{"$f":"R224+R14","v":172},{"$f":"R224+S14","v":120},{"$f":"R224+T14","v":165},{"$f":"R224+U14","v":120},{"$f":"R224+V14","v":176},{"$f":"R224+W14","v":173},{"$f":"R224+X14","v":120},{"$f":"R224+Y14","v":173},{"$f":"R224+Z14","v":168},{"$f":"R224+AA14","v":169},{"$f":"R224+AB14","v":120},{"$f":"R224+AC14","v":180},{"$f":"R224+AD14","v":164}]
[]
[null,null,null,null,null,null,null,null,null,null,null,null,null,null,null,null,null,{"$f":"G36","v":0},{"$f":"S198","v":"kit 1"},{"$f":"T198","v":"kit 2/3"},0,"kit 4",0,"kit 5","kit 6/7",0,0,"kit 8","kit 9",0,{"$f":"AE198","v":"kit 10"},{"$f":"AF198","v":"kit 11"}]
[null,null,null,null,null,null,null,null,null,null,null,null,null,null,null,null,null,{"$f":"H36+AH39+D16+D17+D21+D19*AG33","v":136},{"$f":"R227+Q10","v":177},{"$f":"R227+R10","v":205},{"$f":"R227+S10","v":136},{"$f":"R227+T10","v":209},{"$f":"R227+U10","v":136},{"$f":"R227+V10","v":206},{"$f":"R227+W10","v":197},{"$f":"R227+X10","v":136},{"$f":"R227+Y10","v":197},{"$f":"R227+Z10","v":192},{"$f":"R227+AA10","v":197},{"$f":"R227+AB10","v":136},{"$f":"R227+AC10","v":182},{"$f":"R227+AD10","v":187}]
[null,null,null,null,null,null,null,null,null,null,null,null,null,null,null,null,null,{"$f":"I36+AH40+D15+D17+D21+D19*AG33","v":136},{"$f":"R228+Q11","v":216},{"$f":"R228+R11","v":188},{"$f":"R228+S11","v":136},{"$f":"R228+T11","v":181},{"$f":"R228+U11","v":136},{"$f":"R228+V11","v":192},{"$f":"R228+W11","v":197},{"$f":"R228+X11","v":136},{"$f":"R228+Y11","v":197},{"$f":"R228+Z11","v":200},{"$f":"R228+AA11","v":204},{"$f":"R228+AB11","v":136},{"$f":"R228+AC11","v":204},{"$f":"R228+AD11","v":200}]
[null,null,null,null,null,null,null,null,null,null,null,null,null,null,null,null,null,{"$f":"J36+AH41+D15+D17+D21+D19*AG33","v":126},{"$f":"R229+Q12","v":167},{"$f":"R229+R12","v":186},{"$f":"R229+S12","v":126},{"$f":"R229+T12","v":199},{"$f":"R229+U12","v":126},{"$f":"R229+V12","v":182},{"$f":"R229+W12","v":187},{"$f":"R229+X12","v":126},{"$f":"R229+Y12","v":187},{"$f":"R229+Z12","v":190},{"$f":"R229+AA12","v":194},{"$f":"R229+AB12","v":126},{"$f":"R229+AC12","v":179},{"$f":"R229+AD12","v":197}]
[null,null,null,null,null,null,null,null,null,null,null,null,null,null,null,null,null,{"$f":"K36+AH42+D16+D17+D21+D19*AG33","v":121},{"$f":"R230+Q13","v":146},{"$f":"R230+R13","v":190},{"$f":"R230+S13","v":121},{"$f":"R230+T13","v":185},{"$f":"R230+U13","v":121},{"$f":"R230+V13","v":177},{"$f":"R230+W13","v":182},{"$f":"R230+X13","v":121},{"$f":"R230+Y13","v":182},{"$f":"R230+Z13","v":185},{"$f":"R230+AA13","v":177},{"$f":"R230+AB13","v":121},{"$f":"R230+AC13","v":181},{"$f":"R230+AD13","v":185}]
[null,null,null,null,null,null,null,null,null,null,null,null,null,null,null,null,null,{"$f":"L36+AH43+D15+D17+D21+D19*AG33","v":120},{"$f":"R231+Q14","v":176},{"$f":"R231+R14","v":172},{"$f":"R231+S14","v":120},{"$f":"R231+T14","v":165},{"$f":"R231+U14","v":120},{"$f":"R231+V14","v":176},{"$f":"R231+W14","v":173},{"$f":"R231+X14","v":120},{"$f":"R231+Y14","v":173},{"$f":"R231+Z14","v":168},{"$f":"R231+AA14","v":169},{"$f":"R231+AB14","v":120},{"$f":"R231+AC14","v":180},{"$f":"R231+AD14","v":164}]

{"sheet":"import advers","index":1,"n_rows":31,"n_cols":22,"rows_kept":31,"cut":false,"hidden":true,"merged":[[0,20,0,21]]}
[null,"http://maracana.football-masters.fr/fr/stadium.php?equipe=47799&sport=foot",{"$f":"IF(B1=\"\",0,MID(B1,SEARCH(\"equipe=\",B1,1)+7,(SEARCH(\"&\",B1,1)-SEARCH(\"equipe=\",B1,1)-7)))","v":"47799"},{"$f":"IF(E1<>\"\",MID(E1,SEARCH(\"id=\",E1,1)+3,10),\"Pas de matchs\")","v":"267555"},"http://maracana.football-masters.fr/fr/account/team.php?id=267555",{"$f":"IF($D$1=C1,1,0)","v":0},{"$f":"IF(H1<>\"\",MID(H1,SEARCH(\"id=\",H1,1)+3,10),\"Pas de matchs\")","v":"267635"},"http://maracana.football-masters.fr/fr/account/team.php?id=267635",{"$f":"IF($G$1=C1,1,0)","v":0},null,{"$f":"IF(F31=0,E1,H1)","v":"http://maracana.football-masters.fr/fr/account/team.php?id=267635"},null,null,"Tokitou-8 1 / 0 Vive la drtf !!","http://maracana.football-masters.fr/fr/matchreport.php?id1=254327&id2=267635&date=1349953800&server=6",{"$f":"IF(O1=\"\",0,SEARCH(\"&\",O1,1))","v":66},{"$f":"IF(O1=\"\",0,MID(O1,SEARCH(\"id1=\",O1,1)+4,(SEARCH(\"&\",O1,1)-SEARCH(\"id1=\",O1,1)-4)))","v":"254327"},{"$f":"IF(O1=\"\",0,MID(O1,SEARCH(\"id2=\",O1,P1)+4,(SEARCH(\"&\",O1,P1+1)-SEARCH(\"id2=\",O1,P1)-4)))","v":"267635"},{"$f":"IF(Q1=$K$3,0,11)","v":11},{"$f":"IF(R1=$K$3,0,11)","v":0},"% capitaine"]
[null,"http://maracana.football-masters.fr/fr/stadium.php?equipe=72737&sport=foot","72737",null,null,{"$f":"IF($D$1=C2,1,0)","v":0},null,null,{"$f":"IF($G$1=C2,1,0)","v":0},null,{"$f":"\"palmares_\"&IF(K1<>\"\",MID(K1,SEARCH(\"id=\",K1,1)+3,10),\"Pas de matchs\")","v":"palmares_267635"},null,null,null,null,0,0,0,11,11,0.155,0.17399999999999999]
[null,"http://maracana.football-masters.fr/fr/stadium.php?equipe=267555&sport=foot","267555",null,null,1,null,null,0,null,{"$f":"IF(F31=0,D1,G1)","v":"267635"},null,null,null,null,{"$f":"IF(O3=\"\",0,SEARCH(\"&\",O3,1))","v":0},{"$f":"IF(O3=\"\",0,MID(O3,SEARCH(\"id1=\",O3,1)+4,(SEARCH(\"&\",O3,1)-SEARCH(\"id1=\",O3,1)-4)))","v":0},{"$f":"IF(O3=\"\",0,MID(O3,SEARCH(\"id2=\",O3,P3)+4,(SEARCH(\"&\",O3,P3+1)-SEARCH(\"id2=\",O3,P3)-4)))","v":0},{"$f":"IF(Q3=$K$3,0,11)","v":11},{"$f":"IF(R3=$K$3,0,11)","v":11}]
[null,null,0,null,null,0,null,null,0,null,null,null,null,null,null,{"$f":"IF(O4=\"\",0,SEARCH(\"&\",O4,1))","v":0},{"$f":"IF(O4=\"\",0,MID(O4,SEARCH(\"id1=\",O4,1)+4,(SEARCH(\"&\",O4,1)-SEARCH(\"id1=\",O4,1)-4)))","v":0},{"$f":"IF(O4=\"\",0,MID(O4,SEARCH(\"id2=\",O4,P4)+4,(SEARCH(\"&\",O4,P4+1)-SEARCH(\"id2=\",O4,P4)-4)))","v":0},{"$f":"IF(Q4=$K$3,0,11)","v":11},11]
[null,null,0,null,null,0,null,null,0,null,null,null,null,null,null,0,0,0,11,11]
[null,null,0,null,null,0,null,null,0,null,null,null,null,null,null,0,0,0,11,11]
[null,null,0,null,null,0,null,null,0,null,null,null,null,null,null,0,0,0,11,11]
[null,null,0,null,null,0,null,null,0,null,null,null,null,null,null,0,0,0,11,11]
[null,null,0,null,null,0,null,null,0,null,null,null,null,null,null,0,0,0,11,11]
[null,null,0,null,null,0,null,null,0,null,null,null,null,null,null,0,0,0,11,11]
[null,null,0,null,null,0,null,null,0,null,null,null,null,null,null,0,0,0,11,11]
[null,null,0,null,null,0,null,null,0,null,null,null,null,null,null,0,0,0,11,11]
[null,null,0,null,null,0,null,null,0,null,null,null,null,null,null,0,0,0,11,11]
[null,null,0,null,null,0,null,null,0,null,null,null,null,null,null,0,0,0,11,11]
[null,null,0,null,null,0,null,null,0,null,null,null,null,null,null,0,0,0,11,11]
[null,null,0,null,null,0,null,null,0,null,null,null,null,null,null,0,0,0,11,11]
[null,null,0,null,null,0,null,null,0,null,null,null,null,null,null,0,0,0,11,11]
[null,null,0,null,null,0,null,null,0,null,null,null,null,null,null,0,0,0,11,11]
[null,null,0,null,null,0,null,null,0,null,null,null,null,null,null,0,0,0,11,11]
[null,null,0,null,null,0,null,null,0,null,null,null,null,null,null,0,0,0,11,11]
[null,null,0,null,null,0,null,null,0,null,null,null,null,null,null,0,0,0,11,11]
[null,null,0,null,null,0,null,null,0,null,null,null,null,null,null,0,0,0,11,11]
[null,null,0,null,null,0,null,null,0,null,null,null,null,null,null,0,0,0,11,11]
[null,null,0,null,null,0,null,null,0,null,null,null,null,null,null,0,0,0,11,11]
[null,null,0,null,null,0,null,null,0,null,null,null,null,null,null,0,0,0,11,11]
[null,null,0,null,null,0,null,null,0,null,null,null,null,null,null,0,0,0,11,11]
[null,null,0,null,null,0,null,null,0,null,null,null,null,null,null,0,0,0,11,11]
[null,null,0,null,null,0,null,null,0,null,null,null,null,null,null,0,0,0,11,11]
[null,null,0,null,null,0,null,null,0,null,null,null,null,null,null,0,0,0,11,11]
[null,null,0,null,null,0,null,null,0,null,null,null,null,null,null,0,0,0,11,11]
[null,null,0,null,null,{"$f":"SUM(F1:F30)","v":1},null,null,{"$f":"SUM(I1:I30)","v":0}]

{"sheet":"Feuil6","index":2,"n_rows":0,"n_cols":0,"rows_kept":0,"cut":false,"hidden":true,"merged":[]}

{"sheet":"Feuil8","index":3,"n_rows":639,"n_cols":2,"rows_kept":639,"cut":false,"hidden":true,"merged":[]}
["divider"]
[null,"  \r\nPull's Team Pull's Team Pull'sTeam youpla Accès serveur 2 Accès serveur 3 Créer nouvelle équipe \r\n           01:024,904,959186,093,713K4,424,704K 1,637 Jouer un match | Entrainements | Equipement | Stratégie et tactique | Transferts | Gestion du stade | Gestion de l'équipe | Centre de formation | Classements               \r\nEntrainements Entraîner ses joueursJoueurs à l'entraînementEntraînements planifiésJoueurs blessésEquipement Equiper ses joueursAchat d'équipement joueurs Matériel d'entraînementStratégie et tactique Choisir sa stratégieBlessures et suspensionsGestion de l'équipe Gestion des salairesComptabilité de l'équipeGestion diverseGestion des joueursGestion des entraîneursMes équipesTransferts Recrutement de joueursTransferts de joueursRecrutement d'entraîneursTransferts d'entraîneursJouer un match Matchs amicauxTournoisCoupesChampionnatLigueCalendrierGestion du stade Construire de nouveaux batîmentsRégler le prix des billetsBanque & Kits Premium Banque à pilulesKits Assistant & RecruteurCentre de formation Votre centre de formationVotre salle de réunionClassements Classement des équipesClassement des buteursClassement des centres de formationjeu-de-voiture.org Changer de sponsor Pull's Team 3h 17m  Tournoi 14/10/12 04:20 ASL ANNEZIN     Pull's Team49,049 4,904,959 Aide & astuces Accueil Rapport de match\r\n Retour aux rapports\r\n Visitez nos partenaires pour gagner des pilules gratuitement ! Survolez les noms des joueurs pour voir leurs caractéristiques avant le match. \r\ntartiflette 1 1364 432 Force 870 Habileté 432 Vitesse 256 Endurance 605 Intelligence 98 Energie 100 Moral \r\nkaouette 2 1775 823 Force 605 Habileté 714 Vitesse 823 Endurance 603 Intelligence 95 Energie 100 Moral \r\ncrevette 3 3896 788 Force 784 Habileté 793 Vitesse 757 Endurance 776 Intelligence 94 Energie 100 Moral \r\nbelette 4 1369 836 Force 549 Habileté 838 Vitesse 778 Endurance 645 Intelligence 91 Energie 100 Moral \r\nhupette 5 1771 837 Force 656 Habileté 684 Vitesse 675 Endurance 654 Intelligence 95 Energie 100 Moral \r\npoulette 6 1804 816 Force 816 Habileté 816 Vitesse 816 Endurance 685 Intelligence 97 Energie 100 Moral \r\nkrokette 7 875 726 Force 848 Habileté 848 Vitesse 778 Endurance 626 Intelligence 97 Energie 100 Moral \r\nanisette 8 1568 838 Force 847 Habileté 847 Vitesse 847 Endurance 702 Intelligence 94 Energie 100 Moral \r\nchoupette 9 959 864 Force 871 Habileté 871 Vitesse 819 Endurance 719 Intelligence 91 Energie 100 Moral \r\nbikette 10 2424 802 Force 825 Habileté 810 Vitesse 817 Endurance 696 Intelligence 94 Energie 100 Moral \r\nnenette 11 1678 826 Force 840 Habileté 847 Vitesse 840 Endurance 692 Intelligence 96 Energie 100 Moral \r\n1 1 1228 411 Force 941 Habileté 419 Vitesse 252 Endurance 601 Intelligence 100 Energie 100 Moral \r\nBOLT 2 1835 909 Force 636 Habileté 741 Vitesse 908 Endurance 619 Intelligence 100 Energie 100 Moral \r\n6 3 2713 814 Force 825 Habileté 762 Vitesse 814 Endurance 632 Intelligence 100 Energie 100 Moral \r\n4 4 2303 871 Force 801 Habileté 871 Vitesse 810 Endurance 664 Intelligence 99 Energie 100 Moral \r\nZig Zag 5 2618 817 Force 776 Habileté 765 Vitesse 765 Endurance 634 Intelligence 100 Energie 100 Moral \r\n7 6 1998 886 Force 897 Habileté 886 Vitesse 886 Endurance 745 Intelligence 97 Energie 100 Moral \r\nJoão Moutinho 7 955 912 Force 922 Habileté 911 Vitesse 894 Endurance 720 Intelligence 100 Energie 100 Moral \r\n8 8 2700 883 Force 894 Habileté 831 Vitesse 831 Endurance 743 Intelligence 100 Energie 100 Moral \r\n9 star sept 9 1632 799 Force 889 Habileté 877 Vitesse 686 Endurance 670 Intelligence 97 Energie 100 Moral \r\n10 cap 10 5493 683 Force 801 Habileté 733 Vitesse 724 Endurance 747 Intelligence 97 Energie 100 Moral \r\n11 11 2157 716 Force 844 Habileté 841 Vitesse 885 Endurance 598 Intelligence 100 Energie 100 Moral \r\nMessage privé Votre message\r\n\r\n \r\n. \r\nPremière mi-temps \r\nDeuxième mi-temps \r\n. VS ASL ANNEZIN\r\n popotte62  FC HYPO 2\r\n Hypo17 Gel ou neige Composition des équipes\r\n #ASL ANNEZIN \r\n1.1\r\n2.BOLT\r\n3.6\r\n4.4\r\n5.Zig Zag\r\n6.7\r\n7.João Moutinho\r\n8.8\r\n9.9 star sept\r\n10.10 cap\r\n11.11\r\n #FC HYPO 2 \r\n1.tartiflette\r\n2.kaouette\r\n3.crevette\r\n4.belette\r\n5.hupette\r\n6.poulette\r\n7.krokette\r\n8.anisette\r\n9.choupette\r\n10.bikette\r\n11.nenette\r\nBonus\r\nBonus de chance+4%\r\nBonus d'expérience+2.8%\r\nBonus à domicile-\r\nBonus capitaine+17.4%\r\nBonus de météo+5%\r\nBonus d'agressivité+0%\r\nBonus stratégie-\r\nMalus joueurs absents-\r\nBonus\r\nBonus de chance+3%\r\nBonus d'expérience-\r\nBonus à domicile+10%\r\nBonus capitaine+15.5%\r\nBonus de météo+5%\r\nBonus d'agressivité+0%\r\nBonus stratégie-\r\nMalus joueurs absents-\r\nRécit du match\r\nActionHeureScoreDétails Commentaire \r\nPremière mi-temps \r\n20m 4s0/0Attention ! Il tape un ballon de la tête et c'est juste.... à côté du poteau droit, incroyable ! \r\nEquipePersévéranceAttaqueDéfense\r\nFC HYPO 2+0%4182.2510641.82\r\nASL ANNEZIN+0%8988.55905.59\r\n\r\n32m 21s0/0Le joueur de FC HYPO 2 enchaine une série de dribbles, élimine la défense mais rate son tir... \r\nEquipePersévéranceAttaqueDéfense\r\nFC HYPO 2+3%4307.7210961.07\r\nASL ANNEZIN+3%9258.156082.75\r\n\r\n44m 24s0/0Attention ! Il tape un ballon de la tête et c'est juste.... à côté du poteau droit, incroyable ! \r\nEquipePersévéranceAttaqueDéfense\r\nFC HYPO 2+6%4433.1911280.33\r\nASL ANNEZIN+6%9527.816259.92\r\n\r\nDeuxième mi-temps \r\n47m 1s0/1Penaltie ?! Penaltie pour João Moutinho ! Le joueur s'élance et prend le gardien à contre pied, c'est but ! \r\nEquipePersévéranceAttaqueDéfense\r\nFC HYPO 2+0%5495.538224.69\r\nASL ANNEZIN+0%8849.585820.63\r\n\r\n70m 39s0/2Grosse bourde des défenseurs de FC HYPO 2 qui donnent la balle aux attaquants, c'est but !!! \r\nEquipePersévéranceAttaqueDéfense\r\nFC HYPO 2+3%5673.538491.07\r\nASL ANNEZIN+0%8849.585820.63\r\n\r\nFC HYPO 2 \r\n359716500-37 VS2071500 ASL ANNEZIN \r\n930 \r\nJoão Moutinho João Moutinho . \r\nPremière mi-temps \r\nDeuxième mi-temps \r\n. Bilan de match\r\n#FC HYPO 2 AttaqueDéfense\r\n1tartiflette\r\nEnergie 6 23.51151.9\r\n2kaouette\r\nEnergie 9 146.46585.84\r\n3crevette\r\nEnergie 9 134.16536.66\r\n4belette\r\nEnergie 8 97.56878.07\r\n5hupette\r\nEnergie 8 148.951340.57\r\n6poulette\r\nEnergie 8 292.81171.21\r\n7krokette\r\nEnergie 7 416.81625.21\r\n8anisette\r\nEnergie 7 445.56445.56\r\n9choupette\r\nEnergie 7 667.06285.88\r\n10bikette\r\nEnergie 7 328.94493.42\r\n11nenette\r\nEnergie 8 340.53227.02\r\nTotal3042.387741.39\r\nTotal avec bonus4182.2510641.82\r\n#ASL ANNEZIN AttaqueDéfense\r\n11\r\nEnergie 6 25.631255.95\r\n2BOLT\r\nEnergie 6 484.41322.94\r\n36\r\nEnergie 6 443.44295.63\r\n44\r\nEnergie 7 525.11525.11\r\n5Zig Zag\r\nEnergie 7 890.16593.44\r\n67\r\nEnergie 9 763508.67\r\n7João Moutinho\r\nEnergie 7 779.24194.81\r\n88\r\nEnergie 7 724.33181.08\r\n99 star sept\r\nEnergie 6 708.0578.67\r\n1010 cap\r\nEnergie 8 862.26369.54\r\n1111\r\nEnergie 9 610.87152.71\r\nTotal6816.564478.59\r\nTotal avec bonus8988.55905.59\r\nJoueurs en ligne (29) | Aide | Wiki & règles du jeu | Support "]
[null,"  \r\nPull's Team Pull's Team Pull'sTeam youpla Accès serveur 2 Accès serveur 3 Créer nouvelle équipe \r\n           01:024,904,959186,093,713K4,424,704K 1,637 Jouer un match | Entrainements | Equipement | Stratégie et tactique | Transferts | Gestion du stade | Gestion de l'équipe | Centre de formation | Classements               \r\nEntrainements Entraîner ses joueursJoueurs à l'entraînementEntraînements planifiésJoueurs blessésEquipement Equiper ses joueursAchat d'équipement joueurs Matériel d'entraînementStratégie et tactique Choisir sa stratégieBlessures et suspensionsGestion de l'équipe Gestion des salairesComptabilité de l'équipeGestion diverseGestion des joueursGestion des entraîneursMes équipesTransferts Recrutement de joueursTransferts de joueursRecrutement d'entraîneursTransferts d'entraîneursJouer un match Matchs amicauxTournoisCoupesChampionnatLigueCalendrierGestion du stade Construire de nouveaux batîmentsRégler le prix des billetsBanque & Kits Premium Banque à pilulesKits Assistant & RecruteurCentre de formation Votre centre de formationVotre salle de réunionClassements Classement des équipesClassement des buteursClassement des centres de formationjeu-de-voiture.org Changer de sponsor Pull's Team 3h 17m  Tournoi 14/10/12 04:20 ASL ANNEZIN     Pull's Team49,049 4,904,959 Aide & astuces Accueil Rapport de match\r\n Retour aux rapports\r\n Visitez nos partenaires pour gagner des pilules gratuitement ! Survolez les noms des joueurs pour voir leurs caractéristiques avant le match. \r\ntartiflette 1 1364 432 Force 870 Habileté 432 Vitesse 256 Endurance 605 Intelligence 98 Energie 100 Moral \r\nkaouette 2 1775 823 Force 605 Habileté 714 Vitesse 823 Endurance 603 Intelligence 95 Energie 100 Moral \r\ncrevette 3 3896 788 Force 784 Habileté 793 Vitesse 757 Endurance 776 Intelligence 94 Energie 100 Moral \r\nbelette 4 1369 836 Force 549 Habileté 838 Vitesse 778 Endurance 645 Intelligence 91 Energie 100 Moral \r\nhupette 5 1771 837 Force 656 Habileté 684 Vitesse 675 Endurance 654 Intelligence 95 Energie 100 Moral \r\npoulette 6 1804 816 Force 816 Habileté 816 Vitesse 816 Endurance 685 Intelligence 97 Energie 100 Moral \r\nkrokette 7 875 726 Force 848 Habileté 848 Vitesse 778 Endurance 626 Intelligence 97 Energie 100 Moral \r\nanisette 8 1568 838 Force 847 Habileté 847 Vitesse 847 Endurance 702 Intelligence 94 Energie 100 Moral \r\nchoupette 9 959 864 Force 871 Habileté 871 Vitesse 819 Endurance 719 Intelligence 91 Energie 100 Moral \r\nbikette 10 2424 802 Force 825 Habileté 810 Vitesse 817 Endurance 696 Intelligence 94 Energie 100 Moral \r\nnenette 11 1678 826 Force 840 Habileté 847 Vitesse 840 Endurance 692 Intelligence 96 Energie 100 Moral \r\n1 1 1228 411 Force 941 Habileté 419 Vitesse 252 Endurance 601 Intelligence 100 Energie 100 Moral \r\nBOLT 2 1835 909 Force 636 Habileté 741 Vitesse 908 Endurance 619 Intelligence 100 Energie 100 Moral \r\n6 3 2713 814 Force 825 Habileté 762 Vitesse 814 Endurance 632 Intelligence 100 Energie 100 Moral \r\n4 4 2303 871 Force 801 Habileté 871 Vitesse 810 Endurance 664 Intelligence 99 Energie 100 Moral \r\nZig Zag 5 2618 817 Force 776 Habileté 765 Vitesse 765 Endurance 634 Intelligence 100 Energie 100 Moral \r\n7 6 1998 886 Force 897 Habileté 886 Vitesse 886 Endurance 745 Intelligence 97 Energie 100 Moral \r\nJoão Moutinho 7 955 912 Force 922 Habileté 911 Vitesse 894 Endurance 720 Intelligence 100 Energie 100 Moral \r\n8 8 2700 883 Force 894 Habileté 831 Vitesse 831 Endurance 743 Intelligence 100 Energie 100 Moral \r\n9 star sept 9 1632 799 Force 889 Habileté 877 Vitesse 686 Endurance 670 Intelligence 97 Energie 100 Moral \r\n10 cap 10 5493 683 Force 801 Habileté 733 Vitesse 724 Endurance 747 Intelligence 97 Energie 100 Moral \r\n11 11 2157 716 Force 844 Habileté 841 Vitesse 885 Endurance 598 Intelligence 100 Energie 100 Moral \r\nMessage privé Votre message\r\n\r\n \r\n. \r\nPremière mi-temps \r\nDeuxième mi-temps \r\n. VS ASL ANNEZIN\r\n popotte62  FC HYPO 2\r\n Hypo17 Gel ou neige Composition des équipes\r\n #ASL ANNEZIN \r\n1.1\r\n2.BOLT\r\n3.6\r\n4.4\r\n5.Zig Zag\r\n6.7\r\n7.João Moutinho\r\n8.8\r\n9.9 star sept\r\n10.10 cap\r\n11.11\r\n #FC HYPO 2 \r\n1.tartiflette\r\n2.kaouette\r\n3.crevette\r\n4.belette\r\n5.hupette\r\n6.poulette\r\n7.krokette\r\n8.anisette\r\n9.choupette\r\n10.bikette\r\n11.nenette\r\nBonus\r\nBonus de chance+4%\r\nBonus d'expérience+2.8%\r\nBonus à domicile-\r\nBonus capitaine+17.4%\r\nBonus de météo+5%\r\nBonus d'agressivité+0%\r\nBonus stratégie-\r\nMalus joueurs absents-\r\nBonus\r\nBonus de chance+3%\r\nBonus d'expérience-\r\nBonus à domicile+10%\r\nBonus capitaine+15.5%\r\nBonus de météo+5%\r\nBonus d'agressivité+0%\r\nBonus stratégie-\r\nMalus joueurs absents-\r\nRécit du match\r\nActionHeureScoreDétails Commentaire \r\nPremière mi-temps \r\n20m 4s0/0Attention ! Il tape un ballon de la tête et c'est juste.... à côté du poteau droit, incroyable ! \r\nEquipePersévéranceAttaqueDéfense\r\nFC HYPO 2+0%4182.2510641.82\r\nASL ANNEZIN+0%8988.55905.59\r\n\r\n32m 21s0/0Le joueur de FC HYPO 2 enchaine une série de dribbles, élimine la défense mais rate son tir... \r\nEquipePersévéranceAttaqueDéfense\r\nFC HYPO 2+3%4307.7210961.07\r\nASL ANNEZIN+3%9258.156082.75\r\n\r\n44m 24s0/0Attention ! Il tape un ballon de la tête et c'est juste.... à côté du poteau droit, incroyable ! \r\nEquipePersévéranceAttaqueDéfense\r\nFC HYPO 2+6%4433.1911280.33\r\nASL ANNEZIN+6%9527.816259.92\r\n\r\nDeuxième mi-temps \r\n47m 1s0/1Penaltie ?! Penaltie pour João Moutinho ! Le joueur s'élance et prend le gardien à contre pied, c'est but ! \r\nEquipePersévéranceAttaqueDéfense\r\nFC HYPO 2+0%5495.538224.69\r\nASL ANNEZIN+0%8849.585820.63\r\n\r\n70m 39s0/2Grosse bourde des défenseurs de FC HYPO 2 qui donnent la balle aux attaquants, c'est but !!! \r\nEquipePersévéranceAttaqueDéfense\r\nFC HYPO 2+3%5673.538491.07\r\nASL ANNEZIN+0%8849.585820.63\r\n\r\nFC HYPO 2 \r\n359716500-37 VS2071500 ASL ANNEZIN \r\n930 \r\nJoão Moutinho João Moutinho . \r\nPremière mi-temps \r\nDeuxième mi-temps \r\n. Bilan de match\r\n#FC HYPO 2 AttaqueDéfense\r\n1tartiflette\r\nEnergie 6 23.51151.9\r\n2kaouette\r\nEnergie 9 146.46585.84\r\n3crevette\r\nEnergie 9 134.16536.66\r\n4belette\r\nEnergie 8 97.56878.07\r\n5hupette\r\nEnergie 8 148.951340.57\r\n6poulette\r\nEnergie 8 292.81171.21\r\n7krokette\r\nEnergie 7 416.81625.21\r\n8anisette\r\nEnergie 7 445.56445.56\r\n9choupette\r\nEnergie 7 667.06285.88\r\n10bikette\r\nEnergie 7 328.94493.42\r\n11nenette\r\nEnergie 8 340.53227.02\r\nTotal3042.387741.39\r\nTotal avec bonus4182.2510641.82\r\n#ASL ANNEZIN AttaqueDéfense\r\n11\r\nEnergie 6 25.631255.95\r\n2BOLT\r\nEnergie 6 484.41322.94\r\n36\r\nEnergie 6 443.44295.63\r\n44\r\nEnergie 7 525.11525.11\r\n5Zig Zag\r\nEnergie 7 890.16593.44\r\n67\r\nEnergie 9 763508.67\r\n7João Moutinho\r\nEnergie 7 779.24194.81\r\n88\r\nEnergie 7 724.33181.08\r\n99 star sept\r\nEnergie 6 708.0578.67\r\n1010 cap\r\nEnergie 8 862.26369.54\r\n1111\r\nEnergie 9 610.87152.71\r\nTotal6816.564478.59\r\nTotal avec bonus8988.55905.59"]
[null,"  \r\nPull's Team Pull's Team Pull'sTeam youpla Accès serveur 2 Accès serveur 3 Créer nouvelle équipe \r\n           01:024,904,959186,093,713K4,424,704K 1,637 Jouer un match | Entrainements | Equipement | Stratégie et tactique | Transferts | Gestion du stade | Gestion de l'équipe | Centre de formation | Classements "]
[null,"  \r\nPull's Team Pull's Team Pull'sTeam youpla Accès serveur 2 Accès serveur 3 Créer nouvelle équipe \r\n           01:024,904,959186,093,713K4,424,704K 1,637 "]
[null,"  \r\nPull's Team Pull's Team Pull'sTeam youpla Accès serveur 2 Accès serveur 3 Créer nouvelle équipe \r\n           01:024,904,959186,093,713K4,424,704K 1,637 "]
[null,"Pull's Team "]
[null,"Pull's Team "]
[null,"Pull's Team Pull'sTeam youpla Accès serveur 2 Accès serveur 3 Créer nouvelle équipe "]
[null,"Pull's Team Pull'sTeam youpla Accès serveur 2 Accès serveur 3 Créer nouvelle équipe "]
[null,"          "]
[null," 01:024,904,959186,093,713K4,424,704K 1,637 "]
[null," 01:024,904,959186,093,713K4,424,704K "]
["menu-information-left"," 01:024,904,959186,093,713K4,424,704K "]
["menu-information-right"," 01:024,904,959186,093,713K4,424,704K "]
["menu-information"," 01:024,904,959186,093,713K4,424,704K "]
[null,1637]
["menu-information-left",1637]
["menu-information-right",1637]
["menu-information",1637]
[null,"Jouer un match | Entrainements | Equipement | Stratégie et tactique | Transferts | Gestion du stade | Gestion de l'équipe | Centre de formation | Classements "]
[null,"              \r\nEntrainements Entraîner ses joueursJoueurs à l'entraînementEntraînements planifiésJoueurs blessésEquipement Equiper ses joueursAchat d'équipement joueurs Matériel d'entraînementStratégie et tactique Choisir sa stratégieBlessures et suspensionsGestion de l'équipe Gestion des salairesComptabilité de l'équipeGestion diverseGestion des joueursGestion des entraîneursMes équipesTransferts Recrutement de joueursTransferts de joueursRecrutement d'entraîneursTransferts d'entraîneursJouer un match Matchs amicauxTournoisCoupesChampionnatLigueCalendrierGestion du stade Construire de nouveaux batîmentsRégler le prix des billetsBanque & Kits Premium Banque à pilulesKits Assistant & RecruteurCentre de formation Votre centre de formationVotre salle de réunionClassements Classement des équipesClassement des buteursClassement des centres de formationjeu-de-voiture.org Changer de sponsor Pull's Team 3h 17m 52s Tournoi 14/10/12 04:20 ASL ANNEZIN     Pull's Team49,049 4,904,959 Aide & astuces Accueil Rapport de match\r\n Retour aux rapports\r\n Visitez nos partenaires pour gagner des pilules gratuitement ! Survolez les noms des joueurs pour voir leurs caractéristiques avant le match. \r\ntartiflette 1 1364 432 Force 870 Habileté 432 Vitesse 256 Endurance 605 Intelligence 98 Energie 100 Moral \r\nkaouette 2 1775 823 Force 605 Habileté 714 Vitesse 823 Endurance 603 Intelligence 95 Energie 100 Moral \r\ncrevette 3 3896 788 Force 784 Habileté 793 Vitesse 757 Endurance 776 Intelligence 94 Energie 100 Moral \r\nbelette 4 1369 836 Force 549 Habileté 838 Vitesse 778 Endurance 645 Intelligence 91 Energie 100 Moral \r\nhupette 5 1771 837 Force 656 Habileté 684 Vitesse 675 Endurance 654 Intelligence 95 Energie 100 Moral \r\npoulette 6 1804 816 Force 816 Habileté 816 Vitesse 816 Endurance 685 Intelligence 97 Energie 100 Moral \r\nkrokette 7 875 726 Force 848 Habileté 848 Vitesse 778 Endurance 626 Intelligence 97 Energie 100 Moral \r\nanisette 8 1568 838 Force 847 Habileté 847 Vitesse 847 Endurance 702 Intelligence 94 Energie 100 Moral \r\nchoupette 9 959 864 Force 871 Habileté 871 Vitesse 819 Endurance 719 Intelligence 91 Energie 100 Moral \r\nbikette 10 2424 802 Force 825 Habileté 810 Vitesse 817 Endurance 696 Intelligence 94 Energie 100 Moral \r\nnenette 11 1678 826 Force 840 Habileté 847 Vitesse 840 Endurance 692 Intelligence 96 Energie 100 Moral \r\n1 1 1228 411 Force 941 Habileté 419 Vitesse 252 Endurance 601 Intelligence 100 Energie 100 Moral \r\nBOLT 2 1835 909 Force 636 Habileté 741 Vitesse 908 Endurance 619 Intelligence 100 Energie 100 Moral \r\n6 3 2713 814 Force 825 Habileté 762 Vitesse 814 Endurance 632 Intelligence 100 Energie 100 Moral \r\n4 4 2303 871 Force 801 Habileté 871 Vitesse 810 Endurance 664 Intelligence 99 Energie 100 Moral \r\nZig Zag 5 2618 817 Force 776 Habileté 765 Vitesse 765 Endurance 634 Intelligence 100 Energie 100 Moral \r\n7 6 1998 886 Force 897 Habileté 886 Vitesse 886 Endurance 745 Intelligence 97 Energie 100 Moral \r\nJoão Moutinho 7 955 912 Force 922 Habileté 911 Vitesse 894 Endurance 720 Intelligence 100 Energie 100 Moral \r\n8 8 2700 883 Force 894 Habileté 831 Vitesse 831 Endurance 743 Intelligence 100 Energie 100 Moral \r\n9 star sept 9 1632 799 Force 889 Habileté 877 Vitesse 686 Endurance 670 Intelligence 97 Energie 100 Moral \r\n10 cap 10 5493 683 Force 801 Habileté 733 Vitesse 724 Endurance 747 Intelligence 97 Energie 100 Moral \r\n11 11 2157 716 Force 844 Habileté 841 Vitesse 885 Endurance 598 Intelligence 100 Energie 100 Moral \r\nMessage privé Votre message\r\n\r\n \r\n. \r\nPremière mi-temps \r\nDeuxième mi-temps \r\n. VS ASL ANNEZIN\r\n popotte62  FC HYPO 2\r\n Hypo17 Gel ou neige Composition des équipes\r\n #ASL ANNEZIN \r\n1.1\r\n2.BOLT\r\n3.6\r\n4.4\r\n5.Zig Zag\r\n6.7\r\n7.João Moutinho\r\n8.8\r\n9.9 star sept\r\n10.10 cap\r\n11.11\r\n #FC HYPO 2 \r\n1.tartiflette\r\n2.kaouette\r\n3.crevette\r\n4.belette\r\n5.hupette\r\n6.poulette\r\n7.krokette\r\n8.anisette\r\n9.choupette\r\n10.bikette\r\n11.nenette\r\nBonus\r\nBonus de chance+4%\r\nBonus d'expérience+2.8%\r\nBonus à domicile-\r\nBonus capitaine+17.4%\r\nBonus de météo+5%\r\nBonus d'agressivité+0%\r\nBonus stratégie-\r\nMalus joueurs absents-\r\nBonus\r\nBonus de chance+3%\r\nBonus d'expérience-\r\nBonus à domicile+10%\r\nBonus capitaine+15.5%\r\nBonus de météo+5%\r\nBonus d'agressivité+0%\r\nBonus stratégie-\r\nMalus joueurs absents-\r\nRécit du match\r\nActionHeureScoreDétails Commentaire \r\nPremière mi-temps \r\n20m 4s0/0Attention ! Il tape un ballon de la tête et c'est juste.... à côté du poteau droit, incroyable ! \r\nEquipePersévéranceAttaqueDéfense\r\nFC HYPO 2+0%4182.2510641.82\r\nASL ANNEZIN+0%8988.55905.59\r\n\r\n32m 21s0/0Le joueur de FC HYPO 2 enchaine une série de dribbles, élimine la défense mais rate son tir... \r\nEquipePersévéranceAttaqueDéfense\r\nFC HYPO 2+3%4307.7210961.07\r\nASL ANNEZIN+3%9258.156082.75\r\n\r\n44m 24s0/0Attention ! Il tape un ballon de la tête et c'est juste.... à côté du poteau droit, incroyable ! \r\nEquipePersévéranceAttaqueDéfense\r\nFC HYPO 2+6%4433.1911280.33\r\nASL ANNEZIN+6%9527.816259.92\r\n\r\nDeuxième mi-temps \r\n47m 1s0/1Penaltie ?! Penaltie pour João Moutinho ! Le joueur s'élance et prend le gardien à contre pied, c'est but ! \r\nEquipePersévéranceAttaqueDéfense\r\nFC HYPO 2+0%5495.538224.69\r\nASL ANNEZIN+0%8849.585820.63\r\n\r\n70m 39s0/2Grosse bourde des défenseurs de FC HYPO 2 qui donnent la balle aux attaquants, c'est but !!! \r\nEquipePersévéranceAttaqueDéfense\r\nFC HYPO 2+3%5673.538491.07\r\nASL ANNEZIN+0%8849.585820.63\r\n\r\nFC HYPO 2 \r\n359716500-37 VS2071500 ASL ANNEZIN \r\n930 \r\nJoão Moutinho João Moutinho . \r\nPremière mi-temps \r\nDeuxième mi-temps \r\n. Bilan de match\r\n#FC HYPO 2 AttaqueDéfense\r\n1tartiflette\r\nEnergie 6 23.51151.9\r\n2kaouette\r\nEnergie 9 146.46585.84\r\n3crevette\r\nEnergie 9 134.16536.66\r\n4belette\r\nEnergie 8 97.56878.07\r\n5hupette\r\nEnergie 8 148.951340.57\r\n6poulette\r\nEnergie 8 292.81171.21\r\n7krokette\r\nEnergie 7 416.81625.21\r\n8anisette\r\nEnergie 7 445.56445.56\r\n9choupette\r\nEnergie 7 667.06285.88\r\n10bikette\r\nEnergie 7 328.94493.42\r\n11nenette\r\nEnergie 8 340.53227.02\r\nTotal3042.387741.39\r\nTotal avec bonus4182.2510641.82\r\n#ASL ANNEZIN AttaqueDéfense\r\n11\r\nEnergie 6 25.631255.95\r\n2BOLT\r\nEnergie 6 484.41322.94\r\n36\r\nEnergie 6 443.44295.63\r\n44\r\nEnergie 7 525.11525.11\r\n5Zig Zag\r\nEnergie 7 890.16593.44\r\n67\r\nEnergie 9 763508.67\r\n7João Moutinho\r\nEnergie 7 779.24194.81\r\n88\r\nEnergie 7 724.33181.08\r\n99 star sept\r\nEnergie 6 708.0578.67\r\n1010 cap\r\nEnergie 8 862.26369.54\r\n1111\r\nEnergie 9 610.87152.71\r\nTotal6816.564478.59\r\nTotal avec bonus8988.55905.59"]
["stadium-off","              \r\nEntrainements Entraîner ses joueursJoueurs à l'entraînementEntraînements planifiésJoueurs blessésEquipement Equiper ses joueursAchat d'équipement joueurs Matériel d'entraînementStratégie et tactique Choisir sa stratégieBlessures et suspensionsGestion de l'équipe Gestion des salairesComptabilité de l'équipeGestion diverseGestion des joueursGestion des entraîneursMes équipesTransferts Recrutement de joueursTransferts de joueursRecrutement d'entraîneursTransferts d'entraîneursJouer un match Matchs amicauxTournoisCoupesChampionnatLigueCalendrierGestion du stade Construire de nouveaux batîmentsRégler le prix des billetsBanque & Kits Premium Banque à pilulesKits Assistant & RecruteurCentre de formation Votre centre de formationVotre salle de réunionClassements Classement des équipesClassement des buteursClassement des centres de formationjeu-de-voiture.org Changer de sponsor Pull's Team 3h 17m 52s Tournoi 14/10/12 04:20 ASL ANNEZIN     Pull's Team49,049 4,904,959 Aide & astuces "]
[null,"              \r\nEntrainements Entraîner ses joueursJoueurs à l'entraînementEntraînements planifiésJoueurs blessésEquipement Equiper ses joueursAchat d'équipement joueurs Matériel d'entraînementStratégie et tactique Choisir sa stratégieBlessures et suspensionsGestion de l'équipe Gestion des salairesComptabilité de l'équipeGestion diverseGestion des joueursGestion des entraîneursMes équipesTransferts Recrutement de joueursTransferts de joueursRecrutement d'entraîneursTransferts d'entraîneursJouer un match Matchs amicauxTournoisCoupesChampionnatLigueCalendrierGestion du stade Construire de nouveaux batîmentsRégler le prix des billetsBanque & Kits Premium Banque à pilulesKits Assistant & RecruteurCentre de formation Votre centre de formationVotre salle de réunionClassements Classement des équipesClassement des buteursClassement des centres de formationjeu-de-voiture.org Changer de sponsor Pull's Team 3h 17m 52s Tournoi 14/10/12 04:20 ASL ANNEZIN     Pull's Team49,049 4,904,959 Aide & astuces "]
[]
[null,"Entrainements Entraîner ses joueursJoueurs à l'entraînementEntraînements planifiésJoueurs blessésEquipement Equiper ses joueursAchat d'équipement joueurs Matériel d'entraînementStratégie et tactique Choisir sa stratégieBlessures et suspensionsGestion de l'équipe Gestion des salairesComptabilité de l'équipeGestion diverseGestion des joueursGestion des entraîneursMes équipesTransferts Recrutement de joueursTransferts de joueursRecrutement d'entraîneursTransferts d'entraîneursJouer un match Matchs amicauxTournoisCoupesChampionnatLigueCalendrierGestion du stade Construire de nouveaux batîmentsRégler le prix des billetsBanque & Kits Premium Banque à pilulesKits Assistant & RecruteurCentre de formation Votre centre de formationVotre salle de réunionClassements Classement des équipesClassement des buteursClassement des centres de formationjeu-de-voiture.org Changer de sponsor Pull's Team 3h 17m 52s Tournoi 14/10/12 04:20 ASL ANNEZIN     Pull's Team49,049 4,904,959 Aide & astuces "]
[null,"Entrainements Entraîner ses joueursJoueurs à l'entraînementEntraînements planifiésJoueurs blessésEquipement Equiper ses joueursAchat d'équipement joueurs Matériel d'entraînementStratégie et tactique Choisir sa stratégieBlessures et suspensionsGestion de l'équipe Gestion des salairesComptabilité de l'équipeGestion diverseGestion des joueursGestion des entraîneursMes équipesTransferts Recrutement de joueursTransferts de joueursRecrutement d'entraîneursTransferts d'entraîneursJouer un match Matchs amicauxTournoisCoupesChampionnatLigueCalendrierGestion du stade Construire de nouveaux batîmentsRégler le prix des billetsBanque & Kits Premium Banque à pilulesKits Assistant & RecruteurCentre de formation Votre centre de formationVotre salle de réunionClassements Classement des équipesClassement des buteursClassement des centres de formation"]
["zone","Entrainements Entraîner ses joueursJoueurs à l'entraînementEntraînements planifiésJoueurs blessés"]
["building","Entrainements Entraîner ses joueursJoueurs à l'entraînementEntraînements planifiésJoueurs blessés"]
["buildingTag","Entrainements Entraîner ses joueursJoueurs à l'entraînementEntraînements planifiésJoueurs blessés"]
["zone","Equipement Equiper ses joueursAchat d'équipement joueurs Matériel d'entraînement"]
["building","Equipement Equiper ses joueursAchat d'équipement joueurs Matériel d'entraînement"]
["buildingTag","Equipement Equiper ses joueursAchat d'équipement joueurs Matériel d'entraînement"]
["zone","Stratégie et tactique Choisir sa stratégieBlessures et suspensions"]
["building","Stratégie et tactique Choisir sa stratégieBlessures et suspensions"]
["buildingTag","Stratégie et tactique Choisir sa stratégieBlessures et suspensions"]
["zone","Gestion de l'équipe Gestion des salairesComptabilité de l'équipeGestion diverseGestion des joueursGestion des entraîneursMes équipes"]
["building","Gestion de l'équipe Gestion des salairesComptabilité de l'équipeGestion diverseGestion des joueursGestion des entraîneursMes équipes"]
["buildingTag","Gestion de l'équipe Gestion des salairesComptabilité de l'équipeGestion diverseGestion des joueursGestion des entraîneursMes équipes"]
["zone","Transferts Recrutement de joueursTransferts de joueursRecrutement d'entraîneursTransferts d'entraîneurs"]
["building","Transferts Recrutement de joueursTransferts de joueursRecrutement d'entraîneursTransferts d'entraîneurs"]
["buildingTag","Transferts Recrutement de joueursTransferts de joueursRecrutement d'entraîneursTransferts d'entraîneurs"]
["zone","Jouer un match Matchs amicauxTournoisCoupesChampionnatLigueCalendrier"]
["building","Jouer un match Matchs amicauxTournoisCoupesChampionnatLigueCalendrier"]
["buildingTag","Jouer un match Matchs amicauxTournoisCoupesChampionnatLigueCalendrier"]
["zone","Gestion du stade Construire de nouveaux batîmentsRégler le prix des billets"]
["building","Gestion du stade Construire de nouveaux batîmentsRégler le prix des billets"]
["buildingTag","Gestion du stade Construire de nouveaux batîmentsRégler le prix des billets"]
["zone","Banque & Kits Premium Banque à pilulesKits Assistant & Recruteur"]
["building","Banque & Kits Premium Banque à pilulesKits Assistant & Recruteur"]
["buildingTag","Banque & Kits Premium Banque à pilulesKits Assistant & Recruteur"]
["zone","Centre de formation Votre centre de formationVotre salle de réunion"]
["building","Centre de formation Votre centre de formationVotre salle de réunion"]
["buildingTag","Centre de formation Votre centre de formationVotre salle de réunion"]
["zone","Classements Classement des équipesClassement des buteursClassement des centres de formation"]
["building","Classements Classement des équipesClassement des buteursClassement des centres de formation"]
["buildingTag","Classements Classement des équipesClassement des buteursClassement des centres de formation"]
[null,"jeu-de-voiture.org Changer de sponsor Pull's Team 3h 17m 52s Tournoi 14/10/12 04:20 ASL ANNEZIN     Pull's Team49,049 4,904,959 Aide & astuces "]
[null,"jeu-de-voiture.org Changer de sponsor Pull's Team 3h 17m 52s Tournoi 14/10/12 04:20 ASL ANNEZIN     Pull's Team49,049 4,904,959 Aide & astuces "]
[null,"jeu-de-voiture.org Changer de sponsor "]
[null,"jeu-de-voiture.org "]
[null,"jeu-de-voiture.org "]
[null,"Changer de sponsor "]
[null,"Pull's Team 3h 17m 52s Tournoi 14/10/12 04:20 ASL ANNEZIN     Pull's Team49,049 4,904,959 Aide & astuces "]
[null,"Pull's Team 3h 17m 52s Tournoi 14/10/12 04:20 ASL ANNEZIN     Pull's Team49,049 4,904,959 Aide & astuces "]
[null,"Pull's Team 3h 17m 52s Tournoi 14/10/12 04:20 ASL ANNEZIN     "]
["stadiumConsoleText","Pull's Team 3h 17m 52s Tournoi 14/10/12 04:20 ASL ANNEZIN   "]
["match-notice","Pull's Team 3h 17m 52s Tournoi 14/10/12 04:20 ASL ANNEZIN   "]
["match-notice-center","3h 17m 52s Tournoi 14/10/12 04:20 "]
["match-notice-chrono-wrapper","3h 17m 52s "]
["match-notice-details","Tournoi 14/10/12 04:20 "]
[null,"  "]
[null,"Pull's Team49,049 4,904,959 Aide & astuces "]
["darkenOn","Accueil Rapport de match\r\n Retour aux rapports\r\n Visitez nos partenaires pour gagner des pilules gratuitement ! Survolez les noms des joueurs pour voir leurs caractéristiques avant le match. \r\ntartiflette 1 1364 432 Force 870 Habileté 432 Vitesse 256 Endurance 605 Intelligence 98 Energie 100 Moral \r\nkaouette 2 1775 823 Force 605 Habileté 714 Vitesse 823 Endurance 603 Intelligence 95 Energie 100 Moral \r\ncrevette 3 3896 788 Force 784 Habileté 793 Vitesse 757 Endurance 776 Intelligence 94 Energie 100 Moral \r\nbelette 4 1369 836 Force 549 Habileté 838 Vitesse 778 Endurance 645 Intelligence 91 Energie 100 Moral \r\nhupette 5 1771 837 Force 656 Habileté 684 Vitesse 675 Endurance 654 Intelligence 95 Energie 100 Moral \r\npoulette 6 1804 816 Force 816 Habileté 816 Vitesse 816 Endurance 685 Intelligence 97 Energie 100 Moral \r\nkrokette 7 875 726 Force 848 Habileté 848 Vitesse 778 Endurance 626 Intelligence 97 Energie 100 Moral \r\nanisette 8 1568 838 Force 847 Habileté 847 Vitesse 847 Endurance 702 Intelligence 94 Energie 100 Moral \r\nchoupette 9 959 864 Force 871 Habileté 871 Vitesse 819 Endurance 719 Intelligence 91 Energie 100 Moral \r\nbikette 10 2424 802 Force 825 Habileté 810 Vitesse 817 Endurance 696 Intelligence 94 Energie 100 Moral \r\nnenette 11 1678 826 Force 840 Habileté 847 Vitesse 840 Endurance 692 Intelligence 96 Energie 100 Moral \r\n1 1 1228 411 Force 941 Habileté 419 Vitesse 252 Endurance 601 Intelligence 100 Energie 100 Moral \r\nBOLT 2 1835 909 Force 636 Habileté 741 Vitesse 908 Endurance 619 Intelligence 100 Energie 100 Moral \r\n6 3 2713 814 Force 825 Habileté 762 Vitesse 814 Endurance 632 Intelligence 100 Energie 100 Moral \r\n4 4 2303 871 Force 801 Habileté 871 Vitesse 810 Endurance 664 Intelligence 99 Energie 100 Moral \r\nZig Zag 5 2618 817 Force 776 Habileté 765 Vitesse 765 Endurance 634 Intelligence 100 Energie 100 Moral \r\n7 6 1998 886 Force 897 Habileté 886 Vitesse 886 Endurance 745 Intelligence 97 Energie 100 Moral \r\nJoão Moutinho 7 955 912 Force 922 Habileté 911 Vitesse 894 Endurance 720 Intelligence 100 Energie 100 Moral \r\n8 8 2700 883 Force 894 Habileté 831 Vitesse 831 Endurance 743 Intelligence 100 Energie 100 Moral \r\n9 star sept 9 1632 799 Force 889 Habileté 877 Vitesse 686 Endurance 670 Intelligence 97 Energie 100 Moral \r\n10 cap 10 5493 683 Force 801 Habileté 733 Vitesse 724 Endurance 747 Intelligence 97 Energie 100 Moral \r\n11 11 2157 716 Force 844 Habileté 841 Vitesse 885 Endurance 598 Intelligence 100 Energie 100 Moral \r\nMessage privé Votre message\r\n\r\n \r\n. \r\nPremière mi-temps \r\nDeuxième mi-temps \r\n. VS ASL ANNEZIN\r\n popotte62  FC HYPO 2\r\n Hypo17 Gel ou neige Composition des équipes\r\n #ASL ANNEZIN \r\n1.1\r\n2.BOLT\r\n3.6\r\n4.4\r\n5.Zig Zag\r\n6.7\r\n7.João Moutinho\r\n8.8\r\n9.9 star sept\r\n10.10 cap\r\n11.11\r\n #FC HYPO 2 \r\n1.tartiflette\r\n2.kaouette\r\n3.crevette\r\n4.belette\r\n5.hupette\r\n6.poulette\r\n7.krokette\r\n8.anisette\r\n9.choupette\r\n10.bikette\r\n11.nenette\r\nBonus\r\nBonus de chance+4%\r\nBonus d'expérience+2.8%\r\nBonus à domicile-\r\nBonus capitaine+17.4%\r\nBonus de météo+5%\r\nBonus d'agressivité+0%\r\nBonus stratégie-\r\nMalus joueurs absents-\r\nBonus\r\nBonus de chance+3%\r\nBonus d'expérience-\r\nBonus à domicile+10%\r\nBonus capitaine+15.5%\r\nBonus de météo+5%\r\nBonus d'agressivité+0%\r\nBonus stratégie-\r\nMalus joueurs absents-\r\nRécit du match\r\nActionHeureScoreDétails Commentaire \r\nPremière mi-temps \r\n20m 4s0/0Attention ! Il tape un ballon de la tête et c'est juste.... à côté du poteau droit, incroyable ! \r\nEquipePersévéranceAttaqueDéfense\r\nFC HYPO 2+0%4182.2510641.82\r\nASL ANNEZIN+0%8988.55905.59\r\n\r\n32m 21s0/0Le joueur de FC HYPO 2 enchaine une série de dribbles, élimine la défense mais rate son tir... \r\nEquipePersévéranceAttaqueDéfense\r\nFC HYPO 2+3%4307.7210961.07\r\nASL ANNEZIN+3%9258.156082.75\r\n\r\n44m 24s0/0Attention ! Il tape un ballon de la tête et c'est juste.... à côté du poteau droit, incroyable ! \r\nEquipePersévéranceAttaqueDéfense\r\nFC HYPO 2+6%4433.1911280.33\r\nASL ANNEZIN+6%9527.816259.92\r\n\r\nDeuxième mi-temps \r\n47m 1s0/1Penaltie ?! Penaltie pour João Moutinho ! Le joueur s'élance et prend le gardien à contre pied, c'est but ! \r\nEquipePersévéranceAttaqueDéfense\r\nFC HYPO 2+0%5495.538224.69\r\nASL ANNEZIN+0%8849.585820.63\r\n\r\n70m 39s0/2Grosse bourde des défenseurs de FC HYPO 2 qui donnent la balle aux attaquants, c'est but !!! \r\nEquipePersévéranceAttaqueDéfense\r\nFC HYPO 2+3%5673.538491.07\r\nASL ANNEZIN+0%8849.585820.63\r\n\r\nFC HYPO 2 \r\n359716500-37 VS2071500 ASL ANNEZIN \r\n930 \r\nJoão Moutinho João Moutinho . \r\nPremière mi-temps \r\nDeuxième mi-temps \r\n. Bilan de match\r\n#FC HYPO 2 AttaqueDéfense\r\n1tartiflette\r\nEnergie 6 23.51151.9\r\n2kaouette\r\nEnergie 9 146.46585.84\r\n3crevette\r\nEnergie 9 134.16536.66\r\n4belette\r\nEnergie 8 97.56878.07\r\n5hupette\r\nEnergie 8 148.951340.57\r\n6poulette\r\nEnergie 8 292.81171.21\r\n7krokette\r\nEnergie 7 416.81625.21\r\n8anisette\r\nEnergie 7 445.56445.56\r\n9choupette\r\nEnergie 7 667.06285.88\r\n10bikette\r\nEnergie 7 328.94493.42\r\n11nenette\r\nEnergie 8 340.53227.02\r\nTotal3042.387741.39\r\nTotal avec bonus4182.2510641.82\r\n#ASL ANNEZIN AttaqueDéfense\r\n11\r\nEnergie 6 25.631255.95\r\n2BOLT\r\nEnergie 6 484.41322.94\r\n36\r\nEnergie 6 443.44295.63\r\n44\r\nEnergie 7 525.11525.11\r\n5Zig Zag\r\nEnergie 7 890.16593.44\r\n67\r\nEnergie 9 763508.67\r\n7João Moutinho\r\nEnergie 7 779.24194.81\r\n88\r\nEnergie 7 724.33181.08\r\n99 star sept\r\nEnergie 6 708.0578.67\r\n1010 cap\r\nEnergie 8 862.26369.54\r\n1111\r\nEnergie 9 610.87152.71\r\nTotal6816.564478.59\r\nTotal avec bonus8988.55905.59"]
["gradientOn","Accueil Rapport de match\r\n Retour aux rapports\r\n Visitez nos partenaires pour gagner des pilules gratuitement ! Survolez les noms des joueurs pour voir leurs caractéristiques avant le match. \r\ntartiflette 1 1364 432 Force 870 Habileté 432 Vitesse 256 Endurance 605 Intelligence 98 Energie 100 Moral \r\nkaouette 2 1775 823 Force 605 Habileté 714 Vitesse 823 Endurance 603 Intelligence 95 Energie 100 Moral \r\ncrevette 3 3896 788 Force 784 Habileté 793 Vitesse 757 Endurance 776 Intelligence 94 Energie 100 Moral \r\nbelette 4 1369 836 Force 549 Habileté 838 Vitesse 778 Endurance 645 Intelligence 91 Energie 100 Moral \r\nhupette 5 1771 837 Force 656 Habileté 684 Vitesse 675 Endurance 654 Intelligence 95 Energie 100 Moral \r\npoulette 6 1804 816 Force 816 Habileté 816 Vitesse 816 Endurance 685 Intelligence 97 Energie 100 Moral \r\nkrokette 7 875 726 Force 848 Habileté 848 Vitesse 778 Endurance 626 Intelligence 97 Energie 100 Moral \r\nanisette 8 1568 838 Force 847 Habileté 847 Vitesse 847 Endurance 702 Intelligence 94 Energie 100 Moral \r\nchoupette 9 959 864 Force 871 Habileté 871 Vitesse 819 Endurance 719 Intelligence 91 Energie 100 Moral \r\nbikette 10 2424 802 Force 825 Habileté 810 Vitesse 817 Endurance 696 Intelligence 94 Energie 100 Moral \r\nnenette 11 1678 826 Force 840 Habileté 847 Vitesse 840 Endurance 692 Intelligence 96 Energie 100 Moral \r\n1 1 1228 411 Force 941 Habileté 419 Vitesse 252 Endurance 601 Intelligence 100 Energie 100 Moral \r\nBOLT 2 1835 909 Force 636 Habileté 741 Vitesse 908 Endurance 619 Intelligence 100 Energie 100 Moral \r\n6 3 2713 814 Force 825 Habileté 762 Vitesse 814 Endurance 632 Intelligence 100 Energie 100 Moral \r\n4 4 2303 871 Force 801 Habileté 871 Vitesse 810 Endurance 664 Intelligence 99 Energie 100 Moral \r\nZig Zag 5 2618 817 Force 776 Habileté 765 Vitesse 765 Endurance 634 Intelligence 100 Energie 100 Moral \r\n7 6 1998 886 Force 897 Habileté 886 Vitesse 886 Endurance 745 Intelligence 97 Energie 100 Moral \r\nJoão Moutinho 7 955 912 Force 922 Habileté 911 Vitesse 894 Endurance 720 Intelligence 100 Energie 100 Moral \r\n8 8 2700 883 Force 894 Habileté 831 Vitesse 831 Endurance 743 Intelligence 100 Energie 100 Moral \r\n9 star sept 9 1632 799 Force 889 Habileté 877 Vitesse 686 Endurance 670 Intelligence 97 Energie 100 Moral \r\n10 cap 10 5493 683 Force 801 Habileté 733 Vitesse 724 Endurance 747 Intelligence 97 Energie 100 Moral \r\n11 11 2157 716 Force 844 Habileté 841 Vitesse 885 Endurance 598 Intelligence 100 Energie 100 Moral \r\nMessage privé Votre message\r\n\r\n \r\n. \r\nPremière mi-temps \r\nDeuxième mi-temps \r\n. VS ASL ANNEZIN\r\n popotte62  FC HYPO 2\r\n Hypo17 Gel ou neige Composition des équipes\r\n #ASL ANNEZIN \r\n1.1\r\n2.BOLT\r\n3.6\r\n4.4\r\n5.Zig Zag\r\n6.7\r\n7.João Moutinho\r\n8.8\r\n9.9 star sept\r\n10.10 cap\r\n11.11\r\n #FC HYPO 2 \r\n1.tartiflette\r\n2.kaouette\r\n3.crevette\r\n4.belette\r\n5.hupette\r\n6.poulette\r\n7.krokette\r\n8.anisette\r\n9.choupette\r\n10.bikette\r\n11.nenette\r\nBonus\r\nBonus de chance+4%\r\nBonus d'expérience+2.8%\r\nBonus à domicile-\r\nBonus capitaine+17.4%\r\nBonus de météo+5%\r\nBonus d'agressivité+0%\r\nBonus stratégie-\r\nMalus joueurs absents-\r\nBonus\r\nBonus de chance+3%\r\nBonus d'expérience-\r\nBonus à domicile+10%\r\nBonus capitaine+15.5%\r\nBonus de météo+5%\r\nBonus d'agressivité+0%\r\nBonus stratégie-\r\nMalus joueurs absents-\r\nRécit du match\r\nActionHeureScoreDétails Commentaire \r\nPremière mi-temps \r\n20m 4s0/0Attention ! Il tape un ballon de la tête et c'est juste.... à côté du poteau droit, incroyable ! \r\nEquipePersévéranceAttaqueDéfense\r\nFC HYPO 2+0%4182.2510641.82\r\nASL ANNEZIN+0%8988.55905.59\r\n\r\n32m 21s0/0Le joueur de FC HYPO 2 enchaine une série de dribbles, élimine la défense mais rate son tir... \r\nEquipePersévéranceAttaqueDéfense\r\nFC HYPO 2+3%4307.7210961.07\r\nASL ANNEZIN+3%9258.156082.75\r\n\r\n44m 24s0/0Attention ! Il tape un ballon de la tête et c'est juste.... à côté du poteau droit, incroyable ! \r\nEquipePersévéranceAttaqueDéfense\r\nFC HYPO 2+6%4433.1911280.33\r\nASL ANNEZIN+6%9527.816259.92\r\n\r\nDeuxième mi-temps \r\n47m 1s0/1Penaltie ?! Penaltie pour João Moutinho ! Le joueur s'élance et prend le gardien à contre pied, c'est but ! \r\nEquipePersévéranceAttaqueDéfense\r\nFC HYPO 2+0%5495.538224.69\r\nASL ANNEZIN+0%8849.585820.63\r\n\r\n70m 39s0/2Grosse bourde des défenseurs de FC HYPO 2 qui donnent la balle aux attaquants, c'est but !!! \r\nEquipePersévéranceAttaqueDéfense\r\nFC HYPO 2+3%5673.538491.07\r\nASL ANNEZIN+0%8849.585820.63\r\n\r\nFC HYPO 2 \r\n359716500-37 VS2071500 ASL ANNEZIN \r\n930 \r\nJoão Moutinho João Moutinho . \r\nPremière mi-temps \r\nDeuxième mi-temps \r\n. Bilan de match\r\n#FC HYPO 2 AttaqueDéfense\r\n1tartiflette\r\nEnergie 6 23.51151.9\r\n2kaouette\r\nEnergie 9 146.46585.84\r\n3crevette\r\nEnergie 9 134.16536.66\r\n4belette\r\nEnergie 8 97.56878.07\r\n5hupette\r\nEnergie 8 148.951340.57\r\n6poulette\r\nEnergie 8 292.81171.21\r\n7krokette\r\nEnergie 7 416.81625.21\r\n8anisette\r\nEnergie 7 445.56445.56\r\n9choupette\r\nEnergie 7 667.06285.88\r\n10bikette\r\nEnergie 7 328.94493.42\r\n11nenette\r\nEnergie 8 340.53227.02\r\nTotal3042.387741.39\r\nTotal avec bonus4182.2510641.82\r\n#ASL ANNEZIN AttaqueDéfense\r\n11\r\nEnergie 6 25.631255.95\r\n2BOLT\r\nEnergie 6 484.41322.94\r\n36\r\nEnergie 6 443.44295.63\r\n44\r\nEnergie 7 525.11525.11\r\n5Zig Zag\r\nEnergie 7 890.16593.44\r\n67\r\nEnergie 9 763508.67\r\n7João Moutinho\r\nEnergie 7 779.24194.81\r\n88\r\nEnergie 7 724.33181.08\r\n99 star sept\r\nEnergie 6 708.0578.67\r\n1010 cap\r\nEnergie 8 862.26369.54\r\n1111\r\nEnergie 9 610.87152.71\r\nTotal6816.564478.59\r\nTotal avec bonus8988.55905.59"]
["pageContent","Accueil Rapport de match\r\n Retour aux rapports\r\n Visitez nos partenaires pour gagner des pilules gratuitement ! Survolez les noms des joueurs pour voir leurs caractéristiques avant le match. \r\ntartiflette 1 1364 432 Force 870 Habileté 432 Vitesse 256 Endurance 605 Intelligence 98 Energie 100 Moral \r\nkaouette 2 1775 823 Force 605 Habileté 714 Vitesse 823 Endurance 603 Intelligence 95 Energie 100 Moral \r\ncrevette 3 3896 788 Force 784 Habileté 793 Vitesse 757 Endurance 776 Intelligence 94 Energie 100 Moral \r\nbelette 4 1369 836 Force 549 Habileté 838 Vitesse 778 Endurance 645 Intelligence 91 Energie 100 Moral \r\nhupette 5 1771 837 Force 656 Habileté 684 Vitesse 675 Endurance 654 Intelligence 95 Energie 100 Moral \r\npoulette 6 1804 816 Force 816 Habileté 816 Vitesse 816 Endurance 685 Intelligence 97 Energie 100 Moral \r\nkrokette 7 875 726 Force 848 Habileté 848 Vitesse 778 Endurance 626 Intelligence 97 Energie 100 Moral \r\nanisette 8 1568 838 Force 847 Habileté 847 Vitesse 847 Endurance 702 Intelligence 94 Energie 100 Moral \r\nchoupette 9 959 864 Force 871 Habileté 871 Vitesse 819 Endurance 719 Intelligence 91 Energie 100 Moral \r\nbikette 10 2424 802 Force 825 Habileté 810 Vitesse 817 Endurance 696 Intelligence 94 Energie 100 Moral \r\nnenette 11 1678 826 Force 840 Habileté 847 Vitesse 840 Endurance 692 Intelligence 96 Energie 100 Moral \r\n1 1 1228 411 Force 941 Habileté 419 Vitesse 252 Endurance 601 Intelligence 100 Energie 100 Moral \r\nBOLT 2 1835 909 Force 636 Habileté 741 Vitesse 908 Endurance 619 Intelligence 100 Energie 100 Moral \r\n6 3 2713 814 Force 825 Habileté 762 Vitesse 814 Endurance 632 Intelligence 100 Energie 100 Moral \r\n4 4 2303 871 Force 801 Habileté 871 Vitesse 810 Endurance 664 Intelligence 99 Energie 100 Moral \r\nZig Zag 5 2618 817 Force 776 Habileté 765 Vitesse 765 Endurance 634 Intelligence 100 Energie 100 Moral \r\n7 6 1998 886 Force 897 Habileté 886 Vitesse 886 Endurance 745 Intelligence 97 Energie 100 Moral \r\nJoão Moutinho 7 955 912 Force 922 Habileté 911 Vitesse 894 Endurance 720 Intelligence 100 Energie 100 Moral \r\n8 8 2700 883 Force 894 Habileté 831 Vitesse 831 Endurance 743 Intelligence 100 Energie 100 Moral \r\n9 star sept 9 1632 799 Force 889 Habileté 877 Vitesse 686 Endurance 670 Intelligence 97 Energie 100 Moral \r\n10 cap 10 5493 683 Force 801 Habileté 733 Vitesse 724 Endurance 747 Intelligence 97 Energie 100 Moral \r\n11 11 2157 716 Force 844 Habileté 841 Vitesse 885 Endurance 598 Intelligence 100 Energie 100 Moral \r\nMessage privé Votre message\r\n\r\n \r\n. \r\nPremière mi-temps \r\nDeuxième mi-temps \r\n. VS ASL ANNEZIN\r\n popotte62  FC HYPO 2\r\n Hypo17 Gel ou neige Composition des équipes\r\n #ASL ANNEZIN \r\n1.1\r\n2.BOLT\r\n3.6\r\n4.4\r\n5.Zig Zag\r\n6.7\r\n7.João Moutinho\r\n8.8\r\n9.9 star sept\r\n10.10 cap\r\n11.11\r\n #FC HYPO 2 \r\n1.tartiflette\r\n2.kaouette\r\n3.crevette\r\n4.belette\r\n5.hupette\r\n6.poulette\r\n7.krokette\r\n8.anisette\r\n9.choupette\r\n10.bikette\r\n11.nenette\r\nBonus\r\nBonus de chance+4%\r\nBonus d'expérience+2.8%\r\nBonus à domicile-\r\nBonus capitaine+17.4%\r\nBonus de météo+5%\r\nBonus d'agressivité+0%\r\nBonus stratégie-\r\nMalus joueurs absents-\r\nBonus\r\nBonus de chance+3%\r\nBonus d'expérience-\r\nBonus à domicile+10%\r\nBonus capitaine+15.5%\r\nBonus de météo+5%\r\nBonus d'agressivité+0%\r\nBonus stratégie-\r\nMalus joueurs absents-\r\nRécit du match\r\nActionHeureScoreDétails Commentaire \r\nPremière mi-temps \r\n20m 4s0/0Attention ! Il tape un ballon de la tête et c'est juste.... à côté du poteau droit, incroyable ! \r\nEquipePersévéranceAttaqueDéfense\r\nFC HYPO 2+0%4182.2510641.82\r\nASL ANNEZIN+0%8988.55905.59\r\n\r\n32m 21s0/0Le joueur de FC HYPO 2 enchaine une série de dribbles, élimine la défense mais rate son tir... \r\nEquipePersévéranceAttaqueDéfense\r\nFC HYPO 2+3%4307.7210961.07\r\nASL ANNEZIN+3%9258.156082.75\r\n\r\n44m 24s0/0Attention ! Il tape un ballon de la tête et c'est juste.... à côté du poteau droit, incroyable ! \r\nEquipePersévéranceAttaqueDéfense\r\nFC HYPO 2+6%4433.1911280.33\r\nASL ANNEZIN+6%9527.816259.92\r\n\r\nDeuxième mi-temps \r\n47m 1s0/1Penaltie ?! Penaltie pour João Moutinho ! Le joueur s'élance et prend le gardien à contre pied, c'est but ! \r\nEquipePersévéranceAttaqueDéfense\r\nFC HYPO 2+0%5495.538224.69\r\nASL ANNEZIN+0%8849.585820.63\r\n\r\n70m 39s0/2Grosse bourde des défenseurs de FC HYPO 2 qui donnent la balle aux attaquants, c'est but !!! \r\nEquipePersévéranceAttaqueDéfense\r\nFC HYPO 2+3%5673.538491.07\r\nASL ANNEZIN+0%8849.585820.63\r\n\r\nFC HYPO 2 \r\n359716500-37 VS2071500 ASL ANNEZIN \r\n930 \r\nJoão Moutinho João Moutinho . \r\nPremière mi-temps \r\nDeuxième mi-temps \r\n. Bilan de match\r\n#FC HYPO 2 AttaqueDéfense\r\n1tartiflette\r\nEnergie 6 23.51151.9\r\n2kaouette\r\nEnergie 9 146.46585.84\r\n3crevette\r\nEnergie 9 134.16536.66\r\n4belette\r\nEnergie 8 97.56878.07\r\n5hupette\r\nEnergie 8 148.951340.57\r\n6poulette\r\nEnergie 8 292.81171.21\r\n7krokette\r\nEnergie 7 416.81625.21\r\n8anisette\r\nEnergie 7 445.56445.56\r\n9choupette\r\nEnergie 7 667.06285.88\r\n10bikette\r\nEnergie 7 328.94493.42\r\n11nenette\r\nEnergie 8 340.53227.02\r\nTotal3042.387741.39\r\nTotal avec bonus4182.2510641.82\r\n#ASL ANNEZIN AttaqueDéfense\r\n11\r\nEnergie 6 25.631255.95\r\n2BOLT\r\nEnergie 6 484.41322.94\r\n36\r\nEnergie 6 443.44295.63\r\n44\r\nEnergie 7 525.11525.11\r\n5Zig Zag\r\nEnergie 7 890.16593.44\r\n67\r\nEnergie 9 763508.67\r\n7João Moutinho\r\nEnergie 7 779.24194.81\r\n88\r\nEnergie 7 724.33181.08\r\n99 star sept\r\nEnergie 6 708.0578.67\r\n1010 cap\r\nEnergie 8 862.26369.54\r\n1111\r\nEnergie 9 610.87152.71\r\nTotal6816.564478.59\r\nTotal avec bonus8988.55905.59"]
["tabMargin","Accueil Rapport de match\r\n Retour aux rapports\r\n Visitez nos partenaires pour gagner des pilules gratuitement ! Survolez les noms des joueurs pour voir leurs caractéristiques avant le match. \r\ntartiflette 1 1364 432 Force 870 Habileté 432 Vitesse 256 Endurance 605 Intelligence 98 Energie 100 Moral \r\nkaouette 2 1775 823 Force 605 Habileté 714 Vitesse 823 Endurance 603 Intelligence 95 Energie 100 Moral \r\ncrevette 3 3896 788 Force 784 Habileté 793 Vitesse 757 Endurance 776 Intelligence 94 Energie 100 Moral \r\nbelette 4 1369 836 Force 549 Habileté 838 Vitesse 778 Endurance 645 Intelligence 91 Energie 100 Moral \r\nhupette 5 1771 837 Force 656 Habileté 684 Vitesse 675 Endurance 654 Intelligence 95 Energie 100 Moral \r\npoulette 6 1804 816 Force 816 Habileté 816 Vitesse 816 Endurance 685 Intelligence 97 Energie 100 Moral \r\nkrokette 7 875 726 Force 848 Habileté 848 Vitesse 778 Endurance 626 Intelligence 97 Energie 100 Moral \r\nanisette 8 1568 838 Force 847 Habileté 847 Vitesse 847 Endurance 702 Intelligence 94 Energie 100 Moral \r\nchoupette 9 959 864 Force 871 Habileté 871 Vitesse 819 Endurance 719 Intelligence 91 Energie 100 Moral \r\nbikette 10 2424 802 Force 825 Habileté 810 Vitesse 817 Endurance 696 Intelligence 94 Energie 100 Moral \r\nnenette 11 1678 826 Force 840 Habileté 847 Vitesse 840 Endurance 692 Intelligence 96 Energie 100 Moral \r\n1 1 1228 411 Force 941 Habileté 419 Vitesse 252 Endurance 601 Intelligence 100 Energie 100 Moral \r\nBOLT 2 1835 909 Force 636 Habileté 741 Vitesse 908 Endurance 619 Intelligence 100 Energie 100 Moral \r\n6 3 2713 814 Force 825 Habileté 762 Vitesse 814 Endurance 632 Intelligence 100 Energie 100 Moral \r\n4 4 2303 871 Force 801 Habileté 871 Vitesse 810 Endurance 664 Intelligence 99 Energie 100 Moral \r\nZig Zag 5 2618 817 Force 776 Habileté 765 Vitesse 765 Endurance 634 Intelligence 100 Energie 100 Moral \r\n7 6 1998 886 Force 897 Habileté 886 Vitesse 886 Endurance 745 Intelligence 97 Energie 100 Moral \r\nJoão Moutinho 7 955 912 Force 922 Habileté 911 Vitesse 894 Endurance 720 Intelligence 100 Energie 100 Moral \r\n8 8 2700 883 Force 894 Habileté 831 Vitesse 831 Endurance 743 Intelligence 100 Energie 100 Moral \r\n9 star sept 9 1632 799 Force 889 Habileté 877 Vitesse 686 Endurance 670 Intelligence 97 Energie 100 Moral \r\n10 cap 10 5493 683 Force 801 Habileté 733 Vitesse 724 Endurance 747 Intelligence 97 Energie 100 Moral \r\n11 11 2157 716 Force 844 Habileté 841 Vitesse 885 Endurance 598 Intelligence 100 Energie 100 Moral \r\nMessage privé Votre message\r\n\r\n \r\n. \r\nPremière mi-temps \r\nDeuxième mi-temps \r\n. VS ASL ANNEZIN\r\n popotte62  FC HYPO 2\r\n Hypo17 Gel ou neige Composition des équipes\r\n #ASL ANNEZIN \r\n1.1\r\n2.BOLT\r\n3.6\r\n4.4\r\n5.Zig Zag\r\n6.7\r\n7.João Moutinho\r\n8.8\r\n9.9 star sept\r\n10.10 cap\r\n11.11\r\n #FC HYPO 2 \r\n1.tartiflette\r\n2.kaouette\r\n3.crevette\r\n4.belette\r\n5.hupette\r\n6.poulette\r\n7.krokette\r\n8.anisette\r\n9.choupette\r\n10.bikette\r\n11.nenette\r\nBonus\r\nBonus de chance+4%\r\nBonus d'expérience+2.8%\r\nBonus à domicile-\r\nBonus capitaine+17.4%\r\nBonus de météo+5%\r\nBonus d'agressivité+0%\r\nBonus stratégie-\r\nMalus joueurs absents-\r\nBonus\r\nBonus de chance+3%\r\nBonus d'expérience-\r\nBonus à domicile+10%\r\nBonus capitaine+15.5%\r\nBonus de météo+5%\r\nBonus d'agressivité+0%\r\nBonus stratégie-\r\nMalus joueurs absents-\r\nRécit du match\r\nActionHeureScoreDétails Commentaire \r\nPremière mi-temps \r\n20m 4s0/0Attention ! Il tape un ballon de la tête et c'est juste.... à côté du poteau droit, incroyable ! \r\nEquipePersévéranceAttaqueDéfense\r\nFC HYPO 2+0%4182.2510641.82\r\nASL ANNEZIN+0%8988.55905.59\r\n\r\n32m 21s0/0Le joueur de FC HYPO 2 enchaine une série de dribbles, élimine la défense mais rate son tir... \r\nEquipePersévéranceAttaqueDéfense\r\nFC HYPO 2+3%4307.7210961.07\r\nASL ANNEZIN+3%9258.156082.75\r\n\r\n44m 24s0/0Attention ! Il tape un ballon de la tête et c'est juste.... à côté du poteau droit, incroyable ! \r\nEquipePersévéranceAttaqueDéfense\r\nFC HYPO 2+6%4433.1911280.33\r\nASL ANNEZIN+6%9527.816259.92\r\n\r\nDeuxième mi-temps \r\n47m 1s0/1Penaltie ?! Penaltie pour João Moutinho ! Le joueur s'élance et prend le gardien à contre pied, c'est but ! \r\nEquipePersévéranceAttaqueDéfense\r\nFC HYPO 2+0%5495.538224.69\r\nASL ANNEZIN+0%8849.585820.63\r\n\r\n70m 39s0/2Grosse bourde des défenseurs de FC HYPO 2 qui donnent la balle aux attaquants, c'est but !!! \r\nEquipePersévéranceAttaqueDéfense\r\nFC HYPO 2+3%5673.538491.07\r\nASL ANNEZIN+0%8849.585820.63\r\n\r\nFC HYPO 2 \r\n359716500-37 VS2071500 ASL ANNEZIN \r\n930 \r\nJoão Moutinho João Moutinho . \r\nPremière mi-temps \r\nDeuxième mi-temps \r\n. Bilan de match\r\n#FC HYPO 2 AttaqueDéfense\r\n1tartiflette\r\nEnergie 6 23.51151.9\r\n2kaouette\r\nEnergie 9 146.46585.84\r\n3crevette\r\nEnergie 9 134.16536.66\r\n4belette\r\nEnergie 8 97.56878.07\r\n5hupette\r\nEnergie 8 148.951340.57\r\n6poulette\r\nEnergie 8 292.81171.21\r\n7krokette\r\nEnergie 7 416.81625.21\r\n8anisette\r\nEnergie 7 445.56445.56\r\n9choupette\r\nEnergie 7 667.06285.88\r\n10bikette\r\nEnergie 7 328.94493.42\r\n11nenette\r\nEnergie 8 340.53227.02\r\nTotal3042.387741.39\r\nTotal avec bonus4182.2510641.82\r\n#ASL ANNEZIN AttaqueDéfense\r\n11\r\nEnergie 6 25.631255.95\r\n2BOLT\r\nEnergie 6 484.41322.94\r\n36\r\nEnergie 6 443.44295.63\r\n44\r\nEnergie 7 525.11525.11\r\n5Zig Zag\r\nEnergie 7 890.16593.44\r\n67\r\nEnergie 9 763508.67\r\n7João Moutinho\r\nEnergie 7 779.24194.81\r\n88\r\nEnergie 7 724.33181.08\r\n99 star sept\r\nEnergie 6 708.0578.67\r\n1010 cap\r\nEnergie 8 862.26369.54\r\n1111\r\nEnergie 9 610.87152.71\r\nTotal6816.564478.59\r\nTotal avec bonus8988.55905.59"]
["tabHolder","Accueil Rapport de match\r\n Retour aux rapports\r\n Visitez nos partenaires pour gagner des pilules gratuitement ! Survolez les noms des joueurs pour voir leurs caractéristiques avant le match. \r\ntartiflette 1 1364 432 Force 870 Habileté 432 Vitesse 256 Endurance 605 Intelligence 98 Energie 100 Moral \r\nkaouette 2 1775 823 Force 605 Habileté 714 Vitesse 823 Endurance 603 Intelligence 95 Energie 100 Moral \r\ncrevette 3 3896 788 Force 784 Habileté 793 Vitesse 757 Endurance 776 Intelligence 94 Energie 100 Moral \r\nbelette 4 1369 836 Force 549 Habileté 838 Vitesse 778 Endurance 645 Intelligence 91 Energie 100 Moral \r\nhupette 5 1771 837 Force 656 Habileté 684 Vitesse 675 Endurance 654 Intelligence 95 Energie 100 Moral \r\npoulette 6 1804 816 Force 816 Habileté 816 Vitesse 816 Endurance 685 Intelligence 97 Energie 100 Moral \r\nkrokette 7 875 726 Force 848 Habileté 848 Vitesse 778 Endurance 626 Intelligence 97 Energie 100 Moral \r\nanisette 8 1568 838 Force 847 Habileté 847 Vitesse 847 Endurance 702 Intelligence 94 Energie 100 Moral \r\nchoupette 9 959 864 Force 871 Habileté 871 Vitesse 819 Endurance 719 Intelligence 91 Energie 100 Moral \r\nbikette 10 2424 802 Force 825 Habileté 810 Vitesse 817 Endurance 696 Intelligence 94 Energie 100 Moral \r\nnenette 11 1678 826 Force 840 Habileté 847 Vitesse 840 Endurance 692 Intelligence 96 Energie 100 Moral \r\n1 1 1228 411 Force 941 Habileté 419 Vitesse 252 Endurance 601 Intelligence 100 Energie 100 Moral \r\nBOLT 2 1835 909 Force 636 Habileté 741 Vitesse 908 Endurance 619 Intelligence 100 Energie 100 Moral \r\n6 3 2713 814 Force 825 Habileté 762 Vitesse 814 Endurance 632 Intelligence 100 Energie 100 Moral \r\n4 4 2303 871 Force 801 Habileté 871 Vitesse 810 Endurance 664 Intelligence 99 Energie 100 Moral \r\nZig Zag 5 2618 817 Force 776 Habileté 765 Vitesse 765 Endurance 634 Intelligence 100 Energie 100 Moral \r\n7 6 1998 886 Force 897 Habileté 886 Vitesse 886 Endurance 745 Intelligence 97 Energie 100 Moral \r\nJoão Moutinho 7 955 912 Force 922 Habileté 911 Vitesse 894 Endurance 720 Intelligence 100 Energie 100 Moral \r\n8 8 2700 883 Force 894 Habileté 831 Vitesse 831 Endurance 743 Intelligence 100 Energie 100 Moral \r\n9 star sept 9 1632 799 Force 889 Habileté 877 Vitesse 686 Endurance 670 Intelligence 97 Energie 100 Moral \r\n10 cap 10 5493 683 Force 801 Habileté 733 Vitesse 724 Endurance 747 Intelligence 97 Energie 100 Moral \r\n11 11 2157 716 Force 844 Habileté 841 Vitesse 885 Endurance 598 Intelligence 100 Energie 100 Moral \r\nMessage privé Votre message\r\n\r\n \r\n. \r\nPremière mi-temps \r\nDeuxième mi-temps \r\n. VS ASL ANNEZIN\r\n popotte62  FC HYPO 2\r\n Hypo17 Gel ou neige Composition des équipes\r\n #ASL ANNEZIN \r\n1.1\r\n2.BOLT\r\n3.6\r\n4.4\r\n5.Zig Zag\r\n6.7\r\n7.João Moutinho\r\n8.8\r\n9.9 star sept\r\n10.10 cap\r\n11.11\r\n #FC HYPO 2 \r\n1.tartiflette\r\n2.kaouette\r\n3.crevette\r\n4.belette\r\n5.hupette\r\n6.poulette\r\n7.krokette\r\n8.anisette\r\n9.choupette\r\n10.bikette\r\n11.nenette\r\nBonus\r\nBonus de chance+4%\r\nBonus d'expérience+2.8%\r\nBonus à domicile-\r\nBonus capitaine+17.4%\r\nBonus de météo+5%\r\nBonus d'agressivité+0%\r\nBonus stratégie-\r\nMalus joueurs absents-\r\nBonus\r\nBonus de chance+3%\r\nBonus d'expérience-\r\nBonus à domicile+10%\r\nBonus capitaine+15.5%\r\nBonus de météo+5%\r\nBonus d'agressivité+0%\r\nBonus stratégie-\r\nMalus joueurs absents-\r\nRécit du match\r\nActionHeureScoreDétails Commentaire \r\nPremière mi-temps \r\n20m 4s0/0Attention ! Il tape un ballon de la tête et c'est juste.... à côté du poteau droit, incroyable ! \r\nEquipePersévéranceAttaqueDéfense\r\nFC HYPO 2+0%4182.2510641.82\r\nASL ANNEZIN+0%8988.55905.59\r\n\r\n32m 21s0/0Le joueur de FC HYPO 2 enchaine une série de dribbles, élimine la défense mais rate son tir... \r\nEquipePersévéranceAttaqueDéfense\r\nFC HYPO 2+3%4307.7210961.07\r\nASL ANNEZIN+3%9258.156082.75\r\n\r\n44m 24s0/0Attention ! Il tape un ballon de la tête et c'est juste.... à côté du poteau droit, incroyable ! \r\nEquipePersévéranceAttaqueDéfense\r\nFC HYPO 2+6%4433.1911280.33\r\nASL ANNEZIN+6%9527.816259.92\r\n\r\nDeuxième mi-temps \r\n47m 1s0/1Penaltie ?! Penaltie pour João Moutinho ! Le joueur s'élance et prend le gardien à contre pied, c'est but ! \r\nEquipePersévéranceAttaqueDéfense\r\nFC HYPO 2+0%5495.538224.69\r\nASL ANNEZIN+0%8849.585820.63\r\n\r\n70m 39s0/2Grosse bourde des défenseurs de FC HYPO 2 qui donnent la balle aux attaquants, c'est but !!! \r\nEquipePersévéranceAttaqueDéfense\r\nFC HYPO 2+3%5673.538491.07\r\nASL ANNEZIN+0%8849.585820.63\r\n\r\nFC HYPO 2 \r\n359716500-37 VS2071500 ASL ANNEZIN \r\n930 \r\nJoão Moutinho João Moutinho . \r\nPremière mi-temps \r\nDeuxième mi-temps \r\n. Bilan de match\r\n#FC HYPO 2 AttaqueDéfense\r\n1tartiflette\r\nEnergie 6 23.51151.9\r\n2kaouette\r\nEnergie 9 146.46585.84\r\n3crevette\r\nEnergie 9 134.16536.66\r\n4belette\r\nEnergie 8 97.56878.07\r\n5hupette\r\nEnergie 8 148.951340.57\r\n6poulette\r\nEnergie 8 292.81171.21\r\n7krokette\r\nEnergie 7 416.81625.21\r\n8anisette\r\nEnergie 7 445.56445.56\r\n9choupette\r\nEnergie 7 667.06285.88\r\n10bikette\r\nEnergie 7 328.94493.42\r\n11nenette\r\nEnergie 8 340.53227.02\r\nTotal3042.387741.39\r\nTotal avec bonus4182.2510641.82\r\n#ASL ANNEZIN AttaqueDéfense\r\n11\r\nEnergie 6 25.631255.95\r\n2BOLT\r\nEnergie 6 484.41322.94\r\n36\r\nEnergie 6 443.44295.63\r\n44\r\nEnergie 7 525.11525.11\r\n5Zig Zag\r\nEnergie 7 890.16593.44\r\n67\r\nEnergie 9 763508.67\r\n7João Moutinho\r\nEnergie 7 779.24194.81\r\n88\r\nEnergie 7 724.33181.08\r\n99 star sept\r\nEnergie 6 708.0578.67\r\n1010 cap\r\nEnergie 8 862.26369.54\r\n1111\r\nEnergie 9 610.87152.71\r\nTotal6816.564478.59\r\nTotal avec bonus8988.55905.59"]
["tabHeader","Accueil Rapport de match\r\n Retour aux rapports\r\n "]
["tabRail","Accueil Rapport de match\r\n Retour aux rapports\r\n "]
["tabClose","Accueil "]
["tabElementLeftSelected","Rapport de match\r\n "]
["tabElementRightSelected","Rapport de match\r\n "]
["tabElementSelected","Rapport de match\r\n "]
["tabElementLeft","Retour aux rapports\r\n "]
["tabElementRight","Retour aux rapports\r\n "]
["tabElement","Retour aux rapports\r\n "]
["tabContent","Visitez nos partenaires pour gagner des pilules gratuitement ! Survolez les noms des joueurs pour voir leurs caractéristiques avant le match. \r\ntartiflette 1 1364 432 Force 870 Habileté 432 Vitesse 256 Endurance 605 Intelligence 98 Energie 100 Moral \r\nkaouette 2 1775 823 Force 605 Habileté 714 Vitesse 823 Endurance 603 Intelligence 95 Energie 100 Moral \r\ncrevette 3 3896 788 Force 784 Habileté 793 Vitesse 757 Endurance 776 Intelligence 94 Energie 100 Moral \r\nbelette 4 1369 836 Force 549 Habileté 838 Vitesse 778 Endurance 645 Intelligence 91 Energie 100 Moral \r\nhupette 5 1771 837 Force 656 Habileté 684 Vitesse 675 Endurance 654 Intelligence 95 Energie 100 Moral \r\npoulette 6 1804 816 Force 816 Habileté 816 Vitesse 816 Endurance 685 Intelligence 97 Energie 100 Moral \r\nkrokette 7 875 726 Force 848 Habileté 848 Vitesse 778 Endurance 626 Intelligence 97 Energie 100 Moral \r\nanisette 8 1568 838 Force 847 Habileté 847 Vitesse 847 Endurance 702 Intelligence 94 Energie 100 Moral \r\nchoupette 9 959 864 Force 871 Habileté 871 Vitesse 819 Endurance 719 Intelligence 91 Energie 100 Moral \r\nbikette 10 2424 802 Force 825 Habileté 810 Vitesse 817 Endurance 696 Intelligence 94 Energie 100 Moral \r\nnenette 11 1678 826 Force 840 Habileté 847 Vitesse 840 Endurance 692 Intelligence 96 Energie 100 Moral \r\n1 1 1228 411 Force 941 Habileté 419 Vitesse 252 Endurance 601 Intelligence 100 Energie 100 Moral \r\nBOLT 2 1835 909 Force 636 Habileté 741 Vitesse 908 Endurance 619 Intelligence 100 Energie 100 Moral \r\n6 3 2713 814 Force 825 Habileté 762 Vitesse 814 Endurance 632 Intelligence 100 Energie 100 Moral \r\n4 4 2303 871 Force 801 Habileté 871 Vitesse 810 Endurance 664 Intelligence 99 Energie 100 Moral \r\nZig Zag 5 2618 817 Force 776 Habileté 765 Vitesse 765 Endurance 634 Intelligence 100 Energie 100 Moral \r\n7 6 1998 886 Force 897 Habileté 886 Vitesse 886 Endurance 745 Intelligence 97 Energie 100 Moral \r\nJoão Moutinho 7 955 912 Force 922 Habileté 911 Vitesse 894 Endurance 720 Intelligence 100 Energie 100 Moral \r\n8 8 2700 883 Force 894 Habileté 831 Vitesse 831 Endurance 743 Intelligence 100 Energie 100 Moral \r\n9 star sept 9 1632 799 Force 889 Habileté 877 Vitesse 686 Endurance 670 Intelligence 97 Energie 100 Moral \r\n10 cap 10 5493 683 Force 801 Habileté 733 Vitesse 724 Endurance 747 Intelligence 97 Energie 100 Moral \r\n11 11 2157 716 Force 844 Habileté 841 Vitesse 885 Endurance 598 Intelligence 100 Energie 100 Moral \r\nMessage privé Votre message\r\n\r\n \r\n. \r\nPremière mi-temps \r\nDeuxième mi-temps \r\n. VS ASL ANNEZIN\r\n popotte62  FC HYPO 2\r\n Hypo17 Gel ou neige Composition des équipes\r\n #ASL ANNEZIN \r\n1.1\r\n2.BOLT\r\n3.6\r\n4.4\r\n5.Zig Zag\r\n6.7\r\n7.João Moutinho\r\n8.8\r\n9.9 star sept\r\n10.10 cap\r\n11.11\r\n #FC HYPO 2 \r\n1.tartiflette\r\n2.kaouette\r\n3.crevette\r\n4.belette\r\n5.hupette\r\n6.poulette\r\n7.krokette\r\n8.anisette\r\n9.choupette\r\n10.bikette\r\n11.nenette\r\nBonus\r\nBonus de chance+4%\r\nBonus d'expérience+2.8%\r\nBonus à domicile-\r\nBonus capitaine+17.4%\r\nBonus de météo+5%\r\nBonus d'agressivité+0%\r\nBonus stratégie-\r\nMalus joueurs absents-\r\nBonus\r\nBonus de chance+3%\r\nBonus d'expérience-\r\nBonus à domicile+10%\r\nBonus capitaine+15.5%\r\nBonus de météo+5%\r\nBonus d'agressivité+0%\r\nBonus stratégie-\r\nMalus joueurs absents-\r\nRécit du match\r\nActionHeureScoreDétails Commentaire \r\nPremière mi-temps \r\n20m 4s0/0Attention ! Il tape un ballon de la tête et c'est juste.... à côté du poteau droit, incroyable ! \r\nEquipePersévéranceAttaqueDéfense\r\nFC HYPO 2+0%4182.2510641.82\r\nASL ANNEZIN+0%8988.55905.59\r\n\r\n32m 21s0/0Le joueur de FC HYPO 2 enchaine une série de dribbles, élimine la défense mais rate son tir... \r\nEquipePersévéranceAttaqueDéfense\r\nFC HYPO 2+3%4307.7210961.07\r\nASL ANNEZIN+3%9258.156082.75\r\n\r\n44m 24s0/0Attention ! Il tape un ballon de la tête et c'est juste.... à côté du poteau droit, incroyable ! \r\nEquipePersévéranceAttaqueDéfense\r\nFC HYPO 2+6%4433.1911280.33\r\nASL ANNEZIN+6%9527.816259.92\r\n\r\nDeuxième mi-temps \r\n47m 1s0/1Penaltie ?! Penaltie pour João Moutinho ! Le joueur s'élance et prend le gardien à contre pied, c'est but ! \r\nEquipePersévéranceAttaqueDéfense\r\nFC HYPO 2+0%5495.538224.69\r\nASL ANNEZIN+0%8849.585820.63\r\n\r\n70m 39s0/2Grosse bourde des défenseurs de FC HYPO 2 qui donnent la balle aux attaquants, c'est but !!! \r\nEquipePersévéranceAttaqueDéfense\r\nFC HYPO 2+3%5673.538491.07\r\nASL ANNEZIN+0%8849.585820.63\r\n\r\nFC HYPO 2 \r\n359716500-37 VS2071500 ASL ANNEZIN \r\n930 \r\nJoão Moutinho João Moutinho . \r\nPremière mi-temps \r\nDeuxième mi-temps \r\n. Bilan de match\r\n#FC HYPO 2 AttaqueDéfense\r\n1tartiflette\r\nEnergie 6 23.51151.9\r\n2kaouette\r\nEnergie 9 146.46585.84\r\n3crevette\r\nEnergie 9 134.16536.66\r\n4belette\r\nEnergie 8 97.56878.07\r\n5hupette\r\nEnergie 8 148.951340.57\r\n6poulette\r\nEnergie 8 292.81171.21\r\n7krokette\r\nEnergie 7 416.81625.21\r\n8anisette\r\nEnergie 7 445.56445.56\r\n9choupette\r\nEnergie 7 667.06285.88\r\n10bikette\r\nEnergie 7 328.94493.42\r\n11nenette\r\nEnergie 8 340.53227.02\r\nTotal3042.387741.39\r\nTotal avec bonus4182.2510641.82\r\n#ASL ANNEZIN AttaqueDéfense\r\n11\r\nEnergie 6 25.631255.95\r\n2BOLT\r\nEnergie 6 484.41322.94\r\n36\r\nEnergie 6 443.44295.63\r\n44\r\nEnergie 7 525.11525.11\r\n5Zig Zag\r\nEnergie 7 890.16593.44\r\n67\r\nEnergie 9 763508.67\r\n7João Moutinho\r\nEnergie 7 779.24194.81\r\n88\r\nEnergie 7 724.33181.08\r\n99 star sept\r\nEnergie 6 708.0578.67\r\n1010 cap\r\nEnergie 8 862.26369.54\r\n1111\r\nEnergie 9 610.87152.71\r\nTotal6816.564478.59\r\nTotal avec bonus8988.55905.59"]
["tabShadow"]
["tabContentInner","Visitez nos partenaires pour gagner des pilules gratuitement ! Survolez les noms des joueurs pour voir leurs caractéristiques avant le match. \r\ntartiflette 1 1364 432 Force 870 Habileté 432 Vitesse 256 Endurance 605 Intelligence 98 Energie 100 Moral \r\nkaouette 2 1775 823 Force 605 Habileté 714 Vitesse 823 Endurance 603 Intelligence 95 Energie 100 Moral \r\ncrevette 3 3896 788 Force 784 Habileté 793 Vitesse 757 Endurance 776 Intelligence 94 Energie 100 Moral \r\nbelette 4 1369 836 Force 549 Habileté 838 Vitesse 778 Endurance 645 Intelligence 91 Energie 100 Moral \r\nhupette 5 1771 837 Force 656 Habileté 684 Vitesse 675 Endurance 654 Intelligence 95 Energie 100 Moral \r\npoulette 6 1804 816 Force 816 Habileté 816 Vitesse 816 Endurance 685 Intelligence 97 Energie 100 Moral \r\nkrokette 7 875 726 Force 848 Habileté 848 Vitesse 778 Endurance 626 Intelligence 97 Energie 100 Moral \r\nanisette 8 1568 838 Force 847 Habileté 847 Vitesse 847 Endurance 702 Intelligence 94 Energie 100 Moral \r\nchoupette 9 959 864 Force 871 Habileté 871 Vitesse 819 Endurance 719 Intelligence 91 Energie 100 Moral \r\nbikette 10 2424 802 Force 825 Habileté 810 Vitesse 817 Endurance 696 Intelligence 94 Energie 100 Moral \r\nnenette 11 1678 826 Force 840 Habileté 847 Vitesse 840 Endurance 692 Intelligence 96 Energie 100 Moral \r\n1 1 1228 411 Force 941 Habileté 419 Vitesse 252 Endurance 601 Intelligence 100 Energie 100 Moral \r\nBOLT 2 1835 909 Force 636 Habileté 741 Vitesse 908 Endurance 619 Intelligence 100 Energie 100 Moral \r\n6 3 2713 814 Force 825 Habileté 762 Vitesse 814 Endurance 632 Intelligence 100 Energie 100 Moral \r\n4 4 2303 871 Force 801 Habileté 871 Vitesse 810 Endurance 664 Intelligence 99 Energie 100 Moral \r\nZig Zag 5 2618 817 Force 776 Habileté 765 Vitesse 765 Endurance 634 Intelligence 100 Energie 100 Moral \r\n7 6 1998 886 Force 897 Habileté 886 Vitesse 886 Endurance 745 Intelligence 97 Energie 100 Moral \r\nJoão Moutinho 7 955 912 Force 922 Habileté 911 Vitesse 894 Endurance 720 Intelligence 100 Energie 100 Moral \r\n8 8 2700 883 Force 894 Habileté 831 Vitesse 831 Endurance 743 Intelligence 100 Energie 100 Moral \r\n9 star sept 9 1632 799 Force 889 Habileté 877 Vitesse 686 Endurance 670 Intelligence 97 Energie 100 Moral \r\n10 cap 10 5493 683 Force 801 Habileté 733 Vitesse 724 Endurance 747 Intelligence 97 Energie 100 Moral \r\n11 11 2157 716 Force 844 Habileté 841 Vitesse 885 Endurance 598 Intelligence 100 Energie 100 Moral \r\nMessage privé Votre message\r\n\r\n \r\n. \r\nPremière mi-temps \r\nDeuxième mi-temps \r\n. VS ASL ANNEZIN\r\n popotte62  FC HYPO 2\r\n Hypo17 Gel ou neige Composition des équipes\r\n #ASL ANNEZIN \r\n1.1\r\n2.BOLT\r\n3.6\r\n4.4\r\n5.Zig Zag\r\n6.7\r\n7.João Moutinho\r\n8.8\r\n9.9 star sept\r\n10.10 cap\r\n11.11\r\n #FC HYPO 2 \r\n1.tartiflette\r\n2.kaouette\r\n3.crevette\r\n4.belette\r\n5.hupette\r\n6.poulette\r\n7.krokette\r\n8.anisette\r\n9.choupette\r\n10.bikette\r\n11.nenette\r\nBonus\r\nBonus de chance+4%\r\nBonus d'expérience+2.8%\r\nBonus à domicile-\r\nBonus capitaine+17.4%\r\nBonus de météo+5%\r\nBonus d'agressivité+0%\r\nBonus stratégie-\r\nMalus joueurs absents-\r\nBonus\r\nBonus de chance+3%\r\nBonus d'expérience-\r\nBonus à domicile+10%\r\nBonus capitaine+15.5%\r\nBonus de météo+5%\r\nBonus d'agressivité+0%\r\nBonus stratégie-\r\nMalus joueurs absents-\r\nRécit du match\r\nActionHeureScoreDétails Commentaire \r\nPremière mi-temps \r\n20m 4s0/0Attention ! Il tape un ballon de la tête et c'est juste.... à côté du poteau droit, incroyable ! \r\nEquipePersévéranceAttaqueDéfense\r\nFC HYPO 2+0%4182.2510641.82\r\nASL ANNEZIN+0%8988.55905.59\r\n\r\n32m 21s0/0Le joueur de FC HYPO 2 enchaine une série de dribbles, élimine la défense mais rate son tir... \r\nEquipePersévéranceAttaqueDéfense\r\nFC HYPO 2+3%4307.7210961.07\r\nASL ANNEZIN+3%9258.156082.75\r\n\r\n44m 24s0/0Attention ! Il tape un ballon de la tête et c'est juste.... à côté du poteau droit, incroyable ! \r\nEquipePersévéranceAttaqueDéfense\r\nFC HYPO 2+6%4433.1911280.33\r\nASL ANNEZIN+6%9527.816259.92\r\n\r\nDeuxième mi-temps \r\n47m 1s0/1Penaltie ?! Penaltie pour João Moutinho ! Le joueur s'élance et prend le gardien à contre pied, c'est but ! \r\nEquipePersévéranceAttaqueDéfense\r\nFC HYPO 2+0%5495.538224.69\r\nASL ANNEZIN+0%8849.585820.63\r\n\r\n70m 39s0/2Grosse bourde des défenseurs de FC HYPO 2 qui donnent la balle aux attaquants, c'est but !!! \r\nEquipePersévéranceAttaqueDéfense\r\nFC HYPO 2+3%5673.538491.07\r\nASL ANNEZIN+0%8849.585820.63\r\n\r\nFC HYPO 2 \r\n359716500-37 VS2071500 ASL ANNEZIN \r\n930 \r\nJoão Moutinho João Moutinho . \r\nPremière mi-temps \r\nDeuxième mi-temps \r\n. Bilan de match\r\n#FC HYPO 2 AttaqueDéfense\r\n1tartiflette\r\nEnergie 6 23.51151.9\r\n2kaouette\r\nEnergie 9 146.46585.84\r\n3crevette\r\nEnergie 9 134.16536.66\r\n4belette\r\nEnergie 8 97.56878.07\r\n5hupette\r\nEnergie 8 148.951340.57\r\n6poulette\r\nEnergie 8 292.81171.21\r\n7krokette\r\nEnergie 7 416.81625.21\r\n8anisette\r\nEnergie 7 445.56445.56\r\n9choupette\r\nEnergie 7 667.06285.88\r\n10bikette\r\nEnergie 7 328.94493.42\r\n11nenette\r\nEnergie 8 340.53227.02\r\nTotal3042.387741.39\r\nTotal avec bonus4182.2510641.82\r\n#ASL ANNEZIN AttaqueDéfense\r\n11\r\nEnergie 6 25.631255.95\r\n2BOLT\r\nEnergie 6 484.41322.94\r\n36\r\nEnergie 6 443.44295.63\r\n44\r\nEnergie 7 525.11525.11\r\n5Zig Zag\r\nEnergie 7 890.16593.44\r\n67\r\nEnergie 9 763508.67\r\n7João Moutinho\r\nEnergie 7 779.24194.81\r\n88\r\nEnergie 7 724.33181.08\r\n99 star sept\r\nEnergie 6 708.0578.67\r\n1010 cap\r\nEnergie 8 862.26369.54\r\n1111\r\nEnergie 9 610.87152.71\r\nTotal6816.564478.59\r\nTotal avec bonus8988.55905.59"]
["columnContent","Visitez nos partenaires pour gagner des pilules gratuitement ! Survolez les noms des joueurs pour voir leurs caractéristiques avant le match. \r\ntartiflette 1 1364 432 Force 870 Habileté 432 Vitesse 256 Endurance 605 Intelligence 98 Energie 100 Moral \r\nkaouette 2 1775 823 Force 605 Habileté 714 Vitesse 823 Endurance 603 Intelligence 95 Energie 100 Moral \r\ncrevette 3 3896 788 Force 784 Habileté 793 Vitesse 757 Endurance 776 Intelligence 94 Energie 100 Moral \r\nbelette 4 1369 836 Force 549 Habileté 838 Vitesse 778 Endurance 645 Intelligence 91 Energie 100 Moral \r\nhupette 5 1771 837 Force 656 Habileté 684 Vitesse 675 Endurance 654 Intelligence 95 Energie 100 Moral \r\npoulette 6 1804 816 Force 816 Habileté 816 Vitesse 816 Endurance 685 Intelligence 97 Energie 100 Moral \r\nkrokette 7 875 726 Force 848 Habileté 848 Vitesse 778 Endurance 626 Intelligence 97 Energie 100 Moral \r\nanisette 8 1568 838 Force 847 Habileté 847 Vitesse 847 Endurance 702 Intelligence 94 Energie 100 Moral \r\nchoupette 9 959 864 Force 871 Habileté 871 Vitesse 819 Endurance 719 Intelligence 91 Energie 100 Moral \r\nbikette 10 2424 802 Force 825 Habileté 810 Vitesse 817 Endurance 696 Intelligence 94 Energie 100 Moral \r\nnenette 11 1678 826 Force 840 Habileté 847 Vitesse 840 Endurance 692 Intelligence 96 Energie 100 Moral \r\n1 1 1228 411 Force 941 Habileté 419 Vitesse 252 Endurance 601 Intelligence 100 Energie 100 Moral \r\nBOLT 2 1835 909 Force 636 Habileté 741 Vitesse 908 Endurance 619 Intelligence 100 Energie 100 Moral \r\n6 3 2713 814 Force 825 Habileté 762 Vitesse 814 Endurance 632 Intelligence 100 Energie 100 Moral \r\n4 4 2303 871 Force 801 Habileté 871 Vitesse 810 Endurance 664 Intelligence 99 Energie 100 Moral \r\nZig Zag 5 2618 817 Force 776 Habileté 765 Vitesse 765 Endurance 634 Intelligence 100 Energie 100 Moral \r\n7 6 1998 886 Force 897 Habileté 886 Vitesse 886 Endurance 745 Intelligence 97 Energie 100 Moral \r\nJoão Moutinho 7 955 912 Force 922 Habileté 911 Vitesse 894 Endurance 720 Intelligence 100 Energie 100 Moral \r\n8 8 2700 883 Force 894 Habileté 831 Vitesse 831 Endurance 743 Intelligence 100 Energie 100 Moral \r\n9 star sept 9 1632 799 Force 889 Habileté 877 Vitesse 686 Endurance 670 Intelligence 97 Energie 100 Moral \r\n10 cap 10 5493 683 Force 801 Habileté 733 Vitesse 724 Endurance 747 Intelligence 97 Energie 100 Moral \r\n11 11 2157 716 Force 844 Habileté 841 Vitesse 885 Endurance 598 Intelligence 100 Energie 100 Moral "]
["columnOpen"]
["columnContentInner","Visitez nos partenaires pour gagner des pilules gratuitement ! Survolez les noms des joueurs pour voir leurs caractéristiques avant le match. \r\ntartiflette 1 1364 432 Force 870 Habileté 432 Vitesse 256 Endurance 605 Intelligence 98 Energie 100 Moral \r\nkaouette 2 1775 823 Force 605 Habileté 714 Vitesse 823 Endurance 603 Intelligence 95 Energie 100 Moral \r\ncrevette 3 3896 788 Force 784 Habileté 793 Vitesse 757 Endurance 776 Intelligence 94 Energie 100 Moral \r\nbelette 4 1369 836 Force 549 Habileté 838 Vitesse 778 Endurance 645 Intelligence 91 Energie 100 Moral \r\nhupette 5 1771 837 Force 656 Habileté 684 Vitesse 675 Endurance 654 Intelligence 95 Energie 100 Moral \r\npoulette 6 1804 816 Force 816 Habileté 816 Vitesse 816 Endurance 685 Intelligence 97 Energie 100 Moral \r\nkrokette 7 875 726 Force 848 Habileté 848 Vitesse 778 Endurance 626 Intelligence 97 Energie 100 Moral \r\nanisette 8 1568 838 Force 847 Habileté 847 Vitesse 847 Endurance 702 Intelligence 94 Energie 100 Moral \r\nchoupette 9 959 864 Force 871 Habileté 871 Vitesse 819 Endurance 719 Intelligence 91 Energie 100 Moral \r\nbikette 10 2424 802 Force 825 Habileté 810 Vitesse 817 Endurance 696 Intelligence 94 Energie 100 Moral \r\nnenette 11 1678 826 Force 840 Habileté 847 Vitesse 840 Endurance 692 Intelligence 96 Energie 100 Moral \r\n1 1 1228 411 Force 941 Habileté 419 Vitesse 252 Endurance 601 Intelligence 100 Energie 100 Moral \r\nBOLT 2 1835 909 Force 636 Habileté 741 Vitesse 908 Endurance 619 Intelligence 100 Energie 100 Moral \r\n6 3 2713 814 Force 825 Habileté 762 Vitesse 814 Endurance 632 Intelligence 100 Energie 100 Moral \r\n4 4 2303 871 Force 801 Habileté 871 Vitesse 810 Endurance 664 Intelligence 99 Energie 100 Moral \r\nZig Zag 5 2618 817 Force 776 Habileté 765 Vitesse 765 Endurance 634 Intelligence 100 Energie 100 Moral \r\n7 6 1998 886 Force 897 Habileté 886 Vitesse 886 Endurance 745 Intelligence 97 Energie 100 Moral \r\nJoão Moutinho 7 955 912 Force 922 Habileté 911 Vitesse 894 Endurance 720 Intelligence 100 Energie 100 Moral \r\n8 8 2700 883 Force 894 Habileté 831 Vitesse 831 Endurance 743 Intelligence 100 Energie 100 Moral \r\n9 star sept 9 1632 799 Force 889 Habileté 877 Vitesse 686 Endurance 670 Intelligence 97 Energie 100 Moral \r\n10 cap 10 5493 683 Force 801 Habileté 733 Vitesse 724 Endurance 747 Intelligence 97 Energie 100 Moral \r\n11 11 2157 716 Force 844 Habileté 841 Vitesse 885 Endurance 598 Intelligence 100 Energie 100 Moral "]
[]
[null,"Visitez nos partenaires pour gagner des pilules gratuitement ! "]
["astuce","Survolez les noms des joueurs pour voir leurs caractéristiques avant le match. "]
[]
[null,"tartiflette 1 1364 432 Force 870 Habileté 432 Vitesse 256 Endurance 605 Intelligence 98 Energie 100 Moral "]
["element profile","tartiflette 1 1364 432 Force 870 Habileté 432 Vitesse 256 Endurance 605 Intelligence 98 Energie 100 Moral "]
["innerElement","tartiflette 1 1364 432 Force 870 Habileté 432 Vitesse 256 Endurance 605 Intelligence 98 Energie 100 Moral "]
["name","tartiflette "]
["content","1 1364 432 Force 870 Habileté 432 Vitesse 256 Endurance 605 Intelligence "]
["information","1 1364 "]
["annotation",1]
["details",1364]
["characteristics","432 Force 870 Habileté 432 Vitesse 256 Endurance 605 Intelligence "]
["bars","432 Force 870 Habileté 432 Vitesse 256 Endurance 605 Intelligence "]
["characteristic short","432 Force "]
["characteristic short","870 Habileté "]
["characteristic short","432 Vitesse "]
["characteristic short","256 Endurance "]
["characteristic short","605 Intelligence "]
["state","98 Energie 100 Moral "]
["characteristic long","98 Energie "]
["characteristic long","100 Moral "]
[null,"kaouette 2 1775 823 Force 605 Habileté 714 Vitesse 823 Endurance 603 Intelligence 95 Energie 100 Moral "]
["element profile","kaouette 2 1775 823 Force 605 Habileté 714 Vitesse 823 Endurance 603 Intelligence 95 Energie 100 Moral "]
["innerElement","kaouette 2 1775 823 Force 605 Habileté 714 Vitesse 823 Endurance 603 Intelligence 95 Energie 100 Moral "]
["name","kaouette "]
["content","2 1775 823 Force 605 Habileté 714 Vitesse 823 Endurance 603 Intelligence "]
["information","2 1775 "]
["annotation",2]
["details",1775]
["characteristics","823 Force 605 Habileté 714 Vitesse 823 Endurance 603 Intelligence "]
["bars","823 Force 605 Habileté 714 Vitesse 823 Endurance 603 Intelligence "]
["characteristic short","823 Force "]
["characteristic short","605 Habileté "]
["characteristic short","714 Vitesse "]
["characteristic short","823 Endurance "]
["characteristic short","603 Intelligence "]
["state","95 Energie 100 Moral "]
["characteristic long","95 Energie "]
["characteristic long","100 Moral "]
[null,"crevette 3 3896 788 Force 784 Habileté 793 Vitesse 757 Endurance 776 Intelligence 94 Energie 100 Moral "]
["element profile","crevette 3 3896 788 Force 784 Habileté 793 Vitesse 757 Endurance 776 Intelligence 94 Energie 100 Moral "]
["innerElement","crevette 3 3896 788 Force 784 Habileté 793 Vitesse 757 Endurance 776 Intelligence 94 Energie 100 Moral "]
["name","crevette "]
["content","3 3896 788 Force 784 Habileté 793 Vitesse 757 Endurance 776 Intelligence "]
["information","3 3896 "]
["annotation",3]
["details",3896]
["characteristics","788 Force 784 Habileté 793 Vitesse 757 Endurance 776 Intelligence "]
["bars","788 Force 784 Habileté 793 Vitesse 757 Endurance 776 Intelligence "]
["characteristic short","788 Force "]
["characteristic short","784 Habileté "]
["characteristic short","793 Vitesse "]
["characteristic short","757 Endurance "]
["characteristic short","776 Intelligence "]
["state","94 Energie 100 Moral "]
["characteristic long","94 Energie "]
["characteristic long","100 Moral "]
[null,"belette 4 1369 836 Force 549 Habileté 838 Vitesse 778 Endurance 645 Intelligence 91 Energie 100 Moral "]
["element profile","belette 4 1369 836 Force 549 Habileté 838 Vitesse 778 Endurance 645 Intelligence 91 Energie 100 Moral "]
["innerElement","belette 4 1369 836 Force 549 Habileté 838 Vitesse 778 Endurance 645 Intelligence 91 Energie 100 Moral "]
["name","belette "]
["content","4 1369 836 Force 549 Habileté 838 Vitesse 778 Endurance 645 Intelligence "]
["information","4 1369 "]
["annotation",4]
["details",1369]
["characteristics","836 Force 549 Habileté 838 Vitesse 778 Endurance 645 Intelligence "]
["bars","836 Force 549 Habileté 838 Vitesse 778 Endurance 645 Intelligence "]
["characteristic short","836 Force "]
["characteristic short","549 Habileté "]
["characteristic short","838 Vitesse "]
["characteristic short","778 Endurance "]
["characteristic short","645 Intelligence "]
["state","91 Energie 100 Moral "]
["characteristic long","91 Energie "]
["characteristic long","100 Moral "]
[null,"hupette 5 1771 837 Force 656 Habileté 684 Vitesse 675 Endurance 654 Intelligence 95 Energie 100 Moral "]
["element profile","hupette 5 1771 837 Force 656 Habileté 684 Vitesse 675 Endurance 654 Intelligence 95 Energie 100 Moral "]
["innerElement","hupette 5 1771 837 Force 656 Habileté 684 Vitesse 675 Endurance 654 Intelligence 95 Energie 100 Moral "]
["name","hupette "]
["content","5 1771 837 Force 656 Habileté 684 Vitesse 675 Endurance 654 Intelligence "]
["information","5 1771 "]
["annotation",5]
["details",1771]
["characteristics","837 Force 656 Habileté 684 Vitesse 675 Endurance 654 Intelligence "]
["bars","837 Force 656 Habileté 684 Vitesse 675 Endurance 654 Intelligence "]
["characteristic short","837 Force "]
["characteristic short","656 Habileté "]
["characteristic short","684 Vitesse "]
["characteristic short","675 Endurance "]
["characteristic short","654 Intelligence "]
["state","95 Energie 100 Moral "]
["characteristic long","95 Energie "]
["characteristic long","100 Moral "]
[null,"poulette 6 1804 816 Force 816 Habileté 816 Vitesse 816 Endurance 685 Intelligence 97 Energie 100 Moral "]
["element profile","poulette 6 1804 816 Force 816 Habileté 816 Vitesse 816 Endurance 685 Intelligence 97 Energie 100 Moral "]
["innerElement","poulette 6 1804 816 Force 816 Habileté 816 Vitesse 816 Endurance 685 Intelligence 97 Energie 100 Moral "]
["name","poulette "]
["content","6 1804 816 Force 816 Habileté 816 Vitesse 816 Endurance 685 Intelligence "]
["information","6 1804 "]
["annotation",6]
["details",1804]
["characteristics","816 Force 816 Habileté 816 Vitesse 816 Endurance 685 Intelligence "]
["bars","816 Force 816 Habileté 816 Vitesse 816 Endurance 685 Intelligence "]
["characteristic short","816 Force "]
["characteristic short","816 Habileté "]
["characteristic short","816 Vitesse "]
["characteristic short","816 Endurance "]
["characteristic short","685 Intelligence "]
["state","97 Energie 100 Moral "]
["characteristic long","97 Energie "]
["characteristic long","100 Moral "]
[null,"krokette 7 875 726 Force 848 Habileté 848 Vitesse 778 Endurance 626 Intelligence 97 Energie 100 Moral "]
["element profile","krokette 7 875 726 Force 848 Habileté 848 Vitesse 778 Endurance 626 Intelligence 97 Energie 100 Moral "]
["innerElement","krokette 7 875 726 Force 848 Habileté 848 Vitesse 778 Endurance 626 Intelligence 97 Energie 100 Moral "]
["name","krokette "]
["content","7 875 726 Force 848 Habileté 848 Vitesse 778 Endurance 626 Intelligence "]
["information","7 875 "]
["annotation",7]
["details",875]
["characteristics","726 Force 848 Habileté 848 Vitesse 778 Endurance 626 Intelligence "]
["bars","726 Force 848 Habileté 848 Vitesse 778 Endurance 626 Intelligence "]
["characteristic short","726 Force "]
["characteristic short","848 Habileté "]
["characteristic short","848 Vitesse "]
["characteristic short","778 Endurance "]
["characteristic short","626 Intelligence "]
["state","97 Energie 100 Moral "]
["characteristic long","97 Energie "]
["characteristic long","100 Moral "]
[null,"anisette 8 1568 838 Force 847 Habileté 847 Vitesse 847 Endurance 702 Intelligence 94 Energie 100 Moral "]
["element profile","anisette 8 1568 838 Force 847 Habileté 847 Vitesse 847 Endurance 702 Intelligence 94 Energie 100 Moral "]
["innerElement","anisette 8 1568 838 Force 847 Habileté 847 Vitesse 847 Endurance 702 Intelligence 94 Energie 100 Moral "]
["name","anisette "]
["content","8 1568 838 Force 847 Habileté 847 Vitesse 847 Endurance 702 Intelligence "]
["information","8 1568 "]
["annotation",8]
["details",1568]
["characteristics","838 Force 847 Habileté 847 Vitesse 847 Endurance 702 Intelligence "]
["bars","838 Force 847 Habileté 847 Vitesse 847 Endurance 702 Intelligence "]
["characteristic short","838 Force "]
["characteristic short","847 Habileté "]
["characteristic short","847 Vitesse "]
["characteristic short","847 Endurance "]
["characteristic short","702 Intelligence "]
["state","94 Energie 100 Moral "]
["characteristic long","94 Energie "]
["characteristic long","100 Moral "]
[null,"choupette 9 959 864 Force 871 Habileté 871 Vitesse 819 Endurance 719 Intelligence 91 Energie 100 Moral "]
["element profile","choupette 9 959 864 Force 871 Habileté 871 Vitesse 819 Endurance 719 Intelligence 91 Energie 100 Moral "]
["innerElement","choupette 9 959 864 Force 871 Habileté 871 Vitesse 819 Endurance 719 Intelligence 91 Energie 100 Moral "]
["name","choupette "]
["content","9 959 864 Force 871 Habileté 871 Vitesse 819 Endurance 719 Intelligence "]
["information","9 959 "]
["annotation",9]
["details",959]
["characteristics","864 Force 871 Habileté 871 Vitesse 819 Endurance 719 Intelligence "]
["bars","864 Force 871 Habileté 871 Vitesse 819 Endurance 719 Intelligence "]
["characteristic short","864 Force "]
["characteristic short","871 Habileté "]
["characteristic short","871 Vitesse "]
["characteristic short","819 Endurance "]
["characteristic short","719 Intelligence "]
["state","91 Energie 100 Moral "]
["characteristic long","91 Energie "]
["characteristic long","100 Moral "]
[null,"bikette 10 2424 802 Force 825 Habileté 810 Vitesse 817 Endurance 696 Intelligence 94 Energie 100 Moral "]
["element profile","bikette 10 2424 802 Force 825 Habileté 810 Vitesse 817 Endurance 696 Intelligence 94 Energie 100 Moral "]
["innerElement","bikette 10 2424 802 Force 825 Habileté 810 Vitesse 817 Endurance 696 Intelligence 94 Energie 100 Moral "]
["name","bikette "]
["content","10 2424 802 Force 825 Habileté 810 Vitesse 817 Endurance 696 Intelligence "]
["information","10 2424 "]
["annotation",10]
["details",2424]
["characteristics","802 Force 825 Habileté 810 Vitesse 817 Endurance 696 Intelligence "]
["bars","802 Force 825 Habileté 810 Vitesse 817 Endurance 696 Intelligence "]
["characteristic short","802 Force "]
["characteristic short","825 Habileté "]
["characteristic short","810 Vitesse "]
["characteristic short","817 Endurance "]
["characteristic short","696 Intelligence "]
["state","94 Energie 100 Moral "]
["characteristic long","94 Energie "]
["characteristic long","100 Moral "]
[null,"nenette 11 1678 826 Force 840 Habileté 847 Vitesse 840 Endurance 692 Intelligence 96 Energie 100 Moral "]
["element profile","nenette 11 1678 826 Force 840 Habileté 847 Vitesse 840 Endurance 692 Intelligence 96 Energie 100 Moral "]
["innerElement","nenette 11 1678 826 Force 840 Habileté 847 Vitesse 840 Endurance 692 Intelligence 96 Energie 100 Moral "]
["name","nenette "]
["content","11 1678 826 Force 840 Habileté 847 Vitesse 840 Endurance 692 Intelligence "]
["information","11 1678 "]
["annotation",11]
["details",1678]
["characteristics","826 Force 840 Habileté 847 Vitesse 840 Endurance 692 Intelligence "]
["bars","826 Force 840 Habileté 847 Vitesse 840 Endurance 692 Intelligence "]
["characteristic short","826 Force "]
["characteristic short","840 Habileté "]
["characteristic short","847 Vitesse "]
["characteristic short","840 Endurance "]
["characteristic short","692 Intelligence "]
["state","96 Energie 100 Moral "]
["characteristic long","96 Energie "]
["characteristic long","100 Moral "]
[null,"1 1 1228 411 Force 941 Habileté 419 Vitesse 252 Endurance 601 Intelligence 100 Energie 100 Moral "]
["element profile","1 1 1228 411 Force 941 Habileté 419 Vitesse 252 Endurance 601 Intelligence 100 Energie 100 Moral "]
["innerElement","1 1 1228 411 Force 941 Habileté 419 Vitesse 252 Endurance 601 Intelligence 100 Energie 100 Moral "]
["name",1]
["content","1 1228 411 Force 941 Habileté 419 Vitesse 252 Endurance 601 Intelligence "]
["information","1 1228 "]
["annotation",1]
["details",1228]
["characteristics","411 Force 941 Habileté 419 Vitesse 252 Endurance 601 Intelligence "]
["bars","411 Force 941 Habileté 419 Vitesse 252 Endurance 601 Intelligence "]
["characteristic short","411 Force "]
["characteristic short","941 Habileté "]
["characteristic short","419 Vitesse "]
["characteristic short","252 Endurance "]
["characteristic short","601 Intelligence "]
["state","100 Energie 100 Moral "]
["characteristic long","100 Energie "]
["characteristic long","100 Moral "]
[null,"BOLT 2 1835 909 Force 636 Habileté 741 Vitesse 908 Endurance 619 Intelligence 100 Energie 100 Moral "]
["element profile","BOLT 2 1835 909 Force 636 Habileté 741 Vitesse 908 Endurance 619 Intelligence 100 Energie 100 Moral "]
["innerElement","BOLT 2 1835 909 Force 636 Habileté 741 Vitesse 908 Endurance 619 Intelligence 100 Energie 100 Moral "]
["name","BOLT "]
["content","2 1835 909 Force 636 Habileté 741 Vitesse 908 Endurance 619 Intelligence "]
["information","2 1835 "]
["annotation",2]
["details",1835]
["characteristics","909 Force 636 Habileté 741 Vitesse 908 Endurance 619 Intelligence "]
["bars","909 Force 636 Habileté 741 Vitesse 908 Endurance 619 Intelligence "]
["characteristic short","909 Force "]
["characteristic short","636 Habileté "]
["characteristic short","741 Vitesse "]
["characteristic short","908 Endurance "]
["characteristic short","619 Intelligence "]
["state","100 Energie 100 Moral "]
["characteristic long","100 Energie "]
["characteristic long","100 Moral "]
[null,"6 3 2713 814 Force 825 Habileté 762 Vitesse 814 Endurance 632 Intelligence 100 Energie 100 Moral "]
["element profile","6 3 2713 814 Force 825 Habileté 762 Vitesse 814 Endurance 632 Intelligence 100 Energie 100 Moral "]
["innerElement","6 3 2713 814 Force 825 Habileté 762 Vitesse 814 Endurance 632 Intelligence 100 Energie 100 Moral "]
["name",6]
["content","3 2713 814 Force 825 Habileté 762 Vitesse 814 Endurance 632 Intelligence "]
["information","3 2713 "]
["annotation",3]
["details",2713]
["characteristics","814 Force 825 Habileté 762 Vitesse 814 Endurance 632 Intelligence "]
["bars","814 Force 825 Habileté 762 Vitesse 814 Endurance 632 Intelligence "]
["characteristic short","814 Force "]
["characteristic short","825 Habileté "]
["characteristic short","762 Vitesse "]
["characteristic short","814 Endurance "]
["characteristic short","632 Intelligence "]
["state","100 Energie 100 Moral "]
["characteristic long","100 Energie "]
["characteristic long","100 Moral "]
[null,"4 4 2303 871 Force 801 Habileté 871 Vitesse 810 Endurance 664 Intelligence 99 Energie 100 Moral "]
["element profile","4 4 2303 871 Force 801 Habileté 871 Vitesse 810 Endurance 664 Intelligence 99 Energie 100 Moral "]
["innerElement","4 4 2303 871 Force 801 Habileté 871 Vitesse 810 Endurance 664 Intelligence 99 Energie 100 Moral "]
["name",4]
["content","4 2303 871 Force 801 Habileté 871 Vitesse 810 Endurance 664 Intelligence "]
["information","4 2303 "]
["annotation",4]
["details",2303]
["characteristics","871 Force 801 Habileté 871 Vitesse 810 Endurance 664 Intelligence "]
["bars","871 Force 801 Habileté 871 Vitesse 810 Endurance 664 Intelligence "]
["characteristic short","871 Force "]
["characteristic short","801 Habileté "]
["characteristic short","871 Vitesse "]
["characteristic short","810 Endurance "]
["characteristic short","664 Intelligence "]
["state","99 Energie 100 Moral "]
["characteristic long","99 Energie "]
["characteristic long","100 Moral "]
[null,"Zig Zag 5 2618 817 Force 776 Habileté 765 Vitesse 765 Endurance 634 Intelligence 100 Energie 100 Moral "]
["element profile","Zig Zag 5 2618 817 Force 776 Habileté 765 Vitesse 765 Endurance 634 Intelligence 100 Energie 100 Moral "]
["innerElement","Zig Zag 5 2618 817 Force 776 Habileté 765 Vitesse 765 Endurance 634 Intelligence 100 Energie 100 Moral "]
["name","Zig Zag "]
["content","5 2618 817 Force 776 Habileté 765 Vitesse 765 Endurance 634 Intelligence "]
["information","5 2618 "]
["annotation",5]
["details",2618]
["characteristics","817 Force 776 Habileté 765 Vitesse 765 Endurance 634 Intelligence "]
["bars","817 Force 776 Habileté 765 Vitesse 765 Endurance 634 Intelligence "]
["characteristic short","817 Force "]
["characteristic short","776 Habileté "]
["characteristic short","765 Vitesse "]
["characteristic short","765 Endurance "]
["characteristic short","634 Intelligence "]
["state","100 Energie 100 Moral "]
["characteristic long","100 Energie "]
["characteristic long","100 Moral "]
[null,"7 6 1998 886 Force 897 Habileté 886 Vitesse 886 Endurance 745 Intelligence 97 Energie 100 Moral "]
["element profile","7 6 1998 886 Force 897 Habileté 886 Vitesse 886 Endurance 745 Intelligence 97 Energie 100 Moral "]
["innerElement","7 6 1998 886 Force 897 Habileté 886 Vitesse 886 Endurance 745 Intelligence 97 Energie 100 Moral "]
["name",7]
["content","6 1998 886 Force 897 Habileté 886 Vitesse 886 Endurance 745 Intelligence "]
["information","6 1998 "]
["annotation",6]
["details",1998]
["characteristics","886 Force 897 Habileté 886 Vitesse 886 Endurance 745 Intelligence "]
["bars","886 Force 897 Habileté 886 Vitesse 886 Endurance 745 Intelligence "]
["characteristic short","886 Force "]
["characteristic short","897 Habileté "]
["characteristic short","886 Vitesse "]
["characteristic short","886 Endurance "]
["characteristic short","745 Intelligence "]
["state","97 Energie 100 Moral "]
["characteristic long","97 Energie "]
["characteristic long","100 Moral "]
[null,"João Moutinho 7 955 912 Force 922 Habileté 911 Vitesse 894 Endurance 720 Intelligence 100 Energie 100 Moral "]
["element profile","João Moutinho 7 955 912 Force 922 Habileté 911 Vitesse 894 Endurance 720 Intelligence 100 Energie 100 Moral "]
["innerElement","João Moutinho 7 955 912 Force 922 Habileté 911 Vitesse 894 Endurance 720 Intelligence 100 Energie 100 Moral "]
["name","João Moutinho "]
["content","7 955 912 Force 922 Habileté 911 Vitesse 894 Endurance 720 Intelligence "]
["information","7 955 "]
["annotation",7]
["details",955]
["characteristics","912 Force 922 Habileté 911 Vitesse 894 Endurance 720 Intelligence "]
["bars","912 Force 922 Habileté 911 Vitesse 894 Endurance 720 Intelligence "]
["characteristic short","912 Force "]
["characteristic short","922 Habileté "]
["characteristic short","911 Vitesse "]
["characteristic short","894 Endurance "]
["characteristic short","720 Intelligence "]
["state","100 Energie 100 Moral "]
["characteristic long","100 Energie "]
["characteristic long","100 Moral "]
[null,"8 8 2700 883 Force 894 Habileté 831 Vitesse 831 Endurance 743 Intelligence 100 Energie 100 Moral "]
["element profile","8 8 2700 883 Force 894 Habileté 831 Vitesse 831 Endurance 743 Intelligence 100 Energie 100 Moral "]
["innerElement","8 8 2700 883 Force 894 Habileté 831 Vitesse 831 Endurance 743 Intelligence 100 Energie 100 Moral "]
["name",8]
["content","8 2700 883 Force 894 Habileté 831 Vitesse 831 Endurance 743 Intelligence "]
["information","8 2700 "]
["annotation",8]
["details",2700]
["characteristics","883 Force 894 Habileté 831 Vitesse 831 Endurance 743 Intelligence "]
["bars","883 Force 894 Habileté 831 Vitesse 831 Endurance 743 Intelligence "]
["characteristic short","883 Force "]
["characteristic short","894 Habileté "]
["characteristic short","831 Vitesse "]
["characteristic short","831 Endurance "]
["characteristic short","743 Intelligence "]
["state","100 Energie 100 Moral "]
["characteristic long","100 Energie "]
["characteristic long","100 Moral "]
[null,"9 star sept 9 1632 799 Force 889 Habileté 877 Vitesse 686 Endurance 670 Intelligence 97 Energie 100 Moral "]
["element profile","9 star sept 9 1632 799 Force 889 Habileté 877 Vitesse 686 Endurance 670 Intelligence 97 Energie 100 Moral "]
["innerElement","9 star sept 9 1632 799 Force 889 Habileté 877 Vitesse 686 Endurance 670 Intelligence 97 Energie 100 Moral "]
["name","9 star sept "]
["content","9 1632 799 Force 889 Habileté 877 Vitesse 686 Endurance 670 Intelligence "]
["information","9 1632 "]
["annotation",9]
["details",1632]
["characteristics","799 Force 889 Habileté 877 Vitesse 686 Endurance 670 Intelligence "]
["bars","799 Force 889 Habileté 877 Vitesse 686 Endurance 670 Intelligence "]
["characteristic short","799 Force "]
["characteristic short","889 Habileté "]
["characteristic short","877 Vitesse "]
["characteristic short","686 Endurance "]
["characteristic short","670 Intelligence "]
["state","97 Energie 100 Moral "]
["characteristic long","97 Energie "]
["characteristic long","100 Moral "]
[null,"10 cap 10 5493 683 Force 801 Habileté 733 Vitesse 724 Endurance 747 Intelligence 97 Energie 100 Moral "]
["element profile","10 cap 10 5493 683 Force 801 Habileté 733 Vitesse 724 Endurance 747 Intelligence 97 Energie 100 Moral "]
["innerElement","10 cap 10 5493 683 Force 801 Habileté 733 Vitesse 724 Endurance 747 Intelligence 97 Energie 100 Moral "]
["name","10 cap "]
["content","10 5493 683 Force 801 Habileté 733 Vitesse 724 Endurance 747 Intelligence "]
["information","10 5493 "]
["annotation",10]
["details",5493]
["characteristics","683 Force 801 Habileté 733 Vitesse 724 Endurance 747 Intelligence "]
["bars","683 Force 801 Habileté 733 Vitesse 724 Endurance 747 Intelligence "]
["characteristic short","683 Force "]
["characteristic short","801 Habileté "]
["characteristic short","733 Vitesse "]
["characteristic short","724 Endurance "]
["characteristic short","747 Intelligence "]
["state","97 Energie 100 Moral "]
["characteristic long","97 Energie "]
["characteristic long","100 Moral "]
[null,"11 11 2157 716 Force 844 Habileté 841 Vitesse 885 Endurance 598 Intelligence 100 Energie 100 Moral "]
["element profile","11 11 2157 716 Force 844 Habileté 841 Vitesse 885 Endurance 598 Intelligence 100 Energie 100 Moral "]
["innerElement","11 11 2157 716 Force 844 Habileté 841 Vitesse 885 Endurance 598 Intelligence 100 Energie 100 Moral "]
["name",11]
["content","11 2157 716 Force 844 Habileté 841 Vitesse 885 Endurance 598 Intelligence "]
["information","11 2157 "]
["annotation",11]
["details",2157]
["characteristics","716 Force 844 Habileté 841 Vitesse 885 Endurance 598 Intelligence "]
["bars","716 Force 844 Habileté 841 Vitesse 885 Endurance 598 Intelligence "]
["characteristic short","716 Force "]
["characteristic short","844 Habileté "]
["characteristic short","841 Vitesse "]
["characteristic short","885 Endurance "]
["characteristic short","598 Intelligence "]
["state","100 Energie 100 Moral "]
["characteristic long","100 Energie "]
["characteristic long","100 Moral "]
["clear"]
["mainContent","Message privé Votre message\r\n\r\n \r\n. \r\nPremière mi-temps \r\nDeuxième mi-temps \r\n. VS ASL ANNEZIN\r\n popotte62  FC HYPO 2\r\n Hypo17 Gel ou neige Composition des équipes\r\n #ASL ANNEZIN \r\n1.1\r\n2.BOLT\r\n3.6\r\n4.4\r\n5.Zig Zag\r\n6.7\r\n7.João Moutinho\r\n8.8\r\n9.9 star sept\r\n10.10 cap\r\n11.11\r\n #FC HYPO 2 \r\n1.tartiflette\r\n2.kaouette\r\n3.crevette\r\n4.belette\r\n5.hupette\r\n6.poulette\r\n7.krokette\r\n8.anisette\r\n9.choupette\r\n10.bikette\r\n11.nenette\r\nBonus\r\nBonus de chance+4%\r\nBonus d'expérience+2.8%\r\nBonus à domicile-\r\nBonus capitaine+17.4%\r\nBonus de météo+5%\r\nBonus d'agressivité+0%\r\nBonus stratégie-\r\nMalus joueurs absents-\r\nBonus\r\nBonus de chance+3%\r\nBonus d'expérience-\r\nBonus à domicile+10%\r\nBonus capitaine+15.5%\r\nBonus de météo+5%\r\nBonus d'agressivité+0%\r\nBonus stratégie-\r\nMalus joueurs absents-\r\nRécit du match\r\nActionHeureScoreDétails Commentaire \r\nPremière mi-temps \r\n20m 4s0/0Attention ! Il tape un ballon de la tête et c'est juste.... à côté du poteau droit, incroyable ! \r\nEquipePersévéranceAttaqueDéfense\r\nFC HYPO 2+0%4182.2510641.82\r\nASL ANNEZIN+0%8988.55905.59\r\n\r\n32m 21s0/0Le joueur de FC HYPO 2 enchaine une série de dribbles, élimine la défense mais rate son tir... \r\nEquipePersévéranceAttaqueDéfense\r\nFC HYPO 2+3%4307.7210961.07\r\nASL ANNEZIN+3%9258.156082.75\r\n\r\n44m 24s0/0Attention ! Il tape un ballon de la tête et c'est juste.... à côté du poteau droit, incroyable ! \r\nEquipePersévéranceAttaqueDéfense\r\nFC HYPO 2+6%4433.1911280.33\r\nASL ANNEZIN+6%9527.816259.92\r\n\r\nDeuxième mi-temps \r\n47m 1s0/1Penaltie ?! Penaltie pour João Moutinho ! Le joueur s'élance et prend le gardien à contre pied, c'est but ! \r\nEquipePersévéranceAttaqueDéfense\r\nFC HYPO 2+0%5495.538224.69\r\nASL ANNEZIN+0%8849.585820.63\r\n\r\n70m 39s0/2Grosse bourde des défenseurs de FC HYPO 2 qui donnent la balle aux attaquants, c'est but !!! \r\nEquipePersévéranceAttaqueDéfense\r\nFC HYPO 2+3%5673.538491.07\r\nASL ANNEZIN+0%8849.585820.63\r\n\r\nFC HYPO 2 \r\n359716500-37 VS2071500 ASL ANNEZIN \r\n930 \r\nJoão Moutinho João Moutinho . \r\nPremière mi-temps \r\nDeuxième mi-temps \r\n. Bilan de match\r\n#FC HYPO 2 AttaqueDéfense\r\n1tartiflette\r\nEnergie 6 23.51151.9\r\n2kaouette\r\nEnergie 9 146.46585.84\r\n3crevette\r\nEnergie 9 134.16536.66\r\n4belette\r\nEnergie 8 97.56878.07\r\n5hupette\r\nEnergie 8 148.951340.57\r\n6poulette\r\nEnergie 8 292.81171.21\r\n7krokette\r\nEnergie 7 416.81625.21\r\n8anisette\r\nEnergie 7 445.56445.56\r\n9choupette\r\nEnergie 7 667.06285.88\r\n10bikette\r\nEnergie 7 328.94493.42\r\n11nenette\r\nEnergie 8 340.53227.02\r\nTotal3042.387741.39\r\nTotal avec bonus4182.2510641.82\r\n#ASL ANNEZIN AttaqueDéfense\r\n11\r\nEnergie 6 25.631255.95\r\n2BOLT\r\nEnergie 6 484.41322.94\r\n36\r\nEnergie 6 443.44295.63\r\n44\r\nEnergie 7 525.11525.11\r\n5Zig Zag\r\nEnergie 7 890.16593.44\r\n67\r\nEnergie 9 763508.67\r\n7João Moutinho\r\nEnergie 7 779.24194.81\r\n88\r\nEnergie 7 724.33181.08\r\n99 star sept\r\nEnergie 6 708.0578.67\r\n1010 cap\r\nEnergie 8 862.26369.54\r\n1111\r\nEnergie 9 610.87152.71\r\nTotal6816.564478.59\r\nTotal avec bonus8988.55905.59"]
[null,"Message privé Votre message\r\n\r\n "]
["BlackText","Message privé Votre message\r\n\r\n "]
["inboxNewMessage"," Votre message\r\n\r\n "]
["inboxNewMessageForm"," Votre message\r\n\r\n "]
["sub-tabs",". \r\nPremière mi-temps \r\nDeuxième mi-temps \r\n. "]
["matchReport","VS ASL ANNEZIN\r\n popotte62  FC HYPO 2\r\n Hypo17 Gel ou neige Composition des équipes\r\n #ASL ANNEZIN \r\n1.1\r\n2.BOLT\r\n3.6\r\n4.4\r\n5.Zig Zag\r\n6.7\r\n7.João Moutinho\r\n8.8\r\n9.9 star sept\r\n10.10 cap\r\n11.11\r\n #FC HYPO 2 \r\n1.tartiflette\r\n2.kaouette\r\n3.crevette\r\n4.belette\r\n5.hupette\r\n6.poulette\r\n7.krokette\r\n8.anisette\r\n9.choupette\r\n10.bikette\r\n11.nenette\r\nBonus\r\nBonus de chance+4%\r\nBonus d'expérience+2.8%\r\nBonus à domicile-\r\nBonus capitaine+17.4%\r\nBonus de météo+5%\r\nBonus d'agressivité+0%\r\nBonus stratégie-\r\nMalus joueurs absents-\r\nBonus\r\nBonus de chance+3%\r\nBonus d'expérience-\r\nBonus à domicile+10%\r\nBonus capitaine+15.5%\r\nBonus de météo+5%\r\nBonus d'agressivité+0%\r\nBonus stratégie-\r\nMalus joueurs absents-\r\nRécit du match\r\nActionHeureScoreDétails Commentaire \r\nPremière mi-temps \r\n20m 4s0/0Attention ! Il tape un ballon de la tête et c'est juste.... à côté du poteau droit, incroyable ! \r\nEquipePersévéranceAttaqueDéfense\r\nFC HYPO 2+0%4182.2510641.82\r\nASL ANNEZIN+0%8988.55905.59\r\n\r\n32m 21s0/0Le joueur de FC HYPO 2 enchaine une série de dribbles, élimine la défense mais rate son tir... \r\nEquipePersévéranceAttaqueDéfense\r\nFC HYPO 2+3%4307.7210961.07\r\nASL ANNEZIN+3%9258.156082.75\r\n\r\n44m 24s0/0Attention ! Il tape un ballon de la tête et c'est juste.... à côté du poteau droit, incroyable ! \r\nEquipePersévéranceAttaqueDéfense\r\nFC HYPO 2+6%4433.1911280.33\r\nASL ANNEZIN+6%9527.816259.92\r\n\r\nDeuxième mi-temps \r\n47m 1s0/1Penaltie ?! Penaltie pour João Moutinho ! Le joueur s'élance et prend le gardien à contre pied, c'est but ! \r\nEquipePersévéranceAttaqueDéfense\r\nFC HYPO 2+0%5495.538224.69\r\nASL ANNEZIN+0%8849.585820.63\r\n\r\n70m 39s0/2Grosse bourde des défenseurs de FC HYPO 2 qui donnent la balle aux attaquants, c'est but !!! \r\nEquipePersévéranceAttaqueDéfense\r\nFC HYPO 2+3%5673.538491.07\r\nASL ANNEZIN+0%8849.585820.63\r\n\r\nFC HYPO 2 \r\n359716500-37 VS2071500 ASL ANNEZIN \r\n930 \r\nJoão Moutinho João Moutinho . \r\nPremière mi-temps \r\nDeuxième mi-temps \r\n. Bilan de match\r\n#FC HYPO 2 AttaqueDéfense\r\n1tartiflette\r\nEnergie 6 23.51151.9\r\n2kaouette\r\nEnergie 9 146.46585.84\r\n3crevette\r\nEnergie 9 134.16536.66\r\n4belette\r\nEnergie 8 97.56878.07\r\n5hupette\r\nEnergie 8 148.951340.57\r\n6poulette\r\nEnergie 8 292.81171.21\r\n7krokette\r\nEnergie 7 416.81625.21\r\n8anisette\r\nEnergie 7 445.56445.56\r\n9choupette\r\nEnergie 7 667.06285.88\r\n10bikette\r\nEnergie 7 328.94493.42\r\n11nenette\r\nEnergie 8 340.53227.02\r\nTotal3042.387741.39\r\nTotal avec bonus4182.2510641.82\r\n#ASL ANNEZIN AttaqueDéfense\r\n11\r\nEnergie 6 25.631255.95\r\n2BOLT\r\nEnergie 6 484.41322.94\r\n36\r\nEnergie 6 443.44295.63\r\n44\r\nEnergie 7 525.11525.11\r\n5Zig Zag\r\nEnergie 7 890.16593.44\r\n67\r\nEnergie 9 763508.67\r\n7João Moutinho\r\nEnergie 7 779.24194.81\r\n88\r\nEnergie 7 724.33181.08\r\n99 star sept\r\nEnergie 6 708.0578.67\r\n1010 cap\r\nEnergie 8 862.26369.54\r\n1111\r\nEnergie 9 610.87152.71\r\nTotal6816.564478.59\r\nTotal avec bonus8988.55905.59"]
["header","VS ASL ANNEZIN\r\n popotte62  FC HYPO 2\r\n Hypo17 Gel ou neige "]
["matchReportVs","VS"]
["teams"," ASL ANNEZIN\r\n popotte62  FC HYPO 2\r\n Hypo17 "]
["team team-shiva"," ASL ANNEZIN\r\n popotte62 "]
["teamShirt-holder"," "]
["teamShirt"," "]
["blason-shiva"," "]
["information","ASL ANNEZIN\r\n popotte62 "]
[null,"ASL ANNEZIN\r\n popotte62 "]
["team team-shiva"," FC HYPO 2\r\n Hypo17 "]
["teamShirt-holder"," "]
["teamShirt"," "]
["blason-shiva"," "]
["information","FC HYPO 2\r\n Hypo17 "]
[null,"FC HYPO 2\r\n Hypo17 "]
[null,"Gel ou neige "]
["strategies"," #ASL ANNEZIN \r\n1.1\r\n2.BOLT\r\n3.6\r\n4.4\r\n5.Zig Zag\r\n6.7\r\n7.João Moutinho\r\n8.8\r\n9.9 star sept\r\n10.10 cap\r\n11.11\r\n #FC HYPO 2 \r\n1.tartiflette\r\n2.kaouette\r\n3.crevette\r\n4.belette\r\n5.hupette\r\n6.poulette\r\n7.krokette\r\n8.anisette\r\n9.choupette\r\n10.bikette\r\n11.nenette"]
["strategy"," #ASL ANNEZIN \r\n1.1\r\n2.BOLT\r\n3.6\r\n4.4\r\n5.Zig Zag\r\n6.7\r\n7.João Moutinho\r\n8.8\r\n9.9 star sept\r\n10.10 cap\r\n11.11"]
["sketch"," "]
["list","#ASL ANNEZIN \r\n1.1\r\n2.BOLT\r\n3.6\r\n4.4\r\n5.Zig Zag\r\n6.7\r\n7.João Moutinho\r\n8.8\r\n9.9 star sept\r\n10.10 cap\r\n11.11"]
["htmltip",1]
["htmltip","BOLT"]
["htmltip",6]
["htmltip",4]
["htmltip","Zig Zag"]
["htmltip",7]
["htmltip","João Moutinho"]
["htmltip",8]
["htmltip","9 star sept"]
["htmltip","10 cap"]
["htmltip",11]
["strategy"," #FC HYPO 2 \r\n1.tartiflette\r\n2.kaouette\r\n3.crevette\r\n4.belette\r\n5.hupette\r\n6.poulette\r\n7.krokette\r\n8.anisette\r\n9.choupette\r\n10.bikette\r\n11.nenette"]
["sketch"," "]
["list","#FC HYPO 2 \r\n1.tartiflette\r\n2.kaouette\r\n3.crevette\r\n4.belette\r\n5.hupette\r\n6.poulette\r\n7.krokette\r\n8.anisette\r\n9.choupette\r\n10.bikette\r\n11.nenette"]
["htmltip","tartiflette"]
["htmltip","kaouette"]
["htmltip","crevette"]
["htmltip","belette"]
["htmltip","hupette"]
["htmltip","poulette"]
["htmltip","krokette"]
["htmltip","anisette"]
["htmltip","choupette"]
["htmltip","bikette"]
["htmltip","nenette"]
["strategies","Bonus\r\nBonus de chance+4%\r\nBonus d'expérience+2.8%\r\nBonus à domicile-\r\nBonus capitaine+17.4%\r\nBonus de météo+5%\r\nBonus d'agressivité+0%\r\nBonus stratégie-\r\nMalus joueurs absents-\r\nBonus\r\nBonus de chance+3%\r\nBonus d'expérience-\r\nBonus à domicile+10%\r\nBonus capitaine+15.5%\r\nBonus de météo+5%\r\nBonus d'agressivité+0%\r\nBonus stratégie-\r\nMalus joueurs absents-"]
[null,"Bonus\r\nBonus de chance+4%\r\nBonus d'expérience+2.8%\r\nBonus à domicile-\r\nBonus capitaine+17.4%\r\nBonus de météo+5%\r\nBonus d'agressivité+0%\r\nBonus stratégie-\r\nMalus joueurs absents-"]
["list","Bonus\r\nBonus de chance+4%\r\nBonus d'expérience+2.8%\r\nBonus à domicile-\r\nBonus capitaine+17.4%\r\nBonus de météo+5%\r\nBonus d'agressivité+0%\r\nBonus stratégie-\r\nMalus joueurs absents-"]
[null,"Bonus\r\nBonus de chance+3%\r\nBonus d'expérience-\r\nBonus à domicile+10%\r\nBonus capitaine+15.5%\r\nBonus de météo+5%\r\nBonus d'agressivité+0%\r\nBonus stratégie-\r\nMalus joueurs absents-"]
["list","Bonus\r\nBonus de chance+3%\r\nBonus d'expérience-\r\nBonus à domicile+10%\r\nBonus capitaine+15.5%\r\nBonus de météo+5%\r\nBonus d'agressivité+0%\r\nBonus stratégie-\r\nMalus joueurs absents-"]
["matchReportDetails","ActionHeureScoreDétails Commentaire \r\nPremière mi-temps \r\n20m 4s0/0Attention ! Il tape un ballon de la tête et c'est juste.... à côté du poteau droit, incroyable ! \r\nEquipePersévéranceAttaqueDéfense\r\nFC HYPO 2+0%4182.2510641.82\r\nASL ANNEZIN+0%8988.55905.59\r\n\r\n32m 21s0/0Le joueur de FC HYPO 2 enchaine une série de dribbles, élimine la défense mais rate son tir... \r\nEquipePersévéranceAttaqueDéfense\r\nFC HYPO 2+3%4307.7210961.07\r\nASL ANNEZIN+3%9258.156082.75\r\n\r\n44m 24s0/0Attention ! Il tape un ballon de la tête et c'est juste.... à côté du poteau droit, incroyable ! \r\nEquipePersévéranceAttaqueDéfense\r\nFC HYPO 2+6%4433.1911280.33\r\nASL ANNEZIN+6%9527.816259.92\r\n\r\nDeuxième mi-temps \r\n47m 1s0/1Penaltie ?! Penaltie pour João Moutinho ! Le joueur s'élance et prend le gardien à contre pied, c'est but ! \r\nEquipePersévéranceAttaqueDéfense\r\nFC HYPO 2+0%5495.538224.69\r\nASL ANNEZIN+0%8849.585820.63\r\n\r\n70m 39s0/2Grosse bourde des défenseurs de FC HYPO 2 qui donnent la balle aux attaquants, c'est but !!! \r\nEquipePersévéranceAttaqueDéfense\r\nFC HYPO 2+3%5673.538491.07\r\nASL ANNEZIN+0%8849.585820.63"]
["matchreport-icon matchreport-nothing"]
["matchreport-icon matchreport-nothing"]
["matchreport-icon matchreport-nothing"]
["matchreport-icon matchreport-goal"]
["matchreport-icon matchreport-goal"]
["summary","FC HYPO 2 \r\n359716500-37 VS2071500 ASL ANNEZIN \r\n930 \r\nJoão Moutinho João Moutinho "]
["team","FC HYPO 2 \r\n359716500-37 "]
["name","FC HYPO 2 "]
["information","359716500-37 "]
["events"]
["result","VS2071500 "]
["matchReportVs","VS"]
["score",20]
[null,2]
[null,0]
["match-supporters",71500]
["team","ASL ANNEZIN \r\n930 \r\nJoão Moutinho João Moutinho "]
["name","ASL ANNEZIN "]
["information","930 \r\nJoão Moutinho João Moutinho "]
["events","João Moutinho João Moutinho "]
["event","João Moutinho "]
["event","João Moutinho "]
["sub-tabs",". \r\nPremière mi-temps \r\nDeuxième mi-temps \r\n. "]
["injured"]
["team"]
["team"]
["analysis","#FC HYPO 2 AttaqueDéfense\r\n1tartiflette\r\nEnergie 6 23.51151.9\r\n2kaouette\r\nEnergie 9 146.46585.84\r\n3crevette\r\nEnergie 9 134.16536.66\r\n4belette\r\nEnergie 8 97.56878.07\r\n5hupette\r\nEnergie 8 148.951340.57\r\n6poulette\r\nEnergie 8 292.81171.21\r\n7krokette\r\nEnergie 7 416.81625.21\r\n8anisette\r\nEnergie 7 445.56445.56\r\n9choupette\r\nEnergie 7 667.06285.88\r\n10bikette\r\nEnergie 7 328.94493.42\r\n11nenette\r\nEnergie 8 340.53227.02\r\nTotal3042.387741.39\r\nTotal avec bonus4182.2510641.82\r\n#ASL ANNEZIN AttaqueDéfense\r\n11\r\nEnergie 6 25.631255.95\r\n2BOLT\r\nEnergie 6 484.41322.94\r\n36\r\nEnergie 6 443.44295.63\r\n44\r\nEnergie 7 525.11525.11\r\n5Zig Zag\r\nEnergie 7 890.16593.44\r\n67\r\nEnergie 9 763508.67\r\n7João Moutinho\r\nEnergie 7 779.24194.81\r\n88\r\nEnergie 7 724.33181.08\r\n99 star sept\r\nEnergie 6 708.0578.67\r\n1010 cap\r\nEnergie 8 862.26369.54\r\n1111\r\nEnergie 9 610.87152.71\r\nTotal6816.564478.59\r\nTotal avec bonus8988.55905.59"]
["team","#FC HYPO 2 AttaqueDéfense\r\n1tartiflette\r\nEnergie 6 23.51151.9\r\n2kaouette\r\nEnergie 9 146.46585.84\r\n3crevette\r\nEnergie 9 134.16536.66\r\n4belette\r\nEnergie 8 97.56878.07\r\n5hupette\r\nEnergie 8 148.951340.57\r\n6poulette\r\nEnergie 8 292.81171.21\r\n7krokette\r\nEnergie 7 416.81625.21\r\n8anisette\r\nEnergie 7 445.56445.56\r\n9choupette\r\nEnergie 7 667.06285.88\r\n10bikette\r\nEnergie 7 328.94493.42\r\n11nenette\r\nEnergie 8 340.53227.02\r\nTotal3042.387741.39\r\nTotal avec bonus4182.2510641.82"]
[null,"Energie 6 "]
[null,"Energie 9 "]
[null,"Energie 9 "]
[null,"Energie 8 "]
[null,"Energie 8 "]
[null,"Energie 8 "]
[null,"Energie 7 "]
[null,"Energie 7 "]
[null,"Energie 7 "]
[null,"Energie 7 "]
[null,"Energie 8 "]
["team","#ASL ANNEZIN AttaqueDéfense\r\n11\r\nEnergie 6 25.631255.95\r\n2BOLT\r\nEnergie 6 484.41322.94\r\n36\r\nEnergie 6 443.44295.63\r\n44\r\nEnergie 7 525.11525.11\r\n5Zig Zag\r\nEnergie 7 890.16593.44\r\n67\r\nEnergie 9 763508.67\r\n7João Moutinho\r\nEnergie 7 779.24194.81\r\n88\r\nEnergie 7 724.33181.08\r\n99 star sept\r\nEnergie 6 708.0578.67\r\n1010 cap\r\nEnergie 8 862.26369.54\r\n1111\r\nEnergie 9 610.87152.71\r\nTotal6816.564478.59\r\nTotal avec bonus8988.55905.59"]
[null,"Energie 6 "]
[null,"Energie 6 "]
[null,"Energie 6 "]
[null,"Energie 7 "]
[null,"Energie 7 "]
[null,"Energie 9 "]
[null,"Energie 7 "]
[null,"Energie 7 "]
[null,"Energie 6 "]
[null,"Energie 8 "]
[null,"Energie 9 "]
["clear"]
[]
[null,"Joueurs en ligne (29) | Aide | Wiki & règles du jeu | Support "]
[null,"Joueurs en ligne (29) | Aide | Wiki & règles du jeu | Support "]
[]
[null,"Joueurs en ligne (29) | Aide | Wiki & règles du jeu | Support "]
[]
[]
[]
["fancy_loading"]
[]
[]
[]
[]
[]
["fancy_bg fancy_bg_n"]
["fancy_bg fancy_bg_ne"]
["fancy_bg fancy_bg_e"]
["fancy_bg fancy_bg_se"]
["fancy_bg fancy_bg_s"]
["fancy_bg fancy_bg_sw"]
["fancy_bg fancy_bg_w"]
["fancy_bg fancy_bg_nw"]
[]
[]
[]
[]
["body"]
["url"]
["url"]
["body"]
["url"]
[]
[]
["body"]
["url"]

{"sheet":"Team","index":4,"n_rows":539,"n_cols":31,"rows_kept":539,"cut":false,"hidden":true,"merged":[[14,20,15,20],[37,1,37,2],[8,5,8,15],[11,7,13,8],[14,1,14,3],[14,4,14,8],[14,9,14,13],[14,14,14,18]]}
[]
[]
[]
[]
[]
[]
[]
[]
[]
[{"$f":"SEARCH(\"actuel\",Feuil2!A30,1)","v":8},{"$f":"SEARCH(\"actuel\",Feuil2!B30,1)","v":8},{"$f":"SEARCH(\"actuel\",Feuil2!C30,1)","v":8},{"$f":"SEARCH(\"actuel\",Feuil2!D30,1)","v":8},{"$f":"SEARCH(\"actuel\",Feuil2!E30,1)","v":8},{"$f":"SEARCH(\"actuel\",Feuil2!F30,1)","v":8}]
[{"$f":"REPLACE(Feuil2!A30,1,A10+6,\"\")","v":"55"},{"$f":"REPLACE(Feuil2!B30,1,B10+6,\"\")","v":"55"},{"$f":"REPLACE(Feuil2!C30,1,C10+6,\"\")","v":"45"},{"$f":"REPLACE(Feuil2!D30,1,D10+6,\"\")","v":"40"},{"$f":"REPLACE(Feuil2!E30,1,E10+6,\"\")","v":"39"},{"$f":"REPLACE(Feuil2!F30,1,F10+6,\"\")","v":"25"}]
[]
[]
[null,null,null,null,null,null,null,null,null,null,null,null,null,null,null,null,null,null,null,null,null,null,null,null,0,null,null,null,null,null,1]
[]
[]
[null,null,null,null,null,null,null,null,null,null,null,null,null,null,null,null,null,null,null,null,null,null,null,1,2,3,4,5]
[null,null,null,null,null,null,null,null,null,null,null,null,null,null,null,null,null,null,null,null,null,null,null,6,7,8,9,10]
[null,null,null,null,null,null,null,null,null,null,null,null,null,null,null,null,null,null,null,null,null,null,null,11,12,13,14,15]
[null,null,null,null,null,null,null,null,null,null,null,null,null,null,null,null,null,null,null,null,null,null,null,16,17,18,19,20]
[null,null,null,null,null,null,null,null,null,null,null,null,null,null,null,null,null,null,null,null,null,null,null,21,22,23,24,25]
[null,null,null,null,null,null,null,null,null,null,null,null,null,null,null,null,null,null,null,null,null,null,null,26,27,28,29,30]
[null,null,null,null,null,null,null,null,null,null,null,null,null,null,null,null,null,null,null,null,null,null,null,31,32,33,34,35]
[null,null,null,null,null,null,null,null,null,null,null,null,null,null,null,null,null,null,null,null,null,null,null,36,37,38,39,40]
[null,null,null,null,null,null,null,null,null,null,null,null,null,null,null,null,null,null,null,null,null,null,null,41,42,43,44,45]
[null,null,null,null,null,null,null,null,null,null,null,null,null,null,null,null,null,null,null,null,null,null,null,46,47,48,49,50]
[null,null,null,null,null,null,null,null,null,null,null,null,null,null,null,null,null,null,null,null,null,null,null,51,52,53,54,55]
[null,null,null,null,null,null,null,null,null,null,null,null,null,null,null,null,null,null,null,null,null,null,null,56,57,58,59,60]
[null,null,null,null,null,null,null,null,null,null,null,null,null,null,null,null,null,null,null,null,null,null,null,61,62,63,64,65]
[null,null,null,null,null,null,null,null,null,null,null,null,null,null,null,null,null,null,null,null,null,null,null,66,67,68,69,70]
[null,null,null,null,null,null,null,null,null,null,null,null,null,null,null,null,null,null,null,null,null,null,null,71,72,73,74,75]
[null,null,null,null,null,null,null,null,null,null,null,null,null,null,null,null,null,null,null,null,null,null,null,76,77,78,79,80]
[null,null,null,null,null,null,null,null,null,null,null,null,null,null,null,null,null,null,null,null,null,null,null,81,82,83,84,85]
[null,null,null,null,null,null,null,null,null,null,null,null,null,null,null,null,null,null,null,null,null,null,null,86,87,88,89,90]
[null,null,null,null,null,null,null,null,null,null,null,null,null,null,null,null,null,null,null,null,null,null,null,91,92,93,94,95]
[null,null,null,null,null,null,null,null,null,null,null,null,null,null,null,null,null,null,null,null,null,null,null,96,97,98,99,100]
[null,null,null,null,null,null,null,null,null,null,null,null,null,null,null,null,null,null,null,null,null,null,null,101,102,103,104,105]
[null,null,null,null,null,null,null,null,null,null,null,null,null,null,null,null,null,null,null,null,null,null,null,106,107,108,109,110]
[]
[]
[8,1,null,null,false,10,1,"youpla",0,0]
[]
[{"$f":"Feuil2!$A$3","v":"espagne 9 "}]
[{"$f":"Feuil2!$A$7","v":"\n\n1"},null,{"$f":"A43","v":"espagne 9 "}]
[{"$f":"Feuil2!$A$9","v":"\n20,005K136926Potentiel"},null,null,{"$f":"P45","v":"1369"},null,{"$f":"VALUE(D45)","v":1369},{"$f":"TYPE(F45)","v":1},{"$f":"IF(G45=1,1,0)","v":1},{"$f":"IF(TYPE(SEARCH(\"/\",A45,1))=16,SEARCH(\"Potentiel\",A45,1),SEARCH(\"/\",A45,1))","v":15},{"$f":"IF(TYPE(SEARCH(\",\",A45,1))=16,0,SEARCH(\",\",A45,1))","v":4},{"$f":"IF(TYPE(SEARCH(\",\",A45,J45+1))=1,SEARCH(\",\",A45,J45+1),J45)","v":4},null,{"$f":"IF(TYPE(SEARCH(\",\",A45,K45+1))=1,SEARCH(\",\",A45,K45+1),K45)+IF(Q45=1,1,0)","v":5},{"$f":"IF(TYPE(SEARCH(\",\",#REF!,M45+1))=1,SEARCH(\",\",#REF!,M45+1),M45)","v":5},{"$f":"IF(I45-2-(N45+4)<0,0,I45-2-(N45+4)-IF(TYPE(SEARCH(\"/\",A45,1))=16,0,4))","v":4},{"$f":"IF(MID(A45,N45+4,O45)=\"\",0,MID(A45,N45+4,O45))","v":"1369"},{"$f":"TYPE(SEARCH(\"K\",A45,1))","v":1}]
[{"$f":"Feuil2!$A$13","v":"\n532 (+122)Force"},null,{"$f":"IF(TYPE(SEARCH(\"(\",A46,1))=16,SEARCH(\"F\",A46,1)+1,SEARCH(\"(\",A46,1))","v":6},{"$f":"REPLACE(MID(A46,1,C46-2),1,1,\"\")","v":"532"},{"$f":"E39+H46","v":1},{"$f":"VALUE(D46)-J46","v":410},{"$f":"TYPE(F46)","v":1},{"$f":"IF(G46=1,1,0)","v":1},{"$f":"IF(TYPE(SEARCH(\")\",A46,1))=16,K46,SEARCH(\")\",A46,1))","v":11},{"$f":"IF(TYPE(SEARCH(\")\",A46,1))=16,0,MID(A46,K46,L46))","v":"122"},{"$f":"C46+2","v":8},{"$f":"I46-K46","v":3},null,null,null,{"$f":"P45","v":"1369"}]
[{"$f":"Feuil2!$A$15","v":"\n727 (+209) Habileté "},null,{"$f":"IF(TYPE(SEARCH(\"(\",A47,1))=16,SEARCH(\"H\",A47,1)+1,SEARCH(\"(\",A47,1))","v":6},{"$f":"REPLACE(MID(A47,1,C47-2),1,1,\"\")","v":"727"},{"$f":"E46+H47","v":2},{"$f":"VALUE(D47)-J47","v":518},1,1,{"$f":"IF(TYPE(SEARCH(\")\",A47,1))=16,K47,SEARCH(\")\",A47,1))","v":11},{"$f":"IF(TYPE(SEARCH(\"(\",A47,1))=16,0,MID(A47,K47,L47))","v":"209"},{"$f":"C47+2","v":8},{"$f":"I47-K47","v":3}]
[{"$f":"Feuil2!$A$17","v":"\n599 (+112) Vitesse "},null,{"$f":"IF(TYPE(SEARCH(\"(\",A48,1))=16,SEARCH(\"V\",A48,1)+1,SEARCH(\"(\",A48,1))","v":6},{"$f":"REPLACE(MID(A48,1,C48-2),1,1,\"\")","v":"599"},{"$f":"E47+H48","v":3},{"$f":"VALUE(D48)-J48","v":487},1,1,{"$f":"IF(TYPE(SEARCH(\")\",A48,1))=16,K48,SEARCH(\")\",A48,1))","v":11},{"$f":"IF(TYPE(SEARCH(\"(\",A48,1))=16,0,MID(A48,K48,L48))","v":"112"},{"$f":"C48+2","v":8},{"$f":"I48-K48","v":3}]
[{"$f":"Feuil2!$A$19","v":"\n556 (+92) Endurance "},null,{"$f":"IF(TYPE(SEARCH(\"(\",A49,1))=16,SEARCH(\"E\",A49,1)+1,SEARCH(\"(\",A49,1))","v":6},{"$f":"REPLACE(MID(A49,1,C49-2),1,1,\"\")","v":"556"},{"$f":"E48+H49","v":4},{"$f":"VALUE(D49)-J49","v":464},1,1,{"$f":"IF(TYPE(SEARCH(\")\",A49,1))=16,K49,SEARCH(\")\",A49,1))","v":10},{"$f":"IF(TYPE(SEARCH(\"(\",A49,1))=16,0,MID(A49,K49,L49))","v":"92"},{"$f":"C49+2","v":8},{"$f":"I49-K49","v":2}]
[{"$f":"Feuil2!$A$21","v":"\n460 (+170) Intelligence "},null,{"$f":"IF(TYPE(SEARCH(\"(\",A50,1))=16,SEARCH(\"I\",A50,1)+1,SEARCH(\"(\",A50,1))","v":6},{"$f":"REPLACE(MID(A50,1,C50-2),1,1,\"\")","v":"460"},{"$f":"E49+H50","v":5},{"$f":"VALUE(D50)-J50","v":290},1,1,{"$f":"IF(TYPE(SEARCH(\")\",A50,1))=16,K50,SEARCH(\")\",A50,1))","v":11},{"$f":"IF(TYPE(SEARCH(\"(\",A50,1))=16,0,MID(A50,K50,L50))","v":"170"},{"$f":"C50+2","v":8},{"$f":"I50-K50","v":3}]
[{"$f":"Feuil2!$A$24","v":0},null,{"$f":"SEARCH(\"E\",A51,1)","v":{"$error":"#VALUE!"}},{"$f":"REPLACE(MID(A51,1,C51-1),1,1,\"\")","v":{"$error":"#VALUE!"}}]
[{"$f":"Feuil2!$A$26","v":0},null,{"$f":"SEARCH(\"M\",A52,1)","v":{"$error":"#VALUE!"}},{"$f":"REPLACE(MID(A52,1,C52-1),1,1,\"\")","v":{"$error":"#VALUE!"}}]
[]
[{"$f":"Feuil2!$B$3","v":2}]
[{"$f":"Feuil2!$B$7","v":"\n\n2"},null,{"$f":"A54","v":2}]
[{"$f":"Feuil2!$B$9","v":"\n20,640K119026Potentiel"},null,null,{"$f":"P56","v":"1190"},null,{"$f":"VALUE(D56)","v":1190},{"$f":"TYPE(F56)","v":1},{"$f":"IF(G56=1,1,0)","v":1},{"$f":"IF(TYPE(SEARCH(\"/\",A56,1))=16,SEARCH(\"Potentiel\",A56,1),SEARCH(\"/\",A56,1))","v":15},{"$f":"IF(TYPE(SEARCH(\",\",A56,1))=16,0,SEARCH(\",\",A56,1))","v":4},{"$f":"IF(TYPE(SEARCH(\",\",A56,J56+1))=1,SEARCH(\",\",A56,J56+1),J56)","v":4},null,{"$f":"IF(TYPE(SEARCH(\",\",A56,K56+1))=1,SEARCH(\",\",A56,K56+1),K56)+IF(Q56=1,1,0)","v":5},{"$f":"IF(TYPE(SEARCH(\",\",#REF!,M56+1))=1,SEARCH(\",\",#REF!,M56+1),M56)","v":5},{"$f":"IF(I56-2-(N56+4)<0,0,I56-2-(N56+4)-IF(TYPE(SEARCH(\"/\",A56,1))=16,0,4))","v":4},{"$f":"IF(MID(A56,N56+4,O56)=\"\",0,MID(A56,N56+4,O56))","v":"1190"},{"$f":"TYPE(SEARCH(\"K\",A56,1))","v":1}]
[{"$f":"Feuil2!$B$13","v":"\n693 (+197)Force"},null,{"$f":"IF(TYPE(SEARCH(\"(\",A57,1))=16,SEARCH(\"F\",A57,1)+1,SEARCH(\"(\",A57,1))","v":6},{"$f":"REPLACE(MID(A57,1,C57-2),1,1,\"\")","v":"693"},{"$f":"E50+H57","v":6},{"$f":"VALUE(D57)-J57","v":496},{"$f":"TYPE(F57)","v":1},{"$f":"IF(G57=1,1,0)","v":1},{"$f":"IF(TYPE(SEARCH(\")\",A57,1))=16,K57,SEARCH(\")\",A57,1))","v":11},{"$f":"IF(TYPE(SEARCH(\")\",A57,1))=16,0,MID(A57,K57,L57))","v":"197"},{"$f":"C57+2","v":8},{"$f":"I57-K57","v":3},null,null,null,{"$f":"P56","v":"1190"}]
[{"$f":"Feuil2!$B$15","v":"\n570 (+132) Habileté "},null,{"$f":"IF(TYPE(SEARCH(\"(\",A58,1))=16,SEARCH(\"H\",A58,1)+1,SEARCH(\"(\",A58,1))","v":6},{"$f":"REPLACE(MID(A58,1,C58-2),1,1,\"\")","v":"570"},{"$f":"E57+H58","v":7},{"$f":"VALUE(D58)-J58","v":438},1,1,{"$f":"IF(TYPE(SEARCH(\")\",A58,1))=16,K58,SEARCH(\")\",A58,1))","v":11},{"$f":"IF(TYPE(SEARCH(\"(\",A58,1))=16,0,MID(A58,K58,L58))","v":"132"},{"$f":"C58+2","v":8},{"$f":"I58-K58","v":3}]
[{"$f":"Feuil2!$B$17","v":"\n573 (+130) Vitesse "},null,{"$f":"IF(TYPE(SEARCH(\"(\",A59,1))=16,SEARCH(\"V\",A59,1)+1,SEARCH(\"(\",A59,1))","v":6},{"$f":"REPLACE(MID(A59,1,C59-2),1,1,\"\")","v":"573"},{"$f":"E58+H59","v":8},{"$f":"VALUE(D59)-J59","v":443},1,1,{"$f":"IF(TYPE(SEARCH(\")\",A59,1))=16,K59,SEARCH(\")\",A59,1))","v":11},{"$f":"IF(TYPE(SEARCH(\"(\",A59,1))=16,0,MID(A59,K59,L59))","v":"130"},{"$f":"C59+2","v":8},{"$f":"I59-K59","v":3}]
[{"$f":"Feuil2!$B$19","v":"\n680 (+182) Endurance "},null,{"$f":"IF(TYPE(SEARCH(\"(\",A60,1))=16,SEARCH(\"E\",A60,1)+1,SEARCH(\"(\",A60,1))","v":6},{"$f":"REPLACE(MID(A60,1,C60-2),1,1,\"\")","v":"680"},{"$f":"E59+H60","v":9},{"$f":"VALUE(D60)-J60","v":498},1,1,{"$f":"IF(TYPE(SEARCH(\")\",A60,1))=16,K60,SEARCH(\")\",A60,1))","v":11},{"$f":"IF(TYPE(SEARCH(\"(\",A60,1))=16,0,MID(A60,K60,L60))","v":"182"},{"$f":"C60+2","v":8},{"$f":"I60-K60","v":3}]
[{"$f":"Feuil2!$B$21","v":"\n456 (+116) Intelligence "},null,{"$f":"IF(TYPE(SEARCH(\"(\",A61,1))=16,SEARCH(\"I\",A61,1)+1,SEARCH(\"(\",A61,1))","v":6},{"$f":"REPLACE(MID(A61,1,C61-2),1,1,\"\")","v":"456"},{"$f":"E60+H61","v":10},{"$f":"VALUE(D61)-J61","v":340},1,1,{"$f":"IF(TYPE(SEARCH(\")\",A61,1))=16,K61,SEARCH(\")\",A61,1))","v":11},{"$f":"IF(TYPE(SEARCH(\"(\",A61,1))=16,0,MID(A61,K61,L61))","v":"116"},{"$f":"C61+2","v":8},{"$f":"I61-K61","v":3}]
[{"$f":"Feuil2!$B$24","v":0},null,{"$f":"SEARCH(\"E\",A62,1)","v":{"$error":"#VALUE!"}},{"$f":"REPLACE(MID(A62,1,C62-1),1,1,\"\")","v":{"$error":"#VALUE!"}}]
[{"$f":"Feuil2!$B$26","v":0},null,{"$f":"SEARCH(\"M\",A63,1)","v":{"$error":"#VALUE!"}},{"$f":"REPLACE(MID(A63,1,C63-1),1,1,\"\")","v":{"$error":"#VALUE!"}}]
[]
[{"$f":"Feuil2!$C$3","v":3}]
[{"$f":"Feuil2!$C$7","v":"\n\n3"},null,{"$f":"A65","v":3}]
[{"$f":"Feuil2!$C$9","v":"\n17,948K111025Potentiel"},null,null,{"$f":"P67","v":"1110"},null,{"$f":"VALUE(D67)","v":1110},{"$f":"TYPE(F67)","v":1},{"$f":"IF(G67=1,1,0)","v":1},{"$f":"IF(TYPE(SEARCH(\"/\",A67,1))=16,SEARCH(\"Potentiel\",A67,1),SEARCH(\"/\",A67,1))","v":15},{"$f":"IF(TYPE(SEARCH(\",\",A67,1))=16,0,SEARCH(\",\",A67,1))","v":4},{"$f":"IF(TYPE(SEARCH(\",\",A67,J67+1))=1,SEARCH(\",\",A67,J67+1),J67)","v":4},null,{"$f":"IF(TYPE(SEARCH(\",\",A67,K67+1))=1,SEARCH(\",\",A67,K67+1),K67)+IF(Q67=1,1,0)","v":5},{"$f":"IF(TYPE(SEARCH(\",\",#REF!,M67+1))=1,SEARCH(\",\",#REF!,M67+1),M67)","v":5},{"$f":"IF(I67-2-(N67+4)<0,0,I67-2-(N67+4)-IF(TYPE(SEARCH(\"/\",A67,1))=16,0,4))","v":4},{"$f":"IF(MID(A67,N67+4,O67)=\"\",0,MID(A67,N67+4,O67))","v":"1110"},{"$f":"TYPE(SEARCH(\"K\",A67,1))","v":1}]
[{"$f":"Feuil2!$C$13","v":"\n665 (+197)Force"},null,{"$f":"IF(TYPE(SEARCH(\"(\",A68,1))=16,SEARCH(\"F\",A68,1)+1,SEARCH(\"(\",A68,1))","v":6},{"$f":"REPLACE(MID(A68,1,C68-2),1,1,\"\")","v":"665"},{"$f":"E61+H68","v":11},{"$f":"VALUE(D68)-J68","v":468},{"$f":"TYPE(F68)","v":1},{"$f":"IF(G68=1,1,0)","v":1},{"$f":"IF(TYPE(SEARCH(\")\",A68,1))=16,K68,SEARCH(\")\",A68,1))","v":11},{"$f":"IF(TYPE(SEARCH(\")\",A68,1))=16,0,MID(A68,K68,L68))","v":"197"},{"$f":"C68+2","v":8},{"$f":"I68-K68","v":3},null,null,null,{"$f":"P67","v":"1110"}]
[{"$f":"Feuil2!$C$15","v":"\n431 (+132) Habileté "},null,{"$f":"IF(TYPE(SEARCH(\"(\",A69,1))=16,SEARCH(\"H\",A69,1)+1,SEARCH(\"(\",A69,1))","v":6},{"$f":"REPLACE(MID(A69,1,C69-2),1,1,\"\")","v":"431"},{"$f":"E68+H69","v":12},{"$f":"VALUE(D69)-J69","v":299},1,1,{"$f":"IF(TYPE(SEARCH(\")\",A69,1))=16,K69,SEARCH(\")\",A69,1))","v":11},{"$f":"IF(TYPE(SEARCH(\"(\",A69,1))=16,0,MID(A69,K69,L69))","v":"132"},{"$f":"C69+2","v":8},{"$f":"I69-K69","v":3}]
[{"$f":"Feuil2!$C$17","v":"\n507 (+130) Vitesse "},null,{"$f":"IF(TYPE(SEARCH(\"(\",A70,1))=16,SEARCH(\"V\",A70,1)+1,SEARCH(\"(\",A70,1))","v":6},{"$f":"REPLACE(MID(A70,1,C70-2),1,1,\"\")","v":"507"},{"$f":"E69+H70","v":13},{"$f":"VALUE(D70)-J70","v":377},1,1,{"$f":"IF(TYPE(SEARCH(\")\",A70,1))=16,K70,SEARCH(\")\",A70,1))","v":11},{"$f":"IF(TYPE(SEARCH(\"(\",A70,1))=16,0,MID(A70,K70,L70))","v":"130"},{"$f":"C70+2","v":8},{"$f":"I70-K70","v":3}]
[{"$f":"Feuil2!$C$19","v":"\n660 (+182) Endurance "},null,{"$f":"IF(TYPE(SEARCH(\"(\",A71,1))=16,SEARCH(\"E\",A71,1)+1,SEARCH(\"(\",A71,1))","v":6},{"$f":"REPLACE(MID(A71,1,C71-2),1,1,\"\")","v":"660"},{"$f":"E70+H71","v":14},{"$f":"VALUE(D71)-J71","v":478},1,1,{"$f":"IF(TYPE(SEARCH(\")\",A71,1))=16,K71,SEARCH(\")\",A71,1))","v":11},{"$f":"IF(TYPE(SEARCH(\"(\",A71,1))=16,0,MID(A71,K71,L71))","v":"182"},{"$f":"C71+2","v":8},{"$f":"I71-K71","v":3}]
[{"$f":"Feuil2!$C$21","v":"\n453 (+165) Intelligence "},null,{"$f":"IF(TYPE(SEARCH(\"(\",A72,1))=16,SEARCH(\"I\",A72,1)+1,SEARCH(\"(\",A72,1))","v":6},{"$f":"REPLACE(MID(A72,1,C72-2),1,1,\"\")","v":"453"},{"$f":"E71+H72","v":15},{"$f":"VALUE(D72)-J72","v":288},1,1,{"$f":"IF(TYPE(SEARCH(\")\",A72,1))=16,K72,SEARCH(\")\",A72,1))","v":11},{"$f":"IF(TYPE(SEARCH(\"(\",A72,1))=16,0,MID(A72,K72,L72))","v":"165"},{"$f":"C72+2","v":8},{"$f":"I72-K72","v":3}]
[{"$f":"Feuil2!$C$24","v":0},null,{"$f":"SEARCH(\"E\",A73,1)","v":{"$error":"#VALUE!"}},{"$f":"REPLACE(MID(A73,1,C73-1),1,1,\"\")","v":{"$error":"#VALUE!"}}]
[{"$f":"Feuil2!$C$26","v":0},null,{"$f":"SEARCH(\"M\",A74,1)","v":{"$error":"#VALUE!"}},{"$f":"REPLACE(MID(A74,1,C74-1),1,1,\"\")","v":{"$error":"#VALUE!"}}]
[]
[{"$f":"Feuil2!$D$3","v":"algerie 4 "}]
[{"$f":"Feuil2!$D$7","v":"\n\n4"},null,{"$f":"A76","v":"algerie 4 "}]
[{"$f":"Feuil2!$D$9","v":"\n16,454K142626Potentiel"},null,null,{"$f":"P78","v":"1426"},null,{"$f":"VALUE(D78)","v":1426},{"$f":"TYPE(F78)","v":1},{"$f":"IF(G78=1,1,0)","v":1},{"$f":"IF(TYPE(SEARCH(\"/\",A78,1))=16,SEARCH(\"Potentiel\",A78,1),SEARCH(\"/\",A78,1))","v":15},{"$f":"IF(TYPE(SEARCH(\",\",A78,1))=16,0,SEARCH(\",\",A78,1))","v":4},{"$f":"IF(TYPE(SEARCH(\",\",A78,J78+1))=1,SEARCH(\",\",A78,J78+1),J78)","v":4},null,{"$f":"IF(TYPE(SEARCH(\",\",A78,K78+1))=1,SEARCH(\",\",A78,K78+1),K78)+IF(Q78=1,1,0)","v":5},{"$f":"IF(TYPE(SEARCH(\",\",#REF!,M78+1))=1,SEARCH(\",\",#REF!,M78+1),M78)","v":5},{"$f":"IF(I78-2-(N78+4)<0,0,I78-2-(N78+4)-IF(TYPE(SEARCH(\"/\",A78,1))=16,0,4))","v":4},{"$f":"IF(MID(A78,N78+4,O78)=\"\",0,MID(A78,N78+4,O78))","v":"1426"},{"$f":"TYPE(SEARCH(\"K\",A78,1))","v":1}]
[{"$f":"Feuil2!$D$13","v":"\n642 (+148)Force"},null,{"$f":"IF(TYPE(SEARCH(\"(\",A79,1))=16,SEARCH(\"F\",A79,1)+1,SEARCH(\"(\",A79,1))","v":6},{"$f":"REPLACE(MID(A79,1,C79-2),1,1,\"\")","v":"642"},{"$f":"E72+H79","v":16},{"$f":"VALUE(D79)-J79","v":494},{"$f":"TYPE(F79)","v":1},{"$f":"IF(G79=1,1,0)","v":1},{"$f":"IF(TYPE(SEARCH(\")\",A79,1))=16,K79,SEARCH(\")\",A79,1))","v":11},{"$f":"IF(TYPE(SEARCH(\")\",A79,1))=16,0,MID(A79,K79,L79))","v":"148"},{"$f":"C79+2","v":8},{"$f":"I79-K79","v":3},null,null,null,{"$f":"P78","v":"1426"}]
[{"$f":"Feuil2!$D$15","v":"\n365 (+131) Habileté "},null,{"$f":"IF(TYPE(SEARCH(\"(\",A80,1))=16,SEARCH(\"H\",A80,1)+1,SEARCH(\"(\",A80,1))","v":6},{"$f":"REPLACE(MID(A80,1,C80-2),1,1,\"\")","v":"365"},{"$f":"E79+H80","v":17},{"$f":"VALUE(D80)-J80","v":234},1,1,{"$f":"IF(TYPE(SEARCH(\")\",A80,1))=16,K80,SEARCH(\")\",A80,1))","v":11},{"$f":"IF(TYPE(SEARCH(\"(\",A80,1))=16,0,MID(A80,K80,L80))","v":"131"},{"$f":"C80+2","v":8},{"$f":"I80-K80","v":3}]
[{"$f":"Feuil2!$D$17","v":"\n598 (+174) Vitesse "},null,{"$f":"IF(TYPE(SEARCH(\"(\",A81,1))=16,SEARCH(\"V\",A81,1)+1,SEARCH(\"(\",A81,1))","v":6},{"$f":"REPLACE(MID(A81,1,C81-2),1,1,\"\")","v":"598"},{"$f":"E80+H81","v":18},{"$f":"VALUE(D81)-J81","v":424},1,1,{"$f":"IF(TYPE(SEARCH(\")\",A81,1))=16,K81,SEARCH(\")\",A81,1))","v":11},{"$f":"IF(TYPE(SEARCH(\"(\",A81,1))=16,0,MID(A81,K81,L81))","v":"174"},{"$f":"C81+2","v":8},{"$f":"I81-K81","v":3}]
[{"$f":"Feuil2!$D$19","v":"\n577 (+181) Endurance "},null,{"$f":"IF(TYPE(SEARCH(\"(\",A82,1))=16,SEARCH(\"E\",A82,1)+1,SEARCH(\"(\",A82,1))","v":6},{"$f":"REPLACE(MID(A82,1,C82-2),1,1,\"\")","v":"577"},{"$f":"E81+H82","v":19},{"$f":"VALUE(D82)-J82","v":396},1,1,{"$f":"IF(TYPE(SEARCH(\")\",A82,1))=16,K82,SEARCH(\")\",A82,1))","v":11},{"$f":"IF(TYPE(SEARCH(\"(\",A82,1))=16,0,MID(A82,K82,L82))","v":"181"},{"$f":"C82+2","v":8},{"$f":"I82-K82","v":3}]
[{"$f":"Feuil2!$D$21","v":"\n380 (+163) Intelligence "},null,{"$f":"IF(TYPE(SEARCH(\"(\",A83,1))=16,SEARCH(\"I\",A83,1)+1,SEARCH(\"(\",A83,1))","v":6},{"$f":"REPLACE(MID(A83,1,C83-2),1,1,\"\")","v":"380"},{"$f":"E82+H83","v":20},{"$f":"VALUE(D83)-J83","v":217},1,1,{"$f":"IF(TYPE(SEARCH(\")\",A83,1))=16,K83,SEARCH(\")\",A83,1))","v":11},{"$f":"IF(TYPE(SEARCH(\"(\",A83,1))=16,0,MID(A83,K83,L83))","v":"163"},{"$f":"C83+2","v":8},{"$f":"I83-K83","v":3}]
[{"$f":"Feuil2!$D$24","v":0},null,{"$f":"SEARCH(\"E\",A84,1)","v":{"$error":"#VALUE!"}},{"$f":"REPLACE(MID(A84,1,C84-1),1,1,\"\")","v":{"$error":"#VALUE!"}}]
[{"$f":"Feuil2!$D$26","v":0},null,{"$f":"SEARCH(\"M\",A85,1)","v":{"$error":"#VALUE!"}},{"$f":"REPLACE(MID(A85,1,C85-1),1,1,\"\")","v":{"$error":"#VALUE!"}}]
[]
[{"$f":"Feuil2!$E$3","v":"ghana 5 "}]
[{"$f":"Feuil2!$E$7","v":"\n\n5"},null,{"$f":"A87","v":"ghana 5 "}]
[{"$f":"Feuil2!$E$9","v":"\n20,079K107025Potentiel"},null,null,{"$f":"P89","v":"1070"},null,{"$f":"VALUE(D89)","v":1070},{"$f":"TYPE(F89)","v":1},{"$f":"IF(G89=1,1,0)","v":1},{"$f":"IF(TYPE(SEARCH(\"/\",A89,1))=16,SEARCH(\"Potentiel\",A89,1),SEARCH(\"/\",A89,1))","v":15},{"$f":"IF(TYPE(SEARCH(\",\",A89,1))=16,0,SEARCH(\",\",A89,1))","v":4},{"$f":"IF(TYPE(SEARCH(\",\",A89,J89+1))=1,SEARCH(\",\",A89,J89+1),J89)","v":4},null,{"$f":"IF(TYPE(SEARCH(\",\",A89,K89+1))=1,SEARCH(\",\",A89,K89+1),K89)+IF(Q89=1,1,0)","v":5},{"$f":"IF(TYPE(SEARCH(\",\",#REF!,M89+1))=1,SEARCH(\",\",#REF!,M89+1),M89)","v":5},{"$f":"IF(I89-2-(N89+4)<0,0,I89-2-(N89+4)-IF(TYPE(SEARCH(\"/\",A89,1))=16,0,4))","v":4},{"$f":"IF(MID(A89,N89+4,O89)=\"\",0,MID(A89,N89+4,O89))","v":"1070"},{"$f":"TYPE(SEARCH(\"K\",A89,1))","v":1}]
[{"$f":"Feuil2!$E$13","v":"\n653 (+200)Force"},null,{"$f":"IF(TYPE(SEARCH(\"(\",A90,1))=16,SEARCH(\"F\",A90,1)+1,SEARCH(\"(\",A90,1))","v":6},{"$f":"REPLACE(MID(A90,1,C90-2),1,1,\"\")","v":"653"},{"$f":"E83+H90","v":21},{"$f":"VALUE(D90)-J90","v":453},{"$f":"TYPE(F90)","v":1},{"$f":"IF(G90=1,1,0)","v":1},{"$f":"IF(TYPE(SEARCH(\")\",A90,1))=16,K90,SEARCH(\")\",A90,1))","v":11},{"$f":"IF(TYPE(SEARCH(\")\",A90,1))=16,0,MID(A90,K90,L90))","v":"200"},{"$f":"C90+2","v":8},{"$f":"I90-K90","v":3},null,null,null,{"$f":"P89","v":"1070"}]
[{"$f":"Feuil2!$E$15","v":"\n561 (+125) Habileté "},null,{"$f":"IF(TYPE(SEARCH(\"(\",A91,1))=16,SEARCH(\"H\",A91,1)+1,SEARCH(\"(\",A91,1))","v":6},{"$f":"REPLACE(MID(A91,1,C91-2),1,1,\"\")","v":"561"},{"$f":"E90+H91","v":22},{"$f":"VALUE(D91)-J91","v":436},1,1,{"$f":"IF(TYPE(SEARCH(\")\",A91,1))=16,K91,SEARCH(\")\",A91,1))","v":11},{"$f":"IF(TYPE(SEARCH(\"(\",A91,1))=16,0,MID(A91,K91,L91))","v":"125"},{"$f":"C91+2","v":8},{"$f":"I91-K91","v":3}]
[{"$f":"Feuil2!$E$17","v":"\n579 (+141) Vitesse "},null,{"$f":"IF(TYPE(SEARCH(\"(\",A92,1))=16,SEARCH(\"V\",A92,1)+1,SEARCH(\"(\",A92,1))","v":6},{"$f":"REPLACE(MID(A92,1,C92-2),1,1,\"\")","v":"579"},{"$f":"E91+H92","v":23},{"$f":"VALUE(D92)-J92","v":438},1,1,{"$f":"IF(TYPE(SEARCH(\")\",A92,1))=16,K92,SEARCH(\")\",A92,1))","v":11},{"$f":"IF(TYPE(SEARCH(\"(\",A92,1))=16,0,MID(A92,K92,L92))","v":"141"},{"$f":"C92+2","v":8},{"$f":"I92-K92","v":3}]
[{"$f":"Feuil2!$E$19","v":"\n538 (+127) Endurance "},null,{"$f":"IF(TYPE(SEARCH(\"(\",A93,1))=16,SEARCH(\"E\",A93,1)+1,SEARCH(\"(\",A93,1))","v":6},{"$f":"REPLACE(MID(A93,1,C93-2),1,1,\"\")","v":"538"},{"$f":"E92+H93","v":24},{"$f":"VALUE(D93)-J93","v":411},1,1,{"$f":"IF(TYPE(SEARCH(\")\",A93,1))=16,K93,SEARCH(\")\",A93,1))","v":11},{"$f":"IF(TYPE(SEARCH(\"(\",A93,1))=16,0,MID(A93,K93,L93))","v":"127"},{"$f":"C93+2","v":8},{"$f":"I93-K93","v":3}]
[{"$f":"Feuil2!$E$21","v":"\n508 (+158) Intelligence "},null,{"$f":"IF(TYPE(SEARCH(\"(\",A94,1))=16,SEARCH(\"I\",A94,1)+1,SEARCH(\"(\",A94,1))","v":6},{"$f":"REPLACE(MID(A94,1,C94-2),1,1,\"\")","v":"508"},{"$f":"E93+H94","v":25},{"$f":"VALUE(D94)-J94","v":350},1,1,{"$f":"IF(TYPE(SEARCH(\")\",A94,1))=16,K94,SEARCH(\")\",A94,1))","v":11},{"$f":"IF(TYPE(SEARCH(\"(\",A94,1))=16,0,MID(A94,K94,L94))","v":"158"},{"$f":"C94+2","v":8},{"$f":"I94-K94","v":3}]
[{"$f":"Feuil2!$E$24","v":0},null,{"$f":"SEARCH(\"E\",A95,1)","v":{"$error":"#VALUE!"}},{"$f":"REPLACE(MID(A95,1,C95-1),1,1,\"\")","v":{"$error":"#VALUE!"}}]
[{"$f":"Feuil2!$E$26","v":0},null,{"$f":"SEARCH(\"M\",A96,1)","v":{"$error":"#VALUE!"}},{"$f":"REPLACE(MID(A96,1,C96-1),1,1,\"\")","v":{"$error":"#VALUE!"}}]
[]
[{"$f":"Feuil2!$F$3","v":"slovenie 6 "}]
[{"$f":"Feuil2!$F$7","v":"\n\n6"},null,{"$f":"A98","v":"slovenie 6 "}]
[{"$f":"Feuil2!$F$9","v":"\n18,831K133626Potentiel"},null,null,{"$f":"P100","v":"1336"},null,{"$f":"VALUE(D100)","v":1336},{"$f":"TYPE(F100)","v":1},{"$f":"IF(G100=1,1,0)","v":1},{"$f":"IF(TYPE(SEARCH(\"/\",A100,1))=16,SEARCH(\"Potentiel\",A100,1),SEARCH(\"/\",A100,1))","v":15},{"$f":"IF(TYPE(SEARCH(\",\",A100,1))=16,0,SEARCH(\",\",A100,1))","v":4},{"$f":"IF(TYPE(SEARCH(\",\",A100,J100+1))=1,SEARCH(\",\",A100,J100+1),J100)","v":4},null,{"$f":"IF(TYPE(SEARCH(\",\",A100,K100+1))=1,SEARCH(\",\",A100,K100+1),K100)+IF(Q100=1,1,0)","v":5},{"$f":"IF(TYPE(SEARCH(\",\",#REF!,M100+1))=1,SEARCH(\",\",#REF!,M100+1),M100)","v":5},{"$f":"IF(I100-2-(N100+4)<0,0,I100-2-(N100+4)-IF(TYPE(SEARCH(\"/\",A100,1))=16,0,4))","v":4},{"$f":"IF(MID(A100,N100+4,O100)=\"\",0,MID(A100,N100+4,O100))","v":"1336"},{"$f":"TYPE(SEARCH(\"K\",A100,1))","v":1}]
[{"$f":"Feuil2!$F$13","v":"\n631 (+193)Force"},null,{"$f":"IF(TYPE(SEARCH(\"(\",A101,1))=16,SEARCH(\"F\",A101,1)+1,SEARCH(\"(\",A101,1))","v":6},{"$f":"REPLACE(MID(A101,1,C101-2),1,1,\"\")","v":"631"},{"$f":"E94+H101","v":26},{"$f":"VALUE(D101)-J101","v":438},{"$f":"TYPE(F101)","v":1},{"$f":"IF(G101=1,1,0)","v":1},{"$f":"IF(TYPE(SEARCH(\")\",A101,1))=16,K101,SEARCH(\")\",A101,1))","v":11},{"$f":"IF(TYPE(SEARCH(\")\",A101,1))=16,0,MID(A101,K101,L101))","v":"193"},{"$f":"C101+2","v":8},{"$f":"I101-K101","v":3},null,null,null,{"$f":"P100","v":"1336"}]
[{"$f":"Feuil2!$F$15","v":"\n655 (+179) Habileté "},null,{"$f":"IF(TYPE(SEARCH(\"(\",A102,1))=16,SEARCH(\"H\",A102,1)+1,SEARCH(\"(\",A102,1))","v":6},{"$f":"REPLACE(MID(A102,1,C102-2),1,1,\"\")","v":"655"},{"$f":"E101+H102","v":27},{"$f":"VALUE(D102)-J102","v":476},1,1,{"$f":"IF(TYPE(SEARCH(\")\",A102,1))=16,K102,SEARCH(\")\",A102,1))","v":11},{"$f":"IF(TYPE(SEARCH(\"(\",A102,1))=16,0,MID(A102,K102,L102))","v":"179"},{"$f":"C102+2","v":8},{"$f":"I102-K102","v":3}]
[{"$f":"Feuil2!$F$17","v":"\n571 (+129) Vitesse "},null,{"$f":"IF(TYPE(SEARCH(\"(\",A103,1))=16,SEARCH(\"V\",A103,1)+1,SEARCH(\"(\",A103,1))","v":6},{"$f":"REPLACE(MID(A103,1,C103-2),1,1,\"\")","v":"571"},{"$f":"E102+H103","v":28},{"$f":"VALUE(D103)-J103","v":442},1,1,{"$f":"IF(TYPE(SEARCH(\")\",A103,1))=16,K103,SEARCH(\")\",A103,1))","v":11},{"$f":"IF(TYPE(SEARCH(\"(\",A103,1))=16,0,MID(A103,K103,L103))","v":"129"},{"$f":"C103+2","v":8},{"$f":"I103-K103","v":3}]
[{"$f":"Feuil2!$F$19","v":"\n614 (+180) Endurance "},null,{"$f":"IF(TYPE(SEARCH(\"(\",A104,1))=16,SEARCH(\"E\",A104,1)+1,SEARCH(\"(\",A104,1))","v":6},{"$f":"REPLACE(MID(A104,1,C104-2),1,1,\"\")","v":"614"},{"$f":"E103+H104","v":29},{"$f":"VALUE(D104)-J104","v":434},1,1,{"$f":"IF(TYPE(SEARCH(\")\",A104,1))=16,K104,SEARCH(\")\",A104,1))","v":11},{"$f":"IF(TYPE(SEARCH(\"(\",A104,1))=16,0,MID(A104,K104,L104))","v":"180"},{"$f":"C104+2","v":8},{"$f":"I104-K104","v":3}]
[{"$f":"Feuil2!$F$21","v":"\n495 (+115) Intelligence "},null,{"$f":"IF(TYPE(SEARCH(\"(\",A105,1))=16,SEARCH(\"I\",A105,1)+1,SEARCH(\"(\",A105,1))","v":6},{"$f":"REPLACE(MID(A105,1,C105-2),1,1,\"\")","v":"495"},{"$f":"E104+H105","v":30},{"$f":"VALUE(D105)-J105","v":380},1,1,{"$f":"IF(TYPE(SEARCH(\")\",A105,1))=16,K105,SEARCH(\")\",A105,1))","v":11},{"$f":"IF(TYPE(SEARCH(\"(\",A105,1))=16,0,MID(A105,K105,L105))","v":"115"},{"$f":"C105+2","v":8},{"$f":"I105-K105","v":3}]
[{"$f":"Feuil2!$F$24","v":0},null,{"$f":"SEARCH(\"E\",A106,1)","v":{"$error":"#VALUE!"}},{"$f":"REPLACE(MID(A106,1,C106-1),1,1,\"\")","v":{"$error":"#VALUE!"}}]
[{"$f":"Feuil2!$F$26","v":0},null,{"$f":"SEARCH(\"M\",A107,1)","v":{"$error":"#VALUE!"}},{"$f":"REPLACE(MID(A107,1,C107-1),1,1,\"\")","v":{"$error":"#VALUE!"}}]
[]
[{"$f":"Feuil2!$G$3","v":"grece 7 "}]
[{"$f":"Feuil2!$G$7","v":"\n\n7"},null,{"$f":"A109","v":"grece 7 "}]
[{"$f":"Feuil2!$G$9","v":"\n19,926K149626Potentiel"},null,null,{"$f":"P111","v":"1496"},null,{"$f":"VALUE(D111)","v":1496},{"$f":"TYPE(F111)","v":1},{"$f":"IF(G111=1,1,0)","v":1},{"$f":"IF(TYPE(SEARCH(\"/\",A111,1))=16,SEARCH(\"Potentiel\",A111,1),SEARCH(\"/\",A111,1))","v":15},{"$f":"IF(TYPE(SEARCH(\",\",A111,1))=16,0,SEARCH(\",\",A111,1))","v":4},{"$f":"IF(TYPE(SEARCH(\",\",A111,J111+1))=1,SEARCH(\",\",A111,J111+1),J111)","v":4},null,{"$f":"IF(TYPE(SEARCH(\",\",A111,K111+1))=1,SEARCH(\",\",A111,K111+1),K111)+IF(Q111=1,1,0)","v":5},{"$f":"IF(TYPE(SEARCH(\",\",#REF!,M111+1))=1,SEARCH(\",\",#REF!,M111+1),M111)","v":5},{"$f":"IF(I111-2-(N111+4)<0,0,I111-2-(N111+4)-IF(TYPE(SEARCH(\"/\",A111,1))=16,0,4))","v":4},{"$f":"IF(MID(A111,N111+4,O111)=\"\",0,MID(A111,N111+4,O111))","v":"1496"},{"$f":"TYPE(SEARCH(\"K\",A111,1))","v":1}]
[{"$f":"Feuil2!$G$13","v":"\n640 (+194)Force"},null,{"$f":"IF(TYPE(SEARCH(\"(\",A112,1))=16,SEARCH(\"F\",A112,1)+1,SEARCH(\"(\",A112,1))","v":6},{"$f":"REPLACE(MID(A112,1,C112-2),1,1,\"\")","v":"640"},{"$f":"E105+H112","v":31},{"$f":"VALUE(D112)-J112","v":446},{"$f":"TYPE(F112)","v":1},{"$f":"IF(G112=1,1,0)","v":1},{"$f":"IF(TYPE(SEARCH(\")\",A112,1))=16,K112,SEARCH(\")\",A112,1))","v":11},{"$f":"IF(TYPE(SEARCH(\")\",A112,1))=16,0,MID(A112,K112,L112))","v":"194"},{"$f":"C112+2","v":8},{"$f":"I112-K112","v":3},null,null,null,{"$f":"P111","v":"1496"}]
[{"$f":"Feuil2!$G$15","v":"\n637 (+178) Habileté "},null,{"$f":"IF(TYPE(SEARCH(\"(\",A113,1))=16,SEARCH(\"H\",A113,1)+1,SEARCH(\"(\",A113,1))","v":6},{"$f":"REPLACE(MID(A113,1,C113-2),1,1,\"\")","v":"637"},{"$f":"E112+H113","v":32},{"$f":"VALUE(D113)-J113","v":459},1,1,{"$f":"IF(TYPE(SEARCH(\")\",A113,1))=16,K113,SEARCH(\")\",A113,1))","v":11},{"$f":"IF(TYPE(SEARCH(\"(\",A113,1))=16,0,MID(A113,K113,L113))","v":"178"},{"$f":"C113+2","v":8},{"$f":"I113-K113","v":3}]
[{"$f":"Feuil2!$G$17","v":"\n620 (+177) Vitesse "},null,{"$f":"IF(TYPE(SEARCH(\"(\",A114,1))=16,SEARCH(\"V\",A114,1)+1,SEARCH(\"(\",A114,1))","v":6},{"$f":"REPLACE(MID(A114,1,C114-2),1,1,\"\")","v":"620"},{"$f":"E113+H114","v":33},{"$f":"VALUE(D114)-J114","v":443},1,1,{"$f":"IF(TYPE(SEARCH(\")\",A114,1))=16,K114,SEARCH(\")\",A114,1))","v":11},{"$f":"IF(TYPE(SEARCH(\"(\",A114,1))=16,0,MID(A114,K114,L114))","v":"177"},{"$f":"C114+2","v":8},{"$f":"I114-K114","v":3}]
[{"$f":"Feuil2!$G$19","v":"\n621 (+178) Endurance "},null,{"$f":"IF(TYPE(SEARCH(\"(\",A115,1))=16,SEARCH(\"E\",A115,1)+1,SEARCH(\"(\",A115,1))","v":6},{"$f":"REPLACE(MID(A115,1,C115-2),1,1,\"\")","v":"621"},{"$f":"E114+H115","v":34},{"$f":"VALUE(D115)-J115","v":443},1,1,{"$f":"IF(TYPE(SEARCH(\")\",A115,1))=16,K115,SEARCH(\")\",A115,1))","v":11},{"$f":"IF(TYPE(SEARCH(\"(\",A115,1))=16,0,MID(A115,K115,L115))","v":"178"},{"$f":"C115+2","v":8},{"$f":"I115-K115","v":3}]
[{"$f":"Feuil2!$G$21","v":"\n517 (+157) Intelligence "},null,{"$f":"IF(TYPE(SEARCH(\"(\",A116,1))=16,SEARCH(\"I\",A116,1)+1,SEARCH(\"(\",A116,1))","v":6},{"$f":"REPLACE(MID(A116,1,C116-2),1,1,\"\")","v":"517"},{"$f":"E115+H116","v":35},{"$f":"VALUE(D116)-J116","v":360},1,1,{"$f":"IF(TYPE(SEARCH(\")\",A116,1))=16,K116,SEARCH(\")\",A116,1))","v":11},{"$f":"IF(TYPE(SEARCH(\"(\",A116,1))=16,0,MID(A116,K116,L116))","v":"157"},{"$f":"C116+2","v":8},{"$f":"I116-K116","v":3}]
[{"$f":"Feuil2!$G$24","v":0},null,{"$f":"SEARCH(\"E\",A117,1)","v":{"$error":"#VALUE!"}},{"$f":"REPLACE(MID(A117,1,C117-1),1,1,\"\")","v":{"$error":"#VALUE!"}}]
[{"$f":"Feuil2!$G$26","v":0},null,{"$f":"SEARCH(\"M\",A118,1)","v":{"$error":"#VALUE!"}},{"$f":"REPLACE(MID(A118,1,C118-1),1,1,\"\")","v":{"$error":"#VALUE!"}}]
[]
[{"$f":"Feuil2!$H$3","v":"australie 11 "}]
[{"$f":"Feuil2!$H$7","v":"\n\n8"},null,{"$f":"A120","v":"australie 11 "}]
[{"$f":"Feuil2!$H$9","v":"\n19,461K122726Potentiel"},null,null,{"$f":"P122","v":"1227"},null,{"$f":"VALUE(D122)","v":1227},{"$f":"TYPE(F122)","v":1},{"$f":"IF(G122=1,1,0)","v":1},{"$f":"IF(TYPE(SEARCH(\"/\",A122,1))=16,SEARCH(\"Potentiel\",A122,1),SEARCH(\"/\",A122,1))","v":15},{"$f":"IF(TYPE(SEARCH(\",\",A122,1))=16,0,SEARCH(\",\",A122,1))","v":4},{"$f":"IF(TYPE(SEARCH(\",\",A122,J122+1))=1,SEARCH(\",\",A122,J122+1),J122)","v":4},null,{"$f":"IF(TYPE(SEARCH(\",\",A122,K122+1))=1,SEARCH(\",\",A122,K122+1),K122)+IF(Q122=1,1,0)","v":5},{"$f":"IF(TYPE(SEARCH(\",\",#REF!,M122+1))=1,SEARCH(\",\",#REF!,M122+1),M122)","v":5},{"$f":"IF(I122-2-(N122+4)<0,0,I122-2-(N122+4)-IF(TYPE(SEARCH(\"/\",A122,1))=16,0,4))","v":4},{"$f":"IF(MID(A122,N122+4,O122)=\"\",0,MID(A122,N122+4,O122))","v":"1227"},{"$f":"TYPE(SEARCH(\"K\",A122,1))","v":1}]
[{"$f":"Feuil2!$H$13","v":"\n575 (+181)Force"},null,{"$f":"IF(TYPE(SEARCH(\"(\",A123,1))=16,SEARCH(\"F\",A123,1)+1,SEARCH(\"(\",A123,1))","v":6},{"$f":"REPLACE(MID(A123,1,C123-2),1,1,\"\")","v":"575"},{"$f":"E116+H123","v":36},{"$f":"VALUE(D123)-J123","v":394},{"$f":"TYPE(F123)","v":1},{"$f":"IF(G123=1,1,0)","v":1},{"$f":"IF(TYPE(SEARCH(\")\",A123,1))=16,K123,SEARCH(\")\",A123,1))","v":11},{"$f":"IF(TYPE(SEARCH(\")\",A123,1))=16,0,MID(A123,K123,L123))","v":"181"},{"$f":"C123+2","v":8},{"$f":"I123-K123","v":3},null,null,null,{"$f":"P122","v":"1227"}]
[{"$f":"Feuil2!$H$15","v":"\n592 (+145) Habileté "},null,{"$f":"IF(TYPE(SEARCH(\"(\",A124,1))=16,SEARCH(\"H\",A124,1)+1,SEARCH(\"(\",A124,1))","v":6},{"$f":"REPLACE(MID(A124,1,C124-2),1,1,\"\")","v":"592"},{"$f":"E123+H124","v":37},{"$f":"VALUE(D124)-J124","v":447},1,1,{"$f":"IF(TYPE(SEARCH(\")\",A124,1))=16,K124,SEARCH(\")\",A124,1))","v":11},{"$f":"IF(TYPE(SEARCH(\"(\",A124,1))=16,0,MID(A124,K124,L124))","v":"145"},{"$f":"C124+2","v":8},{"$f":"I124-K124","v":3}]
[{"$f":"Feuil2!$H$17","v":"\n642 (+141) Vitesse "},null,{"$f":"IF(TYPE(SEARCH(\"(\",A125,1))=16,SEARCH(\"V\",A125,1)+1,SEARCH(\"(\",A125,1))","v":6},{"$f":"REPLACE(MID(A125,1,C125-2),1,1,\"\")","v":"642"},{"$f":"E124+H125","v":38},{"$f":"VALUE(D125)-J125","v":501},1,1,{"$f":"IF(TYPE(SEARCH(\")\",A125,1))=16,K125,SEARCH(\")\",A125,1))","v":11},{"$f":"IF(TYPE(SEARCH(\"(\",A125,1))=16,0,MID(A125,K125,L125))","v":"141"},{"$f":"C125+2","v":8},{"$f":"I125-K125","v":3}]
[{"$f":"Feuil2!$H$19","v":"\n590 (+130) Endurance "},null,{"$f":"IF(TYPE(SEARCH(\"(\",A126,1))=16,SEARCH(\"E\",A126,1)+1,SEARCH(\"(\",A126,1))","v":6},{"$f":"REPLACE(MID(A126,1,C126-2),1,1,\"\")","v":"590"},{"$f":"E125+H126","v":39},{"$f":"VALUE(D126)-J126","v":460},1,1,{"$f":"IF(TYPE(SEARCH(\")\",A126,1))=16,K126,SEARCH(\")\",A126,1))","v":11},{"$f":"IF(TYPE(SEARCH(\"(\",A126,1))=16,0,MID(A126,K126,L126))","v":"130"},{"$f":"C126+2","v":8},{"$f":"I126-K126","v":3}]
[{"$f":"Feuil2!$H$21","v":"\n475 (+158) Intelligence "},null,{"$f":"IF(TYPE(SEARCH(\"(\",A127,1))=16,SEARCH(\"I\",A127,1)+1,SEARCH(\"(\",A127,1))","v":6},{"$f":"REPLACE(MID(A127,1,C127-2),1,1,\"\")","v":"475"},{"$f":"E126+H127","v":40},{"$f":"VALUE(D127)-J127","v":317},1,1,{"$f":"IF(TYPE(SEARCH(\")\",A127,1))=16,K127,SEARCH(\")\",A127,1))","v":11},{"$f":"IF(TYPE(SEARCH(\"(\",A127,1))=16,0,MID(A127,K127,L127))","v":"158"},{"$f":"C127+2","v":8},{"$f":"I127-K127","v":3}]
[{"$f":"Feuil2!$H$24","v":0},null,{"$f":"SEARCH(\"E\",A128,1)","v":{"$error":"#VALUE!"}},{"$f":"REPLACE(MID(A128,1,C128-1),1,1,\"\")","v":{"$error":"#VALUE!"}}]
[{"$f":"Feuil2!$H$26","v":0},null,{"$f":"SEARCH(\"M\",A129,1)","v":{"$error":"#VALUE!"}},{"$f":"REPLACE(MID(A129,1,C129-1),1,1,\"\")","v":{"$error":"#VALUE!"}}]
[]
[{"$f":"Feuil2!$I$3","v":"grece 9 "}]
[{"$f":"Feuil2!$I$7","v":"\n\n9"},null,{"$f":"A131","v":"grece 9 "}]
[{"$f":"Feuil2!$I$9","v":"\n18,239K92024Potentiel"},null,null,{"$f":"P133","v":"920"},null,{"$f":"VALUE(D133)","v":920},{"$f":"TYPE(F133)","v":1},{"$f":"IF(G133=1,1,0)","v":1},{"$f":"IF(TYPE(SEARCH(\"/\",A133,1))=16,SEARCH(\"Potentiel\",A133,1),SEARCH(\"/\",A133,1))","v":14},{"$f":"IF(TYPE(SEARCH(\",\",A133,1))=16,0,SEARCH(\",\",A133,1))","v":4},{"$f":"IF(TYPE(SEARCH(\",\",A133,J133+1))=1,SEARCH(\",\",A133,J133+1),J133)","v":4},null,{"$f":"IF(TYPE(SEARCH(\",\",A133,K133+1))=1,SEARCH(\",\",A133,K133+1),K133)+IF(Q133=1,1,0)","v":5},{"$f":"IF(TYPE(SEARCH(\",\",#REF!,M133+1))=1,SEARCH(\",\",#REF!,M133+1),M133)","v":5},{"$f":"IF(I133-2-(N133+4)<0,0,I133-2-(N133+4)-IF(TYPE(SEARCH(\"/\",A133,1))=16,0,4))","v":3},{"$f":"IF(MID(A133,N133+4,O133)=\"\",0,MID(A133,N133+4,O133))","v":"920"},{"$f":"TYPE(SEARCH(\"K\",A133,1))","v":1}]
[{"$f":"Feuil2!$I$13","v":"\n577 (+189)Force"},null,{"$f":"IF(TYPE(SEARCH(\"(\",A134,1))=16,SEARCH(\"F\",A134,1)+1,SEARCH(\"(\",A134,1))","v":6},{"$f":"REPLACE(MID(A134,1,C134-2),1,1,\"\")","v":"577"},{"$f":"E127+H134","v":41},{"$f":"VALUE(D134)-J134","v":388},{"$f":"TYPE(F134)","v":1},{"$f":"IF(G134=1,1,0)","v":1},{"$f":"IF(TYPE(SEARCH(\")\",A134,1))=16,K134,SEARCH(\")\",A134,1))","v":11},{"$f":"IF(TYPE(SEARCH(\")\",A134,1))=16,0,MID(A134,K134,L134))","v":"189"},{"$f":"C134+2","v":8},{"$f":"I134-K134","v":3},null,null,null,{"$f":"P133","v":"920"}]
[{"$f":"Feuil2!$I$15","v":"\n663 (+190) Habileté "},null,{"$f":"IF(TYPE(SEARCH(\"(\",A135,1))=16,SEARCH(\"H\",A135,1)+1,SEARCH(\"(\",A135,1))","v":6},{"$f":"REPLACE(MID(A135,1,C135-2),1,1,\"\")","v":"663"},{"$f":"E134+H135","v":42},{"$f":"VALUE(D135)-J135","v":473},1,1,{"$f":"IF(TYPE(SEARCH(\")\",A135,1))=16,K135,SEARCH(\")\",A135,1))","v":11},{"$f":"IF(TYPE(SEARCH(\"(\",A135,1))=16,0,MID(A135,K135,L135))","v":"190"},{"$f":"C135+2","v":8},{"$f":"I135-K135","v":3}]
[{"$f":"Feuil2!$I$17","v":"\n623 (+180) Vitesse "},null,{"$f":"IF(TYPE(SEARCH(\"(\",A136,1))=16,SEARCH(\"V\",A136,1)+1,SEARCH(\"(\",A136,1))","v":6},{"$f":"REPLACE(MID(A136,1,C136-2),1,1,\"\")","v":"623"},{"$f":"E135+H136","v":43},{"$f":"VALUE(D136)-J136","v":443},1,1,{"$f":"IF(TYPE(SEARCH(\")\",A136,1))=16,K136,SEARCH(\")\",A136,1))","v":11},{"$f":"IF(TYPE(SEARCH(\"(\",A136,1))=16,0,MID(A136,K136,L136))","v":"180"},{"$f":"C136+2","v":8},{"$f":"I136-K136","v":3}]
[{"$f":"Feuil2!$I$19","v":"\n499 (+174) Endurance "},null,{"$f":"IF(TYPE(SEARCH(\"(\",A137,1))=16,SEARCH(\"E\",A137,1)+1,SEARCH(\"(\",A137,1))","v":6},{"$f":"REPLACE(MID(A137,1,C137-2),1,1,\"\")","v":"499"},{"$f":"E136+H137","v":44},{"$f":"VALUE(D137)-J137","v":325},1,1,{"$f":"IF(TYPE(SEARCH(\")\",A137,1))=16,K137,SEARCH(\")\",A137,1))","v":11},{"$f":"IF(TYPE(SEARCH(\"(\",A137,1))=16,0,MID(A137,K137,L137))","v":"174"},{"$f":"C137+2","v":8},{"$f":"I137-K137","v":3}]
[{"$f":"Feuil2!$I$21","v":"\n400 (+116) Intelligence "},null,{"$f":"IF(TYPE(SEARCH(\"(\",A138,1))=16,SEARCH(\"I\",A138,1)+1,SEARCH(\"(\",A138,1))","v":6},{"$f":"REPLACE(MID(A138,1,C138-2),1,1,\"\")","v":"400"},{"$f":"E137+H138","v":45},{"$f":"VALUE(D138)-J138","v":284},1,1,{"$f":"IF(TYPE(SEARCH(\")\",A138,1))=16,K138,SEARCH(\")\",A138,1))","v":11},{"$f":"IF(TYPE(SEARCH(\"(\",A138,1))=16,0,MID(A138,K138,L138))","v":"116"},{"$f":"C138+2","v":8},{"$f":"I138-K138","v":3}]
[{"$f":"Feuil2!$I$24","v":0},null,{"$f":"SEARCH(\"E\",A139,1)","v":{"$error":"#VALUE!"}},{"$f":"REPLACE(MID(A139,1,C139-1),1,1,\"\")","v":{"$error":"#VALUE!"}}]
[{"$f":"Feuil2!$I$26","v":0},null,{"$f":"SEARCH(\"M\",A140,1)","v":{"$error":"#VALUE!"}},{"$f":"REPLACE(MID(A140,1,C140-1),1,1,\"\")","v":{"$error":"#VALUE!"}}]
[]
[{"$f":"Feuil2!$J$3","v":"nigeria 8 "}]
[{"$f":"Feuil2!$J$7","v":"\n\n10"},null,{"$f":"A142","v":"nigeria 8 "}]
[{"$f":"Feuil2!$J$9","v":"\n20,229K114325Potentiel"},null,null,{"$f":"P144","v":"1143"},null,{"$f":"VALUE(D144)","v":1143},{"$f":"TYPE(F144)","v":1},{"$f":"IF(G144=1,1,0)","v":1},{"$f":"IF(TYPE(SEARCH(\"/\",A144,1))=16,SEARCH(\"Potentiel\",A144,1),SEARCH(\"/\",A144,1))","v":15},{"$f":"IF(TYPE(SEARCH(\",\",A144,1))=16,0,SEARCH(\",\",A144,1))","v":4},{"$f":"IF(TYPE(SEARCH(\",\",A144,J144+1))=1,SEARCH(\",\",A144,J144+1),J144)","v":4},null,{"$f":"IF(TYPE(SEARCH(\",\",A144,K144+1))=1,SEARCH(\",\",A144,K144+1),K144)+IF(Q144=1,1,0)","v":5},{"$f":"IF(TYPE(SEARCH(\",\",#REF!,M144+1))=1,SEARCH(\",\",#REF!,M144+1),M144)","v":5},{"$f":"IF(I144-2-(N144+4)<0,0,I144-2-(N144+4)-IF(TYPE(SEARCH(\"/\",A144,1))=16,0,4))","v":4},{"$f":"IF(MID(A144,N144+4,O144)=\"\",0,MID(A144,N144+4,O144))","v":"1143"},{"$f":"TYPE(SEARCH(\"K\",A144,1))","v":1}]
[{"$f":"Feuil2!$J$13","v":"\n574 (+127)Force"},null,{"$f":"IF(TYPE(SEARCH(\"(\",A145,1))=16,SEARCH(\"F\",A145,1)+1,SEARCH(\"(\",A145,1))","v":6},{"$f":"REPLACE(MID(A145,1,C145-2),1,1,\"\")","v":"574"},{"$f":"E138+H145","v":46},{"$f":"VALUE(D145)-J145","v":447},{"$f":"TYPE(F145)","v":1},{"$f":"IF(G145=1,1,0)","v":1},{"$f":"IF(TYPE(SEARCH(\")\",A145,1))=16,K145,SEARCH(\")\",A145,1))","v":11},{"$f":"IF(TYPE(SEARCH(\")\",A145,1))=16,0,MID(A145,K145,L145))","v":"127"},{"$f":"C145+2","v":8},{"$f":"I145-K145","v":3},null,null,null,{"$f":"P144","v":"1143"}]
[{"$f":"Feuil2!$J$15","v":"\n646 (+193) Habileté "},null,{"$f":"IF(TYPE(SEARCH(\"(\",A146,1))=16,SEARCH(\"H\",A146,1)+1,SEARCH(\"(\",A146,1))","v":6},{"$f":"REPLACE(MID(A146,1,C146-2),1,1,\"\")","v":"646"},{"$f":"E145+H146","v":47},{"$f":"VALUE(D146)-J146","v":453},1,1,{"$f":"IF(TYPE(SEARCH(\")\",A146,1))=16,K146,SEARCH(\")\",A146,1))","v":11},{"$f":"IF(TYPE(SEARCH(\"(\",A146,1))=16,0,MID(A146,K146,L146))","v":"193"},{"$f":"C146+2","v":8},{"$f":"I146-K146","v":3}]
[{"$f":"Feuil2!$J$17","v":"\n606 (+170) Vitesse "},null,{"$f":"IF(TYPE(SEARCH(\"(\",A147,1))=16,SEARCH(\"V\",A147,1)+1,SEARCH(\"(\",A147,1))","v":6},{"$f":"REPLACE(MID(A147,1,C147-2),1,1,\"\")","v":"606"},{"$f":"E146+H147","v":48},{"$f":"VALUE(D147)-J147","v":436},1,1,{"$f":"IF(TYPE(SEARCH(\")\",A147,1))=16,K147,SEARCH(\")\",A147,1))","v":11},{"$f":"IF(TYPE(SEARCH(\"(\",A147,1))=16,0,MID(A147,K147,L147))","v":"170"},{"$f":"C147+2","v":8},{"$f":"I147-K147","v":3}]
[{"$f":"Feuil2!$J$19","v":"\n617 (+174) Endurance "},null,{"$f":"IF(TYPE(SEARCH(\"(\",A148,1))=16,SEARCH(\"E\",A148,1)+1,SEARCH(\"(\",A148,1))","v":6},{"$f":"REPLACE(MID(A148,1,C148-2),1,1,\"\")","v":"617"},{"$f":"E147+H148","v":49},{"$f":"VALUE(D148)-J148","v":443},1,1,{"$f":"IF(TYPE(SEARCH(\")\",A148,1))=16,K148,SEARCH(\")\",A148,1))","v":11},{"$f":"IF(TYPE(SEARCH(\"(\",A148,1))=16,0,MID(A148,K148,L148))","v":"174"},{"$f":"C148+2","v":8},{"$f":"I148-K148","v":3}]
[{"$f":"Feuil2!$J$21","v":"\n528 (+169) Intelligence "},null,{"$f":"IF(TYPE(SEARCH(\"(\",A149,1))=16,SEARCH(\"I\",A149,1)+1,SEARCH(\"(\",A149,1))","v":6},{"$f":"REPLACE(MID(A149,1,C149-2),1,1,\"\")","v":"528"},{"$f":"E148+H149","v":50},{"$f":"VALUE(D149)-J149","v":359},1,1,{"$f":"IF(TYPE(SEARCH(\")\",A149,1))=16,K149,SEARCH(\")\",A149,1))","v":11},{"$f":"IF(TYPE(SEARCH(\"(\",A149,1))=16,0,MID(A149,K149,L149))","v":"169"},{"$f":"C149+2","v":8},{"$f":"I149-K149","v":3}]
[{"$f":"Feuil2!$J$24","v":0},null,{"$f":"SEARCH(\"E\",A150,1)","v":{"$error":"#VALUE!"}},{"$f":"REPLACE(MID(A150,1,C150-1),1,1,\"\")","v":{"$error":"#VALUE!"}}]
[{"$f":"Feuil2!$J$26","v":0},null,{"$f":"SEARCH(\"M\",A151,1)","v":{"$error":"#VALUE!"}},{"$f":"REPLACE(MID(A151,1,C151-1),1,1,\"\")","v":{"$error":"#VALUE!"}}]
[]
[{"$f":"Feuil2!$K$3","v":"slovaquie 8 "}]
[{"$f":"Feuil2!$K$7","v":"\n\n11"},null,{"$f":"A153","v":"slovaquie 8 "}]
[{"$f":"Feuil2!$K$9","v":"\n17,894K126625Potentiel"},null,null,{"$f":"P155","v":"1266"},null,{"$f":"VALUE(D155)","v":1266},{"$f":"TYPE(F155)","v":1},{"$f":"IF(G155=1,1,0)","v":1},{"$f":"IF(TYPE(SEARCH(\"/\",A155,1))=16,SEARCH(\"Potentiel\",A155,1),SEARCH(\"/\",A155,1))","v":15},{"$f":"IF(TYPE(SEARCH(\",\",A155,1))=16,0,SEARCH(\",\",A155,1))","v":4},{"$f":"IF(TYPE(SEARCH(\",\",A155,J155+1))=1,SEARCH(\",\",A155,J155+1),J155)","v":4},null,{"$f":"IF(TYPE(SEARCH(\",\",A155,K155+1))=1,SEARCH(\",\",A155,K155+1),K155)+IF(Q155=1,1,0)","v":5},{"$f":"IF(TYPE(SEARCH(\",\",#REF!,M155+1))=1,SEARCH(\",\",#REF!,M155+1),M155)","v":5},{"$f":"IF(I155-2-(N155+4)<0,0,I155-2-(N155+4)-IF(TYPE(SEARCH(\"/\",A155,1))=16,0,4))","v":4},{"$f":"IF(MID(A155,N155+4,O155)=\"\",0,MID(A155,N155+4,O155))","v":"1266"},{"$f":"TYPE(SEARCH(\"K\",A155,1))","v":1}]
[{"$f":"Feuil2!$K$13","v":"\n539 (+151)Force"},null,{"$f":"IF(TYPE(SEARCH(\"(\",A156,1))=16,SEARCH(\"F\",A156,1)+1,SEARCH(\"(\",A156,1))","v":6},{"$f":"REPLACE(MID(A156,1,C156-2),1,1,\"\")","v":"539"},{"$f":"E149+H156","v":51},{"$f":"VALUE(D156)-J156","v":388},{"$f":"TYPE(F156)","v":1},{"$f":"IF(G156=1,1,0)","v":1},{"$f":"IF(TYPE(SEARCH(\")\",A156,1))=16,K156,SEARCH(\")\",A156,1))","v":11},{"$f":"IF(TYPE(SEARCH(\")\",A156,1))=16,0,MID(A156,K156,L156))","v":"151"},{"$f":"C156+2","v":8},{"$f":"I156-K156","v":3},null,null,null,{"$f":"P155","v":"1266"}]
[{"$f":"Feuil2!$K$15","v":"\n601 (+125) Habileté "},null,{"$f":"IF(TYPE(SEARCH(\"(\",A157,1))=16,SEARCH(\"H\",A157,1)+1,SEARCH(\"(\",A157,1))","v":6},{"$f":"REPLACE(MID(A157,1,C157-2),1,1,\"\")","v":"601"},{"$f":"E156+H157","v":52},{"$f":"VALUE(D157)-J157","v":476},1,1,{"$f":"IF(TYPE(SEARCH(\")\",A157,1))=16,K157,SEARCH(\")\",A157,1))","v":11},{"$f":"IF(TYPE(SEARCH(\"(\",A157,1))=16,0,MID(A157,K157,L157))","v":"125"},{"$f":"C157+2","v":8},{"$f":"I157-K157","v":3}]
[{"$f":"Feuil2!$K$17","v":"\n576 (+141) Vitesse "},null,{"$f":"IF(TYPE(SEARCH(\"(\",A158,1))=16,SEARCH(\"V\",A158,1)+1,SEARCH(\"(\",A158,1))","v":6},{"$f":"REPLACE(MID(A158,1,C158-2),1,1,\"\")","v":"576"},{"$f":"E157+H158","v":53},{"$f":"VALUE(D158)-J158","v":435},1,1,{"$f":"IF(TYPE(SEARCH(\")\",A158,1))=16,K158,SEARCH(\")\",A158,1))","v":11},{"$f":"IF(TYPE(SEARCH(\"(\",A158,1))=16,0,MID(A158,K158,L158))","v":"141"},{"$f":"C158+2","v":8},{"$f":"I158-K158","v":3}]
[{"$f":"Feuil2!$K$19","v":"\n584 (+127) Endurance "},null,{"$f":"IF(TYPE(SEARCH(\"(\",A159,1))=16,SEARCH(\"E\",A159,1)+1,SEARCH(\"(\",A159,1))","v":6},{"$f":"REPLACE(MID(A159,1,C159-2),1,1,\"\")","v":"584"},{"$f":"E158+H159","v":54},{"$f":"VALUE(D159)-J159","v":457},1,1,{"$f":"IF(TYPE(SEARCH(\")\",A159,1))=16,K159,SEARCH(\")\",A159,1))","v":11},{"$f":"IF(TYPE(SEARCH(\"(\",A159,1))=16,0,MID(A159,K159,L159))","v":"127"},{"$f":"C159+2","v":8},{"$f":"I159-K159","v":3}]
[{"$f":"Feuil2!$K$21","v":"\n442 (+158) Intelligence "},null,{"$f":"IF(TYPE(SEARCH(\"(\",A160,1))=16,SEARCH(\"I\",A160,1)+1,SEARCH(\"(\",A160,1))","v":6},{"$f":"REPLACE(MID(A160,1,C160-2),1,1,\"\")","v":"442"},{"$f":"E159+H160","v":55},{"$f":"VALUE(D160)-J160","v":284},1,1,{"$f":"IF(TYPE(SEARCH(\")\",A160,1))=16,K160,SEARCH(\")\",A160,1))","v":11},{"$f":"IF(TYPE(SEARCH(\"(\",A160,1))=16,0,MID(A160,K160,L160))","v":"158"},{"$f":"C160+2","v":8},{"$f":"I160-K160","v":3}]
[{"$f":"Feuil2!$K$24","v":0},null,{"$f":"SEARCH(\"E\",A161,1)","v":{"$error":"#VALUE!"}},{"$f":"REPLACE(MID(A161,1,C161-1),1,1,\"\")","v":{"$error":"#VALUE!"}}]
[{"$f":"Feuil2!$K$26","v":0},null,{"$f":"SEARCH(\"M\",A162,1)","v":{"$error":"#VALUE!"}},{"$f":"REPLACE(MID(A162,1,C162-1),1,1,\"\")","v":{"$error":"#VALUE!"}}]
[]
[{"$f":"Feuil2!$L$3","v":"afrique du sud 4 "}]
[{"$f":"Feuil2!$L$7","v":"\n\nR"},null,{"$f":"A164","v":"afrique du sud 4 "}]
[{"$f":"Feuil2!$L$9","v":"\n15,139K125426Potentiel"},null,null,{"$f":"P166","v":"1254"},null,{"$f":"VALUE(D166)","v":1254},{"$f":"TYPE(F166)","v":1},{"$f":"IF(G166=1,1,0)","v":1},{"$f":"IF(TYPE(SEARCH(\"/\",A166,1))=16,SEARCH(\"Potentiel\",A166,1),SEARCH(\"/\",A166,1))","v":15},{"$f":"IF(TYPE(SEARCH(\",\",A166,1))=16,0,SEARCH(\",\",A166,1))","v":4},{"$f":"IF(TYPE(SEARCH(\",\",A166,J166+1))=1,SEARCH(\",\",A166,J166+1),J166)","v":4},null,{"$f":"IF(TYPE(SEARCH(\",\",A166,K166+1))=1,SEARCH(\",\",A166,K166+1),K166)+IF(Q166=1,1,0)","v":5},{"$f":"IF(TYPE(SEARCH(\",\",#REF!,M166+1))=1,SEARCH(\",\",#REF!,M166+1),M166)","v":5},{"$f":"IF(I166-2-(N166+4)<0,0,I166-2-(N166+4)-IF(TYPE(SEARCH(\"/\",A166,1))=16,0,4))","v":4},{"$f":"IF(MID(A166,N166+4,O166)=\"\",0,MID(A166,N166+4,O166))","v":"1254"},{"$f":"TYPE(SEARCH(\"K\",A166,1))","v":1}]
[{"$f":"Feuil2!$L$13","v":"\n585 (+128)Force"},null,{"$f":"IF(TYPE(SEARCH(\"(\",A167,1))=16,SEARCH(\"F\",A167,1)+1,SEARCH(\"(\",A167,1))","v":6},{"$f":"REPLACE(MID(A167,1,C167-2),1,1,\"\")","v":"585"},{"$f":"E160+H167","v":56},{"$f":"VALUE(D167)-J167","v":457},{"$f":"TYPE(F167)","v":1},{"$f":"IF(G167=1,1,0)","v":1},{"$f":"IF(TYPE(SEARCH(\")\",A167,1))=16,K167,SEARCH(\")\",A167,1))","v":11},{"$f":"IF(TYPE(SEARCH(\")\",A167,1))=16,0,MID(A167,K167,L167))","v":"128"},{"$f":"C167+2","v":8},{"$f":"I167-K167","v":3},null,null,null,{"$f":"P166","v":"1254"}]
[{"$f":"Feuil2!$L$15","v":"\n310 (+80) Habileté "},null,{"$f":"IF(TYPE(SEARCH(\"(\",A168,1))=16,SEARCH(\"H\",A168,1)+1,SEARCH(\"(\",A168,1))","v":6},{"$f":"REPLACE(MID(A168,1,C168-2),1,1,\"\")","v":"310"},{"$f":"E167+H168","v":57},{"$f":"VALUE(D168)-J168","v":230},1,1,{"$f":"IF(TYPE(SEARCH(\")\",A168,1))=16,K168,SEARCH(\")\",A168,1))","v":10},{"$f":"IF(TYPE(SEARCH(\"(\",A168,1))=16,0,MID(A168,K168,L168))","v":"80"},{"$f":"C168+2","v":8},{"$f":"I168-K168","v":2}]
[{"$f":"Feuil2!$L$17","v":"\n572 (+118) Vitesse "},null,{"$f":"IF(TYPE(SEARCH(\"(\",A169,1))=16,SEARCH(\"V\",A169,1)+1,SEARCH(\"(\",A169,1))","v":6},{"$f":"REPLACE(MID(A169,1,C169-2),1,1,\"\")","v":"572"},{"$f":"E168+H169","v":58},{"$f":"VALUE(D169)-J169","v":454},1,1,{"$f":"IF(TYPE(SEARCH(\")\",A169,1))=16,K169,SEARCH(\")\",A169,1))","v":11},{"$f":"IF(TYPE(SEARCH(\"(\",A169,1))=16,0,MID(A169,K169,L169))","v":"118"},{"$f":"C169+2","v":8},{"$f":"I169-K169","v":3}]
[{"$f":"Feuil2!$L$19","v":"\n421 (+65) Endurance "},null,{"$f":"IF(TYPE(SEARCH(\"(\",A170,1))=16,SEARCH(\"E\",A170,1)+1,SEARCH(\"(\",A170,1))","v":6},{"$f":"REPLACE(MID(A170,1,C170-2),1,1,\"\")","v":"421"},{"$f":"E169+H170","v":59},{"$f":"VALUE(D170)-J170","v":356},1,1,{"$f":"IF(TYPE(SEARCH(\")\",A170,1))=16,K170,SEARCH(\")\",A170,1))","v":10},{"$f":"IF(TYPE(SEARCH(\"(\",A170,1))=16,0,MID(A170,K170,L170))","v":"65"},{"$f":"C170+2","v":8},{"$f":"I170-K170","v":2}]
[{"$f":"Feuil2!$L$21","v":"\n310 (+64) Intelligence "},null,{"$f":"IF(TYPE(SEARCH(\"(\",A171,1))=16,SEARCH(\"I\",A171,1)+1,SEARCH(\"(\",A171,1))","v":6},{"$f":"REPLACE(MID(A171,1,C171-2),1,1,\"\")","v":"310"},{"$f":"E170+H171","v":60},{"$f":"VALUE(D171)-J171","v":246},1,1,{"$f":"IF(TYPE(SEARCH(\")\",A171,1))=16,K171,SEARCH(\")\",A171,1))","v":10},{"$f":"IF(TYPE(SEARCH(\"(\",A171,1))=16,0,MID(A171,K171,L171))","v":"64"},{"$f":"C171+2","v":8},{"$f":"I171-K171","v":2}]
[{"$f":"Feuil2!$L$24","v":0},null,{"$f":"SEARCH(\"E\",A172,1)","v":{"$error":"#VALUE!"}},{"$f":"REPLACE(MID(A172,1,C172-1),1,1,\"\")","v":{"$error":"#VALUE!"}}]
[{"$f":"Feuil2!$L$26","v":0},null,{"$f":"SEARCH(\"M\",A173,1)","v":{"$error":"#VALUE!"}},{"$f":"REPLACE(MID(A173,1,C173-1),1,1,\"\")","v":{"$error":"#VALUE!"}}]
[]
[{"$f":"Feuil2!$M$3","v":"allemagne 11 "}]
[{"$f":"Feuil2!$M$7","v":"\n\nR"},null,{"$f":"A175","v":"allemagne 11 "}]
[{"$f":"Feuil2!$M$9","v":"\n19,135K140126Potentiel"},null,null,{"$f":"P177","v":"1401"},null,{"$f":"VALUE(D177)","v":1401},{"$f":"TYPE(F177)","v":1},{"$f":"IF(G177=1,1,0)","v":1},{"$f":"IF(TYPE(SEARCH(\"/\",A177,1))=16,SEARCH(\"Potentiel\",A177,1),SEARCH(\"/\",A177,1))","v":15},{"$f":"IF(TYPE(SEARCH(\",\",A177,1))=16,0,SEARCH(\",\",A177,1))","v":4},{"$f":"IF(TYPE(SEARCH(\",\",A177,J177+1))=1,SEARCH(\",\",A177,J177+1),J177)","v":4},null,{"$f":"IF(TYPE(SEARCH(\",\",A177,K177+1))=1,SEARCH(\",\",A177,K177+1),K177)+IF(Q177=1,1,0)","v":5},{"$f":"IF(TYPE(SEARCH(\",\",#REF!,M177+1))=1,SEARCH(\",\",#REF!,M177+1),M177)","v":5},{"$f":"IF(I177-2-(N177+4)<0,0,I177-2-(N177+4)-IF(TYPE(SEARCH(\"/\",A177,1))=16,0,4))","v":4},{"$f":"IF(MID(A177,N177+4,O177)=\"\",0,MID(A177,N177+4,O177))","v":"1401"},{"$f":"TYPE(SEARCH(\"K\",A177,1))","v":1}]
[{"$f":"Feuil2!$M$13","v":"\n522 (+118)Force"},null,{"$f":"IF(TYPE(SEARCH(\"(\",A178,1))=16,SEARCH(\"F\",A178,1)+1,SEARCH(\"(\",A178,1))","v":6},{"$f":"REPLACE(MID(A178,1,C178-2),1,1,\"\")","v":"522"},{"$f":"E171+H178","v":61},{"$f":"VALUE(D178)-J178","v":404},{"$f":"TYPE(F178)","v":1},{"$f":"IF(G178=1,1,0)","v":1},{"$f":"IF(TYPE(SEARCH(\")\",A178,1))=16,K178,SEARCH(\")\",A178,1))","v":11},{"$f":"IF(TYPE(SEARCH(\")\",A178,1))=16,0,MID(A178,K178,L178))","v":"118"},{"$f":"C178+2","v":8},{"$f":"I178-K178","v":3},null,null,null,{"$f":"P177","v":"1401"}]
[{"$f":"Feuil2!$M$15","v":"\n623 (+196) Habileté "},null,{"$f":"IF(TYPE(SEARCH(\"(\",A179,1))=16,SEARCH(\"H\",A179,1)+1,SEARCH(\"(\",A179,1))","v":6},{"$f":"REPLACE(MID(A179,1,C179-2),1,1,\"\")","v":"623"},{"$f":"E178+H179","v":62},{"$f":"VALUE(D179)-J179","v":427},1,1,{"$f":"IF(TYPE(SEARCH(\")\",A179,1))=16,K179,SEARCH(\")\",A179,1))","v":11},{"$f":"IF(TYPE(SEARCH(\"(\",A179,1))=16,0,MID(A179,K179,L179))","v":"196"},{"$f":"C179+2","v":8},{"$f":"I179-K179","v":3}]
[{"$f":"Feuil2!$M$17","v":"\n604 (+157) Vitesse "},null,{"$f":"IF(TYPE(SEARCH(\"(\",A180,1))=16,SEARCH(\"V\",A180,1)+1,SEARCH(\"(\",A180,1))","v":6},{"$f":"REPLACE(MID(A180,1,C180-2),1,1,\"\")","v":"604"},{"$f":"E179+H180","v":63},{"$f":"VALUE(D180)-J180","v":447},1,1,{"$f":"IF(TYPE(SEARCH(\")\",A180,1))=16,K180,SEARCH(\")\",A180,1))","v":11},{"$f":"IF(TYPE(SEARCH(\"(\",A180,1))=16,0,MID(A180,K180,L180))","v":"157"},{"$f":"C180+2","v":8},{"$f":"I180-K180","v":3}]
[{"$f":"Feuil2!$M$19","v":"\n586 (+137) Endurance "},null,{"$f":"IF(TYPE(SEARCH(\"(\",A181,1))=16,SEARCH(\"E\",A181,1)+1,SEARCH(\"(\",A181,1))","v":6},{"$f":"REPLACE(MID(A181,1,C181-2),1,1,\"\")","v":"586"},{"$f":"E180+H181","v":64},{"$f":"VALUE(D181)-J181","v":449},1,1,{"$f":"IF(TYPE(SEARCH(\")\",A181,1))=16,K181,SEARCH(\")\",A181,1))","v":11},{"$f":"IF(TYPE(SEARCH(\"(\",A181,1))=16,0,MID(A181,K181,L181))","v":"137"},{"$f":"C181+2","v":8},{"$f":"I181-K181","v":3}]
[{"$f":"Feuil2!$M$21","v":"\n452 (+114) Intelligence "},null,{"$f":"IF(TYPE(SEARCH(\"(\",A182,1))=16,SEARCH(\"I\",A182,1)+1,SEARCH(\"(\",A182,1))","v":6},{"$f":"REPLACE(MID(A182,1,C182-2),1,1,\"\")","v":"452"},{"$f":"E181+H182","v":65},{"$f":"VALUE(D182)-J182","v":338},1,1,{"$f":"IF(TYPE(SEARCH(\")\",A182,1))=16,K182,SEARCH(\")\",A182,1))","v":11},{"$f":"IF(TYPE(SEARCH(\"(\",A182,1))=16,0,MID(A182,K182,L182))","v":"114"},{"$f":"C182+2","v":8},{"$f":"I182-K182","v":3}]
[{"$f":"Feuil2!$M$24","v":0},null,{"$f":"SEARCH(\"E\",A183,1)","v":{"$error":"#VALUE!"}},{"$f":"REPLACE(MID(A183,1,C183-1),1,1,\"\")","v":{"$error":"#VALUE!"}}]
[{"$f":"Feuil2!$M$26","v":0},null,{"$f":"SEARCH(\"M\",A184,1)","v":{"$error":"#VALUE!"}},{"$f":"REPLACE(MID(A184,1,C184-1),1,1,\"\")","v":{"$error":"#VALUE!"}}]
[]
[{"$f":"Feuil2!$N$3","v":"chili 11 "}]
[{"$f":"Feuil2!$N$7","v":"\n\nR"},null,{"$f":"A186","v":"chili 11 "}]
[{"$f":"Feuil2!$N$9","v":"\n18,070K102425Potentiel"},null,null,{"$f":"P188","v":"1024"},null,{"$f":"VALUE(D188)","v":1024},{"$f":"TYPE(F188)","v":1},{"$f":"IF(G188=1,1,0)","v":1},{"$f":"IF(TYPE(SEARCH(\"/\",A188,1))=16,SEARCH(\"Potentiel\",A188,1),SEARCH(\"/\",A188,1))","v":15},{"$f":"IF(TYPE(SEARCH(\",\",A188,1))=16,0,SEARCH(\",\",A188,1))","v":4},{"$f":"IF(TYPE(SEARCH(\",\",A188,J188+1))=1,SEARCH(\",\",A188,J188+1),J188)","v":4},null,{"$f":"IF(TYPE(SEARCH(\",\",A188,K188+1))=1,SEARCH(\",\",A188,K188+1),K188)+IF(Q188=1,1,0)","v":5},{"$f":"IF(TYPE(SEARCH(\",\",#REF!,M188+1))=1,SEARCH(\",\",#REF!,M188+1),M188)","v":5},{"$f":"IF(I188-2-(N188+4)<0,0,I188-2-(N188+4)-IF(TYPE(SEARCH(\"/\",A188,1))=16,0,4))","v":4},{"$f":"IF(MID(A188,N188+4,O188)=\"\",0,MID(A188,N188+4,O188))","v":"1024"},{"$f":"TYPE(SEARCH(\"K\",A188,1))","v":1}]
[{"$f":"Feuil2!$N$13","v":"\n470 (+145)Force"},null,{"$f":"IF(TYPE(SEARCH(\"(\",A189,1))=16,SEARCH(\"F\",A189,1)+1,SEARCH(\"(\",A189,1))","v":6},{"$f":"REPLACE(MID(A189,1,C189-2),1,1,\"\")","v":"470"},{"$f":"E182+H189","v":66},{"$f":"VALUE(D189)-J189","v":325},{"$f":"TYPE(F189)","v":1},{"$f":"IF(G189=1,1,0)","v":1},{"$f":"IF(TYPE(SEARCH(\")\",A189,1))=16,K189,SEARCH(\")\",A189,1))","v":11},{"$f":"IF(TYPE(SEARCH(\")\",A189,1))=16,0,MID(A189,K189,L189))","v":"145"},{"$f":"C189+2","v":8},{"$f":"I189-K189","v":3},null,null,null,{"$f":"P188","v":"1024"}]
[{"$f":"Feuil2!$N$15","v":"\n589 (+176) Habileté "},null,{"$f":"IF(TYPE(SEARCH(\"(\",A190,1))=16,SEARCH(\"H\",A190,1)+1,SEARCH(\"(\",A190,1))","v":6},{"$f":"REPLACE(MID(A190,1,C190-2),1,1,\"\")","v":"589"},{"$f":"E189+H190","v":67},{"$f":"VALUE(D190)-J190","v":413},1,1,{"$f":"IF(TYPE(SEARCH(\")\",A190,1))=16,K190,SEARCH(\")\",A190,1))","v":11},{"$f":"IF(TYPE(SEARCH(\"(\",A190,1))=16,0,MID(A190,K190,L190))","v":"176"},{"$f":"C190+2","v":8},{"$f":"I190-K190","v":3}]
[{"$f":"Feuil2!$N$17","v":"\n612 (+171) Vitesse "},null,{"$f":"IF(TYPE(SEARCH(\"(\",A191,1))=16,SEARCH(\"V\",A191,1)+1,SEARCH(\"(\",A191,1))","v":6},{"$f":"REPLACE(MID(A191,1,C191-2),1,1,\"\")","v":"612"},{"$f":"E190+H191","v":68},{"$f":"VALUE(D191)-J191","v":441},1,1,{"$f":"IF(TYPE(SEARCH(\")\",A191,1))=16,K191,SEARCH(\")\",A191,1))","v":11},{"$f":"IF(TYPE(SEARCH(\"(\",A191,1))=16,0,MID(A191,K191,L191))","v":"171"},{"$f":"C191+2","v":8},{"$f":"I191-K191","v":3}]
[{"$f":"Feuil2!$N$19","v":"\n581 (+163) Endurance "},null,{"$f":"IF(TYPE(SEARCH(\"(\",A192,1))=16,SEARCH(\"E\",A192,1)+1,SEARCH(\"(\",A192,1))","v":6},{"$f":"REPLACE(MID(A192,1,C192-2),1,1,\"\")","v":"581"},{"$f":"E191+H192","v":69},{"$f":"VALUE(D192)-J192","v":418},1,1,{"$f":"IF(TYPE(SEARCH(\")\",A192,1))=16,K192,SEARCH(\")\",A192,1))","v":11},{"$f":"IF(TYPE(SEARCH(\"(\",A192,1))=16,0,MID(A192,K192,L192))","v":"163"},{"$f":"C192+2","v":8},{"$f":"I192-K192","v":3}]
[{"$f":"Feuil2!$N$21","v":"\n433 (+165) Intelligence "},null,{"$f":"IF(TYPE(SEARCH(\"(\",A193,1))=16,SEARCH(\"I\",A193,1)+1,SEARCH(\"(\",A193,1))","v":6},{"$f":"REPLACE(MID(A193,1,C193-2),1,1,\"\")","v":"433"},{"$f":"E192+H193","v":70},{"$f":"VALUE(D193)-J193","v":268},1,1,{"$f":"IF(TYPE(SEARCH(\")\",A193,1))=16,K193,SEARCH(\")\",A193,1))","v":11},{"$f":"IF(TYPE(SEARCH(\"(\",A193,1))=16,0,MID(A193,K193,L193))","v":"165"},{"$f":"C193+2","v":8},{"$f":"I193-K193","v":3}]
[{"$f":"Feuil2!$N$24","v":0},null,{"$f":"SEARCH(\"E\",A194,1)","v":{"$error":"#VALUE!"}},{"$f":"REPLACE(MID(A194,1,C194-1),1,1,\"\")","v":{"$error":"#VALUE!"}}]
[{"$f":"Feuil2!$N$26","v":0},null,{"$f":"SEARCH(\"M\",A195,1)","v":{"$error":"#VALUE!"}},{"$f":"REPLACE(MID(A195,1,C195-1),1,1,\"\")","v":{"$error":"#VALUE!"}}]
[]
[{"$f":"Feuil2!$O$3","v":"corée du sud 3 "}]
[{"$f":"Feuil2!$O$7","v":"\n\nR"},null,{"$f":"A197","v":"corée du sud 3 "}]
[{"$f":"Feuil2!$O$9","v":"\n17,491K89924Potentiel"},null,null,{"$f":"P199","v":"899"},null,{"$f":"VALUE(D199)","v":899},{"$f":"TYPE(F199)","v":1},{"$f":"IF(G199=1,1,0)","v":1},{"$f":"IF(TYPE(SEARCH(\"/\",A199,1))=16,SEARCH(\"Potentiel\",A199,1),SEARCH(\"/\",A199,1))","v":14},{"$f":"IF(TYPE(SEARCH(\",\",A199,1))=16,0,SEARCH(\",\",A199,1))","v":4},{"$f":"IF(TYPE(SEARCH(\",\",A199,J199+1))=1,SEARCH(\",\",A199,J199+1),J199)","v":4},null,{"$f":"IF(TYPE(SEARCH(\",\",A199,K199+1))=1,SEARCH(\",\",A199,K199+1),K199)+IF(Q199=1,1,0)","v":5},{"$f":"IF(TYPE(SEARCH(\",\",#REF!,M199+1))=1,SEARCH(\",\",#REF!,M199+1),M199)","v":5},{"$f":"IF(I199-2-(N199+4)<0,0,I199-2-(N199+4)-IF(TYPE(SEARCH(\"/\",A199,1))=16,0,4))","v":3},{"$f":"IF(MID(A199,N199+4,O199)=\"\",0,MID(A199,N199+4,O199))","v":"899"},{"$f":"TYPE(SEARCH(\"K\",A199,1))","v":1}]
[{"$f":"Feuil2!$O$13","v":"\n513 (+80)Force"},null,{"$f":"IF(TYPE(SEARCH(\"(\",A200,1))=16,SEARCH(\"F\",A200,1)+1,SEARCH(\"(\",A200,1))","v":6},{"$f":"REPLACE(MID(A200,1,C200-2),1,1,\"\")","v":"513"},{"$f":"E193+H200","v":71},{"$f":"VALUE(D200)-J200","v":433},{"$f":"TYPE(F200)","v":1},{"$f":"IF(G200=1,1,0)","v":1},{"$f":"IF(TYPE(SEARCH(\")\",A200,1))=16,K200,SEARCH(\")\",A200,1))","v":10},{"$f":"IF(TYPE(SEARCH(\")\",A200,1))=16,0,MID(A200,K200,L200))","v":"80"},{"$f":"C200+2","v":8},{"$f":"I200-K200","v":2},null,null,null,{"$f":"P199","v":"899"}]
[{"$f":"Feuil2!$O$15","v":"\n416 (+127) Habileté "},null,{"$f":"IF(TYPE(SEARCH(\"(\",A201,1))=16,SEARCH(\"H\",A201,1)+1,SEARCH(\"(\",A201,1))","v":6},{"$f":"REPLACE(MID(A201,1,C201-2),1,1,\"\")","v":"416"},{"$f":"E200+H201","v":72},{"$f":"VALUE(D201)-J201","v":289},1,1,{"$f":"IF(TYPE(SEARCH(\")\",A201,1))=16,K201,SEARCH(\")\",A201,1))","v":11},{"$f":"IF(TYPE(SEARCH(\"(\",A201,1))=16,0,MID(A201,K201,L201))","v":"127"},{"$f":"C201+2","v":8},{"$f":"I201-K201","v":3}]
[{"$f":"Feuil2!$O$17","v":"\n419 (+70) Vitesse "},null,{"$f":"IF(TYPE(SEARCH(\"(\",A202,1))=16,SEARCH(\"V\",A202,1)+1,SEARCH(\"(\",A202,1))","v":6},{"$f":"REPLACE(MID(A202,1,C202-2),1,1,\"\")","v":"419"},{"$f":"E201+H202","v":73},{"$f":"VALUE(D202)-J202","v":349},1,1,{"$f":"IF(TYPE(SEARCH(\")\",A202,1))=16,K202,SEARCH(\")\",A202,1))","v":10},{"$f":"IF(TYPE(SEARCH(\"(\",A202,1))=16,0,MID(A202,K202,L202))","v":"70"},{"$f":"C202+2","v":8},{"$f":"I202-K202","v":2}]
[{"$f":"Feuil2!$O$19","v":"\n494 (+65) Endurance "},null,{"$f":"IF(TYPE(SEARCH(\"(\",A203,1))=16,SEARCH(\"E\",A203,1)+1,SEARCH(\"(\",A203,1))","v":6},{"$f":"REPLACE(MID(A203,1,C203-2),1,1,\"\")","v":"494"},{"$f":"E202+H203","v":74},{"$f":"VALUE(D203)-J203","v":429},1,1,{"$f":"IF(TYPE(SEARCH(\")\",A203,1))=16,K203,SEARCH(\")\",A203,1))","v":10},{"$f":"IF(TYPE(SEARCH(\"(\",A203,1))=16,0,MID(A203,K203,L203))","v":"65"},{"$f":"C203+2","v":8},{"$f":"I203-K203","v":2}]
[{"$f":"Feuil2!$O$21","v":"\n340 (+64) Intelligence "},null,{"$f":"IF(TYPE(SEARCH(\"(\",A204,1))=16,SEARCH(\"I\",A204,1)+1,SEARCH(\"(\",A204,1))","v":6},{"$f":"REPLACE(MID(A204,1,C204-2),1,1,\"\")","v":"340"},{"$f":"E203+H204","v":75},{"$f":"VALUE(D204)-J204","v":276},1,1,{"$f":"IF(TYPE(SEARCH(\")\",A204,1))=16,K204,SEARCH(\")\",A204,1))","v":10},{"$f":"IF(TYPE(SEARCH(\"(\",A204,1))=16,0,MID(A204,K204,L204))","v":"64"},{"$f":"C204+2","v":8},{"$f":"I204-K204","v":2}]
[{"$f":"Feuil2!$O$24","v":0},null,{"$f":"SEARCH(\"E\",A205,1)","v":{"$error":"#VALUE!"}},{"$f":"REPLACE(MID(A205,1,C205-1),1,1,\"\")","v":{"$error":"#VALUE!"}}]
[{"$f":"Feuil2!$O$26","v":0},null,{"$f":"SEARCH(\"M\",A206,1)","v":{"$error":"#VALUE!"}},{"$f":"REPLACE(MID(A206,1,C206-1),1,1,\"\")","v":{"$error":"#VALUE!"}}]
[]
[{"$f":"Feuil2!$P$3","v":"france 11 "}]
[{"$f":"Feuil2!$P$7","v":"\n\nR"},null,{"$f":"A208","v":"france 11 "}]
[{"$f":"Feuil2!$P$9","v":"\n19,741K77623Potentiel"},null,null,{"$f":"P210","v":"776"},null,{"$f":"VALUE(D210)","v":776},{"$f":"TYPE(F210)","v":1},{"$f":"IF(G210=1,1,0)","v":1},{"$f":"IF(TYPE(SEARCH(\"/\",A210,1))=16,SEARCH(\"Potentiel\",A210,1),SEARCH(\"/\",A210,1))","v":14},{"$f":"IF(TYPE(SEARCH(\",\",A210,1))=16,0,SEARCH(\",\",A210,1))","v":4},{"$f":"IF(TYPE(SEARCH(\",\",A210,J210+1))=1,SEARCH(\",\",A210,J210+1),J210)","v":4},null,{"$f":"IF(TYPE(SEARCH(\",\",A210,K210+1))=1,SEARCH(\",\",A210,K210+1),K210)+IF(Q210=1,1,0)","v":5},{"$f":"IF(TYPE(SEARCH(\",\",#REF!,M210+1))=1,SEARCH(\",\",#REF!,M210+1),M210)","v":5},{"$f":"IF(I210-2-(N210+4)<0,0,I210-2-(N210+4)-IF(TYPE(SEARCH(\"/\",A210,1))=16,0,4))","v":3},{"$f":"IF(MID(A210,N210+4,O210)=\"\",0,MID(A210,N210+4,O210))","v":"776"},{"$f":"TYPE(SEARCH(\"K\",A210,1))","v":1}]
[{"$f":"Feuil2!$P$13","v":"\n442 (+80)Force"},null,{"$f":"IF(TYPE(SEARCH(\"(\",A211,1))=16,SEARCH(\"F\",A211,1)+1,SEARCH(\"(\",A211,1))","v":6},{"$f":"REPLACE(MID(A211,1,C211-2),1,1,\"\")","v":"442"},{"$f":"E204+H211","v":76},{"$f":"VALUE(D211)-J211","v":362},{"$f":"TYPE(F211)","v":1},{"$f":"IF(G211=1,1,0)","v":1},{"$f":"IF(TYPE(SEARCH(\")\",A211,1))=16,K211,SEARCH(\")\",A211,1))","v":10},{"$f":"IF(TYPE(SEARCH(\")\",A211,1))=16,0,MID(A211,K211,L211))","v":"80"},{"$f":"C211+2","v":8},{"$f":"I211-K211","v":2},null,null,null,{"$f":"P210","v":"776"}]
[{"$f":"Feuil2!$P$15","v":"\n497 (+80) Habileté "},null,{"$f":"IF(TYPE(SEARCH(\"(\",A212,1))=16,SEARCH(\"H\",A212,1)+1,SEARCH(\"(\",A212,1))","v":6},{"$f":"REPLACE(MID(A212,1,C212-2),1,1,\"\")","v":"497"},{"$f":"E211+H212","v":77},{"$f":"VALUE(D212)-J212","v":417},1,1,{"$f":"IF(TYPE(SEARCH(\")\",A212,1))=16,K212,SEARCH(\")\",A212,1))","v":10},{"$f":"IF(TYPE(SEARCH(\"(\",A212,1))=16,0,MID(A212,K212,L212))","v":"80"},{"$f":"C212+2","v":8},{"$f":"I212-K212","v":2}]
[{"$f":"Feuil2!$P$17","v":"\n572 (+118) Vitesse "},null,{"$f":"IF(TYPE(SEARCH(\"(\",A213,1))=16,SEARCH(\"V\",A213,1)+1,SEARCH(\"(\",A213,1))","v":6},{"$f":"REPLACE(MID(A213,1,C213-2),1,1,\"\")","v":"572"},{"$f":"E212+H213","v":78},{"$f":"VALUE(D213)-J213","v":454},1,1,{"$f":"IF(TYPE(SEARCH(\")\",A213,1))=16,K213,SEARCH(\")\",A213,1))","v":11},{"$f":"IF(TYPE(SEARCH(\"(\",A213,1))=16,0,MID(A213,K213,L213))","v":"118"},{"$f":"C213+2","v":8},{"$f":"I213-K213","v":3}]
[{"$f":"Feuil2!$P$19","v":"\n554 (+111) Endurance "},null,{"$f":"IF(TYPE(SEARCH(\"(\",A214,1))=16,SEARCH(\"E\",A214,1)+1,SEARCH(\"(\",A214,1))","v":6},{"$f":"REPLACE(MID(A214,1,C214-2),1,1,\"\")","v":"554"},{"$f":"E213+H214","v":79},{"$f":"VALUE(D214)-J214","v":443},1,1,{"$f":"IF(TYPE(SEARCH(\")\",A214,1))=16,K214,SEARCH(\")\",A214,1))","v":11},{"$f":"IF(TYPE(SEARCH(\"(\",A214,1))=16,0,MID(A214,K214,L214))","v":"111"},{"$f":"C214+2","v":8},{"$f":"I214-K214","v":3}]
[{"$f":"Feuil2!$P$21","v":"\n362 (+64) Intelligence "},null,{"$f":"IF(TYPE(SEARCH(\"(\",A215,1))=16,SEARCH(\"I\",A215,1)+1,SEARCH(\"(\",A215,1))","v":6},{"$f":"REPLACE(MID(A215,1,C215-2),1,1,\"\")","v":"362"},{"$f":"E214+H215","v":80},{"$f":"VALUE(D215)-J215","v":298},1,1,{"$f":"IF(TYPE(SEARCH(\")\",A215,1))=16,K215,SEARCH(\")\",A215,1))","v":10},{"$f":"IF(TYPE(SEARCH(\"(\",A215,1))=16,0,MID(A215,K215,L215))","v":"64"},{"$f":"C215+2","v":8},{"$f":"I215-K215","v":2}]
[{"$f":"Feuil2!$P$24","v":0},null,{"$f":"SEARCH(\"E\",A216,1)","v":{"$error":"#VALUE!"}},{"$f":"REPLACE(MID(A216,1,C216-1),1,1,\"\")","v":{"$error":"#VALUE!"}}]
[{"$f":"Feuil2!$P$26","v":0},null,{"$f":"SEARCH(\"M\",A217,1)","v":{"$error":"#VALUE!"}},{"$f":"REPLACE(MID(A217,1,C217-1),1,1,\"\")","v":{"$error":"#VALUE!"}}]
[]
[{"$f":"Feuil2!$Q$3","v":"france 2 "}]
[{"$f":"Feuil2!$Q$7","v":"\n\nR"},null,{"$f":"A219","v":"france 2 "}]
[{"$f":"Feuil2!$Q$9","v":"\n17,866K118426Potentiel"},null,null,{"$f":"P221","v":"1184"},null,{"$f":"VALUE(D221)","v":1184},{"$f":"TYPE(F221)","v":1},{"$f":"IF(G221=1,1,0)","v":1},{"$f":"IF(TYPE(SEARCH(\"/\",A221,1))=16,SEARCH(\"Potentiel\",A221,1),SEARCH(\"/\",A221,1))","v":15},{"$f":"IF(TYPE(SEARCH(\",\",A221,1))=16,0,SEARCH(\",\",A221,1))","v":4},{"$f":"IF(TYPE(SEARCH(\",\",A221,J221+1))=1,SEARCH(\",\",A221,J221+1),J221)","v":4},null,{"$f":"IF(TYPE(SEARCH(\",\",A221,K221+1))=1,SEARCH(\",\",A221,K221+1),K221)+IF(Q221=1,1,0)","v":5},{"$f":"IF(TYPE(SEARCH(\",\",#REF!,M221+1))=1,SEARCH(\",\",#REF!,M221+1),M221)","v":5},{"$f":"IF(I221-2-(N221+4)<0,0,I221-2-(N221+4)-IF(TYPE(SEARCH(\"/\",A221,1))=16,0,4))","v":4},{"$f":"IF(MID(A221,N221+4,O221)=\"\",0,MID(A221,N221+4,O221))","v":"1184"},{"$f":"TYPE(SEARCH(\"K\",A221,1))","v":1}]
[{"$f":"Feuil2!$Q$13","v":"\n595 (+128)Force"},null,{"$f":"IF(TYPE(SEARCH(\"(\",A222,1))=16,SEARCH(\"F\",A222,1)+1,SEARCH(\"(\",A222,1))","v":6},{"$f":"REPLACE(MID(A222,1,C222-2),1,1,\"\")","v":"595"},{"$f":"E215+H222","v":81},{"$f":"VALUE(D222)-J222","v":467},{"$f":"TYPE(F222)","v":1},{"$f":"IF(G222=1,1,0)","v":1},{"$f":"IF(TYPE(SEARCH(\")\",A222,1))=16,K222,SEARCH(\")\",A222,1))","v":11},{"$f":"IF(TYPE(SEARCH(\")\",A222,1))=16,0,MID(A222,K222,L222))","v":"128"},{"$f":"C222+2","v":8},{"$f":"I222-K222","v":3},null,null,null,{"$f":"P221","v":"1184"}]
[{"$f":"Feuil2!$Q$15","v":"\n388 (+80) Habileté "},null,{"$f":"IF(TYPE(SEARCH(\"(\",A223,1))=16,SEARCH(\"H\",A223,1)+1,SEARCH(\"(\",A223,1))","v":6},{"$f":"REPLACE(MID(A223,1,C223-2),1,1,\"\")","v":"388"},{"$f":"E222+H223","v":82},{"$f":"VALUE(D223)-J223","v":308},1,1,{"$f":"IF(TYPE(SEARCH(\")\",A223,1))=16,K223,SEARCH(\")\",A223,1))","v":10},{"$f":"IF(TYPE(SEARCH(\"(\",A223,1))=16,0,MID(A223,K223,L223))","v":"80"},{"$f":"C223+2","v":8},{"$f":"I223-K223","v":2}]
[{"$f":"Feuil2!$Q$17","v":"\n464 (+70) Vitesse "},null,{"$f":"IF(TYPE(SEARCH(\"(\",A224,1))=16,SEARCH(\"V\",A224,1)+1,SEARCH(\"(\",A224,1))","v":6},{"$f":"REPLACE(MID(A224,1,C224-2),1,1,\"\")","v":"464"},{"$f":"E223+H224","v":83},{"$f":"VALUE(D224)-J224","v":394},1,1,{"$f":"IF(TYPE(SEARCH(\")\",A224,1))=16,K224,SEARCH(\")\",A224,1))","v":10},{"$f":"IF(TYPE(SEARCH(\"(\",A224,1))=16,0,MID(A224,K224,L224))","v":"70"},{"$f":"C224+2","v":8},{"$f":"I224-K224","v":2}]
[{"$f":"Feuil2!$Q$19","v":"\n570 (+112) Endurance "},null,{"$f":"IF(TYPE(SEARCH(\"(\",A225,1))=16,SEARCH(\"E\",A225,1)+1,SEARCH(\"(\",A225,1))","v":6},{"$f":"REPLACE(MID(A225,1,C225-2),1,1,\"\")","v":"570"},{"$f":"E224+H225","v":84},{"$f":"VALUE(D225)-J225","v":458},1,1,{"$f":"IF(TYPE(SEARCH(\")\",A225,1))=16,K225,SEARCH(\")\",A225,1))","v":11},{"$f":"IF(TYPE(SEARCH(\"(\",A225,1))=16,0,MID(A225,K225,L225))","v":"112"},{"$f":"C225+2","v":8},{"$f":"I225-K225","v":3}]
[{"$f":"Feuil2!$Q$21","v":"\n419 (+111) Intelligence "},null,{"$f":"IF(TYPE(SEARCH(\"(\",A226,1))=16,SEARCH(\"I\",A226,1)+1,SEARCH(\"(\",A226,1))","v":6},{"$f":"REPLACE(MID(A226,1,C226-2),1,1,\"\")","v":"419"},{"$f":"E225+H226","v":85},{"$f":"VALUE(D226)-J226","v":308},1,1,{"$f":"IF(TYPE(SEARCH(\")\",A226,1))=16,K226,SEARCH(\")\",A226,1))","v":11},{"$f":"IF(TYPE(SEARCH(\"(\",A226,1))=16,0,MID(A226,K226,L226))","v":"111"},{"$f":"C226+2","v":8},{"$f":"I226-K226","v":3}]
[{"$f":"Feuil2!$Q$24","v":0},null,{"$f":"SEARCH(\"E\",A227,1)","v":{"$error":"#VALUE!"}},{"$f":"REPLACE(MID(A227,1,C227-1),1,1,\"\")","v":{"$error":"#VALUE!"}}]
[{"$f":"Feuil2!$Q$26","v":0},null,{"$f":"SEARCH(\"M\",A228,1)","v":{"$error":"#VALUE!"}},{"$f":"REPLACE(MID(A228,1,C228-1),1,1,\"\")","v":{"$error":"#VALUE!"}}]
[]
[{"$f":"Feuil2!$R$3","v":"italie 7 "}]
[{"$f":"Feuil2!$R$7","v":"\n\nR"},null,{"$f":"A230","v":"italie 7 "}]
[{"$f":"Feuil2!$R$9","v":"\n20,316K123225Potentiel"},null,null,{"$f":"P232","v":"1232"},null,{"$f":"VALUE(D232)","v":1232},{"$f":"TYPE(F232)","v":1},{"$f":"IF(G232=1,1,0)","v":1},{"$f":"IF(TYPE(SEARCH(\"/\",A232,1))=16,SEARCH(\"Potentiel\",A232,1),SEARCH(\"/\",A232,1))","v":15},{"$f":"IF(TYPE(SEARCH(\",\",A232,1))=16,0,SEARCH(\",\",A232,1))","v":4},{"$f":"IF(TYPE(SEARCH(\",\",A232,J232+1))=1,SEARCH(\",\",A232,J232+1),J232)","v":4},null,{"$f":"IF(TYPE(SEARCH(\",\",A232,K232+1))=1,SEARCH(\",\",A232,K232+1),K232)+IF(Q232=1,1,0)","v":5},{"$f":"IF(TYPE(SEARCH(\",\",#REF!,M232+1))=1,SEARCH(\",\",#REF!,M232+1),M232)","v":5},{"$f":"IF(I232-2-(N232+4)<0,0,I232-2-(N232+4)-IF(TYPE(SEARCH(\"/\",A232,1))=16,0,4))","v":4},{"$f":"IF(MID(A232,N232+4,O232)=\"\",0,MID(A232,N232+4,O232))","v":"1232"},{"$f":"TYPE(SEARCH(\"K\",A232,1))","v":1}]
[{"$f":"Feuil2!$R$13","v":"\n545 (+121)Force"},null,{"$f":"IF(TYPE(SEARCH(\"(\",A233,1))=16,SEARCH(\"F\",A233,1)+1,SEARCH(\"(\",A233,1))","v":6},{"$f":"REPLACE(MID(A233,1,C233-2),1,1,\"\")","v":"545"},{"$f":"E226+H233","v":86},{"$f":"VALUE(D233)-J233","v":424},{"$f":"TYPE(F233)","v":1},{"$f":"IF(G233=1,1,0)","v":1},{"$f":"IF(TYPE(SEARCH(\")\",A233,1))=16,K233,SEARCH(\")\",A233,1))","v":11},{"$f":"IF(TYPE(SEARCH(\")\",A233,1))=16,0,MID(A233,K233,L233))","v":"121"},{"$f":"C233+2","v":8},{"$f":"I233-K233","v":3},null,null,null,{"$f":"P232","v":"1232"}]
[{"$f":"Feuil2!$R$15","v":"\n598 (+157) Habileté "},null,{"$f":"IF(TYPE(SEARCH(\"(\",A234,1))=16,SEARCH(\"H\",A234,1)+1,SEARCH(\"(\",A234,1))","v":6},{"$f":"REPLACE(MID(A234,1,C234-2),1,1,\"\")","v":"598"},{"$f":"E233+H234","v":87},{"$f":"VALUE(D234)-J234","v":441},1,1,{"$f":"IF(TYPE(SEARCH(\")\",A234,1))=16,K234,SEARCH(\")\",A234,1))","v":11},{"$f":"IF(TYPE(SEARCH(\"(\",A234,1))=16,0,MID(A234,K234,L234))","v":"157"},{"$f":"C234+2","v":8},{"$f":"I234-K234","v":3}]
[{"$f":"Feuil2!$R$17","v":"\n554 (+111) Vitesse "},null,{"$f":"IF(TYPE(SEARCH(\"(\",A235,1))=16,SEARCH(\"V\",A235,1)+1,SEARCH(\"(\",A235,1))","v":6},{"$f":"REPLACE(MID(A235,1,C235-2),1,1,\"\")","v":"554"},{"$f":"E234+H235","v":88},{"$f":"VALUE(D235)-J235","v":443},1,1,{"$f":"IF(TYPE(SEARCH(\")\",A235,1))=16,K235,SEARCH(\")\",A235,1))","v":11},{"$f":"IF(TYPE(SEARCH(\"(\",A235,1))=16,0,MID(A235,K235,L235))","v":"111"},{"$f":"C235+2","v":8},{"$f":"I235-K235","v":3}]
[{"$f":"Feuil2!$R$19","v":"\n514 (+91) Endurance "},null,{"$f":"IF(TYPE(SEARCH(\"(\",A236,1))=16,SEARCH(\"E\",A236,1)+1,SEARCH(\"(\",A236,1))","v":6},{"$f":"REPLACE(MID(A236,1,C236-2),1,1,\"\")","v":"514"},{"$f":"E235+H236","v":89},{"$f":"VALUE(D236)-J236","v":423},1,1,{"$f":"IF(TYPE(SEARCH(\")\",A236,1))=16,K236,SEARCH(\")\",A236,1))","v":10},{"$f":"IF(TYPE(SEARCH(\"(\",A236,1))=16,0,MID(A236,K236,L236))","v":"91"},{"$f":"C236+2","v":8},{"$f":"I236-K236","v":2}]
[{"$f":"Feuil2!$R$21","v":"\n517 (+168) Intelligence "},null,{"$f":"IF(TYPE(SEARCH(\"(\",A237,1))=16,SEARCH(\"I\",A237,1)+1,SEARCH(\"(\",A237,1))","v":6},{"$f":"REPLACE(MID(A237,1,C237-2),1,1,\"\")","v":"517"},{"$f":"E236+H237","v":90},{"$f":"VALUE(D237)-J237","v":349},1,1,{"$f":"IF(TYPE(SEARCH(\")\",A237,1))=16,K237,SEARCH(\")\",A237,1))","v":11},{"$f":"IF(TYPE(SEARCH(\"(\",A237,1))=16,0,MID(A237,K237,L237))","v":"168"},{"$f":"C237+2","v":8},{"$f":"I237-K237","v":3}]
[{"$f":"Feuil2!$R$24","v":0},null,{"$f":"SEARCH(\"E\",A238,1)","v":{"$error":"#VALUE!"}},{"$f":"REPLACE(MID(A238,1,C238-1),1,1,\"\")","v":{"$error":"#VALUE!"}}]
[{"$f":"Feuil2!$R$26","v":0},null,{"$f":"SEARCH(\"M\",A239,1)","v":{"$error":"#VALUE!"}},{"$f":"REPLACE(MID(A239,1,C239-1),1,1,\"\")","v":{"$error":"#VALUE!"}}]
[]
[{"$f":"Feuil2!$S$3","v":"japon 5 "}]
[{"$f":"Feuil2!$S$7","v":"\n\nR"},null,{"$f":"A241","v":"japon 5 "}]
[{"$f":"Feuil2!$S$9","v":"\n16,537K134726Potentiel"},null,null,{"$f":"P243","v":"1347"},null,{"$f":"VALUE(D243)","v":1347},{"$f":"TYPE(F243)","v":1},{"$f":"IF(G243=1,1,0)","v":1},{"$f":"IF(TYPE(SEARCH(\"/\",A243,1))=16,SEARCH(\"Potentiel\",A243,1),SEARCH(\"/\",A243,1))","v":15},{"$f":"IF(TYPE(SEARCH(\",\",A243,1))=16,0,SEARCH(\",\",A243,1))","v":4},{"$f":"IF(TYPE(SEARCH(\",\",A243,J243+1))=1,SEARCH(\",\",A243,J243+1),J243)","v":4},null,{"$f":"IF(TYPE(SEARCH(\",\",A243,K243+1))=1,SEARCH(\",\",A243,K243+1),K243)+IF(Q243=1,1,0)","v":5},{"$f":"IF(TYPE(SEARCH(\",\",#REF!,M243+1))=1,SEARCH(\",\",#REF!,M243+1),M243)","v":5},{"$f":"IF(I243-2-(N243+4)<0,0,I243-2-(N243+4)-IF(TYPE(SEARCH(\"/\",A243,1))=16,0,4))","v":4},{"$f":"IF(MID(A243,N243+4,O243)=\"\",0,MID(A243,N243+4,O243))","v":"1347"},{"$f":"TYPE(SEARCH(\"K\",A243,1))","v":1}]
[{"$f":"Feuil2!$S$13","v":"\n570 (+128)Force"},null,{"$f":"IF(TYPE(SEARCH(\"(\",A244,1))=16,SEARCH(\"F\",A244,1)+1,SEARCH(\"(\",A244,1))","v":6},{"$f":"REPLACE(MID(A244,1,C244-2),1,1,\"\")","v":"570"},{"$f":"E237+H244","v":91},{"$f":"VALUE(D244)-J244","v":442},{"$f":"TYPE(F244)","v":1},{"$f":"IF(G244=1,1,0)","v":1},{"$f":"IF(TYPE(SEARCH(\")\",A244,1))=16,K244,SEARCH(\")\",A244,1))","v":11},{"$f":"IF(TYPE(SEARCH(\")\",A244,1))=16,0,MID(A244,K244,L244))","v":"128"},{"$f":"C244+2","v":8},{"$f":"I244-K244","v":3},null,null,null,{"$f":"P243","v":"1347"}]
[{"$f":"Feuil2!$S$15","v":"\n465 (+128) Habileté "},null,{"$f":"IF(TYPE(SEARCH(\"(\",A245,1))=16,SEARCH(\"H\",A245,1)+1,SEARCH(\"(\",A245,1))","v":6},{"$f":"REPLACE(MID(A245,1,C245-2),1,1,\"\")","v":"465"},{"$f":"E244+H245","v":92},{"$f":"VALUE(D245)-J245","v":337},1,1,{"$f":"IF(TYPE(SEARCH(\")\",A245,1))=16,K245,SEARCH(\")\",A245,1))","v":11},{"$f":"IF(TYPE(SEARCH(\"(\",A245,1))=16,0,MID(A245,K245,L245))","v":"128"},{"$f":"C245+2","v":8},{"$f":"I245-K245","v":3}]
[{"$f":"Feuil2!$S$17","v":"\n415 (+70) Vitesse "},null,{"$f":"IF(TYPE(SEARCH(\"(\",A246,1))=16,SEARCH(\"V\",A246,1)+1,SEARCH(\"(\",A246,1))","v":6},{"$f":"REPLACE(MID(A246,1,C246-2),1,1,\"\")","v":"415"},{"$f":"E245+H246","v":93},{"$f":"VALUE(D246)-J246","v":345},1,1,{"$f":"IF(TYPE(SEARCH(\")\",A246,1))=16,K246,SEARCH(\")\",A246,1))","v":10},{"$f":"IF(TYPE(SEARCH(\"(\",A246,1))=16,0,MID(A246,K246,L246))","v":"70"},{"$f":"C246+2","v":8},{"$f":"I246-K246","v":2}]
[{"$f":"Feuil2!$S$19","v":"\n431 (+112) Endurance "},null,{"$f":"IF(TYPE(SEARCH(\"(\",A247,1))=16,SEARCH(\"E\",A247,1)+1,SEARCH(\"(\",A247,1))","v":6},{"$f":"REPLACE(MID(A247,1,C247-2),1,1,\"\")","v":"431"},{"$f":"E246+H247","v":94},{"$f":"VALUE(D247)-J247","v":319},1,1,{"$f":"IF(TYPE(SEARCH(\")\",A247,1))=16,K247,SEARCH(\")\",A247,1))","v":11},{"$f":"IF(TYPE(SEARCH(\"(\",A247,1))=16,0,MID(A247,K247,L247))","v":"112"},{"$f":"C247+2","v":8},{"$f":"I247-K247","v":3}]
[{"$f":"Feuil2!$S$21","v":"\n451 (+110) Intelligence "},null,{"$f":"IF(TYPE(SEARCH(\"(\",A248,1))=16,SEARCH(\"I\",A248,1)+1,SEARCH(\"(\",A248,1))","v":6},{"$f":"REPLACE(MID(A248,1,C248-2),1,1,\"\")","v":"451"},{"$f":"E247+H248","v":95},{"$f":"VALUE(D248)-J248","v":341},1,1,{"$f":"IF(TYPE(SEARCH(\")\",A248,1))=16,K248,SEARCH(\")\",A248,1))","v":11},{"$f":"IF(TYPE(SEARCH(\"(\",A248,1))=16,0,MID(A248,K248,L248))","v":"110"},{"$f":"C248+2","v":8},{"$f":"I248-K248","v":3}]
[{"$f":"Feuil2!$S$24","v":0},null,{"$f":"SEARCH(\"E\",A249,1)","v":{"$error":"#VALUE!"}},{"$f":"REPLACE(MID(A249,1,C249-1),1,1,\"\")","v":{"$error":"#VALUE!"}}]
[{"$f":"Feuil2!$S$26","v":0},null,{"$f":"SEARCH(\"M\",A250,1)","v":{"$error":"#VALUE!"}},{"$f":"REPLACE(MID(A250,1,C250-1),1,1,\"\")","v":{"$error":"#VALUE!"}}]
[]
[{"$f":"Feuil2!$T$3","v":"nigeria 4 "}]
[{"$f":"Feuil2!$T$7","v":"\n\nR"},null,{"$f":"A252","v":"nigeria 4 "}]
[{"$f":"Feuil2!$T$9","v":"\n14,765K101824Potentiel"},null,null,{"$f":"P254","v":"1018"},null,{"$f":"VALUE(D254)","v":1018},{"$f":"TYPE(F254)","v":1},{"$f":"IF(G254=1,1,0)","v":1},{"$f":"IF(TYPE(SEARCH(\"/\",A254,1))=16,SEARCH(\"Potentiel\",A254,1),SEARCH(\"/\",A254,1))","v":15},{"$f":"IF(TYPE(SEARCH(\",\",A254,1))=16,0,SEARCH(\",\",A254,1))","v":4},{"$f":"IF(TYPE(SEARCH(\",\",A254,J254+1))=1,SEARCH(\",\",A254,J254+1),J254)","v":4},null,{"$f":"IF(TYPE(SEARCH(\",\",A254,K254+1))=1,SEARCH(\",\",A254,K254+1),K254)+IF(Q254=1,1,0)","v":5},{"$f":"IF(TYPE(SEARCH(\",\",#REF!,M254+1))=1,SEARCH(\",\",#REF!,M254+1),M254)","v":5},{"$f":"IF(I254-2-(N254+4)<0,0,I254-2-(N254+4)-IF(TYPE(SEARCH(\"/\",A254,1))=16,0,4))","v":4},{"$f":"IF(MID(A254,N254+4,O254)=\"\",0,MID(A254,N254+4,O254))","v":"1018"},{"$f":"TYPE(SEARCH(\"K\",A254,1))","v":1}]
[{"$f":"Feuil2!$T$13","v":"\n505 (+80)Force"},null,{"$f":"IF(TYPE(SEARCH(\"(\",A255,1))=16,SEARCH(\"F\",A255,1)+1,SEARCH(\"(\",A255,1))","v":6},{"$f":"REPLACE(MID(A255,1,C255-2),1,1,\"\")","v":"505"},{"$f":"E248+H255","v":96},{"$f":"VALUE(D255)-J255","v":425},{"$f":"TYPE(F255)","v":1},{"$f":"IF(G255=1,1,0)","v":1},{"$f":"IF(TYPE(SEARCH(\")\",A255,1))=16,K255,SEARCH(\")\",A255,1))","v":10},{"$f":"IF(TYPE(SEARCH(\")\",A255,1))=16,0,MID(A255,K255,L255))","v":"80"},{"$f":"C255+2","v":8},{"$f":"I255-K255","v":2},null,null,null,{"$f":"P254","v":"1018"}]
[{"$f":"Feuil2!$T$15","v":"\n306 (+80) Habileté "},null,{"$f":"IF(TYPE(SEARCH(\"(\",A256,1))=16,SEARCH(\"H\",A256,1)+1,SEARCH(\"(\",A256,1))","v":6},{"$f":"REPLACE(MID(A256,1,C256-2),1,1,\"\")","v":"306"},{"$f":"E255+H256","v":97},{"$f":"VALUE(D256)-J256","v":226},1,1,{"$f":"IF(TYPE(SEARCH(\")\",A256,1))=16,K256,SEARCH(\")\",A256,1))","v":10},{"$f":"IF(TYPE(SEARCH(\"(\",A256,1))=16,0,MID(A256,K256,L256))","v":"80"},{"$f":"C256+2","v":8},{"$f":"I256-K256","v":2}]
[{"$f":"Feuil2!$T$17","v":"\n496 (+70) Vitesse "},null,{"$f":"IF(TYPE(SEARCH(\"(\",A257,1))=16,SEARCH(\"V\",A257,1)+1,SEARCH(\"(\",A257,1))","v":6},{"$f":"REPLACE(MID(A257,1,C257-2),1,1,\"\")","v":"496"},{"$f":"E256+H257","v":98},{"$f":"VALUE(D257)-J257","v":426},1,1,{"$f":"IF(TYPE(SEARCH(\")\",A257,1))=16,K257,SEARCH(\")\",A257,1))","v":10},{"$f":"IF(TYPE(SEARCH(\"(\",A257,1))=16,0,MID(A257,K257,L257))","v":"70"},{"$f":"C257+2","v":8},{"$f":"I257-K257","v":2}]
[{"$f":"Feuil2!$T$19","v":"\n400 (+65) Endurance "},null,{"$f":"IF(TYPE(SEARCH(\"(\",A258,1))=16,SEARCH(\"E\",A258,1)+1,SEARCH(\"(\",A258,1))","v":6},{"$f":"REPLACE(MID(A258,1,C258-2),1,1,\"\")","v":"400"},{"$f":"E257+H258","v":99},{"$f":"VALUE(D258)-J258","v":335},1,1,{"$f":"IF(TYPE(SEARCH(\")\",A258,1))=16,K258,SEARCH(\")\",A258,1))","v":10},{"$f":"IF(TYPE(SEARCH(\"(\",A258,1))=16,0,MID(A258,K258,L258))","v":"65"},{"$f":"C258+2","v":8},{"$f":"I258-K258","v":2}]
[{"$f":"Feuil2!$T$21","v":"\n279 (+64) Intelligence "},null,{"$f":"IF(TYPE(SEARCH(\"(\",A259,1))=16,SEARCH(\"I\",A259,1)+1,SEARCH(\"(\",A259,1))","v":6},{"$f":"REPLACE(MID(A259,1,C259-2),1,1,\"\")","v":"279"},{"$f":"E258+H259","v":100},{"$f":"VALUE(D259)-J259","v":215},1,1,{"$f":"IF(TYPE(SEARCH(\")\",A259,1))=16,K259,SEARCH(\")\",A259,1))","v":10},{"$f":"IF(TYPE(SEARCH(\"(\",A259,1))=16,0,MID(A259,K259,L259))","v":"64"},{"$f":"C259+2","v":8},{"$f":"I259-K259","v":2}]
[{"$f":"Feuil2!$T$24","v":0},null,{"$f":"SEARCH(\"E\",A260,1)","v":{"$error":"#VALUE!"}},{"$f":"REPLACE(MID(A260,1,C260-1),1,1,\"\")","v":{"$error":"#VALUE!"}}]
[{"$f":"Feuil2!$T$26","v":0},null,{"$f":"SEARCH(\"M\",A261,1)","v":{"$error":"#VALUE!"}},{"$f":"REPLACE(MID(A261,1,C261-1),1,1,\"\")","v":{"$error":"#VALUE!"}}]
[]
[{"$f":"Feuil2!$U$3","v":"slovaquie 7 "}]
[{"$f":"Feuil2!$U$7","v":"\n\nR"},null,{"$f":"A263","v":"slovaquie 7 "}]
[{"$f":"Feuil2!$U$9","v":"\n16,590K18Potentiel"},null,null,{"$f":"P265","v":0},null,{"$f":"VALUE(D265)","v":0},{"$f":"TYPE(F265)","v":1},{"$f":"IF(G265=1,1,0)","v":1},{"$f":"IF(TYPE(SEARCH(\"/\",A265,1))=16,SEARCH(\"Potentiel\",A265,1),SEARCH(\"/\",A265,1))","v":11},{"$f":"IF(TYPE(SEARCH(\",\",A265,1))=16,0,SEARCH(\",\",A265,1))","v":4},{"$f":"IF(TYPE(SEARCH(\",\",A265,J265+1))=1,SEARCH(\",\",A265,J265+1),J265)","v":4},null,{"$f":"IF(TYPE(SEARCH(\",\",A265,K265+1))=1,SEARCH(\",\",A265,K265+1),K265)+IF(Q265=1,1,0)","v":5},{"$f":"IF(TYPE(SEARCH(\",\",#REF!,M265+1))=1,SEARCH(\",\",#REF!,M265+1),M265)","v":5},{"$f":"IF(I265-2-(N265+4)<0,0,I265-2-(N265+4)-IF(TYPE(SEARCH(\"/\",A265,1))=16,0,4))","v":0},{"$f":"IF(MID(A265,N265+4,O265)=\"\",0,MID(A265,N265+4,O265))","v":0},{"$f":"TYPE(SEARCH(\"K\",A265,1))","v":1}]
[{"$f":"Feuil2!$U$13","v":"\n441 (+80)Force"},null,{"$f":"IF(TYPE(SEARCH(\"(\",A266,1))=16,SEARCH(\"F\",A266,1)+1,SEARCH(\"(\",A266,1))","v":6},{"$f":"REPLACE(MID(A266,1,C266-2),1,1,\"\")","v":"441"},{"$f":"E259+H266","v":101},{"$f":"VALUE(D266)-J266","v":361},{"$f":"TYPE(F266)","v":1},{"$f":"IF(G266=1,1,0)","v":1},{"$f":"IF(TYPE(SEARCH(\")\",A266,1))=16,K266,SEARCH(\")\",A266,1))","v":10},{"$f":"IF(TYPE(SEARCH(\")\",A266,1))=16,0,MID(A266,K266,L266))","v":"80"},{"$f":"C266+2","v":8},{"$f":"I266-K266","v":2},null,null,null,{"$f":"P265","v":0}]
[{"$f":"Feuil2!$U$15","v":"\n447 (+80) Habileté "},null,{"$f":"IF(TYPE(SEARCH(\"(\",A267,1))=16,SEARCH(\"H\",A267,1)+1,SEARCH(\"(\",A267,1))","v":6},{"$f":"REPLACE(MID(A267,1,C267-2),1,1,\"\")","v":"447"},{"$f":"E266+H267","v":102},{"$f":"VALUE(D267)-J267","v":367},1,1,{"$f":"IF(TYPE(SEARCH(\")\",A267,1))=16,K267,SEARCH(\")\",A267,1))","v":10},{"$f":"IF(TYPE(SEARCH(\"(\",A267,1))=16,0,MID(A267,K267,L267))","v":"80"},{"$f":"C267+2","v":8},{"$f":"I267-K267","v":2}]
[{"$f":"Feuil2!$U$17","v":"\n401 (+70) Vitesse "},null,{"$f":"IF(TYPE(SEARCH(\"(\",A268,1))=16,SEARCH(\"V\",A268,1)+1,SEARCH(\"(\",A268,1))","v":6},{"$f":"REPLACE(MID(A268,1,C268-2),1,1,\"\")","v":"401"},{"$f":"E267+H268","v":103},{"$f":"VALUE(D268)-J268","v":331},1,1,{"$f":"IF(TYPE(SEARCH(\")\",A268,1))=16,K268,SEARCH(\")\",A268,1))","v":10},{"$f":"IF(TYPE(SEARCH(\"(\",A268,1))=16,0,MID(A268,K268,L268))","v":"70"},{"$f":"C268+2","v":8},{"$f":"I268-K268","v":2}]
[{"$f":"Feuil2!$U$19","v":"\n399 (+65) Endurance "},null,{"$f":"IF(TYPE(SEARCH(\"(\",A269,1))=16,SEARCH(\"E\",A269,1)+1,SEARCH(\"(\",A269,1))","v":6},{"$f":"REPLACE(MID(A269,1,C269-2),1,1,\"\")","v":"399"},{"$f":"E268+H269","v":104},{"$f":"VALUE(D269)-J269","v":334},1,1,{"$f":"IF(TYPE(SEARCH(\")\",A269,1))=16,K269,SEARCH(\")\",A269,1))","v":10},{"$f":"IF(TYPE(SEARCH(\"(\",A269,1))=16,0,MID(A269,K269,L269))","v":"65"},{"$f":"C269+2","v":8},{"$f":"I269-K269","v":2}]
[{"$f":"Feuil2!$U$21","v":"\n349 (+64) Intelligence "},null,{"$f":"IF(TYPE(SEARCH(\"(\",A270,1))=16,SEARCH(\"I\",A270,1)+1,SEARCH(\"(\",A270,1))","v":6},{"$f":"REPLACE(MID(A270,1,C270-2),1,1,\"\")","v":"349"},{"$f":"E269+H270","v":105},{"$f":"VALUE(D270)-J270","v":285},1,1,{"$f":"IF(TYPE(SEARCH(\")\",A270,1))=16,K270,SEARCH(\")\",A270,1))","v":10},{"$f":"IF(TYPE(SEARCH(\"(\",A270,1))=16,0,MID(A270,K270,L270))","v":"64"},{"$f":"C270+2","v":8},{"$f":"I270-K270","v":2}]
[{"$f":"Feuil2!$U$24","v":0},null,{"$f":"SEARCH(\"E\",A271,1)","v":{"$error":"#VALUE!"}},{"$f":"REPLACE(MID(A271,1,C271-1),1,1,\"\")","v":{"$error":"#VALUE!"}}]
[{"$f":"Feuil2!$U$26","v":0},null,{"$f":"SEARCH(\"M\",A272,1)","v":{"$error":"#VALUE!"}},{"$f":"REPLACE(MID(A272,1,C272-1),1,1,\"\")","v":{"$error":"#VALUE!"}}]
[]
[{"$f":"Feuil2!$V$3","v":"slovaquie 7 bis "}]
[{"$f":"Feuil2!$V$7","v":"\n\nR"},null,{"$f":"A274","v":"slovaquie 7 bis "}]
[{"$f":"Feuil2!$V$9","v":"\n18,694K84123Potentiel"},null,null,{"$f":"P276","v":"841"},null,{"$f":"VALUE(D276)","v":841},{"$f":"TYPE(F276)","v":1},{"$f":"IF(G276=1,1,0)","v":1},{"$f":"IF(TYPE(SEARCH(\"/\",A276,1))=16,SEARCH(\"Potentiel\",A276,1),SEARCH(\"/\",A276,1))","v":14},{"$f":"IF(TYPE(SEARCH(\",\",A276,1))=16,0,SEARCH(\",\",A276,1))","v":4},{"$f":"IF(TYPE(SEARCH(\",\",A276,J276+1))=1,SEARCH(\",\",A276,J276+1),J276)","v":4},null,{"$f":"IF(TYPE(SEARCH(\",\",A276,K276+1))=1,SEARCH(\",\",A276,K276+1),K276)+IF(Q276=1,1,0)","v":5},{"$f":"IF(TYPE(SEARCH(\",\",#REF!,M276+1))=1,SEARCH(\",\",#REF!,M276+1),M276)","v":5},{"$f":"IF(I276-2-(N276+4)<0,0,I276-2-(N276+4)-IF(TYPE(SEARCH(\"/\",A276,1))=16,0,4))","v":3},{"$f":"IF(MID(A276,N276+4,O276)=\"\",0,MID(A276,N276+4,O276))","v":"841"},{"$f":"TYPE(SEARCH(\"K\",A276,1))","v":1}]
[{"$f":"Feuil2!$V$13","v":"\n581 (+146)Force"},null,{"$f":"IF(TYPE(SEARCH(\"(\",A277,1))=16,SEARCH(\"F\",A277,1)+1,SEARCH(\"(\",A277,1))","v":6},{"$f":"REPLACE(MID(A277,1,C277-2),1,1,\"\")","v":"581"},{"$f":"E270+H277","v":106},{"$f":"VALUE(D277)-J277","v":435},{"$f":"TYPE(F277)","v":1},{"$f":"IF(G277=1,1,0)","v":1},{"$f":"IF(TYPE(SEARCH(\")\",A277,1))=16,K277,SEARCH(\")\",A277,1))","v":11},{"$f":"IF(TYPE(SEARCH(\")\",A277,1))=16,0,MID(A277,K277,L277))","v":"146"},{"$f":"C277+2","v":8},{"$f":"I277-K277","v":3},null,null,null,{"$f":"P276","v":"841"}]
[{"$f":"Feuil2!$V$15","v":"\n559 (+130) Habileté "},null,{"$f":"IF(TYPE(SEARCH(\"(\",A278,1))=16,SEARCH(\"H\",A278,1)+1,SEARCH(\"(\",A278,1))","v":6},{"$f":"REPLACE(MID(A278,1,C278-2),1,1,\"\")","v":"559"},{"$f":"E277+H278","v":107},{"$f":"VALUE(D278)-J278","v":429},1,1,{"$f":"IF(TYPE(SEARCH(\")\",A278,1))=16,K278,SEARCH(\")\",A278,1))","v":11},{"$f":"IF(TYPE(SEARCH(\"(\",A278,1))=16,0,MID(A278,K278,L278))","v":"130"},{"$f":"C278+2","v":8},{"$f":"I278-K278","v":3}]
[{"$f":"Feuil2!$V$17","v":"\n589 (+172) Vitesse "},null,{"$f":"IF(TYPE(SEARCH(\"(\",A279,1))=16,SEARCH(\"V\",A279,1)+1,SEARCH(\"(\",A279,1))","v":6},{"$f":"REPLACE(MID(A279,1,C279-2),1,1,\"\")","v":"589"},{"$f":"E278+H279","v":108},{"$f":"VALUE(D279)-J279","v":417},1,1,{"$f":"IF(TYPE(SEARCH(\")\",A279,1))=16,K279,SEARCH(\")\",A279,1))","v":11},{"$f":"IF(TYPE(SEARCH(\"(\",A279,1))=16,0,MID(A279,K279,L279))","v":"172"},{"$f":"C279+2","v":8},{"$f":"I279-K279","v":3}]
[{"$f":"Feuil2!$V$19","v":"\n618 (+178) Endurance "},null,{"$f":"IF(TYPE(SEARCH(\"(\",A280,1))=16,SEARCH(\"E\",A280,1)+1,SEARCH(\"(\",A280,1))","v":6},{"$f":"REPLACE(MID(A280,1,C280-2),1,1,\"\")","v":"618"},{"$f":"E279+H280","v":109},{"$f":"VALUE(D280)-J280","v":440},1,1,{"$f":"IF(TYPE(SEARCH(\")\",A280,1))=16,K280,SEARCH(\")\",A280,1))","v":11},{"$f":"IF(TYPE(SEARCH(\"(\",A280,1))=16,0,MID(A280,K280,L280))","v":"178"},{"$f":"C280+2","v":8},{"$f":"I280-K280","v":3}]
[{"$f":"Feuil2!$V$21","v":"\n425 (+114) Intelligence "},null,{"$f":"IF(TYPE(SEARCH(\"(\",A281,1))=16,SEARCH(\"I\",A281,1)+1,SEARCH(\"(\",A281,1))","v":6},{"$f":"REPLACE(MID(A281,1,C281-2),1,1,\"\")","v":"425"},{"$f":"E280+H281","v":110},{"$f":"VALUE(D281)-J281","v":311},1,1,{"$f":"IF(TYPE(SEARCH(\")\",A281,1))=16,K281,SEARCH(\")\",A281,1))","v":11},{"$f":"IF(TYPE(SEARCH(\"(\",A281,1))=16,0,MID(A281,K281,L281))","v":"114"},{"$f":"C281+2","v":8},{"$f":"I281-K281","v":3}]
[{"$f":"Feuil2!$V$24","v":0},null,{"$f":"SEARCH(\"E\",A282,1)","v":{"$error":"#VALUE!"}},{"$f":"REPLACE(MID(A282,1,C282-1),1,1,\"\")","v":{"$error":"#VALUE!"}}]
[{"$f":"Feuil2!$V$26","v":0},null,{"$f":"SEARCH(\"M\",A283,1)","v":{"$error":"#VALUE!"}},{"$f":"REPLACE(MID(A283,1,C283-1),1,1,\"\")","v":{"$error":"#VALUE!"}}]
[]
[]
[]
[]
[]
[]
[]
[]
[]
[]
[]
[null,null,null,null,null,null,null,null,null,null,null,null,null,null,null,null,null,null,null,null,null,null,null,null,null,{"$f":"[1]Analyse!X39","v":{"$error":"#VALUE!"}},{"$f":"[1]Analyse!Y39","v":{"$error":"#VALUE!"}},{"$f":"[1]Analyse!Z39","v":{"$error":"#VALUE!"}},{"$f":"[1]Analyse!AA39","v":{"$error":"#VALUE!"}},{"$f":"[1]Analyse!AB39","v":{"$error":"#VALUE!"}},{"$f":"[1]Analyse!AC39","v":{"$error":"#VALUE!"}}]
[null,null,null,null,null,null,null,null,null,null,null,null,null,null,null,null,null,null,null,null,null,null,null,null,null,{"$f":"[1]Analyse!X40","v":{"$error":"#VALUE!"}},{"$f":"[1]Analyse!Y40","v":{"$error":"#VALUE!"}},{"$f":"[1]Analyse!Z40","v":{"$error":"#VALUE!"}},{"$f":"[1]Analyse!AA40","v":{"$error":"#VALUE!"}},{"$f":"[1]Analyse!AB40","v":{"$error":"#VALUE!"}},{"$f":"[1]Analyse!AC40","v":{"$error":"#VALUE!"}}]
[null,null,null,null,null,null,null,null,null,null,null,null,null,null,null,null,null,null,null,null,null,null,null,null,null,{"$f":"[1]Analyse!X41","v":{"$error":"#VALUE!"}},{"$f":"[1]Analyse!Y41","v":{"$error":"#VALUE!"}},{"$f":"[1]Analyse!Z41","v":{"$error":"#VALUE!"}},{"$f":"[1]Analyse!AA41","v":{"$error":"#VALUE!"}},{"$f":"[1]Analyse!AB41","v":{"$error":"#VALUE!"}},{"$f":"[1]Analyse!AC41","v":{"$error":"#VALUE!"}}]
[null,null,null,null,null,null,null,null,null,null,null,null,null,null,null,null,null,null,null,null,null,null,null,null,null,{"$f":"[1]Analyse!X42","v":{"$error":"#VALUE!"}},{"$f":"[1]Analyse!Y42","v":{"$error":"#VALUE!"}},{"$f":"[1]Analyse!Z42","v":{"$error":"#VALUE!"}},{"$f":"[1]Analyse!AA42","v":{"$error":"#VALUE!"}},{"$f":"[1]Analyse!AB42","v":{"$error":"#VALUE!"}},{"$f":"[1]Analyse!AC42","v":{"$error":"#VALUE!"}}]
[null,null,null,null,null,null,null,null,null,null,null,null,null,null,null,null,null,null,null,null,null,null,null,null,null,{"$f":"[1]Analyse!X43","v":{"$error":"#VALUE!"}},{"$f":"[1]Analyse!Y43","v":{"$error":"#VALUE!"}},{"$f":"[1]Analyse!Z43","v":{"$error":"#VALUE!"}},{"$f":"[1]Analyse!AA43","v":{"$error":"#VALUE!"}},{"$f":"[1]Analyse!AB43","v":{"$error":"#VALUE!"}},{"$f":"[1]Analyse!AC43","v":{"$error":"#VALUE!"}}]
[null,null,null,null,null,null,null,null,null,null,null,null,null,null,null,null,null,null,null,null,null,null,null,null,null,{"$f":"[1]Analyse!X44","v":{"$error":"#VALUE!"}},{"$f":"[1]Analyse!Y44","v":{"$error":"#VALUE!"}},{"$f":"[1]Analyse!Z44","v":{"$error":"#VALUE!"}},{"$f":"[1]Analyse!AA44","v":{"$error":"#VALUE!"}},{"$f":"[1]Analyse!AB44","v":{"$error":"#VALUE!"}},{"$f":"[1]Analyse!AC44","v":{"$error":"#VALUE!"}}]
[null,null,null,null,null,null,null,null,null,null,null,null,null,null,null,null,null,null,null,null,null,null,null,null,null,{"$f":"[1]Analyse!X45","v":{"$error":"#VALUE!"}},{"$f":"[1]Analyse!Y45","v":{"$error":"#VALUE!"}},{"$f":"[1]Analyse!Z45","v":{"$error":"#VALUE!"}},{"$f":"[1]Analyse!AA45","v":{"$error":"#VALUE!"}},{"$f":"[1]Analyse!AB45","v":{"$error":"#VALUE!"}},{"$f":"[1]Analyse!AC45","v":{"$error":"#VALUE!"}}]
[null,null,null,null,null,null,null,null,null,null,null,null,null,null,null,null,null,null,null,null,null,null,null,null,null,{"$f":"[1]Analyse!X46","v":{"$error":"#VALUE!"}},{"$f":"[1]Analyse!Y46","v":{"$error":"#VALUE!"}},{"$f":"[1]Analyse!Z46","v":{"$error":"#VALUE!"}},{"$f":"[1]Analyse!AA46","v":{"$error":"#VALUE!"}},{"$f":"[1]Analyse!AB46","v":{"$error":"#VALUE!"}},{"$f":"[1]Analyse!AC46","v":{"$error":"#VALUE!"}}]
[null,null,null,null,null,null,null,null,null,null,null,null,null,null,null,null,null,null,null,null,null,null,null,null,null,{"$f":"[1]Analyse!X47","v":{"$error":"#VALUE!"}},{"$f":"[1]Analyse!Y47","v":{"$error":"#VALUE!"}},{"$f":"[1]Analyse!Z47","v":{"$error":"#VALUE!"}},{"$f":"[1]Analyse!AA47","v":{"$error":"#VALUE!"}},{"$f":"[1]Analyse!AB47","v":{"$error":"#VALUE!"}},{"$f":"[1]Analyse!AC47","v":{"$error":"#VALUE!"}}]
[null,null,null,null,null,null,null,null,null,null,null,null,null,null,null,null,null,null,null,null,null,null,null,null,null,{"$f":"[1]Analyse!X48","v":{"$error":"#VALUE!"}},{"$f":"[1]Analyse!Y48","v":{"$error":"#VALUE!"}},{"$f":"[1]Analyse!Z48","v":{"$error":"#VALUE!"}},{"$f":"[1]Analyse!AA48","v":{"$error":"#VALUE!"}},{"$f":"[1]Analyse!AB48","v":{"$error":"#VALUE!"}},{"$f":"[1]Analyse!AC48","v":{"$error":"#VALUE!"}}]
[null,null,null,null,null,null,null,null,null,null,null,null,null,null,null,null,null,null,null,null,null,null,null,null,null,null,null,null,null,null,{"$f":"[1]Analyse!AC49","v":0}]
[null,null,null,null,null,null,null,null,null,null,null,null,null,null,null,null,null,null,null,null,null,null,null,null,null,null,null,null,null,null,{"$f":"[1]Analyse!AC50","v":0}]
[null,null,null,null,null,null,null,null,null,null,null,null,null,null,null,null,null,null,null,null,null,null,null,null,null,null,null,null,null,null,{"$f":"[1]Analyse!AC51","v":"min"}]
[null,null,null,null,null,null,null,null,null,null,null,null,null,null,null,null,null,null,null,null,null,null,null,null,null,{"$f":"[1]Analyse!X52","v":{"$error":"#VALUE!"}},{"$f":"[1]Analyse!Y52","v":{"$error":"#VALUE!"}},{"$f":"[1]Analyse!Z52","v":{"$error":"#VALUE!"}},{"$f":"[1]Analyse!AA52","v":{"$error":"#VALUE!"}},{"$f":"[1]Analyse!AB52","v":{"$error":"#VALUE!"}},{"$f":"[1]Analyse!AC52","v":{"$error":"#VALUE!"}}]
[null,null,null,null,null,null,null,null,null,null,null,null,null,null,null,null,null,null,null,null,null,null,null,null,null,{"$f":"[1]Analyse!X53","v":{"$error":"#VALUE!"}},{"$f":"[1]Analyse!Y53","v":{"$error":"#VALUE!"}},{"$f":"[1]Analyse!Z53","v":{"$error":"#VALUE!"}},{"$f":"[1]Analyse!AA53","v":{"$error":"#VALUE!"}},{"$f":"[1]Analyse!AB53","v":{"$error":"#VALUE!"}},{"$f":"[1]Analyse!AC53","v":{"$error":"#VALUE!"}}]
[null,null,null,null,null,null,null,null,null,null,null,null,null,null,null,null,null,null,null,null,null,null,null,null,null,{"$f":"[1]Analyse!X54","v":{"$error":"#VALUE!"}},{"$f":"[1]Analyse!Y54","v":{"$error":"#VALUE!"}},{"$f":"[1]Analyse!Z54","v":{"$error":"#VALUE!"}},{"$f":"[1]Analyse!AA54","v":{"$error":"#VALUE!"}},{"$f":"[1]Analyse!AB54","v":{"$error":"#VALUE!"}},{"$f":"[1]Analyse!AC54","v":{"$error":"#VALUE!"}}]
[null,null,null,null,null,null,null,null,null,null,null,null,null,null,null,null,null,null,null,null,null,null,null,null,null,{"$f":"[1]Analyse!X55","v":{"$error":"#VALUE!"}},{"$f":"[1]Analyse!Y55","v":{"$error":"#VALUE!"}},{"$f":"[1]Analyse!Z55","v":{"$error":"#VALUE!"}},{"$f":"[1]Analyse!AA55","v":{"$error":"#VALUE!"}},{"$f":"[1]Analyse!AB55","v":{"$error":"#VALUE!"}},{"$f":"[1]Analyse!AC55","v":{"$error":"#VALUE!"}}]
[null,null,null,null,null,null,null,null,null,null,null,null,null,null,null,null,null,null,null,null,null,null,null,null,null,{"$f":"[1]Analyse!X56","v":{"$error":"#VALUE!"}},{"$f":"[1]Analyse!Y56","v":{"$error":"#VALUE!"}},{"$f":"[1]Analyse!Z56","v":{"$error":"#VALUE!"}},{"$f":"[1]Analyse!AA56","v":{"$error":"#VALUE!"}},{"$f":"[1]Analyse!AB56","v":{"$error":"#VALUE!"}},{"$f":"[1]Analyse!AC56","v":{"$error":"#VALUE!"}}]
[null,null,null,null,null,null,null,null,null,null,null,null,null,null,null,null,null,null,null,null,null,null,null,null,null,{"$f":"[1]Analyse!X57","v":{"$error":"#VALUE!"}},{"$f":"[1]Analyse!Y57","v":{"$error":"#VALUE!"}},{"$f":"[1]Analyse!Z57","v":{"$error":"#VALUE!"}},{"$f":"[1]Analyse!AA57","v":{"$error":"#VALUE!"}},{"$f":"[1]Analyse!AB57","v":{"$error":"#VALUE!"}},{"$f":"[1]Analyse!AC57","v":{"$error":"#VALUE!"}}]
[null,null,null,null,null,null,null,null,null,null,null,null,null,null,null,null,null,null,null,null,null,null,null,null,null,{"$f":"[1]Analyse!X58","v":{"$error":"#VALUE!"}},{"$f":"[1]Analyse!Y58","v":{"$error":"#VALUE!"}},{"$f":"[1]Analyse!Z58","v":{"$error":"#VALUE!"}},{"$f":"[1]Analyse!AA58","v":{"$error":"#VALUE!"}},{"$f":"[1]Analyse!AB58","v":{"$error":"#VALUE!"}},{"$f":"[1]Analyse!AC58","v":{"$error":"#VALUE!"}}]
[null,null,null,null,null,null,null,null,null,null,null,null,null,null,null,null,null,null,null,null,null,null,null,null,null,{"$f":"[1]Analyse!X59","v":{"$error":"#VALUE!"}},{"$f":"[1]Analyse!Y59","v":{"$error":"#VALUE!"}},{"$f":"[1]Analyse!Z59","v":{"$error":"#VALUE!"}},{"$f":"[1]Analyse!AA59","v":{"$error":"#VALUE!"}},{"$f":"[1]Analyse!AB59","v":{"$error":"#VALUE!"}},{"$f":"[1]Analyse!AC59","v":{"$error":"#VALUE!"}}]
[null,null,null,null,null,null,null,null,null,null,null,null,null,null,null,null,null,null,null,null,null,null,null,null,null,{"$f":"[1]Analyse!X60","v":{"$error":"#VALUE!"}},{"$f":"[1]Analyse!Y60","v":{"$error":"#VALUE!"}},{"$f":"[1]Analyse!Z60","v":{"$error":"#VALUE!"}},{"$f":"[1]Analyse!AA60","v":{"$error":"#VALUE!"}},{"$f":"[1]Analyse!AB60","v":{"$error":"#VALUE!"}},{"$f":"[1]Analyse!AC60","v":{"$error":"#VALUE!"}}]
[null,null,null,null,null,null,null,null,null,null,null,null,null,null,null,null,null,null,null,null,null,null,null,null,null,{"$f":"[1]Analyse!X61","v":{"$error":"#VALUE!"}},{"$f":"[1]Analyse!Y61","v":{"$error":"#VALUE!"}},{"$f":"[1]Analyse!Z61","v":{"$error":"#VALUE!"}},{"$f":"[1]Analyse!AA61","v":{"$error":"#VALUE!"}},{"$f":"[1]Analyse!AB61","v":{"$error":"#VALUE!"}},{"$f":"[1]Analyse!AC61","v":{"$error":"#VALUE!"}}]
[null,null,null,null,null,null,null,null,null,null,null,null,null,null,null,null,null,null,null,null,null,null,null,null,null,{"$f":"[1]Analyse!X62","v":{"$error":"#VALUE!"}},{"$f":"[1]Analyse!Y62","v":{"$error":"#VALUE!"}},{"$f":"[1]Analyse!Z62","v":{"$error":"#VALUE!"}},{"$f":"[1]Analyse!AA62","v":{"$error":"#VALUE!"}},{"$f":"[1]Analyse!AB62","v":{"$error":"#VALUE!"}},{"$f":"[1]Analyse!AC62","v":{"$error":"#VALUE!"}}]
[null,null,null,null,null,null,null,null,null,null,null,null,null,null,null,null,null,null,null,null,null,null,null,null,null,{"$f":"[1]Analyse!X63","v":{"$error":"#VALUE!"}},{"$f":"[1]Analyse!Y63","v":{"$error":"#VALUE!"}},{"$f":"[1]Analyse!Z63","v":{"$error":"#VALUE!"}},{"$f":"[1]Analyse!AA63","v":{"$error":"#VALUE!"}},{"$f":"[1]Analyse!AB63","v":{"$error":"#VALUE!"}},{"$f":"[1]Analyse!AC63","v":{"$error":"#VALUE!"}}]
[null,null,null,null,null,null,null,null,null,null,null,null,null,null,null,null,null,null,null,null,null,null,null,null,null,{"$f":"[1]Analyse!X64","v":{"$error":"#VALUE!"}},{"$f":"[1]Analyse!Y64","v":{"$error":"#VALUE!"}},{"$f":"[1]Analyse!Z64","v":{"$error":"#VALUE!"}},{"$f":"[1]Analyse!AA64","v":{"$error":"#VALUE!"}},{"$f":"[1]Analyse!AB64","v":{"$error":"#VALUE!"}},{"$f":"[1]Analyse!AC64","v":{"$error":"#VALUE!"}}]
[null,null,null,null,null,null,null,null,null,null,null,null,null,null,null,null,null,null,null,null,null,null,null,null,null,{"$f":"[1]Analyse!X65","v":{"$error":"#VALUE!"}},{"$f":"[1]Analyse!Y65","v":{"$error":"#VALUE!"}},{"$f":"[1]Analyse!Z65","v":{"$error":"#VALUE!"}},{"$f":"[1]Analyse!AA65","v":{"$error":"#VALUE!"}},{"$f":"[1]Analyse!AB65","v":{"$error":"#VALUE!"}},{"$f":"[1]Analyse!AC65","v":{"$error":"#VALUE!"}}]
[null,null,null,null,null,null,null,null,null,null,null,null,null,null,null,null,null,null,null,null,null,null,null,null,null,{"$f":"[1]Analyse!X66","v":{"$error":"#VALUE!"}},{"$f":"[1]Analyse!Y66","v":{"$error":"#VALUE!"}},{"$f":"[1]Analyse!Z66","v":{"$error":"#VALUE!"}},{"$f":"[1]Analyse!AA66","v":{"$error":"#VALUE!"}},{"$f":"[1]Analyse!AB66","v":{"$error":"#VALUE!"}},{"$f":"[1]Analyse!AC66","v":{"$error":"#VALUE!"}}]
[null,null,null,null,null,null,null,null,null,null,null,null,null,null,null,null,null,null,null,null,null,null,null,null,null,{"$f":"[1]Analyse!X67","v":{"$error":"#VALUE!"}},{"$f":"[1]Analyse!Y67","v":{"$error":"#VALUE!"}},{"$f":"[1]Analyse!Z67","v":{"$error":"#VALUE!"}},{"$f":"[1]Analyse!AA67","v":{"$error":"#VALUE!"}},{"$f":"[1]Analyse!AB67","v":{"$error":"#VALUE!"}},{"$f":"[1]Analyse!AC67","v":{"$error":"#VALUE!"}}]
[null,null,null,null,null,null,null,null,null,null,null,null,null,null,null,null,null,null,null,null,null,null,null,null,null,{"$f":"[1]Analyse!X68","v":{"$error":"#VALUE!"}},{"$f":"[1]Analyse!Y68","v":{"$error":"#VALUE!"}},{"$f":"[1]Analyse!Z68","v":{"$error":"#VALUE!"}},{"$f":"[1]Analyse!AA68","v":{"$error":"#VALUE!"}},{"$f":"[1]Analyse!AB68","v":{"$error":"#VALUE!"}},{"$f":"[1]Analyse!AC68","v":{"$error":"#VALUE!"}}]
[null,null,null,null,null,null,null,null,null,null,null,null,null,null,null,null,null,null,null,null,null,null,null,null,null,{"$f":"[1]Analyse!X69","v":{"$error":"#VALUE!"}},{"$f":"[1]Analyse!Y69","v":{"$error":"#VALUE!"}},{"$f":"[1]Analyse!Z69","v":{"$error":"#VALUE!"}},{"$f":"[1]Analyse!AA69","v":{"$error":"#VALUE!"}},{"$f":"[1]Analyse!AB69","v":{"$error":"#VALUE!"}},{"$f":"[1]Analyse!AC69","v":{"$error":"#VALUE!"}}]
[null,null,null,null,null,null,null,null,null,null,null,null,null,null,null,null,null,null,null,null,null,null,null,null,null,{"$f":"[1]Analyse!X70","v":{"$error":"#VALUE!"}},{"$f":"[1]Analyse!Y70","v":{"$error":"#VALUE!"}},{"$f":"[1]Analyse!Z70","v":{"$error":"#VALUE!"}},{"$f":"[1]Analyse!AA70","v":{"$error":"#VALUE!"}},{"$f":"[1]Analyse!AB70","v":{"$error":"#VALUE!"}},{"$f":"[1]Analyse!AC70","v":{"$error":"#VALUE!"}}]
[null,null,null,null,null,null,null,null,null,null,null,null,null,null,null,null,null,null,null,null,null,null,null,null,null,{"$f":"[1]Analyse!X71","v":{"$error":"#VALUE!"}},{"$f":"[1]Analyse!Y71","v":{"$error":"#VALUE!"}},{"$f":"[1]Analyse!Z71","v":{"$error":"#VALUE!"}},{"$f":"[1]Analyse!AA71","v":{"$error":"#VALUE!"}},{"$f":"[1]Analyse!AB71","v":{"$error":"#VALUE!"}},{"$f":"[1]Analyse!AC71","v":{"$error":"#VALUE!"}}]
[null,null,null,null,null,null,null,null,null,null,null,null,null,null,null,null,null,null,null,null,null,null,null,null,null,{"$f":"[1]Analyse!X72","v":{"$error":"#VALUE!"}},{"$f":"[1]Analyse!Y72","v":{"$error":"#VALUE!"}},{"$f":"[1]Analyse!Z72","v":{"$error":"#VALUE!"}},{"$f":"[1]Analyse!AA72","v":{"$error":"#VALUE!"}},{"$f":"[1]Analyse!AB72","v":{"$error":"#VALUE!"}},{"$f":"[1]Analyse!AC72","v":{"$error":"#VALUE!"}}]
[null,null,null,null,null,null,null,null,null,null,null,null,null,null,null,null,null,null,null,null,null,null,null,null,null,{"$f":"[1]Analyse!X73","v":{"$error":"#VALUE!"}},{"$f":"[1]Analyse!Y73","v":{"$error":"#VALUE!"}},{"$f":"[1]Analyse!Z73","v":{"$error":"#VALUE!"}},{"$f":"[1]Analyse!AA73","v":{"$error":"#VALUE!"}},{"$f":"[1]Analyse!AB73","v":{"$error":"#VALUE!"}},{"$f":"[1]Analyse!AC73","v":{"$error":"#VALUE!"}}]
[null,null,null,null,null,null,null,null,null,null,null,null,null,null,null,null,null,null,null,null,null,null,null,null,null,{"$f":"[1]Analyse!X74","v":{"$error":"#VALUE!"}},{"$f":"[1]Analyse!Y74","v":{"$error":"#VALUE!"}},{"$f":"[1]Analyse!Z74","v":{"$error":"#VALUE!"}},{"$f":"[1]Analyse!AA74","v":{"$error":"#VALUE!"}},{"$f":"[1]Analyse!AB74","v":{"$error":"#VALUE!"}},{"$f":"[1]Analyse!AC74","v":{"$error":"#VALUE!"}}]
[null,null,null,null,null,null,null,null,null,null,null,null,null,null,null,null,null,null,null,null,null,null,null,null,null,{"$f":"[1]Analyse!X75","v":{"$error":"#VALUE!"}},{"$f":"[1]Analyse!Y75","v":{"$error":"#VALUE!"}},{"$f":"[1]Analyse!Z75","v":{"$error":"#VALUE!"}},{"$f":"[1]Analyse!AA75","v":{"$error":"#VALUE!"}},{"$f":"[1]Analyse!AB75","v":{"$error":"#VALUE!"}},{"$f":"[1]Analyse!AC75","v":{"$error":"#VALUE!"}}]
[null,null,null,null,null,null,null,null,null,null,null,null,null,null,null,null,null,null,null,null,null,null,null,null,null,{"$f":"[1]Analyse!X76","v":{"$error":"#VALUE!"}},{"$f":"[1]Analyse!Y76","v":{"$error":"#VALUE!"}},{"$f":"[1]Analyse!Z76","v":{"$error":"#VALUE!"}},{"$f":"[1]Analyse!AA76","v":{"$error":"#VALUE!"}},{"$f":"[1]Analyse!AB76","v":{"$error":"#VALUE!"}},{"$f":"[1]Analyse!AC76","v":{"$error":"#VALUE!"}}]
[null,null,null,null,null,null,null,null,null,null,null,null,null,null,null,null,null,null,null,null,null,null,null,null,null,{"$f":"[1]Analyse!X77","v":{"$error":"#VALUE!"}},{"$f":"[1]Analyse!Y77","v":{"$error":"#VALUE!"}},{"$f":"[1]Analyse!Z77","v":{"$error":"#VALUE!"}},{"$f":"[1]Analyse!AA77","v":{"$error":"#VALUE!"}},{"$f":"[1]Analyse!AB77","v":{"$error":"#VALUE!"}},{"$f":"[1]Analyse!AC77","v":{"$error":"#VALUE!"}}]
[null,null,null,null,null,null,null,null,null,null,null,null,null,null,null,null,null,null,null,null,null,null,null,null,null,{"$f":"[1]Analyse!X78","v":{"$error":"#VALUE!"}},{"$f":"[1]Analyse!Y78","v":{"$error":"#VALUE!"}},{"$f":"[1]Analyse!Z78","v":{"$error":"#VALUE!"}},{"$f":"[1]Analyse!AA78","v":{"$error":"#VALUE!"}},{"$f":"[1]Analyse!AB78","v":{"$error":"#VALUE!"}},{"$f":"[1]Analyse!AC78","v":{"$error":"#VALUE!"}}]
[null,null,null,null,null,null,null,null,null,null,null,null,null,null,null,null,null,null,null,null,null,null,null,null,null,{"$f":"[1]Analyse!X79","v":{"$error":"#VALUE!"}},{"$f":"[1]Analyse!Y79","v":{"$error":"#VALUE!"}},{"$f":"[1]Analyse!Z79","v":{"$error":"#VALUE!"}},{"$f":"[1]Analyse!AA79","v":{"$error":"#VALUE!"}},{"$f":"[1]Analyse!AB79","v":{"$error":"#VALUE!"}},{"$f":"[1]Analyse!AC79","v":{"$error":"#VALUE!"}}]
[null,null,null,null,null,null,null,null,null,null,null,null,null,null,null,null,null,null,null,null,null,null,null,null,null,{"$f":"[1]Analyse!X80","v":{"$error":"#VALUE!"}},{"$f":"[1]Analyse!Y80","v":{"$error":"#VALUE!"}},{"$f":"[1]Analyse!Z80","v":{"$error":"#VALUE!"}},{"$f":"[1]Analyse!AA80","v":{"$error":"#VALUE!"}},{"$f":"[1]Analyse!AB80","v":{"$error":"#VALUE!"}},{"$f":"[1]Analyse!AC80","v":{"$error":"#VALUE!"}}]
[null,null,null,null,null,null,null,null,null,null,null,null,null,null,null,null,null,null,null,null,null,null,null,null,null,{"$f":"[1]Analyse!X81","v":{"$error":"#VALUE!"}},{"$f":"[1]Analyse!Y81","v":{"$error":"#VALUE!"}},{"$f":"[1]Analyse!Z81","v":{"$error":"#VALUE!"}},{"$f":"[1]Analyse!AA81","v":{"$error":"#VALUE!"}},{"$f":"[1]Analyse!AB81","v":{"$error":"#VALUE!"}},{"$f":"[1]Analyse!AC81","v":{"$error":"#VALUE!"}}]
[null,null,null,null,null,null,null,null,null,null,null,null,null,null,null,null,null,null,null,null,null,null,null,null,null,{"$f":"[1]Analyse!X82","v":{"$error":"#VALUE!"}},{"$f":"[1]Analyse!Y82","v":{"$error":"#VALUE!"}},{"$f":"[1]Analyse!Z82","v":{"$error":"#VALUE!"}},{"$f":"[1]Analyse!AA82","v":{"$error":"#VALUE!"}},{"$f":"[1]Analyse!AB82","v":{"$error":"#VALUE!"}},{"$f":"[1]Analyse!AC82","v":{"$error":"#VALUE!"}}]
[null,null,null,null,null,null,null,null,null,null,null,null,null,null,null,null,null,null,null,null,null,null,null,null,null,{"$f":"[1]Analyse!X83","v":{"$error":"#VALUE!"}},{"$f":"[1]Analyse!Y83","v":{"$error":"#VALUE!"}},{"$f":"[1]Analyse!Z83","v":{"$error":"#VALUE!"}},{"$f":"[1]Analyse!AA83","v":{"$error":"#VALUE!"}},{"$f":"[1]Analyse!AB83","v":{"$error":"#VALUE!"}},{"$f":"[1]Analyse!AC83","v":{"$error":"#VALUE!"}}]
[null,null,null,null,null,null,null,null,null,null,null,null,null,null,null,null,null,null,null,null,null,null,null,null,null,{"$f":"[1]Analyse!X84","v":{"$error":"#VALUE!"}},{"$f":"[1]Analyse!Y84","v":{"$error":"#VALUE!"}},{"$f":"[1]Analyse!Z84","v":{"$error":"#VALUE!"}},{"$f":"[1]Analyse!AA84","v":{"$error":"#VALUE!"}},{"$f":"[1]Analyse!AB84","v":{"$error":"#VALUE!"}},{"$f":"[1]Analyse!AC84","v":{"$error":"#VALUE!"}}]
[null,null,null,null,null,null,null,null,null,null,null,null,null,null,null,null,null,null,null,null,null,null,null,null,null,{"$f":"[1]Analyse!X85","v":{"$error":"#VALUE!"}},{"$f":"[1]Analyse!Y85","v":{"$error":"#VALUE!"}},{"$f":"[1]Analyse!Z85","v":{"$error":"#VALUE!"}},{"$f":"[1]Analyse!AA85","v":{"$error":"#VALUE!"}},{"$f":"[1]Analyse!AB85","v":{"$error":"#VALUE!"}},{"$f":"[1]Analyse!AC85","v":{"$error":"#VALUE!"}}]
[null,null,null,null,null,null,null,null,null,null,null,null,null,null,null,null,null,null,null,null,null,null,null,null,null,{"$f":"[1]Analyse!X86","v":{"$error":"#VALUE!"}},{"$f":"[1]Analyse!Y86","v":{"$error":"#VALUE!"}},{"$f":"[1]Analyse!Z86","v":{"$error":"#VALUE!"}},{"$f":"[1]Analyse!AA86","v":{"$error":"#VALUE!"}},{"$f":"[1]Analyse!AB86","v":{"$error":"#VALUE!"}},{"$f":"[1]Analyse!AC86","v":{"$error":"#VALUE!"}}]
[null,null,null,null,null,null,null,null,null,null,null,null,null,null,null,null,null,null,null,null,null,null,null,null,null,{"$f":"[1]Analyse!X87","v":{"$error":"#VALUE!"}},{"$f":"[1]Analyse!Y87","v":{"$error":"#VALUE!"}},{"$f":"[1]Analyse!Z87","v":{"$error":"#VALUE!"}},{"$f":"[1]Analyse!AA87","v":{"$error":"#VALUE!"}},{"$f":"[1]Analyse!AB87","v":{"$error":"#VALUE!"}},{"$f":"[1]Analyse!AC87","v":{"$error":"#VALUE!"}}]
[null,null,null,null,null,null,null,null,null,null,null,null,null,null,null,null,null,null,null,null,null,null,null,null,null,{"$f":"[1]Analyse!X88","v":{"$error":"#VALUE!"}},{"$f":"[1]Analyse!Y88","v":{"$error":"#VALUE!"}},{"$f":"[1]Analyse!Z88","v":{"$error":"#VALUE!"}},{"$f":"[1]Analyse!AA88","v":{"$error":"#VALUE!"}},{"$f":"[1]Analyse!AB88","v":{"$error":"#VALUE!"}},{"$f":"[1]Analyse!AC88","v":{"$error":"#VALUE!"}}]
[null,null,null,null,null,null,null,null,null,null,null,null,null,null,null,null,null,null,null,null,null,null,null,null,null,{"$f":"[1]Analyse!X89","v":{"$error":"#VALUE!"}},{"$f":"[1]Analyse!Y89","v":{"$error":"#VALUE!"}},{"$f":"[1]Analyse!Z89","v":{"$error":"#VALUE!"}},{"$f":"[1]Analyse!AA89","v":{"$error":"#VALUE!"}},{"$f":"[1]Analyse!AB89","v":{"$error":"#VALUE!"}},{"$f":"[1]Analyse!AC89","v":{"$error":"#VALUE!"}}]
[null,null,null,null,null,null,null,null,null,null,null,null,null,null,null,null,null,null,null,null,null,null,null,null,null,{"$f":"[1]Analyse!X90","v":{"$error":"#VALUE!"}},{"$f":"[1]Analyse!Y90","v":{"$error":"#VALUE!"}},{"$f":"[1]Analyse!Z90","v":{"$error":"#VALUE!"}},{"$f":"[1]Analyse!AA90","v":{"$error":"#VALUE!"}},{"$f":"[1]Analyse!AB90","v":{"$error":"#VALUE!"}},{"$f":"[1]Analyse!AC90","v":{"$error":"#VALUE!"}}]
[null,null,null,null,null,null,null,null,null,null,null,null,null,null,null,null,null,null,null,null,null,null,null,null,null,{"$f":"[1]Analyse!X91","v":{"$error":"#VALUE!"}},{"$f":"[1]Analyse!Y91","v":{"$error":"#VALUE!"}},{"$f":"[1]Analyse!Z91","v":{"$error":"#VALUE!"}},{"$f":"[1]Analyse!AA91","v":{"$error":"#VALUE!"}},{"$f":"[1]Analyse!AB91","v":{"$error":"#VALUE!"}},{"$f":"[1]Analyse!AC91","v":{"$error":"#VALUE!"}}]
[null,null,null,null,null,null,null,null,null,null,null,null,null,null,null,null,null,null,null,null,null,null,null,null,null,{"$f":"[1]Analyse!X92","v":{"$error":"#VALUE!"}},{"$f":"[1]Analyse!Y92","v":{"$error":"#VALUE!"}},{"$f":"[1]Analyse!Z92","v":{"$error":"#VALUE!"}},{"$f":"[1]Analyse!AA92","v":{"$error":"#VALUE!"}},{"$f":"[1]Analyse!AB92","v":{"$error":"#VALUE!"}},{"$f":"[1]Analyse!AC92","v":{"$error":"#VALUE!"}}]
[null,null,null,null,null,null,null,null,null,null,null,null,null,null,null,null,null,null,null,null,null,null,null,null,null,{"$f":"[1]Analyse!X93","v":{"$error":"#VALUE!"}},{"$f":"[1]Analyse!Y93","v":{"$error":"#VALUE!"}},{"$f":"[1]Analyse!Z93","v":{"$error":"#VALUE!"}},{"$f":"[1]Analyse!AA93","v":{"$error":"#VALUE!"}},{"$f":"[1]Analyse!AB93","v":{"$error":"#VALUE!"}},{"$f":"[1]Analyse!AC93","v":{"$error":"#VALUE!"}}]
[null,null,null,null,null,null,null,null,null,null,null,null,null,null,null,null,null,null,null,null,null,null,null,null,null,{"$f":"[1]Analyse!X94","v":{"$error":"#VALUE!"}},{"$f":"[1]Analyse!Y94","v":{"$error":"#VALUE!"}},{"$f":"[1]Analyse!Z94","v":{"$error":"#VALUE!"}},{"$f":"[1]Analyse!AA94","v":{"$error":"#VALUE!"}},{"$f":"[1]Analyse!AB94","v":{"$error":"#VALUE!"}},{"$f":"[1]Analyse!AC94","v":{"$error":"#VALUE!"}}]
[null,null,null,null,null,null,null,null,null,null,null,null,null,null,null,null,null,null,null,null,null,null,null,null,null,{"$f":"[1]Analyse!X95","v":{"$error":"#VALUE!"}},{"$f":"[1]Analyse!Y95","v":{"$error":"#VALUE!"}},{"$f":"[1]Analyse!Z95","v":{"$error":"#VALUE!"}},{"$f":"[1]Analyse!AA95","v":{"$error":"#VALUE!"}},{"$f":"[1]Analyse!AB95","v":{"$error":"#VALUE!"}},{"$f":"[1]Analyse!AC95","v":{"$error":"#VALUE!"}}]
[null,null,null,null,null,null,null,null,null,null,null,null,null,null,null,null,null,null,null,null,null,null,null,null,null,null,null,null,null,null,{"$f":"[1]Analyse!AC96","v":0}]
[null,null,null,null,null,null,null,null,null,null,null,null,null,null,null,null,null,null,null,null,null,null,null,null,null,null,null,null,null,null,{"$f":"[1]Analyse!AC97","v":0}]
[null,null,null,null,null,null,null,null,null,null,null,null,null,null,null,null,null,null,null,null,null,null,null,null,null,null,null,null,null,null,{"$f":"[1]Analyse!AC98","v":"min"}]
[null,null,null,null,null,null,null,null,null,null,null,null,null,null,null,null,null,null,null,null,null,null,null,null,null,{"$f":"[1]Analyse!X99","v":{"$error":"#VALUE!"}},{"$f":"[1]Analyse!Y99","v":{"$error":"#VALUE!"}},{"$f":"[1]Analyse!Z99","v":{"$error":"#VALUE!"}},{"$f":"[1]Analyse!AA99","v":{"$error":"#VALUE!"}},{"$f":"[1]Analyse!AB99","v":{"$error":"#VALUE!"}},{"$f":"[1]Analyse!AC99","v":{"$error":"#VALUE!"}}]
[null,null,null,null,null,null,null,null,null,null,null,null,null,null,null,null,null,null,null,null,null,null,null,null,null,{"$f":"[1]Analyse!X100","v":{"$error":"#VALUE!"}},{"$f":"[1]Analyse!Y100","v":{"$error":"#VALUE!"}},{"$f":"[1]Analyse!Z100","v":{"$error":"#VALUE!"}},{"$f":"[1]Analyse!AA100","v":{"$error":"#VALUE!"}},{"$f":"[1]Analyse!AB100","v":{"$error":"#VALUE!"}},{"$f":"[1]Analyse!AC100","v":{"$error":"#VALUE!"}}]
[null,null,null,null,null,null,null,null,null,null,null,null,null,null,null,null,null,null,null,null,null,null,null,null,null,{"$f":"[1]Analyse!X101","v":{"$error":"#VALUE!"}},{"$f":"[1]Analyse!Y101","v":{"$error":"#VALUE!"}},{"$f":"[1]Analyse!Z101","v":{"$error":"#VALUE!"}},{"$f":"[1]Analyse!AA101","v":{"$error":"#VALUE!"}},{"$f":"[1]Analyse!AB101","v":{"$error":"#VALUE!"}},{"$f":"[1]Analyse!AC101","v":{"$error":"#VALUE!"}}]
[null,null,null,null,null,null,null,null,null,null,null,null,null,null,null,null,null,null,null,null,null,null,null,null,null,{"$f":"[1]Analyse!X102","v":{"$error":"#VALUE!"}},{"$f":"[1]Analyse!Y102","v":{"$error":"#VALUE!"}},{"$f":"[1]Analyse!Z102","v":{"$error":"#VALUE!"}},{"$f":"[1]Analyse!AA102","v":{"$error":"#VALUE!"}},{"$f":"[1]Analyse!AB102","v":{"$error":"#VALUE!"}},{"$f":"[1]Analyse!AC102","v":{"$error":"#VALUE!"}}]
[null,null,null,null,null,null,null,null,null,null,null,null,null,null,null,null,null,null,null,null,null,null,null,null,null,{"$f":"[1]Analyse!X103","v":{"$error":"#VALUE!"}},{"$f":"[1]Analyse!Y103","v":{"$error":"#VALUE!"}},{"$f":"[1]Analyse!Z103","v":{"$error":"#VALUE!"}},{"$f":"[1]Analyse!AA103","v":{"$error":"#VALUE!"}},{"$f":"[1]Analyse!AB103","v":{"$error":"#VALUE!"}},{"$f":"[1]Analyse!AC103","v":{"$error":"#VALUE!"}}]
[null,null,null,null,null,null,null,null,null,null,null,null,null,null,null,null,null,null,null,null,null,null,null,null,null,{"$f":"[1]Analyse!X104","v":{"$error":"#VALUE!"}},{"$f":"[1]Analyse!Y104","v":{"$error":"#VALUE!"}},{"$f":"[1]Analyse!Z104","v":{"$error":"#VALUE!"}},{"$f":"[1]Analyse!AA104","v":{"$error":"#VALUE!"}},{"$f":"[1]Analyse!AB104","v":{"$error":"#VALUE!"}},{"$f":"[1]Analyse!AC104","v":{"$error":"#VALUE!"}}]
[null,null,null,null,null,null,null,null,null,null,null,null,null,null,null,null,null,null,null,null,null,null,null,null,null,{"$f":"[1]Analyse!X105","v":{"$error":"#VALUE!"}},{"$f":"[1]Analyse!Y105","v":{"$error":"#VALUE!"}},{"$f":"[1]Analyse!Z105","v":{"$error":"#VALUE!"}},{"$f":"[1]Analyse!AA105","v":{"$error":"#VALUE!"}},{"$f":"[1]Analyse!AB105","v":{"$error":"#VALUE!"}},{"$f":"[1]Analyse!AC105","v":{"$error":"#VALUE!"}}]
[null,null,null,null,null,null,null,null,null,null,null,null,null,null,null,null,null,null,null,null,null,null,null,null,null,{"$f":"[1]Analyse!X106","v":{"$error":"#VALUE!"}},{"$f":"[1]Analyse!Y106","v":{"$error":"#VALUE!"}},{"$f":"[1]Analyse!Z106","v":{"$error":"#VALUE!"}},{"$f":"[1]Analyse!AA106","v":{"$error":"#VALUE!"}},{"$f":"[1]Analyse!AB106","v":{"$error":"#VALUE!"}},{"$f":"[1]Analyse!AC106","v":{"$error":"#VALUE!"}}]
[null,null,null,null,null,null,null,null,null,null,null,null,null,null,null,null,null,null,null,null,null,null,null,null,null,{"$f":"[1]Analyse!X107","v":{"$error":"#VALUE!"}},{"$f":"[1]Analyse!Y107","v":{"$error":"#VALUE!"}},{"$f":"[1]Analyse!Z107","v":{"$error":"#VALUE!"}},{"$f":"[1]Analyse!AA107","v":{"$error":"#VALUE!"}},{"$f":"[1]Analyse!AB107","v":{"$error":"#VALUE!"}},{"$f":"[1]Analyse!AC107","v":{"$error":"#VALUE!"}}]
[null,null,null,null,null,null,null,null,null,null,null,null,null,null,null,null,null,null,null,null,null,null,null,null,null,{"$f":"[1]Analyse!X108","v":{"$error":"#VALUE!"}},{"$f":"[1]Analyse!Y108","v":{"$error":"#VALUE!"}},{"$f":"[1]Analyse!Z108","v":{"$error":"#VALUE!"}},{"$f":"[1]Analyse!AA108","v":{"$error":"#VALUE!"}},{"$f":"[1]Analyse!AB108","v":{"$error":"#VALUE!"}},{"$f":"[1]Analyse!AC108","v":{"$error":"#VALUE!"}}]
[null,null,null,null,null,null,null,null,null,null,null,null,null,null,null,null,null,null,null,null,null,null,null,null,null,{"$f":"[1]Analyse!X109","v":{"$error":"#VALUE!"}},{"$f":"[1]Analyse!Y109","v":{"$error":"#VALUE!"}},{"$f":"[1]Analyse!Z109","v":{"$error":"#VALUE!"}},{"$f":"[1]Analyse!AA109","v":{"$error":"#VALUE!"}},{"$f":"[1]Analyse!AB109","v":{"$error":"#VALUE!"}},{"$f":"[1]Analyse!AC109","v":{"$error":"#VALUE!"}}]
[null,null,null,null,null,null,null,null,null,null,null,null,null,null,null,null,null,null,null,null,null,null,null,null,null,{"$f":"[1]Analyse!X110","v":{"$error":"#VALUE!"}},{"$f":"[1]Analyse!Y110","v":{"$error":"#VALUE!"}},{"$f":"[1]Analyse!Z110","v":{"$error":"#VALUE!"}},{"$f":"[1]Analyse!AA110","v":{"$error":"#VALUE!"}},{"$f":"[1]Analyse!AB110","v":{"$error":"#VALUE!"}},{"$f":"[1]Analyse!AC110","v":{"$error":"#VALUE!"}}]
[null,null,null,null,null,null,null,null,null,null,null,null,null,null,null,null,null,null,null,null,null,null,null,null,null,{"$f":"[1]Analyse!X111","v":{"$error":"#VALUE!"}},{"$f":"[1]Analyse!Y111","v":{"$error":"#VALUE!"}},{"$f":"[1]Analyse!Z111","v":{"$error":"#VALUE!"}},{"$f":"[1]Analyse!AA111","v":{"$error":"#VALUE!"}},{"$f":"[1]Analyse!AB111","v":{"$error":"#VALUE!"}},{"$f":"[1]Analyse!AC111","v":{"$error":"#VALUE!"}}]
[null,null,null,null,null,null,null,null,null,null,null,null,null,null,null,null,null,null,null,null,null,null,null,null,null,{"$f":"[1]Analyse!X112","v":{"$error":"#VALUE!"}},{"$f":"[1]Analyse!Y112","v":{"$error":"#VALUE!"}},{"$f":"[1]Analyse!Z112","v":{"$error":"#VALUE!"}},{"$f":"[1]Analyse!AA112","v":{"$error":"#VALUE!"}},{"$f":"[1]Analyse!AB112","v":{"$error":"#VALUE!"}},{"$f":"[1]Analyse!AC112","v":{"$error":"#VALUE!"}}]
[null,null,null,null,null,null,null,null,null,null,null,null,null,null,null,null,null,null,null,null,null,null,null,null,null,{"$f":"[1]Analyse!X113","v":{"$error":"#VALUE!"}},{"$f":"[1]Analyse!Y113","v":{"$error":"#VALUE!"}},{"$f":"[1]Analyse!Z113","v":{"$error":"#VALUE!"}},{"$f":"[1]Analyse!AA113","v":{"$error":"#VALUE!"}},{"$f":"[1]Analyse!AB113","v":{"$error":"#VALUE!"}},{"$f":"[1]Analyse!AC113","v":{"$error":"#VALUE!"}}]
[null,null,null,null,null,null,null,null,null,null,null,null,null,null,null,null,null,null,null,null,null,null,null,null,null,{"$f":"[1]Analyse!X114","v":{"$error":"#VALUE!"}},{"$f":"[1]Analyse!Y114","v":{"$error":"#VALUE!"}},{"$f":"[1]Analyse!Z114","v":{"$error":"#VALUE!"}},{"$f":"[1]Analyse!AA114","v":{"$error":"#VALUE!"}},{"$f":"[1]Analyse!AB114","v":{"$error":"#VALUE!"}},{"$f":"[1]Analyse!AC114","v":{"$error":"#VALUE!"}}]
[null,null,null,null,null,null,null,null,null,null,null,null,null,null,null,null,null,null,null,null,null,null,null,null,null,{"$f":"[1]Analyse!X115","v":{"$error":"#VALUE!"}},{"$f":"[1]Analyse!Y115","v":{"$error":"#VALUE!"}},{"$f":"[1]Analyse!Z115","v":{"$error":"#VALUE!"}},{"$f":"[1]Analyse!AA115","v":{"$error":"#VALUE!"}},{"$f":"[1]Analyse!AB115","v":{"$error":"#VALUE!"}},{"$f":"[1]Analyse!AC115","v":{"$error":"#VALUE!"}}]
[null,null,null,null,null,null,null,null,null,null,null,null,null,null,null,null,null,null,null,null,null,null,null,null,null,{"$f":"[1]Analyse!X116","v":{"$error":"#VALUE!"}},{"$f":"[1]Analyse!Y116","v":{"$error":"#VALUE!"}},{"$f":"[1]Analyse!Z116","v":{"$error":"#VALUE!"}},{"$f":"[1]Analyse!AA116","v":{"$error":"#VALUE!"}},{"$f":"[1]Analyse!AB116","v":{"$error":"#VALUE!"}},{"$f":"[1]Analyse!AC116","v":{"$error":"#VALUE!"}}]
[null,null,null,null,null,null,null,null,null,null,null,null,null,null,null,null,null,null,null,null,null,null,null,null,null,{"$f":"[1]Analyse!X117","v":{"$error":"#VALUE!"}},{"$f":"[1]Analyse!Y117","v":{"$error":"#VALUE!"}},{"$f":"[1]Analyse!Z117","v":{"$error":"#VALUE!"}},{"$f":"[1]Analyse!AA117","v":{"$error":"#VALUE!"}},{"$f":"[1]Analyse!AB117","v":{"$error":"#VALUE!"}},{"$f":"[1]Analyse!AC117","v":{"$error":"#VALUE!"}}]
[null,null,null,null,null,null,null,null,null,null,null,null,null,null,null,null,null,null,null,null,null,null,null,null,null,{"$f":"[1]Analyse!X118","v":{"$error":"#VALUE!"}},{"$f":"[1]Analyse!Y118","v":{"$error":"#VALUE!"}},{"$f":"[1]Analyse!Z118","v":{"$error":"#VALUE!"}},{"$f":"[1]Analyse!AA118","v":{"$error":"#VALUE!"}},{"$f":"[1]Analyse!AB118","v":{"$error":"#VALUE!"}},{"$f":"[1]Analyse!AC118","v":{"$error":"#VALUE!"}}]
[null,null,null,null,null,null,null,null,null,null,null,null,null,null,null,null,null,null,null,null,null,null,null,null,null,{"$f":"[1]Analyse!X119","v":{"$error":"#VALUE!"}},{"$f":"[1]Analyse!Y119","v":{"$error":"#VALUE!"}},{"$f":"[1]Analyse!Z119","v":{"$error":"#VALUE!"}},{"$f":"[1]Analyse!AA119","v":{"$error":"#VALUE!"}},{"$f":"[1]Analyse!AB119","v":{"$error":"#VALUE!"}},{"$f":"[1]Analyse!AC119","v":{"$error":"#VALUE!"}}]
[null,null,null,null,null,null,null,null,null,null,null,null,null,null,null,null,null,null,null,null,null,null,null,null,null,{"$f":"[1]Analyse!X120","v":{"$error":"#VALUE!"}},{"$f":"[1]Analyse!Y120","v":{"$error":"#VALUE!"}},{"$f":"[1]Analyse!Z120","v":{"$error":"#VALUE!"}},{"$f":"[1]Analyse!AA120","v":{"$error":"#VALUE!"}},{"$f":"[1]Analyse!AB120","v":{"$error":"#VALUE!"}},{"$f":"[1]Analyse!AC120","v":{"$error":"#VALUE!"}}]
[null,null,null,null,null,null,null,null,null,null,null,null,null,null,null,null,null,null,null,null,null,null,null,null,null,{"$f":"[1]Analyse!X121","v":{"$error":"#VALUE!"}},{"$f":"[1]Analyse!Y121","v":{"$error":"#VALUE!"}},{"$f":"[1]Analyse!Z121","v":{"$error":"#VALUE!"}},{"$f":"[1]Analyse!AA121","v":{"$error":"#VALUE!"}},{"$f":"[1]Analyse!AB121","v":{"$error":"#VALUE!"}},{"$f":"[1]Analyse!AC121","v":{"$error":"#VALUE!"}}]
[null,null,null,null,null,null,null,null,null,null,null,null,null,null,null,null,null,null,null,null,null,null,null,null,null,{"$f":"[1]Analyse!X122","v":{"$error":"#VALUE!"}},{"$f":"[1]Analyse!Y122","v":{"$error":"#VALUE!"}},{"$f":"[1]Analyse!Z122","v":{"$error":"#VALUE!"}},{"$f":"[1]Analyse!AA122","v":{"$error":"#VALUE!"}},{"$f":"[1]Analyse!AB122","v":{"$error":"#VALUE!"}},{"$f":"[1]Analyse!AC122","v":{"$error":"#VALUE!"}}]
[null,null,null,null,null,null,null,null,null,null,null,null,null,null,null,null,null,null,null,null,null,null,null,null,null,{"$f":"[1]Analyse!X123","v":{"$error":"#VALUE!"}},{"$f":"[1]Analyse!Y123","v":{"$error":"#VALUE!"}},{"$f":"[1]Analyse!Z123","v":{"$error":"#VALUE!"}},{"$f":"[1]Analyse!AA123","v":{"$error":"#VALUE!"}},{"$f":"[1]Analyse!AB123","v":{"$error":"#VALUE!"}},{"$f":"[1]Analyse!AC123","v":{"$error":"#VALUE!"}}]
[null,null,null,null,null,null,null,null,null,null,null,null,null,null,null,null,null,null,null,null,null,null,null,null,null,{"$f":"[1]Analyse!X124","v":{"$error":"#VALUE!"}},{"$f":"[1]Analyse!Y124","v":{"$error":"#VALUE!"}},{"$f":"[1]Analyse!Z124","v":{"$error":"#VALUE!"}},{"$f":"[1]Analyse!AA124","v":{"$error":"#VALUE!"}},{"$f":"[1]Analyse!AB124","v":{"$error":"#VALUE!"}},{"$f":"[1]Analyse!AC124","v":{"$error":"#VALUE!"}}]
[null,null,null,null,null,null,null,null,null,null,null,null,null,null,null,null,null,null,null,null,null,null,null,null,null,{"$f":"[1]Analyse!X125","v":{"$error":"#VALUE!"}},{"$f":"[1]Analyse!Y125","v":{"$error":"#VALUE!"}},{"$f":"[1]Analyse!Z125","v":{"$error":"#VALUE!"}},{"$f":"[1]Analyse!AA125","v":{"$error":"#VALUE!"}},{"$f":"[1]Analyse!AB125","v":{"$error":"#VALUE!"}},{"$f":"[1]Analyse!AC125","v":{"$error":"#VALUE!"}}]
[null,null,null,null,null,null,null,null,null,null,null,null,null,null,null,null,null,null,null,null,null,null,null,null,null,{"$f":"[1]Analyse!X126","v":{"$error":"#VALUE!"}},{"$f":"[1]Analyse!Y126","v":{"$error":"#VALUE!"}},{"$f":"[1]Analyse!Z126","v":{"$error":"#VALUE!"}},{"$f":"[1]Analyse!AA126","v":{"$error":"#VALUE!"}},{"$f":"[1]Analyse!AB126","v":{"$error":"#VALUE!"}},{"$f":"[1]Analyse!AC126","v":{"$error":"#VALUE!"}}]
[null,null,null,null,null,null,null,null,null,null,null,null,null,null,null,null,null,null,null,null,null,null,null,null,null,{"$f":"[1]Analyse!X127","v":{"$error":"#VALUE!"}},{"$f":"[1]Analyse!Y127","v":{"$error":"#VALUE!"}},{"$f":"[1]Analyse!Z127","v":{"$error":"#VALUE!"}},{"$f":"[1]Analyse!AA127","v":{"$error":"#VALUE!"}},{"$f":"[1]Analyse!AB127","v":{"$error":"#VALUE!"}},{"$f":"[1]Analyse!AC127","v":{"$error":"#VALUE!"}}]
[null,null,null,null,null,null,null,null,null,null,null,null,null,null,null,null,null,null,null,null,null,null,null,null,null,{"$f":"[1]Analyse!X128","v":{"$error":"#VALUE!"}},{"$f":"[1]Analyse!Y128","v":{"$error":"#VALUE!"}},{"$f":"[1]Analyse!Z128","v":{"$error":"#VALUE!"}},{"$f":"[1]Analyse!AA128","v":{"$error":"#VALUE!"}},{"$f":"[1]Analyse!AB128","v":{"$error":"#VALUE!"}},{"$f":"[1]Analyse!AC128","v":{"$error":"#VALUE!"}}]
[null,null,null,null,null,null,null,null,null,null,null,null,null,null,null,null,null,null,null,null,null,null,null,null,null,{"$f":"[1]Analyse!X129","v":{"$error":"#VALUE!"}},{"$f":"[1]Analyse!Y129","v":{"$error":"#VALUE!"}},{"$f":"[1]Analyse!Z129","v":{"$error":"#VALUE!"}},{"$f":"[1]Analyse!AA129","v":{"$error":"#VALUE!"}},{"$f":"[1]Analyse!AB129","v":{"$error":"#VALUE!"}},{"$f":"[1]Analyse!AC129","v":{"$error":"#VALUE!"}}]
[null,null,null,null,null,null,null,null,null,null,null,null,null,null,null,null,null,null,null,null,null,null,null,null,null,{"$f":"[1]Analyse!X130","v":{"$error":"#VALUE!"}},{"$f":"[1]Analyse!Y130","v":{"$error":"#VALUE!"}},{"$f":"[1]Analyse!Z130","v":{"$error":"#VALUE!"}},{"$f":"[1]Analyse!AA130","v":{"$error":"#VALUE!"}},{"$f":"[1]Analyse!AB130","v":{"$error":"#VALUE!"}},{"$f":"[1]Analyse!AC130","v":{"$error":"#VALUE!"}}]
[null,null,null,null,null,null,null,null,null,null,null,null,null,null,null,null,null,null,null,null,null,null,null,null,null,{"$f":"[1]Analyse!X131","v":{"$error":"#VALUE!"}},{"$f":"[1]Analyse!Y131","v":{"$error":"#VALUE!"}},{"$f":"[1]Analyse!Z131","v":{"$error":"#VALUE!"}},{"$f":"[1]Analyse!AA131","v":{"$error":"#VALUE!"}},{"$f":"[1]Analyse!AB131","v":{"$error":"#VALUE!"}},{"$f":"[1]Analyse!AC131","v":{"$error":"#VALUE!"}}]
[null,null,null,null,null,null,null,null,null,null,null,null,null,null,null,null,null,null,null,null,null,null,null,null,null,{"$f":"[1]Analyse!X132","v":{"$error":"#VALUE!"}},{"$f":"[1]Analyse!Y132","v":{"$error":"#VALUE!"}},{"$f":"[1]Analyse!Z132","v":{"$error":"#VALUE!"}},{"$f":"[1]Analyse!AA132","v":{"$error":"#VALUE!"}},{"$f":"[1]Analyse!AB132","v":{"$error":"#VALUE!"}},{"$f":"[1]Analyse!AC132","v":{"$error":"#VALUE!"}}]
[null,null,null,null,null,null,null,null,null,null,null,null,null,null,null,null,null,null,null,null,null,null,null,null,null,{"$f":"[1]Analyse!X133","v":{"$error":"#VALUE!"}},{"$f":"[1]Analyse!Y133","v":{"$error":"#VALUE!"}},{"$f":"[1]Analyse!Z133","v":{"$error":"#VALUE!"}},{"$f":"[1]Analyse!AA133","v":{"$error":"#VALUE!"}},{"$f":"[1]Analyse!AB133","v":{"$error":"#VALUE!"}},{"$f":"[1]Analyse!AC133","v":{"$error":"#VALUE!"}}]
[null,null,null,null,null,null,null,null,null,null,null,null,null,null,null,null,null,null,null,null,null,null,null,null,null,{"$f":"[1]Analyse!X134","v":{"$error":"#VALUE!"}},{"$f":"[1]Analyse!Y134","v":{"$error":"#VALUE!"}},{"$f":"[1]Analyse!Z134","v":{"$error":"#VALUE!"}},{"$f":"[1]Analyse!AA134","v":{"$error":"#VALUE!"}},{"$f":"[1]Analyse!AB134","v":{"$error":"#VALUE!"}},{"$f":"[1]Analyse!AC134","v":{"$error":"#VALUE!"}}]
[null,null,null,null,null,null,null,null,null,null,null,null,null,null,null,null,null,null,null,null,null,null,null,null,null,{"$f":"[1]Analyse!X135","v":{"$error":"#VALUE!"}},{"$f":"[1]Analyse!Y135","v":{"$error":"#VALUE!"}},{"$f":"[1]Analyse!Z135","v":{"$error":"#VALUE!"}},{"$f":"[1]Analyse!AA135","v":{"$error":"#VALUE!"}},{"$f":"[1]Analyse!AB135","v":{"$error":"#VALUE!"}},{"$f":"[1]Analyse!AC135","v":{"$error":"#VALUE!"}}]
[null,null,null,null,null,null,null,null,null,null,null,null,null,null,null,null,null,null,null,null,null,null,null,null,null,{"$f":"[1]Analyse!X136","v":{"$error":"#VALUE!"}},{"$f":"[1]Analyse!Y136","v":{"$error":"#VALUE!"}},{"$f":"[1]Analyse!Z136","v":{"$error":"#VALUE!"}},{"$f":"[1]Analyse!AA136","v":{"$error":"#VALUE!"}},{"$f":"[1]Analyse!AB136","v":{"$error":"#VALUE!"}},{"$f":"[1]Analyse!AC136","v":{"$error":"#VALUE!"}}]
[null,null,null,null,null,null,null,null,null,null,null,null,null,null,null,null,null,null,null,null,null,null,null,null,null,{"$f":"[1]Analyse!X137","v":{"$error":"#VALUE!"}},{"$f":"[1]Analyse!Y137","v":{"$error":"#VALUE!"}},{"$f":"[1]Analyse!Z137","v":{"$error":"#VALUE!"}},{"$f":"[1]Analyse!AA137","v":{"$error":"#VALUE!"}},{"$f":"[1]Analyse!AB137","v":{"$error":"#VALUE!"}},{"$f":"[1]Analyse!AC137","v":{"$error":"#VALUE!"}}]
[null,null,null,null,null,null,null,null,null,null,null,null,null,null,null,null,null,null,null,null,null,null,null,null,null,{"$f":"[1]Analyse!X138","v":{"$error":"#VALUE!"}},{"$f":"[1]Analyse!Y138","v":{"$error":"#VALUE!"}},{"$f":"[1]Analyse!Z138","v":{"$error":"#VALUE!"}},{"$f":"[1]Analyse!AA138","v":{"$error":"#VALUE!"}},{"$f":"[1]Analyse!AB138","v":{"$error":"#VALUE!"}},{"$f":"[1]Analyse!AC138","v":{"$error":"#VALUE!"}}]
[null,null,null,null,null,null,null,null,null,null,null,null,null,null,null,null,null,null,null,null,null,null,null,null,null,{"$f":"[1]Analyse!X139","v":{"$error":"#VALUE!"}},{"$f":"[1]Analyse!Y139","v":{"$error":"#VALUE!"}},{"$f":"[1]Analyse!Z139","v":{"$error":"#VALUE!"}},{"$f":"[1]Analyse!AA139","v":{"$error":"#VALUE!"}},{"$f":"[1]Analyse!AB139","v":{"$error":"#VALUE!"}},{"$f":"[1]Analyse!AC139","v":{"$error":"#VALUE!"}}]
[null,null,null,null,null,null,null,null,null,null,null,null,null,null,null,null,null,null,null,null,null,null,null,null,null,{"$f":"[1]Analyse!X140","v":{"$error":"#VALUE!"}},{"$f":"[1]Analyse!Y140","v":{"$error":"#VALUE!"}},{"$f":"[1]Analyse!Z140","v":{"$error":"#VALUE!"}},{"$f":"[1]Analyse!AA140","v":{"$error":"#VALUE!"}},{"$f":"[1]Analyse!AB140","v":{"$error":"#VALUE!"}},{"$f":"[1]Analyse!AC140","v":{"$error":"#VALUE!"}}]
[null,null,null,null,null,null,null,null,null,null,null,null,null,null,null,null,null,null,null,null,null,null,null,null,null,{"$f":"[1]Analyse!X141","v":{"$error":"#VALUE!"}},{"$f":"[1]Analyse!Y141","v":{"$error":"#VALUE!"}},{"$f":"[1]Analyse!Z141","v":{"$error":"#VALUE!"}},{"$f":"[1]Analyse!AA141","v":{"$error":"#VALUE!"}},{"$f":"[1]Analyse!AB141","v":{"$error":"#VALUE!"}},{"$f":"[1]Analyse!AC141","v":{"$error":"#VALUE!"}}]
[null,null,null,null,null,null,null,null,null,null,null,null,null,null,null,null,null,null,null,null,null,null,null,null,null,{"$f":"[1]Analyse!X142","v":{"$error":"#VALUE!"}},{"$f":"[1]Analyse!Y142","v":{"$error":"#VALUE!"}},{"$f":"[1]Analyse!Z142","v":{"$error":"#VALUE!"}},{"$f":"[1]Analyse!AA142","v":{"$error":"#VALUE!"}},{"$f":"[1]Analyse!AB142","v":{"$error":"#VALUE!"}},{"$f":"[1]Analyse!AC142","v":{"$error":"#VALUE!"}}]
[null,null,null,null,null,null,null,null,null,null,null,null,null,null,null,null,null,null,null,null,null,null,null,null,null,null,null,null,null,null,{"$f":"[1]Analyse!AC143","v":0}]
[null,null,null,null,null,null,null,null,null,null,null,null,null,null,null,null,null,null,null,null,null,null,null,null,null,null,null,null,null,null,{"$f":"[1]Analyse!AC144","v":0}]
[null,null,null,null,null,null,null,null,null,null,null,null,null,null,null,null,null,null,null,null,null,null,null,null,null,null,null,null,null,null,{"$f":"[1]Analyse!AC145","v":"min"}]
[null,null,null,null,null,null,null,null,null,null,null,null,null,null,null,null,null,null,null,null,null,null,null,null,null,{"$f":"[1]Analyse!X146","v":{"$error":"#VALUE!"}},{"$f":"[1]Analyse!Y146","v":{"$error":"#VALUE!"}},{"$f":"[1]Analyse!Z146","v":{"$error":"#VALUE!"}},{"$f":"[1]Analyse!AA146","v":{"$error":"#VALUE!"}},{"$f":"[1]Analyse!AB146","v":{"$error":"#VALUE!"}},{"$f":"[1]Analyse!AC146","v":{"$error":"#VALUE!"}}]
[null,null,null,null,null,null,null,null,null,null,null,null,null,null,null,null,null,null,null,null,null,null,null,null,null,{"$f":"[1]Analyse!X147","v":{"$error":"#VALUE!"}},{"$f":"[1]Analyse!Y147","v":{"$error":"#VALUE!"}},{"$f":"[1]Analyse!Z147","v":{"$error":"#VALUE!"}},{"$f":"[1]Analyse!AA147","v":{"$error":"#VALUE!"}},{"$f":"[1]Analyse!AB147","v":{"$error":"#VALUE!"}},{"$f":"[1]Analyse!AC147","v":{"$error":"#VALUE!"}}]
[null,null,null,null,null,null,null,null,null,null,null,null,null,null,null,null,null,null,null,null,null,null,null,null,null,{"$f":"[1]Analyse!X148","v":{"$error":"#VALUE!"}},{"$f":"[1]Analyse!Y148","v":{"$error":"#VALUE!"}},{"$f":"[1]Analyse!Z148","v":{"$error":"#VALUE!"}},{"$f":"[1]Analyse!AA148","v":{"$error":"#VALUE!"}},{"$f":"[1]Analyse!AB148","v":{"$error":"#VALUE!"}},{"$f":"[1]Analyse!AC148","v":{"$error":"#VALUE!"}}]
[null,null,null,null,null,null,null,null,null,null,null,null,null,null,null,null,null,null,null,null,null,null,null,null,null,{"$f":"[1]Analyse!X149","v":{"$error":"#VALUE!"}},{"$f":"[1]Analyse!Y149","v":{"$error":"#VALUE!"}},{"$f":"[1]Analyse!Z149","v":{"$error":"#VALUE!"}},{"$f":"[1]Analyse!AA149","v":{"$error":"#VALUE!"}},{"$f":"[1]Analyse!AB149","v":{"$error":"#VALUE!"}},{"$f":"[1]Analyse!AC149","v":{"$error":"#VALUE!"}}]
[null,null,null,null,null,null,null,null,null,null,null,null,null,null,null,null,null,null,null,null,null,null,null,null,null,{"$f":"[1]Analyse!X150","v":{"$error":"#VALUE!"}},{"$f":"[1]Analyse!Y150","v":{"$error":"#VALUE!"}},{"$f":"[1]Analyse!Z150","v":{"$error":"#VALUE!"}},{"$f":"[1]Analyse!AA150","v":{"$error":"#VALUE!"}},{"$f":"[1]Analyse!AB150","v":{"$error":"#VALUE!"}},{"$f":"[1]Analyse!AC150","v":{"$error":"#VALUE!"}}]
[null,null,null,null,null,null,null,null,null,null,null,null,null,null,null,null,null,null,null,null,null,null,null,null,null,{"$f":"[1]Analyse!X151","v":{"$error":"#VALUE!"}},{"$f":"[1]Analyse!Y151","v":{"$error":"#VALUE!"}},{"$f":"[1]Analyse!Z151","v":{"$error":"#VALUE!"}},{"$f":"[1]Analyse!AA151","v":{"$error":"#VALUE!"}},{"$f":"[1]Analyse!AB151","v":{"$error":"#VALUE!"}},{"$f":"[1]Analyse!AC151","v":{"$error":"#VALUE!"}}]
[null,null,null,null,null,null,null,null,null,null,null,null,null,null,null,null,null,null,null,null,null,null,null,null,null,{"$f":"[1]Analyse!X152","v":{"$error":"#VALUE!"}},{"$f":"[1]Analyse!Y152","v":{"$error":"#VALUE!"}},{"$f":"[1]Analyse!Z152","v":{"$error":"#VALUE!"}},{"$f":"[1]Analyse!AA152","v":{"$error":"#VALUE!"}},{"$f":"[1]Analyse!AB152","v":{"$error":"#VALUE!"}},{"$f":"[1]Analyse!AC152","v":{"$error":"#VALUE!"}}]
[null,null,null,null,null,null,null,null,null,null,null,null,null,null,null,null,null,null,null,null,null,null,null,null,null,{"$f":"[1]Analyse!X153","v":{"$error":"#VALUE!"}},{"$f":"[1]Analyse!Y153","v":{"$error":"#VALUE!"}},{"$f":"[1]Analyse!Z153","v":{"$error":"#VALUE!"}},{"$f":"[1]Analyse!AA153","v":{"$error":"#VALUE!"}},{"$f":"[1]Analyse!AB153","v":{"$error":"#VALUE!"}},{"$f":"[1]Analyse!AC153","v":{"$error":"#VALUE!"}}]
[null,null,null,null,null,null,null,null,null,null,null,null,null,null,null,null,null,null,null,null,null,null,null,null,null,{"$f":"[1]Analyse!X154","v":{"$error":"#VALUE!"}},{"$f":"[1]Analyse!Y154","v":{"$error":"#VALUE!"}},{"$f":"[1]Analyse!Z154","v":{"$error":"#VALUE!"}},{"$f":"[1]Analyse!AA154","v":{"$error":"#VALUE!"}},{"$f":"[1]Analyse!AB154","v":{"$error":"#VALUE!"}},{"$f":"[1]Analyse!AC154","v":{"$error":"#VALUE!"}}]
[null,null,null,null,null,null,null,null,null,null,null,null,null,null,null,null,null,null,null,null,null,null,null,null,null,{"$f":"[1]Analyse!X155","v":{"$error":"#VALUE!"}},{"$f":"[1]Analyse!Y155","v":{"$error":"#VALUE!"}},{"$f":"[1]Analyse!Z155","v":{"$error":"#VALUE!"}},{"$f":"[1]Analyse!AA155","v":{"$error":"#VALUE!"}},{"$f":"[1]Analyse!AB155","v":{"$error":"#VALUE!"}},{"$f":"[1]Analyse!AC155","v":{"$error":"#VALUE!"}}]
[null,null,null,null,null,null,null,null,null,null,null,null,null,null,null,null,null,null,null,null,null,null,null,null,null,{"$f":"[1]Analyse!X156","v":{"$error":"#VALUE!"}},{"$f":"[1]Analyse!Y156","v":{"$error":"#VALUE!"}},{"$f":"[1]Analyse!Z156","v":{"$error":"#VALUE!"}},{"$f":"[1]Analyse!AA156","v":{"$error":"#VALUE!"}},{"$f":"[1]Analyse!AB156","v":{"$error":"#VALUE!"}},{"$f":"[1]Analyse!AC156","v":{"$error":"#VALUE!"}}]
[null,null,null,null,null,null,null,null,null,null,null,null,null,null,null,null,null,null,null,null,null,null,null,null,null,{"$f":"[1]Analyse!X157","v":{"$error":"#VALUE!"}},{"$f":"[1]Analyse!Y157","v":{"$error":"#VALUE!"}},{"$f":"[1]Analyse!Z157","v":{"$error":"#VALUE!"}},{"$f":"[1]Analyse!AA157","v":{"$error":"#VALUE!"}},{"$f":"[1]Analyse!AB157","v":{"$error":"#VALUE!"}},{"$f":"[1]Analyse!AC157","v":{"$error":"#VALUE!"}}]
[null,null,null,null,null,null,null,null,null,null,null,null,null,null,null,null,null,null,null,null,null,null,null,null,null,{"$f":"[1]Analyse!X158","v":{"$error":"#VALUE!"}},{"$f":"[1]Analyse!Y158","v":{"$error":"#VALUE!"}},{"$f":"[1]Analyse!Z158","v":{"$error":"#VALUE!"}},{"$f":"[1]Analyse!AA158","v":{"$error":"#VALUE!"}},{"$f":"[1]Analyse!AB158","v":{"$error":"#VALUE!"}},{"$f":"[1]Analyse!AC158","v":{"$error":"#VALUE!"}}]
[null,null,null,null,null,null,null,null,null,null,null,null,null,null,null,null,null,null,null,null,null,null,null,null,null,{"$f":"[1]Analyse!X159","v":{"$error":"#VALUE!"}},{"$f":"[1]Analyse!Y159","v":{"$error":"#VALUE!"}},{"$f":"[1]Analyse!Z159","v":{"$error":"#VALUE!"}},{"$f":"[1]Analyse!AA159","v":{"$error":"#VALUE!"}},{"$f":"[1]Analyse!AB159","v":{"$error":"#VALUE!"}},{"$f":"[1]Analyse!AC159","v":{"$error":"#VALUE!"}}]
[null,null,null,null,null,null,null,null,null,null,null,null,null,null,null,null,null,null,null,null,null,null,null,null,null,{"$f":"[1]Analyse!X160","v":{"$error":"#VALUE!"}},{"$f":"[1]Analyse!Y160","v":{"$error":"#VALUE!"}},{"$f":"[1]Analyse!Z160","v":{"$error":"#VALUE!"}},{"$f":"[1]Analyse!AA160","v":{"$error":"#VALUE!"}},{"$f":"[1]Analyse!AB160","v":{"$error":"#VALUE!"}},{"$f":"[1]Analyse!AC160","v":{"$error":"#VALUE!"}}]
[null,null,null,null,null,null,null,null,null,null,null,null,null,null,null,null,null,null,null,null,null,null,null,null,null,{"$f":"[1]Analyse!X161","v":{"$error":"#VALUE!"}},{"$f":"[1]Analyse!Y161","v":{"$error":"#VALUE!"}},{"$f":"[1]Analyse!Z161","v":{"$error":"#VALUE!"}},{"$f":"[1]Analyse!AA161","v":{"$error":"#VALUE!"}},{"$f":"[1]Analyse!AB161","v":{"$error":"#VALUE!"}},{"$f":"[1]Analyse!AC161","v":{"$error":"#VALUE!"}}]
[null,null,null,null,null,null,null,null,null,null,null,null,null,null,null,null,null,null,null,null,null,null,null,null,null,{"$f":"[1]Analyse!X162","v":{"$error":"#VALUE!"}},{"$f":"[1]Analyse!Y162","v":{"$error":"#VALUE!"}},{"$f":"[1]Analyse!Z162","v":{"$error":"#VALUE!"}},{"$f":"[1]Analyse!AA162","v":{"$error":"#VALUE!"}},{"$f":"[1]Analyse!AB162","v":{"$error":"#VALUE!"}},{"$f":"[1]Analyse!AC162","v":{"$error":"#VALUE!"}}]
[null,null,null,null,null,null,null,null,null,null,null,null,null,null,null,null,null,null,null,null,null,null,null,null,null,{"$f":"[1]Analyse!X163","v":{"$error":"#VALUE!"}},{"$f":"[1]Analyse!Y163","v":{"$error":"#VALUE!"}},{"$f":"[1]Analyse!Z163","v":{"$error":"#VALUE!"}},{"$f":"[1]Analyse!AA163","v":{"$error":"#VALUE!"}},{"$f":"[1]Analyse!AB163","v":{"$error":"#VALUE!"}},{"$f":"[1]Analyse!AC163","v":{"$error":"#VALUE!"}}]
[null,null,null,null,null,null,null,null,null,null,null,null,null,null,null,null,null,null,null,null,null,null,null,null,null,{"$f":"[1]Analyse!X164","v":{"$error":"#VALUE!"}},{"$f":"[1]Analyse!Y164","v":{"$error":"#VALUE!"}},{"$f":"[1]Analyse!Z164","v":{"$error":"#VALUE!"}},{"$f":"[1]Analyse!AA164","v":{"$error":"#VALUE!"}},{"$f":"[1]Analyse!AB164","v":{"$error":"#VALUE!"}},{"$f":"[1]Analyse!AC164","v":{"$error":"#VALUE!"}}]
[null,null,null,null,null,null,null,null,null,null,null,null,null,null,null,null,null,null,null,null,null,null,null,null,null,{"$f":"[1]Analyse!X165","v":{"$error":"#VALUE!"}},{"$f":"[1]Analyse!Y165","v":{"$error":"#VALUE!"}},{"$f":"[1]Analyse!Z165","v":{"$error":"#VALUE!"}},{"$f":"[1]Analyse!AA165","v":{"$error":"#VALUE!"}},{"$f":"[1]Analyse!AB165","v":{"$error":"#VALUE!"}},{"$f":"[1]Analyse!AC165","v":{"$error":"#VALUE!"}}]
[null,null,null,null,null,null,null,null,null,null,null,null,null,null,null,null,null,null,null,null,null,null,null,null,null,{"$f":"[1]Analyse!X166","v":{"$error":"#VALUE!"}},{"$f":"[1]Analyse!Y166","v":{"$error":"#VALUE!"}},{"$f":"[1]Analyse!Z166","v":{"$error":"#VALUE!"}},{"$f":"[1]Analyse!AA166","v":{"$error":"#VALUE!"}},{"$f":"[1]Analyse!AB166","v":{"$error":"#VALUE!"}},{"$f":"[1]Analyse!AC166","v":{"$error":"#VALUE!"}}]
[null,null,null,null,null,null,null,null,null,null,null,null,null,null,null,null,null,null,null,null,null,null,null,null,null,{"$f":"[1]Analyse!X167","v":{"$error":"#VALUE!"}},{"$f":"[1]Analyse!Y167","v":{"$error":"#VALUE!"}},{"$f":"[1]Analyse!Z167","v":{"$error":"#VALUE!"}},{"$f":"[1]Analyse!AA167","v":{"$error":"#VALUE!"}},{"$f":"[1]Analyse!AB167","v":{"$error":"#VALUE!"}},{"$f":"[1]Analyse!AC167","v":{"$error":"#VALUE!"}}]
[null,null,null,null,null,null,null,null,null,null,null,null,null,null,null,null,null,null,null,null,null,null,null,null,null,{"$f":"[1]Analyse!X168","v":{"$error":"#VALUE!"}},{"$f":"[1]Analyse!Y168","v":{"$error":"#VALUE!"}},{"$f":"[1]Analyse!Z168","v":{"$error":"#VALUE!"}},{"$f":"[1]Analyse!AA168","v":{"$error":"#VALUE!"}},{"$f":"[1]Analyse!AB168","v":{"$error":"#VALUE!"}},{"$f":"[1]Analyse!AC168","v":{"$error":"#VALUE!"}}]
[null,null,null,null,null,null,null,null,null,null,null,null,null,null,null,null,null,null,null,null,null,null,null,null,null,{"$f":"[1]Analyse!X169","v":{"$error":"#VALUE!"}},{"$f":"[1]Analyse!Y169","v":{"$error":"#VALUE!"}},{"$f":"[1]Analyse!Z169","v":{"$error":"#VALUE!"}},{"$f":"[1]Analyse!AA169","v":{"$error":"#VALUE!"}},{"$f":"[1]Analyse!AB169","v":{"$error":"#VALUE!"}},{"$f":"[1]Analyse!AC169","v":{"$error":"#VALUE!"}}]
[null,null,null,null,null,null,null,null,null,null,null,null,null,null,null,null,null,null,null,null,null,null,null,null,null,{"$f":"[1]Analyse!X170","v":{"$error":"#VALUE!"}},{"$f":"[1]Analyse!Y170","v":{"$error":"#VALUE!"}},{"$f":"[1]Analyse!Z170","v":{"$error":"#VALUE!"}},{"$f":"[1]Analyse!AA170","v":{"$error":"#VALUE!"}},{"$f":"[1]Analyse!AB170","v":{"$error":"#VALUE!"}},{"$f":"[1]Analyse!AC170","v":{"$error":"#VALUE!"}}]
[null,null,null,null,null,null,null,null,null,null,null,null,null,null,null,null,null,null,null,null,null,null,null,null,null,{"$f":"[1]Analyse!X171","v":{"$error":"#VALUE!"}},{"$f":"[1]Analyse!Y171","v":{"$error":"#VALUE!"}},{"$f":"[1]Analyse!Z171","v":{"$error":"#VALUE!"}},{"$f":"[1]Analyse!AA171","v":{"$error":"#VALUE!"}},{"$f":"[1]Analyse!AB171","v":{"$error":"#VALUE!"}},{"$f":"[1]Analyse!AC171","v":{"$error":"#VALUE!"}}]
[null,null,null,null,null,null,null,null,null,null,null,null,null,null,null,null,null,null,null,null,null,null,null,null,null,{"$f":"[1]Analyse!X172","v":{"$error":"#VALUE!"}},{"$f":"[1]Analyse!Y172","v":{"$error":"#VALUE!"}},{"$f":"[1]Analyse!Z172","v":{"$error":"#VALUE!"}},{"$f":"[1]Analyse!AA172","v":{"$error":"#VALUE!"}},{"$f":"[1]Analyse!AB172","v":{"$error":"#VALUE!"}},{"$f":"[1]Analyse!AC172","v":{"$error":"#VALUE!"}}]
[null,null,null,null,null,null,null,null,null,null,null,null,null,null,null,null,null,null,null,null,null,null,null,null,null,{"$f":"[1]Analyse!X173","v":{"$error":"#VALUE!"}},{"$f":"[1]Analyse!Y173","v":{"$error":"#VALUE!"}},{"$f":"[1]Analyse!Z173","v":{"$error":"#VALUE!"}},{"$f":"[1]Analyse!AA173","v":{"$error":"#VALUE!"}},{"$f":"[1]Analyse!AB173","v":{"$error":"#VALUE!"}},{"$f":"[1]Analyse!AC173","v":{"$error":"#VALUE!"}}]
[null,null,null,null,null,null,null,null,null,null,null,null,null,null,null,null,null,null,null,null,null,null,null,null,null,{"$f":"[1]Analyse!X174","v":{"$error":"#VALUE!"}},{"$f":"[1]Analyse!Y174","v":{"$error":"#VALUE!"}},{"$f":"[1]Analyse!Z174","v":{"$error":"#VALUE!"}},{"$f":"[1]Analyse!AA174","v":{"$error":"#VALUE!"}},{"$f":"[1]Analyse!AB174","v":{"$error":"#VALUE!"}},{"$f":"[1]Analyse!AC174","v":{"$error":"#VALUE!"}}]
[null,null,null,null,null,null,null,null,null,null,null,null,null,null,null,null,null,null,null,null,null,null,null,null,null,{"$f":"[1]Analyse!X175","v":{"$error":"#VALUE!"}},{"$f":"[1]Analyse!Y175","v":{"$error":"#VALUE!"}},{"$f":"[1]Analyse!Z175","v":{"$error":"#VALUE!"}},{"$f":"[1]Analyse!AA175","v":{"$error":"#VALUE!"}},{"$f":"[1]Analyse!AB175","v":{"$error":"#VALUE!"}},{"$f":"[1]Analyse!AC175","v":{"$error":"#VALUE!"}}]
[null,null,null,null,null,null,null,null,null,null,null,null,null,null,null,null,null,null,null,null,null,null,null,null,null,{"$f":"[1]Analyse!X176","v":{"$error":"#VALUE!"}},{"$f":"[1]Analyse!Y176","v":{"$error":"#VALUE!"}},{"$f":"[1]Analyse!Z176","v":{"$error":"#VALUE!"}},{"$f":"[1]Analyse!AA176","v":{"$error":"#VALUE!"}},{"$f":"[1]Analyse!AB176","v":{"$error":"#VALUE!"}},{"$f":"[1]Analyse!AC176","v":{"$error":"#VALUE!"}}]
[null,null,null,null,null,null,null,null,null,null,null,null,null,null,null,null,null,null,null,null,null,null,null,null,null,{"$f":"[1]Analyse!X177","v":{"$error":"#VALUE!"}},{"$f":"[1]Analyse!Y177","v":{"$error":"#VALUE!"}},{"$f":"[1]Analyse!Z177","v":{"$error":"#VALUE!"}},{"$f":"[1]Analyse!AA177","v":{"$error":"#VALUE!"}},{"$f":"[1]Analyse!AB177","v":{"$error":"#VALUE!"}},{"$f":"[1]Analyse!AC177","v":{"$error":"#VALUE!"}}]
[null,null,null,null,null,null,null,null,null,null,null,null,null,null,null,null,null,null,null,null,null,null,null,null,null,{"$f":"[1]Analyse!X178","v":{"$error":"#VALUE!"}},{"$f":"[1]Analyse!Y178","v":{"$error":"#VALUE!"}},{"$f":"[1]Analyse!Z178","v":{"$error":"#VALUE!"}},{"$f":"[1]Analyse!AA178","v":{"$error":"#VALUE!"}},{"$f":"[1]Analyse!AB178","v":{"$error":"#VALUE!"}},{"$f":"[1]Analyse!AC178","v":{"$error":"#VALUE!"}}]
[null,null,null,null,null,null,null,null,null,null,null,null,null,null,null,null,null,null,null,null,null,null,null,null,null,{"$f":"[1]Analyse!X179","v":{"$error":"#VALUE!"}},{"$f":"[1]Analyse!Y179","v":{"$error":"#VALUE!"}},{"$f":"[1]Analyse!Z179","v":{"$error":"#VALUE!"}},{"$f":"[1]Analyse!AA179","v":{"$error":"#VALUE!"}},{"$f":"[1]Analyse!AB179","v":{"$error":"#VALUE!"}},{"$f":"[1]Analyse!AC179","v":{"$error":"#VALUE!"}}]
[null,null,null,null,null,null,null,null,null,null,null,null,null,null,null,null,null,null,null,null,null,null,null,null,null,{"$f":"[1]Analyse!X180","v":{"$error":"#VALUE!"}},{"$f":"[1]Analyse!Y180","v":{"$error":"#VALUE!"}},{"$f":"[1]Analyse!Z180","v":{"$error":"#VALUE!"}},{"$f":"[1]Analyse!AA180","v":{"$error":"#VALUE!"}},{"$f":"[1]Analyse!AB180","v":{"$error":"#VALUE!"}},{"$f":"[1]Analyse!AC180","v":{"$error":"#VALUE!"}}]
[null,null,null,null,null,null,null,null,null,null,null,null,null,null,null,null,null,null,null,null,null,null,null,null,null,{"$f":"[1]Analyse!X181","v":{"$error":"#VALUE!"}},{"$f":"[1]Analyse!Y181","v":{"$error":"#VALUE!"}},{"$f":"[1]Analyse!Z181","v":{"$error":"#VALUE!"}},{"$f":"[1]Analyse!AA181","v":{"$error":"#VALUE!"}},{"$f":"[1]Analyse!AB181","v":{"$error":"#VALUE!"}},{"$f":"[1]Analyse!AC181","v":{"$error":"#VALUE!"}}]
[null,null,null,null,null,null,null,null,null,null,null,null,null,null,null,null,null,null,null,null,null,null,null,null,null,{"$f":"[1]Analyse!X182","v":{"$error":"#VALUE!"}},{"$f":"[1]Analyse!Y182","v":{"$error":"#VALUE!"}},{"$f":"[1]Analyse!Z182","v":{"$error":"#VALUE!"}},{"$f":"[1]Analyse!AA182","v":{"$error":"#VALUE!"}},{"$f":"[1]Analyse!AB182","v":{"$error":"#VALUE!"}},{"$f":"[1]Analyse!AC182","v":{"$error":"#VALUE!"}}]
[null,null,null,null,null,null,null,null,null,null,null,null,null,null,null,null,null,null,null,null,null,null,null,null,null,{"$f":"[1]Analyse!X183","v":{"$error":"#VALUE!"}},{"$f":"[1]Analyse!Y183","v":{"$error":"#VALUE!"}},{"$f":"[1]Analyse!Z183","v":{"$error":"#VALUE!"}},{"$f":"[1]Analyse!AA183","v":{"$error":"#VALUE!"}},{"$f":"[1]Analyse!AB183","v":{"$error":"#VALUE!"}},{"$f":"[1]Analyse!AC183","v":{"$error":"#VALUE!"}}]
[null,null,null,null,null,null,null,null,null,null,null,null,null,null,null,null,null,null,null,null,null,null,null,null,null,{"$f":"[1]Analyse!X184","v":{"$error":"#VALUE!"}},{"$f":"[1]Analyse!Y184","v":{"$error":"#VALUE!"}},{"$f":"[1]Analyse!Z184","v":{"$error":"#VALUE!"}},{"$f":"[1]Analyse!AA184","v":{"$error":"#VALUE!"}},{"$f":"[1]Analyse!AB184","v":{"$error":"#VALUE!"}},{"$f":"[1]Analyse!AC184","v":{"$error":"#VALUE!"}}]
[null,null,null,null,null,null,null,null,null,null,null,null,null,null,null,null,null,null,null,null,null,null,null,null,null,{"$f":"[1]Analyse!X185","v":{"$error":"#VALUE!"}},{"$f":"[1]Analyse!Y185","v":{"$error":"#VALUE!"}},{"$f":"[1]Analyse!Z185","v":{"$error":"#VALUE!"}},{"$f":"[1]Analyse!AA185","v":{"$error":"#VALUE!"}},{"$f":"[1]Analyse!AB185","v":{"$error":"#VALUE!"}},{"$f":"[1]Analyse!AC185","v":{"$error":"#VALUE!"}}]
[null,null,null,null,null,null,null,null,null,null,null,null,null,null,null,null,null,null,null,null,null,null,null,null,null,{"$f":"[1]Analyse!X186","v":{"$error":"#VALUE!"}},{"$f":"[1]Analyse!Y186","v":{"$error":"#VALUE!"}},{"$f":"[1]Analyse!Z186","v":{"$error":"#VALUE!"}},{"$f":"[1]Analyse!AA186","v":{"$error":"#VALUE!"}},{"$f":"[1]Analyse!AB186","v":{"$error":"#VALUE!"}},{"$f":"[1]Analyse!AC186","v":{"$error":"#VALUE!"}}]
[null,null,null,null,null,null,null,null,null,null,null,null,null,null,null,null,null,null,null,null,null,null,null,null,null,{"$f":"[1]Analyse!X187","v":{"$error":"#VALUE!"}},{"$f":"[1]Analyse!Y187","v":{"$error":"#VALUE!"}},{"$f":"[1]Analyse!Z187","v":{"$error":"#VALUE!"}},{"$f":"[1]Analyse!AA187","v":{"$error":"#VALUE!"}},{"$f":"[1]Analyse!AB187","v":{"$error":"#VALUE!"}},{"$f":"[1]Analyse!AC187","v":{"$error":"#VALUE!"}}]
[null,null,null,null,null,null,null,null,null,null,null,null,null,null,null,null,null,null,null,null,null,null,null,null,null,{"$f":"[1]Analyse!X188","v":{"$error":"#VALUE!"}},{"$f":"[1]Analyse!Y188","v":{"$error":"#VALUE!"}},{"$f":"[1]Analyse!Z188","v":{"$error":"#VALUE!"}},{"$f":"[1]Analyse!AA188","v":{"$error":"#VALUE!"}},{"$f":"[1]Analyse!AB188","v":{"$error":"#VALUE!"}},{"$f":"[1]Analyse!AC188","v":{"$error":"#VALUE!"}}]
[null,null,null,null,null,null,null,null,null,null,null,null,null,null,null,null,null,null,null,null,null,null,null,null,null,{"$f":"[1]Analyse!X189","v":{"$error":"#VALUE!"}},{"$f":"[1]Analyse!Y189","v":{"$error":"#VALUE!"}},{"$f":"[1]Analyse!Z189","v":{"$error":"#VALUE!"}},{"$f":"[1]Analyse!AA189","v":{"$error":"#VALUE!"}},{"$f":"[1]Analyse!AB189","v":{"$error":"#VALUE!"}},{"$f":"[1]Analyse!AC189","v":{"$error":"#VALUE!"}}]
[null,null,null,null,null,null,null,null,null,null,null,null,null,null,null,null,null,null,null,null,null,null,null,null,null,null,null,null,null,null,{"$f":"[1]Analyse!AC190","v":0}]
[null,null,null,null,null,null,null,null,null,null,null,null,null,null,null,null,null,null,null,null,null,null,null,null,null,null,null,null,null,null,{"$f":"[1]Analyse!AC191","v":0}]
[null,null,null,null,null,null,null,null,null,null,null,null,null,null,null,null,null,null,null,null,null,null,null,null,null,null,null,null,null,null,{"$f":"[1]Analyse!AC192","v":"min"}]
[null,null,null,null,null,null,null,null,null,null,null,null,null,null,null,null,null,null,null,null,null,null,null,null,null,{"$f":"[1]Analyse!X193","v":{"$error":"#VALUE!"}},{"$f":"[1]Analyse!Y193","v":{"$error":"#VALUE!"}},{"$f":"[1]Analyse!Z193","v":{"$error":"#VALUE!"}},{"$f":"[1]Analyse!AA193","v":{"$error":"#VALUE!"}},{"$f":"[1]Analyse!AB193","v":{"$error":"#VALUE!"}},{"$f":"[1]Analyse!AC193","v":{"$error":"#VALUE!"}}]
[null,null,null,null,null,null,null,null,null,null,null,null,null,null,null,null,null,null,null,null,null,null,null,null,null,{"$f":"[1]Analyse!X194","v":{"$error":"#VALUE!"}},{"$f":"[1]Analyse!Y194","v":{"$error":"#VALUE!"}},{"$f":"[1]Analyse!Z194","v":{"$error":"#VALUE!"}},{"$f":"[1]Analyse!AA194","v":{"$error":"#VALUE!"}},{"$f":"[1]Analyse!AB194","v":{"$error":"#VALUE!"}},{"$f":"[1]Analyse!AC194","v":{"$error":"#VALUE!"}}]
[null,null,null,null,null,null,null,null,null,null,null,null,null,null,null,null,null,null,null,null,null,null,null,null,null,{"$f":"[1]Analyse!X195","v":{"$error":"#VALUE!"}},{"$f":"[1]Analyse!Y195","v":{"$error":"#VALUE!"}},{"$f":"[1]Analyse!Z195","v":{"$error":"#VALUE!"}},{"$f":"[1]Analyse!AA195","v":{"$error":"#VALUE!"}},{"$f":"[1]Analyse!AB195","v":{"$error":"#VALUE!"}},{"$f":"[1]Analyse!AC195","v":{"$error":"#VALUE!"}}]
[null,null,null,null,null,null,null,null,null,null,null,null,null,null,null,null,null,null,null,null,null,null,null,null,null,{"$f":"[1]Analyse!X196","v":{"$error":"#VALUE!"}},{"$f":"[1]Analyse!Y196","v":{"$error":"#VALUE!"}},{"$f":"[1]Analyse!Z196","v":{"$error":"#VALUE!"}},{"$f":"[1]Analyse!AA196","v":{"$error":"#VALUE!"}},{"$f":"[1]Analyse!AB196","v":{"$error":"#VALUE!"}},{"$f":"[1]Analyse!AC196","v":{"$error":"#VALUE!"}}]
[null,null,null,null,null,null,null,null,null,null,null,null,null,null,null,null,null,null,null,null,null,null,null,null,null,{"$f":"[1]Analyse!X197","v":{"$error":"#VALUE!"}},{"$f":"[1]Analyse!Y197","v":{"$error":"#VALUE!"}},{"$f":"[1]Analyse!Z197","v":{"$error":"#VALUE!"}},{"$f":"[1]Analyse!AA197","v":{"$error":"#VALUE!"}},{"$f":"[1]Analyse!AB197","v":{"$error":"#VALUE!"}},{"$f":"[1]Analyse!AC197","v":{"$error":"#VALUE!"}}]
[null,null,null,null,null,null,null,null,null,null,null,null,null,null,null,null,null,null,null,null,null,null,null,null,null,{"$f":"[1]Analyse!X198","v":{"$error":"#VALUE!"}},{"$f":"[1]Analyse!Y198","v":{"$error":"#VALUE!"}},{"$f":"[1]Analyse!Z198","v":{"$error":"#VALUE!"}},{"$f":"[1]Analyse!AA198","v":{"$error":"#VALUE!"}},{"$f":"[1]Analyse!AB198","v":{"$error":"#VALUE!"}},{"$f":"[1]Analyse!AC198","v":{"$error":"#VALUE!"}}]
[null,null,null,null,null,null,null,null,null,null,null,null,null,null,null,null,null,null,null,null,null,null,null,null,null,{"$f":"[1]Analyse!X199","v":{"$error":"#VALUE!"}},{"$f":"[1]Analyse!Y199","v":{"$error":"#VALUE!"}},{"$f":"[1]Analyse!Z199","v":{"$error":"#VALUE!"}},{"$f":"[1]Analyse!AA199","v":{"$error":"#VALUE!"}},{"$f":"[1]Analyse!AB199","v":{"$error":"#VALUE!"}},{"$f":"[1]Analyse!AC199","v":{"$error":"#VALUE!"}}]
[null,null,null,null,null,null,null,null,null,null,null,null,null,null,null,null,null,null,null,null,null,null,null,null,null,{"$f":"[1]Analyse!X200","v":{"$error":"#VALUE!"}},{"$f":"[1]Analyse!Y200","v":{"$error":"#VALUE!"}},{"$f":"[1]Analyse!Z200","v":{"$error":"#VALUE!"}},{"$f":"[1]Analyse!AA200","v":{"$error":"#VALUE!"}},{"$f":"[1]Analyse!AB200","v":{"$error":"#VALUE!"}},{"$f":"[1]Analyse!AC200","v":{"$error":"#VALUE!"}}]
[null,null,null,null,null,null,null,null,null,null,null,null,null,null,null,null,null,null,null,null,null,null,null,null,null,{"$f":"[1]Analyse!X201","v":{"$error":"#VALUE!"}},{"$f":"[1]Analyse!Y201","v":{"$error":"#VALUE!"}},{"$f":"[1]Analyse!Z201","v":{"$error":"#VALUE!"}},{"$f":"[1]Analyse!AA201","v":{"$error":"#VALUE!"}},{"$f":"[1]Analyse!AB201","v":{"$error":"#VALUE!"}},{"$f":"[1]Analyse!AC201","v":{"$error":"#VALUE!"}}]
[null,null,null,null,null,null,null,null,null,null,null,null,null,null,null,null,null,null,null,null,null,null,null,null,null,{"$f":"[1]Analyse!X202","v":{"$error":"#VALUE!"}},{"$f":"[1]Analyse!Y202","v":{"$error":"#VALUE!"}},{"$f":"[1]Analyse!Z202","v":{"$error":"#VALUE!"}},{"$f":"[1]Analyse!AA202","v":{"$error":"#VALUE!"}},{"$f":"[1]Analyse!AB202","v":{"$error":"#VALUE!"}},{"$f":"[1]Analyse!AC202","v":{"$error":"#VALUE!"}}]
[null,null,null,null,null,null,null,null,null,null,null,null,null,null,null,null,null,null,null,null,null,null,null,null,null,{"$f":"[1]Analyse!X203","v":{"$error":"#VALUE!"}},{"$f":"[1]Analyse!Y203","v":{"$error":"#VALUE!"}},{"$f":"[1]Analyse!Z203","v":{"$error":"#VALUE!"}},{"$f":"[1]Analyse!AA203","v":{"$error":"#VALUE!"}},{"$f":"[1]Analyse!AB203","v":{"$error":"#VALUE!"}},{"$f":"[1]Analyse!AC203","v":{"$error":"#VALUE!"}}]
[null,null,null,null,null,null,null,null,null,null,null,null,null,null,null,null,null,null,null,null,null,null,null,null,null,{"$f":"[1]Analyse!X204","v":{"$error":"#VALUE!"}},{"$f":"[1]Analyse!Y204","v":{"$error":"#VALUE!"}},{"$f":"[1]Analyse!Z204","v":{"$error":"#VALUE!"}},{"$f":"[1]Analyse!AA204","v":{"$error":"#VALUE!"}},{"$f":"[1]Analyse!AB204","v":{"$error":"#VALUE!"}},{"$f":"[1]Analyse!AC204","v":{"$error":"#VALUE!"}}]
[null,null,null,null,null,null,null,null,null,null,null,null,null,null,null,null,null,null,null,null,null,null,null,null,null,{"$f":"[1]Analyse!X205","v":{"$error":"#VALUE!"}},{"$f":"[1]Analyse!Y205","v":{"$error":"#VALUE!"}},{"$f":"[1]Analyse!Z205","v":{"$error":"#VALUE!"}},{"$f":"[1]Analyse!AA205","v":{"$error":"#VALUE!"}},{"$f":"[1]Analyse!AB205","v":{"$error":"#VALUE!"}},{"$f":"[1]Analyse!AC205","v":{"$error":"#VALUE!"}}]
[null,null,null,null,null,null,null,null,null,null,null,null,null,null,null,null,null,null,null,null,null,null,null,null,null,{"$f":"[1]Analyse!X206","v":{"$error":"#VALUE!"}},{"$f":"[1]Analyse!Y206","v":{"$error":"#VALUE!"}},{"$f":"[1]Analyse!Z206","v":{"$error":"#VALUE!"}},{"$f":"[1]Analyse!AA206","v":{"$error":"#VALUE!"}},{"$f":"[1]Analyse!AB206","v":{"$error":"#VALUE!"}},{"$f":"[1]Analyse!AC206","v":{"$error":"#VALUE!"}}]
[null,null,null,null,null,null,null,null,null,null,null,null,null,null,null,null,null,null,null,null,null,null,null,null,null,{"$f":"[1]Analyse!X207","v":{"$error":"#VALUE!"}},{"$f":"[1]Analyse!Y207","v":{"$error":"#VALUE!"}},{"$f":"[1]Analyse!Z207","v":{"$error":"#VALUE!"}},{"$f":"[1]Analyse!AA207","v":{"$error":"#VALUE!"}},{"$f":"[1]Analyse!AB207","v":{"$error":"#VALUE!"}},{"$f":"[1]Analyse!AC207","v":{"$error":"#VALUE!"}}]
[null,null,null,null,null,null,null,null,null,null,null,null,null,null,null,null,null,null,null,null,null,null,null,null,null,{"$f":"[1]Analyse!X208","v":{"$error":"#VALUE!"}},{"$f":"[1]Analyse!Y208","v":{"$error":"#VALUE!"}},{"$f":"[1]Analyse!Z208","v":{"$error":"#VALUE!"}},{"$f":"[1]Analyse!AA208","v":{"$error":"#VALUE!"}},{"$f":"[1]Analyse!AB208","v":{"$error":"#VALUE!"}},{"$f":"[1]Analyse!AC208","v":{"$error":"#VALUE!"}}]
[null,null,null,null,null,null,null,null,null,null,null,null,null,null,null,null,null,null,null,null,null,null,null,null,null,{"$f":"[1]Analyse!X209","v":{"$error":"#VALUE!"}},{"$f":"[1]Analyse!Y209","v":{"$error":"#VALUE!"}},{"$f":"[1]Analyse!Z209","v":{"$error":"#VALUE!"}},{"$f":"[1]Analyse!AA209","v":{"$error":"#VALUE!"}},{"$f":"[1]Analyse!AB209","v":{"$error":"#VALUE!"}},{"$f":"[1]Analyse!AC209","v":{"$error":"#VALUE!"}}]
[null,null,null,null,null,null,null,null,null,null,null,null,null,null,null,null,null,null,null,null,null,null,null,null,null,{"$f":"[1]Analyse!X210","v":{"$error":"#VALUE!"}},{"$f":"[1]Analyse!Y210","v":{"$error":"#VALUE!"}},{"$f":"[1]Analyse!Z210","v":{"$error":"#VALUE!"}},{"$f":"[1]Analyse!AA210","v":{"$error":"#VALUE!"}},{"$f":"[1]Analyse!AB210","v":{"$error":"#VALUE!"}},{"$f":"[1]Analyse!AC210","v":{"$error":"#VALUE!"}}]
[null,null,null,null,null,null,null,null,null,null,null,null,null,null,null,null,null,null,null,null,null,null,null,null,null,{"$f":"[1]Analyse!X211","v":{"$error":"#VALUE!"}},{"$f":"[1]Analyse!Y211","v":{"$error":"#VALUE!"}},{"$f":"[1]Analyse!Z211","v":{"$error":"#VALUE!"}},{"$f":"[1]Analyse!AA211","v":{"$error":"#VALUE!"}},{"$f":"[1]Analyse!AB211","v":{"$error":"#VALUE!"}},{"$f":"[1]Analyse!AC211","v":{"$error":"#VALUE!"}}]
[null,null,null,null,null,null,null,null,null,null,null,null,null,null,null,null,null,null,null,null,null,null,null,null,null,{"$f":"[1]Analyse!X212","v":{"$error":"#VALUE!"}},{"$f":"[1]Analyse!Y212","v":{"$error":"#VALUE!"}},{"$f":"[1]Analyse!Z212","v":{"$error":"#VALUE!"}},{"$f":"[1]Analyse!AA212","v":{"$error":"#VALUE!"}},{"$f":"[1]Analyse!AB212","v":{"$error":"#VALUE!"}},{"$f":"[1]Analyse!AC212","v":{"$error":"#VALUE!"}}]
[null,null,null,null,null,null,null,null,null,null,null,null,null,null,null,null,null,null,null,null,null,null,null,null,null,{"$f":"[1]Analyse!X213","v":{"$error":"#VALUE!"}},{"$f":"[1]Analyse!Y213","v":{"$error":"#VALUE!"}},{"$f":"[1]Analyse!Z213","v":{"$error":"#VALUE!"}},{"$f":"[1]Analyse!AA213","v":{"$error":"#VALUE!"}},{"$f":"[1]Analyse!AB213","v":{"$error":"#VALUE!"}},{"$f":"[1]Analyse!AC213","v":{"$error":"#VALUE!"}}]
[null,null,null,null,null,null,null,null,null,null,null,null,null,null,null,null,null,null,null,null,null,null,null,null,null,{"$f":"[1]Analyse!X214","v":{"$error":"#VALUE!"}},{"$f":"[1]Analyse!Y214","v":{"$error":"#VALUE!"}},{"$f":"[1]Analyse!Z214","v":{"$error":"#VALUE!"}},{"$f":"[1]Analyse!AA214","v":{"$error":"#VALUE!"}},{"$f":"[1]Analyse!AB214","v":{"$error":"#VALUE!"}},{"$f":"[1]Analyse!AC214","v":{"$error":"#VALUE!"}}]
[null,null,null,null,null,null,null,null,null,null,null,null,null,null,null,null,null,null,null,null,null,null,null,null,null,{"$f":"[1]Analyse!X215","v":{"$error":"#VALUE!"}},{"$f":"[1]Analyse!Y215","v":{"$error":"#VALUE!"}},{"$f":"[1]Analyse!Z215","v":{"$error":"#VALUE!"}},{"$f":"[1]Analyse!AA215","v":{"$error":"#VALUE!"}},{"$f":"[1]Analyse!AB215","v":{"$error":"#VALUE!"}},{"$f":"[1]Analyse!AC215","v":{"$error":"#VALUE!"}}]
[null,null,null,null,null,null,null,null,null,null,null,null,null,null,null,null,null,null,null,null,null,null,null,null,null,{"$f":"[1]Analyse!X216","v":{"$error":"#VALUE!"}},{"$f":"[1]Analyse!Y216","v":{"$error":"#VALUE!"}},{"$f":"[1]Analyse!Z216","v":{"$error":"#VALUE!"}},{"$f":"[1]Analyse!AA216","v":{"$error":"#VALUE!"}},{"$f":"[1]Analyse!AB216","v":{"$error":"#VALUE!"}},{"$f":"[1]Analyse!AC216","v":{"$error":"#VALUE!"}}]
[null,null,null,null,null,null,null,null,null,null,null,null,null,null,null,null,null,null,null,null,null,null,null,null,null,{"$f":"[1]Analyse!X217","v":{"$error":"#VALUE!"}},{"$f":"[1]Analyse!Y217","v":{"$error":"#VALUE!"}},{"$f":"[1]Analyse!Z217","v":{"$error":"#VALUE!"}},{"$f":"[1]Analyse!AA217","v":{"$error":"#VALUE!"}},{"$f":"[1]Analyse!AB217","v":{"$error":"#VALUE!"}},{"$f":"[1]Analyse!AC217","v":{"$error":"#VALUE!"}}]
[null,null,null,null,null,null,null,null,null,null,null,null,null,null,null,null,null,null,null,null,null,null,null,null,null,{"$f":"[1]Analyse!X218","v":{"$error":"#VALUE!"}},{"$f":"[1]Analyse!Y218","v":{"$error":"#VALUE!"}},{"$f":"[1]Analyse!Z218","v":{"$error":"#VALUE!"}},{"$f":"[1]Analyse!AA218","v":{"$error":"#VALUE!"}},{"$f":"[1]Analyse!AB218","v":{"$error":"#VALUE!"}},{"$f":"[1]Analyse!AC218","v":{"$error":"#VALUE!"}}]
[null,null,null,null,null,null,null,null,null,null,null,null,null,null,null,null,null,null,null,null,null,null,null,null,null,{"$f":"[1]Analyse!X219","v":{"$error":"#VALUE!"}},{"$f":"[1]Analyse!Y219","v":{"$error":"#VALUE!"}},{"$f":"[1]Analyse!Z219","v":{"$error":"#VALUE!"}},{"$f":"[1]Analyse!AA219","v":{"$error":"#VALUE!"}},{"$f":"[1]Analyse!AB219","v":{"$error":"#VALUE!"}},{"$f":"[1]Analyse!AC219","v":{"$error":"#VALUE!"}}]
[null,null,null,null,null,null,null,null,null,null,null,null,null,null,null,null,null,null,null,null,null,null,null,null,null,{"$f":"[1]Analyse!X220","v":{"$error":"#VALUE!"}},{"$f":"[1]Analyse!Y220","v":{"$error":"#VALUE!"}},{"$f":"[1]Analyse!Z220","v":{"$error":"#VALUE!"}},{"$f":"[1]Analyse!AA220","v":{"$error":"#VALUE!"}},{"$f":"[1]Analyse!AB220","v":{"$error":"#VALUE!"}},{"$f":"[1]Analyse!AC220","v":{"$error":"#VALUE!"}}]
[null,null,null,null,null,null,null,null,null,null,null,null,null,null,null,null,null,null,null,null,null,null,null,null,null,{"$f":"[1]Analyse!X221","v":{"$error":"#VALUE!"}},{"$f":"[1]Analyse!Y221","v":{"$error":"#VALUE!"}},{"$f":"[1]Analyse!Z221","v":{"$error":"#VALUE!"}},{"$f":"[1]Analyse!AA221","v":{"$error":"#VALUE!"}},{"$f":"[1]Analyse!AB221","v":{"$error":"#VALUE!"}},{"$f":"[1]Analyse!AC221","v":{"$error":"#VALUE!"}}]
[null,null,null,null,null,null,null,null,null,null,null,null,null,null,null,null,null,null,null,null,null,null,null,null,null,{"$f":"[1]Analyse!X222","v":{"$error":"#VALUE!"}},{"$f":"[1]Analyse!Y222","v":{"$error":"#VALUE!"}},{"$f":"[1]Analyse!Z222","v":{"$error":"#VALUE!"}},{"$f":"[1]Analyse!AA222","v":{"$error":"#VALUE!"}},{"$f":"[1]Analyse!AB222","v":{"$error":"#VALUE!"}},{"$f":"[1]Analyse!AC222","v":{"$error":"#VALUE!"}}]
[null,null,null,null,null,null,null,null,null,null,null,null,null,null,null,null,null,null,null,null,null,null,null,null,null,{"$f":"[1]Analyse!X223","v":{"$error":"#VALUE!"}},{"$f":"[1]Analyse!Y223","v":{"$error":"#VALUE!"}},{"$f":"[1]Analyse!Z223","v":{"$error":"#VALUE!"}},{"$f":"[1]Analyse!AA223","v":{"$error":"#VALUE!"}},{"$f":"[1]Analyse!AB223","v":{"$error":"#VALUE!"}},{"$f":"[1]Analyse!AC223","v":{"$error":"#VALUE!"}}]
[null,null,null,null,null,null,null,null,null,null,null,null,null,null,null,null,null,null,null,null,null,null,null,null,null,{"$f":"[1]Analyse!X224","v":{"$error":"#VALUE!"}},{"$f":"[1]Analyse!Y224","v":{"$error":"#VALUE!"}},{"$f":"[1]Analyse!Z224","v":{"$error":"#VALUE!"}},{"$f":"[1]Analyse!AA224","v":{"$error":"#VALUE!"}},{"$f":"[1]Analyse!AB224","v":{"$error":"#VALUE!"}},{"$f":"[1]Analyse!AC224","v":{"$error":"#VALUE!"}}]
[null,null,null,null,null,null,null,null,null,null,null,null,null,null,null,null,null,null,null,null,null,null,null,null,null,{"$f":"[1]Analyse!X225","v":{"$error":"#VALUE!"}},{"$f":"[1]Analyse!Y225","v":{"$error":"#VALUE!"}},{"$f":"[1]Analyse!Z225","v":{"$error":"#VALUE!"}},{"$f":"[1]Analyse!AA225","v":{"$error":"#VALUE!"}},{"$f":"[1]Analyse!AB225","v":{"$error":"#VALUE!"}},{"$f":"[1]Analyse!AC225","v":{"$error":"#VALUE!"}}]
[null,null,null,null,null,null,null,null,null,null,null,null,null,null,null,null,null,null,null,null,null,null,null,null,null,{"$f":"[1]Analyse!X226","v":{"$error":"#VALUE!"}},{"$f":"[1]Analyse!Y226","v":{"$error":"#VALUE!"}},{"$f":"[1]Analyse!Z226","v":{"$error":"#VALUE!"}},{"$f":"[1]Analyse!AA226","v":{"$error":"#VALUE!"}},{"$f":"[1]Analyse!AB226","v":{"$error":"#VALUE!"}},{"$f":"[1]Analyse!AC226","v":{"$error":"#VALUE!"}}]
[null,null,null,null,null,null,null,null,null,null,null,null,null,null,null,null,null,null,null,null,null,null,null,null,null,{"$f":"[1]Analyse!X227","v":{"$error":"#VALUE!"}},{"$f":"[1]Analyse!Y227","v":{"$error":"#VALUE!"}},{"$f":"[1]Analyse!Z227","v":{"$error":"#VALUE!"}},{"$f":"[1]Analyse!AA227","v":{"$error":"#VALUE!"}},{"$f":"[1]Analyse!AB227","v":{"$error":"#VALUE!"}},{"$f":"[1]Analyse!AC227","v":{"$error":"#VALUE!"}}]
[null,null,null,null,null,null,null,null,null,null,null,null,null,null,null,null,null,null,null,null,null,null,null,null,null,{"$f":"[1]Analyse!X228","v":{"$error":"#VALUE!"}},{"$f":"[1]Analyse!Y228","v":{"$error":"#VALUE!"}},{"$f":"[1]Analyse!Z228","v":{"$error":"#VALUE!"}},{"$f":"[1]Analyse!AA228","v":{"$error":"#VALUE!"}},{"$f":"[1]Analyse!AB228","v":{"$error":"#VALUE!"}},{"$f":"[1]Analyse!AC228","v":{"$error":"#VALUE!"}}]
[null,null,null,null,null,null,null,null,null,null,null,null,null,null,null,null,null,null,null,null,null,null,null,null,null,{"$f":"[1]Analyse!X229","v":{"$error":"#VALUE!"}},{"$f":"[1]Analyse!Y229","v":{"$error":"#VALUE!"}},{"$f":"[1]Analyse!Z229","v":{"$error":"#VALUE!"}},{"$f":"[1]Analyse!AA229","v":{"$error":"#VALUE!"}},{"$f":"[1]Analyse!AB229","v":{"$error":"#VALUE!"}},{"$f":"[1]Analyse!AC229","v":{"$error":"#VALUE!"}}]
[null,null,null,null,null,null,null,null,null,null,null,null,null,null,null,null,null,null,null,null,null,null,null,null,null,{"$f":"[1]Analyse!X230","v":{"$error":"#VALUE!"}},{"$f":"[1]Analyse!Y230","v":{"$error":"#VALUE!"}},{"$f":"[1]Analyse!Z230","v":{"$error":"#VALUE!"}},{"$f":"[1]Analyse!AA230","v":{"$error":"#VALUE!"}},{"$f":"[1]Analyse!AB230","v":{"$error":"#VALUE!"}},{"$f":"[1]Analyse!AC230","v":{"$error":"#VALUE!"}}]
[null,null,null,null,null,null,null,null,null,null,null,null,null,null,null,null,null,null,null,null,null,null,null,null,null,{"$f":"[1]Analyse!X231","v":{"$error":"#VALUE!"}},{"$f":"[1]Analyse!Y231","v":{"$error":"#VALUE!"}},{"$f":"[1]Analyse!Z231","v":{"$error":"#VALUE!"}},{"$f":"[1]Analyse!AA231","v":{"$error":"#VALUE!"}},{"$f":"[1]Analyse!AB231","v":{"$error":"#VALUE!"}},{"$f":"[1]Analyse!AC231","v":{"$error":"#VALUE!"}}]
[null,null,null,null,null,null,null,null,null,null,null,null,null,null,null,null,null,null,null,null,null,null,null,null,null,{"$f":"[1]Analyse!X232","v":{"$error":"#VALUE!"}},{"$f":"[1]Analyse!Y232","v":{"$error":"#VALUE!"}},{"$f":"[1]Analyse!Z232","v":{"$error":"#VALUE!"}},{"$f":"[1]Analyse!AA232","v":{"$error":"#VALUE!"}},{"$f":"[1]Analyse!AB232","v":{"$error":"#VALUE!"}},{"$f":"[1]Analyse!AC232","v":{"$error":"#VALUE!"}}]
[null,null,null,null,null,null,null,null,null,null,null,null,null,null,null,null,null,null,null,null,null,null,null,null,null,{"$f":"[1]Analyse!X233","v":{"$error":"#VALUE!"}},{"$f":"[1]Analyse!Y233","v":{"$error":"#VALUE!"}},{"$f":"[1]Analyse!Z233","v":{"$error":"#VALUE!"}},{"$f":"[1]Analyse!AA233","v":{"$error":"#VALUE!"}},{"$f":"[1]Analyse!AB233","v":{"$error":"#VALUE!"}},{"$f":"[1]Analyse!AC233","v":{"$error":"#VALUE!"}}]
[null,null,null,null,null,null,null,null,null,null,null,null,null,null,null,null,null,null,null,null,null,null,null,null,null,{"$f":"[1]Analyse!X234","v":{"$error":"#VALUE!"}},{"$f":"[1]Analyse!Y234","v":{"$error":"#VALUE!"}},{"$f":"[1]Analyse!Z234","v":{"$error":"#VALUE!"}},{"$f":"[1]Analyse!AA234","v":{"$error":"#VALUE!"}},{"$f":"[1]Analyse!AB234","v":{"$error":"#VALUE!"}},{"$f":"[1]Analyse!AC234","v":{"$error":"#VALUE!"}}]
[null,null,null,null,null,null,null,null,null,null,null,null,null,null,null,null,null,null,null,null,null,null,null,null,null,{"$f":"[1]Analyse!X235","v":{"$error":"#VALUE!"}},{"$f":"[1]Analyse!Y235","v":{"$error":"#VALUE!"}},{"$f":"[1]Analyse!Z235","v":{"$error":"#VALUE!"}},{"$f":"[1]Analyse!AA235","v":{"$error":"#VALUE!"}},{"$f":"[1]Analyse!AB235","v":{"$error":"#VALUE!"}},{"$f":"[1]Analyse!AC235","v":{"$error":"#VALUE!"}}]
[null,null,null,null,null,null,null,null,null,null,null,null,null,null,null,null,null,null,null,null,null,null,null,null,null,{"$f":"[1]Analyse!X236","v":{"$error":"#VALUE!"}},{"$f":"[1]Analyse!Y236","v":{"$error":"#VALUE!"}},{"$f":"[1]Analyse!Z236","v":{"$error":"#VALUE!"}},{"$f":"[1]Analyse!AA236","v":{"$error":"#VALUE!"}},{"$f":"[1]Analyse!AB236","v":{"$error":"#VALUE!"}},{"$f":"[1]Analyse!AC236","v":{"$error":"#VALUE!"}}]
[null,null,null,null,null,null,null,null,null,null,null,null,null,null,null,null,null,null,null,null,null,null,null,null,null,null,null,null,null,null,{"$f":"[1]Analyse!AC237","v":0}]
[null,null,null,null,null,null,null,null,null,null,null,null,null,null,null,null,null,null,null,null,null,null,null,null,null,null,null,null,null,null,{"$f":"[1]Analyse!AC238","v":0}]
[null,null,null,null,null,null,null,null,null,null,null,null,null,null,null,null,null,null,null,null,null,null,null,null,null,null,null,null,null,null,{"$f":"[1]Analyse!AC239","v":"min"}]
[null,null,null,null,null,null,null,null,null,null,null,null,null,null,null,null,null,null,null,null,null,null,null,null,null,{"$f":"[1]Analyse!X240","v":{"$error":"#VALUE!"}},{"$f":"[1]Analyse!Y240","v":{"$error":"#VALUE!"}},{"$f":"[1]Analyse!Z240","v":{"$error":"#VALUE!"}},{"$f":"[1]Analyse!AA240","v":{"$error":"#VALUE!"}},{"$f":"[1]Analyse!AB240","v":{"$error":"#VALUE!"}},{"$f":"[1]Analyse!AC240","v":{"$error":"#VALUE!"}}]
[null,null,null,null,null,null,null,null,null,null,null,null,null,null,null,null,null,null,null,null,null,null,null,null,null,{"$f":"[1]Analyse!X241","v":{"$error":"#VALUE!"}},{"$f":"[1]Analyse!Y241","v":{"$error":"#VALUE!"}},{"$f":"[1]Analyse!Z241","v":{"$error":"#VALUE!"}},{"$f":"[1]Analyse!AA241","v":{"$error":"#VALUE!"}},{"$f":"[1]Analyse!AB241","v":{"$error":"#VALUE!"}},{"$f":"[1]Analyse!AC241","v":{"$error":"#VALUE!"}}]
[null,null,null,null,null,null,null,null,null,null,null,null,null,null,null,null,null,null,null,null,null,null,null,null,null,{"$f":"[1]Analyse!X242","v":{"$error":"#VALUE!"}},{"$f":"[1]Analyse!Y242","v":{"$error":"#VALUE!"}},{"$f":"[1]Analyse!Z242","v":{"$error":"#VALUE!"}},{"$f":"[1]Analyse!AA242","v":{"$error":"#VALUE!"}},{"$f":"[1]Analyse!AB242","v":{"$error":"#VALUE!"}},{"$f":"[1]Analyse!AC242","v":{"$error":"#VALUE!"}}]
[null,null,null,null,null,null,null,null,null,null,null,null,null,null,null,null,null,null,null,null,null,null,null,null,null,{"$f":"[1]Analyse!X243","v":{"$error":"#VALUE!"}},{"$f":"[1]Analyse!Y243","v":{"$error":"#VALUE!"}},{"$f":"[1]Analyse!Z243","v":{"$error":"#VALUE!"}},{"$f":"[1]Analyse!AA243","v":{"$error":"#VALUE!"}},{"$f":"[1]Analyse!AB243","v":{"$error":"#VALUE!"}},{"$f":"[1]Analyse!AC243","v":{"$error":"#VALUE!"}}]
[null,null,null,null,null,null,null,null,null,null,null,null,null,null,null,null,null,null,null,null,null,null,null,null,null,{"$f":"[1]Analyse!X244","v":{"$error":"#VALUE!"}},{"$f":"[1]Analyse!Y244","v":{"$error":"#VALUE!"}},{"$f":"[1]Analyse!Z244","v":{"$error":"#VALUE!"}},{"$f":"[1]Analyse!AA244","v":{"$error":"#VALUE!"}},{"$f":"[1]Analyse!AB244","v":{"$error":"#VALUE!"}},{"$f":"[1]Analyse!AC244","v":{"$error":"#VALUE!"}}]
[null,null,null,null,null,null,null,null,null,null,null,null,null,null,null,null,null,null,null,null,null,null,null,null,null,{"$f":"[1]Analyse!X245","v":{"$error":"#VALUE!"}},{"$f":"[1]Analyse!Y245","v":{"$error":"#VALUE!"}},{"$f":"[1]Analyse!Z245","v":{"$error":"#VALUE!"}},{"$f":"[1]Analyse!AA245","v":{"$error":"#VALUE!"}},{"$f":"[1]Analyse!AB245","v":{"$error":"#VALUE!"}},{"$f":"[1]Analyse!AC245","v":{"$error":"#VALUE!"}}]
[null,null,null,null,null,null,null,null,null,null,null,null,null,null,null,null,null,null,null,null,null,null,null,null,null,{"$f":"[1]Analyse!X246","v":{"$error":"#VALUE!"}},{"$f":"[1]Analyse!Y246","v":{"$error":"#VALUE!"}},{"$f":"[1]Analyse!Z246","v":{"$error":"#VALUE!"}},{"$f":"[1]Analyse!AA246","v":{"$error":"#VALUE!"}},{"$f":"[1]Analyse!AB246","v":{"$error":"#VALUE!"}},{"$f":"[1]Analyse!AC246","v":{"$error":"#VALUE!"}}]
[null,null,null,null,null,null,null,null,null,null,null,null,null,null,null,null,null,null,null,null,null,null,null,null,null,{"$f":"[1]Analyse!X247","v":{"$error":"#VALUE!"}},{"$f":"[1]Analyse!Y247","v":{"$error":"#VALUE!"}},{"$f":"[1]Analyse!Z247","v":{"$error":"#VALUE!"}},{"$f":"[1]Analyse!AA247","v":{"$error":"#VALUE!"}},{"$f":"[1]Analyse!AB247","v":{"$error":"#VALUE!"}},{"$f":"[1]Analyse!AC247","v":{"$error":"#VALUE!"}}]
[null,null,null,null,null,null,null,null,null,null,null,null,null,null,null,null,null,null,null,null,null,null,null,null,null,{"$f":"[1]Analyse!X248","v":{"$error":"#VALUE!"}},{"$f":"[1]Analyse!Y248","v":{"$error":"#VALUE!"}},{"$f":"[1]Analyse!Z248","v":{"$error":"#VALUE!"}},{"$f":"[1]Analyse!AA248","v":{"$error":"#VALUE!"}},{"$f":"[1]Analyse!AB248","v":{"$error":"#VALUE!"}},{"$f":"[1]Analyse!AC248","v":{"$error":"#VALUE!"}}]
[null,null,null,null,null,null,null,null,null,null,null,null,null,null,null,null,null,null,null,null,null,null,null,null,null,{"$f":"[1]Analyse!X249","v":{"$error":"#VALUE!"}},{"$f":"[1]Analyse!Y249","v":{"$error":"#VALUE!"}},{"$f":"[1]Analyse!Z249","v":{"$error":"#VALUE!"}},{"$f":"[1]Analyse!AA249","v":{"$error":"#VALUE!"}},{"$f":"[1]Analyse!AB249","v":{"$error":"#VALUE!"}},{"$f":"[1]Analyse!AC249","v":{"$error":"#VALUE!"}}]
[null,null,null,null,null,null,null,null,null,null,null,null,null,null,null,null,null,null,null,null,null,null,null,null,null,{"$f":"[1]Analyse!X250","v":{"$error":"#VALUE!"}},{"$f":"[1]Analyse!Y250","v":{"$error":"#VALUE!"}},{"$f":"[1]Analyse!Z250","v":{"$error":"#VALUE!"}},{"$f":"[1]Analyse!AA250","v":{"$error":"#VALUE!"}},{"$f":"[1]Analyse!AB250","v":{"$error":"#VALUE!"}},{"$f":"[1]Analyse!AC250","v":{"$error":"#VALUE!"}}]
[null,null,null,null,null,null,null,null,null,null,null,null,null,null,null,null,null,null,null,null,null,null,null,null,null,{"$f":"[1]Analyse!X251","v":{"$error":"#VALUE!"}},{"$f":"[1]Analyse!Y251","v":{"$error":"#VALUE!"}},{"$f":"[1]Analyse!Z251","v":{"$error":"#VALUE!"}},{"$f":"[1]Analyse!AA251","v":{"$error":"#VALUE!"}},{"$f":"[1]Analyse!AB251","v":{"$error":"#VALUE!"}},{"$f":"[1]Analyse!AC251","v":{"$error":"#VALUE!"}}]
[null,null,null,null,null,null,null,null,null,null,null,null,null,null,null,null,null,null,null,null,null,null,null,null,null,{"$f":"[1]Analyse!X252","v":{"$error":"#VALUE!"}},{"$f":"[1]Analyse!Y252","v":{"$error":"#VALUE!"}},{"$f":"[1]Analyse!Z252","v":{"$error":"#VALUE!"}},{"$f":"[1]Analyse!AA252","v":{"$error":"#VALUE!"}},{"$f":"[1]Analyse!AB252","v":{"$error":"#VALUE!"}},{"$f":"[1]Analyse!AC252","v":{"$error":"#VALUE!"}}]
[null,null,null,null,null,null,null,null,null,null,null,null,null,null,null,null,null,null,null,null,null,null,null,null,null,{"$f":"[1]Analyse!X253","v":{"$error":"#VALUE!"}},{"$f":"[1]Analyse!Y253","v":{"$error":"#VALUE!"}},{"$f":"[1]Analyse!Z253","v":{"$error":"#VALUE!"}},{"$f":"[1]Analyse!AA253","v":{"$error":"#VALUE!"}},{"$f":"[1]Analyse!AB253","v":{"$error":"#VALUE!"}},{"$f":"[1]Analyse!AC253","v":{"$error":"#VALUE!"}}]
[null,null,null,null,null,null,null,null,null,null,null,null,null,null,null,null,null,null,null,null,null,null,null,null,null,{"$f":"[1]Analyse!X254","v":{"$error":"#VALUE!"}},{"$f":"[1]Analyse!Y254","v":{"$error":"#VALUE!"}},{"$f":"[1]Analyse!Z254","v":{"$error":"#VALUE!"}},{"$f":"[1]Analyse!AA254","v":{"$error":"#VALUE!"}},{"$f":"[1]Analyse!AB254","v":{"$error":"#VALUE!"}},{"$f":"[1]Analyse!AC254","v":{"$error":"#VALUE!"}}]
[null,null,null,null,null,null,null,null,null,null,null,null,null,null,null,null,null,null,null,null,null,null,null,null,null,{"$f":"[1]Analyse!X255","v":{"$error":"#VALUE!"}},{"$f":"[1]Analyse!Y255","v":{"$error":"#VALUE!"}},{"$f":"[1]Analyse!Z255","v":{"$error":"#VALUE!"}},{"$f":"[1]Analyse!AA255","v":{"$error":"#VALUE!"}},{"$f":"[1]Analyse!AB255","v":{"$error":"#VALUE!"}},{"$f":"[1]Analyse!AC255","v":{"$error":"#VALUE!"}}]
[null,null,null,null,null,null,null,null,null,null,null,null,null,null,null,null,null,null,null,null,null,null,null,null,null,{"$f":"[1]Analyse!X256","v":{"$error":"#VALUE!"}},{"$f":"[1]Analyse!Y256","v":{"$error":"#VALUE!"}},{"$f":"[1]Analyse!Z256","v":{"$error":"#VALUE!"}},{"$f":"[1]Analyse!AA256","v":{"$error":"#VALUE!"}},{"$f":"[1]Analyse!AB256","v":{"$error":"#VALUE!"}},{"$f":"[1]Analyse!AC256","v":{"$error":"#VALUE!"}}]
[null,null,null,null,null,null,null,null,null,null,null,null,null,null,null,null,null,null,null,null,null,null,null,null,null,{"$f":"[1]Analyse!X257","v":{"$error":"#VALUE!"}},{"$f":"[1]Analyse!Y257","v":{"$error":"#VALUE!"}},{"$f":"[1]Analyse!Z257","v":{"$error":"#VALUE!"}},{"$f":"[1]Analyse!AA257","v":{"$error":"#VALUE!"}},{"$f":"[1]Analyse!AB257","v":{"$error":"#VALUE!"}},{"$f":"[1]Analyse!AC257","v":{"$error":"#VALUE!"}}]
[null,null,null,null,null,null,null,null,null,null,null,null,null,null,null,null,null,null,null,null,null,null,null,null,null,{"$f":"[1]Analyse!X258","v":{"$error":"#VALUE!"}},{"$f":"[1]Analyse!Y258","v":{"$error":"#VALUE!"}},{"$f":"[1]Analyse!Z258","v":{"$error":"#VALUE!"}},{"$f":"[1]Analyse!AA258","v":{"$error":"#VALUE!"}},{"$f":"[1]Analyse!AB258","v":{"$error":"#VALUE!"}},{"$f":"[1]Analyse!AC258","v":{"$error":"#VALUE!"}}]
[null,null,null,null,null,null,null,null,null,null,null,null,null,null,null,null,null,null,null,null,null,null,null,null,null,{"$f":"[1]Analyse!X259","v":{"$error":"#VALUE!"}},{"$f":"[1]Analyse!Y259","v":{"$error":"#VALUE!"}},{"$f":"[1]Analyse!Z259","v":{"$error":"#VALUE!"}},{"$f":"[1]Analyse!AA259","v":{"$error":"#VALUE!"}},{"$f":"[1]Analyse!AB259","v":{"$error":"#VALUE!"}},{"$f":"[1]Analyse!AC259","v":{"$error":"#VALUE!"}}]
[null,null,null,null,null,null,null,null,null,null,null,null,null,null,null,null,null,null,null,null,null,null,null,null,null,{"$f":"[1]Analyse!X260","v":{"$error":"#VALUE!"}},{"$f":"[1]Analyse!Y260","v":{"$error":"#VALUE!"}},{"$f":"[1]Analyse!Z260","v":{"$error":"#VALUE!"}},{"$f":"[1]Analyse!AA260","v":{"$error":"#VALUE!"}},{"$f":"[1]Analyse!AB260","v":{"$error":"#VALUE!"}},{"$f":"[1]Analyse!AC260","v":{"$error":"#VALUE!"}}]
[null,null,null,null,null,null,null,null,null,null,null,null,null,null,null,null,null,null,null,null,null,null,null,null,null,{"$f":"[1]Analyse!X261","v":{"$error":"#VALUE!"}},{"$f":"[1]Analyse!Y261","v":{"$error":"#VALUE!"}},{"$f":"[1]Analyse!Z261","v":{"$error":"#VALUE!"}},{"$f":"[1]Analyse!AA261","v":{"$error":"#VALUE!"}},{"$f":"[1]Analyse!AB261","v":{"$error":"#VALUE!"}},{"$f":"[1]Analyse!AC261","v":{"$error":"#VALUE!"}}]
[null,null,null,null,null,null,null,null,null,null,null,null,null,null,null,null,null,null,null,null,null,null,null,null,null,{"$f":"[1]Analyse!X262","v":{"$error":"#VALUE!"}},{"$f":"[1]Analyse!Y262","v":{"$error":"#VALUE!"}},{"$f":"[1]Analyse!Z262","v":{"$error":"#VALUE!"}},{"$f":"[1]Analyse!AA262","v":{"$error":"#VALUE!"}},{"$f":"[1]Analyse!AB262","v":{"$error":"#VALUE!"}},{"$f":"[1]Analyse!AC262","v":{"$error":"#VALUE!"}}]
[null,null,null,null,null,null,null,null,null,null,null,null,null,null,null,null,null,null,null,null,null,null,null,null,null,{"$f":"[1]Analyse!X263","v":{"$error":"#VALUE!"}},{"$f":"[1]Analyse!Y263","v":{"$error":"#VALUE!"}},{"$f":"[1]Analyse!Z263","v":{"$error":"#VALUE!"}},{"$f":"[1]Analyse!AA263","v":{"$error":"#VALUE!"}},{"$f":"[1]Analyse!AB263","v":{"$error":"#VALUE!"}},{"$f":"[1]Analyse!AC263","v":{"$error":"#VALUE!"}}]
[null,null,null,null,null,null,null,null,null,null,null,null,null,null,null,null,null,null,null,null,null,null,null,null,null,{"$f":"[1]Analyse!X264","v":{"$error":"#VALUE!"}},{"$f":"[1]Analyse!Y264","v":{"$error":"#VALUE!"}},{"$f":"[1]Analyse!Z264","v":{"$error":"#VALUE!"}},{"$f":"[1]Analyse!AA264","v":{"$error":"#VALUE!"}},{"$f":"[1]Analyse!AB264","v":{"$error":"#VALUE!"}},{"$f":"[1]Analyse!AC264","v":{"$error":"#VALUE!"}}]
[null,null,null,null,null,null,null,null,null,null,null,null,null,null,null,null,null,null,null,null,null,null,null,null,null,{"$f":"[1]Analyse!X265","v":{"$error":"#VALUE!"}},{"$f":"[1]Analyse!Y265","v":{"$error":"#VALUE!"}},{"$f":"[1]Analyse!Z265","v":{"$error":"#VALUE!"}},{"$f":"[1]Analyse!AA265","v":{"$error":"#VALUE!"}},{"$f":"[1]Analyse!AB265","v":{"$error":"#VALUE!"}},{"$f":"[1]Analyse!AC265","v":{"$error":"#VALUE!"}}]
[null,null,null,null,null,null,null,null,null,null,null,null,null,null,null,null,null,null,null,null,null,null,null,null,null,{"$f":"[1]Analyse!X266","v":{"$error":"#VALUE!"}},{"$f":"[1]Analyse!Y266","v":{"$error":"#VALUE!"}},{"$f":"[1]Analyse!Z266","v":{"$error":"#VALUE!"}},{"$f":"[1]Analyse!AA266","v":{"$error":"#VALUE!"}},{"$f":"[1]Analyse!AB266","v":{"$error":"#VALUE!"}},{"$f":"[1]Analyse!AC266","v":{"$error":"#VALUE!"}}]
[null,null,null,null,null,null,null,null,null,null,null,null,null,null,null,null,null,null,null,null,null,null,null,null,null,{"$f":"[1]Analyse!X267","v":{"$error":"#VALUE!"}},{"$f":"[1]Analyse!Y267","v":{"$error":"#VALUE!"}},{"$f":"[1]Analyse!Z267","v":{"$error":"#VALUE!"}},{"$f":"[1]Analyse!AA267","v":{"$error":"#VALUE!"}},{"$f":"[1]Analyse!AB267","v":{"$error":"#VALUE!"}},{"$f":"[1]Analyse!AC267","v":{"$error":"#VALUE!"}}]
[null,null,null,null,null,null,null,null,null,null,null,null,null,null,null,null,null,null,null,null,null,null,null,null,null,{"$f":"[1]Analyse!X268","v":{"$error":"#VALUE!"}},{"$f":"[1]Analyse!Y268","v":{"$error":"#VALUE!"}},{"$f":"[1]Analyse!Z268","v":{"$error":"#VALUE!"}},{"$f":"[1]Analyse!AA268","v":{"$error":"#VALUE!"}},{"$f":"[1]Analyse!AB268","v":{"$error":"#VALUE!"}},{"$f":"[1]Analyse!AC268","v":{"$error":"#VALUE!"}}]
[null,null,null,null,null,null,null,null,null,null,null,null,null,null,null,null,null,null,null,null,null,null,null,null,null,{"$f":"[1]Analyse!X269","v":{"$error":"#VALUE!"}},{"$f":"[1]Analyse!Y269","v":{"$error":"#VALUE!"}},{"$f":"[1]Analyse!Z269","v":{"$error":"#VALUE!"}},{"$f":"[1]Analyse!AA269","v":{"$error":"#VALUE!"}},{"$f":"[1]Analyse!AB269","v":{"$error":"#VALUE!"}},{"$f":"[1]Analyse!AC269","v":{"$error":"#VALUE!"}}]
[null,null,null,null,null,null,null,null,null,null,null,null,null,null,null,null,null,null,null,null,null,null,null,null,null,{"$f":"[1]Analyse!X270","v":{"$error":"#VALUE!"}},{"$f":"[1]Analyse!Y270","v":{"$error":"#VALUE!"}},{"$f":"[1]Analyse!Z270","v":{"$error":"#VALUE!"}},{"$f":"[1]Analyse!AA270","v":{"$error":"#VALUE!"}},{"$f":"[1]Analyse!AB270","v":{"$error":"#VALUE!"}},{"$f":"[1]Analyse!AC270","v":{"$error":"#VALUE!"}}]
[null,null,null,null,null,null,null,null,null,null,null,null,null,null,null,null,null,null,null,null,null,null,null,null,null,{"$f":"[1]Analyse!X271","v":{"$error":"#VALUE!"}},{"$f":"[1]Analyse!Y271","v":{"$error":"#VALUE!"}},{"$f":"[1]Analyse!Z271","v":{"$error":"#VALUE!"}},{"$f":"[1]Analyse!AA271","v":{"$error":"#VALUE!"}},{"$f":"[1]Analyse!AB271","v":{"$error":"#VALUE!"}},{"$f":"[1]Analyse!AC271","v":{"$error":"#VALUE!"}}]
[null,null,null,null,null,null,null,null,null,null,null,null,null,null,null,null,null,null,null,null,null,null,null,null,null,{"$f":"[1]Analyse!X272","v":{"$error":"#VALUE!"}},{"$f":"[1]Analyse!Y272","v":{"$error":"#VALUE!"}},{"$f":"[1]Analyse!Z272","v":{"$error":"#VALUE!"}},{"$f":"[1]Analyse!AA272","v":{"$error":"#VALUE!"}},{"$f":"[1]Analyse!AB272","v":{"$error":"#VALUE!"}},{"$f":"[1]Analyse!AC272","v":{"$error":"#VALUE!"}}]
[null,null,null,null,null,null,null,null,null,null,null,null,null,null,null,null,null,null,null,null,null,null,null,null,null,{"$f":"[1]Analyse!X273","v":{"$error":"#VALUE!"}},{"$f":"[1]Analyse!Y273","v":{"$error":"#VALUE!"}},{"$f":"[1]Analyse!Z273","v":{"$error":"#VALUE!"}},{"$f":"[1]Analyse!AA273","v":{"$error":"#VALUE!"}},{"$f":"[1]Analyse!AB273","v":{"$error":"#VALUE!"}},{"$f":"[1]Analyse!AC273","v":{"$error":"#VALUE!"}}]
[null,null,null,null,null,null,null,null,null,null,null,null,null,null,null,null,null,null,null,null,null,null,null,null,null,{"$f":"[1]Analyse!X274","v":{"$error":"#VALUE!"}},{"$f":"[1]Analyse!Y274","v":{"$error":"#VALUE!"}},{"$f":"[1]Analyse!Z274","v":{"$error":"#VALUE!"}},{"$f":"[1]Analyse!AA274","v":{"$error":"#VALUE!"}},{"$f":"[1]Analyse!AB274","v":{"$error":"#VALUE!"}},{"$f":"[1]Analyse!AC274","v":{"$error":"#VALUE!"}}]
[null,null,null,null,null,null,null,null,null,null,null,null,null,null,null,null,null,null,null,null,null,null,null,null,null,{"$f":"[1]Analyse!X275","v":{"$error":"#VALUE!"}},{"$f":"[1]Analyse!Y275","v":{"$error":"#VALUE!"}},{"$f":"[1]Analyse!Z275","v":{"$error":"#VALUE!"}},{"$f":"[1]Analyse!AA275","v":{"$error":"#VALUE!"}},{"$f":"[1]Analyse!AB275","v":{"$error":"#VALUE!"}},{"$f":"[1]Analyse!AC275","v":{"$error":"#VALUE!"}}]
[null,null,null,null,null,null,null,null,null,null,null,null,null,null,null,null,null,null,null,null,null,null,null,null,null,{"$f":"[1]Analyse!X276","v":{"$error":"#VALUE!"}},{"$f":"[1]Analyse!Y276","v":{"$error":"#VALUE!"}},{"$f":"[1]Analyse!Z276","v":{"$error":"#VALUE!"}},{"$f":"[1]Analyse!AA276","v":{"$error":"#VALUE!"}},{"$f":"[1]Analyse!AB276","v":{"$error":"#VALUE!"}},{"$f":"[1]Analyse!AC276","v":{"$error":"#VALUE!"}}]
[null,null,null,null,null,null,null,null,null,null,null,null,null,null,null,null,null,null,null,null,null,null,null,null,null,{"$f":"[1]Analyse!X277","v":{"$error":"#VALUE!"}},{"$f":"[1]Analyse!Y277","v":{"$error":"#VALUE!"}},{"$f":"[1]Analyse!Z277","v":{"$error":"#VALUE!"}},{"$f":"[1]Analyse!AA277","v":{"$error":"#VALUE!"}},{"$f":"[1]Analyse!AB277","v":{"$error":"#VALUE!"}},{"$f":"[1]Analyse!AC277","v":{"$error":"#VALUE!"}}]
[null,null,null,null,null,null,null,null,null,null,null,null,null,null,null,null,null,null,null,null,null,null,null,null,null,{"$f":"[1]Analyse!X278","v":{"$error":"#VALUE!"}},{"$f":"[1]Analyse!Y278","v":{"$error":"#VALUE!"}},{"$f":"[1]Analyse!Z278","v":{"$error":"#VALUE!"}},{"$f":"[1]Analyse!AA278","v":{"$error":"#VALUE!"}},{"$f":"[1]Analyse!AB278","v":{"$error":"#VALUE!"}},{"$f":"[1]Analyse!AC278","v":{"$error":"#VALUE!"}}]
[null,null,null,null,null,null,null,null,null,null,null,null,null,null,null,null,null,null,null,null,null,null,null,null,null,{"$f":"[1]Analyse!X279","v":{"$error":"#VALUE!"}},{"$f":"[1]Analyse!Y279","v":{"$error":"#VALUE!"}},{"$f":"[1]Analyse!Z279","v":{"$error":"#VALUE!"}},{"$f":"[1]Analyse!AA279","v":{"$error":"#VALUE!"}},{"$f":"[1]Analyse!AB279","v":{"$error":"#VALUE!"}},{"$f":"[1]Analyse!AC279","v":{"$error":"#VALUE!"}}]
[null,null,null,null,null,null,null,null,null,null,null,null,null,null,null,null,null,null,null,null,null,null,null,null,null,{"$f":"[1]Analyse!X280","v":{"$error":"#VALUE!"}},{"$f":"[1]Analyse!Y280","v":{"$error":"#VALUE!"}},{"$f":"[1]Analyse!Z280","v":{"$error":"#VALUE!"}},{"$f":"[1]Analyse!AA280","v":{"$error":"#VALUE!"}},{"$f":"[1]Analyse!AB280","v":{"$error":"#VALUE!"}},{"$f":"[1]Analyse!AC280","v":{"$error":"#VALUE!"}}]
[null,null,null,null,null,null,null,null,null,null,null,null,null,null,null,null,null,null,null,null,null,null,null,null,null,{"$f":"[1]Analyse!X281","v":{"$error":"#VALUE!"}},{"$f":"[1]Analyse!Y281","v":{"$error":"#VALUE!"}},{"$f":"[1]Analyse!Z281","v":{"$error":"#VALUE!"}},{"$f":"[1]Analyse!AA281","v":{"$error":"#VALUE!"}},{"$f":"[1]Analyse!AB281","v":{"$error":"#VALUE!"}},{"$f":"[1]Analyse!AC281","v":{"$error":"#VALUE!"}}]
[null,null,null,null,null,null,null,null,null,null,null,null,null,null,null,null,null,null,null,null,null,null,null,null,null,{"$f":"[1]Analyse!X282","v":{"$error":"#VALUE!"}},{"$f":"[1]Analyse!Y282","v":{"$error":"#VALUE!"}},{"$f":"[1]Analyse!Z282","v":{"$error":"#VALUE!"}},{"$f":"[1]Analyse!AA282","v":{"$error":"#VALUE!"}},{"$f":"[1]Analyse!AB282","v":{"$error":"#VALUE!"}},{"$f":"[1]Analyse!AC282","v":{"$error":"#VALUE!"}}]
[null,null,null,null,null,null,null,null,null,null,null,null,null,null,null,null,null,null,null,null,null,null,null,null,null,{"$f":"[1]Analyse!X283","v":{"$error":"#VALUE!"}},{"$f":"[1]Analyse!Y283","v":{"$error":"#VALUE!"}},{"$f":"[1]Analyse!Z283","v":{"$error":"#VALUE!"}},{"$f":"[1]Analyse!AA283","v":{"$error":"#VALUE!"}},{"$f":"[1]Analyse!AB283","v":{"$error":"#VALUE!"}},{"$f":"[1]Analyse!AC283","v":{"$error":"#VALUE!"}}]

{"sheet":"Feuil2","index":5,"n_rows":105,"n_cols":22,"rows_kept":105,"cut":false,"hidden":true,"merged":[]}
[]
[]
["espagne 9 ",2,3,"algerie 4 ","ghana 5 ","slovenie 6 ","grece 7 ","australie 11 ","grece 9 ","nigeria 8 ","slovaquie 8 ","afrique du sud 4 ","allemagne 11 ","chili 11 ","corée du sud 3 ","france 11 ","france 2 ","italie 7 ","japon 5 ","nigeria 4 ","slovaquie 7 ","slovaquie 7 bis "]
[]
[]
[]
["\n\n1","\n\n2","\n\n3","\n\n4","\n\n5","\n\n6","\n\n7","\n\n8","\n\n9","\n\n10","\n\n11","\n\nR","\n\nR","\n\nR","\n\nR","\n\nR","\n\nR","\n\nR","\n\nR","\n\nR","\n\nR","\n\nR"]
[]
["\n20,005K136926Potentiel","\n20,640K119026Potentiel","\n17,948K111025Potentiel","\n16,454K142626Potentiel","\n20,079K107025Potentiel","\n18,831K133626Potentiel","\n19,926K149626Potentiel","\n19,461K122726Potentiel","\n18,239K92024Potentiel","\n20,229K114325Potentiel","\n17,894K126625Potentiel","\n15,139K125426Potentiel","\n19,135K140126Potentiel","\n18,070K102425Potentiel","\n17,491K89924Potentiel","\n19,741K77623Potentiel","\n17,866K118426Potentiel","\n20,316K123225Potentiel","\n16,537K134726Potentiel","\n14,765K101824Potentiel","\n16,590K18Potentiel","\n18,694K84123Potentiel"]
[]
[]
[]
["\n532 (+122)Force","\n693 (+197)Force","\n665 (+197)Force","\n642 (+148)Force","\n653 (+200)Force","\n631 (+193)Force","\n640 (+194)Force","\n575 (+181)Force","\n577 (+189)Force","\n574 (+127)Force","\n539 (+151)Force","\n585 (+128)Force","\n522 (+118)Force","\n470 (+145)Force","\n513 (+80)Force","\n442 (+80)Force","\n595 (+128)Force","\n545 (+121)Force","\n570 (+128)Force","\n505 (+80)Force","\n441 (+80)Force","\n581 (+146)Force"]
[]
["\n727 (+209) Habileté ","\n570 (+132) Habileté ","\n431 (+132) Habileté ","\n365 (+131) Habileté ","\n561 (+125) Habileté ","\n655 (+179) Habileté ","\n637 (+178) Habileté ","\n592 (+145) Habileté ","\n663 (+190) Habileté ","\n646 (+193) Habileté ","\n601 (+125) Habileté ","\n310 (+80) Habileté ","\n623 (+196) Habileté ","\n589 (+176) Habileté ","\n416 (+127) Habileté ","\n497 (+80) Habileté ","\n388 (+80) Habileté ","\n598 (+157) Habileté ","\n465 (+128) Habileté ","\n306 (+80) Habileté ","\n447 (+80) Habileté ","\n559 (+130) Habileté "]
[]
["\n599 (+112) Vitesse ","\n573 (+130) Vitesse ","\n507 (+130) Vitesse ","\n598 (+174) Vitesse ","\n579 (+141) Vitesse ","\n571 (+129) Vitesse ","\n620 (+177) Vitesse ","\n642 (+141) Vitesse ","\n623 (+180) Vitesse ","\n606 (+170) Vitesse ","\n576 (+141) Vitesse ","\n572 (+118) Vitesse ","\n604 (+157) Vitesse ","\n612 (+171) Vitesse ","\n419 (+70) Vitesse ","\n572 (+118) Vitesse ","\n464 (+70) Vitesse ","\n554 (+111) Vitesse ","\n415 (+70) Vitesse ","\n496 (+70) Vitesse ","\n401 (+70) Vitesse ","\n589 (+172) Vitesse "]
[]
["\n556 (+92) Endurance ","\n680 (+182) Endurance ","\n660 (+182) Endurance ","\n577 (+181) Endurance ","\n538 (+127) Endurance ","\n614 (+180) Endurance ","\n621 (+178) Endurance ","\n590 (+130) Endurance ","\n499 (+174) Endurance ","\n617 (+174) Endurance ","\n584 (+127) Endurance ","\n421 (+65) Endurance ","\n586 (+137) Endurance ","\n581 (+163) Endurance ","\n494 (+65) Endurance ","\n554 (+111) Endurance ","\n570 (+112) Endurance ","\n514 (+91) Endurance ","\n431 (+112) Endurance ","\n400 (+65) Endurance ","\n399 (+65) Endurance ","\n618 (+178) Endurance "]
[]
["\n460 (+170) Intelligence ","\n456 (+116) Intelligence ","\n453 (+165) Intelligence ","\n380 (+163) Intelligence ","\n508 (+158) Intelligence ","\n495 (+115) Intelligence ","\n517 (+157) Intelligence ","\n475 (+158) Intelligence ","\n400 (+116) Intelligence ","\n528 (+169) Intelligence ","\n442 (+158) Intelligence ","\n310 (+64) Intelligence ","\n452 (+114) Intelligence ","\n433 (+165) Intelligence ","\n340 (+64) Intelligence ","\n362 (+64) Intelligence ","\n419 (+111) Intelligence ","\n517 (+168) Intelligence ","\n451 (+110) Intelligence ","\n279 (+64) Intelligence ","\n349 (+64) Intelligence ","\n425 (+114) Intelligence "]
[]
[]
[]
[]
[]
[]
[]
[]
["Niveau actuel 55","Niveau actuel 55","Niveau actuel 45","Niveau actuel 40","Niveau actuel 39","Niveau actuel 25","Niveau actuel 21","Niveau actuel 16","Niveau actuel 6","Niveau actuel 16","Niveau actuel 32","Niveau actuel 17","Niveau actuel 23","Niveau actuel 14"]
[]
[]
[]
[]
[]
[]
[]
[]
[]
[]
[]
[]
[]
[]
[]
[]
[]
[]
[]
[]
[]
[]
[]
[]
[]
[]
[]
[]
[]
[]
[]
[]
[]
[]
[]
[]
[]
[]
[]
[]
[]
[]
[]
[]
[]
[]
[]
[]
[]
[]
[]
[]
[]
[]
[]
[]
[]
[]
[]
[null,null,null,null,null,null,"WebServicesLib"]
[null,null,null,null,null,null,"WebServices 1.0 Type Library"]
[null,null,null,null,null,null,"{453D7835-5495-48CD-8805-4020015CFAD4}"]
[null,null,null,null,null,null,1]
[null,null,null,null,null,null,0]
[null,null,null,null,null,null,"C:\\Program Files\\Common Files\\Autodesk Shared\\WebServices1.dll"]
[]
[]
[]
[]
["VBA","Excel","stdole","Office","MSForms","MSHTML",null,"SHDocVw"]
["Visual Basic For Applications","Microsoft Excel 14.0 Object Library","OLE Automation","Microsoft Office 14.0 Object Library","Microsoft Forms 2.0 Object Library","Microsoft HTML Object Library",null,"Microsoft Internet Controls"]
["{000204EF-0000-0000-C000-000000000046}","{00020813-0000-0000-C000-000000000046}","{00020430-0000-0000-C000-000000000046}","{2DF8D04C-5BFA-101B-BDE5-00AA0044DE52}","{0D452EE1-E08F-101A-852E-02608C4D0BB4}","{3050F1C5-98B5-11CF-BB82-00AA00BDCE0B}",null,"{EAB22AC0-30C1-11CF-A7EB-0000C05BAE0B}"]
[4,1,2,2,2,4,null,1]
[1,7,0,5,0,0,null,1]
["C:\\PROGRA~1\\COMMON~1\\MICROS~1\\VBA\\VBA7\\VBE7.DLL","C:\\Program Files\\Microsoft Office\\Office14\\EXCEL.EXE","C:\\Windows\\system32\\stdole2.tlb","C:\\Program Files\\Common Files\\Microsoft Shared\\OFFICE14\\MSO.DLL","C:\\Windows\\system32\\FM20.DLL","C:\\Windows\\system32\\MSHTML.TLB",null,"C:\\Windows\\System32\\ieframe.dll"]

{"sheet":"Feuil3","index":6,"n_rows":0,"n_cols":0,"rows_kept":0,"cut":false,"hidden":true,"merged":[]}

{"sheet":"Feuil4","index":7,"n_rows":2,"n_cols":3,"rows_kept":2,"cut":false,"hidden":true,"merged":[]}
["page équipe","valide centre","page équipement"]
["http://maracana.football-masters.fr/fr/stadium.php?equipe=267555&sport=foot"]