{"text_format":"1","workbook":"xlsx","n_sheets":4,"sheets":["Feuil1","Team","Feuil2","Feuil3"],"not_rendered":{"charts":0,"images":1,"macros":1,"external_links":1,"defined_names":30,"comments":0,"pivot_tables":0},"unopened":[],"bounds":{"document_bytes":16777216,"sheet_cells":100000,"rows_first":2000,"rows_last":500,"rows_between":2000,"halvings":0,"cell_chars":16384,"cell_head_chars":4096},"cells_cut":0,"cells_raw":0,"read":"whole","date_system":"1900"}

{"sheet":"Feuil1","index":0,"n_rows":202,"n_cols":93,"rows_kept":202,"cut":false,"hidden":false,"merged":[[7,65,7,66],[6,61,6,64],[16,61,16,63],[101,74,101,75],[101,76,101,77],[101,80,101,81],[101,70,101,71],[101,72,101,73],[64,72,64,73],[64,74,64,75],[57,72,57,73],[58,72,58,73],[58,74,58,75],[59,74,59,75],[60,74,60,75],[59,72,59,73],[60,72,60,73],[58,70,58,71],[59,70,59,71],[60,70,60,71],[55,74,55,75],[56,74,56,75],[57,70,57,71],[54,70,54,71],[101,86,101,87],[61,74,61,75],[62,74,62,75],[63,74,63,75],[101,84,101,85],[100,68,100,92],[62,70,62,71],[63,70,63,71],[64,70,64,71],[63,72,63,73],[101,90,101,91],[101,82,101,83],[101,88,101,89],[61,72,61,73],[62,72,62,73],[61,70,61,71],[101,78,101,79],[55,70,55,71],[56,70,56,71],[54,72,54,73],[55,72,55,73],[56,72,56,73],[57,74,57,75],[1,2,2,3],[5,2,6,3],[37,4,37,8],[42,11,42,13],[42,8,42,10],[42,5,42,7],[13,56,13,57],[11,54,11,55],[9,56,9,57],[19,56,19,57],[15,54,15,55],[16,54,16,55],[53,70,53,71],[18,54,18,55],[53,72,53,73],[19,61,19,62],[20,61,20,62],[41,5,41,13],[4,33,4,34],[29,4,31,5],[31,52,32,59],[5,23,6,28],[30,47,30,48],[31,47,31,48],[32,33,32,34],[87,4,87,6],[87,13,87,15],[87,10,87,12],[87,7,87,9],[59,4,59,6],[73,4,73,6],[73,7,73,9],[73,10,73,12],[59,7,59,9],[59,10,59,12],[59,13,59,15],[73,13,73,15],[35,36,35,40],[31,19,32,29],[22,0,23,4],[51,70,51,75],[52,70,52,75],[23,58,23,59],[14,61,14,63],[13,58,13,59],[14,54,14,55],[13,61,13,63],[54,74,54,75],[35,45,35,49],[35,53,35,57],[17,58,17,59],[18,58,18,59],[20,58,20,59],[20,54,20,55],[20,56,20,57],[53,74,53,75],[18,61,18,63],[18,56,18,57],[23,56,23,57],[23,54,23,55],[35,61,35,65],[35,69,35,73],[19,58,19,59],[28,60,28,70],[1,61,2,68],[25,62,26,64],[15,20,15,22],[7,61,7,64],[15,58,15,59],[10,61,10,64],[10,58,10,59],[10,56,10,57],[12,54,12,55],[13,54,13,55],[16,58,16,59],[14,56,14,57],[8,58,8,59],[9,58,9,59],[11,58,11,59],[12,58,12,59],[14,58,14,59],[12,56,12,57],[11,56,11,57],[15,61,15,63],[12,61,12,63],[17,61,17,63],[16,56,16,57],[3,33,3,34],[1,5,2,12],[3,5,3,12],[5,5,6,12],[15,16,15,18],[8,54,8,55],[8,56,8,57],[9,54,9,55],[10,54,10,55],[1,15,2,29],[3,15,3,29],[1,50,2,56],[7,5,7,12],[15,56,15,57],[15,25,15,27],[2,35,3,39],[2,41,3,45],[5,47,5,48],[5,49,5,50],[1,33,1,34],[2,33,2,34],[17,54,17,55],[17,56,17,57],[19,54,19,55]]}
[]
[null,null,"Bonus",null,null,"1) Ce qui nous interresse est dans la partie jaune, en haut, de gauche a droite. En blanc, les cases a remplir",null,null,null,null,null,null,null,null,null,"4) Choisir entre l'approximation des kits=0 ou kit officiel=1. Dans ce dernier cas, entrer les valeurs des ",null,null,null,null,null,null,null,null,null,null,null,null,null,null,null,null,null,"choisir une tactique :",null,null,null,null,null,null,null,null,null,null,null,null,null,null,null,null,"8) Choisir la position des joueurs.",null,null,null,null,null,null,null,null,null,null,"8) Entrer les bonus de match que vous pensez avoir."]
[null,null,null,null,null,null,null,null,null,null,null,null,null,null,null,null,null,null,null,null,null,null,null,null,null,null,null,null,null,null,null,null,null,"Def/Neutre/Off :",null,{"$f":"AH4","v":433},null,null,null,null,null,{"$f":"AH5","v":"Defensif"}]
[null,null,null,null,null,", en jaune pale, les informations. Les données sont indicatives (a 1% pres) pour un moral et une energie max.",null,null,null,null,null,null,null,null,null,"caracteristiques de vos kits.",null,null,null,null,null,null,null,null,null,null,null,null,null,null,null,null,null,433]
[null,null,null,null,null,null,null,null,null,null,null,null,null,null,null,null,null,null,null,null,null,null,null,null,null,null,null,null,null,null,null,null,null,"Defensif"]
[null,null,"batiments :",null,null,"2) Remplir les cases blanches de \"bonus batiments\" a \"objets\" par la valeur des gains. Pour \"objet\", il",null,null,null,null,null,null,null,null,null,null,null,null,null,null,null,null,null,"5) Choisir une tactique.",null,null,null,null,null,null,null,null,null,null,null,null,null,null,null,null,null,null,null,null,null,null,null,"Position :",null,"Capitaine"]
[null,null,null,null,null,null,null,null,null,null,null,null,null,null,null,null,null,null,null,null,null,null,null,null,null,null,null,null,null,null,null,null,null,null,null,1,2,3,4,5,6,7,8,9,10,11,null,null,null,null,null,null,null,null,null,null,null,null,null,null,null,"Meilleur capitaine :"]
[null,null,"force :",{"$f":"Team!A11","v":{"$error":"#VALUE!"}},null," s'agit de la valeur max des objets que l'on trouve au marché.",null,null,null,null,null,null,null,null,"caracteristiques kit en cours",null,null,null,null,null,null,null,null,null,null,null,null,null,null,null,null,null,0,null,{"$f":"IF(G11=\"\",\"\",G11)","v":""},{"$f":"IF(AI8<>\"\",AY52*IF($AX$33=1,$BW$55,1),\"\")","v":""},{"$f":"IF(AI8<>\"\",BP52*IF($AX$33=1,$BW$56,1),\"\")","v":""},{"$f":"IF(AI8<>\"\",AY75*IF($AX$33=1,$BW$57,1),\"\")","v":""},{"$f":"IF(AI8<>\"\",BP75*IF($AX$33=1,$BW$58,1),\"\")","v":""},{"$f":"IF(AI8<>\"\",AY98*IF($AX$33=1,$BW$59,1),\"\")","v":""},{"$f":"IF(AI8<>\"\",BP98*IF($AX$33=1,$BW$60,1),\"\")","v":""},{"$f":"IF(AI8<>\"\",AY121*IF($AX$33=1,$BW$61,1),\"\")","v":""},{"$f":"IF(AI8<>\"\",BP121*IF($AX$33=1,$BW$62,1),\"\")","v":""},{"$f":"IF(AI8<>\"\",AY144*IF($AX$33=1,$BW$63,1),\"\")","v":""},{"$f":"IF(AI8<>\"\",BP144*IF($AX$33=1,$BW$64,1),\"\")","v":""},{"$f":"IF(AI8<>\"\",AY167*IF($AX$33=1,$BW$65,1),\"\")","v":""},null,1,{"$f":"IF(ISNA(VLOOKUP(1,$AV$8:$AV$25,1,FALSE)),1,\"\")","v":""},{"$f":"IF(AND(AV8<>\"\",AI8<>\"\"),IF(ISNA(VLOOKUP(AI8,$E$104:$I$121,5,FALSE)),0,VLOOKUP(AI8,$E$104:$I$121,5,FALSE)),\"\")","v":""},null,null,null,null,null,null,null,null,null,null,null,{"$f":"IF(ISNA(VLOOKUP(\"CAP\",D104:I121,2,)),\"\",VLOOKUP(\"CAP\",D104:I121,2,))","v":""},null,null,null,{"$f":"IF(ISNA(VLOOKUP(BJ8,E104:I121,5,FALSE)),\"\",VLOOKUP(BJ8,E104:I121,5,FALSE))","v":""}]
[null,null,"habilité :",{"$f":"+Team!B11","v":{"$error":"#VALUE!"}},null,null,null,null,null,null,null,null,null,null,null,null,"kit 1","kit 2A","kit 2B","kit 4A","kit 4B","kit 5","kit 6A","kit 6B","kit 7","kit 8","kit 9A","kit 9B","kit 10","kit 11",null,null,0,null,"",{"$f":"IF(AI9<>\"\",AY53*IF($AX$33=1,$BW$55,1),\"\")","v":""},"","","","","","","","","","",null,2,{"$f":"IF(ISNA(VLOOKUP(2,$AV$8:$AV$25,1,FALSE)),2,\"\")","v":""},"",null,null,"nom du joueur","kit","attaque",null,"defense",null,"cumulé"]
[null,null,"vitesse :",{"$f":"Team!C11","v":{"$error":"#VALUE!"}},null,null,"NOM","force","habilité","vitesse","endurance","intelligence","XP","% Capitaine",null,"force",{"$f":"IF(Q39=1,Q26,Q19)","v":0},0,0,0,0,0,0,0,0,0,0,0,0,0,null,null,0,null,"","","","","","","","","","","","",null,3,{"$f":"IF(ISNA(VLOOKUP(3,$AV$8:$AV$25,1,FALSE)),3,\"\")","v":""},"",null,1,{"$f":"IF(AV8=1,AI8,IF(AV9=1,AI9,IF(AV10=1,AI10,IF(AV11=1,AI11,IF(AV12=1,AI12,IF(AV13=1,AI13,IF(AV14=1,AI14,IF(AV15=1,AI15,BT67))))))))","v":""},{"$f":"IF(AV8=1,BS103,IF(AV9=1,BS104,IF(AV10=1,BS105,IF(AV11=1,BS106,IF(AV12=1,BS107,IF(AV13=1,BS108,IF(AV14=1,BS109,IF(AV15=1,BS110,BT124))))))))","v":{"$error":"#VALUE!"}},{"$f":"BW67*BS55","v":{"$error":"#VALUE!"}},null,{"$f":"BW67*BU55","v":{"$error":"#VALUE!"}},null,{"$f":"ROUND(BW67*BW55,2)","v":{"$error":"#VALUE!"}}]
[null,null,"endurance :",{"$f":"Team!D11","v":{"$error":"#VALUE!"}},null,null,{"$f":"IF(Team!C44<>0,Team!C44,\"\")","v":""},{"$f":"IF($G11<>\"\",VLOOKUP(Team!X17,Team!$E$41:$F$256,2,FALSE),\"\")","v":""},{"$f":"IF($G11<>\"\",VLOOKUP(Team!Y17,Team!$E$41:$F$256,2,FALSE),\"\")","v":""},{"$f":"IF($G11<>\"\",VLOOKUP(Team!Z17,Team!$E$41:$F$256,2,FALSE),\"\")","v":""},{"$f":"IF($G11<>\"\",VLOOKUP(Team!AA17,Team!$E$41:$F$256,2,FALSE),\"\")","v":""},{"$f":"IF($G11<>\"\",VLOOKUP(Team!AB17,Team!$E$41:$F$256,2,FALSE),\"\")","v":""},{"$f":"IF($G11<>\"\",VLOOKUP(Team!X17,Team!$E$41:$P$263,12,FALSE),\"\")","v":""},{"$f":"G104","v":""},null,"habilité",{"$f":"IF(Q40=1,Q27,Q20)","v":0},0,0,0,0,0,0,0,0,0,0,0,0,0,null,null,0,null,"","","","","","","","","","","","",null,4,{"$f":"IF(ISNA(VLOOKUP(4,$AV$8:$AV$25,1,FALSE)),4,\"\")","v":""},"",null,2,{"$f":"IF(AV8=2,AI8,IF(AV9=2,AI9,IF(AV10=2,AI10,IF(AV11=2,AI11,IF(AV12=2,AI12,IF(AV13=2,AI13,IF(AV14=2,AI14,IF(AV15=2,AI15,BT68))))))))","v":""},{"$f":"IF(AV8=2,BU103,IF(AV9=2,BU104,IF(AV10=2,BU105,IF(AV11=2,BU106,IF(AV12=2,BU107,IF(AV13=2,BU108,IF(AV14=2,BU109,IF(AV15=2,BU110,BT125))))))))","v":{"$error":"#VALUE!"}},{"$error":"#VALUE!"},null,{"$error":"#VALUE!"},null,{"$f":"ROUND(BW68*BW56,2)","v":{"$error":"#VALUE!"}},null,null,"bonus match"]
[null,null,"intelligence :",{"$f":"Team!E11","v":{"$error":"#VALUE!"}},null,null,{"$f":"IF(Team!C55<>0,Team!C55,\"\")","v":""},{"$f":"IF($G12<>\"\",VLOOKUP(Team!X18,Team!$E$41:$F$256,2,FALSE),\"\")","v":""},{"$f":"IF($G12<>\"\",VLOOKUP(Team!Y18,Team!$E$41:$F$256,2,FALSE),\"\")","v":""},{"$f":"IF($G12<>\"\",VLOOKUP(Team!Z18,Team!$E$41:$F$256,2,FALSE),\"\")","v":""},{"$f":"IF($G12<>\"\",VLOOKUP(Team!AA18,Team!$E$41:$F$256,2,FALSE),\"\")","v":""},{"$f":"IF($G12<>\"\",VLOOKUP(Team!AB18,Team!$E$41:$F$256,2,FALSE),\"\")","v":""},{"$f":"IF($G12<>\"\",VLOOKUP(Team!X18,Team!$E$41:$P$263,12,FALSE),\"\")","v":""},{"$f":"G105","v":""},null,"vitesse",{"$f":"IF(Q41=1,Q28,Q21)","v":0},0,0,0,0,0,0,0,0,0,0,0,0,0,null,null,0,null,"","","","","","","","","","","","",null,5,{"$f":"IF(ISNA(VLOOKUP(5,$AV$8:$AV$25,1,FALSE)),5,\"\")","v":""},"",null,3,{"$f":"IF(AV8=3,AI8,IF(AV9=3,AI9,IF(AV10=3,AI10,IF(AV11=3,AI11,IF(AV12=3,AI12,IF(AV13=3,AI13,IF(AV14=3,AI14,IF(AV15=3,AI15,BT69))))))))","v":""},{"$f":"IF(AV8=3,BW103,IF(AV9=3,BW104,IF(AV10=3,BW105,IF(AV11=3,BW106,IF(AV12=3,BW107,IF(AV13=3,BW108,IF(AV14=3,BW109,IF(AV15=3,BW110,BT126))))))))","v":{"$error":"#VALUE!"}},{"$error":"#VALUE!"},null,{"$error":"#VALUE!"},null,{"$error":"#VALUE!"}]
[null,null,"Laboratoire :",{"$f":"Team!F11","v":{"$error":"#VALUE!"}},null,null,{"$f":"IF(Team!C66<>0,Team!C66,\"\")","v":""},{"$f":"IF($G13<>\"\",VLOOKUP(Team!X19,Team!$E$41:$F$256,2,FALSE),\"\")","v":""},{"$f":"IF($G13<>\"\",VLOOKUP(Team!Y19,Team!$E$41:$F$256,2,FALSE),\"\")","v":""},{"$f":"IF($G13<>\"\",VLOOKUP(Team!Z19,Team!$E$41:$F$256,2,FALSE),\"\")","v":""},{"$f":"IF($G13<>\"\",VLOOKUP(Team!AA19,Team!$E$41:$F$256,2,FALSE),\"\")","v":""},{"$f":"IF($G13<>\"\",VLOOKUP(Team!AB19,Team!$E$41:$F$256,2,FALSE),\"\")","v":""},{"$f":"IF($G13<>\"\",VLOOKUP(Team!X19,Team!$E$41:$P$263,12,FALSE),\"\")","v":""},"",null,"endurance",{"$f":"IF(Q42=1,Q29,Q22)","v":0},0,0,0,0,0,0,0,0,0,0,0,0,0,null,null,0,null,"","","","","","","","","","","","",null,6,{"$f":"IF(ISNA(VLOOKUP(6,$AV$8:$AV$25,1,FALSE)),6,\"\")","v":""},"",null,4,{"$f":"IF(AV8=4,AI8,IF(AV9=4,AI9,IF(AV10=4,AI10,IF(AV11=4,AI11,IF(AV12=4,AI12,IF(AV13=4,AI13,IF(AV14=4,AI14,IF(AV15=4,AI15,BT70))))))))","v":""},{"$f":"IF(AV8=4,BY103,IF(AV9=4,BY104,IF(AV10=4,BY105,IF(AV11=4,BY106,IF(AV12=4,BY107,IF(AV13=4,BY108,IF(AV14=4,BY109,IF(AV15=4,BY110,BT127))))))))","v":{"$error":"#VALUE!"}},{"$error":"#VALUE!"},null,{"$error":"#VALUE!"},null,{"$error":"#VALUE!"},null,null,"bonus de chance :",null,null,0,"%"]
[null,null,null,null,null,null,{"$f":"IF(Team!C77<>0,Team!C77,\"\")","v":""},{"$f":"IF($G14<>\"\",VLOOKUP(Team!X20,Team!$E$41:$F$256,2,FALSE),\"\")","v":""},{"$f":"IF($G14<>\"\",VLOOKUP(Team!Y20,Team!$E$41:$F$256,2,FALSE),\"\")","v":""},{"$f":"IF($G14<>\"\",VLOOKUP(Team!Z20,Team!$E$41:$F$256,2,FALSE),\"\")","v":""},{"$f":"IF($G14<>\"\",VLOOKUP(Team!AA20,Team!$E$41:$F$256,2,FALSE),\"\")","v":""},{"$f":"IF($G14<>\"\",VLOOKUP(Team!AB20,Team!$E$41:$F$256,2,FALSE),\"\")","v":""},{"$f":"IF($G14<>\"\",VLOOKUP(Team!X20,Team!$E$41:$P$263,12,FALSE),\"\")","v":""},"",null,"intelligence",{"$f":"IF(Q43=1,Q30,Q23)","v":0},0,0,0,0,0,0,0,0,0,0,0,0,0,null,null,0,null,"","","","","","","","","","","","",null,7,{"$f":"IF(ISNA(VLOOKUP(7,$AV$8:$AV$25,1,FALSE)),7,\"\")","v":""},"",null,5,{"$f":"IF(AV8=5,AI8,IF(AV9=5,AI9,IF(AV10=5,AI10,IF(AV11=5,AI11,IF(AV12=5,AI12,IF(AV13=5,AI13,IF(AV14=5,AI14,IF(AV15=5,AI15,BT71))))))))","v":""},{"$f":"IF(AV8=5,CA103,IF(AV9=5,CA104,IF(AV10=5,CA105,IF(AV11=5,CA106,IF(AV12=5,CA107,IF(AV13=5,CA108,IF(AV14=5,CA109,IF(AV15=5,CA110,BT128))))))))","v":{"$error":"#VALUE!"}},{"$error":"#VALUE!"},null,{"$error":"#VALUE!"},null,{"$error":"#VALUE!"},null,null,"bonus d'experience :",null,null,null,"%"]
[null,null,"baby foot",0,null,null,{"$f":"IF(Team!C88<>0,Team!C88,\"\")","v":""},{"$f":"IF($G15<>\"\",VLOOKUP(Team!X21,Team!$E$41:$F$256,2,FALSE),\"\")","v":""},{"$f":"IF($G15<>\"\",VLOOKUP(Team!Y21,Team!$E$41:$F$256,2,FALSE),\"\")","v":""},{"$f":"IF($G15<>\"\",VLOOKUP(Team!Z21,Team!$E$41:$F$256,2,FALSE),\"\")","v":""},{"$f":"IF($G15<>\"\",VLOOKUP(Team!AA21,Team!$E$41:$F$256,2,FALSE),\"\")","v":""},{"$f":"IF($G15<>\"\",VLOOKUP(Team!AB21,Team!$E$41:$F$256,2,FALSE),\"\")","v":""},{"$f":"IF($G15<>\"\",VLOOKUP(Team!X21,Team!$E$41:$P$263,12,FALSE),\"\")","v":""},"",null,null,null,null,null,null,null,null,null,null,null,null,null,null,null,null,null,null,0,null,"","","","","","","","","","","","",null,8,{"$f":"IF(ISNA(VLOOKUP(8,$AV$8:$AV$25,1,FALSE)),8,\"\")","v":""},"",null,6,{"$f":"IF(AV8=6,AI8,IF(AV9=6,AI9,IF(AV10=6,AI10,IF(AV11=6,AI11,IF(AV12=6,AI12,IF(AV13=6,AI13,IF(AV14=6,AI14,IF(AV15=6,AI15,BT72))))))))","v":""},{"$f":"IF(AV8=6,CC103,IF(AV9=6,CC104,IF(AV10=6,CC105,IF(AV11=6,CC106,IF(AV12=6,CC107,IF(AV13=6,CC108,IF(AV14=6,CC109,IF(AV15=6,CC110,BT129))))))))","v":{"$error":"#VALUE!"}},{"$error":"#VALUE!"},null,{"$error":"#VALUE!"},null,{"$error":"#VALUE!"},null,null,"bonus a domicile :",null,null,null,"%"]
[null,null,"body pump",0,null,null,{"$f":"IF(Team!C99<>0,Team!C99,\"\")","v":""},{"$f":"IF($G16<>\"\",VLOOKUP(Team!X22,Team!$E$41:$F$256,2,FALSE),\"\")","v":""},{"$f":"IF($G16<>\"\",VLOOKUP(Team!Y22,Team!$E$41:$F$256,2,FALSE),\"\")","v":""},{"$f":"IF($G16<>\"\",VLOOKUP(Team!Z22,Team!$E$41:$F$256,2,FALSE),\"\")","v":""},{"$f":"IF($G16<>\"\",VLOOKUP(Team!AA22,Team!$E$41:$F$256,2,FALSE),\"\")","v":""},{"$f":"IF($G16<>\"\",VLOOKUP(Team!AB22,Team!$E$41:$F$256,2,FALSE),\"\")","v":""},{"$f":"IF($G16<>\"\",VLOOKUP(Team!X22,Team!$E$41:$P$263,12,FALSE),\"\")","v":""},"",null,null,"kit officiel :",null,null,1,"aprroximation kit :",null,null,0,null,"choix kit :",null,null,0,null,null,null,0,null,"","","","","","","","","","","","",null,9,{"$f":"IF(ISNA(VLOOKUP(9,$AV$8:$AV$25,1,FALSE)),9,\"\")","v":""},"",null,7,{"$f":"IF(AV8=7,AI8,IF(AV9=7,AI9,IF(AV10=7,AI10,IF(AV11=7,AI11,IF(AV12=7,AI12,IF(AV13=7,AI13,IF(AV14=7,AI14,IF(AV15=7,AI15,BT73))))))))","v":""},{"$f":"IF(AV8=7,CE103,IF(AV9=7,CE104,IF(AV10=7,CE105,IF(AV11=7,CE106,IF(AV12=7,CE107,IF(AV13=7,CE108,IF(AV14=7,CE109,IF(AV15=7,CE110,BT130))))))))","v":{"$error":"#VALUE!"}},{"$error":"#VALUE!"},null,{"$error":"#VALUE!"},null,{"$error":"#VALUE!"},null,null,"bonus capitaine :",null,null,7.3800000000000004E-2,"%"]
[null,null,"stage montagne",0,null,null,{"$f":"IF(Team!C110<>0,Team!C110,\"\")","v":""},{"$f":"IF($G17<>\"\",VLOOKUP(Team!X23,Team!$E$41:$F$256,2,FALSE),\"\")","v":""},{"$f":"IF($G17<>\"\",VLOOKUP(Team!Y23,Team!$E$41:$F$256,2,FALSE),\"\")","v":""},{"$f":"IF($G17<>\"\",VLOOKUP(Team!Z23,Team!$E$41:$F$256,2,FALSE),\"\")","v":""},{"$f":"IF($G17<>\"\",VLOOKUP(Team!AA23,Team!$E$41:$F$256,2,FALSE),\"\")","v":""},{"$f":"IF($G17<>\"\",VLOOKUP(Team!AB23,Team!$E$41:$F$256,2,FALSE),\"\")","v":""},{"$f":"IF($G17<>\"\",VLOOKUP(Team!X23,Team!$E$41:$P$263,12,FALSE),\"\")","v":""},"",null,null,null,null,null,null,null,null,null,null,null,null,null,null,null,null,null,null,0,null,"","","","","","","","","","","","",null,10,{"$f":"IF(ISNA(VLOOKUP(10,$AV$8:$AV$25,1,FALSE)),10,\"\")","v":""},"",null,8,{"$f":"IF(AV8=8,AI8,IF(AV9=8,AI9,IF(AV10=8,AI10,IF(AV11=8,AI11,IF(AV12=8,AI12,IF(AV13=8,AI13,IF(AV14=8,AI14,IF(AV15=8,AI15,BT74))))))))","v":""},{"$f":"IF(AV8=8,CG103,IF(AV9=8,CG104,IF(AV10=8,CG105,IF(AV11=8,CG106,IF(AV12=8,CG107,IF(AV13=8,CG108,IF(AV14=8,CG109,IF(AV15=8,CG110,BT131))))))))","v":{"$error":"#VALUE!"}},{"$error":"#VALUE!"},null,{"$error":"#VALUE!"},null,{"$error":"#VALUE!"},null,null,"bonus de meteo :",null,null,5,"%"]
[null,null,null,null,null,null,{"$f":"IF(Team!C121<>0,Team!C121,\"\")","v":""},{"$f":"IF($G18<>\"\",VLOOKUP(Team!X24,Team!$E$41:$F$256,2,FALSE),\"\")","v":""},{"$f":"IF($G18<>\"\",VLOOKUP(Team!Y24,Team!$E$41:$F$256,2,FALSE),\"\")","v":""},{"$f":"IF($G18<>\"\",VLOOKUP(Team!Z24,Team!$E$41:$F$256,2,FALSE),\"\")","v":""},{"$f":"IF($G18<>\"\",VLOOKUP(Team!AA24,Team!$E$41:$F$256,2,FALSE),\"\")","v":""},{"$f":"IF($G18<>\"\",VLOOKUP(Team!AB24,Team!$E$41:$F$256,2,FALSE),\"\")","v":""},{"$f":"IF($G18<>\"\",VLOOKUP(Team!X24,Team!$E$41:$P$263,12,FALSE),\"\")","v":""},"","approximation  kit",null,{"$f":"Q9","v":"kit 1"},"kit 2A","kit 2B","kit 4A","kit 4B","kit 5","kit 6A","kit 6B","kit 7","kit 8","kit 9A","kit 9B","kit 10","kit 11",null,null,0,null,"","","","","","","","","","","","",null,11,{"$f":"IF(ISNA(VLOOKUP(11,$AV$8:$AV$25,1,FALSE)),11,\"\")","v":""},"",null,9,{"$f":"IF(AV8=9,AI8,IF(AV9=9,AI9,IF(AV10=9,AI10,IF(AV11=9,AI11,IF(AV12=9,AI12,IF(AV13=9,AI13,IF(AV14=9,AI14,IF(AV15=9,AI15,BT75))))))))","v":""},{"$f":"IF(AV8=9,CI103,IF(AV9=9,CI104,IF(AV10=9,CI105,IF(AV11=9,CI106,IF(AV12=9,CI107,IF(AV13=9,CI108,IF(AV14=9,CI109,IF(AV15=9,CI110,BT132))))))))","v":{"$error":"#VALUE!"}},{"$error":"#VALUE!"},null,{"$error":"#VALUE!"},null,{"$error":"#VALUE!"},null,null,"Bonus d'agressivité :",null,null,16,"%"]
[null,null,"vitamines :",0,null,null,{"$f":"IF(Team!C132<>0,Team!C132,\"\")","v":""},{"$f":"IF($G19<>\"\",VLOOKUP(Team!X25,Team!$E$41:$F$256,2,FALSE),\"\")","v":""},{"$f":"IF($G19<>\"\",VLOOKUP(Team!Y25,Team!$E$41:$F$256,2,FALSE),\"\")","v":""},{"$f":"IF($G19<>\"\",VLOOKUP(Team!Z25,Team!$E$41:$F$256,2,FALSE),\"\")","v":""},{"$f":"IF($G19<>\"\",VLOOKUP(Team!AA25,Team!$E$41:$F$256,2,FALSE),\"\")","v":""},{"$f":"IF($G19<>\"\",VLOOKUP(Team!AB25,Team!$E$41:$F$256,2,FALSE),\"\")","v":""},{"$f":"IF($G19<>\"\",VLOOKUP(Team!X25,Team!$E$41:$P$263,12,FALSE),\"\")","v":""},"",null,{"$f":"P10","v":"force"},{"$f":"ROUND(Q45*Q51,0)","v":0},0,0,0,0,0,0,0,0,0,0,0,0,0,null,null,0,null,"","","","","","","","","","","","",null,12,{"$f":"IF(ISNA(VLOOKUP(12,$AV$8:$AV$25,1,FALSE)),12,\"\")","v":""},"",null,10,{"$f":"IF(AV8=10,AI8,IF(AV9=10,AI9,IF(AV10=10,AI10,IF(AV11=10,AI11,IF(AV12=10,AI12,IF(AV13=10,AI13,IF(AV14=10,AI14,IF(AV15=10,AI15,BT76))))))))","v":""},{"$f":"IF(AV8=10,CK103,IF(AV9=10,CK104,IF(AV10=10,CK105,IF(AV11=10,CK106,IF(AV12=10,CK107,IF(AV13=10,CK108,IF(AV14=10,CK109,IF(AV15=10,CK110,BT133))))))))","v":{"$error":"#VALUE!"}},{"$error":"#VALUE!"},null,{"$error":"#VALUE!"},null,{"$error":"#VALUE!"},null,null,"Bonus stratégie :",null,null,10,"%"]
[null,null,null,null,null,null,{"$f":"IF(Team!C143<>0,Team!C143,\"\")","v":""},{"$f":"IF($G20<>\"\",VLOOKUP(Team!X26,Team!$E$41:$F$256,2,FALSE),\"\")","v":""},{"$f":"IF($G20<>\"\",VLOOKUP(Team!Y26,Team!$E$41:$F$256,2,FALSE),\"\")","v":""},{"$f":"IF($G20<>\"\",VLOOKUP(Team!Z26,Team!$E$41:$F$256,2,FALSE),\"\")","v":""},{"$f":"IF($G20<>\"\",VLOOKUP(Team!AA26,Team!$E$41:$F$256,2,FALSE),\"\")","v":""},{"$f":"IF($G20<>\"\",VLOOKUP(Team!AB26,Team!$E$41:$F$256,2,FALSE),\"\")","v":""},{"$f":"IF($G20<>\"\",VLOOKUP(Team!X26,Team!$E$41:$P$263,12,FALSE),\"\")","v":""},"",null,{"$f":"P11","v":"habilité"},{"$f":"ROUND(Q46*Q52,0)","v":0},0,0,0,0,0,0,0,0,0,0,0,0,0,null,null,0,null,"","","","","","","","","","","","",null,13,{"$f":"IF(ISNA(VLOOKUP(13,$AV$8:$AV$25,1,FALSE)),13,\"\")","v":""},"",null,11,{"$f":"IF(AV8=11,AI8,IF(AV9=11,AI9,IF(AV10=11,AI10,IF(AV11=11,AI11,IF(AV12=11,AI12,IF(AV13=11,AI13,IF(AV14=11,AI14,IF(AV15=11,AI15,BT77))))))))","v":""},{"$f":"IF(AV8=11,CM103,IF(AV9=11,CM104,IF(AV10=11,CM105,IF(AV11=11,CM106,IF(AV12=11,CM107,IF(AV13=11,CM108,IF(AV14=11,CM109,IF(AV15=11,CM110,BT134))))))))","v":{"$error":"#VALUE!"}},{"$error":"#VALUE!"},null,{"$error":"#VALUE!"},null,{"$error":"#VALUE!"}]
[null,null,"objets :",0,null,null,{"$f":"IF(Team!C154<>0,Team!C154,\"\")","v":""},{"$f":"IF($G21<>\"\",VLOOKUP(Team!X27,Team!$E$41:$F$256,2,FALSE),\"\")","v":""},{"$f":"IF($G21<>\"\",VLOOKUP(Team!Y27,Team!$E$41:$F$256,2,FALSE),\"\")","v":""},{"$f":"IF($G21<>\"\",VLOOKUP(Team!Z27,Team!$E$41:$F$256,2,FALSE),\"\")","v":""},{"$f":"IF($G21<>\"\",VLOOKUP(Team!AA27,Team!$E$41:$F$256,2,FALSE),\"\")","v":""},{"$f":"IF($G21<>\"\",VLOOKUP(Team!AB27,Team!$E$41:$F$256,2,FALSE),\"\")","v":""},{"$f":"IF($G21<>\"\",VLOOKUP(Team!X27,Team!$E$41:$P$263,12,FALSE),\"\")","v":""},"",null,{"$f":"P12","v":"vitesse"},{"$f":"ROUND(Q47*Q53,0)","v":0},0,0,0,0,0,0,0,0,0,0,0,0,0,null,null,0,null,"","","","","","","","","","","","",null,14,{"$f":"IF(ISNA(VLOOKUP(14,$AV$8:$AV$25,1,FALSE)),14,\"\")","v":""},"",null,null,null,null,{"$f":"ROUND(SUM(BC10:BD20),2)","v":{"$error":"#VALUE!"}},null,{"$f":"ROUND(SUM(BE10:BF20),2)","v":{"$error":"#VALUE!"}},null,{"$f":"BC21+BE21","v":{"$error":"#VALUE!"}}]
[null,null,null,null,null,null,{"$f":"IF(Team!C165<>0,Team!C165,\"\")","v":""},{"$f":"IF($G22<>\"\",VLOOKUP(Team!X28,Team!$E$41:$F$256,2,FALSE),\"\")","v":""},{"$f":"IF($G22<>\"\",VLOOKUP(Team!Y28,Team!$E$41:$F$256,2,FALSE),\"\")","v":""},{"$f":"IF($G22<>\"\",VLOOKUP(Team!Z28,Team!$E$41:$F$256,2,FALSE),\"\")","v":""},{"$f":"IF($G22<>\"\",VLOOKUP(Team!AA28,Team!$E$41:$F$256,2,FALSE),\"\")","v":""},{"$f":"IF($G22<>\"\",VLOOKUP(Team!AB28,Team!$E$41:$F$256,2,FALSE),\"\")","v":""},{"$f":"IF($G22<>\"\",VLOOKUP(Team!X28,Team!$E$41:$P$263,12,FALSE),\"\")","v":""},"",null,{"$f":"P13","v":"endurance"},{"$f":"ROUND(Q48*Q54,0)","v":0},0,0,0,0,0,0,0,0,0,0,0,0,0,null,null,0,null,"","","","","","","","","","","","",null,15,{"$f":"IF(ISNA(VLOOKUP(15,$AV$8:$AV$25,1,FALSE)),15,\"\")","v":""},""]
["3) Entrer les stats des joueurs à comparer.",null,null,null,null,null,{"$f":"IF(Team!C176<>0,Team!C176,\"\")","v":""},{"$f":"IF($G23<>\"\",VLOOKUP(Team!X29,Team!$E$41:$F$256,2,FALSE),\"\")","v":""},{"$f":"IF($G23<>\"\",VLOOKUP(Team!Y29,Team!$E$41:$F$256,2,FALSE),\"\")","v":""},{"$f":"IF($G23<>\"\",VLOOKUP(Team!Z29,Team!$E$41:$F$256,2,FALSE),\"\")","v":""},{"$f":"IF($G23<>\"\",VLOOKUP(Team!AA29,Team!$E$41:$F$256,2,FALSE),\"\")","v":""},{"$f":"IF($G23<>\"\",VLOOKUP(Team!AB29,Team!$E$41:$F$256,2,FALSE),\"\")","v":""},{"$f":"IF($G23<>\"\",VLOOKUP(Team!X29,Team!$E$41:$P$263,12,FALSE),\"\")","v":""},{"$f":"G116","v":""},null,{"$f":"P14","v":"intelligence"},{"$f":"ROUND(Q49*Q55,0)","v":0},0,0,0,0,0,0,0,0,0,0,0,0,0,null,null,0,null,"","","","","","","","","","","","",null,16,{"$f":"IF(ISNA(VLOOKUP(16,$AV$8:$AV$25,1,FALSE)),16,\"\")","v":""},""]
[null,null,null,null,null,null,{"$f":"IF(Team!C187<>0,Team!C187,\"\")","v":""},{"$f":"IF($G24<>\"\",VLOOKUP(Team!X30,Team!$E$41:$F$256,2,FALSE),\"\")","v":""},{"$f":"IF($G24<>\"\",VLOOKUP(Team!Y30,Team!$E$41:$F$256,2,FALSE),\"\")","v":""},{"$f":"IF($G24<>\"\",VLOOKUP(Team!Z30,Team!$E$41:$F$256,2,FALSE),\"\")","v":""},{"$f":"IF($G24<>\"\",VLOOKUP(Team!AA30,Team!$E$41:$F$256,2,FALSE),\"\")","v":""},{"$f":"IF($G24<>\"\",VLOOKUP(Team!AB30,Team!$E$41:$F$256,2,FALSE),\"\")","v":""},{"$f":"IF($G24<>\"\",VLOOKUP(Team!X30,Team!$E$41:$P$263,12,FALSE),\"\")","v":""},"",null,null,null,null,null,null,null,null,null,null,null,null,null,null,null,null,null,null,0,null,"","","","","","","","","","","","",null,17,{"$f":"IF(ISNA(VLOOKUP(17,$AV$8:$AV$25,1,FALSE)),17,\"\")","v":""},"",null,null,"avec bonus match",null,{"$f":"ROUND(BC21*(100+BM13)/100*(100+BM14)/100*(100+BM15)/100*(100+BM16)/100*(BM17+100)/100*(100+BM18)/100*(100+BM19)/100,2)","v":{"$error":"#VALUE!"}},null,{"$f":"ROUND(BE21*(100+BM13)/100*(BM14+100)/100*(100+BM15)/100*(100+BM16)/100*(BM17+100)/100*(100+BM18)/100*(100+BM19)/100,2)","v":{"$error":"#VALUE!"}},null,{"$f":"BC24+BE24","v":{"$error":"#VALUE!"}}]
[null,null,null,null,{"$f":"VLOOKUP(AH4,B26:C29,2,FALSE)","v":"B"},null,{"$f":"IF(Team!C198<>0,Team!C198,\"\")","v":""},{"$f":"IF($G25<>\"\",VLOOKUP(Team!X31,Team!$E$41:$F$256,2,FALSE),\"\")","v":""},{"$f":"IF($G25<>\"\",VLOOKUP(Team!Y31,Team!$E$41:$F$256,2,FALSE),\"\")","v":""},{"$f":"IF($G25<>\"\",VLOOKUP(Team!Z31,Team!$E$41:$F$256,2,FALSE),\"\")","v":""},{"$f":"IF($G25<>\"\",VLOOKUP(Team!AA31,Team!$E$41:$F$256,2,FALSE),\"\")","v":""},{"$f":"IF($G25<>\"\",VLOOKUP(Team!AB31,Team!$E$41:$F$256,2,FALSE),\"\")","v":""},{"$f":"IF($G25<>\"\",VLOOKUP(Team!X31,Team!$E$41:$P$263,12,FALSE),\"\")","v":""},"","caracteristiques kit officiel",null,{"$f":"Q9","v":"kit 1"},"kit 2A","kit 2B","kit 4A","kit 4B","kit 5","kit 6A","kit 6B","kit 7","kit 8","kit 9A","kit 9B","kit 10","kit 11",null,null,0,null,{"$f":"IF(G28=\"\",\"\",G28)","v":""},{"$f":"IF(AI25<>\"\",AY69*IF($AX$33=1,$BW$55,1),\"\")","v":""},{"$f":"IF(AI25<>\"\",BP69*IF($AX$33=1,$BW$56,1),\"\")","v":""},"",{"$f":"IF(AI25<>\"\",BP92*IF($AX$33=1,$BW$58,1),\"\")","v":""},{"$f":"IF(AI25<>\"\",AY115*IF($AX$33=1,$BW$59,1),\"\")","v":""},{"$f":"IF(AI25<>\"\",BP115*IF($AX$33=1,$BW$60,1),\"\")","v":""},{"$f":"IF(AI25<>\"\",AY138*IF($AX$33=1,$BW$61,1),\"\")","v":""},{"$f":"IF(AI25<>\"\",BP138*IF($AX$33=1,$BW$62,1),\"\")","v":""},{"$f":"IF(AI25<>\"\",AY161*IF($AX$33=1,$BW$63,1),\"\")","v":""},{"$f":"IF(AI25<>\"\",BP161*IF($AX$33=1,$BW$64,1),\"\")","v":""},{"$f":"IF(AI25<>\"\",AY184*IF($AX$33=1,$BW$65,1),\"\")","v":""},null,18,{"$f":"IF(ISNA(VLOOKUP(18,$AV$8:$AV$25,1,FALSE)),18,\"\")","v":""},""]
[null,541,"A",541,{"$f":"VLOOKUP(AH5,B31:C33,2,FALSE)","v":"d"},null,{"$f":"IF(Team!C209<>0,Team!C209,\"\")","v":""},{"$f":"IF($G26<>\"\",VLOOKUP(Team!X32,Team!$E$41:$F$256,2,FALSE),\"\")","v":""},{"$f":"IF($G26<>\"\",VLOOKUP(Team!Y32,Team!$E$41:$F$256,2,FALSE),\"\")","v":""},{"$f":"IF($G26<>\"\",VLOOKUP(Team!Z32,Team!$E$41:$F$256,2,FALSE),\"\")","v":""},{"$f":"IF($G26<>\"\",VLOOKUP(Team!AA32,Team!$E$41:$F$256,2,FALSE),\"\")","v":""},{"$f":"IF($G26<>\"\",VLOOKUP(Team!AB32,Team!$E$41:$F$256,2,FALSE),\"\")","v":""},{"$f":"IF($G26<>\"\",VLOOKUP(Team!X32,Team!$E$41:$P$263,12,FALSE),\"\")","v":""},"",null,{"$f":"P19","v":"force"},null,null,null,null,null,null,null,null,null,null,null,null,null,null,null,null,null,null,null,null,null,null,null,null,null,null,null,null,null,null,null,null,null,null,null,null,null,null,null,null,null,null,null,null,null,null,"10) Enjoy !! "]
[null,433,"B",433,null,null,{"$f":"IF(Team!C220<>0,Team!C220,\"\")","v":""},{"$f":"IF($G27<>\"\",VLOOKUP(Team!X33,Team!$E$41:$F$256,2,FALSE),\"\")","v":""},{"$f":"IF($G27<>\"\",VLOOKUP(Team!Y33,Team!$E$41:$F$256,2,FALSE),\"\")","v":""},{"$f":"IF($G27<>\"\",VLOOKUP(Team!Z33,Team!$E$41:$F$256,2,FALSE),\"\")","v":""},{"$f":"IF($G27<>\"\",VLOOKUP(Team!AA33,Team!$E$41:$F$256,2,FALSE),\"\")","v":""},{"$f":"IF($G27<>\"\",VLOOKUP(Team!AB33,Team!$E$41:$F$256,2,FALSE),\"\")","v":""},{"$f":"IF($G27<>\"\",VLOOKUP(Team!X33,Team!$E$41:$P$263,12,FALSE),\"\")","v":""},"",null,{"$f":"P20","v":"habilité"},null,null,null,null,null,null,null,null,null,null,null,null,null,null,null,null,null,null,{"$f":"IF(G30=\"\",\"\",G30)","v":""},{"$f":"IF(AI27<>\"\",AY70*IF($AX$33=1,$BW$55,1),\"\")","v":""},{"$f":"IF(AI27<>\"\",BP70*IF($AX$33=1,$BW$56,1),\"\")","v":""},{"$f":"IF(AI27<>\"\",AY93*IF($AX$33=1,$BW$57,1),\"\")","v":""},{"$f":"IF(AI27<>\"\",BP93*IF($AX$33=1,$BW$58,1),\"\")","v":""},{"$f":"IF(AI27<>\"\",AY116*IF($AX$33=1,$BW$59,1),\"\")","v":""},{"$f":"IF(AI27<>\"\",BP116*IF($AX$33=1,$BW$60,1),\"\")","v":""},{"$f":"IF(AI27<>\"\",AY139*IF($AX$33=1,$BW$61,1),\"\")","v":""},{"$f":"IF(AI27<>\"\",BP139*IF($AX$33=1,$BW$62,1),\"\")","v":""},{"$f":"IF(AI27<>\"\",AY162*IF($AX$33=1,$BW$63,1),\"\")","v":""},{"$f":"IF(AI27<>\"\",BP162*IF($AX$33=1,$BW$64,1),\"\")","v":""},{"$f":"IF(AI27<>\"\",AY185*IF($AX$33=1,$BW$65,1),\"\")","v":""}]
[null,352,"C",352,null,null,{"$f":"IF(Team!C231<>0,Team!C231,\"\")","v":""},{"$f":"IF($G28<>\"\",VLOOKUP(Team!X34,Team!$E$41:$F$256,2,FALSE),\"\")","v":""},{"$f":"IF($G28<>\"\",VLOOKUP(Team!Y34,Team!$E$41:$F$256,2,FALSE),\"\")","v":""},{"$f":"IF($G28<>\"\",VLOOKUP(Team!Z34,Team!$E$41:$F$256,2,FALSE),\"\")","v":""},{"$f":"IF($G28<>\"\",VLOOKUP(Team!AA34,Team!$E$41:$F$256,2,FALSE),\"\")","v":""},{"$f":"IF($G28<>\"\",VLOOKUP(Team!AB34,Team!$E$41:$F$256,2,FALSE),\"\")","v":""},{"$f":"IF($G28<>\"\",VLOOKUP(Team!X34,Team!$E$41:$P$263,12,FALSE),\"\")","v":""},"",null,{"$f":"P21","v":"vitesse"},null,null,null,null,null,null,null,null,null,null,null,null,null,null,null,null,null,null,"",{"$f":"IF(AI28<>\"\",AY71*IF($AX$33=1,$BW$55,1),\"\")","v":""},{"$f":"IF(AI28<>\"\",BP71*IF($AX$33=1,$BW$56,1),\"\")","v":""},{"$f":"IF(AI28<>\"\",AY94*IF($AX$33=1,$BW$57,1),\"\")","v":""},{"$f":"IF(AI28<>\"\",BP94*IF($AX$33=1,$BW$58,1),\"\")","v":""},{"$f":"IF(AI28<>\"\",AY117*IF($AX$33=1,$BW$59,1),\"\")","v":""},{"$f":"IF(AI28<>\"\",BP117*IF($AX$33=1,$BW$60,1),\"\")","v":""},{"$f":"IF(AI28<>\"\",AY140*IF($AX$33=1,$BW$61,1),\"\")","v":""},{"$f":"IF(AI28<>\"\",BP140*IF($AX$33=1,$BW$62,1),\"\")","v":""},{"$f":"IF(AI28<>\"\",AY163*IF($AX$33=1,$BW$63,1),\"\")","v":""},{"$f":"IF(AI28<>\"\",BP163*IF($AX$33=1,$BW$64,1),\"\")","v":""},{"$f":"IF(AI28<>\"\",AY186*IF($AX$33=1,$BW$65,1),\"\")","v":""}]
[null,442,"D",442,null,null,null,null,null,null,null,null,null,null,null,{"$f":"P22","v":"endurance"},null,null,null,null,null,null,null,null,null,null,null,null,null,null,null,null,null,null,"","",{"$f":"IF(AI29<>\"\",BP72*IF($AX$33=1,$BW$56,1),\"\")","v":""},"","","","","","","","","",null,null,null,null,null,null,null,null,null,null,null,null,null,null,"La colonne Kit donne le meilleur kit pour ce joueur a cette position"]
[null,null,null,null,"Joueurs à comparer",null,null,null,null,null,null,null,null,{"$f":"IF(L30<>\"\",(L30/100+M30/500)/100,\"\")","v":""},null,{"$f":"P23","v":"intelligence"}]
[null,"Defensif","d","defensif",null,null,null,null,null,"Travail en cours",null,null,null,{"$f":"IF(L31<>\"\",(L31/100+M31/500)/100,\"\")","v":""},null,null,null,null,null,null,null,null,null,null,null,null,null,null,null,null,null,null,"vitamines :",null,null,0,0,0,0,0,0,0,0,0,0,0,null,"pourcentage :",null,0]
[null,"Neutre","n","neutre",null,null,null,null,null,null,null,null,null,"",null,null,null,null,null,"6) Choisir si le joueur ou la position a une vitamine.",null,null,null,null,null,null,null,null,null,null,null,null,null,null,null,null,null,null,null,null,null,null,null,null,null,null,null,"valeur brute :",null,1,null,null,"9) Choisir entre pourcentage poste ou valeur brute."]
[null,"Offensif","o","offensif",null,null,null,null,null,null,null,null,null,null,null,null,null,null,null,null,null,null,null,null,null,null,null,null,null,null,null,null,null,"Gain minimum pour une vitamine",null,{"$f":"BB167","v":0},0,0,0,0,0,0,0,0,0,0,null,"pourcentage/valeur brute :",null,1]
[]
[null,null,null,null,null,null,null,null,null,null,null,null,null,null,null,null,null,null,null,null,null,null,null,null,null,null,null,null,null,null,null,null,null,null,"coefficient caracteristique par poste / tactique actuelle",null,null,null,null,null,null,null,null,"coefficient caracteristique par poste et par tactique"]
[null,null,null,null,null,null,null,null,null,null,null,null,null,null,null,null,null,null,null,null,null,null,null,null,null,null,null,null,null,null,null,null,null,null,null,null,{"$f":"F42","v":433},null,null,null,null,null,null,null,null,541,null,null,null,null,null,null,null,433,null,null,null,null,null,null,null,352,null,null,null,null,null,null,null,442]
[null,null,null,null,null,null,null,null,null,null,null,null,null,null,null,null,null,null,null,null,null,null,null,null,null,null,null,null,null,null,null,null,null,null,null,"Position","force","hab","vit","end","int","% poste",null,null,"Position","force","hab","vit","end","int","% poste",null,"Position","force","hab","vit","end","int","% poste",null,"Position","force","hab","vit","end","int","% poste",null,"Position","force","hab","vit","end","int","% poste"]
[null,null,null,null,"caracteristiques bonus :",null,null,null,null,null,null,null,null,null,null,"choix kit",null,null,null,null,null,null,null,null,null,null,null,null,null,null,null,null,"bonus cara",null,null,1,{"$f":"IF(AK36=AT36,AT38,IF(AK36=BB36,BB38,IF(AK36=BJ36,BJ38,IF(AK36=BR36,BR38,erreur))))","v":150},{"$f":"IF(AK36=AT36,AU38,IF(AK36=BB36,BC38,IF(AK36=BJ36,BK38,IF(AK36=BR36,BS38,erreur))))","v":400},{"$f":"IF(AK36=AT36,AV38,IF(AK36=BB36,BD38,IF(AK36=BJ36,BL38,IF(AK36=BR36,BT38,erreur))))","v":150},{"$f":"IF(AK36=AT36,AW38,IF(AK36=BB36,BE38,IF(AK36=BJ36,BM38,IF(AK36=BR36,BU38,erreur))))","v":50},{"$f":"IF(AK36=AT36,AX38,IF(AK36=BB36,BF38,IF(AK36=BJ36,BN38,IF(AK36=BR36,BV38,erreur))))","v":250},{"$f":"IF(AK36=AT36,AY38,IF(AK36=BB36,BG38,IF(AK36=BJ36,BO38,IF(AK36=BR36,BW38,erreur))))","v":200},null,null,1,150,400,150,50,250,200,null,1,150,400,150,50,250,200,null,1,150,400,150,50,250,200,null,1,150,400,150,50,250,200]
[null,null,null,null,"force","hab","vit","end","int",null,null,null,null,null,null,null,{"$f":"AC16","v":0},{"$f":"AC16","v":0},{"$f":"AC16","v":0},{"$f":"AC16","v":0},{"$f":"AC16","v":0},{"$f":"AC16","v":0},{"$f":"AC16","v":0},{"$f":"AC16","v":0},{"$f":"AC16","v":0},{"$f":"AC16","v":0},{"$f":"AC16","v":0},{"$f":"AC16","v":0},{"$f":"AC16","v":0},{"$f":"AC16","v":0},null,null,null,{"$f":"D8+D13","v":{"$error":"#VALUE!"}},null,2,{"$f":"IF(AK36=AT36,AT39,IF(AK36=BB36,BB39,IF(AK36=BJ36,BJ39,IF(AK36=BR36,BR39,erreur))))","v":250},{"$f":"IF(AK36=AT36,AU39,IF(AK36=BB36,BC39,IF(AK36=BJ36,BK39,IF(AK36=BR36,BS39,erreur))))","v":200},{"$f":"IF(AK36=AT36,AV39,IF(AK36=BB36,BD39,IF(AK36=BJ36,BL39,IF(AK36=BR36,BT39,erreur))))","v":250},{"$f":"IF(AK36=AT36,AW39,IF(AK36=BB36,BE39,IF(AK36=BJ36,BM39,IF(AK36=BR36,BU39,erreur))))","v":300},{"$f":"IF(AK36=AT36,AX39,IF(AK36=BB36,BF39,IF(AK36=BJ36,BN39,IF(AK36=BR36,BV39,erreur))))","v":200},{"$f":"IF(AK36=AT36,AY39,IF(AK36=BB36,BG39,IF(AK36=BJ36,BO39,IF(AK36=BR36,BW39,erreur))))","v":200},null,null,2,300,200,200,300,200,200,null,2,250,200,250,300,200,200,null,2,300,200,200,300,200,200,null,2,250,200,250,300,200,200]
[null,null,null,null,{"$f":"AH39+D16+D17+D21","v":{"$error":"#VALUE!"}},{"$f":"AH40+D15+D17+D21","v":{"$error":"#VALUE!"}},{"$f":"AH41+D15+D17+D21","v":{"$error":"#VALUE!"}},{"$f":"AH42+D16+D17+D21","v":{"$error":"#VALUE!"}},{"$f":"AH43+D15+D17+D21","v":{"$error":"#VALUE!"}},null,null,null,null,null,null,null,{"$f":"AC16","v":0},{"$f":"AC16","v":0},{"$f":"AC16","v":0},{"$f":"AC16","v":0},{"$f":"AC16","v":0},{"$f":"AC16","v":0},{"$f":"AC16","v":0},{"$f":"AC16","v":0},{"$f":"AC16","v":0},{"$f":"AC16","v":0},{"$f":"AC16","v":0},{"$f":"AC16","v":0},{"$f":"AC16","v":0},{"$f":"AC16","v":0},null,null,null,{"$f":"D9+D13","v":{"$error":"#VALUE!"}},null,3,{"$f":"IF(AK36=AT36,AT40,IF(AK36=BB36,BB40,IF(AK36=BJ36,BJ40,IF(AK36=BR36,BR40,erreur))))","v":125},{"$f":"IF(AK36=AT36,AU40,IF(AK36=BB36,BC40,IF(AK36=BJ36,BK40,IF(AK36=BR36,BS40,erreur))))","v":100},{"$f":"IF(AK36=AT36,AV40,IF(AK36=BB36,BD40,IF(AK36=BJ36,BL40,IF(AK36=BR36,BT40,erreur))))","v":125},{"$f":"IF(AK36=AT36,AW40,IF(AK36=BB36,BE40,IF(AK36=BJ36,BM40,IF(AK36=BR36,BU40,erreur))))","v":150},{"$f":"IF(AK36=AT36,AX40,IF(AK36=BB36,BF40,IF(AK36=BJ36,BN40,IF(AK36=BR36,BV40,erreur))))","v":100},{"$f":"IF(AK36=AT36,AY40,IF(AK36=BB36,BG40,IF(AK36=BJ36,BO40,IF(AK36=BR36,BW40,erreur))))","v":100},null,null,3,300,200,200,300,200,200,null,3,125,100,125,150,100,100,null,3,300,200,200,300,200,200,null,3,250,200,250,300,200,200]
[null,null,null,null,"stats brutes / pourcentage placement pour la tactique en cours",null,null,null,null,null,null,null,null,null,null,null,{"$f":"AC16","v":0},{"$f":"AC16","v":0},{"$f":"AC16","v":0},{"$f":"AC16","v":0},{"$f":"AC16","v":0},{"$f":"AC16","v":0},{"$f":"AC16","v":0},{"$f":"AC16","v":0},{"$f":"AC16","v":0},{"$f":"AC16","v":0},{"$f":"AC16","v":0},{"$f":"AC16","v":0},{"$f":"AC16","v":0},{"$f":"AC16","v":0},null,null,null,{"$f":"D10+D13","v":{"$error":"#VALUE!"}},null,4,{"$f":"IF(AK36=AT36,AT41,IF(AK36=BB36,BB41,IF(AK36=BJ36,BI41,IF(AK36=BR36,BR41,erreur))))","v":300},{"$f":"IF(AK36=AT36,AU41,IF(AK36=BB36,BC41,IF(AK36=BJ36,BK41,IF(AK36=BR36,BS41,erreur))))","v":100},{"$f":"IF(AK36=AT36,AV41,IF(AK36=BB36,BD41,IF(AK36=BJ36,BL41,IF(AK36=BR36,BT41,erreur))))","v":250},{"$f":"IF(AK36=AT36,AW41,IF(AK36=BB36,BE41,IF(AK36=BJ36,BM41,IF(AK36=BR36,BU41,erreur))))","v":250},{"$f":"IF(AK36=AT36,AX41,IF(AK36=BB36,BF41,IF(AK36=BJ36,BN41,IF(AK36=BR36,BV41,erreur))))","v":150},{"$f":"IF(AK36=AT36,AY41,IF(AK36=BB36,BG41,IF(AK36=BJ36,BO41,IF(AK36=BR36,BW41,erreur))))","v":200},null,null,4,300,150,300,200,100,200,null,4,300,100,250,250,150,200,null,4,300,150,300,200,100,200,null,4,300,100,250,250,150,200]
[null,null,null,null,null,{"$f":"IF(E25=C26,D26,IF(E25=C27,D27,IF(E25=C28,D28,IF(E25=C29,D29,AH2))))","v":433},null,null,null,null,null,null,null,null,null,null,{"$f":"AC16","v":0},{"$f":"AC16","v":0},{"$f":"AC16","v":0},{"$f":"AC16","v":0},{"$f":"AC16","v":0},{"$f":"AC16","v":0},{"$f":"AC16","v":0},{"$f":"AC16","v":0},{"$f":"AC16","v":0},{"$f":"AC16","v":0},{"$f":"AC16","v":0},{"$f":"AC16","v":0},{"$f":"AC16","v":0},{"$f":"AC16","v":0},null,null,null,{"$f":"D11+D13","v":{"$error":"#VALUE!"}},null,5,{"$f":"IF(AK36=AT36,AT42,IF(AK36=BB36,BB42,IF(AK36=BJ36,BJ42,IF(AK36=BR36,BR42,erreur))))","v":200},{"$f":"IF(AK36=AT36,AU42,IF(AK36=BB36,BC42,IF(AK36=BJ36,BK42,IF(AK36=BR36,BS42,erreur))))","v":150},{"$f":"IF(AK36=AT36,AV42,IF(AK36=BB36,BD42,IF(AK36=BJ36,BL42,IF(AK36=BR36,BT42,erreur))))","v":150},{"$f":"IF(AK36=AT36,AW42,IF(AK36=BB36,BE42,IF(AK36=BJ36,BM42,IF(AK36=BR36,BU42,erreur))))","v":150},{"$f":"IF(AK36=AT36,AX42,IF(AK36=BB36,BF42,IF(AK36=BJ36,BN42,IF(AK36=BR36,BV42,erreur))))","v":150},{"$f":"IF(AK36=AT36,AY42,IF(AK36=BB36,BG42,IF(AK36=BJ36,BO42,IF(AK36=BR36,BW42,erreur))))","v":200},null,null,5,200,150,150,150,150,200,null,5,200,150,150,150,150,200,null,5,200,150,150,150,150,200,null,5,200,150,150,150,150,200]
[null,null,null,null,null,"defensif",null,null,"neutre",null,null,"offensif",null,null,null,null,{"$f":"AC16","v":0},{"$f":"AC16","v":0},{"$f":"AC16","v":0},{"$f":"AC16","v":0},{"$f":"AC16","v":0},{"$f":"AC16","v":0},{"$f":"AC16","v":0},{"$f":"AC16","v":0},{"$f":"AC16","v":0},{"$f":"AC16","v":0},{"$f":"AC16","v":0},{"$f":"AC16","v":0},{"$f":"AC16","v":0},{"$f":"AC16","v":0},null,null,null,{"$f":"D12+D13","v":{"$error":"#VALUE!"}},null,6,{"$f":"IF(AK36=AT36,AT43,IF(AK36=BB36,BB43,IF(AK36=BJ36,BJ43,IF(AK36=BR36,BR43,erreur))))","v":250},{"$f":"IF(AK36=AT36,AU43,IF(AK36=BB36,BC43,IF(AK36=BJ36,BK43,IF(AK36=BR36,BS43,erreur))))","v":200},{"$f":"IF(AK36=AT36,AV43,IF(AK36=BB36,BD43,IF(AK36=BJ36,BL43,IF(AK36=BR36,BT43,erreur))))","v":250},{"$f":"IF(AK36=AT36,AW43,IF(AK36=BB36,BE43,IF(AK36=BJ36,BM43,IF(AK36=BR36,BU43,erreur))))","v":250},{"$f":"IF(AK36=AT36,AX43,IF(AK36=BB36,BF43,IF(AK36=BJ36,BN43,IF(AK36=BR36,BV43,erreur))))","v":150},{"$f":"IF(AK36=AT36,AY43,IF(AK36=BB36,BG43,IF(AK36=BJ36,BO43,IF(AK36=BR36,BW43,erreur))))","v":200},null,null,6,250,250,150,250,200,200,null,6,250,200,250,250,150,200,null,6,250,250,150,250,200,200,null,6,250,200,250,250,150,200]
[null,null,null,null,null,"1% attaque","1% defense","1% cumulé","1% attaque","1% defense","1% cumulé","1% attaque","1% defense","1% cumulé",null,"coefficient caracteristique kit",null,null,null,null,null,null,null,null,null,null,null,null,null,null,null,null,null,null,null,7,{"$f":"IF(AK36=AT36,AT44,IF(AK36=BB36,BB44,IF(AK36=BJ36,BJ44,IF(AK36=BR36,BR44,erreur))))","v":250},{"$f":"IF(AK36=AT36,AU44,IF(AK36=BB36,BC44,IF(AK36=BJ36,BK44,IF(AK36=BR36,BS44,erreur))))","v":250},{"$f":"IF(AK36=AT36,AV44,IF(AK36=BB36,BD44,IF(AK36=BJ36,BL44,IF(AK36=BR36,BT44,erreur))))","v":250},{"$f":"IF(AK36=AT36,AW44,IF(AK36=BB36,BE44,IF(AK36=BJ36,BM44,IF(AK36=BR36,BU44,erreur))))","v":250},{"$f":"IF(AK36=AT36,AX44,IF(AK36=BB36,BF44,IF(AK36=BJ36,BN44,IF(AK36=BR36,BV44,erreur))))","v":200},{"$f":"IF(AK36=AT36,AY44,IF(AK36=BB36,BG44,IF(AK36=BJ36,BO44,IF(AK36=BR36,BW44,erreur))))","v":200},null,null,7,250,250,250,250,200,200,null,7,250,250,250,250,200,200,null,7,250,250,250,250,200,200,null,7,250,250,250,250,200,200]
[null,null,null,null,null,{"$f":"IF(E25=C26,E62,IF(E25=C27,H62,IF(E25=C28,K62,IF(E25=C29,N62,erreur))))","v":5.4449999999999998E-2},{"$f":"IF(E25=C26,F62,IF(E25=C27,I62,IF(E25=C28,L62,IF(E25=C29,O62,erreur))))","v":2.6702499999999998},{"$f":"F45+G45","v":2.7246999999999999},{"$f":"IF(E25=C26,E76,IF(E25=C27,H76,IF(E25=C28,K76,IF(E25=C29,N76,erreur))))","v":0.16345000000000001},{"$f":"IF(E25=C26,F76,IF(E25=C27,I76,IF(E25=C28,L76,IF(E25=C29,O76,erreur))))","v":2.5613000000000001},{"$f":"I45+J45","v":2.7247500000000002},{"$f":"IF(E25=C26,E90,IF(E25=C27,H90,IF(E25=C28,K90,IF(E25=C29,N90,erreur))))","v":0.27245000000000003},{"$f":"IF(E25=C26,F90,IF(E25=C27,I90,IF(E25=C28,L90,IF(E25=C29,O90,erreur))))","v":2.4523000000000001},{"$f":"L45+M45","v":2.7247500000000002},null,null,0.77700000000000002,1.75,1.51,2,2,1.75,1.6,1.6,1.4770000000000001,1.075,1.1850000000000001,1.6,1,1.1850000000000001,null,null,null,null,null,8,{"$f":"IF(AK36=AT36,AT45,IF(AK36=BB36,BB45,IF(AK36=BJ36,BJ45,IF(AK36=BR36,BR45,erreur))))","v":200},{"$f":"IF(AK36=AT36,AU45,IF(AK36=BB36,BC45,IF(AK36=BJ36,BK45,IF(AK36=BR36,BS45,erreur))))","v":300},{"$f":"IF(AK36=AT36,AV45,IF(AK36=BB36,BD45,IF(AK36=BJ36,BL45,IF(AK36=BR36,BT45,erreur))))","v":300},{"$f":"IF(AK36=AT36,AW45,IF(AK36=BB36,BE45,IF(AK36=BJ36,BM45,IF(AK36=BR36,BU45,erreur))))","v":300},{"$f":"IF(AK36=AT36,AX45,IF(AK36=BB36,BF45,IF(AK36=BJ36,BN45,IF(AK36=BR36,BV45,erreur))))","v":200},{"$f":"IF(AK36=AT36,AY45,IF(AK36=BB36,BG45,IF(AK36=BJ36,BO45,IF(AK36=BR36,BW45,erreur))))","v":200},null,null,8,250,250,250,250,200,200,null,8,200,300,300,300,200,200,null,8,200,300,300,300,200,200,null,8,250,250,250,250,200,200]
[null,null,null,null,null,{"$f":"IF(E25=C26,E63,IF(E25=C27,H63,IF(E25=C28,K63,IF(E25=C29,N63,erreur))))","v":0.68115000000000003},{"$f":"IF(E25=C26,F63,IF(E25=C27,I63,IF(E25=C28,L63,IF(E25=C29,O63,erreur))))","v":0.68115000000000003},{"$f":"F46+G46","v":1.3623000000000001},{"$f":"IF(E25=C26,E77,IF(E25=C27,H77,IF(E25=C28,K77,IF(E25=C29,N77,erreur))))","v":0.81740000000000002},{"$f":"IF(E25=C26,F77,IF(E25=C27,I77,IF(E25=C28,L77,IF(E25=C29,O77,erreur))))","v":0.54495000000000005},{"$f":"I46+J46","v":1.3623500000000002},{"$f":"IF(E25=C26,E91,IF(E25=C27,H91,IF(E25=C28,K91,IF(E25=C29,N91,erreur))))","v":0.95365},{"$f":"IF(E25=C26,F91,IF(E25=C27,I91,IF(E25=C28,L91,IF(E25=C29,O91,erreur))))","v":0.40870000000000001},{"$f":"L46+M46","v":1.3623499999999999},null,null,2.0830000000000002,1.1659999999999999,1.1659999999999999,0.66600000000000004,1,1.333,1.6,1.25,1.4770000000000001,1.6,1.6,1.8340000000000001,1.75,1.6,null,null,null,null,null,9,{"$f":"IF(AK36=AT36,AT46,IF(AK36=BB36,BB46,IF(AK36=BJ36,BJ46,IF(AK36=BR36,BR46,erreur))))","v":350},{"$f":"IF(AK36=AT36,AU46,IF(AK36=BB36,BC46,IF(AK36=BJ36,BK46,IF(AK36=BR36,BS46,erreur))))","v":400},{"$f":"IF(AK36=AT36,AV46,IF(AK36=BB36,BD46,IF(AK36=BJ36,BL46,IF(AK36=BR36,BT46,erreur))))","v":250},{"$f":"IF(AK36=AT36,AW46,IF(AK36=BB36,BE46,IF(AK36=BJ36,BM46,IF(AK36=BR36,BU46,erreur))))","v":250},{"$f":"IF(AK36=AT36,AX46,IF(AK36=BB36,BF46,IF(AK36=BJ36,BN46,IF(AK36=BR36,BV46,erreur))))","v":250},{"$f":"IF(AK36=AT36,AY46,IF(AK36=BB36,BG46,IF(AK36=BJ36,BO46,IF(AK36=BR36,BW46,erreur))))","v":200},null,null,9,250,350,400,300,200,200,null,9,350,400,250,250,250,200,null,9,350,400,250,250,250,200,null,9,250,350,400,300,200,200]
[null,null,null,null,null,{"$f":"IF(E25=C26,E64,IF(E25=C27,H64,IF(E25=C28,K64,IF(E25=C29,N64,erreur))))","v":0.68115000000000003},{"$f":"IF(E25=C26,F64,IF(E25=C27,I64,IF(E25=C28,L64,IF(E25=C29,O64,erreur))))","v":0.68115000000000003},1.3623000000000001,{"$f":"IF(E25=C26,E78,IF(E25=C27,H78,IF(E25=C28,K78,IF(E25=C29,N78,erreur))))","v":0.81740000000000002},{"$f":"IF(E25=C26,F78,IF(E25=C27,I78,IF(E25=C28,L78,IF(E25=C29,O78,erreur))))","v":0.54495000000000005},1.3623500000000002,{"$f":"IF(E25=C26,E92,IF(E25=C27,H92,IF(E25=C28,K92,IF(E25=C29,N92,erreur))))","v":0.95365},{"$f":"IF(E25=C26,F92,IF(E25=C27,I92,IF(E25=C28,L92,IF(E25=C29,O92,erreur))))","v":0.40870000000000001},1.3623499999999999,null,null,0.77700000000000002,1.1659999999999999,1.5,1.6659999999999999,2,1.333,0.94,1.6,1.4770000000000001,1.6,1.8340000000000001,1.1850000000000001,1.25,1.8340000000000001,null,null,null,null,null,10,{"$f":"IF(AK36=AT36,AT47,IF(AK36=BB36,BB47,IF(AK36=BJ36,BJ47,IF(AK36=BR36,BR47,erreur))))","v":200},{"$f":"IF(AK36=AT36,AU47,IF(AK36=BB36,BC47,IF(AK36=BJ36,BK47,IF(AK36=BR36,BS47,erreur))))","v":350},{"$f":"IF(AK36=AT36,AV47,IF(AK36=BB36,BD47,IF(AK36=BJ36,BL47,IF(AK36=BR36,BT47,erreur))))","v":250},{"$f":"IF(AK36=AT36,AW47,IF(AK36=BB36,BE47,IF(AK36=BJ36,BM47,IF(AK36=BR36,BU47,erreur))))","v":300},{"$f":"IF(AK36=AT36,AX47,IF(AK36=BB36,BF47,IF(AK36=BJ36,BN47,IF(AK36=BR36,BV47,erreur))))","v":300},{"$f":"IF(AK36=AT36,AY47,IF(AK36=BB36,BG47,IF(AK36=BJ36,BO47,IF(AK36=BR36,BW47,erreur))))","v":200},null,null,10,200,350,250,300,300,200,null,10,200,350,250,300,300,200,null,10,200,350,250,300,300,200,null,10,200,350,250,300,300,200]
[null,null,null,null,null,{"$f":"IF(E25=C26,E65,IF(E25=C27,H65,IF(E25=C28,K65,IF(E25=C29,N65,erreur))))","v":0.18165000000000001},{"$f":"IF(E25=C26,F65,IF(E25=C27,I65,IF(E25=C28,L65,IF(E25=C29,O65,erreur))))","v":0.72660000000000002},0.90825,{"$f":"IF(E25=C26,E79,IF(E25=C27,H79,IF(E25=C28,K79,IF(E25=C29,N79,erreur))))","v":0.27245000000000003},{"$f":"IF(E25=C26,F79,IF(E25=C27,I79,IF(E25=C28,L79,IF(E25=C29,O79,erreur))))","v":0.63575000000000004},0.90820000000000012,{"$f":"IF(E25=C26,E93,IF(E25=C27,H93,IF(E25=C28,K93,IF(E25=C29,N93,erreur))))","v":0.36330000000000001},{"$f":"IF(E25=C26,F93,IF(E25=C27,I93,IF(E25=C28,L93,IF(E25=C29,O93,erreur))))","v":0.54495000000000005},0.90825,null,null,0.25,1.75,1.75,1.6659999999999999,1.333,1.333,1.6,1.6,1.4770000000000001,1.6,1.4,1.1850000000000001,1.4770000000000001,1.6,null,null,null,null,null,11,{"$f":"IF(AK36=AT36,AT48,IF(AK36=BB36,BB48,IF(AK36=BJ36,BJ48,IF(AK36=BR36,BR48,erreur))))","v":100},{"$f":"IF(AK36=AT36,AU48,IF(AK36=BB36,BC48,IF(AK36=BJ36,BK48,IF(AK36=BR36,BS48,erreur))))","v":150},{"$f":"IF(AK36=AT36,AV48,IF(AK36=BB36,BD48,IF(AK36=BJ36,BL48,IF(AK36=BR36,BT48,erreur))))","v":150},{"$f":"IF(AK36=AT36,AW48,IF(AK36=BB36,BE48,IF(AK36=BJ36,BM48,IF(AK36=BR36,BU48,erreur))))","v":150},{"$f":"IF(AK36=AT36,AX48,IF(AK36=BB36,BF48,IF(AK36=BJ36,BN48,IF(AK36=BR36,BV48,erreur))))","v":100},{"$f":"IF(AK36=AT36,AY48,IF(AK36=BB36,BG48,IF(AK36=BJ36,BO48,IF(AK36=BR36,BW48,erreur))))","v":100},null,null,11,250,350,400,350,150,200,null,11,100,150,150,150,100,100,null,11,200,300,300,300,200,200,null,11,250,350,400,350,150,200]
[null,null,null,null,null,{"$f":"IF(E25=C26,E66,IF(E25=C27,H66,IF(E25=C28,K66,IF(E25=C29,N66,erreur))))","v":0.40870000000000001},{"$f":"IF(E25=C26,F66,IF(E25=C27,I66,IF(E25=C28,L66,IF(E25=C29,O66,erreur))))","v":0.95365},1.3623499999999999,{"$f":"IF(E25=C26,E80,IF(E25=C27,H80,IF(E25=C28,K80,IF(E25=C29,N80,erreur))))","v":0.68115000000000003},{"$f":"IF(E25=C26,F80,IF(E25=C27,I80,IF(E25=C28,L80,IF(E25=C29,O80,erreur))))","v":0.68115000000000003},1.3623000000000001,{"$f":"IF(E25=C26,E94,IF(E25=C27,H94,IF(E25=C28,K94,IF(E25=C29,N94,erreur))))","v":0.95365},{"$f":"IF(E25=C26,F94,IF(E25=C27,I94,IF(E25=C28,L94,IF(E25=C29,O94,erreur))))","v":0.40870000000000001},1.3623499999999999,null,null,1.3,1.1659999999999999,1.1659999999999999,1,0.66600000000000004,1.333,1.25,0.93,1.1850000000000001,1.075,0.9,1.1850000000000001,1.4770000000000001,0.69]
[null,null,null,null,null,{"$f":"IF(E25=C26,E67,IF(E25=C27,H67,IF(E25=C28,K67,IF(E25=C29,N67,erreur))))","v":0.81740000000000002},{"$f":"IF(E25=C26,F67,IF(E25=C27,I67,IF(E25=C28,L67,IF(E25=C29,O67,erreur))))","v":0.54495000000000005},1.3623500000000002,{"$f":"IF(E25=C26,E81,IF(E25=C27,H81,IF(E25=C28,K81,IF(E25=C29,N81,erreur))))","v":0.95365},{"$f":"IF(E25=C26,F81,IF(E25=C27,I81,IF(E25=C28,L81,IF(E25=C29,O81,erreur))))","v":0.40870000000000001},1.3623499999999999,{"$f":"IF(E25=C26,E95,IF(E25=C27,H95,IF(E25=C28,K95,IF(E25=C29,N95,erreur))))","v":0.95365},{"$f":"IF(E25=C26,F95,IF(E25=C27,I95,IF(E25=C28,L95,IF(E25=C29,O95,erreur))))","v":0.40870000000000001},1.3623499999999999,null,"valeur objet max",null,null,null,null,null,null,null,null,null,null,null,null,null,null,null,null,null,null,"pourcentage poste par kit et par place"]
[null,null,null,null,null,{"$f":"IF(E25=C26,E68,IF(E25=C27,H68,IF(E25=C28,K68,IF(E25=C29,N68,erreur))))","v":0.81415000000000004},{"$f":"IF(E25=C26,F68,IF(E25=C27,I68,IF(E25=C28,L68,IF(E25=C29,O68,erreur))))","v":0.54274999999999995},1.3569,{"$f":"IF(E25=C26,E82,IF(E25=C27,H82,IF(E25=C28,K82,IF(E25=C29,N82,erreur))))","v":0.94984999999999997},{"$f":"IF(E25=C26,F82,IF(E25=C27,I82,IF(E25=C28,L82,IF(E25=C29,O82,erreur))))","v":0.40705000000000002},1.3569,{"$f":"IF(E25=C26,E96,IF(E25=C27,H96,IF(E25=C28,K96,IF(E25=C29,N96,erreur))))","v":0.94984999999999997},{"$f":"IF(E25=C26,F96,IF(E25=C27,I96,IF(E25=C28,L96,IF(E25=C29,O96,erreur))))","v":0.40705000000000002},1.3569,null,null,{"$f":"D21","v":0},{"$f":"D21","v":0},{"$f":"D21","v":0},{"$f":"D21","v":0},{"$f":"D21","v":0},{"$f":"D21","v":0},{"$f":"D21","v":0},{"$f":"D21","v":0},{"$f":"D21","v":0},{"$f":"D21","v":0},{"$f":"D21","v":0},{"$f":"D21","v":0},{"$f":"D21","v":0},{"$f":"D21","v":0},null,null,null,null,null,1,{"$f":"Q9","v":"kit 1"},"kit 2A","kit 2B","kit 4A","kit 4B","kit 5","kit 6A","kit 6B","kit 7","kit 8","kit 9A","kit 9B","kit 10","kit 11","MAX",null,2,{"$f":"Q9","v":"kit 1"},"kit 2A","kit 2B","kit 4A","kit 4B","kit 5","kit 6A","kit 6B","kit 7","kit 8","kit 9A","kit 9B","kit 10","kit 11","MAX",null,"coefficient multiplicateur par tactique :"]
[null,null,null,null,null,{"$f":"IF(E25=C26,E69,IF(E25=C27,H69,IF(E25=C28,K69,IF(E25=C29,N69,erreur))))","v":1.6348499999999999},{"$f":"IF(E25=C26,F69,IF(E25=C27,I69,IF(E25=C28,L69,IF(E25=C29,O69,erreur))))","v":1.0899000000000001},2.7247500000000002,{"$f":"IF(E25=C26,E83,IF(E25=C27,H83,IF(E25=C28,K83,IF(E25=C29,N83,erreur))))","v":1.9073500000000001},{"$f":"IF(E25=C26,F83,IF(E25=C27,I83,IF(E25=C28,L83,IF(E25=C29,O83,erreur))))","v":0.81740000000000002},2.7247500000000002,{"$f":"IF(E25=C26,E97,IF(E25=C27,H97,IF(E25=C28,K97,IF(E25=C29,N97,erreur))))","v":2.4523000000000001},{"$f":"IF(E25=C26,F97,IF(E25=C27,I97,IF(E25=C28,L97,IF(E25=C29,O97,erreur))))","v":0.27245000000000003},2.7247500000000002,null,null,{"$f":"D21","v":0},{"$f":"D21","v":0},{"$f":"D21","v":0},{"$f":"D21","v":0},{"$f":"D21","v":0},{"$f":"D21","v":0},{"$f":"D21","v":0},{"$f":"D21","v":0},{"$f":"D21","v":0},{"$f":"D21","v":0},{"$f":"D21","v":0},{"$f":"D21","v":0},{"$f":"D21","v":0},{"$f":"D21","v":0},null,null,null,null,null,{"$f":"AJ167","v":""},{"$f":"MIN((S58+AJ31*D19)/AK38,(S59+AJ31*D19)/AL38,(S60+AJ31*D19)/AM38,(S61+AJ31*D19)/AN38,(S62+AJ31*D19)/AO38)*AP38","v":{"$error":"#VALUE!"}},{"$f":"MIN((T58+AJ31*D19)/AK38,(T59+AJ31*D19)/AL38,(T60+AJ31*D19)/AM38,(T61+AJ31*D19)/AN38,(T62+AJ31*D19)/AO38)*AP38","v":{"$error":"#VALUE!"}},{"$f":"MIN((U58+AJ31*D19)/AK38,(U59+AJ31*D19)/AL38,(U60+AJ31*D19)/AM38,(U61+AJ31*D19)/AN38,(U62+AJ31*D19)/AO38)*AP38","v":{"$error":"#VALUE!"}},{"$f":"MIN((V58+AJ31*D19)/AK38,(V59+AJ31*D19)/AL38,(V60+AJ31*D19)/AM38,(V61+AJ31*D19)/AN38,(V62+AJ31*D19)/AO38)*AP38","v":{"$error":"#VALUE!"}},{"$f":"MIN((W58+AJ31*D19)/AK38,(W59+AJ31*D19)/AL38,(W60+AJ31*D19)/AM38,(W61+AJ31*D19)/AN38,(W62+AJ31*D19)/AO38)*AP38","v":{"$error":"#VALUE!"}},{"$f":"MIN((X58+AJ31*D19)/AK38,(X59+AJ31*D19)/AL38,(X60+AJ31*D19)/AM38,(X61+AJ31*D19)/AN38,(X62+AJ31*D19)/AO38)*AP38","v":{"$error":"#VALUE!"}},{"$f":"MIN((Y58+AJ31*D19)/AK38,(Y59+AJ31*D19)/AL38,(Y60+AJ31*D19)/AM38,(Y61+AJ31*D19)/AN38,(Y62+AJ31*D19)/AO38)*AP38","v":{"$error":"#VALUE!"}},{"$f":"MIN((Z58+AJ31*D19)/AK38,(Z59+AJ31*D19)/AL38,(Z60+AJ31*D19)/AM38,(Z61+AJ31*D19)/AN38,(Z62+AJ31*D19)/AO38)*AP38","v":{"$error":"#VALUE!"}},{"$f":"MIN((AA58+AJ31*D19)/AK38,(AA59+AJ31*D19)/AL38,(AA60+AJ31*D19)/AM38,(AA61+AJ31*D19)/AN38,(AA62+AJ31*D19)/AO38)*AP38","v":{"$error":"#VALUE!"}},{"$f":"MIN((AB58+AJ31*D19)/AK38,(AB59+AJ31*D19)/AL38,(AB60+AJ31*D19)/AM38,(AB61+AJ31*D19)/AN38,(AB62+AJ31*D19)/AO38)*AP38","v":{"$error":"#VALUE!"}},{"$f":"MIN((AC58+AJ31*D19)/AK38,(AC59+AJ31*D19)/AL38,(AC60+AJ31*D19)/AM38,(AC61+AJ31*D19)/AN38,(AC62+AJ31*D19)/AO38)*AP38","v":{"$error":"#VALUE!"}},{"$f":"MIN((AD58+AJ31*D19)/AK38,(AD59+AJ31*D19)/AL38,(AD60+AJ31*D19)/AM38,(AD61+AJ31*D19)/AN38,(AD62+AJ31*D19)/AO38)*AP38","v":{"$error":"#VALUE!"}},{"$f":"MIN((AE58+AJ31*D19)/AK38,(AE59+AJ31*D19)/AL38,(AE60+AJ31*D19)/AM38,(AE61+AJ31*D19)/AN38,(AE62+AJ31*D19)/AO38)*AP38","v":{"$error":"#VALUE!"}},{"$f":"MIN((AF58+AJ31*D19)/AK38,(AF59+AJ31*D19)/AL38,(AF60+AJ31*D19)/AM38,(AF61+AJ31*D19)/AN38,(AF62+AJ31*D19)/AO38)*AP38","v":{"$error":"#VALUE!"}},{"$f":"MAX(AK52:AX52)","v":{"$error":"#VALUE!"}},null,{"$f":"AJ167","v":""},{"$f":"MIN((S58+AK31*D19)/AK39,(S59+AK31*D19)/AL39,(S60+AK31*D19)/AM39,(S61+AK31*D19)/AN39,(S62+AK31*D19)/AO39)*AP39","v":{"$error":"#VALUE!"}},{"$f":"MIN((T58+AK31*D19)/AK39,(T59+AK31*D19)/AL39,(T60+AK31*D19)/AM39,(T61+AK31*D19)/AN39,(T62+AK31*D19)/AO39)*AP39","v":{"$error":"#VALUE!"}},{"$f":"MIN((U58+AK31*D19)/AK39,(U59+AK31*D19)/AL39,(U60+AK31*D19)/AM39,(U61+AK31*D19)/AN39,(U62+AK31*D19)/AO39)*AP39","v":{"$error":"#VALUE!"}},{"$f":"MIN((V58+AK31*D19)/AK39,(V59+AK31*D19)/AL39,(V60+AK31*D19)/AM39,(V61+AK31*D19)/AN39,(V62+AK31*D19)/AO39)*AP39","v":{"$error":"#VALUE!"}},{"$f":"MIN((W58+AK31*D19)/AK39,(W59+AK31*D19)/AL39,(W60+AK31*D19)/AM39,(W61+AK31*D19)/AN39,(W62+AK31*D19)/AO39)*AP39","v":{"$error":"#VALUE!"}},{"$f":"MIN((X58+AK31*D19)/AK39,(X59+AK31*D19)/AL39,(X60+AK31*D19)/AM39,(X61+AK31*D19)/AN39,(X62+AK31*D19)/AO39)*AP39","v":{"$error":"#VALUE!"}},{"$f":"MIN((Y58+AK31*D19)/AK39,(Y59+AK31*D19)/AL39,(Y60+AK31*D19)/AM39,(Y61+AK31*D19)/AN39,(Y62+AK31*D19)/AO39)*AP39","v":{"$error":"#VALUE!"}},{"$f":"MIN((Z58+AK31*D19)/AK39,(Z59+AK31*D19)/AL39,(Z60+AK31*D19)/AM39,(Z61+AK31*D19)/AN39,(Z62+AK31*D19)/AO39)*AP39","v":{"$error":"#VALUE!"}},{"$f":"MIN((AA58+AK31*D19)/AK39,(AA59+AK31*D19)/AL39,(AA60+AK31*D19)/AM39,(AA61+AK31*D19)/AN39,(AA62+AK31*D19)/AO39)*AP39","v":{"$error":"#VALUE!"}},{"$f":"MIN((AB58+AK31*D19)/AK39,(AB59+AK31*D19)/AL39,(AB60+AK31*D19)/AM39,(AB61+AK31*D19)/AN39,(AB62+AK31*D19)/AO39)*AP39","v":{"$error":"#VALUE!"}},{"$f":"MIN((AC58+AK31*D19)/AK39,(AC59+AK31*D19)/AL39,(AC60+AK31*D19)/AM39,(AC61+AK31*D19)/AN39,(AC62+AK31*D19)/AO39)*AP39","v":{"$error":"#VALUE!"}},{"$f":"MIN((AD58+AK31*D19)/AK39,(AD59+AK31*D19)/AL39,(AD60+AK31*D19)/AM39,(AD61+AK31*D19)/AN39,(AD62+AK31*D19)/AO39)*AP39","v":{"$error":"#VALUE!"}},{"$f":"MIN((AE58+AK31*D19)/AK39,(AE59+AK31*D19)/AL39,(AE60+AK31*D19)/AM39,(AE61+AK31*D19)/AN39,(AE62+AK31*D19)/AO39)*AP39","v":{"$error":"#VALUE!"}},{"$f":"MIN((AF58+AK31*D19)/AK39,(AF59+AK31*D19)/AL39,(AF60+AK31*D19)/AM39,(AF61+AK31*D19)/AN39,(AF62+AK31*D19)/AO39)*AP39","v":{"$error":"#VALUE!"}},{"$f":"MAX(BB52:BO52)","v":{"$error":"#VALUE!"}},null,null,{"$f":"F42","v":433}]
[null,null,null,null,null,{"$f":"IF(E25=C26,E70,IF(E25=C27,H70,IF(E25=C28,K70,IF(E25=C29,N70,erreur))))","v":2.0435500000000002},{"$f":"IF(E25=C26,F70,IF(E25=C27,I70,IF(E25=C28,L70,IF(E25=C29,O70,erreur))))","v":0.22705},2.2706000000000004,{"$f":"IF(E25=C26,E84,IF(E25=C27,H84,IF(E25=C28,K84,IF(E25=C29,N84,erreur))))","v":2.0435500000000002},{"$f":"IF(E25=C26,F84,IF(E25=C27,I84,IF(E25=C28,L84,IF(E25=C29,O84,erreur))))","v":0.22705},2.2706000000000004,{"$f":"IF(E25=C26,E98,IF(E25=C27,H98,IF(E25=C28,K98,IF(E25=C29,N98,erreur))))","v":2.0435500000000002},{"$f":"IF(E25=C26,F98,IF(E25=C27,I98,IF(E25=C28,L98,IF(E25=C29,O98,erreur))))","v":0.22705},2.2706000000000004,null,null,{"$f":"D21","v":0},{"$f":"D21","v":0},{"$f":"D21","v":0},{"$f":"D21","v":0},{"$f":"D21","v":0},{"$f":"D21","v":0},{"$f":"D21","v":0},{"$f":"D21","v":0},{"$f":"D21","v":0},{"$f":"D21","v":0},{"$f":"D21","v":0},{"$f":"D21","v":0},{"$f":"D21","v":0},{"$f":"D21","v":0},null,null,null,null,null,"",{"$f":"MIN((S65+AJ31*D19)/AK38,(S66+AJ31*D19)/AL38,(S67+AJ31*D19)/AM38,(S68+AJ31*D19)/AN38,(S69+AJ31*D19)/AO38)*AP38","v":{"$error":"#VALUE!"}},{"$f":"MIN((T65+AJ31*D19)/AK38,(T66+AJ31*D19)/AL38,(T67+AJ31*D19)/AM38,(T68+AJ31*D19)/AN38,(T69+AJ31*D19)/AO38)*AP38","v":{"$error":"#VALUE!"}},{"$f":"MIN((U65+AJ31*D19)/AK38,(U66+AJ31*D19)/AL38,(U67+AJ31*D19)/AM38,(U68+AJ31*D19)/AN38,(U69+AJ31*D19)/AO38)*AP38","v":{"$error":"#VALUE!"}},{"$f":"MIN((V65+AJ31*D19)/AK38,(V66+AJ31*D19)/AL38,(V67+AJ31*D19)/AM38,(V68+AJ31*D19)/AN38,(V69+AJ31*D19)/AO38)*AP38","v":{"$error":"#VALUE!"}},{"$f":"MIN((W65+AJ31*D19)/AK38,(W66+AJ31*D19)/AL38,(W67+AJ31*D19)/AM38,(W68+AJ31*D19)/AN38,(W69+AJ31*D19)/AO38)*AP38","v":{"$error":"#VALUE!"}},{"$f":"MIN((X65+AJ31*D19)/AK38,(X66+AJ31*D19)/AL38,(X67+AJ31*D19)/AM38,(X68+AJ31*D19)/AN38,(X69+AJ31*D19)/AO38)*AP38","v":{"$error":"#VALUE!"}},{"$f":"MIN((Y65+AJ31*D19)/AK38,(Y66+AJ31*D19)/AL38,(Y67+AJ31*D19)/AM38,(Y68+AJ31*D19)/AN38,(Y69+AJ31*D19)/AO38)*AP38","v":{"$error":"#VALUE!"}},{"$f":"MIN((Z65+AJ31*D19)/AK38,(Z66+AJ31*D19)/AL38,(Z67+AJ31*D19)/AM38,(Z68+AJ31*D19)/AN38,(Z69+AJ31*D19)/AO38)*AP38","v":{"$error":"#VALUE!"}},{"$f":"MIN((AA65+AJ31*D19)/AK38,(AA66+AJ31*D19)/AL38,(AA67+AJ31*D19)/AM38,(AA68+AJ31*D19)/AN38,(AA69+AJ31*D19)/AO38)*AP38","v":{"$error":"#VALUE!"}},{"$f":"MIN((AB65+AJ31*D19)/AK38,(AB66+AJ31*D19)/AL38,(AB67+AJ31*D19)/AM38,(AB68+AJ31*D19)/AN38,(AB69+AJ31*D19)/AO38)*AP38","v":{"$error":"#VALUE!"}},{"$f":"MIN((AC65+AJ31*D19)/AK38,(AC66+AJ31*D19)/AL38,(AC67+AJ31*D19)/AM38,(AC68+AJ31*D19)/AN38,(AC69+AJ31*D19)/AO38)*AP38","v":{"$error":"#VALUE!"}},{"$f":"MIN((AD65+AJ31*D19)/AK38,(AD66+AJ31*D19)/AL38,(AD67+AJ31*D19)/AM38,(AD68+AJ31*D19)/AN38,(AD69+AJ31*D19)/AO38)*AP38","v":{"$error":"#VALUE!"}},{"$f":"MIN((AE65+AJ31*D19)/AK38,(AE66+AJ31*D19)/AL38,(AE67+AJ31*D19)/AM38,(AE68+AJ31*D19)/AN38,(AE69+AJ31*D19)/AO38)*AP38","v":{"$error":"#VALUE!"}},{"$f":"MIN((AF65+AJ31*D19)/AK38,(AF66+AJ31*D19)/AL38,(AF67+AJ31*D19)/AM38,(AF68+AJ31*D19)/AN38,(AF69+AJ31*D19)/AO38)*AP38","v":{"$error":"#VALUE!"}},{"$f":"MAX(AK53:AX53)","v":{"$error":"#VALUE!"}},null,"",{"$f":"MIN((S65+AK31*D19)/AK39,(S66+AK31*D19)/AL39,(S67+AK31*D19)/AM39,(S68+AK31*D19)/AN39,(S69+AK31*D19)/AO39)*AP39","v":{"$error":"#VALUE!"}},{"$f":"MIN((T65+AK31*D19)/AK39,(T66+AK31*D19)/AL39,(T67+AK31*D19)/AM39,(T68+AK31*D19)/AN39,(T69+AK31*D19)/AO39)*AP39","v":{"$error":"#VALUE!"}},{"$f":"MIN((U65+AK31*D19)/AK39,(U66+AK31*D19)/AL39,(U67+AK31*D19)/AM39,(U68+AK31*D19)/AN39,(U69+AK31*D19)/AO39)*AP39","v":{"$error":"#VALUE!"}},{"$f":"MIN((V65+AK31*D19)/AK39,(V66+AK31*D19)/AL39,(V67+AK31*D19)/AM39,(V68+AK31*D19)/AN39,(V69+AK31*D19)/AO39)*AP39","v":{"$error":"#VALUE!"}},{"$f":"MIN((W65+AK31*D19)/AK39,(W66+AK31*D19)/AL39,(W67+AK31*D19)/AM39,(W68+AK31*D19)/AN39,(W69+AK31*D19)/AO39)*AP39","v":{"$error":"#VALUE!"}},{"$f":"MIN((X65+AK31*D19)/AK39,(X66+AK31*D19)/AL39,(X67+AK31*D19)/AM39,(X68+AK31*D19)/AN39,(X69+AK31*D19)/AO39)*AP39","v":{"$error":"#VALUE!"}},{"$f":"MIN((Y65+AK31*D19)/AK39,(Y66+AK31*D19)/AL39,(Y67+AK31*D19)/AM39,(Y68+AK31*D19)/AN39,(Y69+AK31*D19)/AO39)*AP39","v":{"$error":"#VALUE!"}},{"$f":"MIN((Z65+AK31*D19)/AK39,(Z66+AK31*D19)/AL39,(Z67+AK31*D19)/AM39,(Z68+AK31*D19)/AN39,(Z69+AK31*D19)/AO39)*AP39","v":{"$error":"#VALUE!"}},{"$f":"MIN((AA65+AK31*D19)/AK39,(AA66+AK31*D19)/AL39,(AA67+AK31*D19)/AM39,(AA68+AK31*D19)/AN39,(AA69+AK31*D19)/AO39)*AP39","v":{"$error":"#VALUE!"}},{"$f":"MIN((AB65+AK31*D19)/AK39,(AB66+AK31*D19)/AL39,(AB67+AK31*D19)/AM39,(AB68+AK31*D19)/AN39,(AB69+AK31*D19)/AO39)*AP39","v":{"$error":"#VALUE!"}},{"$f":"MIN((AC65+AK31*D19)/AK39,(AC66+AK31*D19)/AL39,(AC67+AK31*D19)/AM39,(AC68+AK31*D19)/AN39,(AC69+AK31*D19)/AO39)*AP39","v":{"$error":"#VALUE!"}},{"$f":"MIN((AD65+AK31*D19)/AK39,(AD66+AK31*D19)/AL39,(AD67+AK31*D19)/AM39,(AD68+AK31*D19)/AN39,(AD69+AK31*D19)/AO39)*AP39","v":{"$error":"#VALUE!"}},{"$f":"MIN((AE65+AK31*D19)/AK39,(AE66+AK31*D19)/AL39,(AE67+AK31*D19)/AM39,(AE68+AK31*D19)/AN39,(AE69+AK31*D19)/AO39)*AP39","v":{"$error":"#VALUE!"}},{"$f":"MIN((AF65+AK31*D19)/AK39,(AF66+AK31*D19)/AL39,(AF67+AK31*D19)/AM39,(AF68+AK31*D19)/AN39,(AF69+AK31*D19)/AO39)*AP39","v":{"$error":"#VALUE!"}},{"$f":"MAX(BB53:BO53)","v":{"$error":"#VALUE!"}},null,null,{"$f":"AP3","v":"Defensif"}]
[null,null,null,null,null,{"$f":"IF(E25=C26,E71,IF(E25=C27,H71,IF(E25=C28,K71,IF(E25=C29,N71,erreur))))","v":1.0899000000000001},{"$f":"IF(E25=C26,F71,IF(E25=C27,I71,IF(E25=C28,L71,IF(E25=C29,O71,erreur))))","v":0.72660000000000002},1.8165,{"$f":"IF(E25=C26,E85,IF(E25=C27,H85,IF(E25=C28,K85,IF(E25=C29,N85,erreur))))","v":1.4532},{"$f":"IF(E25=C26,F85,IF(E25=C27,I85,IF(E25=C28,L85,IF(E25=C29,O85,erreur))))","v":0.36330000000000001},1.8165,{"$f":"IF(E25=C26,E99,IF(E25=C27,H99,IF(E25=C28,K99,IF(E25=C29,N99,erreur))))","v":1.6348499999999999},{"$f":"IF(E25=C26,F99,IF(E25=C27,I99,IF(E25=C28,L99,IF(E25=C29,O99,erreur))))","v":0.18165000000000001},1.8165,null,null,{"$f":"D21","v":0},{"$f":"D21","v":0},{"$f":"D21","v":0},{"$f":"D21","v":0},{"$f":"D21","v":0},{"$f":"D21","v":0},{"$f":"D21","v":0},{"$f":"D21","v":0},{"$f":"D21","v":0},{"$f":"D21","v":0},{"$f":"D21","v":0},{"$f":"D21","v":0},{"$f":"D21","v":0},{"$f":"D21","v":0},null,null,null,null,null,"",{"$f":"MIN((S72+AJ31*D19)/AK38,(S73+AJ31*D19)/AL38,(S74+AJ31*D19)/AM38,(S75+AJ31*D19)/AN38,(S76+AJ31*D19)/AO38)*AP38","v":{"$error":"#VALUE!"}},{"$f":"MIN((T72+AJ31*D19)/AK38,(T73+AJ31*D19)/AL38,(T74+AJ31*D19)/AM38,(T75+AJ31*D19)/AN38,(T76+AJ31*D19)/AO38)*AP38","v":{"$error":"#VALUE!"}},{"$f":"MIN((U72+AJ31*D19)/AK38,(U73+AJ31*D19)/AL38,(U74+AJ31*D19)/AM38,(U75+AJ31*D19)/AN38,(U76+AJ31*D19)/AO38)*AP38","v":{"$error":"#VALUE!"}},{"$f":"MIN((V72+AJ31*D19)/AK38,(V73+AJ31*D19)/AL38,(V74+AJ31*D19)/AM38,(V75+AJ31*D19)/AN38,(V76+AJ31*D19)/AO38)*AP38","v":{"$error":"#VALUE!"}},{"$f":"MIN((W72+AJ31*D19)/AK38,(W73+AJ31*D19)/AL38,(W74+AJ31*D19)/AM38,(W75+AJ31*D19)/AN38,(W76+AJ31*D19)/AO38)*AP38","v":{"$error":"#VALUE!"}},{"$f":"MIN((X72+AJ31*D19)/AK38,(X73+AJ31*D19)/AL38,(X74+AJ31*D19)/AM38,(X75+AJ31*D19)/AN38,(X76+AJ31*D19)/AO38)*AP38","v":{"$error":"#VALUE!"}},{"$f":"MIN((Y72+AJ31*D19)/AK38,(Y73+AJ31*D19)/AL38,(Y74+AJ31*D19)/AM38,(Y75+AJ31*D19)/AN38,(Y76+AJ31*D19)/AO38)*AP38","v":{"$error":"#VALUE!"}},{"$f":"MIN((Z72+AJ31*D19)/AK38,(Z73+AJ31*D19)/AL38,(Z74+AJ31*D19)/AM38,(Z75+AJ31*D19)/AN38,(Z76+AJ31*D19)/AO38)*AP38","v":{"$error":"#VALUE!"}},{"$f":"MIN((AA72+AJ31*D19)/AK38,(AA73+AJ31*D19)/AL38,(AA74+AJ31*D19)/AM38,(AA75+AJ31*D19)/AN38,(AA76+AJ31*D19)/AO38)*AP38","v":{"$error":"#VALUE!"}},{"$f":"MIN((AB72+AJ31*D19)/AK38,(AB73+AJ31*D19)/AL38,(AB74+AJ31*D19)/AM38,(AB75+AJ31*D19)/AN38,(AB76+AJ31*D19)/AO38)*AP38","v":{"$error":"#VALUE!"}},{"$f":"MIN((AC72+AJ31*D19)/AK38,(AC73+AJ31*D19)/AL38,(AC74+AJ31*D19)/AM38,(AC75+AJ31*D19)/AN38,(AC76+AJ31*D19)/AO38)*AP38","v":{"$error":"#VALUE!"}},{"$f":"MIN((AD72+AJ31*D19)/AK38,(AD73+AJ31*D19)/AL38,(AD74+AJ31*D19)/AM38,(AD75+AJ31*D19)/AN38,(AD76+AJ31*D19)/AO38)*AP38","v":{"$error":"#VALUE!"}},{"$f":"MIN((AE72+AJ31*D19)/AK38,(AE73+AJ31*D19)/AL38,(AE74+AJ31*D19)/AM38,(AE75+AJ31*D19)/AN38,(AE76+AJ31*D19)/AO38)*AP38","v":{"$error":"#VALUE!"}},{"$f":"MIN((AF72+AJ31*D19)/AK38,(AF73+AJ31*D19)/AL38,(AF74+AJ31*D19)/AM38,(AF75+AJ31*D19)/AN38,(AF76+AJ31*D19)/AO38)*AP38","v":{"$error":"#VALUE!"}},{"$error":"#VALUE!"},null,"",{"$f":"MIN((S72+AK31*D19)/AK39,(S73+AK31*D19)/AL39,(S74+AK31*D19)/AM39,(S75+AK31*D19)/AN39,(S76+AK31*D19)/AO39)*AP39","v":{"$error":"#VALUE!"}},{"$f":"MIN((T72+AK31*D19)/AK39,(T73+AK31*D19)/AL39,(T74+AK31*D19)/AM39,(T75+AK31*D19)/AN39,(T76+AK31*D19)/AO39)*AP39","v":{"$error":"#VALUE!"}},{"$f":"MIN((U72+AK31*D19)/AK39,(U73+AK31*D19)/AL39,(U74+AK31*D19)/AM39,(U75+AK31*D19)/AN39,(U76+AK31*D19)/AO39)*AP39","v":{"$error":"#VALUE!"}},{"$f":"MIN((V72+AK31*D19)/AK39,(V73+AK31*D19)/AL39,(V74+AK31*D19)/AM39,(V75+AK31*D19)/AN39,(V76+AK31*D19)/AO39)*AP39","v":{"$error":"#VALUE!"}},{"$f":"MIN((W72+AK31*D19)/AK39,(W73+AK31*D19)/AL39,(W74+AK31*D19)/AM39,(W75+AK31*D19)/AN39,(W76+AK31*D19)/AO39)*AP39","v":{"$error":"#VALUE!"}},{"$f":"MIN((X72+AK31*D19)/AK39,(X73+AK31*D19)/AL39,(X74+AK31*D19)/AM39,(X75+AK31*D19)/AN39,(X76+AK31*D19)/AO39)*AP39","v":{"$error":"#VALUE!"}},{"$f":"MIN((Y72+AK31*D19)/AK39,(Y73+AK31*D19)/AL39,(Y74+AK31*D19)/AM39,(Y75+AK31*D19)/AN39,(Y76+AK31*D19)/AO39)*AP39","v":{"$error":"#VALUE!"}},{"$f":"MIN((Z72+AK31*D19)/AK39,(Z73+AK31*D19)/AL39,(Z74+AK31*D19)/AM39,(Z75+AK31*D19)/AN39,(Z76+AK31*D19)/AO39)*AP39","v":{"$error":"#VALUE!"}},{"$f":"MIN((AA72+AK31*D19)/AK39,(AA73+AK31*D19)/AL39,(AA74+AK31*D19)/AM39,(AA75+AK31*D19)/AN39,(AA76+AK31*D19)/AO39)*AP39","v":{"$error":"#VALUE!"}},{"$f":"MIN((AB72+AK31*D19)/AK39,(AB73+AK31*D19)/AL39,(AB74+AK31*D19)/AM39,(AB75+AK31*D19)/AN39,(AB76+AK31*D19)/AO39)*AP39","v":{"$error":"#VALUE!"}},{"$f":"MIN((AC72+AK31*D19)/AK39,(AC73+AK31*D19)/AL39,(AC74+AK31*D19)/AM39,(AC75+AK31*D19)/AN39,(AC76+AK31*D19)/AO39)*AP39","v":{"$error":"#VALUE!"}},{"$f":"MIN((AD72+AK31*D19)/AK39,(AD73+AK31*D19)/AL39,(AD74+AK31*D19)/AM39,(AD75+AK31*D19)/AN39,(AD76+AK31*D19)/AO39)*AP39","v":{"$error":"#VALUE!"}},{"$f":"MIN((AE72+AK31*D19)/AK39,(AE73+AK31*D19)/AL39,(AE74+AK31*D19)/AM39,(AE75+AK31*D19)/AN39,(AE76+AK31*D19)/AO39)*AP39","v":{"$error":"#VALUE!"}},{"$f":"MIN((AF72+AK31*D19)/AK39,(AF73+AK31*D19)/AL39,(AF74+AK31*D19)/AM39,(AF75+AK31*D19)/AN39,(AF76+AK31*D19)/AO39)*AP39","v":{"$error":"#VALUE!"}},{"$error":"#VALUE!"},null,null,"1% attaque",null,"1% defense",null,"1% cumulé"]
[null,null,null,null,null,{"$f":"IF(E25=C26,E72,IF(E25=C27,H72,IF(E25=C28,K72,IF(E25=C29,N72, erreur))))","v":1.6348499999999999},{"$f":"IF(E25=C26,F72,IF(E25=C27,I72,IF(E25=C28,L72,IF(E25=C29,O72,erreur))))","v":1.0899000000000001},2.7247500000000002,{"$f":"IF(E25=C26,E86,IF(E25=C27,H86,IF(E25=C28,K86,IF(E25=C29,N86,erreur))))","v":1.9073500000000001},{"$f":"IF(E25=C26,F86,IF(E25=C27,I86,IF(E25=C28,L86,IF(E25=C29,O86,erreur))))","v":0.81740000000000002},2.7247500000000002,{"$f":"IF(E25=C26,E100,IF(E25=C27,H100,IF(E25=C28,K100,IF(E25=C29,N100,erreur))))","v":2.4523000000000001},{"$f":"IF(E25=C26,F100,IF(E25=C27,I100,IF(E25=C28,L100,IF(E25=C29,O100,erreur))))","v":0.27245000000000003},2.7247500000000002,null,null,{"$f":"D21","v":0},{"$f":"D21","v":0},{"$f":"D21","v":0},{"$f":"D21","v":0},{"$f":"D21","v":0},{"$f":"D21","v":0},{"$f":"D21","v":0},{"$f":"D21","v":0},{"$f":"D21","v":0},{"$f":"D21","v":0},{"$f":"D21","v":0},{"$f":"D21","v":0},{"$f":"D21","v":0},{"$f":"D21","v":0},null,null,null,null,null,"",{"$f":"MIN((S79+AJ31*D19)/AK38,(S80+AJ31*D19)/AL38,(S81+AJ31*D19)/AM38,(S82+AJ31*D19)/AN38,(S83+AJ31*D19)/AO38)*AP38","v":{"$error":"#VALUE!"}},{"$f":"MIN((T79+AJ31*D19)/AK38,(T80+AJ31*D19)/AL38,(T81+AJ31*D19)/AM38,(T82+AJ31*D19)/AN38,(T83+AJ31*D19)/AO38)*AP38","v":{"$error":"#VALUE!"}},{"$f":"MIN((U79+AJ31*D19)/AK38,(U80+AJ31*D19)/AL38,(U81+AJ31*D19)/AM38,(U82+AJ31*D19)/AN38,(U83+AJ31*D19)/AO38)*AP38","v":{"$error":"#VALUE!"}},{"$f":"MIN((V79+AJ31*D19)/AK38,(V80+AJ31*D19)/AL38,(V81+AJ31*D19)/AM38,(V82+AJ31*D19)/AN38,(V83+AJ31*D19)/AO38)*AP38","v":{"$error":"#VALUE!"}},{"$f":"MIN((W79+AJ31*D19)/AK38,(W80+AJ31*D19)/AL38,(W81+AJ31*D19)/AM38,(W82+AJ31*D19)/AN38,(W83+AJ31*D19)/AO38)*AP38","v":{"$error":"#VALUE!"}},{"$f":"MIN((X79+AJ31*D19)/AK38,(X80+AJ31*D19)/AL38,(X81+AJ31*D19)/AM38,(X82+AJ31*D19)/AN38,(X83+AJ31*D19)/AO38)*AP38","v":{"$error":"#VALUE!"}},{"$f":"MIN((Y79+AJ31*D19)/AK38,(Y80+AJ31*D19)/AL38,(Y81+AJ31*D19)/AM38,(Y82+AJ31*D19)/AN38,(Y83+AJ31*D19)/AO38)*AP38","v":{"$error":"#VALUE!"}},{"$f":"MIN((Z79+AJ31*D19)/AK38,(Z80+AJ31*D19)/AL38,(Z81+AJ31*D19)/AM38,(Z82+AJ31*D19)/AN38,(Z83+AJ31*D19)/AO38)*AP38","v":{"$error":"#VALUE!"}},{"$f":"MIN((AA79+AJ31*D19)/AK38,(AA80+AJ31*D19)/AL38,(AA81+AJ31*D19)/AM38,(AA82+AJ31*D19)/AN38,(AA83+AJ31*D19)/AO38)*AP38","v":{"$error":"#VALUE!"}},{"$f":"MIN((AB79+AJ31*D19)/AK38,(AB80+AJ31*D19)/AL38,(AB81+AJ31*D19)/AM38,(AB82+AJ31*D19)/AN38,(AB83+AJ31*D19)/AO38)*AP38","v":{"$error":"#VALUE!"}},{"$f":"MIN((AC79+AJ31*D19)/AK38,(AC80+AJ31*D19)/AL38,(AC81+AJ31*D19)/AM38,(AC82+AJ31*D19)/AN38,(AC83+AJ31*D19)/AO38)*AP38","v":{"$error":"#VALUE!"}},{"$f":"MIN((AD79+AJ31*D19)/AK38,(AD80+AJ31*D19)/AL38,(AD81+AJ31*D19)/AM38,(AD82+AJ31*D19)/AN38,(AD83+AJ31*D19)/AO38)*AP38","v":{"$error":"#VALUE!"}},{"$f":"MIN((AE79+AJ31*D19)/AK38,(AE80+AJ31*D19)/AL38,(AE81+AJ31*D19)/AM38,(AE82+AJ31*D19)/AN38,(AE83+AJ31*D19)/AO38)*AP38","v":{"$error":"#VALUE!"}},{"$f":"MIN((AF79+AJ31*D19)/AK38,(AF80+AJ31*D19)/AL38,(AF81+AJ31*D19)/AM38,(AF82+AJ31*D19)/AN38,(AF83+AJ31*D19)/AO38)*AP38","v":{"$error":"#VALUE!"}},{"$error":"#VALUE!"},null,"",{"$f":"MIN((S79+AK31*D19)/AK39,(S80+AK31*D19)/AL39,(S81+AK31*D19)/AM39,(S82+AK31*D19)/AN39,(S83+AK31*D19)/AO39)*AP39","v":{"$error":"#VALUE!"}},{"$f":"MIN((T79+AK31*D19)/AK39,(T80+AK31*D19)/AL39,(T81+AK31*D19)/AM39,(T82+AK31*D19)/AN39,(T83+AK31*D19)/AO39)*AP39","v":{"$error":"#VALUE!"}},{"$f":"MIN((U79+AK31*D19)/AK39,(U80+AK31*D19)/AL39,(U81+AK31*D19)/AM39,(U82+AK31*D19)/AN39,(U83+AK31*D19)/AO39)*AP39","v":{"$error":"#VALUE!"}},{"$f":"MIN((V79+AK31*D19)/AK39,(V80+AK31*D19)/AL39,(V81+AK31*D19)/AM39,(V82+AK31*D19)/AN39,(V83+AK31*D19)/AO39)*AP39","v":{"$error":"#VALUE!"}},{"$f":"MIN((W79+AK31*D19)/AK39,(W80+AK31*D19)/AL39,(W81+AK31*D19)/AM39,(W82+AK31*D19)/AN39,(W83+AK31*D19)/AO39)*AP39","v":{"$error":"#VALUE!"}},{"$f":"MIN((X79+AK31*D19)/AK39,(X80+AK31*D19)/AL39,(X81+AK31*D19)/AM39,(X82+AK31*D19)/AN39,(X83+AK31*D19)/AO39)*AP39","v":{"$error":"#VALUE!"}},{"$f":"MIN((Y79+AK31*D19)/AK39,(Y80+AK31*D19)/AL39,(Y81+AK31*D19)/AM39,(Y82+AK31*D19)/AN39,(Y83+AK31*D19)/AO39)*AP39","v":{"$error":"#VALUE!"}},{"$f":"MIN((Z79+AK31*D19)/AK39,(Z80+AK31*D19)/AL39,(Z81+AK31*D19)/AM39,(Z82+AK31*D19)/AN39,(Z83+AK31*D19)/AO39)*AP39","v":{"$error":"#VALUE!"}},{"$f":"MIN((AA79+AK31*D19)/AK39,(AA80+AK31*D19)/AL39,(AA81+AK31*D19)/AM39,(AA82+AK31*D19)/AN39,(AA83+AK31*D19)/AO39)*AP39","v":{"$error":"#VALUE!"}},{"$f":"MIN((AB79+AK31*D19)/AK39,(AB80+AK31*D19)/AL39,(AB81+AK31*D19)/AM39,(AB82+AK31*D19)/AN39,(AB83+AK31*D19)/AO39)*AP39","v":{"$error":"#VALUE!"}},{"$f":"MIN((AC79+AK31*D19)/AK39,(AC80+AK31*D19)/AL39,(AC81+AK31*D19)/AM39,(AC82+AK31*D19)/AN39,(AC83+AK31*D19)/AO39)*AP39","v":{"$error":"#VALUE!"}},{"$f":"MIN((AD79+AK31*D19)/AK39,(AD80+AK31*D19)/AL39,(AD81+AK31*D19)/AM39,(AD82+AK31*D19)/AN39,(AD83+AK31*D19)/AO39)*AP39","v":{"$error":"#VALUE!"}},{"$f":"MIN((AE79+AK31*D19)/AK39,(AE80+AK31*D19)/AL39,(AE81+AK31*D19)/AM39,(AE82+AK31*D19)/AN39,(AE83+AK31*D19)/AO39)*AP39","v":{"$error":"#VALUE!"}},{"$f":"MIN((AF79+AK31*D19)/AK39,(AF80+AK31*D19)/AL39,(AF81+AK31*D19)/AM39,(AF82+AK31*D19)/AN39,(AF83+AK31*D19)/AO39)*AP39","v":{"$error":"#VALUE!"}},{"$error":"#VALUE!"},null,null,{"$f":"IF(E26=C31,F45,IF(E26=C32,I45,IF(E26=C33,L45,erreur)))","v":5.4449999999999998E-2},null,{"$f":"IF(E26=C31,G45,IF(E26=C32,J45,IF(E26=C33,M45,erreur)))","v":2.6702499999999998},null,{"$f":"BS55+BU55","v":2.7246999999999999}]
[null,null,null,null,"tactique selectionnée (ca ne sert a rien)",null,null,null,null,null,null,null,null,null,null,null,"caracteristiques joueur avec bonus batiment, objet et kit, sans vitamine.",null,null,null,null,null,null,null,null,null,null,null,null,null,null,null,null,null,null,"",{"$f":"MIN((S86+AJ31*D19)/AK38,(S87+AJ31*D19)/AL38,(S88+AJ31*D19)/AM38,(S89+AJ31*D19)/AN38,(S90+AJ31*D19)/AO38)*AP38","v":{"$error":"#VALUE!"}},{"$f":"MIN((T86+AJ31*D19)/AK38,(T87+AJ31*D19)/AL38,(T88+AJ31*D19)/AM38,(T89+AJ31*D19)/AN38,(T90+AJ31*D19)/AO38)*AP38","v":{"$error":"#VALUE!"}},{"$f":"MIN((U86+AJ31*D19)/AK38,(U87+AJ31*D19)/AL38,(U88+AJ31*D19)/AM38,(U89+AJ31*D19)/AN38,(U90+AJ31*D19)/AO38)*AP38","v":{"$error":"#VALUE!"}},{"$f":"MIN((V86+AJ31*D19)/AK38,(V87+AJ31*D19)/AL38,(V88+AJ31*D19)/AM38,(V89+AJ31*D19)/AN38,(V90+AJ31*D19)/AO38)*AP38","v":{"$error":"#VALUE!"}},{"$f":"MIN((W86+AJ31*D19)/AK38,(W87+AJ31*D19)/AL38,(W88+AJ31*D19)/AM38,(W89+AJ31*D19)/AN38,(W90+AJ31*D19)/AO38)*AP38","v":{"$error":"#VALUE!"}},{"$f":"MIN((X86+AJ31*D19)/AK38,(X87+AJ31*D19)/AL38,(X88+AJ31*D19)/AM38,(X89+AJ31*D19)/AN38,(X90+AJ31*D19)/AO38)*AP38","v":{"$error":"#VALUE!"}},{"$f":"MIN((Y86+AJ31*D19)/AK38,(Y87+AJ31*D19)/AL38,(Y88+AJ31*D19)/AM38,(Y89+AJ31*D19)/AN38,(Y90+AJ31*D19)/AO38)*AP38","v":{"$error":"#VALUE!"}},{"$f":"MIN((Z86+AJ31*D19)/AK38,(Z87+AJ31*D19)/AL38,(Z88+AJ31*D19)/AM38,(Z89+AJ31*D19)/AN38,(Z90+AJ31*D19)/AO38)*AP38","v":{"$error":"#VALUE!"}},{"$f":"MIN((AA86+AJ31*D19)/AK38,(AA87+AJ31*D19)/AL38,(AA88+AJ31*D19)/AM38,(AA89+AJ31*D19)/AN38,(AA90+AJ31*D19)/AO38)*AP38","v":{"$error":"#VALUE!"}},{"$f":"MIN((AB86+AJ31*D19)/AK38,(AB87+AJ31*D19)/AL38,(AB88+AJ31*D19)/AM38,(AB89+AJ31*D19)/AN38,(AB90+AJ31*D19)/AO38)*AP38","v":{"$error":"#VALUE!"}},{"$f":"MIN((AC86+AJ31*D19)/AK38,(AC87+AJ31*D19)/AL38,(AC88+AJ31*D19)/AM38,(AC89+AJ31*D19)/AN38,(AC90+AJ31*D19)/AO38)*AP38","v":{"$error":"#VALUE!"}},{"$f":"MIN((AD86+AJ31*D19)/AK38,(AD87+AJ31*D19)/AL38,(AD88+AJ31*D19)/AM38,(AD89+AJ31*D19)/AN38,(AD90+AJ31*D19)/AO38)*AP38","v":{"$error":"#VALUE!"}},{"$f":"MIN((AE86+AJ31*D19)/AK38,(AE87+AJ31*D19)/AL38,(AE88+AJ31*D19)/AM38,(AE89+AJ31*D19)/AN38,(AE90+AJ31*D19)/AO38)*AP38","v":{"$error":"#VALUE!"}},{"$f":"MIN((AF86+AJ31*D19)/AK38,(AF87+AJ31*D19)/AL38,(AF88+AJ31*D19)/AM38,(AF89+AJ31*D19)/AN38,(AF90+AJ31*D19)/AO38)*AP38","v":{"$error":"#VALUE!"}},{"$error":"#VALUE!"},null,"",{"$f":"MIN((S86+AK31*D19)/AK39,(S87+AK31*D19)/AL39,(S88+AK31*D19)/AM39,(S89+AK31*D19)/AN39,(S90+AK31*D19)/AO39)*AP39","v":{"$error":"#VALUE!"}},{"$f":"MIN((T86+AK31*D19)/AK39,(T87+AK31*D19)/AL39,(T88+AK31*D19)/AM39,(T89+AK31*D19)/AN39,(T90+AK31*D19)/AO39)*AP39","v":{"$error":"#VALUE!"}},{"$f":"MIN((U86+AK31*D19)/AK39,(U87+AK31*D19)/AL39,(U88+AK31*D19)/AM39,(U89+AK31*D19)/AN39,(U90+AK31*D19)/AO39)*AP39","v":{"$error":"#VALUE!"}},{"$f":"MIN((V86+AK31*D19)/AK39,(V87+AK31*D19)/AL39,(V88+AK31*D19)/AM39,(V89+AK31*D19)/AN39,(V90+AK31*D19)/AO39)*AP39","v":{"$error":"#VALUE!"}},{"$f":"MIN((W86+AK31*D19)/AK39,(W87+AK31*D19)/AL39,(W88+AK31*D19)/AM39,(W89+AK31*D19)/AN39,(W90+AK31*D19)/AO39)*AP39","v":{"$error":"#VALUE!"}},{"$f":"MIN((X86+AK31*D19)/AK39,(X87+AK31*D19)/AL39,(X88+AK31*D19)/AM39,(X89+AK31*D19)/AN39,(X90+AK31*D19)/AO39)*AP39","v":{"$error":"#VALUE!"}},{"$f":"MIN((Y86+AK31*D19)/AK39,(Y87+AK31*D19)/AL39,(Y88+AK31*D19)/AM39,(Y89+AK31*D19)/AN39,(Y90+AK31*D19)/AO39)*AP39","v":{"$error":"#VALUE!"}},{"$f":"MIN((Z86+AK31*D19)/AK39,(Z87+AK31*D19)/AL39,(Z88+AK31*D19)/AM39,(Z89+AK31*D19)/AN39,(Z90+AK31*D19)/AO39)*AP39","v":{"$error":"#VALUE!"}},{"$f":"MIN((AA86+AK31*D19)/AK39,(AA87+AK31*D19)/AL39,(AA88+AK31*D19)/AM39,(AA89+AK31*D19)/AN39,(AA90+AK31*D19)/AO39)*AP39","v":{"$error":"#VALUE!"}},{"$f":"MIN((AB86+AK31*D19)/AK39,(AB87+AK31*D19)/AL39,(AB88+AK31*D19)/AM39,(AB89+AK31*D19)/AN39,(AB90+AK31*D19)/AO39)*AP39","v":{"$error":"#VALUE!"}},{"$f":"MIN((AC86+AK31*D19)/AK39,(AC87+AK31*D19)/AL39,(AC88+AK31*D19)/AM39,(AC89+AK31*D19)/AN39,(AC90+AK31*D19)/AO39)*AP39","v":{"$error":"#VALUE!"}},{"$f":"MIN((AD86+AK31*D19)/AK39,(AD87+AK31*D19)/AL39,(AD88+AK31*D19)/AM39,(AD89+AK31*D19)/AN39,(AD90+AK31*D19)/AO39)*AP39","v":{"$error":"#VALUE!"}},{"$f":"MIN((AE86+AK31*D19)/AK39,(AE87+AK31*D19)/AL39,(AE88+AK31*D19)/AM39,(AE89+AK31*D19)/AN39,(AE90+AK31*D19)/AO39)*AP39","v":{"$error":"#VALUE!"}},{"$f":"MIN((AF86+AK31*D19)/AK39,(AF87+AK31*D19)/AL39,(AF88+AK31*D19)/AM39,(AF89+AK31*D19)/AN39,(AF90+AK31*D19)/AO39)*AP39","v":{"$error":"#VALUE!"}},{"$error":"#VALUE!"},null,null,{"$f":"IF(E26=C31,F46,IF(E26=C32,I46,IF(E26=C33,L46,erreur)))","v":0.68115000000000003},null,{"$f":"IF(E26=C31,G46,IF(E26=C32,J46,IF(E26=C33,M46,erreur)))","v":0.68115000000000003},null,{"$f":"BS56+BU56","v":1.3623000000000001}]
[null,null,null,null,"541 defensif","541 neutre","541 offensif","433 defensif","433 neutre","433 offensif","352 defensif","352 neutre","352 offensif","442 defensif","442 neutre","442 offensif",null,{"$f":"G11","v":""},{"$f":"Q9","v":"kit 1"},"kit 2A","kit 2B","kit 4A","kit 4B","kit 5","kit 6A","kit 6B","kit 7","kit 8","kit 9A","kit 9B",{"$f":"AC9","v":"kit 10"},{"$f":"AD9","v":"kit 11"},null,null,null,"",{"$f":"MIN((S93+AJ31*D19)/AK38,(S94+AJ31*D19)/AL38,(S95+AJ31*D19)/AM38,(S96+AJ31*D19)/AN38,(S97+AJ31*D19)/AO38)*AP38","v":{"$error":"#VALUE!"}},{"$f":"MIN((T93+AJ31*D19)/AK38,(T94+AJ31*D19)/AL38,(T95+AJ31*D19)/AM38,(T96+AJ31*D19)/AN38,(T97+AJ31*D19)/AO38)*AP38","v":{"$error":"#VALUE!"}},{"$f":"MIN((U93+AJ31*D19)/AK38,(U94+AJ31*D19)/AL38,(U95+AJ31*D19)/AM38,(U96+AJ31*D19)/AN38,(U97+AJ31*D19)/AO38)*AP38","v":{"$error":"#VALUE!"}},{"$f":"MIN((V93+AJ31*D19)/AK38,(V94+AJ31*D19)/AL38,(V95+AJ31*D19)/AM38,(V96+AJ31*D19)/AN38,(V97+AJ31*D19)/AO38)*AP38","v":{"$error":"#VALUE!"}},{"$f":"MIN((W93+AJ31*D19)/AK38,(W94+AJ31*D19)/AL38,(W95+AJ31*D19)/AM38,(W96+AJ31*D19)/AN38,(W97+AJ31*D19)/AO38)*AP38","v":{"$error":"#VALUE!"}},{"$f":"MIN((X93+AJ31*D19)/AK38,(X94+AJ31*D19)/AL38,(X95+AJ31*D19)/AM38,(X96+AJ31*D19)/AN38,(X97+AJ31*D19)/AO38)*AP38","v":{"$error":"#VALUE!"}},{"$f":"MIN((Y93+AJ31*D19)/AK38,(Y94+AJ31*D19)/AL38,(Y95+AJ31*D19)/AM38,(Y96+AJ31*D19)/AN38,(Y97+AJ31*D19)/AO38)*AP38","v":{"$error":"#VALUE!"}},{"$f":"MIN((Z93+AJ31*D19)/AK38,(Z94+AJ31*D19)/AL38,(Z95+AJ31*D19)/AM38,(Z96+AJ31*D19)/AN38,(Z97+AJ31*D19)/AO38)*AP38","v":{"$error":"#VALUE!"}},{"$f":"MIN((AA93+AJ31*D19)/AK38,(AA94+AJ31*D19)/AL38,(AA95+AJ31*D19)/AM38,(AA96+AJ31*D19)/AN38,(AA97+AJ31*D19)/AO38)*AP38","v":{"$error":"#VALUE!"}},{"$f":"MIN((AB93+AJ31*D19)/AK38,(AB94+AJ31*D19)/AL38,(AB95+AJ31*D19)/AM38,(AB96+AJ31*D19)/AN38,(AB97+AJ31*D19)/AO38)*AP38","v":{"$error":"#VALUE!"}},{"$f":"MIN((AC93+AJ31*D19)/AK38,(AC94+AJ31*D19)/AL38,(AC95+AJ31*D19)/AM38,(AC96+AJ31*D19)/AN38,(AC97+AJ31*D19)/AO38)*AP38","v":{"$error":"#VALUE!"}},{"$f":"MIN((AD93+AJ31*D19)/AK38,(AD94+AJ31*D19)/AL38,(AD95+AJ31*D19)/AM38,(AD96+AJ31*D19)/AN38,(AD97+AJ31*D19)/AO38)*AP38","v":{"$error":"#VALUE!"}},{"$f":"MIN((AE93+AJ31*D19)/AK38,(AE94+AJ31*D19)/AL38,(AE95+AJ31*D19)/AM38,(AE96+AJ31*D19)/AN38,(AE97+AJ31*D19)/AO38)*AP38","v":{"$error":"#VALUE!"}},{"$f":"MIN((AF93+AJ31*D19)/AK38,(AF94+AJ31*D19)/AL38,(AF95+AJ31*D19)/AM38,(AF96+AJ31*D19)/AN38,(AF97+AJ31*D19)/AO38)*AP38","v":{"$error":"#VALUE!"}},{"$error":"#VALUE!"},null,"",{"$f":"MIN((S93+AK31*D19)/AK39,(S94+AK31*D19)/AL39,(S95+AK31*D19)/AM39,(S96+AK31*D19)/AN39,(S97+AK31*D19)/AO39)*AP39","v":{"$error":"#VALUE!"}},{"$f":"MIN((T93+AK31*D19)/AK39,(T94+AK31*D19)/AL39,(T95+AK31*D19)/AM39,(T96+AK31*D19)/AN39,(T97+AK31*D19)/AO39)*AP39","v":{"$error":"#VALUE!"}},{"$f":"MIN((U93+AK31*D19)/AK39,(U94+AK31*D19)/AL39,(U95+AK31*D19)/AM39,(U96+AK31*D19)/AN39,(U97+AK31*D19)/AO39)*AP39","v":{"$error":"#VALUE!"}},{"$f":"MIN((V93+AK31*D19)/AK39,(V94+AK31*D19)/AL39,(V95+AK31*D19)/AM39,(V96+AK31*D19)/AN39,(V97+AK31*D19)/AO39)*AP39","v":{"$error":"#VALUE!"}},{"$f":"MIN((W93+AK31*D19)/AK39,(W94+AK31*D19)/AL39,(W95+AK31*D19)/AM39,(W96+AK31*D19)/AN39,(W97+AK31*D19)/AO39)*AP39","v":{"$error":"#VALUE!"}},{"$f":"MIN((X93+AK31*D19)/AK39,(X94+AK31*D19)/AL39,(X95+AK31*D19)/AM39,(X96+AK31*D19)/AN39,(X97+AK31*D19)/AO39)*AP39","v":{"$error":"#VALUE!"}},{"$f":"MIN((Y93+AK31*D19)/AK39,(Y94+AK31*D19)/AL39,(Y95+AK31*D19)/AM39,(Y96+AK31*D19)/AN39,(Y97+AK31*D19)/AO39)*AP39","v":{"$error":"#VALUE!"}},{"$f":"MIN((Z93+AK31*D19)/AK39,(Z94+AK31*D19)/AL39,(Z95+AK31*D19)/AM39,(Z96+AK31*D19)/AN39,(Z97+AK31*D19)/AO39)*AP39","v":{"$error":"#VALUE!"}},{"$f":"MIN((AA93+AK31*D19)/AK39,(AA94+AK31*D19)/AL39,(AA95+AK31*D19)/AM39,(AA96+AK31*D19)/AN39,(AA97+AK31*D19)/AO39)*AP39","v":{"$error":"#VALUE!"}},{"$f":"MIN((AB93+AK31*D19)/AK39,(AB94+AK31*D19)/AL39,(AB95+AK31*D19)/AM39,(AB96+AK31*D19)/AN39,(AB97+AK31*D19)/AO39)*AP39","v":{"$error":"#VALUE!"}},{"$f":"MIN((AC93+AK31*D19)/AK39,(AC94+AK31*D19)/AL39,(AC95+AK31*D19)/AM39,(AC96+AK31*D19)/AN39,(AC97+AK31*D19)/AO39)*AP39","v":{"$error":"#VALUE!"}},{"$f":"MIN((AD93+AK31*D19)/AK39,(AD94+AK31*D19)/AL39,(AD95+AK31*D19)/AM39,(AD96+AK31*D19)/AN39,(AD97+AK31*D19)/AO39)*AP39","v":{"$error":"#VALUE!"}},{"$f":"MIN((AE93+AK31*D19)/AK39,(AE94+AK31*D19)/AL39,(AE95+AK31*D19)/AM39,(AE96+AK31*D19)/AN39,(AE97+AK31*D19)/AO39)*AP39","v":{"$error":"#VALUE!"}},{"$f":"MIN((AF93+AK31*D19)/AK39,(AF94+AK31*D19)/AL39,(AF95+AK31*D19)/AM39,(AF96+AK31*D19)/AN39,(AF97+AK31*D19)/AO39)*AP39","v":{"$error":"#VALUE!"}},{"$error":"#VALUE!"},null,null,{"$f":"IF(E26=C31,F47,IF(E26=C32,I47,IF(E26=C33,L47,erreur)))","v":0.68115000000000003},null,{"$f":"IF(E26=C31,G47,IF(E26=C32,J47,IF(E26=C33,M47,erreur)))","v":0.68115000000000003},null,1.3623000000000001]
[null,null,null,null,{"$f":"AND(E25=C26,E26=C31)","v":false},{"$f":"AND(E25=C26,E26=C32)","v":false},{"$f":"AND(E25=C26,E26=C33)","v":false},{"$f":"AND(E25=C27,E26=C31)","v":true},{"$f":"AND(E25=C27,E26=C32)","v":false},{"$f":"AND(E25=C27,E26=C33)","v":false},{"$f":"AND(E25=C28,E26=C31)","v":false},{"$f":"AND(E25=C28,E26=C32)","v":false},{"$f":"AND(E25=C28,E26=C33)","v":false},{"$f":"AND(E25=C29,E26=C31)","v":false},{"$f":"AND(E25=C29,E26=C32)","v":false},{"$f":"AND(E25=D29,E26=C33)","v":false},null,{"$f":"H11+AH39+D16+D17+D21+D19*AG8","v":{"$error":"#VALUE!"}},{"$f":"Q10+R58","v":{"$error":"#VALUE!"}},{"$f":"R58+R10","v":{"$error":"#VALUE!"}},{"$f":"R58+S10","v":{"$error":"#VALUE!"}},{"$f":"R58+T10","v":{"$error":"#VALUE!"}},{"$f":"R58+U10","v":{"$error":"#VALUE!"}},{"$f":"R58+V10","v":{"$error":"#VALUE!"}},{"$f":"R58+W10","v":{"$error":"#VALUE!"}},{"$f":"R58+X10","v":{"$error":"#VALUE!"}},{"$f":"R58+Y10","v":{"$error":"#VALUE!"}},{"$f":"R58+Z10","v":{"$error":"#VALUE!"}},{"$f":"R58+AA10","v":{"$error":"#VALUE!"}},{"$f":"R58+AB10","v":{"$error":"#VALUE!"}},{"$f":"R58+AC10","v":{"$error":"#VALUE!"}},{"$f":"R58+AD10","v":{"$error":"#VALUE!"}},null,null,null,"",{"$f":"MIN((S100+AJ31*D19)/AK38,(S101+AJ31*D19)/AL38,(S102+AJ31*D19)/AM38,(S103+AJ31*D19)/AN38,(S104+AJ31*D19)/AO38)*AP38","v":{"$error":"#VALUE!"}},{"$f":"MIN((T100+AJ31*D19)/AK38,(T101+AJ31*D19)/AL38,(T102+AJ31*D19)/AM38,(T103+AJ31*D19)/AN38,(T104+AJ31*D19)/AO38)*AP38","v":{"$error":"#VALUE!"}},{"$f":"MIN((U100+AJ31*D19)/AK38,(U101+AJ31*D19)/AL38,(U102+AJ31*D19)/AM38,(U103+AJ31*D19)/AN38,(U104+AJ31*D19)/AO38)*AP38","v":{"$error":"#VALUE!"}},{"$f":"MIN((V100+AJ31*D19)/AK38,(V101+AJ31*D19)/AL38,(V102+AJ31*D19)/AM38,(V103+AJ31*D19)/AN38,(V104+AJ31*D19)/AO38)*AP38","v":{"$error":"#VALUE!"}},{"$f":"MIN((W100+AJ31*D19)/AK38,(W101+AJ31*D19)/AL38,(W102+AJ31*D19)/AM38,(W103+AJ31*D19)/AN38,(W104+AJ31*D19)/AO38)*AP38","v":{"$error":"#VALUE!"}},{"$f":"MIN((X100+AJ31*D19)/AK38,(X101+AJ31*D19)/AL38,(X102+AJ31*D19)/AM38,(X103+AJ31*D19)/AN38,(X104+AJ31*D19)/AO38)*AP38","v":{"$error":"#VALUE!"}},{"$f":"MIN((Y100+AJ31*D19)/AK38,(Y101+AJ31*D19)/AL38,(Y102+AJ31*D19)/AM38,(Y103+AJ31*D19)/AN38,(Y104+AJ31*D19)/AO38)*AP38","v":{"$error":"#VALUE!"}},{"$f":"MIN((Z100+AJ31*D19)/AK38,(Z101+AJ31*D19)/AL38,(Z102+AJ31*D19)/AM38,(Z103+AJ31*D19)/AN38,(Z104+AJ31*D19)/AO38)*AP38","v":{"$error":"#VALUE!"}},{"$f":"MIN((AA100+AJ31*D19)/AK38,(AA101+AJ31*D19)/AL38,(AA102+AJ31*D19)/AM38,(AA103+AJ31*D19)/AN38,(AA104+AJ31*D19)/AO38)*AP38","v":{"$error":"#VALUE!"}},{"$f":"MIN((AB100+AJ31*D19)/AK38,(AB101+AJ31*D19)/AL38,(AB102+AJ31*D19)/AM38,(AB103+AJ31*D19)/AN38,(AB104+AJ31*D19)/AO38)*AP38","v":{"$error":"#VALUE!"}},{"$f":"MIN((AC100+AJ31*D19)/AK38,(AC101+AJ31*D19)/AL38,(AC102+AJ31*D19)/AM38,(AC103+AJ31*D19)/AN38,(AC104+AJ31*D19)/AO38)*AP38","v":{"$error":"#VALUE!"}},{"$f":"MIN((AD100+AJ31*D19)/AK38,(AD101+AJ31*D19)/AL38,(AD102+AJ31*D19)/AM38,(AD103+AJ31*D19)/AN38,(AD104+AJ31*D19)/AO38)*AP38","v":{"$error":"#VALUE!"}},{"$f":"MIN((AE100+AJ31*D19)/AK38,(AE101+AJ31*D19)/AL38,(AE102+AJ31*D19)/AM38,(AE103+AJ31*D19)/AN38,(AE104+AJ31*D19)/AO38)*AP38","v":{"$error":"#VALUE!"}},{"$f":"MIN((AF100+AJ31*D19)/AK38,(AF101+AJ31*D19)/AL38,(AF102+AJ31*D19)/AM38,(AF103+AJ31*D19)/AN38,(AF104+AJ31*D19)/AO38)*AP38","v":{"$error":"#VALUE!"}},{"$error":"#VALUE!"},null,"",{"$f":"MIN((S100+AK31*D19)/AK39,(S101+AK31*D19)/AL39,(S102+AK31*D19)/AM39,(S103+AK31*D19)/AN39,(S104+AK31*D19)/AO39)*AP39","v":{"$error":"#VALUE!"}},{"$f":"MIN((T100+AK31*D19)/AK39,(T101+AK31*D19)/AL39,(T102+AK31*D19)/AM39,(T103+AK31*D19)/AN39,(T104+AK31*D19)/AO39)*AP39","v":{"$error":"#VALUE!"}},{"$f":"MIN((U100+AK31*D19)/AK39,(U101+AK31*D19)/AL39,(U102+AK31*D19)/AM39,(U103+AK31*D19)/AN39,(U104+AK31*D19)/AO39)*AP39","v":{"$error":"#VALUE!"}},{"$f":"MIN((V100+AK31*D19)/AK39,(V101+AK31*D19)/AL39,(V102+AK31*D19)/AM39,(V103+AK31*D19)/AN39,(V104+AK31*D19)/AO39)*AP39","v":{"$error":"#VALUE!"}},{"$f":"MIN((W100+AK31*D19)/AK39,(W101+AK31*D19)/AL39,(W102+AK31*D19)/AM39,(W103+AK31*D19)/AN39,(W104+AK31*D19)/AO39)*AP39","v":{"$error":"#VALUE!"}},{"$f":"MIN((X100+AK31*D19)/AK39,(X101+AK31*D19)/AL39,(X102+AK31*D19)/AM39,(X103+AK31*D19)/AN39,(X104+AK31*D19)/AO39)*AP39","v":{"$error":"#VALUE!"}},{"$f":"MIN((Y100+AK31*D19)/AK39,(Y101+AK31*D19)/AL39,(Y102+AK31*D19)/AM39,(Y103+AK31*D19)/AN39,(Y104+AK31*D19)/AO39)*AP39","v":{"$error":"#VALUE!"}},{"$f":"MIN((Z100+AK31*D19)/AK39,(Z101+AK31*D19)/AL39,(Z102+AK31*D19)/AM39,(Z103+AK31*D19)/AN39,(Z104+AK31*D19)/AO39)*AP39","v":{"$error":"#VALUE!"}},{"$f":"MIN((AA100+AK31*D19)/AK39,(AA101+AK31*D19)/AL39,(AA102+AK31*D19)/AM39,(AA103+AK31*D19)/AN39,(AA104+AK31*D19)/AO39)*AP39","v":{"$error":"#VALUE!"}},{"$f":"MIN((AB100+AK31*D19)/AK39,(AB101+AK31*D19)/AL39,(AB102+AK31*D19)/AM39,(AB103+AK31*D19)/AN39,(AB104+AK31*D19)/AO39)*AP39","v":{"$error":"#VALUE!"}},{"$f":"MIN((AC100+AK31*D19)/AK39,(AC101+AK31*D19)/AL39,(AC102+AK31*D19)/AM39,(AC103+AK31*D19)/AN39,(AC104+AK31*D19)/AO39)*AP39","v":{"$error":"#VALUE!"}},{"$f":"MIN((AD100+AK31*D19)/AK39,(AD101+AK31*D19)/AL39,(AD102+AK31*D19)/AM39,(AD103+AK31*D19)/AN39,(AD104+AK31*D19)/AO39)*AP39","v":{"$error":"#VALUE!"}},{"$f":"MIN((AE100+AK31*D19)/AK39,(AE101+AK31*D19)/AL39,(AE102+AK31*D19)/AM39,(AE103+AK31*D19)/AN39,(AE104+AK31*D19)/AO39)*AP39","v":{"$error":"#VALUE!"}},{"$f":"MIN((AF100+AK31*D19)/AK39,(AF101+AK31*D19)/AL39,(AF102+AK31*D19)/AM39,(AF103+AK31*D19)/AN39,(AF104+AK31*D19)/AO39)*AP39","v":{"$error":"#VALUE!"}},{"$error":"#VALUE!"},null,null,{"$f":"IF(E26=C31,F48,IF(E26=C32,I48,IF(E26=C33,L48,erreur)))","v":0.18165000000000001},null,{"$f":"IF(E26=C31,G48,IF(E26=C32,J48,IF(E26=C33,M48,erreur)))","v":0.72660000000000002},null,0.90825]
[null,null,null,"coefficient stat brute pour 1% / tactique",null,null,null,null,null,null,null,null,null,null,null,null,null,{"$f":"I11+AH40+D15+D17+D21+D19*AG8","v":{"$error":"#VALUE!"}},{"$f":"Q11+R59","v":{"$error":"#VALUE!"}},{"$f":"R59+R11","v":{"$error":"#VALUE!"}},{"$f":"R59+S11","v":{"$error":"#VALUE!"}},{"$f":"R59+T11","v":{"$error":"#VALUE!"}},{"$f":"R59+U11","v":{"$error":"#VALUE!"}},{"$f":"R59+V11","v":{"$error":"#VALUE!"}},{"$f":"R59+W11","v":{"$error":"#VALUE!"}},{"$f":"R59+X11","v":{"$error":"#VALUE!"}},{"$f":"R59+Y11","v":{"$error":"#VALUE!"}},{"$f":"R59+Z11","v":{"$error":"#VALUE!"}},{"$f":"R59+AA11","v":{"$error":"#VALUE!"}},{"$f":"R59+AB11","v":{"$error":"#VALUE!"}},{"$f":"R59+AC11","v":{"$error":"#VALUE!"}},{"$f":"R59+AD11","v":{"$error":"#VALUE!"}},null,null,null,"",{"$f":"MIN((S107+AJ31*D19)/AK38,(S108+AJ31*D19)/AL38,(S109+AJ31*D19)/AM38,(S110+AJ31*D19)/AN38,(S111+AJ31*D19)/AO38)*AP38","v":{"$error":"#VALUE!"}},{"$f":"MIN((T107+AJ31*D19)/AK38,(T108+AJ31*D19)/AL38,(T109+AJ31*D19)/AM38,(T110+AJ31*D19)/AN38,(T111+AJ31*D19)/AO38)*AP38","v":{"$error":"#VALUE!"}},{"$f":"MIN((U107+AJ31*D19)/AK38,(U108+AJ31*D19)/AL38,(U109+AJ31*D19)/AM38,(U110+AJ31*D19)/AN38,(U111+AJ31*D19)/AO38)*AP38","v":{"$error":"#VALUE!"}},{"$f":"MIN((V107+AJ31*D19)/AK38,(V108+AJ31*D19)/AL38,(V109+AJ31*D19)/AM38,(V110+AJ31*D19)/AN38,(V111+AJ31*D19)/AO38)*AP38","v":{"$error":"#VALUE!"}},{"$f":"MIN((W107+AJ31*D19)/AK38,(W108+AJ31*D19)/AL38,(W109+AJ31*D19)/AM38,(W110+AJ31*D19)/AN38,(W111+AJ31*D19)/AO38)*AP38","v":{"$error":"#VALUE!"}},{"$f":"MIN((X107+AJ31*D19)/AK38,(X108+AJ31*D19)/AL38,(X109+AJ31*D19)/AM38,(X110+AJ31*D19)/AN38,(X111+AJ31*D19)/AO38)*AP38","v":{"$error":"#VALUE!"}},{"$f":"MIN((Y107+AJ31*D19)/AK38,(Y108+AJ31*D19)/AL38,(Y109+AJ31*D19)/AM38,(Y110+AJ31*D19)/AN38,(Y111+AJ31*D19)/AO38)*AP38","v":{"$error":"#VALUE!"}},{"$f":"MIN((Z107+AJ31*D19)/AK38,(Z108+AJ31*D19)/AL38,(Z109+AJ31*D19)/AM38,(Z110+AJ31*D19)/AN38,(Z111+AJ31*D19)/AO38)*AP38","v":{"$error":"#VALUE!"}},{"$f":"MIN((AA107+AJ31*D19)/AK38,(AA108+AJ31*D19)/AL38,(AA109+AJ31*D19)/AM38,(AA110+AJ31*D19)/AN38,(AA111+AJ31*D19)/AO38)*AP38","v":{"$error":"#VALUE!"}},{"$f":"MIN((AB107+AJ31*D19)/AK38,(AB108+AJ31*D19)/AL38,(AB109+AJ31*D19)/AM38,(AB110+AJ31*D19)/AN38,(AB111+AJ31*D19)/AO38)*AP38","v":{"$error":"#VALUE!"}},{"$f":"MIN((AC107+AJ31*D19)/AK38,(AC108+AJ31*D19)/AL38,(AC109+AJ31*D19)/AM38,(AC110+AJ31*D19)/AN38,(AC111+AJ31*D19)/AO38)*AP38","v":{"$error":"#VALUE!"}},{"$f":"MIN((AD107+AJ31*D19)/AK38,(AD108+AJ31*D19)/AL38,(AD109+AJ31*D19)/AM38,(AD110+AJ31*D19)/AN38,(AD111+AJ31*D19)/AO38)*AP38","v":{"$error":"#VALUE!"}},{"$f":"MIN((AE107+AJ31*D19)/AK38,(AE108+AJ31*D19)/AL38,(AE109+AJ31*D19)/AM38,(AE110+AJ31*D19)/AN38,(AE111+AJ31*D19)/AO38)*AP38","v":{"$error":"#VALUE!"}},{"$f":"MIN((AF107+AJ31*D19)/AK38,(AF108+AJ31*D19)/AL38,(AF109+AJ31*D19)/AM38,(AF110+AJ31*D19)/AN38,(AF111+AJ31*D19)/AO38)*AP38","v":{"$error":"#VALUE!"}},{"$error":"#VALUE!"},null,"",{"$f":"MIN((S107+AK31*D19)/AK39,(S108+AK31*D19)/AL39,(S109+AK31*D19)/AM39,(S110+AK31*D19)/AN39,(S111+AK31*D19)/AO39)*AP39","v":{"$error":"#VALUE!"}},{"$f":"MIN((T107+AK31*D19)/AK39,(T108+AK31*D19)/AL39,(T109+AK31*D19)/AM39,(T110+AK31*D19)/AN39,(T111+AK31*D19)/AO39)*AP39","v":{"$error":"#VALUE!"}},{"$f":"MIN((U107+AK31*D19)/AK39,(U108+AK31*D19)/AL39,(U109+AK31*D19)/AM39,(U110+AK31*D19)/AN39,(U111+AK31*D19)/AO39)*AP39","v":{"$error":"#VALUE!"}},{"$f":"MIN((V107+AK31*D19)/AK39,(V108+AK31*D19)/AL39,(V109+AK31*D19)/AM39,(V110+AK31*D19)/AN39,(V111+AK31*D19)/AO39)*AP39","v":{"$error":"#VALUE!"}},{"$f":"MIN((W107+AK31*D19)/AK39,(W108+AK31*D19)/AL39,(W109+AK31*D19)/AM39,(W110+AK31*D19)/AN39,(W111+AK31*D19)/AO39)*AP39","v":{"$error":"#VALUE!"}},{"$f":"MIN((X107+AK31*D19)/AK39,(X108+AK31*D19)/AL39,(X109+AK31*D19)/AM39,(X110+AK31*D19)/AN39,(X111+AK31*D19)/AO39)*AP39","v":{"$error":"#VALUE!"}},{"$f":"MIN((Y107+AK31*D19)/AK39,(Y108+AK31*D19)/AL39,(Y109+AK31*D19)/AM39,(Y110+AK31*D19)/AN39,(Y111+AK31*D19)/AO39)*AP39","v":{"$error":"#VALUE!"}},{"$f":"MIN((Z107+AK31*D19)/AK39,(Z108+AK31*D19)/AL39,(Z109+AK31*D19)/AM39,(Z110+AK31*D19)/AN39,(Z111+AK31*D19)/AO39)*AP39","v":{"$error":"#VALUE!"}},{"$f":"MIN((AA107+AK31*D19)/AK39,(AA108+AK31*D19)/AL39,(AA109+AK31*D19)/AM39,(AA110+AK31*D19)/AN39,(AA111+AK31*D19)/AO39)*AP39","v":{"$error":"#VALUE!"}},{"$f":"MIN((AB107+AK31*D19)/AK39,(AB108+AK31*D19)/AL39,(AB109+AK31*D19)/AM39,(AB110+AK31*D19)/AN39,(AB111+AK31*D19)/AO39)*AP39","v":{"$error":"#VALUE!"}},{"$f":"MIN((AC107+AK31*D19)/AK39,(AC108+AK31*D19)/AL39,(AC109+AK31*D19)/AM39,(AC110+AK31*D19)/AN39,(AC111+AK31*D19)/AO39)*AP39","v":{"$error":"#VALUE!"}},{"$f":"MIN((AD107+AK31*D19)/AK39,(AD108+AK31*D19)/AL39,(AD109+AK31*D19)/AM39,(AD110+AK31*D19)/AN39,(AD111+AK31*D19)/AO39)*AP39","v":{"$error":"#VALUE!"}},{"$f":"MIN((AE107+AK31*D19)/AK39,(AE108+AK31*D19)/AL39,(AE109+AK31*D19)/AM39,(AE110+AK31*D19)/AN39,(AE111+AK31*D19)/AO39)*AP39","v":{"$error":"#VALUE!"}},{"$f":"MIN((AF107+AK31*D19)/AK39,(AF108+AK31*D19)/AL39,(AF109+AK31*D19)/AM39,(AF110+AK31*D19)/AN39,(AF111+AK31*D19)/AO39)*AP39","v":{"$error":"#VALUE!"}},{"$error":"#VALUE!"},null,null,{"$f":"IF(E26=C31,F49,IF(E26=C32,I49,IF(E26=C33,L49,erreur)))","v":0.40870000000000001},null,{"$f":"IF(E26=C31,G49,IF(E26=C32,J49,IF(E26=C33,M49,erreur)))","v":0.95365},null,1.3623499999999999]
[null,null,null,null,"541 défensif",null,null,"433 défensif",null,null,"352 défensif",null,null,"442 défensif",null,null,null,{"$f":"J11+AH41+D15+D17+D21+D19*AG8","v":{"$error":"#VALUE!"}},{"$f":"Q12+R60","v":{"$error":"#VALUE!"}},{"$f":"R60+R12","v":{"$error":"#VALUE!"}},{"$f":"R60+S12","v":{"$error":"#VALUE!"}},{"$f":"R60+T12","v":{"$error":"#VALUE!"}},{"$f":"R60+U12","v":{"$error":"#VALUE!"}},{"$f":"R60+V12","v":{"$error":"#VALUE!"}},{"$f":"R60+W12","v":{"$error":"#VALUE!"}},{"$f":"R60+X12","v":{"$error":"#VALUE!"}},{"$f":"R60+Y12","v":{"$error":"#VALUE!"}},{"$f":"R60+Z12","v":{"$error":"#VALUE!"}},{"$f":"R60+AA12","v":{"$error":"#VALUE!"}},{"$f":"R60+AB12","v":{"$error":"#VALUE!"}},{"$f":"R60+AC12","v":{"$error":"#VALUE!"}},{"$f":"R60+AD12","v":{"$error":"#VALUE!"}},null,null,null,"",{"$f":"MIN((S114+AJ31*D19)/AK38,(S115+AJ31*D19)/AL38,(S116+AJ31*D19)/AM38,(S117+AJ31*D19)/AN38,(S118+AJ31*D19)/AO38)*AP38","v":{"$error":"#VALUE!"}},{"$f":"MIN((T114+AJ31*D19)/AK38,(T115+AJ31*D19)/AL38,(T116+AJ31*D19)/AM38,(T117+AJ31*D19)/AN38,(T118+AJ31*D19)/AO38)*AP38","v":{"$error":"#VALUE!"}},{"$f":"MIN((U114+AJ31*D19)/AK38,(U115+AJ31*D19)/AL38,(U116+AJ31*D19)/AM38,(U117+AJ31*D19)/AN38,(U118+AJ31*D19)/AO38)*AP38","v":{"$error":"#VALUE!"}},{"$f":"MIN((V114+AJ31*D19)/AK38,(V115+AJ31*D19)/AL38,(V116+AJ31*D19)/AM38,(V117+AJ31*D19)/AN38,(V118+AJ31*D19)/AO38)*AP38","v":{"$error":"#VALUE!"}},{"$f":"MIN((W114+AJ31*D19)/AK38,(W115+AJ31*D19)/AL38,(W116+AJ31*D19)/AM38,(W117+AJ31*D19)/AN38,(W118+AJ31*D19)/AO38)*AP38","v":{"$error":"#VALUE!"}},{"$f":"MIN((X114+AJ31*D19)/AK38,(X115+AJ31*D19)/AL38,(X116+AJ31*D19)/AM38,(X117+AJ31*D19)/AN38,(X118+AJ31*D19)/AO38)*AP38","v":{"$error":"#VALUE!"}},{"$f":"MIN((Y114+AJ31*D19)/AK38,(Y115+AJ31*D19)/AL38,(Y116+AJ31*D19)/AM38,(Y117+AJ31*D19)/AN38,(Y118+AJ31*D19)/AO38)*AP38","v":{"$error":"#VALUE!"}},{"$f":"MIN((Z114+AJ31*D19)/AK38,(Z115+AJ31*D19)/AL38,(Z116+AJ31*D19)/AM38,(Z117+AJ31*D19)/AN38,(Z118+AJ31*D19)/AO38)*AP38","v":{"$error":"#VALUE!"}},{"$f":"MIN((AA114+AJ31*D19)/AK38,(AA115+AJ31*D19)/AL38,(AA116+AJ31*D19)/AM38,(AA117+AJ31*D19)/AN38,(AA118+AJ31*D19)/AO38)*AP38","v":{"$error":"#VALUE!"}},{"$f":"MIN((AB114+AJ31*D19)/AK38,(AB115+AJ31*D19)/AL38,(AB116+AJ31*D19)/AM38,(AB117+AJ31*D19)/AN38,(AB118+AJ31*D19)/AO38)*AP38","v":{"$error":"#VALUE!"}},{"$f":"MIN((AC114+AJ31*D19)/AK38,(AC115+AJ31*D19)/AL38,(AC116+AJ31*D19)/AM38,(AC117+AJ31*D19)/AN38,(AC118+AJ31*D19)/AO38)*AP38","v":{"$error":"#VALUE!"}},{"$f":"MIN((AD114+AJ31*D19)/AK38,(AD115+AJ31*D19)/AL38,(AD116+AJ31*D19)/AM38,(AD117+AJ31*D19)/AN38,(AD118+AJ31*D19)/AO38)*AP38","v":{"$error":"#VALUE!"}},{"$f":"MIN((AE114+AJ31*D19)/AK38,(AE115+AJ31*D19)/AL38,(AE116+AJ31*D19)/AM38,(AE117+AJ31*D19)/AN38,(AE118+AJ31*D19)/AO38)*AP38","v":{"$error":"#VALUE!"}},{"$f":"MIN((AF114+AJ31*D19)/AK38,(AF115+AJ31*D19)/AL38,(AF116+AJ31*D19)/AM38,(AF117+AJ31*D19)/AN38,(AF118+AJ31*D19)/AO38)*AP38","v":{"$error":"#VALUE!"}},{"$error":"#VALUE!"},null,"",{"$f":"MIN((S114+AK31*D19)/AK39,(S115+AK31*D19)/AL39,(S116+AK31*D19)/AM39,(S117+AK31*D19)/AN39,(S118+AK31*D19)/AO39)*AP39","v":{"$error":"#VALUE!"}},{"$f":"MIN((T114+AK31*D19)/AK39,(T115+AK31*D19)/AL39,(T116+AK31*D19)/AM39,(T117+AK31*D19)/AN39,(T118+AK31*D19)/AO39)*AP39","v":{"$error":"#VALUE!"}},{"$f":"MIN((U114+AK31*D19)/AK39,(U115+AK31*D19)/AL39,(U116+AK31*D19)/AM39,(U117+AK31*D19)/AN39,(U118+AK31*D19)/AO39)*AP39","v":{"$error":"#VALUE!"}},{"$f":"MIN((V114+AK31*D19)/AK39,(V115+AK31*D19)/AL39,(V116+AK31*D19)/AM39,(V117+AK31*D19)/AN39,(V118+AK31*D19)/AO39)*AP39","v":{"$error":"#VALUE!"}},{"$f":"MIN((W114+AK31*D19)/AK39,(W115+AK31*D19)/AL39,(W116+AK31*D19)/AM39,(W117+AK31*D19)/AN39,(W118+AK31*D19)/AO39)*AP39","v":{"$error":"#VALUE!"}},{"$f":"MIN((X114+AK31*D19)/AK39,(X115+AK31*D19)/AL39,(X116+AK31*D19)/AM39,(X117+AK31*D19)/AN39,(X118+AK31*D19)/AO39)*AP39","v":{"$error":"#VALUE!"}},{"$f":"MIN((Y114+AK31*D19)/AK39,(Y115+AK31*D19)/AL39,(Y116+AK31*D19)/AM39,(Y117+AK31*D19)/AN39,(Y118+AK31*D19)/AO39)*AP39","v":{"$error":"#VALUE!"}},{"$f":"MIN((Z114+AK31*D19)/AK39,(Z115+AK31*D19)/AL39,(Z116+AK31*D19)/AM39,(Z117+AK31*D19)/AN39,(Z118+AK31*D19)/AO39)*AP39","v":{"$error":"#VALUE!"}},{"$f":"MIN((AA114+AK31*D19)/AK39,(AA115+AK31*D19)/AL39,(AA116+AK31*D19)/AM39,(AA117+AK31*D19)/AN39,(AA118+AK31*D19)/AO39)*AP39","v":{"$error":"#VALUE!"}},{"$f":"MIN((AB114+AK31*D19)/AK39,(AB115+AK31*D19)/AL39,(AB116+AK31*D19)/AM39,(AB117+AK31*D19)/AN39,(AB118+AK31*D19)/AO39)*AP39","v":{"$error":"#VALUE!"}},{"$f":"MIN((AC114+AK31*D19)/AK39,(AC115+AK31*D19)/AL39,(AC116+AK31*D19)/AM39,(AC117+AK31*D19)/AN39,(AC118+AK31*D19)/AO39)*AP39","v":{"$error":"#VALUE!"}},{"$f":"MIN((AD114+AK31*D19)/AK39,(AD115+AK31*D19)/AL39,(AD116+AK31*D19)/AM39,(AD117+AK31*D19)/AN39,(AD118+AK31*D19)/AO39)*AP39","v":{"$error":"#VALUE!"}},{"$f":"MIN((AE114+AK31*D19)/AK39,(AE115+AK31*D19)/AL39,(AE116+AK31*D19)/AM39,(AE117+AK31*D19)/AN39,(AE118+AK31*D19)/AO39)*AP39","v":{"$error":"#VALUE!"}},{"$f":"MIN((AF114+AK31*D19)/AK39,(AF115+AK31*D19)/AL39,(AF116+AK31*D19)/AM39,(AF117+AK31*D19)/AN39,(AF118+AK31*D19)/AO39)*AP39","v":{"$error":"#VALUE!"}},{"$error":"#VALUE!"},null,null,{"$f":"IF(E26=C31,F50,IF(E26=C32,I50,IF(E26=C33,L50,erreur)))","v":0.81740000000000002},null,{"$f":"IF(E26=C31,G50,IF(E26=C32,J50,IF(E26=C33,M50,erreur)))","v":0.54495000000000005},null,1.3623500000000002]
[null,null,null,null,"1% attaque","1% defense","1% cumulé","1% attaque","1% defense","1% cumulé","1% attaque","1% defense","1% cumulé","1% attaque","1% defense","1% cumulé",null,{"$f":"K11+AH42+D16+D17+D21+D19*AG8","v":{"$error":"#VALUE!"}},{"$f":"Q13+R61","v":{"$error":"#VALUE!"}},{"$f":"R61+R13","v":{"$error":"#VALUE!"}},{"$f":"R61+S13","v":{"$error":"#VALUE!"}},{"$f":"R61+T13","v":{"$error":"#VALUE!"}},{"$f":"R61+U13","v":{"$error":"#VALUE!"}},{"$f":"R61+V13","v":{"$error":"#VALUE!"}},{"$f":"R61+W13","v":{"$error":"#VALUE!"}},{"$f":"R61+X13","v":{"$error":"#VALUE!"}},{"$f":"R61+Y13","v":{"$error":"#VALUE!"}},{"$f":"R61+Z13","v":{"$error":"#VALUE!"}},{"$f":"R61+AA13","v":{"$error":"#VALUE!"}},{"$f":"R61+AB13","v":{"$error":"#VALUE!"}},{"$f":"R61+AC13","v":{"$error":"#VALUE!"}},{"$f":"R61+AD13","v":{"$error":"#VALUE!"}},null,null,null,"",{"$f":"MIN((S121+AJ31*D19)/AK38,(S122+AJ31*D19)/AL38,(S123+AJ31*D19)/AM38,(S124+AJ31*D19)/AN38,(S125+AJ31*D19)/AO38)*AP38","v":{"$error":"#VALUE!"}},{"$f":"MIN((T121+AJ31*D19)/AK38,(T122+AJ31*D19)/AL38,(T123+AJ31*D19)/AM38,(T124+AJ31*D19)/AN38,(T125+AJ31*D19)/AO38)*AP38","v":{"$error":"#VALUE!"}},{"$f":"MIN((U121+AJ31*D19)/AK38,(U122+AJ31*D19)/AL38,(U123+AJ31*D19)/AM38,(U124+AJ31*D19)/AN38,(U125+AJ31*D19)/AO38)*AP38","v":{"$error":"#VALUE!"}},{"$f":"MIN((V121+AJ31*D19)/AK38,(V122+AJ31*D19)/AL38,(V123+AJ31*D19)/AM38,(V124+AJ31*D19)/AN38,(V125+AJ31*D19)/AO38)*AP38","v":{"$error":"#VALUE!"}},{"$f":"MIN((W121+AJ31*D19)/AK38,(W122+AJ31*D19)/AL38,(W123+AJ31*D19)/AM38,(W124+AJ31*D19)/AN38,(W125+AJ31*D19)/AO38)*AP38","v":{"$error":"#VALUE!"}},{"$f":"MIN((X121+AJ31*D19)/AK38,(X122+AJ31*D19)/AL38,(X123+AJ31*D19)/AM38,(X124+AJ31*D19)/AN38,(X125+AJ31*D19)/AO38)*AP38","v":{"$error":"#VALUE!"}},{"$f":"MIN((Y121+AJ31*D19)/AK38,(Y122+AJ31*D19)/AL38,(Y123+AJ31*D19)/AM38,(Y124+AJ31*D19)/AN38,(Y125+AJ31*D19)/AO38)*AP38","v":{"$error":"#VALUE!"}},{"$f":"MIN((Z121+AJ31*D19)/AK38,(Z122+AJ31*D19)/AL38,(Z123+AJ31*D19)/AM38,(Z124+AJ31*D19)/AN38,(Z125+AJ31*D19)/AO38)*AP38","v":{"$error":"#VALUE!"}},{"$f":"MIN((AA121+AJ31*D19)/AK38,(AA122+AJ31*D19)/AL38,(AA123+AJ31*D19)/AM38,(AA124+AJ31*D19)/AN38,(AA125+AJ31*D19)/AO38)*AP38","v":{"$error":"#VALUE!"}},{"$f":"MIN((AB121+AJ31*D19)/AK38,(AB122+AJ31*D19)/AL38,(AB123+AJ31*D19)/AM38,(AB124+AJ31*D19)/AN38,(AB125+AJ31*D19)/AO38)*AP38","v":{"$error":"#VALUE!"}},{"$f":"MIN((AC121+AJ31*D19)/AK38,(AC122+AJ31*D19)/AL38,(AC123+AJ31*D19)/AM38,(AC124+AJ31*D19)/AN38,(AC125+AJ31*D19)/AO38)*AP38","v":{"$error":"#VALUE!"}},{"$f":"MIN((AD121+AJ31*D19)/AK38,(AD122+AJ31*D19)/AL38,(AD123+AJ31*D19)/AM38,(AD124+AJ31*D19)/AN38,(AD125+AJ31*D19)/AO38)*AP38","v":{"$error":"#VALUE!"}},{"$f":"MIN((AE121+AJ31*D19)/AK38,(AE122+AJ31*D19)/AL38,(AE123+AJ31*D19)/AM38,(AE124+AJ31*D19)/AN38,(AE125+AJ31*D19)/AO38)*AP38","v":{"$error":"#VALUE!"}},{"$f":"MIN((AF121+AJ31*D19)/AK38,(AF122+AJ31*D19)/AL38,(AF123+AJ31*D19)/AM38,(AF124+AJ31*D19)/AN38,(AF125+AJ31*D19)/AO38)*AP38","v":{"$error":"#VALUE!"}},{"$error":"#VALUE!"},null,"",{"$f":"MIN((S121+AK31*D19)/AK39,(S122+AK31*D19)/AL39,(S123+AK31*D19)/AM39,(S124+AK31*D19)/AN39,(S125+AK31*D19)/AO39)*AP39","v":{"$error":"#VALUE!"}},{"$f":"MIN((T121+AK31*D19)/AK39,(T122+AK31*D19)/AL39,(T123+AK31*D19)/AM39,(T124+AK31*D19)/AN39,(T125+AK31*D19)/AO39)*AP39","v":{"$error":"#VALUE!"}},{"$f":"MIN((U121+AK31*D19)/AK39,(U122+AK31*D19)/AL39,(U123+AK31*D19)/AM39,(U124+AK31*D19)/AN39,(U125+AK31*D19)/AO39)*AP39","v":{"$error":"#VALUE!"}},{"$f":"MIN((V121+AK31*D19)/AK39,(V122+AK31*D19)/AL39,(V123+AK31*D19)/AM39,(V124+AK31*D19)/AN39,(V125+AK31*D19)/AO39)*AP39","v":{"$error":"#VALUE!"}},{"$f":"MIN((W121+AK31*D19)/AK39,(W122+AK31*D19)/AL39,(W123+AK31*D19)/AM39,(W124+AK31*D19)/AN39,(W125+AK31*D19)/AO39)*AP39","v":{"$error":"#VALUE!"}},{"$f":"MIN((X121+AK31*D19)/AK39,(X122+AK31*D19)/AL39,(X123+AK31*D19)/AM39,(X124+AK31*D19)/AN39,(X125+AK31*D19)/AO39)*AP39","v":{"$error":"#VALUE!"}},{"$f":"MIN((Y121+AK31*D19)/AK39,(Y122+AK31*D19)/AL39,(Y123+AK31*D19)/AM39,(Y124+AK31*D19)/AN39,(Y125+AK31*D19)/AO39)*AP39","v":{"$error":"#VALUE!"}},{"$f":"MIN((Z121+AK31*D19)/AK39,(Z122+AK31*D19)/AL39,(Z123+AK31*D19)/AM39,(Z124+AK31*D19)/AN39,(Z125+AK31*D19)/AO39)*AP39","v":{"$error":"#VALUE!"}},{"$f":"MIN((AA121+AK31*D19)/AK39,(AA122+AK31*D19)/AL39,(AA123+AK31*D19)/AM39,(AA124+AK31*D19)/AN39,(AA125+AK31*D19)/AO39)*AP39","v":{"$error":"#VALUE!"}},{"$f":"MIN((AB121+AK31*D19)/AK39,(AB122+AK31*D19)/AL39,(AB123+AK31*D19)/AM39,(AB124+AK31*D19)/AN39,(AB125+AK31*D19)/AO39)*AP39","v":{"$error":"#VALUE!"}},{"$f":"MIN((AC121+AK31*D19)/AK39,(AC122+AK31*D19)/AL39,(AC123+AK31*D19)/AM39,(AC124+AK31*D19)/AN39,(AC125+AK31*D19)/AO39)*AP39","v":{"$error":"#VALUE!"}},{"$f":"MIN((AD121+AK31*D19)/AK39,(AD122+AK31*D19)/AL39,(AD123+AK31*D19)/AM39,(AD124+AK31*D19)/AN39,(AD125+AK31*D19)/AO39)*AP39","v":{"$error":"#VALUE!"}},{"$f":"MIN((AE121+AK31*D19)/AK39,(AE122+AK31*D19)/AL39,(AE123+AK31*D19)/AM39,(AE124+AK31*D19)/AN39,(AE125+AK31*D19)/AO39)*AP39","v":{"$error":"#VALUE!"}},{"$f":"MIN((AF121+AK31*D19)/AK39,(AF122+AK31*D19)/AL39,(AF123+AK31*D19)/AM39,(AF124+AK31*D19)/AN39,(AF125+AK31*D19)/AO39)*AP39","v":{"$error":"#VALUE!"}},{"$error":"#VALUE!"},null,null,{"$f":"IF(E26=C31,F51,IF(E26=C32,I51,IF(E26=C33,L51,erreur)))","v":0.81415000000000004},null,{"$f":"IF(E26=C31,G51,IF(E26=C32,J51,IF(E26=C33,M51,erreur)))","v":0.54274999999999995},null,1.3569]
[null,null,null,null,5.4449999999999998E-2,2.6702499999999998,{"$f":"E62+F62","v":2.7246999999999999},5.4449999999999998E-2,2.6702499999999998,{"$f":"H62+I62","v":2.7246999999999999},5.4449999999999998E-2,2.6702499999999998,{"$f":"K62+L62","v":2.7246999999999999},5.4449999999999998E-2,2.6702499999999998,{"$f":"N62+O62","v":2.7246999999999999},null,{"$f":"L11+AH43+D15+D17+D21+D19*AG8","v":{"$error":"#VALUE!"}},{"$f":"Q14+R62","v":{"$error":"#VALUE!"}},{"$f":"R62+R14","v":{"$error":"#VALUE!"}},{"$f":"R62+S14","v":{"$error":"#VALUE!"}},{"$f":"R62+T14","v":{"$error":"#VALUE!"}},{"$f":"R62+U14","v":{"$error":"#VALUE!"}},{"$f":"R62+V14","v":{"$error":"#VALUE!"}},{"$f":"R62+W14","v":{"$error":"#VALUE!"}},{"$f":"R62+X14","v":{"$error":"#VALUE!"}},{"$f":"R62+Y14","v":{"$error":"#VALUE!"}},{"$f":"R62+Z14","v":{"$error":"#VALUE!"}},{"$f":"R62+AA14","v":{"$error":"#VALUE!"}},{"$f":"R62+AB14","v":{"$error":"#VALUE!"}},{"$f":"R62+AC14","v":{"$error":"#VALUE!"}},{"$f":"R62+AD14","v":{"$error":"#VALUE!"}},null,null,null,"",{"$f":"MIN((S128+AJ31*D19)/AK38,(S129+AJ31*D19)/AL38,(S130+AJ31*D19)/AM38,(S131+AJ31*D19)/AN38,(S132+AJ31*D19)/AO38)*AP38","v":{"$error":"#VALUE!"}},{"$f":"MIN((T128+AJ31*D19)/AK38,(T129+AJ31*D19)/AL38,(T130+AJ31*D19)/AM38,(T131+AJ31*D19)/AN38,(T132+AJ31*D19)/AO38)*AP38","v":{"$error":"#VALUE!"}},{"$f":"MIN((U128+AJ31*D19)/AK38,(U129+AJ31*D19)/AL38,(U130+AJ31*D19)/AM38,(U131+AJ31*D19)/AN38,(U132+AJ31*D19)/AO38)*AP38","v":{"$error":"#VALUE!"}},{"$f":"MIN((V128+AJ31*D19)/AK38,(V129+AJ31*D19)/AL38,(V130+AJ31*D19)/AM38,(V131+AJ31*D19)/AN38,(V132+AJ31*D19)/AO38)*AP38","v":{"$error":"#VALUE!"}},{"$f":"MIN((W128+AJ31*D19)/AK38,(W129+AJ31*D19)/AL38,(W130+AJ31*D19)/AM38,(W131+AJ31*D19)/AN38,(W132+AJ31*D19)/AO38)*AP38","v":{"$error":"#VALUE!"}},{"$f":"MIN((X128+AJ31*D19)/AK38,(X129+AJ31*D19)/AL38,(X130+AJ31*D19)/AM38,(X131+AJ31*D19)/AN38,(X132+AJ31*D19)/AO38)*AP38","v":{"$error":"#VALUE!"}},{"$f":"MIN((Y128+AJ31*D19)/AK38,(Y129+AJ31*D19)/AL38,(Y130+AJ31*D19)/AM38,(Y131+AJ31*D19)/AN38,(Y132+AJ31*D19)/AO38)*AP38","v":{"$error":"#VALUE!"}},{"$f":"MIN((Z128+AJ31*D19)/AK38,(Z129+AJ31*D19)/AL38,(Z130+AJ31*D19)/AM38,(Z131+AJ31*D19)/AN38,(Z132+AJ31*D19)/AO38)*AP38","v":{"$error":"#VALUE!"}},{"$f":"MIN((AA128+AJ31*D19)/AK38,(AA129+AJ31*D19)/AL38,(AA130+AJ31*D19)/AM38,(AA131+AJ31*D19)/AN38,(AA132+AJ31*D19)/AO38)*AP38","v":{"$error":"#VALUE!"}},{"$f":"MIN((AB128+AJ31*D19)/AK38,(AB129+AJ31*D19)/AL38,(AB130+AJ31*D19)/AM38,(AB131+AJ31*D19)/AN38,(AB132+AJ31*D19)/AO38)*AP38","v":{"$error":"#VALUE!"}},{"$f":"MIN((AC128+AJ31*D19)/AK38,(AC129+AJ31*D19)/AL38,(AC130+AJ31*D19)/AM38,(AC131+AJ31*D19)/AN38,(AC132+AJ31*D19)/AO38)*AP38","v":{"$error":"#VALUE!"}},{"$f":"MIN((AD128+AJ31*D19)/AK38,(AD129+AJ31*D19)/AL38,(AD130+AJ31*D19)/AM38,(AD131+AJ31*D19)/AN38,(AD132+AJ31*D19)/AO38)*AP38","v":{"$error":"#VALUE!"}},{"$f":"MIN((AE128+AJ31*D19)/AK38,(AE129+AJ31*D19)/AL38,(AE130+AJ31*D19)/AM38,(AE131+AJ31*D19)/AN38,(AE132+AJ31*D19)/AO38)*AP38","v":{"$error":"#VALUE!"}},{"$f":"MIN((AF128+AJ31*D19)/AK38,(AF129+AJ31*D19)/AL38,(AF130+AJ31*D19)/AM38,(AF131+AJ31*D19)/AN38,(AF132+AJ31*D19)/AO38)*AP38","v":{"$error":"#VALUE!"}},{"$error":"#VALUE!"},null,"",{"$f":"MIN((S128+AK31*D19)/AK39,(S129+AK31*D19)/AL39,(S130+AK31*D19)/AM39,(S131+AK31*D19)/AN39,(S132+AK31*D19)/AO39)*AP39","v":{"$error":"#VALUE!"}},{"$f":"MIN((T128+AK31*D19)/AK39,(T129+AK31*D19)/AL39,(T130+AK31*D19)/AM39,(T131+AK31*D19)/AN39,(T132+AK31*D19)/AO39)*AP39","v":{"$error":"#VALUE!"}},{"$f":"MIN((U128+AK31*D19)/AK39,(U129+AK31*D19)/AL39,(U130+AK31*D19)/AM39,(U131+AK31*D19)/AN39,(U132+AK31*D19)/AO39)*AP39","v":{"$error":"#VALUE!"}},{"$f":"MIN((V128+AK31*D19)/AK39,(V129+AK31*D19)/AL39,(V130+AK31*D19)/AM39,(V131+AK31*D19)/AN39,(V132+AK31*D19)/AO39)*AP39","v":{"$error":"#VALUE!"}},{"$f":"MIN((W128+AK31*D19)/AK39,(W129+AK31*D19)/AL39,(W130+AK31*D19)/AM39,(W131+AK31*D19)/AN39,(W132+AK31*D19)/AO39)*AP39","v":{"$error":"#VALUE!"}},{"$f":"MIN((X128+AK31*D19)/AK39,(X129+AK31*D19)/AL39,(X130+AK31*D19)/AM39,(X131+AK31*D19)/AN39,(X132+AK31*D19)/AO39)*AP39","v":{"$error":"#VALUE!"}},{"$f":"MIN((Y128+AK31*D19)/AK39,(Y129+AK31*D19)/AL39,(Y130+AK31*D19)/AM39,(Y131+AK31*D19)/AN39,(Y132+AK31*D19)/AO39)*AP39","v":{"$error":"#VALUE!"}},{"$f":"MIN((Z128+AK31*D19)/AK39,(Z129+AK31*D19)/AL39,(Z130+AK31*D19)/AM39,(Z131+AK31*D19)/AN39,(Z132+AK31*D19)/AO39)*AP39","v":{"$error":"#VALUE!"}},{"$f":"MIN((AA128+AK31*D19)/AK39,(AA129+AK31*D19)/AL39,(AA130+AK31*D19)/AM39,(AA131+AK31*D19)/AN39,(AA132+AK31*D19)/AO39)*AP39","v":{"$error":"#VALUE!"}},{"$f":"MIN((AB128+AK31*D19)/AK39,(AB129+AK31*D19)/AL39,(AB130+AK31*D19)/AM39,(AB131+AK31*D19)/AN39,(AB132+AK31*D19)/AO39)*AP39","v":{"$error":"#VALUE!"}},{"$f":"MIN((AC128+AK31*D19)/AK39,(AC129+AK31*D19)/AL39,(AC130+AK31*D19)/AM39,(AC131+AK31*D19)/AN39,(AC132+AK31*D19)/AO39)*AP39","v":{"$error":"#VALUE!"}},{"$f":"MIN((AD128+AK31*D19)/AK39,(AD129+AK31*D19)/AL39,(AD130+AK31*D19)/AM39,(AD131+AK31*D19)/AN39,(AD132+AK31*D19)/AO39)*AP39","v":{"$error":"#VALUE!"}},{"$f":"MIN((AE128+AK31*D19)/AK39,(AE129+AK31*D19)/AL39,(AE130+AK31*D19)/AM39,(AE131+AK31*D19)/AN39,(AE132+AK31*D19)/AO39)*AP39","v":{"$error":"#VALUE!"}},{"$f":"MIN((AF128+AK31*D19)/AK39,(AF129+AK31*D19)/AL39,(AF130+AK31*D19)/AM39,(AF131+AK31*D19)/AN39,(AF132+AK31*D19)/AO39)*AP39","v":{"$error":"#VALUE!"}},{"$error":"#VALUE!"},null,null,{"$f":"IF(E26=C31,F52,IF(E26=C32,I52,IF(E26=C33,L52,erreur)))","v":1.6348499999999999},null,{"$f":"IF(E26=C31,G52,IF(E26=C32,J52,IF(E26=C33,M52,erreur)))","v":1.0899000000000001},null,2.7247500000000002]
[null,null,null,null,0.27245000000000003,1.0899000000000001,{"$f":"E63+F63","v":1.3623500000000002},0.68115000000000003,0.68115000000000003,1.3623000000000001,0.90825,1.3623499999999999,{"$f":"K63+L63","v":2.2706},0.40870000000000001,0.95365,1.3623499999999999,null,null,null,null,null,null,null,null,null,null,null,null,null,null,null,null,null,null,null,"",{"$f":"MIN((S135+AJ31*D19)/AK38,(S136+AJ31*D19)/AL38,(S137+AJ31*D19)/AM38,(S138+AJ31*D19)/AN38,(S139+AJ31*D19)/AO38)*AP38","v":{"$error":"#VALUE!"}},{"$f":"MIN((T135+AJ31*D19)/AK38,(T136+AJ31*D19)/AL38,(T137+AJ31*D19)/AM38,(T138+AJ31*D19)/AN38,(T139+AJ31*D19)/AO38)*AP38","v":{"$error":"#VALUE!"}},{"$f":"MIN((U135+AJ31*D19)/AK38,(U136+AJ31*D19)/AL38,(U137+AJ31*D19)/AM38,(U138+AJ31*D19)/AN38,(U139+AJ31*D19)/AO38)*AP38","v":{"$error":"#VALUE!"}},{"$f":"MIN((V135+AJ31*D19)/AK38,(V136+AJ31*D19)/AL38,(V137+AJ31*D19)/AM38,(V138+AJ31*D19)/AN38,(V139+AJ31*D19)/AO38)*AP38","v":{"$error":"#VALUE!"}},{"$f":"MIN((W135+AJ31*D19)/AK38,(W136+AJ31*D19)/AL38,(W137+AJ31*D19)/AM38,(W138+AJ31*D19)/AN38,(W139+AJ31*D19)/AO38)*AP38","v":{"$error":"#VALUE!"}},{"$f":"MIN((X135+AJ31*D19)/AK38,(X136+AJ31*D19)/AL38,(X137+AJ31*D19)/AM38,(X138+AJ31*D19)/AN38,(X139+AJ31*D19)/AO38)*AP38","v":{"$error":"#VALUE!"}},{"$f":"MIN((Y135+AJ31*D19)/AK38,(Y136+AJ31*D19)/AL38,(Y137+AJ31*D19)/AM38,(Y138+AJ31*D19)/AN38,(Y139+AJ31*D19)/AO38)*AP38","v":{"$error":"#VALUE!"}},{"$f":"MIN((Z135+AJ31*D19)/AK38,(Z136+AJ31*D19)/AL38,(Z137+AJ31*D19)/AM38,(Z138+AJ31*D19)/AN38,(Z139+AJ31*D19)/AO38)*AP38","v":{"$error":"#VALUE!"}},{"$f":"MIN((AA135+AJ31*D19)/AK38,(AA136+AJ31*D19)/AL38,(AA137+AJ31*D19)/AM38,(AA138+AJ31*D19)/AN38,(AA139+AJ31*D19)/AO38)*AP38","v":{"$error":"#VALUE!"}},{"$f":"MIN((AB135+AJ31*D19)/AK38,(AB136+AJ31*D19)/AL38,(AB137+AJ31*D19)/AM38,(AB138+AJ31*D19)/AN38,(AB139+AJ31*D19)/AO38)*AP38","v":{"$error":"#VALUE!"}},{"$f":"MIN((AC135+AJ31*D19)/AK38,(AC136+AJ31*D19)/AL38,(AC137+AJ31*D19)/AM38,(AC138+AJ31*D19)/AN38,(AC139+AJ31*D19)/AO38)*AP38","v":{"$error":"#VALUE!"}},{"$f":"MIN((AD135+AJ31*D19)/AK38,(AD136+AJ31*D19)/AL38,(AD137+AJ31*D19)/AM38,(AD138+AJ31*D19)/AN38,(AD139+AJ31*D19)/AO38)*AP38","v":{"$error":"#VALUE!"}},{"$f":"MIN((AE135+AJ31*D19)/AK38,(AE136+AJ31*D19)/AL38,(AE137+AJ31*D19)/AM38,(AE138+AJ31*D19)/AN38,(AE139+AJ31*D19)/AO38)*AP38","v":{"$error":"#VALUE!"}},{"$f":"MIN((AF135+AJ31*D19)/AK38,(AF136+AJ31*D19)/AL38,(AF137+AJ31*D19)/AM38,(AF138+AJ31*D19)/AN38,(AF139+AJ31*D19)/AO38)*AP38","v":{"$error":"#VALUE!"}},{"$error":"#VALUE!"},null,"",{"$f":"MIN((S135+AK31*D19)/AK39,(S136+AK31*D19)/AL39,(S137+AK31*D19)/AM39,(S138+AK31*D19)/AN39,(S139+AK31*D19)/AO39)*AP39","v":{"$error":"#VALUE!"}},{"$f":"MIN((T135+AK31*D19)/AK39,(T136+AK31*D19)/AL39,(T137+AK31*D19)/AM39,(T138+AK31*D19)/AN39,(T139+AK31*D19)/AO39)*AP39","v":{"$error":"#VALUE!"}},{"$f":"MIN((U135+AK31*D19)/AK39,(U136+AK31*D19)/AL39,(U137+AK31*D19)/AM39,(U138+AK31*D19)/AN39,(U139+AK31*D19)/AO39)*AP39","v":{"$error":"#VALUE!"}},{"$f":"MIN((V135+AK31*D19)/AK39,(V136+AK31*D19)/AL39,(V137+AK31*D19)/AM39,(V138+AK31*D19)/AN39,(V139+AK31*D19)/AO39)*AP39","v":{"$error":"#VALUE!"}},{"$f":"MIN((W135+AK31*D19)/AK39,(W136+AK31*D19)/AL39,(W137+AK31*D19)/AM39,(W138+AK31*D19)/AN39,(W139+AK31*D19)/AO39)*AP39","v":{"$error":"#VALUE!"}},{"$f":"MIN((X135+AK31*D19)/AK39,(X136+AK31*D19)/AL39,(X137+AK31*D19)/AM39,(X138+AK31*D19)/AN39,(X139+AK31*D19)/AO39)*AP39","v":{"$error":"#VALUE!"}},{"$f":"MIN((Y135+AK31*D19)/AK39,(Y136+AK31*D19)/AL39,(Y137+AK31*D19)/AM39,(Y138+AK31*D19)/AN39,(Y139+AK31*D19)/AO39)*AP39","v":{"$error":"#VALUE!"}},{"$f":"MIN((Z135+AK31*D19)/AK39,(Z136+AK31*D19)/AL39,(Z137+AK31*D19)/AM39,(Z138+AK31*D19)/AN39,(Z139+AK31*D19)/AO39)*AP39","v":{"$error":"#VALUE!"}},{"$f":"MIN((AA135+AK31*D19)/AK39,(AA136+AK31*D19)/AL39,(AA137+AK31*D19)/AM39,(AA138+AK31*D19)/AN39,(AA139+AK31*D19)/AO39)*AP39","v":{"$error":"#VALUE!"}},{"$f":"MIN((AB135+AK31*D19)/AK39,(AB136+AK31*D19)/AL39,(AB137+AK31*D19)/AM39,(AB138+AK31*D19)/AN39,(AB139+AK31*D19)/AO39)*AP39","v":{"$error":"#VALUE!"}},{"$f":"MIN((AC135+AK31*D19)/AK39,(AC136+AK31*D19)/AL39,(AC137+AK31*D19)/AM39,(AC138+AK31*D19)/AN39,(AC139+AK31*D19)/AO39)*AP39","v":{"$error":"#VALUE!"}},{"$f":"MIN((AD135+AK31*D19)/AK39,(AD136+AK31*D19)/AL39,(AD137+AK31*D19)/AM39,(AD138+AK31*D19)/AN39,(AD139+AK31*D19)/AO39)*AP39","v":{"$error":"#VALUE!"}},{"$f":"MIN((AE135+AK31*D19)/AK39,(AE136+AK31*D19)/AL39,(AE137+AK31*D19)/AM39,(AE138+AK31*D19)/AN39,(AE139+AK31*D19)/AO39)*AP39","v":{"$error":"#VALUE!"}},{"$f":"MIN((AF135+AK31*D19)/AK39,(AF136+AK31*D19)/AL39,(AF137+AK31*D19)/AM39,(AF138+AK31*D19)/AN39,(AF139+AK31*D19)/AO39)*AP39","v":{"$error":"#VALUE!"}},{"$error":"#VALUE!"},null,null,{"$f":"IF(E26=C31,F53,IF(E26=C32,I53,IF(E26=C33,L53,erreur)))","v":2.0435500000000002},null,{"$f":"IF(E26=C31,G53,IF(E26=C32,J53,IF(E26=C33,M53,erreur)))","v":0.22705},null,2.2706000000000004]
[null,null,null,null,0.27245000000000003,1.0899000000000001,1.3623500000000002,0.68115000000000003,0.68115000000000003,1.3623000000000001,0.68115000000000003,1.58945,2.2706,0.40870000000000001,0.95365,1.3623499999999999,null,{"$f":"G12","v":""},{"$f":"S57","v":"kit 1"},{"$f":"T57","v":"kit 2A"},"kit 2B","kit 4A","kit 4B","kit 5","kit 6A","kit 6B","kit 7","kit 8","kit 9A","kit 9B",{"$f":"AE57","v":"kit 10"},{"$f":"AF57","v":"kit 11"},null,null,null,"",{"$f":"MIN((S142+AJ31*D19)/AK38,(S143+AJ31*D19)/AL38,(S144+AJ31*D19)/AM38,(S145+AJ31*D19)/AN38,(S146+AJ31*D19)/AO38)*AP38","v":{"$error":"#VALUE!"}},{"$f":"MIN((T142+AJ31*D19)/AK38,(T143+AJ31*D19)/AL38,(T144+AJ31*D19)/AM38,(T145+AJ31*D19)/AN38,(T146+AJ31*D19)/AO38)*AP38","v":{"$error":"#VALUE!"}},{"$f":"MIN((U142+AJ31*D19)/AK38,(U143+AJ31*D19)/AL38,(U144+AJ31*D19)/AM38,(U145+AJ31*D19)/AN38,(U146+AJ31*D19)/AO38)*AP38","v":{"$error":"#VALUE!"}},{"$f":"MIN((V142+AJ31*D19)/AK38,(V143+AJ31*D19)/AL38,(V144+AJ31*D19)/AM38,(V145+AJ31*D19)/AN38,(V146+AJ31*D19)/AO38)*AP38","v":{"$error":"#VALUE!"}},{"$f":"MIN((W142+AJ31*D19)/AK38,(W143+AJ31*D19)/AL38,(W144+AJ31*D19)/AM38,(W145+AJ31*D19)/AN38,(W146+AJ31*D19)/AO38)*AP38","v":{"$error":"#VALUE!"}},{"$f":"MIN((X142+AJ31*D19)/AK38,(X143+AJ31*D19)/AL38,(X144+AJ31*D19)/AM38,(X145+AJ31*D19)/AN38,(X146+AJ31*D19)/AO38)*AP38","v":{"$error":"#VALUE!"}},{"$f":"MIN((Y142+AJ31*D19)/AK38,(Y143+AJ31*D19)/AL38,(Y144+AJ31*D19)/AM38,(Y145+AJ31*D19)/AN38,(Y146+AJ31*D19)/AO38)*AP38","v":{"$error":"#VALUE!"}},{"$f":"MIN((Z142+AJ31*D19)/AK38,(Z143+AJ31*D19)/AL38,(Z144+AJ31*D19)/AM38,(Z145+AJ31*D19)/AN38,(Z146+AJ31*D19)/AO38)*AP38","v":{"$error":"#VALUE!"}},{"$f":"MIN((AA142+AJ31*D19)/AK38,(AA143+AJ31*D19)/AL38,(AA144+AJ31*D19)/AM38,(AA145+AJ31*D19)/AN38,(AA146+AJ31*D19)/AO38)*AP38","v":{"$error":"#VALUE!"}},{"$f":"MIN((AB142+AJ31*D19)/AK38,(AB143+AJ31*D19)/AL38,(AB144+AJ31*D19)/AM38,(AB145+AJ31*D19)/AN38,(AB146+AJ31*D19)/AO38)*AP38","v":{"$error":"#VALUE!"}},{"$f":"MIN((AC142+AJ31*D19)/AK38,(AC143+AJ31*D19)/AL38,(AC144+AJ31*D19)/AM38,(AC145+AJ31*D19)/AN38,(AC146+AJ31*D19)/AO38)*AP38","v":{"$error":"#VALUE!"}},{"$f":"MIN((AD142+AJ31*D19)/AK38,(AD143+AJ31*D19)/AL38,(AD144+AJ31*D19)/AM38,(AD145+AJ31*D19)/AN38,(AD146+AJ31*D19)/AO38)*AP38","v":{"$error":"#VALUE!"}},{"$f":"MIN((AE142+AJ31*D19)/AK38,(AE143+AJ31*D19)/AL38,(AE144+AJ31*D19)/AM38,(AE145+AJ31*D19)/AN38,(AE146+AJ31*D19)/AO38)*AP38","v":{"$error":"#VALUE!"}},{"$f":"MIN((AF142+AJ31*D19)/AK38,(AF143+AJ31*D19)/AL38,(AF144+AJ31*D19)/AM38,(AF145+AJ31*D19)/AN38,(AF146+AJ31*D19)/AO38)*AP38","v":{"$error":"#VALUE!"}},{"$error":"#VALUE!"},null,"",{"$f":"MIN((S142+AK31*D19)/AK39,(S143+AK31*D19)/AL39,(S144+AK31*D19)/AM39,(S145+AK31*D19)/AN39,(S146+AK31*D19)/AO39)*AP39","v":{"$error":"#VALUE!"}},{"$f":"MIN((T142+AK31*D19)/AK39,(T143+AK31*D19)/AL39,(T144+AK31*D19)/AM39,(T145+AK31*D19)/AN39,(T146+AK31*D19)/AO39)*AP39","v":{"$error":"#VALUE!"}},{"$f":"MIN((U142+AK31*D19)/AK39,(U143+AK31*D19)/AL39,(U144+AK31*D19)/AM39,(U145+AK31*D19)/AN39,(U146+AK31*D19)/AO39)*AP39","v":{"$error":"#VALUE!"}},{"$f":"MIN((V142+AK31*D19)/AK39,(V143+AK31*D19)/AL39,(V144+AK31*D19)/AM39,(V145+AK31*D19)/AN39,(V146+AK31*D19)/AO39)*AP39","v":{"$error":"#VALUE!"}},{"$f":"MIN((W142+AK31*D19)/AK39,(W143+AK31*D19)/AL39,(W144+AK31*D19)/AM39,(W145+AK31*D19)/AN39,(W146+AK31*D19)/AO39)*AP39","v":{"$error":"#VALUE!"}},{"$f":"MIN((X142+AK31*D19)/AK39,(X143+AK31*D19)/AL39,(X144+AK31*D19)/AM39,(X145+AK31*D19)/AN39,(X146+AK31*D19)/AO39)*AP39","v":{"$error":"#VALUE!"}},{"$f":"MIN((Y142+AK31*D19)/AK39,(Y143+AK31*D19)/AL39,(Y144+AK31*D19)/AM39,(Y145+AK31*D19)/AN39,(Y146+AK31*D19)/AO39)*AP39","v":{"$error":"#VALUE!"}},{"$f":"MIN((Z142+AK31*D19)/AK39,(Z143+AK31*D19)/AL39,(Z144+AK31*D19)/AM39,(Z145+AK31*D19)/AN39,(Z146+AK31*D19)/AO39)*AP39","v":{"$error":"#VALUE!"}},{"$f":"MIN((AA142+AK31*D19)/AK39,(AA143+AK31*D19)/AL39,(AA144+AK31*D19)/AM39,(AA145+AK31*D19)/AN39,(AA146+AK31*D19)/AO39)*AP39","v":{"$error":"#VALUE!"}},{"$f":"MIN((AB142+AK31*D19)/AK39,(AB143+AK31*D19)/AL39,(AB144+AK31*D19)/AM39,(AB145+AK31*D19)/AN39,(AB146+AK31*D19)/AO39)*AP39","v":{"$error":"#VALUE!"}},{"$f":"MIN((AC142+AK31*D19)/AK39,(AC143+AK31*D19)/AL39,(AC144+AK31*D19)/AM39,(AC145+AK31*D19)/AN39,(AC146+AK31*D19)/AO39)*AP39","v":{"$error":"#VALUE!"}},{"$f":"MIN((AD142+AK31*D19)/AK39,(AD143+AK31*D19)/AL39,(AD144+AK31*D19)/AM39,(AD145+AK31*D19)/AN39,(AD146+AK31*D19)/AO39)*AP39","v":{"$error":"#VALUE!"}},{"$f":"MIN((AE142+AK31*D19)/AK39,(AE143+AK31*D19)/AL39,(AE144+AK31*D19)/AM39,(AE145+AK31*D19)/AN39,(AE146+AK31*D19)/AO39)*AP39","v":{"$error":"#VALUE!"}},{"$f":"MIN((AF142+AK31*D19)/AK39,(AF143+AK31*D19)/AL39,(AF144+AK31*D19)/AM39,(AF145+AK31*D19)/AN39,(AF146+AK31*D19)/AO39)*AP39","v":{"$error":"#VALUE!"}},{"$error":"#VALUE!"},null,null,{"$f":"IF(E26=C31,F54,IF(E26=C32,I54,IF(E26=C33,L54,erreur)))","v":1.0899000000000001},null,{"$f":"IF(E26=C31,G54,IF(E26=C32,J54,IF(E26=C33,M54,erreur)))","v":0.72660000000000002},null,1.8165]
[null,null,null,null,0.18165000000000001,1.6348499999999999,1.8165,0.18165000000000001,0.72660000000000002,0.90825,0.27245000000000003,0.63575000000000004,0.90820000000000012,0.36330000000000001,1.4532,1.8165,null,{"$f":"H12+AH39+D16+D17+D21+D19*AG9","v":{"$error":"#VALUE!"}},{"$f":"R65+Q10","v":{"$error":"#VALUE!"}},{"$f":"R65+R10","v":{"$error":"#VALUE!"}},{"$f":"R65+S10","v":{"$error":"#VALUE!"}},{"$f":"R65+T10","v":{"$error":"#VALUE!"}},{"$f":"R65+U10","v":{"$error":"#VALUE!"}},{"$f":"R65+V10","v":{"$error":"#VALUE!"}},{"$f":"R65+W10","v":{"$error":"#VALUE!"}},{"$f":"R65+X10","v":{"$error":"#VALUE!"}},{"$f":"R65+Y10","v":{"$error":"#VALUE!"}},{"$f":"R65+Z10","v":{"$error":"#VALUE!"}},{"$f":"R65+AA10","v":{"$error":"#VALUE!"}},{"$f":"R65+AB10","v":{"$error":"#VALUE!"}},{"$f":"R65+AC10","v":{"$error":"#VALUE!"}},{"$f":"R65+AD10","v":{"$error":"#VALUE!"}},null,null,null,"",{"$f":"MIN((S149+AJ31*D19)/AK38,(S150+AJ31*D19)/AL38,(S151+AJ31*D19)/AM38,(S152+AJ31*D19)/AN38,(S153+AJ31*D19)/AO38)*AP38","v":{"$error":"#VALUE!"}},{"$f":"MIN((T149+AJ31*D19)/AK38,(T150+AJ31*D19)/AL38,(T151+AJ31*D19)/AM38,(T152+AJ31*D19)/AN38,(T153+AJ31*D19)/AO38)*AP38","v":{"$error":"#VALUE!"}},{"$f":"MIN((U149+AJ31*D19)/AK38,(U150+AJ31*D19)/AL38,(U151+AJ31*D19)/AM38,(U152+AJ31*D19)/AN38,(U153+AJ31*D19)/AO38)*AP38","v":{"$error":"#VALUE!"}},{"$f":"MIN((V149+AJ31*D19)/AK38,(V150+AJ31*D19)/AL38,(V151+AJ31*D19)/AM38,(V152+AJ31*D19)/AN38,(V153+AJ31*D19)/AO38)*AP38","v":{"$error":"#VALUE!"}},{"$f":"MIN((W149+AJ31*D19)/AK38,(W150+AJ31*D19)/AL38,(W151+AJ31*D19)/AM38,(W152+AJ31*D19)/AN38,(W153+AJ31*D19)/AO38)*AP38","v":{"$error":"#VALUE!"}},{"$f":"MIN((X149+AJ31*D19)/AK38,(X150+AJ31*D19)/AL38,(X151+AJ31*D19)/AM38,(X152+AJ31*D19)/AN38,(X153+AJ31*D19)/AO38)*AP38","v":{"$error":"#VALUE!"}},{"$f":"MIN((Y149+AJ31*D19)/AK38,(Y150+AJ31*D19)/AL38,(Y151+AJ31*D19)/AM38,(Y152+AJ31*D19)/AN38,(Y153+AJ31*D19)/AO38)*AP38","v":{"$error":"#VALUE!"}},{"$f":"MIN((Z149+AJ31*D19)/AK38,(Z150+AJ31*D19)/AL38,(Z151+AJ31*D19)/AM38,(Z152+AJ31*D19)/AN38,(Z153+AJ31*D19)/AO38)*AP38","v":{"$error":"#VALUE!"}},{"$f":"MIN((AA149+AJ31*D19)/AK38,(AA150+AJ31*D19)/AL38,(AA151+AJ31*D19)/AM38,(AA152+AJ31*D19)/AN38,(AA153+AJ31*D19)/AO38)*AP38","v":{"$error":"#VALUE!"}},{"$f":"MIN((AB149+AJ31*D19)/AK38,(AB150+AJ31*D19)/AL38,(AB151+AJ31*D19)/AM38,(AB152+AJ31*D19)/AN38,(AB153+AJ31*D19)/AO38)*AP38","v":{"$error":"#VALUE!"}},{"$f":"MIN((AC149+AJ31*D19)/AK38,(AC150+AJ31*D19)/AL38,(AC151+AJ31*D19)/AM38,(AC152+AJ31*D19)/AN38,(AC153+AJ31*D19)/AO38)*AP38","v":{"$error":"#VALUE!"}},{"$f":"MIN((AD149+AJ31*D19)/AK38,(AD150+AJ31*D19)/AL38,(AD151+AJ31*D19)/AM38,(AD152+AJ31*D19)/AN38,(AD153+AJ31*D19)/AO38)*AP38","v":{"$error":"#VALUE!"}},{"$f":"MIN((AE149+AJ31*D19)/AK38,(AE150+AJ31*D19)/AL38,(AE151+AJ31*D19)/AM38,(AE152+AJ31*D19)/AN38,(AE153+AJ31*D19)/AO38)*AP38","v":{"$error":"#VALUE!"}},{"$f":"MIN((AF149+AJ31*D19)/AK38,(AF150+AJ31*D19)/AL38,(AF151+AJ31*D19)/AM38,(AF152+AJ31*D19)/AN38,(AF153+AJ31*D19)/AO38)*AP38","v":{"$error":"#VALUE!"}},{"$error":"#VALUE!"},null,"",{"$f":"MIN((S149+AK31*D19)/AK39,(S150+AK31*D19)/AL39,(S151+AK31*D19)/AM39,(S152+AK31*D19)/AN39,(S153+AK31*D19)/AO39)*AP39","v":{"$error":"#VALUE!"}},{"$f":"MIN((T149+AK31*D19)/AK39,(T150+AK31*D19)/AL39,(T151+AK31*D19)/AM39,(T152+AK31*D19)/AN39,(T153+AK31*D19)/AO39)*AP39","v":{"$error":"#VALUE!"}},{"$f":"MIN((U149+AK31*D19)/AK39,(U150+AK31*D19)/AL39,(U151+AK31*D19)/AM39,(U152+AK31*D19)/AN39,(U153+AK31*D19)/AO39)*AP39","v":{"$error":"#VALUE!"}},{"$f":"MIN((V149+AK31*D19)/AK39,(V150+AK31*D19)/AL39,(V151+AK31*D19)/AM39,(V152+AK31*D19)/AN39,(V153+AK31*D19)/AO39)*AP39","v":{"$error":"#VALUE!"}},{"$f":"MIN((W149+AK31*D19)/AK39,(W150+AK31*D19)/AL39,(W151+AK31*D19)/AM39,(W152+AK31*D19)/AN39,(W153+AK31*D19)/AO39)*AP39","v":{"$error":"#VALUE!"}},{"$f":"MIN((X149+AK31*D19)/AK39,(X150+AK31*D19)/AL39,(X151+AK31*D19)/AM39,(X152+AK31*D19)/AN39,(X153+AK31*D19)/AO39)*AP39","v":{"$error":"#VALUE!"}},{"$f":"MIN((Y149+AK31*D19)/AK39,(Y150+AK31*D19)/AL39,(Y151+AK31*D19)/AM39,(Y152+AK31*D19)/AN39,(Y153+AK31*D19)/AO39)*AP39","v":{"$error":"#VALUE!"}},{"$f":"MIN((Z149+AK31*D19)/AK39,(Z150+AK31*D19)/AL39,(Z151+AK31*D19)/AM39,(Z152+AK31*D19)/AN39,(Z153+AK31*D19)/AO39)*AP39","v":{"$error":"#VALUE!"}},{"$f":"MIN((AA149+AK31*D19)/AK39,(AA150+AK31*D19)/AL39,(AA151+AK31*D19)/AM39,(AA152+AK31*D19)/AN39,(AA153+AK31*D19)/AO39)*AP39","v":{"$error":"#VALUE!"}},{"$f":"MIN((AB149+AK31*D19)/AK39,(AB150+AK31*D19)/AL39,(AB151+AK31*D19)/AM39,(AB152+AK31*D19)/AN39,(AB153+AK31*D19)/AO39)*AP39","v":{"$error":"#VALUE!"}},{"$f":"MIN((AC149+AK31*D19)/AK39,(AC150+AK31*D19)/AL39,(AC151+AK31*D19)/AM39,(AC152+AK31*D19)/AN39,(AC153+AK31*D19)/AO39)*AP39","v":{"$error":"#VALUE!"}},{"$f":"MIN((AD149+AK31*D19)/AK39,(AD150+AK31*D19)/AL39,(AD151+AK31*D19)/AM39,(AD152+AK31*D19)/AN39,(AD153+AK31*D19)/AO39)*AP39","v":{"$error":"#VALUE!"}},{"$f":"MIN((AE149+AK31*D19)/AK39,(AE150+AK31*D19)/AL39,(AE151+AK31*D19)/AM39,(AE152+AK31*D19)/AN39,(AE153+AK31*D19)/AO39)*AP39","v":{"$error":"#VALUE!"}},{"$f":"MIN((AF149+AK31*D19)/AK39,(AF150+AK31*D19)/AL39,(AF151+AK31*D19)/AM39,(AF152+AK31*D19)/AN39,(AF153+AK31*D19)/AO39)*AP39","v":{"$error":"#VALUE!"}},{"$error":"#VALUE!"},null,null,{"$f":"IF(E26=C31,F55,IF(E26=C32,I55,IF(E26=C33,L55,erreur)))","v":1.6348499999999999},null,{"$f":"IF(E26=C31,G55,IF(E26=C32,J55,IF(E26=C33,M55,erreur)))","v":1.0899000000000001},null,2.7247500000000002]
[null,null,null,null,0.18165000000000001,1.6348499999999999,1.8165,0.40870000000000001,0.95365,1.3623499999999999,0.27245000000000003,0.63575000000000004,0.90820000000000012,0.72660000000000002,1.0899000000000001,1.8165,null,{"$f":"I12+AH40+D15+D17+D21+D19*AG9","v":{"$error":"#VALUE!"}},{"$f":"R66+Q11","v":{"$error":"#VALUE!"}},{"$f":"R66+R11","v":{"$error":"#VALUE!"}},{"$f":"R66+S11","v":{"$error":"#VALUE!"}},{"$f":"R66+T11","v":{"$error":"#VALUE!"}},{"$f":"R66+U11","v":{"$error":"#VALUE!"}},{"$f":"R66+V11","v":{"$error":"#VALUE!"}},{"$f":"R66+W11","v":{"$error":"#VALUE!"}},{"$f":"R66+X11","v":{"$error":"#VALUE!"}},{"$f":"R66+Y11","v":{"$error":"#VALUE!"}},{"$f":"R66+Z11","v":{"$error":"#VALUE!"}},{"$f":"R66+AA11","v":{"$error":"#VALUE!"}},{"$f":"R66+AB11","v":{"$error":"#VALUE!"}},{"$f":"R66+AC11","v":{"$error":"#VALUE!"}},{"$f":"R66+AD11","v":{"$error":"#VALUE!"}},null,null,null,"",{"$f":"MIN((S156+AJ31*D19)/AK38,(S157+AJ31*D19)/AL38,(S158+AJ31*D19)/AM38,(S159+AJ31*D19)/AN38,(S160+AJ31*D19)/AO38)*AP38","v":{"$error":"#VALUE!"}},{"$f":"MIN((T156+AJ31*D19)/AK38,(T157+AJ31*D19)/AL38,(T158+AJ31*D19)/AM38,(T159+AJ31*D19)/AN38,(T160+AJ31*D19)/AO38)*AP38","v":{"$error":"#VALUE!"}},{"$f":"MIN((U156+AJ31*D19)/AK38,(U157+AJ31*D19)/AL38,(U158+AJ31*D19)/AM38,(U159+AJ31*D19)/AN38,(U160+AJ31*D19)/AO38)*AP38","v":{"$error":"#VALUE!"}},{"$f":"MIN((V156+AJ31*D19)/AK38,(V157+AJ31*D19)/AL38,(V158+AJ31*D19)/AM38,(V159+AJ31*D19)/AN38,(V160+AJ31*D19)/AO38)*AP38","v":{"$error":"#VALUE!"}},{"$f":"MIN((W156+AJ31*D19)/AK38,(W157+AJ31*D19)/AL38,(W158+AJ31*D19)/AM38,(W159+AJ31*D19)/AN38,(W160+AJ31*D19)/AO38)*AP38","v":{"$error":"#VALUE!"}},{"$f":"MIN((X156+AJ31*D19)/AK38,(X157+AJ31*D19)/AL38,(X158+AJ31*D19)/AM38,(X159+AJ31*D19)/AN38,(X160+AJ31*D19)/AO38)*AP38","v":{"$error":"#VALUE!"}},{"$f":"MIN((Y156+AJ31*D19)/AK38,(Y157+AJ31*D19)/AL38,(Y158+AJ31*D19)/AM38,(Y159+AJ31*D19)/AN38,(Y160+AJ31*D19)/AO38)*AP38","v":{"$error":"#VALUE!"}},{"$f":"MIN((Z156+AJ31*D19)/AK38,(Z157+AJ31*D19)/AL38,(Z158+AJ31*D19)/AM38,(Z159+AJ31*D19)/AN38,(Z160+AJ31*D19)/AO38)*AP38","v":{"$error":"#VALUE!"}},{"$f":"MIN((AA156+AJ31*D19)/AK38,(AA157+AJ31*D19)/AL38,(AA158+AJ31*D19)/AM38,(AA159+AJ31*D19)/AN38,(AA160+AJ31*D19)/AO38)*AP38","v":{"$error":"#VALUE!"}},{"$f":"MIN((AB156+AJ31*D19)/AK38,(AB157+AJ31*D19)/AL38,(AB158+AJ31*D19)/AM38,(AB159+AJ31*D19)/AN38,(AB160+AJ31*D19)/AO38)*AP38","v":{"$error":"#VALUE!"}},{"$f":"MIN((AC156+AJ31*D19)/AK38,(AC157+AJ31*D19)/AL38,(AC158+AJ31*D19)/AM38,(AC159+AJ31*D19)/AN38,(AC160+AJ31*D19)/AO38)*AP38","v":{"$error":"#VALUE!"}},{"$f":"MIN((AD156+AJ31*D19)/AK38,(AD157+AJ31*D19)/AL38,(AD158+AJ31*D19)/AM38,(AD159+AJ31*D19)/AN38,(AD160+AJ31*D19)/AO38)*AP38","v":{"$error":"#VALUE!"}},{"$f":"MIN((AE156+AJ31*D19)/AK38,(AE157+AJ31*D19)/AL38,(AE158+AJ31*D19)/AM38,(AE159+AJ31*D19)/AN38,(AE160+AJ31*D19)/AO38)*AP38","v":{"$error":"#VALUE!"}},{"$f":"MIN((AF156+AJ31*D19)/AK38,(AF157+AJ31*D19)/AL38,(AF158+AJ31*D19)/AM38,(AF159+AJ31*D19)/AN38,(AF160+AJ31*D19)/AO38)*AP38","v":{"$error":"#VALUE!"}},{"$error":"#VALUE!"},null,"",{"$f":"MIN((S156+AK31*D19)/AK39,(S157+AK31*D19)/AL39,(S158+AK31*D19)/AM39,(S159+AK31*D19)/AN39,(S160+AK31*D19)/AO39)*AP39","v":{"$error":"#VALUE!"}},{"$f":"MIN((T156+AK31*D19)/AK39,(T157+AK31*D19)/AL39,(T158+AK31*D19)/AM39,(T159+AK31*D19)/AN39,(T160+AK31*D19)/AO39)*AP39","v":{"$error":"#VALUE!"}},{"$f":"MIN((U156+AK31*D19)/AK39,(U157+AK31*D19)/AL39,(U158+AK31*D19)/AM39,(U159+AK31*D19)/AN39,(U160+AK31*D19)/AO39)*AP39","v":{"$error":"#VALUE!"}},{"$f":"MIN((V156+AK31*D19)/AK39,(V157+AK31*D19)/AL39,(V158+AK31*D19)/AM39,(V159+AK31*D19)/AN39,(V160+AK31*D19)/AO39)*AP39","v":{"$error":"#VALUE!"}},{"$f":"MIN((W156+AK31*D19)/AK39,(W157+AK31*D19)/AL39,(W158+AK31*D19)/AM39,(W159+AK31*D19)/AN39,(W160+AK31*D19)/AO39)*AP39","v":{"$error":"#VALUE!"}},{"$f":"MIN((X156+AK31*D19)/AK39,(X157+AK31*D19)/AL39,(X158+AK31*D19)/AM39,(X159+AK31*D19)/AN39,(X160+AK31*D19)/AO39)*AP39","v":{"$error":"#VALUE!"}},{"$f":"MIN((Y156+AK31*D19)/AK39,(Y157+AK31*D19)/AL39,(Y158+AK31*D19)/AM39,(Y159+AK31*D19)/AN39,(Y160+AK31*D19)/AO39)*AP39","v":{"$error":"#VALUE!"}},{"$f":"MIN((Z156+AK31*D19)/AK39,(Z157+AK31*D19)/AL39,(Z158+AK31*D19)/AM39,(Z159+AK31*D19)/AN39,(Z160+AK31*D19)/AO39)*AP39","v":{"$error":"#VALUE!"}},{"$f":"MIN((AA156+AK31*D19)/AK39,(AA157+AK31*D19)/AL39,(AA158+AK31*D19)/AM39,(AA159+AK31*D19)/AN39,(AA160+AK31*D19)/AO39)*AP39","v":{"$error":"#VALUE!"}},{"$f":"MIN((AB156+AK31*D19)/AK39,(AB157+AK31*D19)/AL39,(AB158+AK31*D19)/AM39,(AB159+AK31*D19)/AN39,(AB160+AK31*D19)/AO39)*AP39","v":{"$error":"#VALUE!"}},{"$f":"MIN((AC156+AK31*D19)/AK39,(AC157+AK31*D19)/AL39,(AC158+AK31*D19)/AM39,(AC159+AK31*D19)/AN39,(AC160+AK31*D19)/AO39)*AP39","v":{"$error":"#VALUE!"}},{"$f":"MIN((AD156+AK31*D19)/AK39,(AD157+AK31*D19)/AL39,(AD158+AK31*D19)/AM39,(AD159+AK31*D19)/AN39,(AD160+AK31*D19)/AO39)*AP39","v":{"$error":"#VALUE!"}},{"$f":"MIN((AE156+AK31*D19)/AK39,(AE157+AK31*D19)/AL39,(AE158+AK31*D19)/AM39,(AE159+AK31*D19)/AN39,(AE160+AK31*D19)/AO39)*AP39","v":{"$error":"#VALUE!"}},{"$f":"MIN((AF156+AK31*D19)/AK39,(AF157+AK31*D19)/AL39,(AF158+AK31*D19)/AM39,(AF159+AK31*D19)/AN39,(AF160+AK31*D19)/AO39)*AP39","v":{"$error":"#VALUE!"}},{"$error":"#VALUE!"},null,"formule position",null,null,"formule gain brut"]
[null,null,null,null,0.4541,1.8165,2.2706,0.81740000000000002,0.54495000000000005,1.3623500000000002,0.72660000000000002,1.0899000000000001,1.8165,0.72660000000000002,1.0899000000000001,1.8165,null,{"$f":"J12+AH41+D15+D17+D21+D19*AG9","v":{"$error":"#VALUE!"}},{"$f":"R67+Q12","v":{"$error":"#VALUE!"}},{"$f":"R67+R12","v":{"$error":"#VALUE!"}},{"$f":"R67+S12","v":{"$error":"#VALUE!"}},{"$f":"R67+T12","v":{"$error":"#VALUE!"}},{"$f":"R67+U12","v":{"$error":"#VALUE!"}},{"$f":"R67+V12","v":{"$error":"#VALUE!"}},{"$f":"R67+W12","v":{"$error":"#VALUE!"}},{"$f":"R67+X12","v":{"$error":"#VALUE!"}},{"$f":"R67+Y12","v":{"$error":"#VALUE!"}},{"$f":"R67+Z12","v":{"$error":"#VALUE!"}},{"$f":"R67+AA12","v":{"$error":"#VALUE!"}},{"$f":"R67+AB12","v":{"$error":"#VALUE!"}},{"$f":"R67+AC12","v":{"$error":"#VALUE!"}},{"$f":"R67+AD12","v":{"$error":"#VALUE!"}},null,null,null,"",{"$f":"MIN((S163+AJ31*D19)/AK38,(S164+AJ31*D19)/AL38,(S165+AJ31*D19)/AM38,(S166+AJ31*D19)/AN38,(S167+AJ31*D19)/AO38)*AP38","v":{"$error":"#VALUE!"}},{"$f":"MIN((T163+AJ31*D19)/AK38,(T164+AJ31*D19)/AL38,(T165+AJ31*D19)/AM38,(T166+AJ31*D19)/AN38,(T167+AJ31*D19)/AO38)*AP38","v":{"$error":"#VALUE!"}},{"$f":"MIN((U163+AJ31*D19)/AK38,(U164+AJ31*D19)/AL38,(U165+AJ31*D19)/AM38,(U166+AJ31*D19)/AN38,(U167+AJ31*D19)/AO38)*AP38","v":{"$error":"#VALUE!"}},{"$f":"MIN((V163+AJ31*D19)/AK38,(V164+AJ31*D19)/AL38,(V165+AJ31*D19)/AM38,(V166+AJ31*D19)/AN38,(V167+AJ31*D19)/AO38)*AP38","v":{"$error":"#VALUE!"}},{"$f":"MIN((W163+AJ31*D19)/AK38,(W164+AJ31*D19)/AL38,(W165+AJ31*D19)/AM38,(W166+AJ31*D19)/AN38,(W167+AJ31*D19)/AO38)*AP38","v":{"$error":"#VALUE!"}},{"$f":"MIN((X163+AJ31*D19)/AK38,(X164+AJ31*D19)/AL38,(X165+AJ31*D19)/AM38,(X166+AJ31*D19)/AN38,(X167+AJ31*D19)/AO38)*AP38","v":{"$error":"#VALUE!"}},{"$f":"MIN((Y163+AJ31*D19)/AK38,(Y164+AJ31*D19)/AL38,(Y165+AJ31*D19)/AM38,(Y166+AJ31*D19)/AN38,(Y167+AJ31*D19)/AO38)*AP38","v":{"$error":"#VALUE!"}},{"$f":"MIN((Z163+AJ31*D19)/AK38,(Z164+AJ31*D19)/AL38,(Z165+AJ31*D19)/AM38,(Z166+AJ31*D19)/AN38,(Z167+AJ31*D19)/AO38)*AP38","v":{"$error":"#VALUE!"}},{"$f":"MIN((AA163+AJ31*D19)/AK38,(AA164+AJ31*D19)/AL38,(AA165+AJ31*D19)/AM38,(AA166+AJ31*D19)/AN38,(AA167+AJ31*D19)/AO38)*AP38","v":{"$error":"#VALUE!"}},{"$f":"MIN((AB163+AJ31*D19)/AK38,(AB164+AJ31*D19)/AL38,(AB165+AJ31*D19)/AM38,(AB166+AJ31*D19)/AN38,(AB167+AJ31*D19)/AO38)*AP38","v":{"$error":"#VALUE!"}},{"$f":"MIN((AC163+AJ31*D19)/AK38,(AC164+AJ31*D19)/AL38,(AC165+AJ31*D19)/AM38,(AC166+AJ31*D19)/AN38,(AC167+AJ31*D19)/AO38)*AP38","v":{"$error":"#VALUE!"}},{"$f":"MIN((AD163+AJ31*D19)/AK38,(AD164+AJ31*D19)/AL38,(AD165+AJ31*D19)/AM38,(AD166+AJ31*D19)/AN38,(AD167+AJ31*D19)/AO38)*AP38","v":{"$error":"#VALUE!"}},{"$f":"MIN((AE163+AJ31*D19)/AK38,(AE164+AJ31*D19)/AL38,(AE165+AJ31*D19)/AM38,(AE166+AJ31*D19)/AN38,(AE167+AJ31*D19)/AO38)*AP38","v":{"$error":"#VALUE!"}},{"$f":"MIN((AF163+AJ31*D19)/AK38,(AF164+AJ31*D19)/AL38,(AF165+AJ31*D19)/AM38,(AF166+AJ31*D19)/AN38,(AF167+AJ31*D19)/AO38)*AP38","v":{"$error":"#VALUE!"}},{"$error":"#VALUE!"},null,"",{"$f":"MIN((S163+AK31*D19)/AK39,(S164+AK31*D19)/AL39,(S165+AK31*D19)/AM39,(S166+AK31*D19)/AN39,(S167+AK31*D19)/AO39)*AP39","v":{"$error":"#VALUE!"}},{"$f":"MIN((T163+AK31*D19)/AK39,(T164+AK31*D19)/AL39,(T165+AK31*D19)/AM39,(T166+AK31*D19)/AN39,(T167+AK31*D19)/AO39)*AP39","v":{"$error":"#VALUE!"}},{"$f":"MIN((U163+AK31*D19)/AK39,(U164+AK31*D19)/AL39,(U165+AK31*D19)/AM39,(U166+AK31*D19)/AN39,(U167+AK31*D19)/AO39)*AP39","v":{"$error":"#VALUE!"}},{"$f":"MIN((V163+AK31*D19)/AK39,(V164+AK31*D19)/AL39,(V165+AK31*D19)/AM39,(V166+AK31*D19)/AN39,(V167+AK31*D19)/AO39)*AP39","v":{"$error":"#VALUE!"}},{"$f":"MIN((W163+AK31*D19)/AK39,(W164+AK31*D19)/AL39,(W165+AK31*D19)/AM39,(W166+AK31*D19)/AN39,(W167+AK31*D19)/AO39)*AP39","v":{"$error":"#VALUE!"}},{"$f":"MIN((X163+AK31*D19)/AK39,(X164+AK31*D19)/AL39,(X165+AK31*D19)/AM39,(X166+AK31*D19)/AN39,(X167+AK31*D19)/AO39)*AP39","v":{"$error":"#VALUE!"}},{"$f":"MIN((Y163+AK31*D19)/AK39,(Y164+AK31*D19)/AL39,(Y165+AK31*D19)/AM39,(Y166+AK31*D19)/AN39,(Y167+AK31*D19)/AO39)*AP39","v":{"$error":"#VALUE!"}},{"$f":"MIN((Z163+AK31*D19)/AK39,(Z164+AK31*D19)/AL39,(Z165+AK31*D19)/AM39,(Z166+AK31*D19)/AN39,(Z167+AK31*D19)/AO39)*AP39","v":{"$error":"#VALUE!"}},{"$f":"MIN((AA163+AK31*D19)/AK39,(AA164+AK31*D19)/AL39,(AA165+AK31*D19)/AM39,(AA166+AK31*D19)/AN39,(AA167+AK31*D19)/AO39)*AP39","v":{"$error":"#VALUE!"}},{"$f":"MIN((AB163+AK31*D19)/AK39,(AB164+AK31*D19)/AL39,(AB165+AK31*D19)/AM39,(AB166+AK31*D19)/AN39,(AB167+AK31*D19)/AO39)*AP39","v":{"$error":"#VALUE!"}},{"$f":"MIN((AC163+AK31*D19)/AK39,(AC164+AK31*D19)/AL39,(AC165+AK31*D19)/AM39,(AC166+AK31*D19)/AN39,(AC167+AK31*D19)/AO39)*AP39","v":{"$error":"#VALUE!"}},{"$f":"MIN((AD163+AK31*D19)/AK39,(AD164+AK31*D19)/AL39,(AD165+AK31*D19)/AM39,(AD166+AK31*D19)/AN39,(AD167+AK31*D19)/AO39)*AP39","v":{"$error":"#VALUE!"}},{"$f":"MIN((AE163+AK31*D19)/AK39,(AE164+AK31*D19)/AL39,(AE165+AK31*D19)/AM39,(AE166+AK31*D19)/AN39,(AE167+AK31*D19)/AO39)*AP39","v":{"$error":"#VALUE!"}},{"$f":"MIN((AF163+AK31*D19)/AK39,(AF164+AK31*D19)/AL39,(AF165+AK31*D19)/AM39,(AF166+AK31*D19)/AN39,(AF167+AK31*D19)/AO39)*AP39","v":{"$error":"#VALUE!"}},{"$error":"#VALUE!"},null,null,{"$f":"IF(AV24=1,AI24,IF(AV25=1,AI25,BS80))","v":"attente"},{"$f":"IF(AV16=1,AI16,IF(AV17=1,AI17,IF(AV18=1,AI18,IF(AV19=1,AI19,IF(AV20=1,AI20,IF(AV21=1,AI21,IF(AV22=1,AI22,IF(AV23=1,AI23,BS67))))))))","v":"attente"},{"$f":"IF(AV24=1,AY68,IF(AV25=1,AY69,0))","v":0},{"$f":"IF(AV16=1,AY60,IF(AV17=1,AY61,IF(AV18=1,AY62,IF(AV19=1,AY63,IF(AV20=1,AY64,IF(AV21=1,AY65,IF(AV22=1,AY66,IF(AV23=1,AY67,BU67))))))))","v":0},{"$f":"IF(AV8=1,AY52,IF(AV9=1,AY53,IF(AV10=1,AY54,IF(AV11=1,AY55,IF(AV12=1,AY56,IF(AV13=1,AY57,IF(AV14=1,AY58,IF(AV15=1,AY59,BV67))))))))","v":{"$error":"#VALUE!"}}]
[null,null,null,null,0.72660000000000002,1.0899000000000001,1.8165,0.81415000000000004,0.54274999999999995,1.3569,1.0899000000000001,1.6348499999999999,2.7247500000000002,0.68115000000000003,0.68115000000000003,1.3623000000000001,null,{"$f":"K12+AH42+D16+D17+D21+D19*AG9","v":{"$error":"#VALUE!"}},{"$f":"R68+Q13","v":{"$error":"#VALUE!"}},{"$f":"R68+R13","v":{"$error":"#VALUE!"}},{"$f":"R68+S13","v":{"$error":"#VALUE!"}},{"$f":"R68+T13","v":{"$error":"#VALUE!"}},{"$f":"R68+U13","v":{"$error":"#VALUE!"}},{"$f":"R68+V13","v":{"$error":"#VALUE!"}},{"$f":"R68+W13","v":{"$error":"#VALUE!"}},{"$f":"R68+X13","v":{"$error":"#VALUE!"}},{"$f":"R68+Y13","v":{"$error":"#VALUE!"}},{"$f":"R68+Z13","v":{"$error":"#VALUE!"}},{"$f":"R68+AA13","v":{"$error":"#VALUE!"}},{"$f":"R68+AB13","v":{"$error":"#VALUE!"}},{"$f":"R68+AC13","v":{"$error":"#VALUE!"}},{"$f":"R68+AD13","v":{"$error":"#VALUE!"}},null,null,null,"",{"$f":"MIN((S170+AJ31*D19)/AK38,(S171+AJ31*D19)/AL38,(S172+AJ31*D19)/AM38,(S173+AJ31*D19)/AN38,(S174+AJ31*D19)/AO38)*AP38","v":{"$error":"#VALUE!"}},{"$f":"MIN((T170+AJ31*D19)/AK38,(T171+AJ31*D19)/AL38,(T172+AJ31*D19)/AM38,(T173+AJ31*D19)/AN38,(T174+AJ31*D19)/AO38)*AP38","v":{"$error":"#VALUE!"}},{"$f":"MIN((U170+AJ31*D19)/AK38,(U171+AJ31*D19)/AL38,(U172+AJ31*D19)/AM38,(U173+AJ31*D19)/AN38,(U174+AJ31*D19)/AO38)*AP38","v":{"$error":"#VALUE!"}},{"$f":"MIN((V170+AJ31*D19)/AK38,(V171+AJ31*D19)/AL38,(V172+AJ31*D19)/AM38,(V173+AJ31*D19)/AN38,(V174+AJ31*D19)/AO38)*AP38","v":{"$error":"#VALUE!"}},{"$f":"MIN((W170+AJ31*D19)/AK38,(W171+AJ31*D19)/AL38,(W172+AJ31*D19)/AM38,(W173+AJ31*D19)/AN38,(W174+AJ31*D19)/AO38)*AP38","v":{"$error":"#VALUE!"}},{"$f":"MIN((X170+AJ31*D19)/AK38,(X171+AJ31*D19)/AL38,(X172+AJ31*D19)/AM38,(X173+AJ31*D19)/AN38,(X174+AJ31*D19)/AO38)*AP38","v":{"$error":"#VALUE!"}},{"$f":"MIN((Y170+AJ31*D19)/AK38,(Y171+AJ31*D19)/AL38,(Y172+AJ31*D19)/AM38,(Y173+AJ31*D19)/AN38,(Y174+AJ31*D19)/AO38)*AP38","v":{"$error":"#VALUE!"}},{"$f":"MIN((Z170+AJ31*D19)/AK38,(Z171+AJ31*D19)/AL38,(Z172+AJ31*D19)/AM38,(Z173+AJ31*D19)/AN38,(Z174+AJ31*D19)/AO38)*AP38","v":{"$error":"#VALUE!"}},{"$f":"MIN((AA170+AJ31*D19)/AK38,(AA171+AJ31*D19)/AL38,(AA172+AJ31*D19)/AM38,(AA173+AJ31*D19)/AN38,(AA174+AJ31*D19)/AO38)*AP38","v":{"$error":"#VALUE!"}},{"$f":"MIN((AB170+AJ31*D19)/AK38,(AB171+AJ31*D19)/AL38,(AB172+AJ31*D19)/AM38,(AB173+AJ31*D19)/AN38,(AB174+AJ31*D19)/AO38)*AP38","v":{"$error":"#VALUE!"}},{"$f":"MIN((AC170+AJ31*D19)/AK38,(AC171+AJ31*D19)/AL38,(AC172+AJ31*D19)/AM38,(AC173+AJ31*D19)/AN38,(AC174+AJ31*D19)/AO38)*AP38","v":{"$error":"#VALUE!"}},{"$f":"MIN((AD170+AJ31*D19)/AK38,(AD171+AJ31*D19)/AL38,(AD172+AJ31*D19)/AM38,(AD173+AJ31*D19)/AN38,(AD174+AJ31*D19)/AO38)*AP38","v":{"$error":"#VALUE!"}},{"$f":"MIN((AE170+AJ31*D19)/AK38,(AE171+AJ31*D19)/AL38,(AE172+AJ31*D19)/AM38,(AE173+AJ31*D19)/AN38,(AE174+AJ31*D19)/AO38)*AP38","v":{"$error":"#VALUE!"}},{"$f":"MIN((AF170+AJ31*D19)/AK38,(AF171+AJ31*D19)/AL38,(AF172+AJ31*D19)/AM38,(AF173+AJ31*D19)/AN38,(AF174+AJ31*D19)/AO38)*AP38","v":{"$error":"#VALUE!"}},{"$error":"#VALUE!"},null,"",{"$f":"MIN((S170+AK31*D19)/AK39,(S171+AK31*D19)/AL39,(S172+AK31*D19)/AM39,(S173+AK31*D19)/AN39,(S174+AK31*D19)/AO39)*AP39","v":{"$error":"#VALUE!"}},{"$f":"MIN((T170+AK31*D19)/AK39,(T171+AK31*D19)/AL39,(T172+AK31*D19)/AM39,(T173+AK31*D19)/AN39,(T174+AK31*D19)/AO39)*AP39","v":{"$error":"#VALUE!"}},{"$f":"MIN((U170+AK31*D19)/AK39,(U171+AK31*D19)/AL39,(U172+AK31*D19)/AM39,(U173+AK31*D19)/AN39,(U174+AK31*D19)/AO39)*AP39","v":{"$error":"#VALUE!"}},{"$f":"MIN((V170+AK31*D19)/AK39,(V171+AK31*D19)/AL39,(V172+AK31*D19)/AM39,(V173+AK31*D19)/AN39,(V174+AK31*D19)/AO39)*AP39","v":{"$error":"#VALUE!"}},{"$f":"MIN((W170+AK31*D19)/AK39,(W171+AK31*D19)/AL39,(W172+AK31*D19)/AM39,(W173+AK31*D19)/AN39,(W174+AK31*D19)/AO39)*AP39","v":{"$error":"#VALUE!"}},{"$f":"MIN((X170+AK31*D19)/AK39,(X171+AK31*D19)/AL39,(X172+AK31*D19)/AM39,(X173+AK31*D19)/AN39,(X174+AK31*D19)/AO39)*AP39","v":{"$error":"#VALUE!"}},{"$f":"MIN((Y170+AK31*D19)/AK39,(Y171+AK31*D19)/AL39,(Y172+AK31*D19)/AM39,(Y173+AK31*D19)/AN39,(Y174+AK31*D19)/AO39)*AP39","v":{"$error":"#VALUE!"}},{"$f":"MIN((Z170+AK31*D19)/AK39,(Z171+AK31*D19)/AL39,(Z172+AK31*D19)/AM39,(Z173+AK31*D19)/AN39,(Z174+AK31*D19)/AO39)*AP39","v":{"$error":"#VALUE!"}},{"$f":"MIN((AA170+AK31*D19)/AK39,(AA171+AK31*D19)/AL39,(AA172+AK31*D19)/AM39,(AA173+AK31*D19)/AN39,(AA174+AK31*D19)/AO39)*AP39","v":{"$error":"#VALUE!"}},{"$f":"MIN((AB170+AK31*D19)/AK39,(AB171+AK31*D19)/AL39,(AB172+AK31*D19)/AM39,(AB173+AK31*D19)/AN39,(AB174+AK31*D19)/AO39)*AP39","v":{"$error":"#VALUE!"}},{"$f":"MIN((AC170+AK31*D19)/AK39,(AC171+AK31*D19)/AL39,(AC172+AK31*D19)/AM39,(AC173+AK31*D19)/AN39,(AC174+AK31*D19)/AO39)*AP39","v":{"$error":"#VALUE!"}},{"$f":"MIN((AD170+AK31*D19)/AK39,(AD171+AK31*D19)/AL39,(AD172+AK31*D19)/AM39,(AD173+AK31*D19)/AN39,(AD174+AK31*D19)/AO39)*AP39","v":{"$error":"#VALUE!"}},{"$f":"MIN((AE170+AK31*D19)/AK39,(AE171+AK31*D19)/AL39,(AE172+AK31*D19)/AM39,(AE173+AK31*D19)/AN39,(AE174+AK31*D19)/AO39)*AP39","v":{"$error":"#VALUE!"}},{"$f":"MIN((AF170+AK31*D19)/AK39,(AF171+AK31*D19)/AL39,(AF172+AK31*D19)/AM39,(AF173+AK31*D19)/AN39,(AF174+AK31*D19)/AO39)*AP39","v":{"$error":"#VALUE!"}},{"$error":"#VALUE!"},null,null,{"$f":"IF(AV24=2,AI24,IF(AV25=2,AI25,BS80))","v":"attente"},{"$f":"IF(AV16=2,AI16,IF(AV17=2,AI17,IF(AV18=2,AI18,IF(AV19=2,AI19,IF(AV20=2,AI20,IF(AV21=2,AI21,IF(AV22=2,AI22,IF(AV23=2,AI23,BS68))))))))","v":"attente"},{"$f":"IF(AV24=2,BP68,IF(AV25=2,BP69,0))","v":0},{"$f":"IF(AV16=2,BP60,IF(AV17=2,BP61,IF(AV18=2,BP62,IF(AV19=2,BP63,IF(AV20=2,BP64,IF(AV21=2,BP65,IF(AV22=2,BP66,IF(AV23=2,BP67,BU68))))))))","v":0},{"$f":"IF(AV8=2,BP52,IF(AV9=2,BP53,IF(AV10=2,BP54,IF(AV11=2,BP55,IF(AV12=2,BP56,IF(AV13=2,BP57,IF(AV14=2,BP58,IF(AV15=2,BP59,BV68))))))))","v":{"$error":"#VALUE!"}}]
[null,null,null,null,0.68115000000000003,0.68115000000000003,1.3623000000000001,1.6348499999999999,1.0899000000000001,2.7247500000000002,0.68115000000000003,0.68115000000000003,1.3623000000000001,0.68115000000000003,0.68115000000000003,1.3623000000000001,null,{"$f":"L12+AH43+D15+D17+D21+D19*AG9","v":{"$error":"#VALUE!"}},{"$f":"R69+Q14","v":{"$error":"#VALUE!"}},{"$f":"R69+R14","v":{"$error":"#VALUE!"}},{"$f":"R69+S14","v":{"$error":"#VALUE!"}},{"$f":"R69+T14","v":{"$error":"#VALUE!"}},{"$f":"R69+U14","v":{"$error":"#VALUE!"}},{"$f":"R69+V14","v":{"$error":"#VALUE!"}},{"$f":"R69+W14","v":{"$error":"#VALUE!"}},{"$f":"R69+X14","v":{"$error":"#VALUE!"}},{"$f":"R69+Y14","v":{"$error":"#VALUE!"}},{"$f":"R69+Z14","v":{"$error":"#VALUE!"}},{"$f":"R69+AA14","v":{"$error":"#VALUE!"}},{"$f":"R69+AB14","v":{"$error":"#VALUE!"}},{"$f":"R69+AC14","v":{"$error":"#VALUE!"}},{"$f":"R69+AD14","v":{"$error":"#VALUE!"}},null,null,null,"",{"$f":"MIN((S177+AJ31*D19)/AK38,(S178+AJ31*D19)/AL38,(S179+AJ31*D19)/AM38,(S180+AJ31*D19)/AN38,(S181+AJ31*D19)/AO38)*AP38","v":{"$error":"#VALUE!"}},{"$f":"MIN((T177+AJ31*D19)/AK38,(T178+AJ31*D19)/AL38,(T179+AJ31*D19)/AM38,(T180+AJ31*D19)/AN38,(T181+AJ31*D19)/AO38)*AP38","v":{"$error":"#VALUE!"}},{"$f":"MIN((U177+AJ31*D19)/AK38,(U178+AJ31*D19)/AL38,(U179+AJ31*D19)/AM38,(U180+AJ31*D19)/AN38,(U181+AJ31*D19)/AO38)*AP38","v":{"$error":"#VALUE!"}},{"$f":"MIN((V177+AJ31*D19)/AK38,(V178+AJ31*D19)/AL38,(V179+AJ31*D19)/AM38,(V180+AJ31*D19)/AN38,(V181+AJ31*D19)/AO38)*AP38","v":{"$error":"#VALUE!"}},{"$f":"MIN((W177+AJ31*D19)/AK38,(W178+AJ31*D19)/AL38,(W179+AJ31*D19)/AM38,(W180+AJ31*D19)/AN38,(W181+AJ31*D19)/AO38)*AP38","v":{"$error":"#VALUE!"}},{"$f":"MIN((X177+AJ31*D19)/AK38,(X178+AJ31*D19)/AL38,(X179+AJ31*D19)/AM38,(X180+AJ31*D19)/AN38,(X181+AJ31*D19)/AO38)*AP38","v":{"$error":"#VALUE!"}},{"$f":"MIN((Y177+AJ31*D19)/AK38,(Y178+AJ31*D19)/AL38,(Y179+AJ31*D19)/AM38,(Y180+AJ31*D19)/AN38,(Y181+AJ31*D19)/AO38)*AP38","v":{"$error":"#VALUE!"}},{"$f":"MIN((Z177+AJ31*D19)/AK38,(Z178+AJ31*D19)/AL38,(Z179+AJ31*D19)/AM38,(Z180+AJ31*D19)/AN38,(Z181+AJ31*D19)/AO38)*AP38","v":{"$error":"#VALUE!"}},{"$f":"MIN((AA177+AJ31*D19)/AK38,(AA178+AJ31*D19)/AL38,(AA179+AJ31*D19)/AM38,(AA180+AJ31*D19)/AN38,(AA181+AJ31*D19)/AO38)*AP38","v":{"$error":"#VALUE!"}},{"$f":"MIN((AB177+AJ31*D19)/AK38,(AB178+AJ31*D19)/AL38,(AB179+AJ31*D19)/AM38,(AB180+AJ31*D19)/AN38,(AB181+AJ31*D19)/AO38)*AP38","v":{"$error":"#VALUE!"}},{"$f":"MIN((AC177+AJ31*D19)/AK38,(AC178+AJ31*D19)/AL38,(AC179+AJ31*D19)/AM38,(AC180+AJ31*D19)/AN38,(AC181+AJ31*D19)/AO38)*AP38","v":{"$error":"#VALUE!"}},{"$f":"MIN((AD177+AJ31*D19)/AK38,(AD178+AJ31*D19)/AL38,(AD179+AJ31*D19)/AM38,(AD180+AJ31*D19)/AN38,(AD181+AJ31*D19)/AO38)*AP38","v":{"$error":"#VALUE!"}},{"$f":"MIN((AE177+AJ31*D19)/AK38,(AE178+AJ31*D19)/AL38,(AE179+AJ31*D19)/AM38,(AE180+AJ31*D19)/AN38,(AE181+AJ31*D19)/AO38)*AP38","v":{"$error":"#VALUE!"}},{"$f":"MIN((AF177+AJ31*D19)/AK38,(AF178+AJ31*D19)/AL38,(AF179+AJ31*D19)/AM38,(AF180+AJ31*D19)/AN38,(AF181+AJ31*D19)/AO38)*AP38","v":{"$error":"#VALUE!"}},{"$error":"#VALUE!"},null,"",{"$f":"MIN((S177+AK31*D19)/AK39,(S178+AK31*D19)/AL39,(S179+AK31*D19)/AM39,(S180+AK31*D19)/AN39,(S181+AK31*D19)/AO39)*AP39","v":{"$error":"#VALUE!"}},{"$f":"MIN((T177+AK31*D19)/AK39,(T178+AK31*D19)/AL39,(T179+AK31*D19)/AM39,(T180+AK31*D19)/AN39,(T181+AK31*D19)/AO39)*AP39","v":{"$error":"#VALUE!"}},{"$f":"MIN((U177+AK31*D19)/AK39,(U178+AK31*D19)/AL39,(U179+AK31*D19)/AM39,(U180+AK31*D19)/AN39,(U181+AK31*D19)/AO39)*AP39","v":{"$error":"#VALUE!"}},{"$f":"MIN((V177+AK31*D19)/AK39,(V178+AK31*D19)/AL39,(V179+AK31*D19)/AM39,(V180+AK31*D19)/AN39,(V181+AK31*D19)/AO39)*AP39","v":{"$error":"#VALUE!"}},{"$f":"MIN((W177+AK31*D19)/AK39,(W178+AK31*D19)/AL39,(W179+AK31*D19)/AM39,(W180+AK31*D19)/AN39,(W181+AK31*D19)/AO39)*AP39","v":{"$error":"#VALUE!"}},{"$f":"MIN((X177+AK31*D19)/AK39,(X178+AK31*D19)/AL39,(X179+AK31*D19)/AM39,(X180+AK31*D19)/AN39,(X181+AK31*D19)/AO39)*AP39","v":{"$error":"#VALUE!"}},{"$f":"MIN((Y177+AK31*D19)/AK39,(Y178+AK31*D19)/AL39,(Y179+AK31*D19)/AM39,(Y180+AK31*D19)/AN39,(Y181+AK31*D19)/AO39)*AP39","v":{"$error":"#VALUE!"}},{"$f":"MIN((Z177+AK31*D19)/AK39,(Z178+AK31*D19)/AL39,(Z179+AK31*D19)/AM39,(Z180+AK31*D19)/AN39,(Z181+AK31*D19)/AO39)*AP39","v":{"$error":"#VALUE!"}},{"$f":"MIN((AA177+AK31*D19)/AK39,(AA178+AK31*D19)/AL39,(AA179+AK31*D19)/AM39,(AA180+AK31*D19)/AN39,(AA181+AK31*D19)/AO39)*AP39","v":{"$error":"#VALUE!"}},{"$f":"MIN((AB177+AK31*D19)/AK39,(AB178+AK31*D19)/AL39,(AB179+AK31*D19)/AM39,(AB180+AK31*D19)/AN39,(AB181+AK31*D19)/AO39)*AP39","v":{"$error":"#VALUE!"}},{"$f":"MIN((AC177+AK31*D19)/AK39,(AC178+AK31*D19)/AL39,(AC179+AK31*D19)/AM39,(AC180+AK31*D19)/AN39,(AC181+AK31*D19)/AO39)*AP39","v":{"$error":"#VALUE!"}},{"$f":"MIN((AD177+AK31*D19)/AK39,(AD178+AK31*D19)/AL39,(AD179+AK31*D19)/AM39,(AD180+AK31*D19)/AN39,(AD181+AK31*D19)/AO39)*AP39","v":{"$error":"#VALUE!"}},{"$f":"MIN((AE177+AK31*D19)/AK39,(AE178+AK31*D19)/AL39,(AE179+AK31*D19)/AM39,(AE180+AK31*D19)/AN39,(AE181+AK31*D19)/AO39)*AP39","v":{"$error":"#VALUE!"}},{"$f":"MIN((AF177+AK31*D19)/AK39,(AF178+AK31*D19)/AL39,(AF179+AK31*D19)/AM39,(AF180+AK31*D19)/AN39,(AF181+AK31*D19)/AO39)*AP39","v":{"$error":"#VALUE!"}},{"$error":"#VALUE!"},null,null,{"$f":"IF(AV24=3,AI24,IF(AV25=3,AI25,BS80))","v":"attente"},{"$f":"IF(AV16=3,AI16,IF(AV17=3,AI17,IF(AV18=3,AI18,IF(AV19=3,AI19,IF(AV20=3,AI20,IF(AV21=3,AI21,IF(AV22=3,AI22,IF(AV23=3,AI23,BS69))))))))","v":"attente"},{"$f":"IF(AV24=3,AY91,IF(AV25=3,AY92,0))","v":0},{"$f":"IF(AV16=3,AY83,IF(AV17=3,AY84,IF(AV18=3,AY85,IF(AV19=3,AY86,IF(AV20=3,AY87,IF(AV21=3,AY88,IF(AV22=3,AY89,IF(AV23=3,AY90,BU69))))))))","v":0},{"$f":"IF(AV8=3,AY75,IF(AV9=3,AY76,IF(AV10=3,AY77,IF(AV11=3,AY78,IF(AV12=3,AY79,IF(AV13=3,AY80,IF(AV14=3,AY81,IF(AV15=3,AY82,BV69))))))))","v":{"$error":"#VALUE!"}}]
[null,null,null,null,1.58945,0.68115000000000003,2.2706,2.0435500000000002,0.22705,2.2706000000000004,1.27155,0.54495000000000005,1.8165,1.27155,0.54495000000000005,1.8165,null,null,null,null,null,null,null,null,null,null,null,null,null,null,null,null,null,null,null,0,{"$f":"MIN((S184+AJ31*D19)/AK38,(S185+AJ31*D19)/AL38,(S186+AJ31*D19)/AM38,(S187+AJ31*D19)/AN38,(S188+AJ31*D19)/AO38)*AP38","v":{"$error":"#VALUE!"}},{"$f":"MIN((T184+AJ31*D19)/AK38,(T185+AJ31*D19)/AL38,(T186+AJ31*D19)/AM38,(T187+AJ31*D19)/AN38,(T188+AJ31*D19)/AO38)*AP38","v":{"$error":"#VALUE!"}},{"$f":"MIN((U184+AJ31*D19)/AK38,(U185+AJ31*D19)/AL38,(U186+AJ31*D19)/AM38,(U187+AJ31*D19)/AN38,(U188+AJ31*D19)/AO38)*AP38","v":{"$error":"#VALUE!"}},{"$f":"MIN((V184+AJ31*D19)/AK38,(V185+AJ31*D19)/AL38,(V186+AJ31*D19)/AM38,(V187+AJ31*D19)/AN38,(V188+AJ31*D19)/AO38)*AP38","v":{"$error":"#VALUE!"}},{"$f":"MIN((W184+AJ31*D19)/AK38,(W185+AJ31*D19)/AL38,(W186+AJ31*D19)/AM38,(W187+AJ31*D19)/AN38,(W188+AJ31*D19)/AO38)*AP38","v":{"$error":"#VALUE!"}},{"$f":"MIN((X184+AJ31*D19)/AK38,(X185+AJ31*D19)/AL38,(X186+AJ31*D19)/AM38,(X187+AJ31*D19)/AN38,(X188+AJ31*D19)/AO38)*AP38","v":{"$error":"#VALUE!"}},{"$f":"MIN((Y184+AJ31*D19)/AK38,(Y185+AJ31*D19)/AL38,(Y186+AJ31*D19)/AM38,(Y187+AJ31*D19)/AN38,(Y188+AJ31*D19)/AO38)*AP38","v":{"$error":"#VALUE!"}},{"$f":"MIN((Z184+AJ31*D19)/AK38,(Z185+AJ31*D19)/AL38,(Z186+AJ31*D19)/AM38,(Z187+AJ31*D19)/AN38,(Z188+AJ31*D19)/AO38)*AP38","v":{"$error":"#VALUE!"}},{"$f":"MIN((AA184+AJ31*D19)/AK38,(AA185+AJ31*D19)/AL38,(AA186+AJ31*D19)/AM38,(AA187+AJ31*D19)/AN38,(AA188+AJ31*D19)/AO38)*AP38","v":{"$error":"#VALUE!"}},{"$f":"MIN((AB184+AJ31*D19)/AK38,(AB185+AJ31*D19)/AL38,(AB186+AJ31*D19)/AM38,(AB187+AJ31*D19)/AN38,(AB188+AJ31*D19)/AO38)*AP38","v":{"$error":"#VALUE!"}},{"$f":"MIN((AC184+AJ31*D19)/AK38,(AC185+AJ31*D19)/AL38,(AC186+AJ31*D19)/AM38,(AC187+AJ31*D19)/AN38,(AC188+AJ31*D19)/AO38)*AP38","v":{"$error":"#VALUE!"}},{"$f":"MIN((AD184+AJ31*D19)/AK38,(AD185+AJ31*D19)/AL38,(AD186+AJ31*D19)/AM38,(AD187+AJ31*D19)/AN38,(AD188+AJ31*D19)/AO38)*AP38","v":{"$error":"#VALUE!"}},{"$f":"MIN((AE184+AJ31*D19)/AK38,(AE185+AJ31*D19)/AL38,(AE186+AJ31*D19)/AM38,(AE187+AJ31*D19)/AN38,(AE188+AJ31*D19)/AO38)*AP38","v":{"$error":"#VALUE!"}},{"$f":"MIN((AF184+AJ31*D19)/AK38,(AF185+AJ31*D19)/AL38,(AF186+AJ31*D19)/AM38,(AF187+AJ31*D19)/AN38,(AF188+AJ31*D19)/AO38)*AP38","v":{"$error":"#VALUE!"}},{"$error":"#VALUE!"},null,0,{"$f":"MIN((S184+AK31*D19)/AK39,(S185+AK31*D19)/AL39,(S186+AK31*D19)/AM39,(S187+AK31*D19)/AN39,(S188+AK31*D19)/AO39)*AP39","v":{"$error":"#VALUE!"}},{"$f":"MIN((T184+AK31*D19)/AK39,(T185+AK31*D19)/AL39,(T186+AK31*D19)/AM39,(T187+AK31*D19)/AN39,(T188+AK31*D19)/AO39)*AP39","v":{"$error":"#VALUE!"}},{"$f":"MIN((U184+AK31*D19)/AK39,(U185+AK31*D19)/AL39,(U186+AK31*D19)/AM39,(U187+AK31*D19)/AN39,(U188+AK31*D19)/AO39)*AP39","v":{"$error":"#VALUE!"}},{"$f":"MIN((V184+AK31*D19)/AK39,(V185+AK31*D19)/AL39,(V186+AK31*D19)/AM39,(V187+AK31*D19)/AN39,(V188+AK31*D19)/AO39)*AP39","v":{"$error":"#VALUE!"}},{"$f":"MIN((W184+AK31*D19)/AK39,(W185+AK31*D19)/AL39,(W186+AK31*D19)/AM39,(W187+AK31*D19)/AN39,(W188+AK31*D19)/AO39)*AP39","v":{"$error":"#VALUE!"}},{"$f":"MIN((X184+AK31*D19)/AK39,(X185+AK31*D19)/AL39,(X186+AK31*D19)/AM39,(X187+AK31*D19)/AN39,(X188+AK31*D19)/AO39)*AP39","v":{"$error":"#VALUE!"}},{"$f":"MIN((Y184+AK31*D19)/AK39,(Y185+AK31*D19)/AL39,(Y186+AK31*D19)/AM39,(Y187+AK31*D19)/AN39,(Y188+AK31*D19)/AO39)*AP39","v":{"$error":"#VALUE!"}},{"$f":"MIN((Z184+AK31*D19)/AK39,(Z185+AK31*D19)/AL39,(Z186+AK31*D19)/AM39,(Z187+AK31*D19)/AN39,(Z188+AK31*D19)/AO39)*AP39","v":{"$error":"#VALUE!"}},{"$f":"MIN((AA184+AK31*D19)/AK39,(AA185+AK31*D19)/AL39,(AA186+AK31*D19)/AM39,(AA187+AK31*D19)/AN39,(AA188+AK31*D19)/AO39)*AP39","v":{"$error":"#VALUE!"}},{"$f":"MIN((AB184+AK31*D19)/AK39,(AB185+AK31*D19)/AL39,(AB186+AK31*D19)/AM39,(AB187+AK31*D19)/AN39,(AB188+AK31*D19)/AO39)*AP39","v":{"$error":"#VALUE!"}},{"$f":"MIN((AC184+AK31*D19)/AK39,(AC185+AK31*D19)/AL39,(AC186+AK31*D19)/AM39,(AC187+AK31*D19)/AN39,(AC188+AK31*D19)/AO39)*AP39","v":{"$error":"#VALUE!"}},{"$f":"MIN((AD184+AK31*D19)/AK39,(AD185+AK31*D19)/AL39,(AD186+AK31*D19)/AM39,(AD187+AK31*D19)/AN39,(AD188+AK31*D19)/AO39)*AP39","v":{"$error":"#VALUE!"}},{"$f":"MIN((AE184+AK31*D19)/AK39,(AE185+AK31*D19)/AL39,(AE186+AK31*D19)/AM39,(AE187+AK31*D19)/AN39,(AE188+AK31*D19)/AO39)*AP39","v":{"$error":"#VALUE!"}},{"$f":"MIN((AF184+AK31*D19)/AK39,(AF185+AK31*D19)/AL39,(AF186+AK31*D19)/AM39,(AF187+AK31*D19)/AN39,(AF188+AK31*D19)/AO39)*AP39","v":{"$error":"#VALUE!"}},{"$error":"#VALUE!"},null,null,{"$f":"IF(AV24=4,AI24,IF(AV25=4,AI25,BS80))","v":"attente"},{"$f":"IF(AV16=4,AI16,IF(AV17=4,AI17,IF(AV18=4,AI18,IF(AV19=4,AI19,IF(AV20=4,AI20,IF(AV21=4,AI21,IF(AV22=4,AI22,IF(AV23=4,AI23,BS70))))))))","v":"attente"},{"$f":"IF(AV24=4,BP91,IF(AV25=4,BP92,0))","v":0},{"$f":"IF(AV16=4,BP83,IF(AV17=4,BP84,IF(AV18=4,BP85,IF(AV19=4,BP86,IF(AV20=4,BP87,IF(AV21=4,BP88,IF(AV22=4,BP89,IF(AV23=4,BP90,BU70))))))))","v":0},{"$f":"IF(AV8=4,BP75,IF(AV9=4,BP76,IF(AV10=4,BP77,IF(AV11=4,BP78,IF(AV12=4,BP79,IF(AV13=4,BP80,IF(AV14=4,BP81,IF(AV15=4,BP82,BV70))))))))","v":{"$error":"#VALUE!"}}]
[null,null,null,null,0.72660000000000002,1.0899000000000001,1.8165,1.0899000000000001,0.72660000000000002,1.8165,0.95365,0.40870000000000001,1.3623499999999999,1.3623499999999999,1.3623499999999999,2.7246999999999999,null,{"$f":"G13","v":""},{"$f":"S64","v":"kit 1"},{"$f":"T64","v":"kit 2A"},{"$f":"U64","v":"kit 2B"},{"$f":"V64","v":"kit 4A"},{"$f":"W64","v":"kit 4B"},"kit 5","kit 6A","kit 6B","kit 7","kit 8","kit 9A","kit 9B",{"$f":"AE64","v":"kit 10"},{"$f":"AF64","v":"kit 11"},null,null,null,0,{"$f":"MIN((S191+AJ31*D19)/AK38,(S192+AJ31*D19)/AL38,(S193+AJ31*D19)/AM38,(S194+AJ31*D19)/AN38,(S195+AJ31*D19)/AO38)*AP38","v":{"$error":"#VALUE!"}},{"$f":"MIN((T191+AJ31*D19)/AK38,(T192+AJ31*D19)/AL38,(T193+AJ31*D19)/AM38,(T194+AJ31*D19)/AN38,(T195+AJ31*D19)/AO38)*AP38","v":{"$error":"#VALUE!"}},{"$f":"MIN((U191+AJ31*D19)/AK38,(U192+AJ31*D19)/AL38,(U193+AJ31*D19)/AM38,(U194+AJ31*D19)/AN38,(U195+AJ31*D19)/AO38)*AP38","v":{"$error":"#VALUE!"}},{"$f":"MIN((V191+AJ31*D19)/AK38,(V192+AJ31*D19)/AL38,(V193+AJ31*D19)/AM38,(V194+AJ31*D19)/AN38,(V195+AJ31*D19)/AO38)*AP38","v":{"$error":"#VALUE!"}},{"$f":"MIN((W191+AJ31*D19)/AK38,(W192+AJ31*D19)/AL38,(W193+AJ31*D19)/AM38,(W194+AJ31*D19)/AN38,(W195+AJ31*D19)/AO38)*AP38","v":{"$error":"#VALUE!"}},{"$f":"MIN((X191+AJ31*D19)/AK38,(X192+AJ31*D19)/AL38,(X193+AJ31*D19)/AM38,(X194+AJ31*D19)/AN38,(X195+AJ31*D19)/AO38)*AP38","v":{"$error":"#VALUE!"}},{"$f":"MIN((Y191+AJ31*D19)/AK38,(Y192+AJ31*D19)/AL38,(Y193+AJ31*D19)/AM38,(Y194+AJ31*D19)/AN38,(Y195+AJ31*D19)/AO38)*AP38","v":{"$error":"#VALUE!"}},{"$f":"MIN((Z191+AJ31*D19)/AK38,(Z192+AJ31*D19)/AL38,(Z193+AJ31*D19)/AM38,(Z194+AJ31*D19)/AN38,(Z195+AJ31*D19)/AO38)*AP38","v":{"$error":"#VALUE!"}},{"$f":"MIN((AA191+AJ31*D19)/AK38,(AA192+AJ31*D19)/AL38,(AA193+AJ31*D19)/AM38,(AA194+AJ31*D19)/AN38,(AA195+AJ31*D19)/AO38)*AP38","v":{"$error":"#VALUE!"}},{"$f":"MIN((AB191+AJ31*D19)/AK38,(AB192+AJ31*D19)/AL38,(AB193+AJ31*D19)/AM38,(AB194+AJ31*D19)/AN38,(AB195+AJ31*D19)/AO38)*AP38","v":{"$error":"#VALUE!"}},{"$f":"MIN((AC191+AJ31*D19)/AK38,(AC192+AJ31*D19)/AL38,(AC193+AJ31*D19)/AM38,(AC194+AJ31*D19)/AN38,(AC195+AJ31*D19)/AO38)*AP38","v":{"$error":"#VALUE!"}},{"$f":"MIN((AD191+AJ31*D19)/AK38,(AD192+AJ31*D19)/AL38,(AD193+AJ31*D19)/AM38,(AD194+AJ31*D19)/AN38,(AD195+AJ31*D19)/AO38)*AP38","v":{"$error":"#VALUE!"}},{"$f":"MIN((AE191+AJ31*D19)/AK38,(AE192+AJ31*D19)/AL38,(AE193+AJ31*D19)/AM38,(AE194+AJ31*D19)/AN38,(AE195+AJ31*D19)/AO38)*AP38","v":{"$error":"#VALUE!"}},{"$f":"MIN((AF191+AJ31*D19)/AK38,(AF192+AJ31*D19)/AL38,(AF193+AJ31*D19)/AM38,(AF194+AJ31*D19)/AN38,(AF195+AJ31*D19)/AO38)*AP38","v":{"$error":"#VALUE!"}},{"$error":"#VALUE!"},null,0,{"$f":"MIN((S191+AK31*D19)/AK39,(S192+AK31*D19)/AL39,(S193+AK31*D19)/AM39,(S194+AK31*D19)/AN39,(S195+AK31*D19)/AO39)*AP39","v":{"$error":"#VALUE!"}},{"$f":"MIN((T191+AK31*D19)/AK39,(T192+AK31*D19)/AL39,(T193+AK31*D19)/AM39,(T194+AK31*D19)/AN39,(T195+AK31*D19)/AO39)*AP39","v":{"$error":"#VALUE!"}},null,null,null,null,null,null,null,null,null,null,null,null,{"$error":"#VALUE!"},null,null,{"$f":"IF(AV24=5,AI24,IF(AV25=5,AI25,BS80))","v":"attente"},{"$f":"IF(AV16=5,AI16,IF(AV17=5,AI17,IF(AV18=5,AI18,IF(AV19=5,AI19,IF(AV20=5,AI20,IF(AV21=5,AI21,IF(AV22=5,AI22,IF(AV23=5,AI23,BS71))))))))","v":"attente"},{"$f":"IF(AV24=5,AY114,IF(AV25=5,AY115,0))","v":0},{"$f":"IF(AV16=5,AY106,IF(AV17=5,AY107,IF(AV18=5,AY108,IF(AV19=5,AY109,IF(AV20=5,AY110,IF(AV21=5,AY111,IF(AV22=5,AY112,IF(AV23=5,AY113,BU71))))))))","v":0},{"$f":"IF(AV8=5,AY98,IF(AV9=5,AY99,IF(AV10=5,AY100,IF(AV11=5,AY101,IF(AV12=5,AY102,IF(AV13=5,AY103,IF(AV14=5,AY104,IF(AV15=5,AY105,BV71))))))))","v":{"$error":"#VALUE!"}}]
[null,null,null,null,0.81740000000000002,0.54495000000000005,1.3623500000000002,1.6348499999999999,1.0899000000000001,2.7247500000000002,1.0899000000000001,0.72660000000000002,1.8165,1.27155,0.54495000000000005,1.8165,null,{"$f":"H13+AH39+D16+D17+D21+D19*AG10","v":{"$error":"#VALUE!"}},{"$f":"R72+Q10","v":{"$error":"#VALUE!"}},{"$f":"R72+R10","v":{"$error":"#VALUE!"}},{"$f":"R72+S10","v":{"$error":"#VALUE!"}},{"$f":"R72+T10","v":{"$error":"#VALUE!"}},{"$f":"R72+U10","v":{"$error":"#VALUE!"}},{"$f":"R72+V10","v":{"$error":"#VALUE!"}},{"$f":"R72+W10","v":{"$error":"#VALUE!"}},{"$f":"R72+X10","v":{"$error":"#VALUE!"}},{"$f":"R72+Y10","v":{"$error":"#VALUE!"}},{"$f":"R72+Z10","v":{"$error":"#VALUE!"}},{"$f":"R72+AA10","v":{"$error":"#VALUE!"}},{"$f":"R72+AB10","v":{"$error":"#VALUE!"}},{"$f":"R72+AC10","v":{"$error":"#VALUE!"}},{"$f":"R72+AD10","v":{"$error":"#VALUE!"}},null,null,null,0,{"$f":"MIN((S198+AJ31*D19)/AK38,(S199+AJ31*D19)/AL38,(S200+AJ31*D19)/AM38,(S201+AJ31*D19)/AN38,(S202+AJ31*D19)/AO38)*AP38","v":{"$error":"#VALUE!"}},{"$f":"MIN((T198+AJ31*D19)/AK38,(T199+AJ31*D19)/AL38,(T200+AJ31*D19)/AM38,(T201+AJ31*D19)/AN38,(T202+AJ31*D19)/AO38)*AP38","v":{"$error":"#VALUE!"}},{"$f":"MIN((U198+AJ31*D19)/AK38,(U199+AJ31*D19)/AL38,(U200+AJ31*D19)/AM38,(U201+AJ31*D19)/AN38,(U202+AJ31*D19)/AO38)*AP38","v":{"$error":"#VALUE!"}},{"$f":"MIN((V198+AJ31*D19)/AK38,(V199+AJ31*D19)/AL38,(V200+AJ31*D19)/AM38,(V201+AJ31*D19)/AN38,(V202+AJ31*D19)/AO38)*AP38","v":{"$error":"#VALUE!"}},{"$f":"MIN((W198+AJ31*D19)/AK38,(W199+AJ31*D19)/AL38,(W200+AJ31*D19)/AM38,(W201+AJ31*D19)/AN38,(W202+AJ31*D19)/AO38)*AP38","v":{"$error":"#VALUE!"}},{"$f":"MIN((X198+AJ31*D19)/AK38,(X199+AJ31*D19)/AL38,(X200+AJ31*D19)/AM38,(X201+AJ31*D19)/AN38,(X202+AJ31*D19)/AO38)*AP38","v":{"$error":"#VALUE!"}},{"$f":"MIN((Y198+AJ31*D19)/AK38,(Y199+AJ31*D19)/AL38,(Y200+AJ31*D19)/AM38,(Y201+AJ31*D19)/AN38,(Y202+AJ31*D19)/AO38)*AP38","v":{"$error":"#VALUE!"}},{"$f":"MIN((Z198+AJ31*D19)/AK38,(Z199+AJ31*D19)/AL38,(Z200+AJ31*D19)/AM38,(Z201+AJ31*D19)/AN38,(Z202+AJ31*D19)/AO38)*AP38","v":{"$error":"#VALUE!"}},{"$f":"MIN((AA198+AJ31*D19)/AK38,(AA199+AJ31*D19)/AL38,(AA200+AJ31*D19)/AM38,(AA201+AJ31*D19)/AN38,(AA202+AJ31*D19)/AO38)*AP38","v":{"$error":"#VALUE!"}},{"$f":"MIN((AB198+AJ31*D19)/AK38,(AB199+AJ31*D19)/AL38,(AB200+AJ31*D19)/AM38,(AB201+AJ31*D19)/AN38,(AB202+AJ31*D19)/AO38)*AP38","v":{"$error":"#VALUE!"}},{"$f":"MIN((AC198+AJ31*D19)/AK38,(AC199+AJ31*D19)/AL38,(AC200+AJ31*D19)/AM38,(AC201+AJ31*D19)/AN38,(AC202+AJ31*D19)/AO38)*AP38","v":{"$error":"#VALUE!"}},{"$f":"MIN((AD198+AJ31*D19)/AK38,(AD199+AJ31*D19)/AL38,(AD200+AJ31*D19)/AM38,(AD201+AJ31*D19)/AN38,(AD202+AJ31*D19)/AO38)*AP38","v":{"$error":"#VALUE!"}},{"$f":"MIN((AE198+AJ31*D19)/AK38,(AE199+AJ31*D19)/AL38,(AE200+AJ31*D19)/AM38,(AE201+AJ31*D19)/AN38,(AE202+AJ31*D19)/AO38)*AP38","v":{"$error":"#VALUE!"}},{"$f":"MIN((AF198+AJ31*D19)/AK38,(AF199+AJ31*D19)/AL38,(AF200+AJ31*D19)/AM38,(AF201+AJ31*D19)/AN38,(AF202+AJ31*D19)/AO38)*AP38","v":{"$error":"#VALUE!"}},{"$error":"#VALUE!"},null,0,null,null,null,null,null,null,null,null,null,null,null,null,null,null,0,null,null,{"$f":"IF(AV24=6,AI24,IF(AV25=6,AI25,BS80))","v":"attente"},{"$f":"IF(AV16=6,AI16,IF(AV17=6,AI17,IF(AV18=6,AI18,IF(AV19=6,AI19,IF(AV20=6,AI20,IF(AV21=6,AI21,IF(AV22=6,AI22,IF(AV23=6,AI23,BS72))))))))","v":"attente"},{"$f":"IF(AV24=6,BP114,IF(AV25=6,BP115,0))","v":0},{"$f":"IF(AV16=6,BP106,IF(AV17=6,BP107,IF(AV18=6,BP108,IF(AV19=6,BP109,IF(AV20=6,BP110,IF(AV21=6,BP111,IF(AV22=6,BP112,IF(AV23=6,BP113,BU72))))))))","v":0},{"$f":"IF(AV8=6,BP98,IF(AV9=6,BP99,IF(AV10=6,BP100,IF(AV11=6,BP101,IF(AV12=6,BP102,IF(AV13=6,BP103,IF(AV14=6,BP104,IF(AV15=6,BP105,BV72))))))))","v":{"$error":"#VALUE!"}}]
[null,null,null,null,null,null,{"$f":"SUM(G62:G72)","v":19.981249999999999},null,null,{"$f":"SUM(J62:J72)","v":19.975750000000001},null,null,{"$f":"SUM(M62:M72)","v":19.981200000000001},null,null,{"$f":"SUM(P62:P72)","v":19.981199999999998},null,{"$f":"I13+AH40+D15+D17+D21+D19*AG10","v":{"$error":"#VALUE!"}},{"$f":"R73+Q11","v":{"$error":"#VALUE!"}},{"$f":"R73+R11","v":{"$error":"#VALUE!"}},{"$f":"R73+S11","v":{"$error":"#VALUE!"}},{"$f":"R73+T11","v":{"$error":"#VALUE!"}},{"$f":"R73+U11","v":{"$error":"#VALUE!"}},{"$f":"R73+V11","v":{"$error":"#VALUE!"}},{"$f":"R73+W11","v":{"$error":"#VALUE!"}},{"$f":"R73+X11","v":{"$error":"#VALUE!"}},{"$f":"R73+Y11","v":{"$error":"#VALUE!"}},{"$f":"R73+Z11","v":{"$error":"#VALUE!"}},{"$f":"R73+AA11","v":{"$error":"#VALUE!"}},{"$f":"R73+AB11","v":{"$error":"#VALUE!"}},{"$f":"R73+AC11","v":{"$error":"#VALUE!"}},{"$f":"R73+AD11","v":{"$error":"#VALUE!"}},null,null,null,null,null,null,null,null,null,null,null,null,null,null,null,null,null,null,null,null,null,null,null,null,null,null,null,null,null,null,null,null,null,null,null,null,null,null,{"$f":"IF(AV24=7,AI24,IF(AV25=7,AI25,BS80))","v":"attente"},{"$f":"IF(AV16=7,AI16,IF(AV17=7,AI17,IF(AV18=7,AI18,IF(AV19=7,AI19,IF(AV20=7,AI20,IF(AV21=7,AI21,IF(AV22=7,AI22,IF(AV23=7,AI23,BS73))))))))","v":"attente"},{"$f":"IF(AV24=7,AY137,IF(AV25=7,AY138,0))","v":0},{"$f":"IF(AV16=7,AY129,IF(AV17=7,AY130,IF(AV18=7,AY131,IF(AV19=7,AY132,IF(AV20=7,AY133,IF(AV21=7,AY134,IF(AV22=7,AY135,IF(AV23=7,AY136,BU73))))))))","v":0},{"$f":"IF(AV8=7,AY121,IF(AV9=7,AY122,IF(AV10=7,AY123,IF(AV11=7,AY124,IF(AV12=7,AY125,IF(AV13=7,AY126,IF(AV14=7,AY127,IF(AV15=7,AY128,BV73))))))))","v":{"$error":"#VALUE!"}}]
[null,null,null,null,"541 neutre",null,null,"433 neutre",null,null,"352 neutre",null,null,"442 neutre",null,null,null,{"$f":"J13+AH41+D15+D17+D21+D19*AG10","v":{"$error":"#VALUE!"}},{"$f":"R74+Q12","v":{"$error":"#VALUE!"}},{"$f":"R74+R12","v":{"$error":"#VALUE!"}},{"$f":"R74+S12","v":{"$error":"#VALUE!"}},{"$f":"R74+T12","v":{"$error":"#VALUE!"}},{"$f":"R74+U12","v":{"$error":"#VALUE!"}},{"$f":"R74+V12","v":{"$error":"#VALUE!"}},{"$f":"R74+W12","v":{"$error":"#VALUE!"}},{"$f":"R74+X12","v":{"$error":"#VALUE!"}},{"$f":"R74+Y12","v":{"$error":"#VALUE!"}},{"$f":"R74+Z12","v":{"$error":"#VALUE!"}},{"$f":"R74+AA12","v":{"$error":"#VALUE!"}},{"$f":"R74+AB12","v":{"$error":"#VALUE!"}},{"$f":"R74+AC12","v":{"$error":"#VALUE!"}},{"$f":"R74+AD12","v":{"$error":"#VALUE!"}},null,null,null,3,{"$f":"Q9","v":"kit 1"},"kit 2A","kit 2B","kit 4A","kit 4B","kit 5","kit 6A","kit 6B","kit 7","kit 8","kit 9A","kit 9B","kit 10","kit 11","MAX",null,4,{"$f":"Q9","v":"kit 1"},"kit 2A","kit 2B","kit 4A","kit 4B","kit 5","kit 6A","kit 6B","kit 7","kit 8","kit 9A","kit 9B","kit 10","kit 11","MAX",null,null,{"$f":"IF(AV24=8,AI24,IF(AV25=8,AI25,BS80))","v":"attente"},{"$f":"IF(AV16=8,AI16,IF(AV17=8,AI17,IF(AV18=8,AI18,IF(AV19=8,AI19,IF(AV20=8,AI20,IF(AV21=8,AI21,IF(AV22=8,AI22,IF(AV23=8,AI23,BS74))))))))","v":"attente"},{"$f":"IF(AV24=8,BP137,IF(AV25=8,BP138,0))","v":0},{"$f":"IF(AV16=8,BP129,IF(AV17=8,BP130,IF(AV18=8,BP131,IF(AV19=8,BP132,IF(AV20=8,BP133,IF(AV21=8,BP134,IF(AV22=8,BP135,IF(AV23=8,BP136,BU74))))))))","v":0},{"$f":"IF(AV8=8,BP121,IF(AV9=8,BP122,IF(AV10=8,BP123,IF(AV11=8,BP124,IF(AV12=8,BP125,IF(AV13=8,BP126,IF(AV14=8,BP127,IF(AV15=8,BP128,BV74))))))))","v":{"$error":"#VALUE!"}}]
[null,null,null,null,"1% attaque","1% defense","1% cumulé","1% attaque","1% defense","1% cumulé","1% attaque","1% defense","1% cumulé","1% attaque","1% defense","1% cumulé",null,{"$f":"K13+AH42+D16+D17+D21+D19*AG10","v":{"$error":"#VALUE!"}},{"$f":"R75+Q13","v":{"$error":"#VALUE!"}},{"$f":"R75+R13","v":{"$error":"#VALUE!"}},{"$f":"R75+S13","v":{"$error":"#VALUE!"}},{"$f":"R75+T13","v":{"$error":"#VALUE!"}},{"$f":"R75+U13","v":{"$error":"#VALUE!"}},{"$f":"R75+V13","v":{"$error":"#VALUE!"}},{"$f":"R75+W13","v":{"$error":"#VALUE!"}},{"$f":"R75+X13","v":{"$error":"#VALUE!"}},{"$f":"R75+Y13","v":{"$error":"#VALUE!"}},{"$f":"R75+Z13","v":{"$error":"#VALUE!"}},{"$f":"R75+AA13","v":{"$error":"#VALUE!"}},{"$f":"R75+AB13","v":{"$error":"#VALUE!"}},{"$f":"R75+AC13","v":{"$error":"#VALUE!"}},{"$f":"R75+AD13","v":{"$error":"#VALUE!"}},null,null,null,{"$f":"AJ167","v":""},{"$f":"MIN((S58+AL31*D19)/AK40,(S59+AL31*D19)/AL40,(S60+AL31*D19)/AM40,(S61+AL31*D19)/AN40,(S62+AL31*D19)/AO40)*AP40","v":{"$error":"#VALUE!"}},{"$f":"MIN((T58+AL31*D19)/AK40,(T59+AL31*D19)/AL40,(T60+AL31*D19)/AM40,(T61+AL31*D19)/AN40,(T62+AL31*D19)/AO40)*AP40","v":{"$error":"#VALUE!"}},{"$f":"MIN((U58+AL31*D19)/AK40,(U59+AL31*D19)/AL40,(U60+AL31*D19)/AM40,(U61+AL31*D19)/AN40,(U62+AL31*D19)/AO40)*AP40","v":{"$error":"#VALUE!"}},{"$f":"MIN((V58+AL31*D19)/AK40,(V59+AL31*D19)/AL40,(V60+AL31*D19)/AM40,(V61+AL31*D19)/AN40,(V62+AL31*D19)/AO40)*AP40","v":{"$error":"#VALUE!"}},{"$f":"MIN((W58+AL31*D19)/AK40,(W59+AL31*D19)/AL40,(W60+AL31*D19)/AM40,(W61+AL31*D19)/AN40,(W62+AL31*D19)/AO40)*AP40","v":{"$error":"#VALUE!"}},{"$f":"MIN((X58+AL31*D19)/AK40,(X59+AL31*D19)/AL40,(X60+AL31*D19)/AM40,(X61+AL31*D19)/AN40,(X62+AL31*D19)/AO40)*AP40","v":{"$error":"#VALUE!"}},{"$f":"MIN((Y58+AL31*D19)/AK40,(Y59+AL31*D19)/AL40,(Y60+AL31*D19)/AM40,(Y61+AL31*D19)/AN40,(Y62+AL31*D19)/AO40)*AP40","v":{"$error":"#VALUE!"}},{"$f":"MIN((Z58+AL31*D19)/AK40,(Z59+AL31*D19)/AL40,(Z60+AL31*D19)/AM40,(Z61+AL31*D19)/AN40,(Z62+AL31*D19)/AO40)*AP40","v":{"$error":"#VALUE!"}},{"$f":"MIN((AA58+AL31*D19)/AK40,(AA59+AL31*D19)/AL40,(AA60+AL31*D19)/AM40,(AA61+AL31*D19)/AN40,(AA62+AL31*D19)/AO40)*AP40","v":{"$error":"#VALUE!"}},{"$f":"MIN((AB58+AL31*D19)/AK40,(AB59+AL31*D19)/AL40,(AB60+AL31*D19)/AM40,(AB61+AL31*D19)/AN40,(AB62+AL31*D19)/AO40)*AP40","v":{"$error":"#VALUE!"}},{"$f":"MIN((AC58+AL31*D19)/AK40,(AC59+AL31*D19)/AL40,(AC60+AL31*D19)/AM40,(AC61+AL31*D19)/AN40,(AC62+AL31*D19)/AO40)*AP40","v":{"$error":"#VALUE!"}},{"$f":"MIN((AD58+AL31*D19)/AK40,(AD59+AL31*D19)/AL40,(AD60+AL31*D19)/AM40,(AD61+AL31*D19)/AN40,(AD62+AL31*D19)/AO40)*AP40","v":{"$error":"#VALUE!"}},{"$f":"MIN((AE58+AL31*D19)/AK40,(AE59+AL31*D19)/AL40,(AE60+AL31*D19)/AM40,(AE61+AL31*D19)/AN40,(AE62+AL31*D19)/AO40)*AP40","v":{"$error":"#VALUE!"}},{"$f":"MIN((AF58+AL31*D19)/AK40,(AF59+AL31*D19)/AL40,(AF60+AL31*D19)/AM40,(AF61+AL31*D19)/AN40,(AF62+AL31*D19)/AO40)*AP40","v":{"$error":"#VALUE!"}},{"$f":"MAX(AK75:AX75)","v":{"$error":"#VALUE!"}},null,{"$f":"AJ167","v":""},{"$f":"MIN((S58+AM31*D19)/AK41,(S59+AM31*D19)/AL41,(S60+AM31*D19)/AM41,(S61+AM31*D19)/AN41,(S62+AM31*D19)/AO41)*AP41","v":{"$error":"#VALUE!"}},{"$f":"MIN((T58+AM31*D19)/AK41,(T59+AM31*D19)/AL41,(T60+AM31*D19)/AM41,(T61+AM31*D19)/AN41,(T62+AM31*D19)/AO41)*AP41","v":{"$error":"#VALUE!"}},{"$f":"MIN((U58+AM31*D19)/AK41,(U59+AM31*D19)/AL41,(U60+AM31*D19)/AM41,(U61+AM31*D19)/AN41,(U62+AM31*D19)/AO41)*AP41","v":{"$error":"#VALUE!"}},{"$f":"MIN((V58+AM31*D19)/AK41,(V59+AM31*D19)/AL41,(V60+AM31*D19)/AM41,(V61+AM31*D19)/AN41,(V62+AM31*D19)/AO41)*AP41","v":{"$error":"#VALUE!"}},{"$f":"MIN((W58+AM31*D19)/AK41,(W59+AM31*D19)/AL41,(W60+AM31*D19)/AM41,(W61+AM31*D19)/AN41,(W62+AM31*D19)/AO41)*AP41","v":{"$error":"#VALUE!"}},{"$f":"MIN((X58+AM31*D19)/AK41,(X59+AM31*D19)/AL41,(X60+AM31*D19)/AM41,(X61+AM31*D19)/AN41,(X62+AM31*D19)/AO41)*AP41","v":{"$error":"#VALUE!"}},{"$f":"MIN((Y58+AM31*D19)/AK41,(Y59+AM31*D19)/AL41,(Y60+AM31*D19)/AM41,(Y61+AM31*D19)/AN41,(Y62+AM31*D19)/AO41)*AP41","v":{"$error":"#VALUE!"}},{"$f":"MIN((Z58+AM31*D19)/AK41,(Z59+AM31*D19)/AL41,(Z60+AM31*D19)/AM41,(Z61+AM31*D19)/AN41,(Z62+AM31*D19)/AO41)*AP41","v":{"$error":"#VALUE!"}},{"$f":"MIN((AA58+AM31*D19)/AK41,(AA59+AM31*D19)/AL41,(AA60+AM31*D19)/AM41,(AA61+AM31*D19)/AN41,(AA62+AM31*D19)/AO41)*AP41","v":{"$error":"#VALUE!"}},{"$f":"MIN((AB58+AM31*D19)/AK41,(AB59+AM31*D19)/AL41,(AB60+AM31*D19)/AM41,(AB61+AM31*D19)/AN41,(AB62+AM31*D19)/AO41)*AP41","v":{"$error":"#VALUE!"}},{"$f":"MIN((AC58+AM31*D19)/AK41,(AC59+AM31*D19)/AL41,(AC60+AM31*D19)/AM41,(AC61+AM31*D19)/AN41,(AC62+AM31*D19)/AO41)*AP41","v":{"$error":"#VALUE!"}},{"$f":"MIN((AD58+AM31*D19)/AK41,(AD59+AM31*D19)/AL41,(AD60+AM31*D19)/AM41,(AD61+AM31*D19)/AN41,(AD62+AM31*D19)/AO41)*AP41","v":{"$error":"#VALUE!"}},{"$f":"MIN((AE58+AM31*D19)/AK41,(AE59+AM31*D19)/AL41,(AE60+AM31*D19)/AM41,(AE61+AM31*D19)/AN41,(AE62+AM31*D19)/AO41)*AP41","v":{"$error":"#VALUE!"}},{"$f":"MIN((AF58+AM31*D19)/AK41,(AF59+AM31*D19)/AL41,(AF60+AM31*D19)/AM41,(AF61+AM31*D19)/AN41,(AF62+AM31*D19)/AO41)*AP41","v":{"$error":"#VALUE!"}},{"$f":"MAX(BB75:BO75)","v":{"$error":"#VALUE!"}},null,null,{"$f":"IF(AV24=9,AI24,IF(AV25=9,AI25,BS80))","v":"attente"},{"$f":"IF(AV16=9,AI16,IF(AV17=9,AI17,IF(AV18=9,AI18,IF(AV19=9,AI19,IF(AV20=9,AI20,IF(AV21=9,AI21,IF(AV22=9,AI22,IF(AV23=9,AI23,BS75))))))))","v":""},{"$f":"IF(AV24=9,AY160,IF(AV25=9,AY161,0))","v":0},{"$f":"IF(AV16=9,AY152,IF(AV17=9,AY153,IF(AV18=9,AY154,IF(AV19=9,AY155,IF(AV20=9,AY156,IF(AV21=9,AY157,IF(AV22=9,AY158,IF(AV23=9,AY159,BU75))))))))","v":{"$error":"#VALUE!"}},{"$f":"IF(AV8=9,AY144,IF(AV9=9,AY145,IF(AV10=9,AY146,IF(AV11=9,AY147,IF(AV12=9,AY148,IF(AV13=9,AY149,IF(AV14=9,AY150,IF(AV15=9,AY151,BV75))))))))","v":{"$error":"#VALUE!"}}]
[null,null,null,null,5.4449999999999998E-2,2.6702499999999998,{"$f":"E76+F76","v":2.7246999999999999},0.16345000000000001,2.5613000000000001,{"$f":"H76+I76","v":2.7247500000000002},5.4449999999999998E-2,2.6702499999999998,{"$f":"K76+L76","v":2.7246999999999999},5.4449999999999998E-2,2.6702499999999998,{"$f":"N76+O76","v":2.7246999999999999},null,{"$f":"L13+AH43+D15+D17+D21+D19*AG10","v":{"$error":"#VALUE!"}},{"$f":"R76+Q14","v":{"$error":"#VALUE!"}},{"$f":"R76+R14","v":{"$error":"#VALUE!"}},{"$f":"R76+S14","v":{"$error":"#VALUE!"}},{"$f":"R76+T14","v":{"$error":"#VALUE!"}},{"$f":"R76+U14","v":{"$error":"#VALUE!"}},{"$f":"R76+V14","v":{"$error":"#VALUE!"}},{"$f":"R76+W14","v":{"$error":"#VALUE!"}},{"$f":"R76+X14","v":{"$error":"#VALUE!"}},{"$f":"R76+Y14","v":{"$error":"#VALUE!"}},{"$f":"R76+Z14","v":{"$error":"#VALUE!"}},{"$f":"R76+AA14","v":{"$error":"#VALUE!"}},{"$f":"R76+AB14","v":{"$error":"#VALUE!"}},{"$f":"R76+AC14","v":{"$error":"#VALUE!"}},{"$f":"R76+AD14","v":{"$error":"#VALUE!"}},null,null,null,"",{"$f":"MIN((S65+AL31*D19)/AK40,(S66+AL31*D19)/AL40,(S67+AL31*D19)/AM40,(S68+AL31*D19)/AN40,(S69+AL31*D19)/AO40)*AP40","v":{"$error":"#VALUE!"}},{"$f":"MIN((T65+AL31*D19)/AK40,(T66+AL31*D19)/AL40,(T67+AL31*D19)/AM40,(T68+AL31*D19)/AN40,(T69+AL31*D19)/AO40)*AP40","v":{"$error":"#VALUE!"}},{"$f":"MIN((U65+AL31*D19)/AK40,(U66+AL31*D19)/AL40,(U67+AL31*D19)/AM40,(U68+AL31*D19)/AN40,(U69+AL31*D19)/AO40)*AP40","v":{"$error":"#VALUE!"}},{"$f":"MIN((V65+AL31*D19)/AK40,(V66+AL31*D19)/AL40,(V67+AL31*D19)/AM40,(V68+AL31*D19)/AN40,(V69+AL31*D19)/AO40)*AP40","v":{"$error":"#VALUE!"}},{"$f":"MIN((W65+AL31*D19)/AK40,(W66+AL31*D19)/AL40,(W67+AL31*D19)/AM40,(W68+AL31*D19)/AN40,(W69+AL31*D19)/AO40)*AP40","v":{"$error":"#VALUE!"}},{"$f":"MIN((X65+AL31*D19)/AK40,(X66+AL31*D19)/AL40,(X67+AL31*D19)/AM40,(X68+AL31*D19)/AN40,(X69+AL31*D19)/AO40)*AP40","v":{"$error":"#VALUE!"}},{"$f":"MIN((Y65+AL31*D19)/AK40,(Y66+AL31*D19)/AL40,(Y67+AL31*D19)/AM40,(Y68+AL31*D19)/AN40,(Y69+AL31*D19)/AO40)*AP40","v":{"$error":"#VALUE!"}},{"$f":"MIN((Z65+AL31*D19)/AK40,(Z66+AL31*D19)/AL40,(Z67+AL31*D19)/AM40,(Z68+AL31*D19)/AN40,(Z69+AL31*D19)/AO40)*AP40","v":{"$error":"#VALUE!"}},{"$f":"MIN((AA65+AL31*D19)/AK40,(AA66+AL31*D19)/AL40,(AA67+AL31*D19)/AM40,(AA68+AL31*D19)/AN40,(AA69+AL31*D19)/AO40)*AP40","v":{"$error":"#VALUE!"}},{"$f":"MIN((AB65+AL31*D19)/AK40,(AB66+AL31*D19)/AL40,(AB67+AL31*D19)/AM40,(AB68+AL31*D19)/AN40,(AB69+AL31*D19)/AO40)*AP40","v":{"$error":"#VALUE!"}},{"$f":"MIN((AC65+AL31*D19)/AK40,(AC66+AL31*D19)/AL40,(AC67+AL31*D19)/AM40,(AC68+AL31*D19)/AN40,(AC69+AL31*D19)/AO40)*AP40","v":{"$error":"#VALUE!"}},{"$f":"MIN((AD65+AL31*D19)/AK40,(AD66+AL31*D19)/AL40,(AD67+AL31*D19)/AM40,(AD68+AL31*D19)/AN40,(AD69+AL31*D19)/AO40)*AP40","v":{"$error":"#VALUE!"}},{"$f":"MIN((AE65+AL31*D19)/AK40,(AE66+AL31*D19)/AL40,(AE67+AL31*D19)/AM40,(AE68+AL31*D19)/AN40,(AE69+AL31*D19)/AO40)*AP40","v":{"$error":"#VALUE!"}},{"$f":"MIN((AF65+AL31*D19)/AK40,(AF66+AL31*D19)/AL40,(AF67+AL31*D19)/AM40,(AF68+AL31*D19)/AN40,(AF69+AL31*D19)/AO40)*AP40","v":{"$error":"#VALUE!"}},{"$error":"#VALUE!"},null,"",{"$f":"MIN((S65+AM31*D19)/AK41,(S66+AM31*D19)/AL41,(S67+AM31*D19)/AM41,(S68+AM31*D19)/AN41,(S69+AM31*D19)/AO41)*AP41","v":{"$error":"#VALUE!"}},{"$f":"MIN((T65+AM31*D19)/AK41,(T66+AM31*D19)/AL41,(T67+AM31*D19)/AM41,(T68+AM31*D19)/AN41,(T69+AM31*D19)/AO41)*AP41","v":{"$error":"#VALUE!"}},{"$f":"MIN((U65+AM31*D19)/AK41,(U66+AM31*D19)/AL41,(U67+AM31*D19)/AM41,(U68+AM31*D19)/AN41,(U69+AM31*D19)/AO41)*AP41","v":{"$error":"#VALUE!"}},{"$f":"MIN((V65+AM31*D19)/AK41,(V66+AM31*D19)/AL41,(V67+AM31*D19)/AM41,(V68+AM31*D19)/AN41,(V69+AM31*D19)/AO41)*AP41","v":{"$error":"#VALUE!"}},{"$f":"MIN((W65+AM31*D19)/AK41,(W66+AM31*D19)/AL41,(W67+AM31*D19)/AM41,(W68+AM31*D19)/AN41,(W69+AM31*D19)/AO41)*AP41","v":{"$error":"#VALUE!"}},{"$f":"MIN((X65+AM31*D19)/AK41,(X66+AM31*D19)/AL41,(X67+AM31*D19)/AM41,(X68+AM31*D19)/AN41,(X69+AM31*D19)/AO41)*AP41","v":{"$error":"#VALUE!"}},{"$f":"MIN((Y65+AM31*D19)/AK41,(Y66+AM31*D19)/AL41,(Y67+AM31*D19)/AM41,(Y68+AM31*D19)/AN41,(Y69+AM31*D19)/AO41)*AP41","v":{"$error":"#VALUE!"}},{"$f":"MIN((Z65+AM31*D19)/AK41,(Z66+AM31*D19)/AL41,(Z67+AM31*D19)/AM41,(Z68+AM31*D19)/AN41,(Z69+AM31*D19)/AO41)*AP41","v":{"$error":"#VALUE!"}},{"$f":"MIN((AA65+AM31*D19)/AK41,(AA66+AM31*D19)/AL41,(AA67+AM31*D19)/AM41,(AA68+AM31*D19)/AN41,(AA69+AM31*D19)/AO41)*AP41","v":{"$error":"#VALUE!"}},{"$f":"MIN((AB65+AM31*D19)/AK41,(AB66+AM31*D19)/AL41,(AB67+AM31*D19)/AM41,(AB68+AM31*D19)/AN41,(AB69+AM31*D19)/AO41)*AP41","v":{"$error":"#VALUE!"}},{"$f":"MIN((AC65+AM31*D19)/AK41,(AC66+AM31*D19)/AL41,(AC67+AM31*D19)/AM41,(AC68+AM31*D19)/AN41,(AC69+AM31*D19)/AO41)*AP41","v":{"$error":"#VALUE!"}},{"$f":"MIN((AD65+AM31*D19)/AK41,(AD66+AM31*D19)/AL41,(AD67+AM31*D19)/AM41,(AD68+AM31*D19)/AN41,(AD69+AM31*D19)/AO41)*AP41","v":{"$error":"#VALUE!"}},{"$f":"MIN((AE65+AM31*D19)/AK41,(AE66+AM31*D19)/AL41,(AE67+AM31*D19)/AM41,(AE68+AM31*D19)/AN41,(AE69+AM31*D19)/AO41)*AP41","v":{"$error":"#VALUE!"}},{"$f":"MIN((AF65+AM31*D19)/AK41,(AF66+AM31*D19)/AL41,(AF67+AM31*D19)/AM41,(AF68+AM31*D19)/AN41,(AF69+AM31*D19)/AO41)*AP41","v":{"$error":"#VALUE!"}},{"$f":"MAX(BB76:BO76)","v":{"$error":"#VALUE!"}},null,null,{"$f":"IF(AV24=10,AI24,IF(AV25=10,AI25,BS80))","v":"attente"},{"$f":"IF(AV16=10,AI16,IF(AV17=10,AI17,IF(AV18=10,AI18,IF(AV19=10,AI19,IF(AV20=10,AI20,IF(AV21=10,AI21,IF(AV22=10,AI22,IF(AV23=10,AI23,BS76))))))))","v":""},{"$f":"IF(AV24=10,BP160,IF(AV25=10,BP161,0))","v":0},{"$f":"IF(AV16=10,BP152,IF(AV17=10,BP153,IF(AV18=10,BP154,IF(AV19=10,BP155,IF(AV20=10,BP156,IF(AV21=10,BP157,IF(AV22=10,BP158,IF(AV23=10,BP159,BU76))))))))","v":{"$error":"#VALUE!"}},{"$f":"IF(AV8=10,BP144,IF(AV9=10,BP145,IF(AV10=10,BP146,IF(AV11=10,BP147,IF(AV12=10,BP148,IF(AV13=10,BP149,IF(AV14=10,BP150,IF(AV15=10,BP151,BV76))))))))","v":{"$error":"#VALUE!"}}]
[null,null,null,null,0.40870000000000001,0.95365,{"$f":"E77+F77","v":1.3623499999999999},0.81740000000000002,0.54495000000000005,1.3623500000000002,1.1353,1.1353,{"$f":"K77+L77","v":2.2706},0.54495000000000005,0.81740000000000002,{"$f":"N77+O77","v":1.3623500000000002},null,null,null,null,null,null,null,null,null,null,null,null,null,null,null,null,null,null,null,"",{"$f":"MIN((S72+AL31*D19)/AK40,(S73+AL31*D19)/AL40,(S74+AL31*D19)/AM40,(S75+AL31*D19)/AN40,(S76+AL31*D19)/AO40)*AP40","v":{"$error":"#VALUE!"}},{"$f":"MIN((T72+AL31*D19)/AK40,(T73+AL31*D19)/AL40,(T74+AL31*D19)/AM40,(T75+AL31*D19)/AN40,(T76+AL31*D19)/AO40)*AP40","v":{"$error":"#VALUE!"}},{"$f":"MIN((U72+AL31*D19)/AK40,(U73+AL31*D19)/AL40,(U74+AL31*D19)/AM40,(U75+AL31*D19)/AN40,(U76+AL31*D19)/AO40)*AP40","v":{"$error":"#VALUE!"}},{"$f":"MIN((V72+AL31*D19)/AK40,(V73+AL31*D19)/AL40,(V74+AL31*D19)/AM40,(V75+AL31*D19)/AN40,(V76+AL31*D19)/AO40)*AP40","v":{"$error":"#VALUE!"}},{"$f":"MIN((W72+AL31*D19)/AK40,(W73+AL31*D19)/AL40,(W74+AL31*D19)/AM40,(W75+AL31*D19)/AN40,(W76+AL31*D19)/AO40)*AP40","v":{"$error":"#VALUE!"}},{"$f":"MIN((X72+AL31*D19)/AK40,(X73+AL31*D19)/AL40,(X74+AL31*D19)/AM40,(X75+AL31*D19)/AN40,(X76+AL31*D19)/AO40)*AP40","v":{"$error":"#VALUE!"}},{"$f":"MIN((Y72+AL31*D19)/AK40,(Y73+AL31*D19)/AL40,(Y74+AL31*D19)/AM40,(Y75+AL31*D19)/AN40,(Y76+AL31*D19)/AO40)*AP40","v":{"$error":"#VALUE!"}},{"$f":"MIN((Z72+AL31*D19)/AK40,(Z73+AL31*D19)/AL40,(Z74+AL31*D19)/AM40,(Z75+AL31*D19)/AN40,(Z76+AL31*D19)/AO40)*AP40","v":{"$error":"#VALUE!"}},{"$f":"MIN((AA72+AL31*D19)/AK40,(AA73+AL31*D19)/AL40,(AA74+AL31*D19)/AM40,(AA75+AL31*D19)/AN40,(AA76+AL31*D19)/AO40)*AP40","v":{"$error":"#VALUE!"}},{"$f":"MIN((AB72+AL31*D19)/AK40,(AB73+AL31*D19)/AL40,(AB74+AL31*D19)/AM40,(AB75+AL31*D19)/AN40,(AB76+AL31*D19)/AO40)*AP40","v":{"$error":"#VALUE!"}},{"$f":"MIN((AC72+AL31*D19)/AK40,(AC73+AL31*D19)/AL40,(AC74+AL31*D19)/AM40,(AC75+AL31*D19)/AN40,(AC76+AL31*D19)/AO40)*AP40","v":{"$error":"#VALUE!"}},{"$f":"MIN((AD72+AL31*D19)/AK40,(AD73+AL31*D19)/AL40,(AD74+AL31*D19)/AM40,(AD75+AL31*D19)/AN40,(AD76+AL31*D19)/AO40)*AP40","v":{"$error":"#VALUE!"}},{"$f":"MIN((AE72+AL31*D19)/AK40,(AE73+AL31*D19)/AL40,(AE74+AL31*D19)/AM40,(AE75+AL31*D19)/AN40,(AE76+AL31*D19)/AO40)*AP40","v":{"$error":"#VALUE!"}},{"$f":"MIN((AF72+AL31*D19)/AK40,(AF73+AL31*D19)/AL40,(AF74+AL31*D19)/AM40,(AF75+AL31*D19)/AN40,(AF76+AL31*D19)/AO40)*AP40","v":{"$error":"#VALUE!"}},{"$error":"#VALUE!"},null,"",{"$f":"MIN((S72+AM31*D19)/AK41,(S73+AM31*D19)/AL41,(S74+AM31*D19)/AM41,(S75+AM31*D19)/AN41,(S76+AM31*D19)/AO41)*AP41","v":{"$error":"#VALUE!"}},{"$f":"MIN((T72+AM31*D19)/AK41,(T73+AM31*D19)/AL41,(T74+AM31*D19)/AM41,(T75+AM31*D19)/AN41,(T76+AM31*D19)/AO41)*AP41","v":{"$error":"#VALUE!"}},{"$f":"MIN((U72+AM31*D19)/AK41,(U73+AM31*D19)/AL41,(U74+AM31*D19)/AM41,(U75+AM31*D19)/AN41,(U76+AM31*D19)/AO41)*AP41","v":{"$error":"#VALUE!"}},{"$f":"MIN((V72+AM31*D19)/AK41,(V73+AM31*D19)/AL41,(V74+AM31*D19)/AM41,(V75+AM31*D19)/AN41,(V76+AM31*D19)/AO41)*AP41","v":{"$error":"#VALUE!"}},{"$f":"MIN((W72+AM31*D19)/AK41,(W73+AM31*D19)/AL41,(W74+AM31*D19)/AM41,(W75+AM31*D19)/AN41,(W76+AM31*D19)/AO41)*AP41","v":{"$error":"#VALUE!"}},{"$f":"MIN((X72+AM31*D19)/AK41,(X73+AM31*D19)/AL41,(X74+AM31*D19)/AM41,(X75+AM31*D19)/AN41,(X76+AM31*D19)/AO41)*AP41","v":{"$error":"#VALUE!"}},{"$f":"MIN((Y72+AM31*D19)/AK41,(Y73+AM31*D19)/AL41,(Y74+AM31*D19)/AM41,(Y75+AM31*D19)/AN41,(Y76+AM31*D19)/AO41)*AP41","v":{"$error":"#VALUE!"}},{"$f":"MIN((Z72+AM31*D19)/AK41,(Z73+AM31*D19)/AL41,(Z74+AM31*D19)/AM41,(Z75+AM31*D19)/AN41,(Z76+AM31*D19)/AO41)*AP41","v":{"$error":"#VALUE!"}},{"$f":"MIN((AA72+AM31*D19)/AK41,(AA73+AM31*D19)/AL41,(AA74+AM31*D19)/AM41,(AA75+AM31*D19)/AN41,(AA76+AM31*D19)/AO41)*AP41","v":{"$error":"#VALUE!"}},{"$f":"MIN((AB72+AM31*D19)/AK41,(AB73+AM31*D19)/AL41,(AB74+AM31*D19)/AM41,(AB75+AM31*D19)/AN41,(AB76+AM31*D19)/AO41)*AP41","v":{"$error":"#VALUE!"}},{"$f":"MIN((AC72+AM31*D19)/AK41,(AC73+AM31*D19)/AL41,(AC74+AM31*D19)/AM41,(AC75+AM31*D19)/AN41,(AC76+AM31*D19)/AO41)*AP41","v":{"$error":"#VALUE!"}},{"$f":"MIN((AD72+AM31*D19)/AK41,(AD73+AM31*D19)/AL41,(AD74+AM31*D19)/AM41,(AD75+AM31*D19)/AN41,(AD76+AM31*D19)/AO41)*AP41","v":{"$error":"#VALUE!"}},{"$f":"MIN((AE72+AM31*D19)/AK41,(AE73+AM31*D19)/AL41,(AE74+AM31*D19)/AM41,(AE75+AM31*D19)/AN41,(AE76+AM31*D19)/AO41)*AP41","v":{"$error":"#VALUE!"}},{"$f":"MIN((AF72+AM31*D19)/AK41,(AF73+AM31*D19)/AL41,(AF74+AM31*D19)/AM41,(AF75+AM31*D19)/AN41,(AF76+AM31*D19)/AO41)*AP41","v":{"$error":"#VALUE!"}},{"$error":"#VALUE!"},null,null,{"$f":"IF(AV24=11,AI24,IF(AV25=11,AI25,BS80))","v":"attente"},{"$f":"IF(AV16=11,AI16,IF(AV17=11,AI17,IF(AV18=11,AI18,IF(AV19=11,AI19,IF(AV20=11,AI20,IF(AV21=11,AI21,IF(AV22=11,AI22,IF(AV23=11,AI23,BS77))))))))","v":""},{"$f":"IF(AV24=11,AY183,IF(AV25=11,AY184,0))","v":0},{"$f":"IF(AV16=11,AY175,IF(AV17=11,AY176,IF(AV18=11,AY177,IF(AV19=11,AY178,IF(AV20=11,AY179,IF(AV21=11,AY180,IF(AV22=11,AY181,IF(AV23=11,AY182,BU77))))))))","v":{"$error":"#VALUE!"}},{"$f":"IF(AV8=11,AY167,IF(AV9=11,AY168,IF(AV10=11,AY169,IF(AV11=11,AY170,IF(AV12=11,AY171,IF(AV13=11,AY172,IF(AV14=11,AY173,IF(AV15=11,AY174,BV77))))))))","v":{"$error":"#VALUE!"}}]
[null,null,null,null,0.40870000000000001,0.95365,1.3623499999999999,0.81740000000000002,0.54495000000000005,1.3623500000000002,1.1353,1.1353,2.2706,0.54495000000000005,0.81740000000000002,1.3623500000000002,null,{"$f":"G14","v":""},{"$f":"S71","v":"kit 1"},{"$f":"T71","v":"kit 2A"},"kit 2B","kit 4A","kit 4B","kit 5","kit 6A","kit 6B","kit 7","kit 8","kit 9A","kit 9B",{"$f":"AE71","v":"kit 10"},{"$f":"AF71","v":"kit 11"},null,null,null,"",{"$f":"MIN((S79+AL31*D19)/AK40,(S80+AL31*D19)/AL40,(S81+AL31*D19)/AM40,(S82+AL31*D19)/AN40,(S83+AL31*D19)/AO40)*AP40","v":{"$error":"#VALUE!"}},{"$f":"MIN((T79+AL31*D19)/AK40,(T80+AL31*D19)/AL40,(T81+AL31*D19)/AM40,(T82+AL31*D19)/AN40,(T83+AL31*D19)/AO40)*AP40","v":{"$error":"#VALUE!"}},{"$f":"MIN((U79+AL31*D19)/AK40,(U80+AL31*D19)/AL40,(U81+AL31*D19)/AM40,(U82+AL31*D19)/AN40,(U83+AL31*D19)/AO40)*AP40","v":{"$error":"#VALUE!"}},{"$f":"MIN((V79+AL31*D19)/AK40,(V80+AL31*D19)/AL40,(V81+AL31*D19)/AM40,(V82+AL31*D19)/AN40,(V83+AL31*D19)/AO40)*AP40","v":{"$error":"#VALUE!"}},{"$f":"MIN((W79+AL31*D19)/AK40,(W80+AL31*D19)/AL40,(W81+AL31*D19)/AM40,(W82+AL31*D19)/AN40,(W83+AL31*D19)/AO40)*AP40","v":{"$error":"#VALUE!"}},{"$f":"MIN((X79+AL31*D19)/AK40,(X80+AL31*D19)/AL40,(X81+AL31*D19)/AM40,(X82+AL31*D19)/AN40,(X83+AL31*D19)/AO40)*AP40","v":{"$error":"#VALUE!"}},{"$f":"MIN((Y79+AL31*D19)/AK40,(Y80+AL31*D19)/AL40,(Y81+AL31*D19)/AM40,(Y82+AL31*D19)/AN40,(Y83+AL31*D19)/AO40)*AP40","v":{"$error":"#VALUE!"}},{"$f":"MIN((Z79+AL31*D19)/AK40,(Z80+AL31*D19)/AL40,(Z81+AL31*D19)/AM40,(Z82+AL31*D19)/AN40,(Z83+AL31*D19)/AO40)*AP40","v":{"$error":"#VALUE!"}},{"$f":"MIN((AA79+AL31*D19)/AK40,(AA80+AL31*D19)/AL40,(AA81+AL31*D19)/AM40,(AA82+AL31*D19)/AN40,(AA83+AL31*D19)/AO40)*AP40","v":{"$error":"#VALUE!"}},{"$f":"MIN((AB79+AL31*D19)/AK40,(AB80+AL31*D19)/AL40,(AB81+AL31*D19)/AM40,(AB82+AL31*D19)/AN40,(AB83+AL31*D19)/AO40)*AP40","v":{"$error":"#VALUE!"}},{"$f":"MIN((AC79+AL31*D19)/AK40,(AC80+AL31*D19)/AL40,(AC81+AL31*D19)/AM40,(AC82+AL31*D19)/AN40,(AC83+AL31*D19)/AO40)*AP40","v":{"$error":"#VALUE!"}},{"$f":"MIN((AD79+AL31*D19)/AK40,(AD80+AL31*D19)/AL40,(AD81+AL31*D19)/AM40,(AD82+AL31*D19)/AN40,(AD83+AL31*D19)/AO40)*AP40","v":{"$error":"#VALUE!"}},{"$f":"MIN((AE79+AL31*D19)/AK40,(AE80+AL31*D19)/AL40,(AE81+AL31*D19)/AM40,(AE82+AL31*D19)/AN40,(AE83+AL31*D19)/AO40)*AP40","v":{"$error":"#VALUE!"}},{"$f":"MIN((AF79+AL31*D19)/AK40,(AF80+AL31*D19)/AL40,(AF81+AL31*D19)/AM40,(AF82+AL31*D19)/AN40,(AF83+AL31*D19)/AO40)*AP40","v":{"$error":"#VALUE!"}},{"$error":"#VALUE!"},null,"",{"$f":"MIN((S79+AM31*D19)/AK41,(S80+AM31*D19)/AL41,(S81+AM31*D19)/AM41,(S82+AM31*D19)/AN41,(S83+AM31*D19)/AO41)*AP41","v":{"$error":"#VALUE!"}},{"$f":"MIN((T79+AM31*D19)/AK41,(T80+AM31*D19)/AL41,(T81+AM31*D19)/AM41,(T82+AM31*D19)/AN41,(T83+AM31*D19)/AO41)*AP41","v":{"$error":"#VALUE!"}},{"$f":"MIN((U79+AM31*D19)/AK41,(U80+AM31*D19)/AL41,(U81+AM31*D19)/AM41,(U82+AM31*D19)/AN41,(U83+AM31*D19)/AO41)*AP41","v":{"$error":"#VALUE!"}},{"$f":"MIN((V79+AM31*D19)/AK41,(V80+AM31*D19)/AL41,(V81+AM31*D19)/AM41,(V82+AM31*D19)/AN41,(V83+AM31*D19)/AO41)*AP41","v":{"$error":"#VALUE!"}},{"$f":"MIN((W79+AM31*D19)/AK41,(W80+AM31*D19)/AL41,(W81+AM31*D19)/AM41,(W82+AM31*D19)/AN41,(W83+AM31*D19)/AO41)*AP41","v":{"$error":"#VALUE!"}},{"$f":"MIN((X79+AM31*D19)/AK41,(X80+AM31*D19)/AL41,(X81+AM31*D19)/AM41,(X82+AM31*D19)/AN41,(X83+AM31*D19)/AO41)*AP41","v":{"$error":"#VALUE!"}},{"$f":"MIN((Y79+AM31*D19)/AK41,(Y80+AM31*D19)/AL41,(Y81+AM31*D19)/AM41,(Y82+AM31*D19)/AN41,(Y83+AM31*D19)/AO41)*AP41","v":{"$error":"#VALUE!"}},{"$f":"MIN((Z79+AM31*D19)/AK41,(Z80+AM31*D19)/AL41,(Z81+AM31*D19)/AM41,(Z82+AM31*D19)/AN41,(Z83+AM31*D19)/AO41)*AP41","v":{"$error":"#VALUE!"}},{"$f":"MIN((AA79+AM31*D19)/AK41,(AA80+AM31*D19)/AL41,(AA81+AM31*D19)/AM41,(AA82+AM31*D19)/AN41,(AA83+AM31*D19)/AO41)*AP41","v":{"$error":"#VALUE!"}},{"$f":"MIN((AB79+AM31*D19)/AK41,(AB80+AM31*D19)/AL41,(AB81+AM31*D19)/AM41,(AB82+AM31*D19)/AN41,(AB83+AM31*D19)/AO41)*AP41","v":{"$error":"#VALUE!"}},{"$f":"MIN((AC79+AM31*D19)/AK41,(AC80+AM31*D19)/AL41,(AC81+AM31*D19)/AM41,(AC82+AM31*D19)/AN41,(AC83+AM31*D19)/AO41)*AP41","v":{"$error":"#VALUE!"}},{"$f":"MIN((AD79+AM31*D19)/AK41,(AD80+AM31*D19)/AL41,(AD81+AM31*D19)/AM41,(AD82+AM31*D19)/AN41,(AD83+AM31*D19)/AO41)*AP41","v":{"$error":"#VALUE!"}},{"$f":"MIN((AE79+AM31*D19)/AK41,(AE80+AM31*D19)/AL41,(AE81+AM31*D19)/AM41,(AE82+AM31*D19)/AN41,(AE83+AM31*D19)/AO41)*AP41","v":{"$error":"#VALUE!"}},{"$f":"MIN((AF79+AM31*D19)/AK41,(AF80+AM31*D19)/AL41,(AF81+AM31*D19)/AM41,(AF82+AM31*D19)/AN41,(AF83+AM31*D19)/AO41)*AP41","v":{"$error":"#VALUE!"}},{"$error":"#VALUE!"}]
[null,null,null,null,0.36330000000000001,1.4532,1.8165,0.27245000000000003,0.63575000000000004,0.90820000000000012,0.27245000000000003,0.63575000000000004,0.90820000000000012,0.54495000000000005,1.27155,1.8165,null,{"$f":"H14+AH39+D16+D17+D21+D19*AG11","v":{"$error":"#VALUE!"}},{"$f":"R79+Q10","v":{"$error":"#VALUE!"}},{"$f":"R79+R10","v":{"$error":"#VALUE!"}},{"$f":"R79+S10","v":{"$error":"#VALUE!"}},{"$f":"R79+T10","v":{"$error":"#VALUE!"}},{"$f":"R79+U10","v":{"$error":"#VALUE!"}},{"$f":"R79+V10","v":{"$error":"#VALUE!"}},{"$f":"R79+W10","v":{"$error":"#VALUE!"}},{"$f":"R79+X10","v":{"$error":"#VALUE!"}},{"$f":"R79+Y10","v":{"$error":"#VALUE!"}},{"$f":"R79+Z10","v":{"$error":"#VALUE!"}},{"$f":"R79+AA10","v":{"$error":"#VALUE!"}},{"$f":"R79+AB10","v":{"$error":"#VALUE!"}},{"$f":"R79+AC10","v":{"$error":"#VALUE!"}},{"$f":"R79+AD10","v":{"$error":"#VALUE!"}},null,null,null,"",{"$f":"MIN((S86+AL31*D19)/AK40,(S87+AL31*D19)/AL40,(S88+AL31*D19)/AM40,(S89+AL31*D19)/AN40,(S90+AL31*D19)/AO40)*AP40","v":{"$error":"#VALUE!"}},{"$f":"MIN((T86+AL31*D19)/AK40,(T87+AL31*D19)/AL40,(T88+AL31*D19)/AM40,(T89+AL31*D19)/AN40,(T90+AL31*D19)/AO40)*AP40","v":{"$error":"#VALUE!"}},{"$f":"MIN((U86+AL31*D19)/AK40,(U87+AL31*D19)/AL40,(U88+AL31*D19)/AM40,(U89+AL31*D19)/AN40,(U90+AL31*D19)/AO40)*AP40","v":{"$error":"#VALUE!"}},{"$f":"MIN((V86+AL31*D19)/AK40,(V87+AL31*D19)/AL40,(V88+AL31*D19)/AM40,(V89+AL31*D19)/AN40,(V90+AL31*D19)/AO40)*AP40","v":{"$error":"#VALUE!"}},{"$f":"MIN((W86+AL31*D19)/AK40,(W87+AL31*D19)/AL40,(W88+AL31*D19)/AM40,(W89+AL31*D19)/AN40,(W90+AL31*D19)/AO40)*AP40","v":{"$error":"#VALUE!"}},{"$f":"MIN((X86+AL31*D19)/AK40,(X87+AL31*D19)/AL40,(X88+AL31*D19)/AM40,(X89+AL31*D19)/AN40,(X90+AL31*D19)/AO40)*AP40","v":{"$error":"#VALUE!"}},{"$f":"MIN((Y86+AL31*D19)/AK40,(Y87+AL31*D19)/AL40,(Y88+AL31*D19)/AM40,(Y89+AL31*D19)/AN40,(Y90+AL31*D19)/AO40)*AP40","v":{"$error":"#VALUE!"}},{"$f":"MIN((Z86+AL31*D19)/AK40,(Z87+AL31*D19)/AL40,(Z88+AL31*D19)/AM40,(Z89+AL31*D19)/AN40,(Z90+AL31*D19)/AO40)*AP40","v":{"$error":"#VALUE!"}},{"$f":"MIN((AA86+AL31*D19)/AK40,(AA87+AL31*D19)/AL40,(AA88+AL31*D19)/AM40,(AA89+AL31*D19)/AN40,(AA90+AL31*D19)/AO40)*AP40","v":{"$error":"#VALUE!"}},{"$f":"MIN((AB86+AL31*D19)/AK40,(AB87+AL31*D19)/AL40,(AB88+AL31*D19)/AM40,(AB89+AL31*D19)/AN40,(AB90+AL31*D19)/AO40)*AP40","v":{"$error":"#VALUE!"}},{"$f":"MIN((AC86+AL31*D19)/AK40,(AC87+AL31*D19)/AL40,(AC88+AL31*D19)/AM40,(AC89+AL31*D19)/AN40,(AC90+AL31*D19)/AO40)*AP40","v":{"$error":"#VALUE!"}},{"$f":"MIN((AD86+AL31*D19)/AK40,(AD87+AL31*D19)/AL40,(AD88+AL31*D19)/AM40,(AD89+AL31*D19)/AN40,(AD90+AL31*D19)/AO40)*AP40","v":{"$error":"#VALUE!"}},{"$f":"MIN((AE86+AL31*D19)/AK40,(AE87+AL31*D19)/AL40,(AE88+AL31*D19)/AM40,(AE89+AL31*D19)/AN40,(AE90+AL31*D19)/AO40)*AP40","v":{"$error":"#VALUE!"}},{"$f":"MIN((AF86+AL31*D19)/AK40,(AF87+AL31*D19)/AL40,(AF88+AL31*D19)/AM40,(AF89+AL31*D19)/AN40,(AF90+AL31*D19)/AO40)*AP40","v":{"$error":"#VALUE!"}},{"$error":"#VALUE!"},null,"",{"$f":"MIN((S86+AM31*D19)/AK41,(S87+AM31*D19)/AL41,(S88+AM31*D19)/AM41,(S89+AM31*D19)/AN41,(S90+AM31*D19)/AO41)*AP41","v":{"$error":"#VALUE!"}},{"$f":"MIN((T86+AM31*D19)/AK41,(T87+AM31*D19)/AL41,(T88+AM31*D19)/AM41,(T89+AM31*D19)/AN41,(T90+AM31*D19)/AO41)*AP41","v":{"$error":"#VALUE!"}},{"$f":"MIN((U86+AM31*D19)/AK41,(U87+AM31*D19)/AL41,(U88+AM31*D19)/AM41,(U89+AM31*D19)/AN41,(U90+AM31*D19)/AO41)*AP41","v":{"$error":"#VALUE!"}},{"$f":"MIN((V86+AM31*D19)/AK41,(V87+AM31*D19)/AL41,(V88+AM31*D19)/AM41,(V89+AM31*D19)/AN41,(V90+AM31*D19)/AO41)*AP41","v":{"$error":"#VALUE!"}},{"$f":"MIN((W86+AM31*D19)/AK41,(W87+AM31*D19)/AL41,(W88+AM31*D19)/AM41,(W89+AM31*D19)/AN41,(W90+AM31*D19)/AO41)*AP41","v":{"$error":"#VALUE!"}},{"$f":"MIN((X86+AM31*D19)/AK41,(X87+AM31*D19)/AL41,(X88+AM31*D19)/AM41,(X89+AM31*D19)/AN41,(X90+AM31*D19)/AO41)*AP41","v":{"$error":"#VALUE!"}},{"$f":"MIN((Y86+AM31*D19)/AK41,(Y87+AM31*D19)/AL41,(Y88+AM31*D19)/AM41,(Y89+AM31*D19)/AN41,(Y90+AM31*D19)/AO41)*AP41","v":{"$error":"#VALUE!"}},{"$f":"MIN((Z86+AM31*D19)/AK41,(Z87+AM31*D19)/AL41,(Z88+AM31*D19)/AM41,(Z89+AM31*D19)/AN41,(Z90+AM31*D19)/AO41)*AP41","v":{"$error":"#VALUE!"}},{"$f":"MIN((AA86+AM31*D19)/AK41,(AA87+AM31*D19)/AL41,(AA88+AM31*D19)/AM41,(AA89+AM31*D19)/AN41,(AA90+AM31*D19)/AO41)*AP41","v":{"$error":"#VALUE!"}},{"$f":"MIN((AB86+AM31*D19)/AK41,(AB87+AM31*D19)/AL41,(AB88+AM31*D19)/AM41,(AB89+AM31*D19)/AN41,(AB90+AM31*D19)/AO41)*AP41","v":{"$error":"#VALUE!"}},{"$f":"MIN((AC86+AM31*D19)/AK41,(AC87+AM31*D19)/AL41,(AC88+AM31*D19)/AM41,(AC89+AM31*D19)/AN41,(AC90+AM31*D19)/AO41)*AP41","v":{"$error":"#VALUE!"}},{"$f":"MIN((AD86+AM31*D19)/AK41,(AD87+AM31*D19)/AL41,(AD88+AM31*D19)/AM41,(AD89+AM31*D19)/AN41,(AD90+AM31*D19)/AO41)*AP41","v":{"$error":"#VALUE!"}},{"$f":"MIN((AE86+AM31*D19)/AK41,(AE87+AM31*D19)/AL41,(AE88+AM31*D19)/AM41,(AE89+AM31*D19)/AN41,(AE90+AM31*D19)/AO41)*AP41","v":{"$error":"#VALUE!"}},{"$f":"MIN((AF86+AM31*D19)/AK41,(AF87+AM31*D19)/AL41,(AF88+AM31*D19)/AM41,(AF89+AM31*D19)/AN41,(AF90+AM31*D19)/AO41)*AP41","v":{"$error":"#VALUE!"}},{"$error":"#VALUE!"}]
[null,null,null,null,0.36330000000000001,1.4532,1.8165,0.68115000000000003,0.68115000000000003,1.3623000000000001,0.36330000000000001,0.54495000000000005,0.90825,0.90825,0.90825,1.8165,null,{"$f":"I14+AH40+D15+D17+D21+D19*AG11","v":{"$error":"#VALUE!"}},{"$f":"R80+Q11","v":{"$error":"#VALUE!"}},{"$f":"R80+R11","v":{"$error":"#VALUE!"}},{"$f":"R80+S11","v":{"$error":"#VALUE!"}},{"$f":"R80+T11","v":{"$error":"#VALUE!"}},{"$f":"R80+U11","v":{"$error":"#VALUE!"}},{"$f":"R80+V11","v":{"$error":"#VALUE!"}},{"$f":"R80+W11","v":{"$error":"#VALUE!"}},{"$f":"R80+X11","v":{"$error":"#VALUE!"}},{"$f":"R80+Y11","v":{"$error":"#VALUE!"}},{"$f":"R80+Z11","v":{"$error":"#VALUE!"}},{"$f":"R80+AA11","v":{"$error":"#VALUE!"}},{"$f":"R80+AB11","v":{"$error":"#VALUE!"}},{"$f":"R80+AC11","v":{"$error":"#VALUE!"}},{"$f":"R80+AD11","v":{"$error":"#VALUE!"}},null,null,null,"",{"$f":"MIN((S93+AL31*D19)/AK40,(S94+AL31*D19)/AL40,(S95+AL31*D19)/AM40,(S96+AL31*D19)/AN40,(S97+AL31*D19)/AO40)*AP40","v":{"$error":"#VALUE!"}},{"$f":"MIN((T93+AL31*D19)/AK40,(T94+AL31*D19)/AL40,(T95+AL31*D19)/AM40,(T96+AL31*D19)/AN40,(T97+AL31*D19)/AO40)*AP40","v":{"$error":"#VALUE!"}},{"$f":"MIN((U93+AL31*D19)/AK40,(U94+AL31*D19)/AL40,(U95+AL31*D19)/AM40,(U96+AL31*D19)/AN40,(U97+AL31*D19)/AO40)*AP40","v":{"$error":"#VALUE!"}},{"$f":"MIN((V93+AL31*D19)/AK40,(V94+AL31*D19)/AL40,(V95+AL31*D19)/AM40,(V96+AL31*D19)/AN40,(V97+AL31*D19)/AO40)*AP40","v":{"$error":"#VALUE!"}},{"$f":"MIN((W93+AL31*D19)/AK40,(W94+AL31*D19)/AL40,(W95+AL31*D19)/AM40,(W96+AL31*D19)/AN40,(W97+AL31*D19)/AO40)*AP40","v":{"$error":"#VALUE!"}},{"$f":"MIN((X93+AL31*D19)/AK40,(X94+AL31*D19)/AL40,(X95+AL31*D19)/AM40,(X96+AL31*D19)/AN40,(X97+AL31*D19)/AO40)*AP40","v":{"$error":"#VALUE!"}},{"$f":"MIN((Y93+AL31*D19)/AK40,(Y94+AL31*D19)/AL40,(Y95+AL31*D19)/AM40,(Y96+AL31*D19)/AN40,(Y97+AL31*D19)/AO40)*AP40","v":{"$error":"#VALUE!"}},{"$f":"MIN((Z93+AL31*D19)/AK40,(Z94+AL31*D19)/AL40,(Z95+AL31*D19)/AM40,(Z96+AL31*D19)/AN40,(Z97+AL31*D19)/AO40)*AP40","v":{"$error":"#VALUE!"}},{"$f":"MIN((AA93+AL31*D19)/AK40,(AA94+AL31*D19)/AL40,(AA95+AL31*D19)/AM40,(AA96+AL31*D19)/AN40,(AA97+AL31*D19)/AO40)*AP40","v":{"$error":"#VALUE!"}},{"$f":"MIN((AB93+AL31*D19)/AK40,(AB94+AL31*D19)/AL40,(AB95+AL31*D19)/AM40,(AB96+AL31*D19)/AN40,(AB97+AL31*D19)/AO40)*AP40","v":{"$error":"#VALUE!"}},{"$f":"MIN((AC93+AL31*D19)/AK40,(AC94+AL31*D19)/AL40,(AC95+AL31*D19)/AM40,(AC96+AL31*D19)/AN40,(AC97+AL31*D19)/AO40)*AP40","v":{"$error":"#VALUE!"}},{"$f":"MIN((AD93+AL31*D19)/AK40,(AD94+AL31*D19)/AL40,(AD95+AL31*D19)/AM40,(AD96+AL31*D19)/AN40,(AD97+AL31*D19)/AO40)*AP40","v":{"$error":"#VALUE!"}},{"$f":"MIN((AE93+AL31*D19)/AK40,(AE94+AL31*D19)/AL40,(AE95+AL31*D19)/AM40,(AE96+AL31*D19)/AN40,(AE97+AL31*D19)/AO40)*AP40","v":{"$error":"#VALUE!"}},{"$f":"MIN((AF93+AL31*D19)/AK40,(AF94+AL31*D19)/AL40,(AF95+AL31*D19)/AM40,(AF96+AL31*D19)/AN40,(AF97+AL31*D19)/AO40)*AP40","v":{"$error":"#VALUE!"}},{"$error":"#VALUE!"},null,"",{"$f":"MIN((S93+AM31*D19)/AK41,(S94+AM31*D19)/AL41,(S95+AM31*D19)/AM41,(S96+AM31*D19)/AN41,(S97+AM31*D19)/AO41)*AP41","v":{"$error":"#VALUE!"}},{"$f":"MIN((T93+AM31*D19)/AK41,(T94+AM31*D19)/AL41,(T95+AM31*D19)/AM41,(T96+AM31*D19)/AN41,(T97+AM31*D19)/AO41)*AP41","v":{"$error":"#VALUE!"}},{"$f":"MIN((U93+AM31*D19)/AK41,(U94+AM31*D19)/AL41,(U95+AM31*D19)/AM41,(U96+AM31*D19)/AN41,(U97+AM31*D19)/AO41)*AP41","v":{"$error":"#VALUE!"}},{"$f":"MIN((V93+AM31*D19)/AK41,(V94+AM31*D19)/AL41,(V95+AM31*D19)/AM41,(V96+AM31*D19)/AN41,(V97+AM31*D19)/AO41)*AP41","v":{"$error":"#VALUE!"}},{"$f":"MIN((W93+AM31*D19)/AK41,(W94+AM31*D19)/AL41,(W95+AM31*D19)/AM41,(W96+AM31*D19)/AN41,(W97+AM31*D19)/AO41)*AP41","v":{"$error":"#VALUE!"}},{"$f":"MIN((X93+AM31*D19)/AK41,(X94+AM31*D19)/AL41,(X95+AM31*D19)/AM41,(X96+AM31*D19)/AN41,(X97+AM31*D19)/AO41)*AP41","v":{"$error":"#VALUE!"}},{"$f":"MIN((Y93+AM31*D19)/AK41,(Y94+AM31*D19)/AL41,(Y95+AM31*D19)/AM41,(Y96+AM31*D19)/AN41,(Y97+AM31*D19)/AO41)*AP41","v":{"$error":"#VALUE!"}},{"$f":"MIN((Z93+AM31*D19)/AK41,(Z94+AM31*D19)/AL41,(Z95+AM31*D19)/AM41,(Z96+AM31*D19)/AN41,(Z97+AM31*D19)/AO41)*AP41","v":{"$error":"#VALUE!"}},{"$f":"MIN((AA93+AM31*D19)/AK41,(AA94+AM31*D19)/AL41,(AA95+AM31*D19)/AM41,(AA96+AM31*D19)/AN41,(AA97+AM31*D19)/AO41)*AP41","v":{"$error":"#VALUE!"}},{"$f":"MIN((AB93+AM31*D19)/AK41,(AB94+AM31*D19)/AL41,(AB95+AM31*D19)/AM41,(AB96+AM31*D19)/AN41,(AB97+AM31*D19)/AO41)*AP41","v":{"$error":"#VALUE!"}},{"$f":"MIN((AC93+AM31*D19)/AK41,(AC94+AM31*D19)/AL41,(AC95+AM31*D19)/AM41,(AC96+AM31*D19)/AN41,(AC97+AM31*D19)/AO41)*AP41","v":{"$error":"#VALUE!"}},{"$f":"MIN((AD93+AM31*D19)/AK41,(AD94+AM31*D19)/AL41,(AD95+AM31*D19)/AM41,(AD96+AM31*D19)/AN41,(AD97+AM31*D19)/AO41)*AP41","v":{"$error":"#VALUE!"}},{"$f":"MIN((AE93+AM31*D19)/AK41,(AE94+AM31*D19)/AL41,(AE95+AM31*D19)/AM41,(AE96+AM31*D19)/AN41,(AE97+AM31*D19)/AO41)*AP41","v":{"$error":"#VALUE!"}},{"$f":"MIN((AF93+AM31*D19)/AK41,(AF94+AM31*D19)/AL41,(AF95+AM31*D19)/AM41,(AF96+AM31*D19)/AN41,(AF97+AM31*D19)/AO41)*AP41","v":{"$error":"#VALUE!"}},{"$error":"#VALUE!"},null,null,"attente"]
[null,null,null,null,0.68115000000000003,1.58945,2.2706,0.95365,0.40870000000000001,1.3623499999999999,0.90825,0.90825,1.8165,0.90825,0.90825,1.8165,null,{"$f":"J14+AH41+D15+D17+D21+D19*AG11","v":{"$error":"#VALUE!"}},{"$f":"R81+Q12","v":{"$error":"#VALUE!"}},{"$f":"R81+R12","v":{"$error":"#VALUE!"}},{"$f":"R81+S12","v":{"$error":"#VALUE!"}},{"$f":"R81+T12","v":{"$error":"#VALUE!"}},{"$f":"R81+U12","v":{"$error":"#VALUE!"}},{"$f":"R81+V12","v":{"$error":"#VALUE!"}},{"$f":"R81+W12","v":{"$error":"#VALUE!"}},{"$f":"R81+X12","v":{"$error":"#VALUE!"}},{"$f":"R81+Y12","v":{"$error":"#VALUE!"}},{"$f":"R81+Z12","v":{"$error":"#VALUE!"}},{"$f":"R81+AA12","v":{"$error":"#VALUE!"}},{"$f":"R81+AB12","v":{"$error":"#VALUE!"}},{"$f":"R81+AC12","v":{"$error":"#VALUE!"}},{"$f":"R81+AD12","v":{"$error":"#VALUE!"}},null,null,null,"",{"$f":"MIN((S100+AL31*D19)/AK40,(S101+AL31*D19)/AL40,(S102+AL31*D19)/AM40,(S103+AL31*D19)/AN40,(S104+AL31*D19)/AO40)*AP40","v":{"$error":"#VALUE!"}},{"$f":"MIN((T100+AL31*D19)/AK40,(T101+AL31*D19)/AL40,(T102+AL31*D19)/AM40,(T103+AL31*D19)/AN40,(T104+AL31*D19)/AO40)*AP40","v":{"$error":"#VALUE!"}},{"$f":"MIN((U100+AL31*D19)/AK40,(U101+AL31*D19)/AL40,(U102+AL31*D19)/AM40,(U103+AL31*D19)/AN40,(U104+AL31*D19)/AO40)*AP40","v":{"$error":"#VALUE!"}},{"$f":"MIN((V100+AL31*D19)/AK40,(V101+AL31*D19)/AL40,(V102+AL31*D19)/AM40,(V103+AL31*D19)/AN40,(V104+AL31*D19)/AO40)*AP40","v":{"$error":"#VALUE!"}},{"$f":"MIN((W100+AL31*D19)/AK40,(W101+AL31*D19)/AL40,(W102+AL31*D19)/AM40,(W103+AL31*D19)/AN40,(W104+AL31*D19)/AO40)*AP40","v":{"$error":"#VALUE!"}},{"$f":"MIN((X100+AL31*D19)/AK40,(X101+AL31*D19)/AL40,(X102+AL31*D19)/AM40,(X103+AL31*D19)/AN40,(X104+AL31*D19)/AO40)*AP40","v":{"$error":"#VALUE!"}},{"$f":"MIN((Y100+AL31*D19)/AK40,(Y101+AL31*D19)/AL40,(Y102+AL31*D19)/AM40,(Y103+AL31*D19)/AN40,(Y104+AL31*D19)/AO40)*AP40","v":{"$error":"#VALUE!"}},{"$f":"MIN((Z100+AL31*D19)/AK40,(Z101+AL31*D19)/AL40,(Z102+AL31*D19)/AM40,(Z103+AL31*D19)/AN40,(Z104+AL31*D19)/AO40)*AP40","v":{"$error":"#VALUE!"}},{"$f":"MIN((AA100+AL31*D19)/AK40,(AA101+AL31*D19)/AL40,(AA102+AL31*D19)/AM40,(AA103+AL31*D19)/AN40,(AA104+AL31*D19)/AO40)*AP40","v":{"$error":"#VALUE!"}},{"$f":"MIN((AB100+AL31*D19)/AK40,(AB101+AL31*D19)/AL40,(AB102+AL31*D19)/AM40,(AB103+AL31*D19)/AN40,(AB104+AL31*D19)/AO40)*AP40","v":{"$error":"#VALUE!"}},{"$f":"MIN((AC100+AL31*D19)/AK40,(AC101+AL31*D19)/AL40,(AC102+AL31*D19)/AM40,(AC103+AL31*D19)/AN40,(AC104+AL31*D19)/AO40)*AP40","v":{"$error":"#VALUE!"}},{"$f":"MIN((AD100+AL31*D19)/AK40,(AD101+AL31*D19)/AL40,(AD102+AL31*D19)/AM40,(AD103+AL31*D19)/AN40,(AD104+AL31*D19)/AO40)*AP40","v":{"$error":"#VALUE!"}},{"$f":"MIN((AE100+AL31*D19)/AK40,(AE101+AL31*D19)/AL40,(AE102+AL31*D19)/AM40,(AE103+AL31*D19)/AN40,(AE104+AL31*D19)/AO40)*AP40","v":{"$error":"#VALUE!"}},{"$f":"MIN((AF100+AL31*D19)/AK40,(AF101+AL31*D19)/AL40,(AF102+AL31*D19)/AM40,(AF103+AL31*D19)/AN40,(AF104+AL31*D19)/AO40)*AP40","v":{"$error":"#VALUE!"}},{"$error":"#VALUE!"},null,"",{"$f":"MIN((S100+AM31*D19)/AK41,(S101+AM31*D19)/AL41,(S102+AM31*D19)/AM41,(S103+AM31*D19)/AN41,(S104+AM31*D19)/AO41)*AP41","v":{"$error":"#VALUE!"}},{"$f":"MIN((T100+AM31*D19)/AK41,(T101+AM31*D19)/AL41,(T102+AM31*D19)/AM41,(T103+AM31*D19)/AN41,(T104+AM31*D19)/AO41)*AP41","v":{"$error":"#VALUE!"}},{"$f":"MIN((U100+AM31*D19)/AK41,(U101+AM31*D19)/AL41,(U102+AM31*D19)/AM41,(U103+AM31*D19)/AN41,(U104+AM31*D19)/AO41)*AP41","v":{"$error":"#VALUE!"}},{"$f":"MIN((V100+AM31*D19)/AK41,(V101+AM31*D19)/AL41,(V102+AM31*D19)/AM41,(V103+AM31*D19)/AN41,(V104+AM31*D19)/AO41)*AP41","v":{"$error":"#VALUE!"}},{"$f":"MIN((W100+AM31*D19)/AK41,(W101+AM31*D19)/AL41,(W102+AM31*D19)/AM41,(W103+AM31*D19)/AN41,(W104+AM31*D19)/AO41)*AP41","v":{"$error":"#VALUE!"}},{"$f":"MIN((X100+AM31*D19)/AK41,(X101+AM31*D19)/AL41,(X102+AM31*D19)/AM41,(X103+AM31*D19)/AN41,(X104+AM31*D19)/AO41)*AP41","v":{"$error":"#VALUE!"}},{"$f":"MIN((Y100+AM31*D19)/AK41,(Y101+AM31*D19)/AL41,(Y102+AM31*D19)/AM41,(Y103+AM31*D19)/AN41,(Y104+AM31*D19)/AO41)*AP41","v":{"$error":"#VALUE!"}},{"$f":"MIN((Z100+AM31*D19)/AK41,(Z101+AM31*D19)/AL41,(Z102+AM31*D19)/AM41,(Z103+AM31*D19)/AN41,(Z104+AM31*D19)/AO41)*AP41","v":{"$error":"#VALUE!"}},{"$f":"MIN((AA100+AM31*D19)/AK41,(AA101+AM31*D19)/AL41,(AA102+AM31*D19)/AM41,(AA103+AM31*D19)/AN41,(AA104+AM31*D19)/AO41)*AP41","v":{"$error":"#VALUE!"}},{"$f":"MIN((AB100+AM31*D19)/AK41,(AB101+AM31*D19)/AL41,(AB102+AM31*D19)/AM41,(AB103+AM31*D19)/AN41,(AB104+AM31*D19)/AO41)*AP41","v":{"$error":"#VALUE!"}},{"$f":"MIN((AC100+AM31*D19)/AK41,(AC101+AM31*D19)/AL41,(AC102+AM31*D19)/AM41,(AC103+AM31*D19)/AN41,(AC104+AM31*D19)/AO41)*AP41","v":{"$error":"#VALUE!"}},{"$f":"MIN((AD100+AM31*D19)/AK41,(AD101+AM31*D19)/AL41,(AD102+AM31*D19)/AM41,(AD103+AM31*D19)/AN41,(AD104+AM31*D19)/AO41)*AP41","v":{"$error":"#VALUE!"}},{"$f":"MIN((AE100+AM31*D19)/AK41,(AE101+AM31*D19)/AL41,(AE102+AM31*D19)/AM41,(AE103+AM31*D19)/AN41,(AE104+AM31*D19)/AO41)*AP41","v":{"$error":"#VALUE!"}},{"$f":"MIN((AF100+AM31*D19)/AK41,(AF101+AM31*D19)/AL41,(AF102+AM31*D19)/AM41,(AF103+AM31*D19)/AN41,(AF104+AM31*D19)/AO41)*AP41","v":{"$error":"#VALUE!"}},{"$error":"#VALUE!"}]
[null,null,null,null,0.90825,0.90825,1.8165,0.94984999999999997,0.40705000000000002,1.3569,1.6348499999999999,1.0899000000000001,2.7247500000000002,0.81740000000000002,0.54495000000000005,1.3623500000000002,null,{"$f":"K14+AH42+D16+D17+D21+D19*AG11","v":{"$error":"#VALUE!"}},{"$f":"R82+Q13","v":{"$error":"#VALUE!"}},{"$f":"R82+R13","v":{"$error":"#VALUE!"}},{"$f":"R82+S13","v":{"$error":"#VALUE!"}},{"$f":"R82+T13","v":{"$error":"#VALUE!"}},{"$f":"R82+U13","v":{"$error":"#VALUE!"}},{"$f":"R82+V13","v":{"$error":"#VALUE!"}},{"$f":"R82+W13","v":{"$error":"#VALUE!"}},{"$f":"R82+X13","v":{"$error":"#VALUE!"}},{"$f":"R82+Y13","v":{"$error":"#VALUE!"}},{"$f":"R82+Z13","v":{"$error":"#VALUE!"}},{"$f":"R82+AA13","v":{"$error":"#VALUE!"}},{"$f":"R82+AB13","v":{"$error":"#VALUE!"}},{"$f":"R82+AC13","v":{"$error":"#VALUE!"}},{"$f":"R82+AD13","v":{"$error":"#VALUE!"}},null,null,null,"",{"$f":"MIN((S107+AL31*D19)/AK40,(S108+AL31*D19)/AL40,(S109+AL31*D19)/AM40,(S110+AL31*D19)/AN40,(S111+AL31*D19)/AO40)*AP40","v":{"$error":"#VALUE!"}},{"$f":"MIN((T107+AL31*D19)/AK40,(T108+AL31*D19)/AL40,(T109+AL31*D19)/AM40,(T110+AL31*D19)/AN40,(T111+AL31*D19)/AO40)*AP40","v":{"$error":"#VALUE!"}},{"$f":"MIN((U107+AL31*D19)/AK40,(U108+AL31*D19)/AL40,(U109+AL31*D19)/AM40,(U110+AL31*D19)/AN40,(U111+AL31*D19)/AO40)*AP40","v":{"$error":"#VALUE!"}},{"$f":"MIN((V107+AL31*D19)/AK40,(V108+AL31*D19)/AL40,(V109+AL31*D19)/AM40,(V110+AL31*D19)/AN40,(V111+AL31*D19)/AO40)*AP40","v":{"$error":"#VALUE!"}},{"$f":"MIN((W107+AL31*D19)/AK40,(W108+AL31*D19)/AL40,(W109+AL31*D19)/AM40,(W110+AL31*D19)/AN40,(W111+AL31*D19)/AO40)*AP40","v":{"$error":"#VALUE!"}},{"$f":"MIN((X107+AL31*D19)/AK40,(X108+AL31*D19)/AL40,(X109+AL31*D19)/AM40,(X110+AL31*D19)/AN40,(X111+AL31*D19)/AO40)*AP40","v":{"$error":"#VALUE!"}},{"$f":"MIN((Y107+AL31*D19)/AK40,(Y108+AL31*D19)/AL40,(Y109+AL31*D19)/AM40,(Y110+AL31*D19)/AN40,(Y111+AL31*D19)/AO40)*AP40","v":{"$error":"#VALUE!"}},{"$f":"MIN((Z107+AL31*D19)/AK40,(Z108+AL31*D19)/AL40,(Z109+AL31*D19)/AM40,(Z110+AL31*D19)/AN40,(Z111+AL31*D19)/AO40)*AP40","v":{"$error":"#VALUE!"}},{"$f":"MIN((AA107+AL31*D19)/AK40,(AA108+AL31*D19)/AL40,(AA109+AL31*D19)/AM40,(AA110+AL31*D19)/AN40,(AA111+AL31*D19)/AO40)*AP40","v":{"$error":"#VALUE!"}},{"$f":"MIN((AB107+AL31*D19)/AK40,(AB108+AL31*D19)/AL40,(AB109+AL31*D19)/AM40,(AB110+AL31*D19)/AN40,(AB111+AL31*D19)/AO40)*AP40","v":{"$error":"#VALUE!"}},{"$f":"MIN((AC107+AL31*D19)/AK40,(AC108+AL31*D19)/AL40,(AC109+AL31*D19)/AM40,(AC110+AL31*D19)/AN40,(AC111+AL31*D19)/AO40)*AP40","v":{"$error":"#VALUE!"}},{"$f":"MIN((AD107+AL31*D19)/AK40,(AD108+AL31*D19)/AL40,(AD109+AL31*D19)/AM40,(AD110+AL31*D19)/AN40,(AD111+AL31*D19)/AO40)*AP40","v":{"$error":"#VALUE!"}},{"$f":"MIN((AE107+AL31*D19)/AK40,(AE108+AL31*D19)/AL40,(AE109+AL31*D19)/AM40,(AE110+AL31*D19)/AN40,(AE111+AL31*D19)/AO40)*AP40","v":{"$error":"#VALUE!"}},{"$f":"MIN((AF107+AL31*D19)/AK40,(AF108+AL31*D19)/AL40,(AF109+AL31*D19)/AM40,(AF110+AL31*D19)/AN40,(AF111+AL31*D19)/AO40)*AP40","v":{"$error":"#VALUE!"}},{"$error":"#VALUE!"},null,"",{"$f":"MIN((S107+AM31*D19)/AK41,(S108+AM31*D19)/AL41,(S109+AM31*D19)/AM41,(S110+AM31*D19)/AN41,(S111+AM31*D19)/AO41)*AP41","v":{"$error":"#VALUE!"}},{"$f":"MIN((T107+AM31*D19)/AK41,(T108+AM31*D19)/AL41,(T109+AM31*D19)/AM41,(T110+AM31*D19)/AN41,(T111+AM31*D19)/AO41)*AP41","v":{"$error":"#VALUE!"}},{"$f":"MIN((U107+AM31*D19)/AK41,(U108+AM31*D19)/AL41,(U109+AM31*D19)/AM41,(U110+AM31*D19)/AN41,(U111+AM31*D19)/AO41)*AP41","v":{"$error":"#VALUE!"}},{"$f":"MIN((V107+AM31*D19)/AK41,(V108+AM31*D19)/AL41,(V109+AM31*D19)/AM41,(V110+AM31*D19)/AN41,(V111+AM31*D19)/AO41)*AP41","v":{"$error":"#VALUE!"}},{"$f":"MIN((W107+AM31*D19)/AK41,(W108+AM31*D19)/AL41,(W109+AM31*D19)/AM41,(W110+AM31*D19)/AN41,(W111+AM31*D19)/AO41)*AP41","v":{"$error":"#VALUE!"}},{"$f":"MIN((X107+AM31*D19)/AK41,(X108+AM31*D19)/AL41,(X109+AM31*D19)/AM41,(X110+AM31*D19)/AN41,(X111+AM31*D19)/AO41)*AP41","v":{"$error":"#VALUE!"}},{"$f":"MIN((Y107+AM31*D19)/AK41,(Y108+AM31*D19)/AL41,(Y109+AM31*D19)/AM41,(Y110+AM31*D19)/AN41,(Y111+AM31*D19)/AO41)*AP41","v":{"$error":"#VALUE!"}},{"$f":"MIN((Z107+AM31*D19)/AK41,(Z108+AM31*D19)/AL41,(Z109+AM31*D19)/AM41,(Z110+AM31*D19)/AN41,(Z111+AM31*D19)/AO41)*AP41","v":{"$error":"#VALUE!"}},{"$f":"MIN((AA107+AM31*D19)/AK41,(AA108+AM31*D19)/AL41,(AA109+AM31*D19)/AM41,(AA110+AM31*D19)/AN41,(AA111+AM31*D19)/AO41)*AP41","v":{"$error":"#VALUE!"}},{"$f":"MIN((AB107+AM31*D19)/AK41,(AB108+AM31*D19)/AL41,(AB109+AM31*D19)/AM41,(AB110+AM31*D19)/AN41,(AB111+AM31*D19)/AO41)*AP41","v":{"$error":"#VALUE!"}},{"$f":"MIN((AC107+AM31*D19)/AK41,(AC108+AM31*D19)/AL41,(AC109+AM31*D19)/AM41,(AC110+AM31*D19)/AN41,(AC111+AM31*D19)/AO41)*AP41","v":{"$error":"#VALUE!"}},{"$f":"MIN((AD107+AM31*D19)/AK41,(AD108+AM31*D19)/AL41,(AD109+AM31*D19)/AM41,(AD110+AM31*D19)/AN41,(AD111+AM31*D19)/AO41)*AP41","v":{"$error":"#VALUE!"}},{"$f":"MIN((AE107+AM31*D19)/AK41,(AE108+AM31*D19)/AL41,(AE109+AM31*D19)/AM41,(AE110+AM31*D19)/AN41,(AE111+AM31*D19)/AO41)*AP41","v":{"$error":"#VALUE!"}},{"$f":"MIN((AF107+AM31*D19)/AK41,(AF108+AM31*D19)/AL41,(AF109+AM31*D19)/AM41,(AF110+AM31*D19)/AN41,(AF111+AM31*D19)/AO41)*AP41","v":{"$error":"#VALUE!"}},{"$error":"#VALUE!"},"constante kit"]
[null,null,null,null,0.81740000000000002,0.54495000000000005,1.3623500000000002,1.9073500000000001,0.81740000000000002,2.7247500000000002,0.81740000000000002,0.54495000000000005,1.3623500000000002,0.81415000000000004,0.54274999999999995,1.3569,null,{"$f":"L14+AH43+D15+D17+D21+D19*AG11","v":{"$error":"#VALUE!"}},{"$f":"R83+Q14","v":{"$error":"#VALUE!"}},{"$f":"R83+R14","v":{"$error":"#VALUE!"}},{"$f":"R83+S14","v":{"$error":"#VALUE!"}},{"$f":"R83+T14","v":{"$error":"#VALUE!"}},{"$f":"R83+U14","v":{"$error":"#VALUE!"}},{"$f":"R83+V14","v":{"$error":"#VALUE!"}},{"$f":"R83+W14","v":{"$error":"#VALUE!"}},{"$f":"R83+X14","v":{"$error":"#VALUE!"}},{"$f":"R83+Y14","v":{"$error":"#VALUE!"}},{"$f":"R83+Z14","v":{"$error":"#VALUE!"}},{"$f":"R83+AA14","v":{"$error":"#VALUE!"}},{"$f":"R83+AB14","v":{"$error":"#VALUE!"}},{"$f":"R83+AC14","v":{"$error":"#VALUE!"}},{"$f":"R83+AD14","v":{"$error":"#VALUE!"}},null,null,null,"",{"$f":"MIN((S114+AL31*D19)/AK40,(S115+AL31*D19)/AL40,(S116+AL31*D19)/AM40,(S117+AL31*D19)/AN40,(S118+AL31*D19)/AO40)*AP40","v":{"$error":"#VALUE!"}},{"$f":"MIN((T114+AL31*D19)/AK40,(T115+AL31*D19)/AL40,(T116+AL31*D19)/AM40,(T117+AL31*D19)/AN40,(T118+AL31*D19)/AO40)*AP40","v":{"$error":"#VALUE!"}},{"$f":"MIN((U114+AL31*D19)/AK40,(U115+AL31*D19)/AL40,(U116+AL31*D19)/AM40,(U117+AL31*D19)/AN40,(U118+AL31*D19)/AO40)*AP40","v":{"$error":"#VALUE!"}},{"$f":"MIN((V114+AL31*D19)/AK40,(V115+AL31*D19)/AL40,(V116+AL31*D19)/AM40,(V117+AL31*D19)/AN40,(V118+AL31*D19)/AO40)*AP40","v":{"$error":"#VALUE!"}},{"$f":"MIN((W114+AL31*D19)/AK40,(W115+AL31*D19)/AL40,(W116+AL31*D19)/AM40,(W117+AL31*D19)/AN40,(W118+AL31*D19)/AO40)*AP40","v":{"$error":"#VALUE!"}},{"$f":"MIN((X114+AL31*D19)/AK40,(X115+AL31*D19)/AL40,(X116+AL31*D19)/AM40,(X117+AL31*D19)/AN40,(X118+AL31*D19)/AO40)*AP40","v":{"$error":"#VALUE!"}},{"$f":"MIN((Y114+AL31*D19)/AK40,(Y115+AL31*D19)/AL40,(Y116+AL31*D19)/AM40,(Y117+AL31*D19)/AN40,(Y118+AL31*D19)/AO40)*AP40","v":{"$error":"#VALUE!"}},{"$f":"MIN((Z114+AL31*D19)/AK40,(Z115+AL31*D19)/AL40,(Z116+AL31*D19)/AM40,(Z117+AL31*D19)/AN40,(Z118+AL31*D19)/AO40)*AP40","v":{"$error":"#VALUE!"}},{"$f":"MIN((AA114+AL31*D19)/AK40,(AA115+AL31*D19)/AL40,(AA116+AL31*D19)/AM40,(AA117+AL31*D19)/AN40,(AA118+AL31*D19)/AO40)*AP40","v":{"$error":"#VALUE!"}},{"$f":"MIN((AB114+AL31*D19)/AK40,(AB115+AL31*D19)/AL40,(AB116+AL31*D19)/AM40,(AB117+AL31*D19)/AN40,(AB118+AL31*D19)/AO40)*AP40","v":{"$error":"#VALUE!"}},{"$f":"MIN((AC114+AL31*D19)/AK40,(AC115+AL31*D19)/AL40,(AC116+AL31*D19)/AM40,(AC117+AL31*D19)/AN40,(AC118+AL31*D19)/AO40)*AP40","v":{"$error":"#VALUE!"}},{"$f":"MIN((AD114+AL31*D19)/AK40,(AD115+AL31*D19)/AL40,(AD116+AL31*D19)/AM40,(AD117+AL31*D19)/AN40,(AD118+AL31*D19)/AO40)*AP40","v":{"$error":"#VALUE!"}},{"$f":"MIN((AE114+AL31*D19)/AK40,(AE115+AL31*D19)/AL40,(AE116+AL31*D19)/AM40,(AE117+AL31*D19)/AN40,(AE118+AL31*D19)/AO40)*AP40","v":{"$error":"#VALUE!"}},{"$f":"MIN((AF114+AL31*D19)/AK40,(AF115+AL31*D19)/AL40,(AF116+AL31*D19)/AM40,(AF117+AL31*D19)/AN40,(AF118+AL31*D19)/AO40)*AP40","v":{"$error":"#VALUE!"}},{"$error":"#VALUE!"},null,"",{"$f":"MIN((S114+AM31*D19)/AK41,(S115+AM31*D19)/AL41,(S116+AM31*D19)/AM41,(S117+AM31*D19)/AN41,(S118+AM31*D19)/AO41)*AP41","v":{"$error":"#VALUE!"}},{"$f":"MIN((T114+AM31*D19)/AK41,(T115+AM31*D19)/AL41,(T116+AM31*D19)/AM41,(T117+AM31*D19)/AN41,(T118+AM31*D19)/AO41)*AP41","v":{"$error":"#VALUE!"}},{"$f":"MIN((U114+AM31*D19)/AK41,(U115+AM31*D19)/AL41,(U116+AM31*D19)/AM41,(U117+AM31*D19)/AN41,(U118+AM31*D19)/AO41)*AP41","v":{"$error":"#VALUE!"}},{"$f":"MIN((V114+AM31*D19)/AK41,(V115+AM31*D19)/AL41,(V116+AM31*D19)/AM41,(V117+AM31*D19)/AN41,(V118+AM31*D19)/AO41)*AP41","v":{"$error":"#VALUE!"}},{"$f":"MIN((W114+AM31*D19)/AK41,(W115+AM31*D19)/AL41,(W116+AM31*D19)/AM41,(W117+AM31*D19)/AN41,(W118+AM31*D19)/AO41)*AP41","v":{"$error":"#VALUE!"}},{"$f":"MIN((X114+AM31*D19)/AK41,(X115+AM31*D19)/AL41,(X116+AM31*D19)/AM41,(X117+AM31*D19)/AN41,(X118+AM31*D19)/AO41)*AP41","v":{"$error":"#VALUE!"}},{"$f":"MIN((Y114+AM31*D19)/AK41,(Y115+AM31*D19)/AL41,(Y116+AM31*D19)/AM41,(Y117+AM31*D19)/AN41,(Y118+AM31*D19)/AO41)*AP41","v":{"$error":"#VALUE!"}},{"$f":"MIN((Z114+AM31*D19)/AK41,(Z115+AM31*D19)/AL41,(Z116+AM31*D19)/AM41,(Z117+AM31*D19)/AN41,(Z118+AM31*D19)/AO41)*AP41","v":{"$error":"#VALUE!"}},{"$f":"MIN((AA114+AM31*D19)/AK41,(AA115+AM31*D19)/AL41,(AA116+AM31*D19)/AM41,(AA117+AM31*D19)/AN41,(AA118+AM31*D19)/AO41)*AP41","v":{"$error":"#VALUE!"}},{"$f":"MIN((AB114+AM31*D19)/AK41,(AB115+AM31*D19)/AL41,(AB116+AM31*D19)/AM41,(AB117+AM31*D19)/AN41,(AB118+AM31*D19)/AO41)*AP41","v":{"$error":"#VALUE!"}},{"$f":"MIN((AC114+AM31*D19)/AK41,(AC115+AM31*D19)/AL41,(AC116+AM31*D19)/AM41,(AC117+AM31*D19)/AN41,(AC118+AM31*D19)/AO41)*AP41","v":{"$error":"#VALUE!"}},{"$f":"MIN((AD114+AM31*D19)/AK41,(AD115+AM31*D19)/AL41,(AD116+AM31*D19)/AM41,(AD117+AM31*D19)/AN41,(AD118+AM31*D19)/AO41)*AP41","v":{"$error":"#VALUE!"}},{"$f":"MIN((AE114+AM31*D19)/AK41,(AE115+AM31*D19)/AL41,(AE116+AM31*D19)/AM41,(AE117+AM31*D19)/AN41,(AE118+AM31*D19)/AO41)*AP41","v":{"$error":"#VALUE!"}},{"$f":"MIN((AF114+AM31*D19)/AK41,(AF115+AM31*D19)/AL41,(AF116+AM31*D19)/AM41,(AF117+AM31*D19)/AN41,(AF118+AM31*D19)/AO41)*AP41","v":{"$error":"#VALUE!"}},{"$error":"#VALUE!"},null,{"$f":"BB97","v":"kit 1"},"kit 2A","kit 2B","kit 4A","kit 4B","kit 5","kit 6A","kit 6B","kit 7","kit 8","kit 9A","kit 9B","kit 10","kit 11"]
[null,null,null,null,1.8165,0.4541,2.2706,2.0435500000000002,0.22705,2.2706000000000004,1.4532,0.36330000000000001,1.8165,1.6348499999999999,0.18165000000000001,1.8165,null,null,null,null,null,null,null,null,null,null,null,null,null,null,null,null,null,null,null,"",{"$f":"MIN((S121+AL31*D19)/AK40,(S122+AL31*D19)/AL40,(S123+AL31*D19)/AM40,(S124+AL31*D19)/AN40,(S125+AL31*D19)/AO40)*AP40","v":{"$error":"#VALUE!"}},{"$f":"MIN((T121+AL31*D19)/AK40,(T122+AL31*D19)/AL40,(T123+AL31*D19)/AM40,(T124+AL31*D19)/AN40,(T125+AL31*D19)/AO40)*AP40","v":{"$error":"#VALUE!"}},{"$f":"MIN((U121+AL31*D19)/AK40,(U122+AL31*D19)/AL40,(U123+AL31*D19)/AM40,(U124+AL31*D19)/AN40,(U125+AL31*D19)/AO40)*AP40","v":{"$error":"#VALUE!"}},{"$f":"MIN((V121+AL31*D19)/AK40,(V122+AL31*D19)/AL40,(V123+AL31*D19)/AM40,(V124+AL31*D19)/AN40,(V125+AL31*D19)/AO40)*AP40","v":{"$error":"#VALUE!"}},{"$f":"MIN((W121+AL31*D19)/AK40,(W122+AL31*D19)/AL40,(W123+AL31*D19)/AM40,(W124+AL31*D19)/AN40,(W125+AL31*D19)/AO40)*AP40","v":{"$error":"#VALUE!"}},{"$f":"MIN((X121+AL31*D19)/AK40,(X122+AL31*D19)/AL40,(X123+AL31*D19)/AM40,(X124+AL31*D19)/AN40,(X125+AL31*D19)/AO40)*AP40","v":{"$error":"#VALUE!"}},{"$f":"MIN((Y121+AL31*D19)/AK40,(Y122+AL31*D19)/AL40,(Y123+AL31*D19)/AM40,(Y124+AL31*D19)/AN40,(Y125+AL31*D19)/AO40)*AP40","v":{"$error":"#VALUE!"}},{"$f":"MIN((Z121+AL31*D19)/AK40,(Z122+AL31*D19)/AL40,(Z123+AL31*D19)/AM40,(Z124+AL31*D19)/AN40,(Z125+AL31*D19)/AO40)*AP40","v":{"$error":"#VALUE!"}},{"$f":"MIN((AA121+AL31*D19)/AK40,(AA122+AL31*D19)/AL40,(AA123+AL31*D19)/AM40,(AA124+AL31*D19)/AN40,(AA125+AL31*D19)/AO40)*AP40","v":{"$error":"#VALUE!"}},{"$f":"MIN((AB121+AL31*D19)/AK40,(AB122+AL31*D19)/AL40,(AB123+AL31*D19)/AM40,(AB124+AL31*D19)/AN40,(AB125+AL31*D19)/AO40)*AP40","v":{"$error":"#VALUE!"}},{"$f":"MIN((AC121+AL31*D19)/AK40,(AC122+AL31*D19)/AL40,(AC123+AL31*D19)/AM40,(AC124+AL31*D19)/AN40,(AC125+AL31*D19)/AO40)*AP40","v":{"$error":"#VALUE!"}},{"$f":"MIN((AD121+AL31*D19)/AK40,(AD122+AL31*D19)/AL40,(AD123+AL31*D19)/AM40,(AD124+AL31*D19)/AN40,(AD125+AL31*D19)/AO40)*AP40","v":{"$error":"#VALUE!"}},{"$f":"MIN((AE121+AL31*D19)/AK40,(AE122+AL31*D19)/AL40,(AE123+AL31*D19)/AM40,(AE124+AL31*D19)/AN40,(AE125+AL31*D19)/AO40)*AP40","v":{"$error":"#VALUE!"}},{"$f":"MIN((AF121+AL31*D19)/AK40,(AF122+AL31*D19)/AL40,(AF123+AL31*D19)/AM40,(AF124+AL31*D19)/AN40,(AF125+AL31*D19)/AO40)*AP40","v":{"$error":"#VALUE!"}},{"$error":"#VALUE!"},null,"",{"$f":"MIN((S121+AM31*D19)/AK41,(S122+AM31*D19)/AL41,(S123+AM31*D19)/AM41,(S124+AM31*D19)/AN41,(S125+AM31*D19)/AO41)*AP41","v":{"$error":"#VALUE!"}},{"$f":"MIN((T121+AM31*D19)/AK41,(T122+AM31*D19)/AL41,(T123+AM31*D19)/AM41,(T124+AM31*D19)/AN41,(T125+AM31*D19)/AO41)*AP41","v":{"$error":"#VALUE!"}},{"$f":"MIN((U121+AM31*D19)/AK41,(U122+AM31*D19)/AL41,(U123+AM31*D19)/AM41,(U124+AM31*D19)/AN41,(U125+AM31*D19)/AO41)*AP41","v":{"$error":"#VALUE!"}},{"$f":"MIN((V121+AM31*D19)/AK41,(V122+AM31*D19)/AL41,(V123+AM31*D19)/AM41,(V124+AM31*D19)/AN41,(V125+AM31*D19)/AO41)*AP41","v":{"$error":"#VALUE!"}},{"$f":"MIN((W121+AM31*D19)/AK41,(W122+AM31*D19)/AL41,(W123+AM31*D19)/AM41,(W124+AM31*D19)/AN41,(W125+AM31*D19)/AO41)*AP41","v":{"$error":"#VALUE!"}},{"$f":"MIN((X121+AM31*D19)/AK41,(X122+AM31*D19)/AL41,(X123+AM31*D19)/AM41,(X124+AM31*D19)/AN41,(X125+AM31*D19)/AO41)*AP41","v":{"$error":"#VALUE!"}},{"$f":"MIN((Y121+AM31*D19)/AK41,(Y122+AM31*D19)/AL41,(Y123+AM31*D19)/AM41,(Y124+AM31*D19)/AN41,(Y125+AM31*D19)/AO41)*AP41","v":{"$error":"#VALUE!"}},{"$f":"MIN((Z121+AM31*D19)/AK41,(Z122+AM31*D19)/AL41,(Z123+AM31*D19)/AM41,(Z124+AM31*D19)/AN41,(Z125+AM31*D19)/AO41)*AP41","v":{"$error":"#VALUE!"}},{"$f":"MIN((AA121+AM31*D19)/AK41,(AA122+AM31*D19)/AL41,(AA123+AM31*D19)/AM41,(AA124+AM31*D19)/AN41,(AA125+AM31*D19)/AO41)*AP41","v":{"$error":"#VALUE!"}},{"$f":"MIN((AB121+AM31*D19)/AK41,(AB122+AM31*D19)/AL41,(AB123+AM31*D19)/AM41,(AB124+AM31*D19)/AN41,(AB125+AM31*D19)/AO41)*AP41","v":{"$error":"#VALUE!"}},{"$f":"MIN((AC121+AM31*D19)/AK41,(AC122+AM31*D19)/AL41,(AC123+AM31*D19)/AM41,(AC124+AM31*D19)/AN41,(AC125+AM31*D19)/AO41)*AP41","v":{"$error":"#VALUE!"}},{"$f":"MIN((AD121+AM31*D19)/AK41,(AD122+AM31*D19)/AL41,(AD123+AM31*D19)/AM41,(AD124+AM31*D19)/AN41,(AD125+AM31*D19)/AO41)*AP41","v":{"$error":"#VALUE!"}},{"$f":"MIN((AE121+AM31*D19)/AK41,(AE122+AM31*D19)/AL41,(AE123+AM31*D19)/AM41,(AE124+AM31*D19)/AN41,(AE125+AM31*D19)/AO41)*AP41","v":{"$error":"#VALUE!"}},{"$f":"MIN((AF121+AM31*D19)/AK41,(AF122+AM31*D19)/AL41,(AF123+AM31*D19)/AM41,(AF124+AM31*D19)/AN41,(AF125+AM31*D19)/AO41)*AP41","v":{"$error":"#VALUE!"}},{"$error":"#VALUE!"},null,{"$f":"BB97","v":"kit 1"},"kit 2A","kit 2B","kit 4A","kit 4B","kit 5","kit 6A","kit 6B","kit 7","kit 8","kit 9A","kit 9B","kit 10","kit 11"]
[null,null,null,null,1.27155,0.54495000000000005,1.8165,1.4532,0.36330000000000001,1.8165,0.95365,0.40870000000000001,1.3623499999999999,1.9073500000000001,0.81740000000000002,2.7247500000000002,null,{"$f":"G15","v":""},{"$f":"S78","v":"kit 1"},{"$f":"T78","v":"kit 2A"},"kit 2B","kit 4A","kit 4B","kit 5","kit 6A","kit 6B","kit 7","kit 8","kit 9A","kit 9B",{"$f":"AE78","v":"kit 10"},{"$f":"AF78","v":"kit 11"},null,null,null,"",{"$f":"MIN((S128+AL31*D19)/AK40,(S129+AL31*D19)/AL40,(S130+AL31*D19)/AM40,(S131+AL31*D19)/AN40,(S132+AL31*D19)/AO40)*AP40","v":{"$error":"#VALUE!"}},{"$f":"MIN((T128+AL31*D19)/AK40,(T129+AL31*D19)/AL40,(T130+AL31*D19)/AM40,(T131+AL31*D19)/AN40,(T132+AL31*D19)/AO40)*AP40","v":{"$error":"#VALUE!"}},{"$f":"MIN((U128+AL31*D19)/AK40,(U129+AL31*D19)/AL40,(U130+AL31*D19)/AM40,(U131+AL31*D19)/AN40,(U132+AL31*D19)/AO40)*AP40","v":{"$error":"#VALUE!"}},{"$f":"MIN((V128+AL31*D19)/AK40,(V129+AL31*D19)/AL40,(V130+AL31*D19)/AM40,(V131+AL31*D19)/AN40,(V132+AL31*D19)/AO40)*AP40","v":{"$error":"#VALUE!"}},{"$f":"MIN((W128+AL31*D19)/AK40,(W129+AL31*D19)/AL40,(W130+AL31*D19)/AM40,(W131+AL31*D19)/AN40,(W132+AL31*D19)/AO40)*AP40","v":{"$error":"#VALUE!"}},{"$f":"MIN((X128+AL31*D19)/AK40,(X129+AL31*D19)/AL40,(X130+AL31*D19)/AM40,(X131+AL31*D19)/AN40,(X132+AL31*D19)/AO40)*AP40","v":{"$error":"#VALUE!"}},{"$f":"MIN((Y128+AL31*D19)/AK40,(Y129+AL31*D19)/AL40,(Y130+AL31*D19)/AM40,(Y131+AL31*D19)/AN40,(Y132+AL31*D19)/AO40)*AP40","v":{"$error":"#VALUE!"}},{"$f":"MIN((Z128+AL31*D19)/AK40,(Z129+AL31*D19)/AL40,(Z130+AL31*D19)/AM40,(Z131+AL31*D19)/AN40,(Z132+AL31*D19)/AO40)*AP40","v":{"$error":"#VALUE!"}},{"$f":"MIN((AA128+AL31*D19)/AK40,(AA129+AL31*D19)/AL40,(AA130+AL31*D19)/AM40,(AA131+AL31*D19)/AN40,(AA132+AL31*D19)/AO40)*AP40","v":{"$error":"#VALUE!"}},{"$f":"MIN((AB128+AL31*D19)/AK40,(AB129+AL31*D19)/AL40,(AB130+AL31*D19)/AM40,(AB131+AL31*D19)/AN40,(AB132+AL31*D19)/AO40)*AP40","v":{"$error":"#VALUE!"}},{"$f":"MIN((AC128+AL31*D19)/AK40,(AC129+AL31*D19)/AL40,(AC130+AL31*D19)/AM40,(AC131+AL31*D19)/AN40,(AC132+AL31*D19)/AO40)*AP40","v":{"$error":"#VALUE!"}},{"$f":"MIN((AD128+AL31*D19)/AK40,(AD129+AL31*D19)/AL40,(AD130+AL31*D19)/AM40,(AD131+AL31*D19)/AN40,(AD132+AL31*D19)/AO40)*AP40","v":{"$error":"#VALUE!"}},{"$f":"MIN((AE128+AL31*D19)/AK40,(AE129+AL31*D19)/AL40,(AE130+AL31*D19)/AM40,(AE131+AL31*D19)/AN40,(AE132+AL31*D19)/AO40)*AP40","v":{"$error":"#VALUE!"}},{"$f":"MIN((AF128+AL31*D19)/AK40,(AF129+AL31*D19)/AL40,(AF130+AL31*D19)/AM40,(AF131+AL31*D19)/AN40,(AF132+AL31*D19)/AO40)*AP40","v":{"$error":"#VALUE!"}},{"$error":"#VALUE!"},null,"",{"$f":"MIN((S128+AM31*D19)/AK41,(S129+AM31*D19)/AL41,(S130+AM31*D19)/AM41,(S131+AM31*D19)/AN41,(S132+AM31*D19)/AO41)*AP41","v":{"$error":"#VALUE!"}},{"$f":"MIN((T128+AM31*D19)/AK41,(T129+AM31*D19)/AL41,(T130+AM31*D19)/AM41,(T131+AM31*D19)/AN41,(T132+AM31*D19)/AO41)*AP41","v":{"$error":"#VALUE!"}},{"$f":"MIN((U128+AM31*D19)/AK41,(U129+AM31*D19)/AL41,(U130+AM31*D19)/AM41,(U131+AM31*D19)/AN41,(U132+AM31*D19)/AO41)*AP41","v":{"$error":"#VALUE!"}},{"$f":"MIN((V128+AM31*D19)/AK41,(V129+AM31*D19)/AL41,(V130+AM31*D19)/AM41,(V131+AM31*D19)/AN41,(V132+AM31*D19)/AO41)*AP41","v":{"$error":"#VALUE!"}},{"$f":"MIN((W128+AM31*D19)/AK41,(W129+AM31*D19)/AL41,(W130+AM31*D19)/AM41,(W131+AM31*D19)/AN41,(W132+AM31*D19)/AO41)*AP41","v":{"$error":"#VALUE!"}},{"$f":"MIN((X128+AM31*D19)/AK41,(X129+AM31*D19)/AL41,(X130+AM31*D19)/AM41,(X131+AM31*D19)/AN41,(X132+AM31*D19)/AO41)*AP41","v":{"$error":"#VALUE!"}},{"$f":"MIN((Y128+AM31*D19)/AK41,(Y129+AM31*D19)/AL41,(Y130+AM31*D19)/AM41,(Y131+AM31*D19)/AN41,(Y132+AM31*D19)/AO41)*AP41","v":{"$error":"#VALUE!"}},{"$f":"MIN((Z128+AM31*D19)/AK41,(Z129+AM31*D19)/AL41,(Z130+AM31*D19)/AM41,(Z131+AM31*D19)/AN41,(Z132+AM31*D19)/AO41)*AP41","v":{"$error":"#VALUE!"}},{"$f":"MIN((AA128+AM31*D19)/AK41,(AA129+AM31*D19)/AL41,(AA130+AM31*D19)/AM41,(AA131+AM31*D19)/AN41,(AA132+AM31*D19)/AO41)*AP41","v":{"$error":"#VALUE!"}},{"$f":"MIN((AB128+AM31*D19)/AK41,(AB129+AM31*D19)/AL41,(AB130+AM31*D19)/AM41,(AB131+AM31*D19)/AN41,(AB132+AM31*D19)/AO41)*AP41","v":{"$error":"#VALUE!"}},{"$f":"MIN((AC128+AM31*D19)/AK41,(AC129+AM31*D19)/AL41,(AC130+AM31*D19)/AM41,(AC131+AM31*D19)/AN41,(AC132+AM31*D19)/AO41)*AP41","v":{"$error":"#VALUE!"}},{"$f":"MIN((AD128+AM31*D19)/AK41,(AD129+AM31*D19)/AL41,(AD130+AM31*D19)/AM41,(AD131+AM31*D19)/AN41,(AD132+AM31*D19)/AO41)*AP41","v":{"$error":"#VALUE!"}},{"$f":"MIN((AE128+AM31*D19)/AK41,(AE129+AM31*D19)/AL41,(AE130+AM31*D19)/AM41,(AE131+AM31*D19)/AN41,(AE132+AM31*D19)/AO41)*AP41","v":{"$error":"#VALUE!"}},{"$f":"MIN((AF128+AM31*D19)/AK41,(AF129+AM31*D19)/AL41,(AF130+AM31*D19)/AM41,(AF131+AM31*D19)/AN41,(AF132+AM31*D19)/AO41)*AP41","v":{"$error":"#VALUE!"}},{"$error":"#VALUE!"},null,{"$f":"BB97","v":"kit 1"},"kit 2A","kit 2B","kit 4A","kit 4B","kit 5","kit 6A","kit 6B","kit 7","kit 8","kit 9A","kit 9B","kit 10","kit 11"]
[null,null,null,null,0.95365,0.40870000000000001,1.3623499999999999,1.9073500000000001,0.81740000000000002,2.7247500000000002,1.27155,0.54495000000000005,1.8165,1.27155,0.54495000000000005,1.8165,null,{"$f":"H15+AH39+D16+D17+D21+D19*AG12","v":{"$error":"#VALUE!"}},{"$f":"R86+Q10","v":{"$error":"#VALUE!"}},{"$f":"R86+R10","v":{"$error":"#VALUE!"}},{"$f":"R86+S10","v":{"$error":"#VALUE!"}},{"$f":"R86+T10","v":{"$error":"#VALUE!"}},{"$f":"R86+U10","v":{"$error":"#VALUE!"}},{"$f":"R86+V10","v":{"$error":"#VALUE!"}},{"$f":"R86+W10","v":{"$error":"#VALUE!"}},{"$f":"R86+X10","v":{"$error":"#VALUE!"}},{"$f":"R86+Y10","v":{"$error":"#VALUE!"}},{"$f":"R86+Z10","v":{"$error":"#VALUE!"}},{"$f":"R86+AA10","v":{"$error":"#VALUE!"}},{"$f":"R86+AB10","v":{"$error":"#VALUE!"}},{"$f":"R86+AC10","v":{"$error":"#VALUE!"}},{"$f":"R86+AD10","v":{"$error":"#VALUE!"}},null,null,null,"",{"$f":"MIN((S135+AL31*D19)/AK40,(S136+AL31*D19)/AL40,(S137+AL31*D19)/AM40,(S138+AL31*D19)/AN40,(S139+AL31*D19)/AO40)*AP40","v":{"$error":"#VALUE!"}},{"$f":"MIN((T135+AL31*D19)/AK40,(T136+AL31*D19)/AL40,(T137+AL31*D19)/AM40,(T138+AL31*D19)/AN40,(T139+AL31*D19)/AO40)*AP40","v":{"$error":"#VALUE!"}},{"$f":"MIN((U135+AL31*D19)/AK40,(U136+AL31*D19)/AL40,(U137+AL31*D19)/AM40,(U138+AL31*D19)/AN40,(U139+AL31*D19)/AO40)*AP40","v":{"$error":"#VALUE!"}},{"$f":"MIN((V135+AL31*D19)/AK40,(V136+AL31*D19)/AL40,(V137+AL31*D19)/AM40,(V138+AL31*D19)/AN40,(V139+AL31*D19)/AO40)*AP40","v":{"$error":"#VALUE!"}},{"$f":"MIN((W135+AL31*D19)/AK40,(W136+AL31*D19)/AL40,(W137+AL31*D19)/AM40,(W138+AL31*D19)/AN40,(W139+AL31*D19)/AO40)*AP40","v":{"$error":"#VALUE!"}},{"$f":"MIN((X135+AL31*D19)/AK40,(X136+AL31*D19)/AL40,(X137+AL31*D19)/AM40,(X138+AL31*D19)/AN40,(X139+AL31*D19)/AO40)*AP40","v":{"$error":"#VALUE!"}},{"$f":"MIN((Y135+AL31*D19)/AK40,(Y136+AL31*D19)/AL40,(Y137+AL31*D19)/AM40,(Y138+AL31*D19)/AN40,(Y139+AL31*D19)/AO40)*AP40","v":{"$error":"#VALUE!"}},{"$f":"MIN((Z135+AL31*D19)/AK40,(Z136+AL31*D19)/AL40,(Z137+AL31*D19)/AM40,(Z138+AL31*D19)/AN40,(Z139+AL31*D19)/AO40)*AP40","v":{"$error":"#VALUE!"}},{"$f":"MIN((AA135+AL31*D19)/AK40,(AA136+AL31*D19)/AL40,(AA137+AL31*D19)/AM40,(AA138+AL31*D19)/AN40,(AA139+AL31*D19)/AO40)*AP40","v":{"$error":"#VALUE!"}},{"$f":"MIN((AB135+AL31*D19)/AK40,(AB136+AL31*D19)/AL40,(AB137+AL31*D19)/AM40,(AB138+AL31*D19)/AN40,(AB139+AL31*D19)/AO40)*AP40","v":{"$error":"#VALUE!"}},{"$f":"MIN((AC135+AL31*D19)/AK40,(AC136+AL31*D19)/AL40,(AC137+AL31*D19)/AM40,(AC138+AL31*D19)/AN40,(AC139+AL31*D19)/AO40)*AP40","v":{"$error":"#VALUE!"}},{"$f":"MIN((AD135+AL31*D19)/AK40,(AD136+AL31*D19)/AL40,(AD137+AL31*D19)/AM40,(AD138+AL31*D19)/AN40,(AD139+AL31*D19)/AO40)*AP40","v":{"$error":"#VALUE!"}},{"$f":"MIN((AE135+AL31*D19)/AK40,(AE136+AL31*D19)/AL40,(AE137+AL31*D19)/AM40,(AE138+AL31*D19)/AN40,(AE139+AL31*D19)/AO40)*AP40","v":{"$error":"#VALUE!"}},{"$f":"MIN((AF135+AL31*D19)/AK40,(AF136+AL31*D19)/AL40,(AF137+AL31*D19)/AM40,(AF138+AL31*D19)/AN40,(AF139+AL31*D19)/AO40)*AP40","v":{"$error":"#VALUE!"}},{"$error":"#VALUE!"},null,"",{"$f":"MIN((S135+AM31*D19)/AK41,(S136+AM31*D19)/AL41,(S137+AM31*D19)/AM41,(S138+AM31*D19)/AN41,(S139+AM31*D19)/AO41)*AP41","v":{"$error":"#VALUE!"}},{"$f":"MIN((T135+AM31*D19)/AK41,(T136+AM31*D19)/AL41,(T137+AM31*D19)/AM41,(T138+AM31*D19)/AN41,(T139+AM31*D19)/AO41)*AP41","v":{"$error":"#VALUE!"}},{"$f":"MIN((U135+AM31*D19)/AK41,(U136+AM31*D19)/AL41,(U137+AM31*D19)/AM41,(U138+AM31*D19)/AN41,(U139+AM31*D19)/AO41)*AP41","v":{"$error":"#VALUE!"}},{"$f":"MIN((V135+AM31*D19)/AK41,(V136+AM31*D19)/AL41,(V137+AM31*D19)/AM41,(V138+AM31*D19)/AN41,(V139+AM31*D19)/AO41)*AP41","v":{"$error":"#VALUE!"}},{"$f":"MIN((W135+AM31*D19)/AK41,(W136+AM31*D19)/AL41,(W137+AM31*D19)/AM41,(W138+AM31*D19)/AN41,(W139+AM31*D19)/AO41)*AP41","v":{"$error":"#VALUE!"}},{"$f":"MIN((X135+AM31*D19)/AK41,(X136+AM31*D19)/AL41,(X137+AM31*D19)/AM41,(X138+AM31*D19)/AN41,(X139+AM31*D19)/AO41)*AP41","v":{"$error":"#VALUE!"}},{"$f":"MIN((Y135+AM31*D19)/AK41,(Y136+AM31*D19)/AL41,(Y137+AM31*D19)/AM41,(Y138+AM31*D19)/AN41,(Y139+AM31*D19)/AO41)*AP41","v":{"$error":"#VALUE!"}},{"$f":"MIN((Z135+AM31*D19)/AK41,(Z136+AM31*D19)/AL41,(Z137+AM31*D19)/AM41,(Z138+AM31*D19)/AN41,(Z139+AM31*D19)/AO41)*AP41","v":{"$error":"#VALUE!"}},{"$f":"MIN((AA135+AM31*D19)/AK41,(AA136+AM31*D19)/AL41,(AA137+AM31*D19)/AM41,(AA138+AM31*D19)/AN41,(AA139+AM31*D19)/AO41)*AP41","v":{"$error":"#VALUE!"}},{"$f":"MIN((AB135+AM31*D19)/AK41,(AB136+AM31*D19)/AL41,(AB137+AM31*D19)/AM41,(AB138+AM31*D19)/AN41,(AB139+AM31*D19)/AO41)*AP41","v":{"$error":"#VALUE!"}},{"$f":"MIN((AC135+AM31*D19)/AK41,(AC136+AM31*D19)/AL41,(AC137+AM31*D19)/AM41,(AC138+AM31*D19)/AN41,(AC139+AM31*D19)/AO41)*AP41","v":{"$error":"#VALUE!"}},{"$f":"MIN((AD135+AM31*D19)/AK41,(AD136+AM31*D19)/AL41,(AD137+AM31*D19)/AM41,(AD138+AM31*D19)/AN41,(AD139+AM31*D19)/AO41)*AP41","v":{"$error":"#VALUE!"}},{"$f":"MIN((AE135+AM31*D19)/AK41,(AE136+AM31*D19)/AL41,(AE137+AM31*D19)/AM41,(AE138+AM31*D19)/AN41,(AE139+AM31*D19)/AO41)*AP41","v":{"$error":"#VALUE!"}},{"$f":"MIN((AF135+AM31*D19)/AK41,(AF136+AM31*D19)/AL41,(AF137+AM31*D19)/AM41,(AF138+AM31*D19)/AN41,(AF139+AM31*D19)/AO41)*AP41","v":{"$error":"#VALUE!"}},{"$error":"#VALUE!"},null,{"$f":"BB97","v":"kit 1"},"kit 2A","kit 2B","kit 4A","kit 4B","kit 5","kit 6A","kit 6B","kit 7","kit 8","kit 9A","kit 9B","kit 10","kit 11"]
[null,null,null,null,null,null,{"$f":"SUM(G76:G86)","v":19.981300000000001},null,null,{"$f":"SUM(J76:J86)","v":19.9758},null,null,{"$f":"SUM(M76:M86)","v":19.981300000000005},null,null,{"$f":"SUM(P76:P86)","v":19.975899999999999},null,{"$f":"I15+AH40+D15+D17+D21+D19*AG12","v":{"$error":"#VALUE!"}},{"$f":"R87+Q11","v":{"$error":"#VALUE!"}},{"$f":"R87+R11","v":{"$error":"#VALUE!"}},{"$f":"R87+S11","v":{"$error":"#VALUE!"}},{"$f":"R87+T11","v":{"$error":"#VALUE!"}},{"$f":"R87+U11","v":{"$error":"#VALUE!"}},{"$f":"R87+V11","v":{"$error":"#VALUE!"}},{"$f":"R87+W11","v":{"$error":"#VALUE!"}},{"$f":"R87+X11","v":{"$error":"#VALUE!"}},{"$f":"R87+Y11","v":{"$error":"#VALUE!"}},{"$f":"R87+Z11","v":{"$error":"#VALUE!"}},{"$f":"R87+AA11","v":{"$error":"#VALUE!"}},{"$f":"R87+AB11","v":{"$error":"#VALUE!"}},{"$f":"R87+AC11","v":{"$error":"#VALUE!"}},{"$f":"R87+AD11","v":{"$error":"#VALUE!"}},null,null,null,"",{"$f":"MIN((S142+AL31*D19)/AK40,(S143+AL31*D19)/AL40,(S144+AL31*D19)/AM40,(S145+AL31*D19)/AN40,(S146+AL31*D19)/AO40)*AP40","v":{"$error":"#VALUE!"}},{"$f":"MIN((T142+AL31*D19)/AK40,(T143+AL31*D19)/AL40,(T144+AL31*D19)/AM40,(T145+AL31*D19)/AN40,(T146+AL31*D19)/AO40)*AP40","v":{"$error":"#VALUE!"}},{"$f":"MIN((U142+AL31*D19)/AK40,(U143+AL31*D19)/AL40,(U144+AL31*D19)/AM40,(U145+AL31*D19)/AN40,(U146+AL31*D19)/AO40)*AP40","v":{"$error":"#VALUE!"}},{"$f":"MIN((V142+AL31*D19)/AK40,(V143+AL31*D19)/AL40,(V144+AL31*D19)/AM40,(V145+AL31*D19)/AN40,(V146+AL31*D19)/AO40)*AP40","v":{"$error":"#VALUE!"}},{"$f":"MIN((W142+AL31*D19)/AK40,(W143+AL31*D19)/AL40,(W144+AL31*D19)/AM40,(W145+AL31*D19)/AN40,(W146+AL31*D19)/AO40)*AP40","v":{"$error":"#VALUE!"}},{"$f":"MIN((X142+AL31*D19)/AK40,(X143+AL31*D19)/AL40,(X144+AL31*D19)/AM40,(X145+AL31*D19)/AN40,(X146+AL31*D19)/AO40)*AP40","v":{"$error":"#VALUE!"}},{"$f":"MIN((Y142+AL31*D19)/AK40,(Y143+AL31*D19)/AL40,(Y144+AL31*D19)/AM40,(Y145+AL31*D19)/AN40,(Y146+AL31*D19)/AO40)*AP40","v":{"$error":"#VALUE!"}},{"$f":"MIN((Z142+AL31*D19)/AK40,(Z143+AL31*D19)/AL40,(Z144+AL31*D19)/AM40,(Z145+AL31*D19)/AN40,(Z146+AL31*D19)/AO40)*AP40","v":{"$error":"#VALUE!"}},{"$f":"MIN((AA142+AL31*D19)/AK40,(AA143+AL31*D19)/AL40,(AA144+AL31*D19)/AM40,(AA145+AL31*D19)/AN40,(AA146+AL31*D19)/AO40)*AP40","v":{"$error":"#VALUE!"}},{"$f":"MIN((AB142+AL31*D19)/AK40,(AB143+AL31*D19)/AL40,(AB144+AL31*D19)/AM40,(AB145+AL31*D19)/AN40,(AB146+AL31*D19)/AO40)*AP40","v":{"$error":"#VALUE!"}},{"$f":"MIN((AC142+AL31*D19)/AK40,(AC143+AL31*D19)/AL40,(AC144+AL31*D19)/AM40,(AC145+AL31*D19)/AN40,(AC146+AL31*D19)/AO40)*AP40","v":{"$error":"#VALUE!"}},{"$f":"MIN((AD142+AL31*D19)/AK40,(AD143+AL31*D19)/AL40,(AD144+AL31*D19)/AM40,(AD145+AL31*D19)/AN40,(AD146+AL31*D19)/AO40)*AP40","v":{"$error":"#VALUE!"}},{"$f":"MIN((AE142+AL31*D19)/AK40,(AE143+AL31*D19)/AL40,(AE144+AL31*D19)/AM40,(AE145+AL31*D19)/AN40,(AE146+AL31*D19)/AO40)*AP40","v":{"$error":"#VALUE!"}},{"$f":"MIN((AF142+AL31*D19)/AK40,(AF143+AL31*D19)/AL40,(AF144+AL31*D19)/AM40,(AF145+AL31*D19)/AN40,(AF146+AL31*D19)/AO40)*AP40","v":{"$error":"#VALUE!"}},{"$error":"#VALUE!"},null,"",{"$f":"MIN((S142+AM31*D19)/AK41,(S143+AM31*D19)/AL41,(S144+AM31*D19)/AM41,(S145+AM31*D19)/AN41,(S146+AM31*D19)/AO41)*AP41","v":{"$error":"#VALUE!"}},{"$f":"MIN((T142+AM31*D19)/AK41,(T143+AM31*D19)/AL41,(T144+AM31*D19)/AM41,(T145+AM31*D19)/AN41,(T146+AM31*D19)/AO41)*AP41","v":{"$error":"#VALUE!"}},{"$f":"MIN((U142+AM31*D19)/AK41,(U143+AM31*D19)/AL41,(U144+AM31*D19)/AM41,(U145+AM31*D19)/AN41,(U146+AM31*D19)/AO41)*AP41","v":{"$error":"#VALUE!"}},{"$f":"MIN((V142+AM31*D19)/AK41,(V143+AM31*D19)/AL41,(V144+AM31*D19)/AM41,(V145+AM31*D19)/AN41,(V146+AM31*D19)/AO41)*AP41","v":{"$error":"#VALUE!"}},{"$f":"MIN((W142+AM31*D19)/AK41,(W143+AM31*D19)/AL41,(W144+AM31*D19)/AM41,(W145+AM31*D19)/AN41,(W146+AM31*D19)/AO41)*AP41","v":{"$error":"#VALUE!"}},{"$f":"MIN((X142+AM31*D19)/AK41,(X143+AM31*D19)/AL41,(X144+AM31*D19)/AM41,(X145+AM31*D19)/AN41,(X146+AM31*D19)/AO41)*AP41","v":{"$error":"#VALUE!"}},{"$f":"MIN((Y142+AM31*D19)/AK41,(Y143+AM31*D19)/AL41,(Y144+AM31*D19)/AM41,(Y145+AM31*D19)/AN41,(Y146+AM31*D19)/AO41)*AP41","v":{"$error":"#VALUE!"}},{"$f":"MIN((Z142+AM31*D19)/AK41,(Z143+AM31*D19)/AL41,(Z144+AM31*D19)/AM41,(Z145+AM31*D19)/AN41,(Z146+AM31*D19)/AO41)*AP41","v":{"$error":"#VALUE!"}},{"$f":"MIN((AA142+AM31*D19)/AK41,(AA143+AM31*D19)/AL41,(AA144+AM31*D19)/AM41,(AA145+AM31*D19)/AN41,(AA146+AM31*D19)/AO41)*AP41","v":{"$error":"#VALUE!"}},{"$f":"MIN((AB142+AM31*D19)/AK41,(AB143+AM31*D19)/AL41,(AB144+AM31*D19)/AM41,(AB145+AM31*D19)/AN41,(AB146+AM31*D19)/AO41)*AP41","v":{"$error":"#VALUE!"}},{"$f":"MIN((AC142+AM31*D19)/AK41,(AC143+AM31*D19)/AL41,(AC144+AM31*D19)/AM41,(AC145+AM31*D19)/AN41,(AC146+AM31*D19)/AO41)*AP41","v":{"$error":"#VALUE!"}},{"$f":"MIN((AD142+AM31*D19)/AK41,(AD143+AM31*D19)/AL41,(AD144+AM31*D19)/AM41,(AD145+AM31*D19)/AN41,(AD146+AM31*D19)/AO41)*AP41","v":{"$error":"#VALUE!"}},{"$f":"MIN((AE142+AM31*D19)/AK41,(AE143+AM31*D19)/AL41,(AE144+AM31*D19)/AM41,(AE145+AM31*D19)/AN41,(AE146+AM31*D19)/AO41)*AP41","v":{"$error":"#VALUE!"}},{"$f":"MIN((AF142+AM31*D19)/AK41,(AF143+AM31*D19)/AL41,(AF144+AM31*D19)/AM41,(AF145+AM31*D19)/AN41,(AF146+AM31*D19)/AO41)*AP41","v":{"$error":"#VALUE!"}},{"$error":"#VALUE!"},null,{"$f":"BB97","v":"kit 1"},"kit 2A","kit 2B","kit 4A","kit 4B","kit 5","kit 6A","kit 6B","kit 7","kit 8","kit 9A","kit 9B","kit 10","kit 11"]
[null,null,null,null,"541 offensif",null,null,"433 offensif",null,null,"352 offensif",null,null,"442 offensif",null,null,null,{"$f":"J15+AH41+D15+D17+D21+D19*AG12","v":{"$error":"#VALUE!"}},{"$f":"R88+Q12","v":{"$error":"#VALUE!"}},{"$f":"R88+R12","v":{"$error":"#VALUE!"}},{"$f":"R88+S12","v":{"$error":"#VALUE!"}},{"$f":"R88+T12","v":{"$error":"#VALUE!"}},{"$f":"R88+U12","v":{"$error":"#VALUE!"}},{"$f":"R88+V12","v":{"$error":"#VALUE!"}},{"$f":"R88+W12","v":{"$error":"#VALUE!"}},{"$f":"R88+X12","v":{"$error":"#VALUE!"}},{"$f":"R88+Y12","v":{"$error":"#VALUE!"}},{"$f":"R88+Z12","v":{"$error":"#VALUE!"}},{"$f":"R88+AA12","v":{"$error":"#VALUE!"}},{"$f":"R88+AB12","v":{"$error":"#VALUE!"}},{"$f":"R88+AC12","v":{"$error":"#VALUE!"}},{"$f":"R88+AD12","v":{"$error":"#VALUE!"}},null,null,null,"",{"$f":"MIN((S149+AL31*D19)/AK40,(S150+AL31*D19)/AL40,(S151+AL31*D19)/AM40,(S152+AL31*D19)/AN40,(S153+AL31*D19)/AO40)*AP40","v":{"$error":"#VALUE!"}},{"$f":"MIN((T149+AL31*D19)/AK40,(T150+AL31*D19)/AL40,(T151+AL31*D19)/AM40,(T152+AL31*D19)/AN40,(T153+AL31*D19)/AO40)*AP40","v":{"$error":"#VALUE!"}},{"$f":"MIN((U149+AL31*D19)/AK40,(U150+AL31*D19)/AL40,(U151+AL31*D19)/AM40,(U152+AL31*D19)/AN40,(U153+AL31*D19)/AO40)*AP40","v":{"$error":"#VALUE!"}},{"$f":"MIN((V149+AL31*D19)/AK40,(V150+AL31*D19)/AL40,(V151+AL31*D19)/AM40,(V152+AL31*D19)/AN40,(V153+AL31*D19)/AO40)*AP40","v":{"$error":"#VALUE!"}},{"$f":"MIN((W149+AL31*D19)/AK40,(W150+AL31*D19)/AL40,(W151+AL31*D19)/AM40,(W152+AL31*D19)/AN40,(W153+AL31*D19)/AO40)*AP40","v":{"$error":"#VALUE!"}},{"$f":"MIN((X149+AL31*D19)/AK40,(X150+AL31*D19)/AL40,(X151+AL31*D19)/AM40,(X152+AL31*D19)/AN40,(X153+AL31*D19)/AO40)*AP40","v":{"$error":"#VALUE!"}},{"$f":"MIN((Y149+AL31*D19)/AK40,(Y150+AL31*D19)/AL40,(Y151+AL31*D19)/AM40,(Y152+AL31*D19)/AN40,(Y153+AL31*D19)/AO40)*AP40","v":{"$error":"#VALUE!"}},{"$f":"MIN((Z149+AL31*D19)/AK40,(Z150+AL31*D19)/AL40,(Z151+AL31*D19)/AM40,(Z152+AL31*D19)/AN40,(Z153+AL31*D19)/AO40)*AP40","v":{"$error":"#VALUE!"}},{"$f":"MIN((AA149+AL31*D19)/AK40,(AA150+AL31*D19)/AL40,(AA151+AL31*D19)/AM40,(AA152+AL31*D19)/AN40,(AA153+AL31*D19)/AO40)*AP40","v":{"$error":"#VALUE!"}},{"$f":"MIN((AB149+AL31*D19)/AK40,(AB150+AL31*D19)/AL40,(AB151+AL31*D19)/AM40,(AB152+AL31*D19)/AN40,(AB153+AL31*D19)/AO40)*AP40","v":{"$error":"#VALUE!"}},{"$f":"MIN((AC149+AL31*D19)/AK40,(AC150+AL31*D19)/AL40,(AC151+AL31*D19)/AM40,(AC152+AL31*D19)/AN40,(AC153+AL31*D19)/AO40)*AP40","v":{"$error":"#VALUE!"}},{"$f":"MIN((AD149+AL31*D19)/AK40,(AD150+AL31*D19)/AL40,(AD151+AL31*D19)/AM40,(AD152+AL31*D19)/AN40,(AD153+AL31*D19)/AO40)*AP40","v":{"$error":"#VALUE!"}},{"$f":"MIN((AE149+AL31*D19)/AK40,(AE150+AL31*D19)/AL40,(AE151+AL31*D19)/AM40,(AE152+AL31*D19)/AN40,(AE153+AL31*D19)/AO40)*AP40","v":{"$error":"#VALUE!"}},{"$f":"MIN((AF149+AL31*D19)/AK40,(AF150+AL31*D19)/AL40,(AF151+AL31*D19)/AM40,(AF152+AL31*D19)/AN40,(AF153+AL31*D19)/AO40)*AP40","v":{"$error":"#VALUE!"}},{"$error":"#VALUE!"},null,"",{"$f":"MIN((S149+AM31*D19)/AK41,(S150+AM31*D19)/AL41,(S151+AM31*D19)/AM41,(S152+AM31*D19)/AN41,(S153+AM31*D19)/AO41)*AP41","v":{"$error":"#VALUE!"}},{"$f":"MIN((T149+AM31*D19)/AK41,(T150+AM31*D19)/AL41,(T151+AM31*D19)/AM41,(T152+AM31*D19)/AN41,(T153+AM31*D19)/AO41)*AP41","v":{"$error":"#VALUE!"}},{"$f":"MIN((U149+AM31*D19)/AK41,(U150+AM31*D19)/AL41,(U151+AM31*D19)/AM41,(U152+AM31*D19)/AN41,(U153+AM31*D19)/AO41)*AP41","v":{"$error":"#VALUE!"}},{"$f":"MIN((V149+AM31*D19)/AK41,(V150+AM31*D19)/AL41,(V151+AM31*D19)/AM41,(V152+AM31*D19)/AN41,(V153+AM31*D19)/AO41)*AP41","v":{"$error":"#VALUE!"}},{"$f":"MIN((W149+AM31*D19)/AK41,(W150+AM31*D19)/AL41,(W151+AM31*D19)/AM41,(W152+AM31*D19)/AN41,(W153+AM31*D19)/AO41)*AP41","v":{"$error":"#VALUE!"}},{"$f":"MIN((X149+AM31*D19)/AK41,(X150+AM31*D19)/AL41,(X151+AM31*D19)/AM41,(X152+AM31*D19)/AN41,(X153+AM31*D19)/AO41)*AP41","v":{"$error":"#VALUE!"}},{"$f":"MIN((Y149+AM31*D19)/AK41,(Y150+AM31*D19)/AL41,(Y151+AM31*D19)/AM41,(Y152+AM31*D19)/AN41,(Y153+AM31*D19)/AO41)*AP41","v":{"$error":"#VALUE!"}},{"$f":"MIN((Z149+AM31*D19)/AK41,(Z150+AM31*D19)/AL41,(Z151+AM31*D19)/AM41,(Z152+AM31*D19)/AN41,(Z153+AM31*D19)/AO41)*AP41","v":{"$error":"#VALUE!"}},{"$f":"MIN((AA149+AM31*D19)/AK41,(AA150+AM31*D19)/AL41,(AA151+AM31*D19)/AM41,(AA152+AM31*D19)/AN41,(AA153+AM31*D19)/AO41)*AP41","v":{"$error":"#VALUE!"}},{"$f":"MIN((AB149+AM31*D19)/AK41,(AB150+AM31*D19)/AL41,(AB151+AM31*D19)/AM41,(AB152+AM31*D19)/AN41,(AB153+AM31*D19)/AO41)*AP41","v":{"$error":"#VALUE!"}},{"$f":"MIN((AC149+AM31*D19)/AK41,(AC150+AM31*D19)/AL41,(AC151+AM31*D19)/AM41,(AC152+AM31*D19)/AN41,(AC153+AM31*D19)/AO41)*AP41","v":{"$error":"#VALUE!"}},{"$f":"MIN((AD149+AM31*D19)/AK41,(AD150+AM31*D19)/AL41,(AD151+AM31*D19)/AM41,(AD152+AM31*D19)/AN41,(AD153+AM31*D19)/AO41)*AP41","v":{"$error":"#VALUE!"}},{"$f":"MIN((AE149+AM31*D19)/AK41,(AE150+AM31*D19)/AL41,(AE151+AM31*D19)/AM41,(AE152+AM31*D19)/AN41,(AE153+AM31*D19)/AO41)*AP41","v":{"$error":"#VALUE!"}},{"$f":"MIN((AF149+AM31*D19)/AK41,(AF150+AM31*D19)/AL41,(AF151+AM31*D19)/AM41,(AF152+AM31*D19)/AN41,(AF153+AM31*D19)/AO41)*AP41","v":{"$error":"#VALUE!"}},{"$error":"#VALUE!"},null,{"$f":"BB97","v":"kit 1"},"kit 2A","kit 2B","kit 4A","kit 4B","kit 5","kit 6A","kit 6B","kit 7","kit 8","kit 9A","kit 9B","kit 10","kit 11"]
[null,null,null,null,"1% attaque","1% defense","1% cumulé","1% attaque","1% defense","1% cumulé","1% attaque","1% defense","1% cumulé","1% attaque","1% defense","1% cumulé",null,{"$f":"K15+AH42+D16+D17+D21+D19*AG12","v":{"$error":"#VALUE!"}},{"$f":"R89+Q13","v":{"$error":"#VALUE!"}},{"$f":"R89+R13","v":{"$error":"#VALUE!"}},{"$f":"R89+S13","v":{"$error":"#VALUE!"}},{"$f":"R89+T13","v":{"$error":"#VALUE!"}},{"$f":"R89+U13","v":{"$error":"#VALUE!"}},{"$f":"R89+V13","v":{"$error":"#VALUE!"}},{"$f":"R89+W13","v":{"$error":"#VALUE!"}},{"$f":"R89+X13","v":{"$error":"#VALUE!"}},{"$f":"R89+Y13","v":{"$error":"#VALUE!"}},{"$f":"R89+Z13","v":{"$error":"#VALUE!"}},{"$f":"R89+AA13","v":{"$error":"#VALUE!"}},{"$f":"R89+AB13","v":{"$error":"#VALUE!"}},{"$f":"R89+AC13","v":{"$error":"#VALUE!"}},{"$f":"R89+AD13","v":{"$error":"#VALUE!"}},null,null,null,"",{"$f":"MIN((S156+AL31*D19)/AK40,(S157+AL31*D19)/AL40,(S158+AL31*D19)/AM40,(S159+AL31*D19)/AN40,(S160+AL31*D19)/AO40)*AP40","v":{"$error":"#VALUE!"}},{"$f":"MIN((T156+AL31*D19)/AK40,(T157+AL31*D19)/AL40,(T158+AL31*D19)/AM40,(T159+AL31*D19)/AN40,(T160+AL31*D19)/AO40)*AP40","v":{"$error":"#VALUE!"}},{"$f":"MIN((U156+AL31*D19)/AK40,(U157+AL31*D19)/AL40,(U158+AL31*D19)/AM40,(U159+AL31*D19)/AN40,(U160+AL31*D19)/AO40)*AP40","v":{"$error":"#VALUE!"}},{"$f":"MIN((V156+AL31*D19)/AK40,(V157+AL31*D19)/AL40,(V158+AL31*D19)/AM40,(V159+AL31*D19)/AN40,(V160+AL31*D19)/AO40)*AP40","v":{"$error":"#VALUE!"}},{"$f":"MIN((W156+AL31*D19)/AK40,(W157+AL31*D19)/AL40,(W158+AL31*D19)/AM40,(W159+AL31*D19)/AN40,(W160+AL31*D19)/AO40)*AP40","v":{"$error":"#VALUE!"}},{"$f":"MIN((X156+AL31*D19)/AK40,(X157+AL31*D19)/AL40,(X158+AL31*D19)/AM40,(X159+AL31*D19)/AN40,(X160+AL31*D19)/AO40)*AP40","v":{"$error":"#VALUE!"}},{"$f":"MIN((Y156+AL31*D19)/AK40,(Y157+AL31*D19)/AL40,(Y158+AL31*D19)/AM40,(Y159+AL31*D19)/AN40,(Y160+AL31*D19)/AO40)*AP40","v":{"$error":"#VALUE!"}},{"$f":"MIN((Z156+AL31*D19)/AK40,(Z157+AL31*D19)/AL40,(Z158+AL31*D19)/AM40,(Z159+AL31*D19)/AN40,(Z160+AL31*D19)/AO40)*AP40","v":{"$error":"#VALUE!"}},{"$f":"MIN((AA156+AL31*D19)/AK40,(AA157+AL31*D19)/AL40,(AA158+AL31*D19)/AM40,(AA159+AL31*D19)/AN40,(AA160+AL31*D19)/AO40)*AP40","v":{"$error":"#VALUE!"}},{"$f":"MIN((AB156+AL31*D19)/AK40,(AB157+AL31*D19)/AL40,(AB158+AL31*D19)/AM40,(AB159+AL31*D19)/AN40,(AB160+AL31*D19)/AO40)*AP40","v":{"$error":"#VALUE!"}},{"$f":"MIN((AC156+AL31*D19)/AK40,(AC157+AL31*D19)/AL40,(AC158+AL31*D19)/AM40,(AC159+AL31*D19)/AN40,(AC160+AL31*D19)/AO40)*AP40","v":{"$error":"#VALUE!"}},{"$f":"MIN((AD156+AL31*D19)/AK40,(AD157+AL31*D19)/AL40,(AD158+AL31*D19)/AM40,(AD159+AL31*D19)/AN40,(AD160+AL31*D19)/AO40)*AP40","v":{"$error":"#VALUE!"}},{"$f":"MIN((AE156+AL31*D19)/AK40,(AE157+AL31*D19)/AL40,(AE158+AL31*D19)/AM40,(AE159+AL31*D19)/AN40,(AE160+AL31*D19)/AO40)*AP40","v":{"$error":"#VALUE!"}},{"$f":"MIN((AF156+AL31*D19)/AK40,(AF157+AL31*D19)/AL40,(AF158+AL31*D19)/AM40,(AF159+AL31*D19)/AN40,(AF160+AL31*D19)/AO40)*AP40","v":{"$error":"#VALUE!"}},{"$error":"#VALUE!"},null,"",{"$f":"MIN((S156+AM31*D19)/AK41,(S157+AM31*D19)/AL41,(S158+AM31*D19)/AM41,(S159+AM31*D19)/AN41,(S160+AM31*D19)/AO41)*AP41","v":{"$error":"#VALUE!"}},{"$f":"MIN((T156+AM31*D19)/AK41,(T157+AM31*D19)/AL41,(T158+AM31*D19)/AM41,(T159+AM31*D19)/AN41,(T160+AM31*D19)/AO41)*AP41","v":{"$error":"#VALUE!"}},{"$f":"MIN((U156+AM31*D19)/AK41,(U157+AM31*D19)/AL41,(U158+AM31*D19)/AM41,(U159+AM31*D19)/AN41,(U160+AM31*D19)/AO41)*AP41","v":{"$error":"#VALUE!"}},{"$f":"MIN((V156+AM31*D19)/AK41,(V157+AM31*D19)/AL41,(V158+AM31*D19)/AM41,(V159+AM31*D19)/AN41,(V160+AM31*D19)/AO41)*AP41","v":{"$error":"#VALUE!"}},{"$f":"MIN((W156+AM31*D19)/AK41,(W157+AM31*D19)/AL41,(W158+AM31*D19)/AM41,(W159+AM31*D19)/AN41,(W160+AM31*D19)/AO41)*AP41","v":{"$error":"#VALUE!"}},{"$f":"MIN((X156+AM31*D19)/AK41,(X157+AM31*D19)/AL41,(X158+AM31*D19)/AM41,(X159+AM31*D19)/AN41,(X160+AM31*D19)/AO41)*AP41","v":{"$error":"#VALUE!"}},{"$f":"MIN((Y156+AM31*D19)/AK41,(Y157+AM31*D19)/AL41,(Y158+AM31*D19)/AM41,(Y159+AM31*D19)/AN41,(Y160+AM31*D19)/AO41)*AP41","v":{"$error":"#VALUE!"}},{"$f":"MIN((Z156+AM31*D19)/AK41,(Z157+AM31*D19)/AL41,(Z158+AM31*D19)/AM41,(Z159+AM31*D19)/AN41,(Z160+AM31*D19)/AO41)*AP41","v":{"$error":"#VALUE!"}},{"$f":"MIN((AA156+AM31*D19)/AK41,(AA157+AM31*D19)/AL41,(AA158+AM31*D19)/AM41,(AA159+AM31*D19)/AN41,(AA160+AM31*D19)/AO41)*AP41","v":{"$error":"#VALUE!"}},{"$f":"MIN((AB156+AM31*D19)/AK41,(AB157+AM31*D19)/AL41,(AB158+AM31*D19)/AM41,(AB159+AM31*D19)/AN41,(AB160+AM31*D19)/AO41)*AP41","v":{"$error":"#VALUE!"}},{"$f":"MIN((AC156+AM31*D19)/AK41,(AC157+AM31*D19)/AL41,(AC158+AM31*D19)/AM41,(AC159+AM31*D19)/AN41,(AC160+AM31*D19)/AO41)*AP41","v":{"$error":"#VALUE!"}},{"$f":"MIN((AD156+AM31*D19)/AK41,(AD157+AM31*D19)/AL41,(AD158+AM31*D19)/AM41,(AD159+AM31*D19)/AN41,(AD160+AM31*D19)/AO41)*AP41","v":{"$error":"#VALUE!"}},{"$f":"MIN((AE156+AM31*D19)/AK41,(AE157+AM31*D19)/AL41,(AE158+AM31*D19)/AM41,(AE159+AM31*D19)/AN41,(AE160+AM31*D19)/AO41)*AP41","v":{"$error":"#VALUE!"}},{"$f":"MIN((AF156+AM31*D19)/AK41,(AF157+AM31*D19)/AL41,(AF158+AM31*D19)/AM41,(AF159+AM31*D19)/AN41,(AF160+AM31*D19)/AO41)*AP41","v":{"$error":"#VALUE!"}},{"$error":"#VALUE!"},null,{"$f":"BB97","v":"kit 1"},"kit 2A","kit 2B","kit 4A","kit 4B","kit 5","kit 6A","kit 6B","kit 7","kit 8","kit 9A","kit 9B","kit 10","kit 11"]
[null,null,null,null,5.4449999999999998E-2,2.6702499999999998,{"$f":"E90+F90","v":2.7246999999999999},0.27245000000000003,2.4523000000000001,{"$f":"H90+I90","v":2.7247500000000002},5.4449999999999998E-2,2.6702499999999998,{"$f":"K90+L90","v":2.7246999999999999},5.4449999999999998E-2,2.6702499999999998,{"$f":"N90+O90","v":2.7246999999999999},null,{"$f":"L15+AH43+D15+D17+D21+D19*AG12","v":{"$error":"#VALUE!"}},{"$f":"R90+Q14","v":{"$error":"#VALUE!"}},{"$f":"R90+R14","v":{"$error":"#VALUE!"}},{"$f":"R90+S14","v":{"$error":"#VALUE!"}},{"$f":"R90+T14","v":{"$error":"#VALUE!"}},{"$f":"R90+U14","v":{"$error":"#VALUE!"}},{"$f":"R90+V14","v":{"$error":"#VALUE!"}},{"$f":"R90+W14","v":{"$error":"#VALUE!"}},{"$f":"R90+X14","v":{"$error":"#VALUE!"}},{"$f":"R90+Y14","v":{"$error":"#VALUE!"}},{"$f":"R90+Z14","v":{"$error":"#VALUE!"}},{"$f":"R90+AA14","v":{"$error":"#VALUE!"}},{"$f":"R90+AB14","v":{"$error":"#VALUE!"}},{"$f":"R90+AC14","v":{"$error":"#VALUE!"}},{"$f":"R90+AD14","v":{"$error":"#VALUE!"}},null,null,null,"",{"$f":"MIN((S163+AL31*D19)/AK40,(S164+AL31*D19)/AL40,(S165+AL31*D19)/AM40,(S166+AL31*D19)/AN40,(S167+AL31*D19)/AO40)*AP40","v":{"$error":"#VALUE!"}},{"$f":"MIN((T163+AL31*D19)/AK40,(T164+AL31*D19)/AL40,(T165+AL31*D19)/AM40,(T166+AL31*D19)/AN40,(T167+AL31*D19)/AO40)*AP40","v":{"$error":"#VALUE!"}},{"$f":"MIN((U163+AL31*D19)/AK40,(U164+AL31*D19)/AL40,(U165+AL31*D19)/AM40,(U166+AL31*D19)/AN40,(U167+AL31*D19)/AO40)*AP40","v":{"$error":"#VALUE!"}},{"$f":"MIN((V163+AL31*D19)/AK40,(V164+AL31*D19)/AL40,(V165+AL31*D19)/AM40,(V166+AL31*D19)/AN40,(V167+AL31*D19)/AO40)*AP40","v":{"$error":"#VALUE!"}},{"$f":"MIN((W163+AL31*D19)/AK40,(W164+AL31*D19)/AL40,(W165+AL31*D19)/AM40,(W166+AL31*D19)/AN40,(W167+AL31*D19)/AO40)*AP40","v":{"$error":"#VALUE!"}},{"$f":"MIN((X163+AL31*D19)/AK40,(X164+AL31*D19)/AL40,(X165+AL31*D19)/AM40,(X166+AL31*D19)/AN40,(X167+AL31*D19)/AO40)*AP40","v":{"$error":"#VALUE!"}},{"$f":"MIN((Y163+AL31*D19)/AK40,(Y164+AL31*D19)/AL40,(Y165+AL31*D19)/AM40,(Y166+AL31*D19)/AN40,(Y167+AL31*D19)/AO40)*AP40","v":{"$error":"#VALUE!"}},{"$f":"MIN((Z163+AL31*D19)/AK40,(Z164+AL31*D19)/AL40,(Z165+AL31*D19)/AM40,(Z166+AL31*D19)/AN40,(Z167+AL31*D19)/AO40)*AP40","v":{"$error":"#VALUE!"}},{"$f":"MIN((AA163+AL31*D19)/AK40,(AA164+AL31*D19)/AL40,(AA165+AL31*D19)/AM40,(AA166+AL31*D19)/AN40,(AA167+AL31*D19)/AO40)*AP40","v":{"$error":"#VALUE!"}},{"$f":"MIN((AB163+AL31*D19)/AK40,(AB164+AL31*D19)/AL40,(AB165+AL31*D19)/AM40,(AB166+AL31*D19)/AN40,(AB167+AL31*D19)/AO40)*AP40","v":{"$error":"#VALUE!"}},{"$f":"MIN((AC163+AL31*D19)/AK40,(AC164+AL31*D19)/AL40,(AC165+AL31*D19)/AM40,(AC166+AL31*D19)/AN40,(AC167+AL31*D19)/AO40)*AP40","v":{"$error":"#VALUE!"}},{"$f":"MIN((AD163+AL31*D19)/AK40,(AD164+AL31*D19)/AL40,(AD165+AL31*D19)/AM40,(AD166+AL31*D19)/AN40,(AD167+AL31*D19)/AO40)*AP40","v":{"$error":"#VALUE!"}},{"$f":"MIN((AE163+AL31*D19)/AK40,(AE164+AL31*D19)/AL40,(AE165+AL31*D19)/AM40,(AE166+AL31*D19)/AN40,(AE167+AL31*D19)/AO40)*AP40","v":{"$error":"#VALUE!"}},{"$f":"MIN((AF163+AL31*D19)/AK40,(AF164+AL31*D19)/AL40,(AF165+AL31*D19)/AM40,(AF166+AL31*D19)/AN40,(AF167+AL31*D19)/AO40)*AP40","v":{"$error":"#VALUE!"}},{"$error":"#VALUE!"},null,"",{"$f":"MIN((S163+AM31*D19)/AK41,(S164+AM31*D19)/AL41,(S165+AM31*D19)/AM41,(S166+AM31*D19)/AN41,(S167+AM31*D19)/AO41)*AP41","v":{"$error":"#VALUE!"}},{"$f":"MIN((T163+AM31*D19)/AK41,(T164+AM31*D19)/AL41,(T165+AM31*D19)/AM41,(T166+AM31*D19)/AN41,(T167+AM31*D19)/AO41)*AP41","v":{"$error":"#VALUE!"}},{"$f":"MIN((U163+AM31*D19)/AK41,(U164+AM31*D19)/AL41,(U165+AM31*D19)/AM41,(U166+AM31*D19)/AN41,(U167+AM31*D19)/AO41)*AP41","v":{"$error":"#VALUE!"}},{"$f":"MIN((V163+AM31*D19)/AK41,(V164+AM31*D19)/AL41,(V165+AM31*D19)/AM41,(V166+AM31*D19)/AN41,(V167+AM31*D19)/AO41)*AP41","v":{"$error":"#VALUE!"}},{"$f":"MIN((W163+AM31*D19)/AK41,(W164+AM31*D19)/AL41,(W165+AM31*D19)/AM41,(W166+AM31*D19)/AN41,(W167+AM31*D19)/AO41)*AP41","v":{"$error":"#VALUE!"}},{"$f":"MIN((X163+AM31*D19)/AK41,(X164+AM31*D19)/AL41,(X165+AM31*D19)/AM41,(X166+AM31*D19)/AN41,(X167+AM31*D19)/AO41)*AP41","v":{"$error":"#VALUE!"}},{"$f":"MIN((Y163+AM31*D19)/AK41,(Y164+AM31*D19)/AL41,(Y165+AM31*D19)/AM41,(Y166+AM31*D19)/AN41,(Y167+AM31*D19)/AO41)*AP41","v":{"$error":"#VALUE!"}},{"$f":"MIN((Z163+AM31*D19)/AK41,(Z164+AM31*D19)/AL41,(Z165+AM31*D19)/AM41,(Z166+AM31*D19)/AN41,(Z167+AM31*D19)/AO41)*AP41","v":{"$error":"#VALUE!"}},{"$f":"MIN((AA163+AM31*D19)/AK41,(AA164+AM31*D19)/AL41,(AA165+AM31*D19)/AM41,(AA166+AM31*D19)/AN41,(AA167+AM31*D19)/AO41)*AP41","v":{"$error":"#VALUE!"}},{"$f":"MIN((AB163+AM31*D19)/AK41,(AB164+AM31*D19)/AL41,(AB165+AM31*D19)/AM41,(AB166+AM31*D19)/AN41,(AB167+AM31*D19)/AO41)*AP41","v":{"$error":"#VALUE!"}},{"$f":"MIN((AC163+AM31*D19)/AK41,(AC164+AM31*D19)/AL41,(AC165+AM31*D19)/AM41,(AC166+AM31*D19)/AN41,(AC167+AM31*D19)/AO41)*AP41","v":{"$error":"#VALUE!"}},{"$f":"MIN((AD163+AM31*D19)/AK41,(AD164+AM31*D19)/AL41,(AD165+AM31*D19)/AM41,(AD166+AM31*D19)/AN41,(AD167+AM31*D19)/AO41)*AP41","v":{"$error":"#VALUE!"}},{"$f":"MIN((AE163+AM31*D19)/AK41,(AE164+AM31*D19)/AL41,(AE165+AM31*D19)/AM41,(AE166+AM31*D19)/AN41,(AE167+AM31*D19)/AO41)*AP41","v":{"$error":"#VALUE!"}},{"$f":"MIN((AF163+AM31*D19)/AK41,(AF164+AM31*D19)/AL41,(AF165+AM31*D19)/AM41,(AF166+AM31*D19)/AN41,(AF167+AM31*D19)/AO41)*AP41","v":{"$error":"#VALUE!"}},{"$error":"#VALUE!"},null,{"$f":"BB97","v":"kit 1"},"kit 2A","kit 2B","kit 4A","kit 4B","kit 5","kit 6A","kit 6B","kit 7","kit 8","kit 9A","kit 9B","kit 10","kit 11"]
[null,null,null,null,0.40870000000000001,0.95365,{"$f":"E91+F91","v":1.3623499999999999},0.95365,0.40870000000000001,1.3623499999999999,1.3623499999999999,0.90825,{"$f":"K91+L91","v":2.2706},0.81740000000000002,0.54495000000000005,{"$f":"N91+O91","v":1.3623500000000002},null,null,null,null,null,null,null,null,null,null,null,null,null,null,null,null,null,null,null,"",{"$f":"MIN((S170+AL31*D19)/AK40,(S171+AL31*D19)/AL40,(S172+AL31*D19)/AM40,(S173+AL31*D19)/AN40,(S174+AL31*D19)/AO40)*AP40","v":{"$error":"#VALUE!"}},{"$f":"MIN((T170+AL31*D19)/AK40,(T171+AL31*D19)/AL40,(T172+AL31*D19)/AM40,(T173+AL31*D19)/AN40,(T174+AL31*D19)/AO40)*AP40","v":{"$error":"#VALUE!"}},{"$f":"MIN((U170+AL31*D19)/AK40,(U171+AL31*D19)/AL40,(U172+AL31*D19)/AM40,(U173+AL31*D19)/AN40,(U174+AL31*D19)/AO40)*AP40","v":{"$error":"#VALUE!"}},{"$f":"MIN((V170+AL31*D19)/AK40,(V171+AL31*D19)/AL40,(V172+AL31*D19)/AM40,(V173+AL31*D19)/AN40,(V174+AL31*D19)/AO40)*AP40","v":{"$error":"#VALUE!"}},{"$f":"MIN((W170+AL31*D19)/AK40,(W171+AL31*D19)/AL40,(W172+AL31*D19)/AM40,(W173+AL31*D19)/AN40,(W174+AL31*D19)/AO40)*AP40","v":{"$error":"#VALUE!"}},{"$f":"MIN((X170+AL31*D19)/AK40,(X171+AL31*D19)/AL40,(X172+AL31*D19)/AM40,(X173+AL31*D19)/AN40,(X174+AL31*D19)/AO40)*AP40","v":{"$error":"#VALUE!"}},{"$f":"MIN((Y170+AL31*D19)/AK40,(Y171+AL31*D19)/AL40,(Y172+AL31*D19)/AM40,(Y173+AL31*D19)/AN40,(Y174+AL31*D19)/AO40)*AP40","v":{"$error":"#VALUE!"}},{"$f":"MIN((Z170+AL31*D19)/AK40,(Z171+AL31*D19)/AL40,(Z172+AL31*D19)/AM40,(Z173+AL31*D19)/AN40,(Z174+AL31*D19)/AO40)*AP40","v":{"$error":"#VALUE!"}},{"$f":"MIN((AA170+AL31*D19)/AK40,(AA171+AL31*D19)/AL40,(AA172+AL31*D19)/AM40,(AA173+AL31*D19)/AN40,(AA174+AL31*D19)/AO40)*AP40","v":{"$error":"#VALUE!"}},{"$f":"MIN((AB170+AL31*D19)/AK40,(AB171+AL31*D19)/AL40,(AB172+AL31*D19)/AM40,(AB173+AL31*D19)/AN40,(AB174+AL31*D19)/AO40)*AP40","v":{"$error":"#VALUE!"}},{"$f":"MIN((AC170+AL31*D19)/AK40,(AC171+AL31*D19)/AL40,(AC172+AL31*D19)/AM40,(AC173+AL31*D19)/AN40,(AC174+AL31*D19)/AO40)*AP40","v":{"$error":"#VALUE!"}},{"$f":"MIN((AD170+AL31*D19)/AK40,(AD171+AL31*D19)/AL40,(AD172+AL31*D19)/AM40,(AD173+AL31*D19)/AN40,(AD174+AL31*D19)/AO40)*AP40","v":{"$error":"#VALUE!"}},{"$f":"MIN((AE170+AL31*D19)/AK40,(AE171+AL31*D19)/AL40,(AE172+AL31*D19)/AM40,(AE173+AL31*D19)/AN40,(AE174+AL31*D19)/AO40)*AP40","v":{"$error":"#VALUE!"}},{"$f":"MIN((AF170+AL31*D19)/AK40,(AF171+AL31*D19)/AL40,(AF172+AL31*D19)/AM40,(AF173+AL31*D19)/AN40,(AF174+AL31*D19)/AO40)*AP40","v":{"$error":"#VALUE!"}},{"$error":"#VALUE!"},null,"",{"$f":"MIN((S170+AM31*D19)/AK41,(S171+AM31*D19)/AL41,(S172+AM31*D19)/AM41,(S173+AM31*D19)/AN41,(S174+AM31*D19)/AO41)*AP41","v":{"$error":"#VALUE!"}},{"$f":"MIN((T170+AM31*D19)/AK41,(T171+AM31*D19)/AL41,(T172+AM31*D19)/AM41,(T173+AM31*D19)/AN41,(T174+AM31*D19)/AO41)*AP41","v":{"$error":"#VALUE!"}},{"$f":"MIN((U170+AM31*D19)/AK41,(U171+AM31*D19)/AL41,(U172+AM31*D19)/AM41,(U173+AM31*D19)/AN41,(U174+AM31*D19)/AO41)*AP41","v":{"$error":"#VALUE!"}},{"$f":"MIN((V170+AM31*D19)/AK41,(V171+AM31*D19)/AL41,(V172+AM31*D19)/AM41,(V173+AM31*D19)/AN41,(V174+AM31*D19)/AO41)*AP41","v":{"$error":"#VALUE!"}},{"$f":"MIN((W170+AM31*D19)/AK41,(W171+AM31*D19)/AL41,(W172+AM31*D19)/AM41,(W173+AM31*D19)/AN41,(W174+AM31*D19)/AO41)*AP41","v":{"$error":"#VALUE!"}},{"$f":"MIN((X170+AM31*D19)/AK41,(X171+AM31*D19)/AL41,(X172+AM31*D19)/AM41,(X173+AM31*D19)/AN41,(X174+AM31*D19)/AO41)*AP41","v":{"$error":"#VALUE!"}},{"$f":"MIN((Y170+AM31*D19)/AK41,(Y171+AM31*D19)/AL41,(Y172+AM31*D19)/AM41,(Y173+AM31*D19)/AN41,(Y174+AM31*D19)/AO41)*AP41","v":{"$error":"#VALUE!"}},{"$f":"MIN((Z170+AM31*D19)/AK41,(Z171+AM31*D19)/AL41,(Z172+AM31*D19)/AM41,(Z173+AM31*D19)/AN41,(Z174+AM31*D19)/AO41)*AP41","v":{"$error":"#VALUE!"}},{"$f":"MIN((AA170+AM31*D19)/AK41,(AA171+AM31*D19)/AL41,(AA172+AM31*D19)/AM41,(AA173+AM31*D19)/AN41,(AA174+AM31*D19)/AO41)*AP41","v":{"$error":"#VALUE!"}},{"$f":"MIN((AB170+AM31*D19)/AK41,(AB171+AM31*D19)/AL41,(AB172+AM31*D19)/AM41,(AB173+AM31*D19)/AN41,(AB174+AM31*D19)/AO41)*AP41","v":{"$error":"#VALUE!"}},{"$f":"MIN((AC170+AM31*D19)/AK41,(AC171+AM31*D19)/AL41,(AC172+AM31*D19)/AM41,(AC173+AM31*D19)/AN41,(AC174+AM31*D19)/AO41)*AP41","v":{"$error":"#VALUE!"}},{"$f":"MIN((AD170+AM31*D19)/AK41,(AD171+AM31*D19)/AL41,(AD172+AM31*D19)/AM41,(AD173+AM31*D19)/AN41,(AD174+AM31*D19)/AO41)*AP41","v":{"$error":"#VALUE!"}},{"$f":"MIN((AE170+AM31*D19)/AK41,(AE171+AM31*D19)/AL41,(AE172+AM31*D19)/AM41,(AE173+AM31*D19)/AN41,(AE174+AM31*D19)/AO41)*AP41","v":{"$error":"#VALUE!"}},{"$f":"MIN((AF170+AM31*D19)/AK41,(AF171+AM31*D19)/AL41,(AF172+AM31*D19)/AM41,(AF173+AM31*D19)/AN41,(AF174+AM31*D19)/AO41)*AP41","v":{"$error":"#VALUE!"}},{"$error":"#VALUE!"},null,{"$f":"BB97","v":"kit 1"},"kit 2A","kit 2B","kit 4A","kit 4B","kit 5","kit 6A","kit 6B","kit 7","kit 8","kit 9A","kit 9B","kit 10","kit 11"]
[null,null,null,null,0.40870000000000001,0.95365,1.3623499999999999,0.95365,0.40870000000000001,1.3623499999999999,1.3623499999999999,0.90825,2.2706,0.81740000000000002,0.54495000000000005,1.3623500000000002,null,{"$f":"G16","v":""},{"$f":"S85","v":"kit 1"},{"$f":"T85","v":"kit 2A"},"kit 2B","kit 4A","kit 4B","kit 5","kit 6A","kit 6B","kit 7","kit 8","kit 9A","kit 9B",{"$f":"AE85","v":"kit 10"},{"$f":"AF85","v":"kit 11"},null,null,null,"",{"$f":"MIN((S177+AL31*D19)/AK40,(S178+AL31*D19)/AL40,(S179+AL31*D19)/AM40,(S180+AL31*D19)/AN40,(S181+AL31*D19)/AO40)*AP40","v":{"$error":"#VALUE!"}},{"$f":"MIN((T177+AL31*D19)/AK40,(T178+AL31*D19)/AL40,(T179+AL31*D19)/AM40,(T180+AL31*D19)/AN40,(T181+AL31*D19)/AO40)*AP40","v":{"$error":"#VALUE!"}},{"$f":"MIN((U177+AL31*D19)/AK40,(U178+AL31*D19)/AL40,(U179+AL31*D19)/AM40,(U180+AL31*D19)/AN40,(U181+AL31*D19)/AO40)*AP40","v":{"$error":"#VALUE!"}},{"$f":"MIN((V177+AL31*D19)/AK40,(V178+AL31*D19)/AL40,(V179+AL31*D19)/AM40,(V180+AL31*D19)/AN40,(V181+AL31*D19)/AO40)*AP40","v":{"$error":"#VALUE!"}},{"$f":"MIN((W177+AL31*D19)/AK40,(W178+AL31*D19)/AL40,(W179+AL31*D19)/AM40,(W180+AL31*D19)/AN40,(W181+AL31*D19)/AO40)*AP40","v":{"$error":"#VALUE!"}},{"$f":"MIN((X177+AL31*D19)/AK40,(X178+AL31*D19)/AL40,(X179+AL31*D19)/AM40,(X180+AL31*D19)/AN40,(X181+AL31*D19)/AO40)*AP40","v":{"$error":"#VALUE!"}},{"$f":"MIN((Y177+AL31*D19)/AK40,(Y178+AL31*D19)/AL40,(Y179+AL31*D19)/AM40,(Y180+AL31*D19)/AN40,(Y181+AL31*D19)/AO40)*AP40","v":{"$error":"#VALUE!"}},{"$f":"MIN((Z177+AL31*D19)/AK40,(Z178+AL31*D19)/AL40,(Z179+AL31*D19)/AM40,(Z180+AL31*D19)/AN40,(Z181+AL31*D19)/AO40)*AP40","v":{"$error":"#VALUE!"}},{"$f":"MIN((AA177+AL31*D19)/AK40,(AA178+AL31*D19)/AL40,(AA179+AL31*D19)/AM40,(AA180+AL31*D19)/AN40,(AA181+AL31*D19)/AO40)*AP40","v":{"$error":"#VALUE!"}},{"$f":"MIN((AB177+AL31*D19)/AK40,(AB178+AL31*D19)/AL40,(AB179+AL31*D19)/AM40,(AB180+AL31*D19)/AN40,(AB181+AL31*D19)/AO40)*AP40","v":{"$error":"#VALUE!"}},{"$f":"MIN((AC177+AL31*D19)/AK40,(AC178+AL31*D19)/AL40,(AC179+AL31*D19)/AM40,(AC180+AL31*D19)/AN40,(AC181+AL31*D19)/AO40)*AP40","v":{"$error":"#VALUE!"}},{"$f":"MIN((AD177+AL31*D19)/AK40,(AD178+AL31*D19)/AL40,(AD179+AL31*D19)/AM40,(AD180+AL31*D19)/AN40,(AD181+AL31*D19)/AO40)*AP40","v":{"$error":"#VALUE!"}},{"$f":"MIN((AE177+AL31*D19)/AK40,(AE178+AL31*D19)/AL40,(AE179+AL31*D19)/AM40,(AE180+AL31*D19)/AN40,(AE181+AL31*D19)/AO40)*AP40","v":{"$error":"#VALUE!"}},{"$f":"MIN((AF177+AL31*D19)/AK40,(AF178+AL31*D19)/AL40,(AF179+AL31*D19)/AM40,(AF180+AL31*D19)/AN40,(AF181+AL31*D19)/AO40)*AP40","v":{"$error":"#VALUE!"}},{"$error":"#VALUE!"},null,"",{"$f":"MIN((S177+AM31*D19)/AK41,(S178+AM31*D19)/AL41,(S179+AM31*D19)/AM41,(S180+AM31*D19)/AN41,(S181+AM31*D19)/AO41)*AP41","v":{"$error":"#VALUE!"}},{"$f":"MIN((T177+AM31*D19)/AK41,(T178+AM31*D19)/AL41,(T179+AM31*D19)/AM41,(T180+AM31*D19)/AN41,(T181+AM31*D19)/AO41)*AP41","v":{"$error":"#VALUE!"}},{"$f":"MIN((U177+AM31*D19)/AK41,(U178+AM31*D19)/AL41,(U179+AM31*D19)/AM41,(U180+AM31*D19)/AN41,(U181+AM31*D19)/AO41)*AP41","v":{"$error":"#VALUE!"}},{"$f":"MIN((V177+AM31*D19)/AK41,(V178+AM31*D19)/AL41,(V179+AM31*D19)/AM41,(V180+AM31*D19)/AN41,(V181+AM31*D19)/AO41)*AP41","v":{"$error":"#VALUE!"}},{"$f":"MIN((W177+AM31*D19)/AK41,(W178+AM31*D19)/AL41,(W179+AM31*D19)/AM41,(W180+AM31*D19)/AN41,(W181+AM31*D19)/AO41)*AP41","v":{"$error":"#VALUE!"}},{"$f":"MIN((X177+AM31*D19)/AK41,(X178+AM31*D19)/AL41,(X179+AM31*D19)/AM41,(X180+AM31*D19)/AN41,(X181+AM31*D19)/AO41)*AP41","v":{"$error":"#VALUE!"}},{"$f":"MIN((Y177+AM31*D19)/AK41,(Y178+AM31*D19)/AL41,(Y179+AM31*D19)/AM41,(Y180+AM31*D19)/AN41,(Y181+AM31*D19)/AO41)*AP41","v":{"$error":"#VALUE!"}},{"$f":"MIN((Z177+AM31*D19)/AK41,(Z178+AM31*D19)/AL41,(Z179+AM31*D19)/AM41,(Z180+AM31*D19)/AN41,(Z181+AM31*D19)/AO41)*AP41","v":{"$error":"#VALUE!"}},{"$f":"MIN((AA177+AM31*D19)/AK41,(AA178+AM31*D19)/AL41,(AA179+AM31*D19)/AM41,(AA180+AM31*D19)/AN41,(AA181+AM31*D19)/AO41)*AP41","v":{"$error":"#VALUE!"}},{"$f":"MIN((AB177+AM31*D19)/AK41,(AB178+AM31*D19)/AL41,(AB179+AM31*D19)/AM41,(AB180+AM31*D19)/AN41,(AB181+AM31*D19)/AO41)*AP41","v":{"$error":"#VALUE!"}},{"$f":"MIN((AC177+AM31*D19)/AK41,(AC178+AM31*D19)/AL41,(AC179+AM31*D19)/AM41,(AC180+AM31*D19)/AN41,(AC181+AM31*D19)/AO41)*AP41","v":{"$error":"#VALUE!"}},{"$f":"MIN((AD177+AM31*D19)/AK41,(AD178+AM31*D19)/AL41,(AD179+AM31*D19)/AM41,(AD180+AM31*D19)/AN41,(AD181+AM31*D19)/AO41)*AP41","v":{"$error":"#VALUE!"}},{"$f":"MIN((AE177+AM31*D19)/AK41,(AE178+AM31*D19)/AL41,(AE179+AM31*D19)/AM41,(AE180+AM31*D19)/AN41,(AE181+AM31*D19)/AO41)*AP41","v":{"$error":"#VALUE!"}},{"$f":"MIN((AF177+AM31*D19)/AK41,(AF178+AM31*D19)/AL41,(AF179+AM31*D19)/AM41,(AF180+AM31*D19)/AN41,(AF181+AM31*D19)/AO41)*AP41","v":{"$error":"#VALUE!"}},{"$error":"#VALUE!"},null,{"$f":"BB97","v":"kit 1"},"kit 2A","kit 2B","kit 4A","kit 4B","kit 5","kit 6A","kit 6B","kit 7","kit 8","kit 9A","kit 9B","kit 10","kit 11"]
[null,null,null,null,0.72660000000000002,1.0899000000000001,1.8165,0.36330000000000001,0.54495000000000005,0.90825,0.4541,0.4541,0.90820000000000001,0.90825,0.90825,1.8165,null,{"$f":"H16+AH39+D16+D17+D21+D19*AG13","v":{"$error":"#VALUE!"}},{"$f":"R93+Q10","v":{"$error":"#VALUE!"}},{"$f":"R93+R10","v":{"$error":"#VALUE!"}},{"$f":"R93+S10","v":{"$error":"#VALUE!"}},{"$f":"R93+T10","v":{"$error":"#VALUE!"}},{"$f":"R93+U10","v":{"$error":"#VALUE!"}},{"$f":"R93+V10","v":{"$error":"#VALUE!"}},{"$f":"R93+W10","v":{"$error":"#VALUE!"}},{"$f":"R93+X10","v":{"$error":"#VALUE!"}},{"$f":"R93+Y10","v":{"$error":"#VALUE!"}},{"$f":"R93+Z10","v":{"$error":"#VALUE!"}},{"$f":"R93+AA10","v":{"$error":"#VALUE!"}},{"$f":"R93+AB10","v":{"$error":"#VALUE!"}},{"$f":"R93+AC10","v":{"$error":"#VALUE!"}},{"$f":"R93+AD10","v":{"$error":"#VALUE!"}},null,null,null,0,{"$f":"MIN((S184+AL31*D19)/AK40,(S185+AL31*D19)/AL40,(S186+AL31*D19)/AM40,(S187+AL31*D19)/AN40,(S188+AL31*D19)/AO40)*AP40","v":{"$error":"#VALUE!"}},{"$f":"MIN((T184+AL31*D19)/AK40,(T185+AL31*D19)/AL40,(T186+AL31*D19)/AM40,(T187+AL31*D19)/AN40,(T188+AL31*D19)/AO40)*AP40","v":{"$error":"#VALUE!"}},{"$f":"MIN((U184+AL31*D19)/AK40,(U185+AL31*D19)/AL40,(U186+AL31*D19)/AM40,(U187+AL31*D19)/AN40,(U188+AL31*D19)/AO40)*AP40","v":{"$error":"#VALUE!"}},{"$f":"MIN((V184+AL31*D19)/AK40,(V185+AL31*D19)/AL40,(V186+AL31*D19)/AM40,(V187+AL31*D19)/AN40,(V188+AL31*D19)/AO40)*AP40","v":{"$error":"#VALUE!"}},{"$f":"MIN((W184+AL31*D19)/AK40,(W185+AL31*D19)/AL40,(W186+AL31*D19)/AM40,(W187+AL31*D19)/AN40,(W188+AL31*D19)/AO40)*AP40","v":{"$error":"#VALUE!"}},{"$f":"MIN((X184+AL31*D19)/AK40,(X185+AL31*D19)/AL40,(X186+AL31*D19)/AM40,(X187+AL31*D19)/AN40,(X188+AL31*D19)/AO40)*AP40","v":{"$error":"#VALUE!"}},{"$f":"MIN((Y184+AL31*D19)/AK40,(Y185+AL31*D19)/AL40,(Y186+AL31*D19)/AM40,(Y187+AL31*D19)/AN40,(Y188+AL31*D19)/AO40)*AP40","v":{"$error":"#VALUE!"}},{"$f":"MIN((Z184+AL31*D19)/AK40,(Z185+AL31*D19)/AL40,(Z186+AL31*D19)/AM40,(Z187+AL31*D19)/AN40,(Z188+AL31*D19)/AO40)*AP40","v":{"$error":"#VALUE!"}},{"$f":"MIN((AA184+AL31*D19)/AK40,(AA185+AL31*D19)/AL40,(AA186+AL31*D19)/AM40,(AA187+AL31*D19)/AN40,(AA188+AL31*D19)/AO40)*AP40","v":{"$error":"#VALUE!"}},{"$f":"MIN((AB184+AL31*D19)/AK40,(AB185+AL31*D19)/AL40,(AB186+AL31*D19)/AM40,(AB187+AL31*D19)/AN40,(AB188+AL31*D19)/AO40)*AP40","v":{"$error":"#VALUE!"}},{"$f":"MIN((AC184+AL31*D19)/AK40,(AC185+AL31*D19)/AL40,(AC186+AL31*D19)/AM40,(AC187+AL31*D19)/AN40,(AC188+AL31*D19)/AO40)*AP40","v":{"$error":"#VALUE!"}},{"$f":"MIN((AD184+AL31*D19)/AK40,(AD185+AL31*D19)/AL40,(AD186+AL31*D19)/AM40,(AD187+AL31*D19)/AN40,(AD188+AL31*D19)/AO40)*AP40","v":{"$error":"#VALUE!"}},{"$f":"MIN((AE184+AL31*D19)/AK40,(AE185+AL31*D19)/AL40,(AE186+AL31*D19)/AM40,(AE187+AL31*D19)/AN40,(AE188+AL31*D19)/AO40)*AP40","v":{"$error":"#VALUE!"}},{"$f":"MIN((AF184+AL31*D19)/AK40,(AF185+AL31*D19)/AL40,(AF186+AL31*D19)/AM40,(AF187+AL31*D19)/AN40,(AF188+AL31*D19)/AO40)*AP40","v":{"$error":"#VALUE!"}},{"$error":"#VALUE!"},null,0,{"$f":"MIN((S184+AM31*D19)/AK41,(S185+AM31*D19)/AL41,(S186+AM31*D19)/AM41,(S187+AM31*D19)/AN41,(S188+AM31*D19)/AO41)*AP41","v":{"$error":"#VALUE!"}},{"$f":"MIN((T184+AM31*D19)/AK41,(T185+AM31*D19)/AL41,(T186+AM31*D19)/AM41,(T187+AM31*D19)/AN41,(T188+AM31*D19)/AO41)*AP41","v":{"$error":"#VALUE!"}},{"$f":"MIN((U184+AM31*D19)/AK41,(U185+AM31*D19)/AL41,(U186+AM31*D19)/AM41,(U187+AM31*D19)/AN41,(U188+AM31*D19)/AO41)*AP41","v":{"$error":"#VALUE!"}},{"$f":"MIN((V184+AM31*D19)/AK41,(V185+AM31*D19)/AL41,(V186+AM31*D19)/AM41,(V187+AM31*D19)/AN41,(V188+AM31*D19)/AO41)*AP41","v":{"$error":"#VALUE!"}},{"$f":"MIN((W184+AM31*D19)/AK41,(W185+AM31*D19)/AL41,(W186+AM31*D19)/AM41,(W187+AM31*D19)/AN41,(W188+AM31*D19)/AO41)*AP41","v":{"$error":"#VALUE!"}},{"$f":"MIN((X184+AM31*D19)/AK41,(X185+AM31*D19)/AL41,(X186+AM31*D19)/AM41,(X187+AM31*D19)/AN41,(X188+AM31*D19)/AO41)*AP41","v":{"$error":"#VALUE!"}},{"$f":"MIN((Y184+AM31*D19)/AK41,(Y185+AM31*D19)/AL41,(Y186+AM31*D19)/AM41,(Y187+AM31*D19)/AN41,(Y188+AM31*D19)/AO41)*AP41","v":{"$error":"#VALUE!"}},{"$f":"MIN((Z184+AM31*D19)/AK41,(Z185+AM31*D19)/AL41,(Z186+AM31*D19)/AM41,(Z187+AM31*D19)/AN41,(Z188+AM31*D19)/AO41)*AP41","v":{"$error":"#VALUE!"}},{"$f":"MIN((AA184+AM31*D19)/AK41,(AA185+AM31*D19)/AL41,(AA186+AM31*D19)/AM41,(AA187+AM31*D19)/AN41,(AA188+AM31*D19)/AO41)*AP41","v":{"$error":"#VALUE!"}},{"$f":"MIN((AB184+AM31*D19)/AK41,(AB185+AM31*D19)/AL41,(AB186+AM31*D19)/AM41,(AB187+AM31*D19)/AN41,(AB188+AM31*D19)/AO41)*AP41","v":{"$error":"#VALUE!"}},{"$f":"MIN((AC184+AM31*D19)/AK41,(AC185+AM31*D19)/AL41,(AC186+AM31*D19)/AM41,(AC187+AM31*D19)/AN41,(AC188+AM31*D19)/AO41)*AP41","v":{"$error":"#VALUE!"}},{"$f":"MIN((AD184+AM31*D19)/AK41,(AD185+AM31*D19)/AL41,(AD186+AM31*D19)/AM41,(AD187+AM31*D19)/AN41,(AD188+AM31*D19)/AO41)*AP41","v":{"$error":"#VALUE!"}},{"$f":"MIN((AE184+AM31*D19)/AK41,(AE185+AM31*D19)/AL41,(AE186+AM31*D19)/AM41,(AE187+AM31*D19)/AN41,(AE188+AM31*D19)/AO41)*AP41","v":{"$error":"#VALUE!"}},{"$f":"MIN((AF184+AM31*D19)/AK41,(AF185+AM31*D19)/AL41,(AF186+AM31*D19)/AM41,(AF187+AM31*D19)/AN41,(AF188+AM31*D19)/AO41)*AP41","v":{"$error":"#VALUE!"}},{"$error":"#VALUE!"},null,{"$f":"BB97","v":"kit 1"},"kit 2A","kit 2B","kit 4A","kit 4B","kit 5","kit 6A","kit 6B","kit 7","kit 8","kit 9A","kit 9B","kit 10","kit 11"]
[null,null,null,null,0.72660000000000002,1.0899000000000001,1.8165,0.95365,0.40870000000000001,1.3623499999999999,0.4541,0.4541,0.90820000000000001,1.0899000000000001,0.72660000000000002,1.8165,null,{"$f":"I16+AH40+D15+D17+D21+D19*AG13","v":{"$error":"#VALUE!"}},{"$f":"R94+Q11","v":{"$error":"#VALUE!"}},{"$f":"R94+R11","v":{"$error":"#VALUE!"}},{"$f":"R94+S11","v":{"$error":"#VALUE!"}},{"$f":"R94+T11","v":{"$error":"#VALUE!"}},{"$f":"R94+U11","v":{"$error":"#VALUE!"}},{"$f":"R94+V11","v":{"$error":"#VALUE!"}},{"$f":"R94+W11","v":{"$error":"#VALUE!"}},{"$f":"R94+X11","v":{"$error":"#VALUE!"}},{"$f":"R94+Y11","v":{"$error":"#VALUE!"}},{"$f":"R94+Z11","v":{"$error":"#VALUE!"}},{"$f":"R94+AA11","v":{"$error":"#VALUE!"}},{"$f":"R94+AB11","v":{"$error":"#VALUE!"}},{"$f":"R94+AC11","v":{"$error":"#VALUE!"}},{"$f":"R94+AD11","v":{"$error":"#VALUE!"}},null,null,null,0,null,null,null,null,null,null,null,null,null,null,null,null,null,null,0,null,0,null,null,null,null,null,null,null,null,null,null,null,null,null,null,0,null,{"$f":"BB97","v":"kit 1"},"kit 2A","kit 2B","kit 4A","kit 4B","kit 5","kit 6A","kit 6B","kit 7","kit 8","kit 9A","kit 9B","kit 10","kit 11"]
[null,null,null,null,0.90825,1.3623499999999999,2.2706,0.95365,0.40870000000000001,1.3623499999999999,1.0899000000000001,0.72660000000000002,1.8165,1.0899000000000001,0.72660000000000002,1.8165,null,{"$f":"J16+AH41+D15+D17+D21+D19*AG13","v":{"$error":"#VALUE!"}},{"$f":"R95+Q12","v":{"$error":"#VALUE!"}},{"$f":"R95+R12","v":{"$error":"#VALUE!"}},{"$f":"R95+S12","v":{"$error":"#VALUE!"}},{"$f":"R95+T12","v":{"$error":"#VALUE!"}},{"$f":"R95+U12","v":{"$error":"#VALUE!"}},{"$f":"R95+V12","v":{"$error":"#VALUE!"}},{"$f":"R95+W12","v":{"$error":"#VALUE!"}},{"$f":"R95+X12","v":{"$error":"#VALUE!"}},{"$f":"R95+Y12","v":{"$error":"#VALUE!"}},{"$f":"R95+Z12","v":{"$error":"#VALUE!"}},{"$f":"R95+AA12","v":{"$error":"#VALUE!"}},{"$f":"R95+AB12","v":{"$error":"#VALUE!"}},{"$f":"R95+AC12","v":{"$error":"#VALUE!"}},{"$f":"R95+AD12","v":{"$error":"#VALUE!"}},null,null,null,0,null,null,null,null,null,null,null,null,null,null,null,null,null,null,0,null,0,null,null,null,null,null,null,null,null,null,null,null,null,null,null,0,null,{"$f":"BB97","v":"kit 1"},"kit 2A","kit 2B","kit 4A","kit 4B","kit 5","kit 6A","kit 6B","kit 7","kit 8","kit 9A","kit 9B","kit 10","kit 11"]
[null,null,null,null,1.0899000000000001,0.72660000000000002,1.8165,0.94984999999999997,0.40705000000000002,1.3569,1.9073500000000001,0.81740000000000002,2.7247500000000002,1.0899000000000001,0.27245000000000003,1.3623500000000002,null,{"$f":"K16+AH42+D16+D17+D21+D19*AG13","v":{"$error":"#VALUE!"}},{"$f":"R96+Q13","v":{"$error":"#VALUE!"}},{"$f":"R96+R13","v":{"$error":"#VALUE!"}},{"$f":"R96+S13","v":{"$error":"#VALUE!"}},{"$f":"R96+T13","v":{"$error":"#VALUE!"}},{"$f":"R96+U13","v":{"$error":"#VALUE!"}},{"$f":"R96+V13","v":{"$error":"#VALUE!"}},{"$f":"R96+W13","v":{"$error":"#VALUE!"}},{"$f":"R96+X13","v":{"$error":"#VALUE!"}},{"$f":"R96+Y13","v":{"$error":"#VALUE!"}},{"$f":"R96+Z13","v":{"$error":"#VALUE!"}},{"$f":"R96+AA13","v":{"$error":"#VALUE!"}},{"$f":"R96+AB13","v":{"$error":"#VALUE!"}},{"$f":"R96+AC13","v":{"$error":"#VALUE!"}},{"$f":"R96+AD13","v":{"$error":"#VALUE!"}},null,null,null,null,null,null,null,null,null,null,null,null,null,null,null,null,null,null,null,null,null,null,null,null,null,null,null,null,null,null,null,null,null,null,null,null,null,{"$f":"BB97","v":"kit 1"},"kit 2A","kit 2B","kit 4A","kit 4B","kit 5","kit 6A","kit 6B","kit 7","kit 8","kit 9A","kit 9B","kit 10","kit 11"]
[null,null,null,null,0.95365,0.40870000000000001,1.3623499999999999,2.4523000000000001,0.27245000000000003,2.7247500000000002,1.0899000000000001,0.27245000000000003,1.3623500000000002,1.0899000000000001,0.27245000000000003,1.3623500000000002,null,{"$f":"L16+AH43+D15+D17+D21+D19*AG13","v":{"$error":"#VALUE!"}},{"$f":"R97+Q14","v":{"$error":"#VALUE!"}},{"$f":"R97+R14","v":{"$error":"#VALUE!"}},{"$f":"R97+S14","v":{"$error":"#VALUE!"}},{"$f":"R97+T14","v":{"$error":"#VALUE!"}},{"$f":"R97+U14","v":{"$error":"#VALUE!"}},{"$f":"R97+V14","v":{"$error":"#VALUE!"}},{"$f":"R97+W14","v":{"$error":"#VALUE!"}},{"$f":"R97+X14","v":{"$error":"#VALUE!"}},{"$f":"R97+Y14","v":{"$error":"#VALUE!"}},{"$f":"R97+Z14","v":{"$error":"#VALUE!"}},{"$f":"R97+AA14","v":{"$error":"#VALUE!"}},{"$f":"R97+AB14","v":{"$error":"#VALUE!"}},{"$f":"R97+AC14","v":{"$error":"#VALUE!"}},{"$f":"R97+AD14","v":{"$error":"#VALUE!"}},null,null,null,5,{"$f":"Q9","v":"kit 1"},"kit 2A","kit 2B","kit 4A","kit 4B","kit 5","kit 6A","kit 6B","kit 7","kit 8","kit 9A","kit 9B","kit 10","kit 11","MAX",null,6,{"$f":"Q9","v":"kit 1"},"kit 2A","kit 2B","kit 4A","kit 4B","kit 5","kit 6A","kit 6B","kit 7","kit 8","kit 9A","kit 9B","kit 10","kit 11","MAX",null,{"$f":"BB97","v":"kit 1"},"kit 2A","kit 2B","kit 4A","kit 4B","kit 5","kit 6A","kit 6B","kit 7","kit 8","kit 9A","kit 9B","kit 10","kit 11"]
[null,null,null,null,2.2479499999999999,2.2700000000000001E-2,2.2706499999999998,2.0435500000000002,0.22705,2.2706000000000004,1.6348499999999999,0.18165000000000001,1.8165,1.6348499999999999,0.18165000000000001,1.8165,null,null,null,null,null,null,null,null,null,null,null,null,null,null,null,null,null,null,null,{"$f":"AJ167","v":""},{"$f":"MIN((S58+AN31*D19)/AK42,(S59+AN31*D19)/AL42,(S60+AN31*D19)/AM42,(S61+AN31*D19)/AN42,(S62+AN31*D19)/AO42)*AP42","v":{"$error":"#VALUE!"}},{"$f":"MIN((T58+AN31*D19)/AK42,(T59+AN31*D19)/AL42,(T60+AN31*D19)/AM42,(T61+AN31*D19)/AN42,(T62+AN31*D19)/AO42)*AP42","v":{"$error":"#VALUE!"}},{"$f":"MIN((U58+AN31*D19)/AK42,(U59+AN31*D19)/AL42,(U60+AN31*D19)/AM42,(U61+AN31*D19)/AN42,(U62+AN31*D19)/AO42)*AP42","v":{"$error":"#VALUE!"}},{"$f":"MIN((V58+AN31*D19)/AK42,(V59+AN31*D19)/AL42,(V60+AN31*D19)/AM42,(V61+AN31*D19)/AN42,(V62+AN31*D19)/AO42)*AP42","v":{"$error":"#VALUE!"}},{"$f":"MIN((W58+AN31*D19)/AK42,(W59+AN31*D19)/AL42,(W60+AN31*D19)/AM42,(W61+AN31*D19)/AN42,(W62+AN31*D19)/AO42)*AP42","v":{"$error":"#VALUE!"}},{"$f":"MIN((X58+AN31*D19)/AK42,(X59+AN31*D19)/AL42,(X60+AN31*D19)/AM42,(X61+AN31*D19)/AN42,(X62+AN31*D19)/AO42)*AP42","v":{"$error":"#VALUE!"}},{"$f":"MIN((Y58+AN31*D19)/AK42,(Y59+AN31*D19)/AL42,(Y60+AN31*D19)/AM42,(Y61+AN31*D19)/AN42,(Y62+AN31*D19)/AO42)*AP42","v":{"$error":"#VALUE!"}},{"$f":"MIN((Z58+AN31*D19)/AK42,(Z59+AN31*D19)/AL42,(Z60+AN31*D19)/AM42,(Z61+AN31*D19)/AN42,(Z62+AN31*D19)/AO42)*AP42","v":{"$error":"#VALUE!"}},{"$f":"MIN((AA58+AN31*D19)/AK42,(AA59+AN31*D19)/AL42,(AA60+AN31*D19)/AM42,(AA61+AN31*D19)/AN42,(AA62+AN31*D19)/AO42)*AP42","v":{"$error":"#VALUE!"}},{"$f":"MIN((AB58+AN31*D19)/AK42,(AB59+AN31*D19)/AL42,(AB60+AN31*D19)/AM42,(AB61+AN31*D19)/AN42,(AB62+AN31*D19)/AO42)*AP42","v":{"$error":"#VALUE!"}},{"$f":"MIN((AC58+AN31*D19)/AK42,(AC59+AN31*D19)/AL42,(AC60+AN31*D19)/AM42,(AC61+AN31*D19)/AN42,(AC62+AN31*D19)/AO42)*AP42","v":{"$error":"#VALUE!"}},",",{"$f":"MIN((AE58+AN31*D19)/AK42,(AE59+AN31*D19)/AL42,(AE60+AN31*D19)/AM42,(AE61+AN31*D19)/AN42,(AE62+AN31*D19)/AO42)*AP42","v":{"$error":"#VALUE!"}},{"$f":"MIN((AF58+AN31*D19)/AK42,(AF59+AN31*D19)/AL42,(AF60+AN31*D19)/AM42,(AF61+AN31*D19)/AN42,(AF62+AN31*D19)/AO42)*AP42","v":{"$error":"#VALUE!"}},{"$f":"MAX(AK98:AX98)","v":{"$error":"#VALUE!"}},null,{"$f":"AJ167","v":""},{"$f":"MIN((S58+AO31*D19)/AK43,(S59+AO31*D19)/AL43,(S60+AO31*D19)/AM43,(S61+AO31*D19)/AN43,(S62+AO31*D19)/AO43)*AP43","v":{"$error":"#VALUE!"}},{"$f":"MIN((T58+AO31*D19)/AK43,(T59+AO31*D19)/AL43,(T60+AO31*D19)/AM43,(T61+AO31*D19)/AN43,(T62+AO31*D19)/AO43)*AP43","v":{"$error":"#VALUE!"}},{"$f":"MIN((U58+AO31*D19)/AK43,(U59+AO31*D19)/AL43,(U60+AO31*D19)/AM43,(U61+AO31*D19)/AN43,(U62+AO31*D19)/AO43)*AP43","v":{"$error":"#VALUE!"}},{"$f":"MIN((V58+AO31*D19)/AK43,(V59+AO31*D19)/AL43,(V60+AO31*D19)/AM43,(V61+AO31*D19)/AN43,(V62+AO31*D19)/AO43)*AP43","v":{"$error":"#VALUE!"}},{"$f":"MIN((W58+AO31*D19)/AK43,(W59+AO31*D19)/AL43,(W60+AO31*D19)/AM43,(W61+AO31*D19)/AN43,(W62+AO31*D19)/AO43)*AP43","v":{"$error":"#VALUE!"}},{"$f":"MIN((X58+AO31*D19)/AK43,(X59+AO31*D19)/AL43,(X60+AO31*D19)/AM43,(X61+AO31*D19)/AN43,(X62+AO31*D19)/AO43)*AP43","v":{"$error":"#VALUE!"}},{"$f":"MIN((Y58+AO31*D19)/AK43,(Y59+AO31*D19)/AL43,(Y60+AO31*D19)/AM43,(Y61+AO31*D19)/AN43,(Y62+AO31*D19)/AO43)*AP43","v":{"$error":"#VALUE!"}},{"$f":"MIN((Z58+AO31*D19)/AK43,(Z59+AO31*D19)/AL43,(Z60+AO31*D19)/AM43,(Z61+AO31*D19)/AN43,(Z62+AO31*D19)/AO43)*AP43","v":{"$error":"#VALUE!"}},{"$f":"MIN((AA58+AO31*D19)/AK43,(AA59+AO31*D19)/AL43,(AA60+AO31*D19)/AM43,(AA61+AO31*D19)/AN43,(AA62+AO31*D19)/AO43)*AP43","v":{"$error":"#VALUE!"}},{"$f":"MIN((AB58+AO31*D19)/AK43,(AB59+AO31*D19)/AL43,(AB60+AO31*D19)/AM43,(AB61+AO31*D19)/AN43,(AB62+AO31*D19)/AO43)*AP43","v":{"$error":"#VALUE!"}},{"$f":"MIN((AC58+AO31*D19)/AK43,(AC59+AO31*D19)/AL43,(AC60+AO31*D19)/AM43,(AC61+AO31*D19)/AN43,(AC62+AO31*D19)/AO43)*AP43","v":{"$error":"#VALUE!"}},{"$f":"MIN((AD58+AO31*D19)/AK43,(AD59+AO31*D19)/AL43,(AD60+AO31*D19)/AM43,(AD61+AO31*D19)/AN43,(AD62+AO31*D19)/AO43)*AP43","v":{"$error":"#VALUE!"}},{"$f":"MIN((AE58+AO31*D19)/AK43,(AE59+AO31*D19)/AL43,(AE60+AO31*D19)/AM43,(AE61+AO31*D19)/AN43,(AE62+AO31*D19)/AO43)*AP43","v":{"$error":"#VALUE!"}},{"$f":"MIN((AF58+AO31*D19)/AK43,(AF59+AO31*D19)/AL43,(AF60+AO31*D19)/AM43,(AF61+AO31*D19)/AN43,(AF62+AO31*D19)/AO43)*AP43","v":{"$error":"#VALUE!"}},{"$f":"MAX(BB98:BO98)","v":{"$error":"#VALUE!"}},null,{"$f":"BB97","v":"kit 1"},"kit 2A","kit 2B","kit 4A","kit 4B","kit 5","kit 6A","kit 6B","kit 7","kit 8","kit 9A","kit 9B","kit 10","kit 11"]
[null,null,null,null,1.4532,0.36330000000000001,1.8165,1.6348499999999999,0.18165000000000001,1.8165,1.0899000000000001,0.27245000000000003,1.3623500000000002,1.9073500000000001,0.81740000000000002,2.7247500000000002,null,{"$f":"G17","v":""},{"$f":"S92","v":"kit 1"},{"$f":"T92","v":"kit 2A"},"kit 2B","kit 4A","kit 4B","kit 5","kit 6A","kit 6B","kit 7","kit 8","kit 9A","kit 9B",{"$f":"AE92","v":"kit 10"},{"$f":"AF92","v":"kit 11"},null,null,null,"",{"$f":"MIN((S65+AN31*D19)/AK42,(S66+AN31*D19)/AL42,(S67+AN31*D19)/AM42,(S68+AN31*D19)/AN42,(S69+AN31*D19)/AO42)*AP42","v":{"$error":"#VALUE!"}},{"$f":"MIN((T65+AN31*D19)/AK42,(T66+AN31*D19)/AL42,(T67+AN31*D19)/AM42,(T68+AN31*D19)/AN42,(T69+AN31*D19)/AO42)*AP42","v":{"$error":"#VALUE!"}},{"$f":"MIN((U65+AN31*D19)/AK42,(U66+AN31*D19)/AL42,(U67+AN31*D19)/AM42,(U68+AN31*D19)/AN42,(U69+AN31*D19)/AO42)*AP42","v":{"$error":"#VALUE!"}},{"$f":"MIN((V65+AN31*D19)/AK42,(V66+AN31*D19)/AL42,(V67+AN31*D19)/AM42,(V68+AN31*D19)/AN42,(V69+AN31*D19)/AO42)*AP42","v":{"$error":"#VALUE!"}},{"$f":"MIN((W65+AN31*D19)/AK42,(W66+AN31*D19)/AL42,(W67+AN31*D19)/AM42,(W68+AN31*D19)/AN42,(W69+AN31*D19)/AO42)*AP42","v":{"$error":"#VALUE!"}},{"$f":"MIN((X65+AN31*D19)/AK42,(X66+AN31*D19)/AL42,(X67+AN31*D19)/AM42,(X68+AN31*D19)/AN42,(X69+AN31*D19)/AO42)*AP42","v":{"$error":"#VALUE!"}},{"$f":"MIN((Y65+AN31*D19)/AK42,(Y66+AN31*D19)/AL42,(Y67+AN31*D19)/AM42,(Y68+AN31*D19)/AN42,(Y69+AN31*D19)/AO42)*AP42","v":{"$error":"#VALUE!"}},{"$f":"MIN((Z65+AN31*D19)/AK42,(Z66+AN31*D19)/AL42,(Z67+AN31*D19)/AM42,(Z68+AN31*D19)/AN42,(Z69+AN31*D19)/AO42)*AP42","v":{"$error":"#VALUE!"}},{"$f":"MIN((AA65+AN31*D19)/AK42,(AA66+AN31*D19)/AL42,(AA67+AN31*D19)/AM42,(AA68+AN31*D19)/AN42,(AA69+AN31*D19)/AO42)*AP42","v":{"$error":"#VALUE!"}},{"$f":"MIN((AB65+AN31*D19)/AK42,(AB66+AN31*D19)/AL42,(AB67+AN31*D19)/AM42,(AB68+AN31*D19)/AN42,(AB69+AN31*D19)/AO42)*AP42","v":{"$error":"#VALUE!"}},{"$f":"MIN((AC65+AN31*D19)/AK42,(AC66+AN31*D19)/AL42,(AC67+AN31*D19)/AM42,(AC68+AN31*D19)/AN42,(AC69+AN31*D19)/AO42)*AP42","v":{"$error":"#VALUE!"}},{"$f":"MIN((AD65+AN31*D19)/AK42,(AD66+AN31*D19)/AL42,(AD67+AN31*D19)/AM42,(AD68+AN31*D19)/AN42,(AD69+AN31*D19)/AO42)*AP42","v":{"$error":"#VALUE!"}},{"$f":"MIN((AE65+AN31*D19)/AK42,(AE66+AN31*D19)/AL42,(AE67+AN31*D19)/AM42,(AE68+AN31*D19)/AN42,(AE69+AN31*D19)/AO42)*AP42","v":{"$error":"#VALUE!"}},{"$f":"MIN((AF65+AN31*D19)/AK42,(AF66+AN31*D19)/AL42,(AF67+AN31*D19)/AM42,(AF68+AN31*D19)/AN42,(AF69+AN31*D19)/AO42)*AP42","v":{"$error":"#VALUE!"}},{"$f":"MAX(AK99:AX99)","v":{"$error":"#VALUE!"}},null,"",{"$f":"MIN((S65+AO31*D19)/AK43,(S66+AO31*D19)/AL43,(S67+AO31*D19)/AM43,(S68+AO31*D19)/AN43,(S69+AO31*D19)/AO43)*AP43","v":{"$error":"#VALUE!"}},{"$f":"MIN((T65+AO31*D19)/AK43,(T66+AO31*D19)/AL43,(T67+AO31*D19)/AM43,(T68+AO31*D19)/AN43,(T69+AO31*D19)/AO43)*AP43","v":{"$error":"#VALUE!"}},{"$f":"MIN((U65+AO31*D19)/AK43,(U66+AO31*D19)/AL43,(U67+AO31*D19)/AM43,(U68+AO31*D19)/AN43,(U69+AO31*D19)/AO43)*AP43","v":{"$error":"#VALUE!"}},{"$f":"MIN((V65+AO31*D19)/AK43,(V66+AO31*D19)/AL43,(V67+AO31*D19)/AM43,(V68+AO31*D19)/AN43,(V69+AO31*D19)/AO43)*AP43","v":{"$error":"#VALUE!"}},{"$f":"MIN((W65+AO31*D19)/AK43,(W66+AO31*D19)/AL43,(W67+AO31*D19)/AM43,(W68+AO31*D19)/AN43,(W69+AO31*D19)/AO43)*AP43","v":{"$error":"#VALUE!"}},{"$f":"MIN((X65+AO31*D19)/AK43,(X66+AO31*D19)/AL43,(X67+AO31*D19)/AM43,(X68+AO31*D19)/AN43,(X69+AO31*D19)/AO43)*AP43","v":{"$error":"#VALUE!"}},{"$f":"MIN((Y65+AO31*D19)/AK43,(Y66+AO31*D19)/AL43,(Y67+AO31*D19)/AM43,(Y68+AO31*D19)/AN43,(Y69+AO31*D19)/AO43)*AP43","v":{"$error":"#VALUE!"}},{"$f":"MIN((Z65+AO31*D19)/AK43,(Z66+AO31*D19)/AL43,(Z67+AO31*D19)/AM43,(Z68+AO31*D19)/AN43,(Z69+AO31*D19)/AO43)*AP43","v":{"$error":"#VALUE!"}},{"$f":"MIN((AA65+AO31*D19)/AK43,(AA66+AO31*D19)/AL43,(AA67+AO31*D19)/AM43,(AA68+AO31*D19)/AN43,(AA69+AO31*D19)/AO43)*AP43","v":{"$error":"#VALUE!"}},{"$f":"MIN((AB65+AO31*D19)/AK43,(AB66+AO31*D19)/AL43,(AB67+AO31*D19)/AM43,(AB68+AO31*D19)/AN43,(AB69+AO31*D19)/AO43)*AP43","v":{"$error":"#VALUE!"}},{"$f":"MIN((AC65+AO31*D19)/AK43,(AC66+AO31*D19)/AL43,(AC67+AO31*D19)/AM43,(AC68+AO31*D19)/AN43,(AC69+AO31*D19)/AO43)*AP43","v":{"$error":"#VALUE!"}},{"$f":"MIN((AD65+AO31*D19)/AK43,(AD66+AO31*D19)/AL43,(AD67+AO31*D19)/AM43,(AD68+AO31*D19)/AN43,(AD69+AO31*D19)/AO43)*AP43","v":{"$error":"#VALUE!"}},{"$f":"MIN((AE65+AO31*D19)/AK43,(AE66+AO31*D19)/AL43,(AE67+AO31*D19)/AM43,(AE68+AO31*D19)/AN43,(AE69+AO31*D19)/AO43)*AP43","v":{"$error":"#VALUE!"}},{"$f":"MIN((AF65+AO31*D19)/AK43,(AF66+AO31*D19)/AL43,(AF67+AO31*D19)/AM43,(AF68+AO31*D19)/AN43,(AF69+AO31*D19)/AO43)*AP43","v":{"$error":"#VALUE!"}},{"$f":"MAX(BB99:BO99)","v":{"$error":"#VALUE!"}},null,{"$f":"BB97","v":"kit 1"},"kit 2A","kit 2B","kit 4A","kit 4B","kit 5","kit 6A","kit 6B","kit 7","kit 8","kit 9A","kit 9B","kit 10","kit 11"]
[null,null,null,null,0.95365,0.40870000000000001,1.3623499999999999,2.4523000000000001,0.27245000000000003,2.7247500000000002,1.4532,0.36330000000000001,1.8165,1.4532,0.36330000000000001,1.8165,null,{"$f":"H17+AH39+D16+D17+D21+D19*AG14","v":{"$error":"#VALUE!"}},{"$f":"R100+Q10","v":{"$error":"#VALUE!"}},{"$f":"R100+R10","v":{"$error":"#VALUE!"}},{"$f":"R100+S10","v":{"$error":"#VALUE!"}},{"$f":"R100+T10","v":{"$error":"#VALUE!"}},{"$f":"R100+U10","v":{"$error":"#VALUE!"}},{"$f":"R100+V10","v":{"$error":"#VALUE!"}},{"$f":"R100+W10","v":{"$error":"#VALUE!"}},{"$f":"R100+X10","v":{"$error":"#VALUE!"}},{"$f":"R100+Y10","v":{"$error":"#VALUE!"}},{"$f":"R100+Z10","v":{"$error":"#VALUE!"}},{"$f":"R100+AA10","v":{"$error":"#VALUE!"}},{"$f":"R100+AB10","v":{"$error":"#VALUE!"}},{"$f":"R100+AC10","v":{"$error":"#VALUE!"}},{"$f":"R100+AD10","v":{"$error":"#VALUE!"}},null,null,null,"",{"$f":"MIN((S72+AN31*D19)/AK42,(S73+AN31*D19)/AL42,(S74+AN31*D19)/AM42,(S75+AN31*D19)/AN42,(S76+AN31*D19)/AO42)*AP42","v":{"$error":"#VALUE!"}},{"$f":"MIN((T72+AN31*D19)/AK42,(T73+AN31*D19)/AL42,(T74+AN31*D19)/AM42,(T75+AN31*D19)/AN42,(T76+AN31*D19)/AO42)*AP42","v":{"$error":"#VALUE!"}},{"$f":"MIN((U72+AN31*D19)/AK42,(U73+AN31*D19)/AL42,(U74+AN31*D19)/AM42,(U75+AN31*D19)/AN42,(U76+AN31*D19)/AO42)*AP42","v":{"$error":"#VALUE!"}},{"$f":"MIN((V72+AN31*D19)/AK42,(V73+AN31*D19)/AL42,(V74+AN31*D19)/AM42,(V75+AN31*D19)/AN42,(V76+AN31*D19)/AO42)*AP42","v":{"$error":"#VALUE!"}},{"$f":"MIN((W72+AN31*D19)/AK42,(W73+AN31*D19)/AL42,(W74+AN31*D19)/AM42,(W75+AN31*D19)/AN42,(W76+AN31*D19)/AO42)*AP42","v":{"$error":"#VALUE!"}},{"$f":"MIN((X72+AN31*D19)/AK42,(X73+AN31*D19)/AL42,(X74+AN31*D19)/AM42,(X75+AN31*D19)/AN42,(X76+AN31*D19)/AO42)*AP42","v":{"$error":"#VALUE!"}},{"$f":"MIN((Y72+AN31*D19)/AK42,(Y73+AN31*D19)/AL42,(Y74+AN31*D19)/AM42,(Y75+AN31*D19)/AN42,(Y76+AN31*D19)/AO42)*AP42","v":{"$error":"#VALUE!"}},{"$f":"MIN((Z72+AN31*D19)/AK42,(Z73+AN31*D19)/AL42,(Z74+AN31*D19)/AM42,(Z75+AN31*D19)/AN42,(Z76+AN31*D19)/AO42)*AP42","v":{"$error":"#VALUE!"}},{"$f":"MIN((AA72+AN31*D19)/AK42,(AA73+AN31*D19)/AL42,(AA74+AN31*D19)/AM42,(AA75+AN31*D19)/AN42,(AA76+AN31*D19)/AO42)*AP42","v":{"$error":"#VALUE!"}},{"$f":"MIN((AB72+AN31*D19)/AK42,(AB73+AN31*D19)/AL42,(AB74+AN31*D19)/AM42,(AB75+AN31*D19)/AN42,(AB76+AN31*D19)/AO42)*AP42","v":{"$error":"#VALUE!"}},{"$f":"MIN((AC72+AN31*D19)/AK42,(AC73+AN31*D19)/AL42,(AC74+AN31*D19)/AM42,(AC75+AN31*D19)/AN42,(AC76+AN31*D19)/AO42)*AP42","v":{"$error":"#VALUE!"}},{"$f":"MIN((AD72+AN31*D19)/AK42,(AD73+AN31*D19)/AL42,(AD74+AN31*D19)/AM42,(AD75+AN31*D19)/AN42,(AD76+AN31*D19)/AO42)*AP42","v":{"$error":"#VALUE!"}},{"$f":"MIN((AE72+AN31*D19)/AK42,(AE73+AN31*D19)/AL42,(AE74+AN31*D19)/AM42,(AE75+AN31*D19)/AN42,(AE76+AN31*D19)/AO42)*AP42","v":{"$error":"#VALUE!"}},{"$f":"MIN((AF72+AN31*D19)/AK42,(AF73+AN31*D19)/AL42,(AF74+AN31*D19)/AM42,(AF75+AN31*D19)/AN42,(AF76+AN31*D19)/AO42)*AP42","v":{"$error":"#VALUE!"}},{"$error":"#VALUE!"},null,"",{"$f":"MIN((S72+AO31*D19)/AK43,(S73+AO31*D19)/AL43,(S74+AO31*D19)/AM43,(S75+AO31*D19)/AN43,(S76+AO31*D19)/AO43)*AP43","v":{"$error":"#VALUE!"}},{"$f":"MIN((T72+AO31*D19)/AK43,(T73+AO31*D19)/AL43,(T74+AO31*D19)/AM43,(T75+AO31*D19)/AN43,(T76+AO31*D19)/AO43)*AP43","v":{"$error":"#VALUE!"}},{"$f":"MIN((U72+AO31*D19)/AK43,(U73+AO31*D19)/AL43,(U74+AO31*D19)/AM43,(U75+AO31*D19)/AN43,(U76+AO31*D19)/AO43)*AP43","v":{"$error":"#VALUE!"}},{"$f":"MIN((V72+AO31*D19)/AK43,(V73+AO31*D19)/AL43,(V74+AO31*D19)/AM43,(V75+AO31*D19)/AN43,(V76+AO31*D19)/AO43)*AP43","v":{"$error":"#VALUE!"}},{"$f":"MIN((W72+AO31*D19)/AK43,(W73+AO31*D19)/AL43,(W74+AO31*D19)/AM43,(W75+AO31*D19)/AN43,(W76+AO31*D19)/AO43)*AP43","v":{"$error":"#VALUE!"}},{"$f":"MIN((X72+AO31*D19)/AK43,(X73+AO31*D19)/AL43,(X74+AO31*D19)/AM43,(X75+AO31*D19)/AN43,(X76+AO31*D19)/AO43)*AP43","v":{"$error":"#VALUE!"}},{"$f":"MIN((Y72+AO31*D19)/AK43,(Y73+AO31*D19)/AL43,(Y74+AO31*D19)/AM43,(Y75+AO31*D19)/AN43,(Y76+AO31*D19)/AO43)*AP43","v":{"$error":"#VALUE!"}},{"$f":"MIN((Z72+AO31*D19)/AK43,(Z73+AO31*D19)/AL43,(Z74+AO31*D19)/AM43,(Z75+AO31*D19)/AN43,(Z76+AO31*D19)/AO43)*AP43","v":{"$error":"#VALUE!"}},{"$f":"MIN((AA72+AO31*D19)/AK43,(AA73+AO31*D19)/AL43,(AA74+AO31*D19)/AM43,(AA75+AO31*D19)/AN43,(AA76+AO31*D19)/AO43)*AP43","v":{"$error":"#VALUE!"}},{"$f":"MIN((AB72+AO31*D19)/AK43,(AB73+AO31*D19)/AL43,(AB74+AO31*D19)/AM43,(AB75+AO31*D19)/AN43,(AB76+AO31*D19)/AO43)*AP43","v":{"$error":"#VALUE!"}},{"$f":"MIN((AC72+AO31*D19)/AK43,(AC73+AO31*D19)/AL43,(AC74+AO31*D19)/AM43,(AC75+AO31*D19)/AN43,(AC76+AO31*D19)/AO43)*AP43","v":{"$error":"#VALUE!"}},{"$f":"MIN((AD72+AO31*D19)/AK43,(AD73+AO31*D19)/AL43,(AD74+AO31*D19)/AM43,(AD75+AO31*D19)/AN43,(AD76+AO31*D19)/AO43)*AP43","v":{"$error":"#VALUE!"}},{"$f":"MIN((AE72+AO31*D19)/AK43,(AE73+AO31*D19)/AL43,(AE74+AO31*D19)/AM43,(AE75+AO31*D19)/AN43,(AE76+AO31*D19)/AO43)*AP43","v":{"$error":"#VALUE!"}},{"$f":"MIN((AF72+AO31*D19)/AK43,(AF73+AO31*D19)/AL43,(AF74+AO31*D19)/AM43,(AF75+AO31*D19)/AN43,(AF76+AO31*D19)/AO43)*AP43","v":{"$error":"#VALUE!"}},{"$error":"#VALUE!"},null,{"$f":"BB97","v":"kit 1"},"kit 2A","kit 2B","kit 4A","kit 4B","kit 5","kit 6A","kit 6B","kit 7","kit 8","kit 9A","kit 9B","kit 10","kit 11"]
[null,null,null,null,null,null,{"$f":"SUM(G90:G100)","v":19.981349999999999},null,null,{"$f":"SUM(J90:J100)","v":19.975899999999999},null,null,{"$f":"SUM(M90:M100)","v":19.981250000000003},null,null,{"$f":"SUM(P90:P100)","v":19.981350000000003},null,{"$f":"I17+AH40+D15+D17+D21+D19*AG14","v":{"$error":"#VALUE!"}},{"$f":"R101+Q11","v":{"$error":"#VALUE!"}},{"$f":"R101+R11","v":{"$error":"#VALUE!"}},{"$f":"R101+S11","v":{"$error":"#VALUE!"}},{"$f":"R101+T11","v":{"$error":"#VALUE!"}},{"$f":"R101+U11","v":{"$error":"#VALUE!"}},{"$f":"R101+V11","v":{"$error":"#VALUE!"}},{"$f":"R101+W11","v":{"$error":"#VALUE!"}},{"$f":"R101+X11","v":{"$error":"#VALUE!"}},{"$f":"R101+Y11","v":{"$error":"#VALUE!"}},{"$f":"R101+Z11","v":{"$error":"#VALUE!"}},{"$f":"R101+AA11","v":{"$error":"#VALUE!"}},{"$f":"R101+AB11","v":{"$error":"#VALUE!"}},{"$f":"R101+AC11","v":{"$error":"#VALUE!"}},{"$f":"R101+AD11","v":{"$error":"#VALUE!"}},null,null,null,"",{"$f":"MIN((S79+AN31*D19)/AK42,(S80+AN31*D19)/AL42,(S81+AN31*D19)/AM42,(S82+AN31*D19)/AN42,(S83+AN31*D19)/AO42)*AP42","v":{"$error":"#VALUE!"}},{"$f":"MIN((T79+AN31*D19)/AK42,(T80+AN31*D19)/AL42,(T81+AN31*D19)/AM42,(T82+AN31*D19)/AN42,(T83+AN31*D19)/AO42)*AP42","v":{"$error":"#VALUE!"}},{"$f":"MIN((U79+AN31*D19)/AK42,(U80+AN31*D19)/AL42,(U81+AN31*D19)/AM42,(U82+AN31*D19)/AN42,(U83+AN31*D19)/AO42)*AP42","v":{"$error":"#VALUE!"}},{"$f":"MIN((V79+AN31*D19)/AK42,(V80+AN31*D19)/AL42,(V81+AN31*D19)/AM42,(V82+AN31*D19)/AN42,(V83+AN31*D19)/AO42)*AP42","v":{"$error":"#VALUE!"}},{"$f":"MIN((W79+AN31*D19)/AK42,(W80+AN31*D19)/AL42,(W81+AN31*D19)/AM42,(W82+AN31*D19)/AN42,(W83+AN31*D19)/AO42)*AP42","v":{"$error":"#VALUE!"}},{"$f":"MIN((X79+AN31*D19)/AK42,(X80+AN31*D19)/AL42,(X81+AN31*D19)/AM42,(X82+AN31*D19)/AN42,(X83+AN31*D19)/AO42)*AP42","v":{"$error":"#VALUE!"}},{"$f":"MIN((Y79+AN31*D19)/AK42,(Y80+AN31*D19)/AL42,(Y81+AN31*D19)/AM42,(Y82+AN31*D19)/AN42,(Y83+AN31*D19)/AO42)*AP42","v":{"$error":"#VALUE!"}},{"$f":"MIN((Z79+AN31*D19)/AK42,(Z80+AN31*D19)/AL42,(Z81+AN31*D19)/AM42,(Z82+AN31*D19)/AN42,(Z83+AN31*D19)/AO42)*AP42","v":{"$error":"#VALUE!"}},{"$f":"MIN((AA79+AN31*D19)/AK42,(AA80+AN31*D19)/AL42,(AA81+AN31*D19)/AM42,(AA82+AN31*D19)/AN42,(AA83+AN31*D19)/AO42)*AP42","v":{"$error":"#VALUE!"}},{"$f":"MIN((AB79+AN31*D19)/AK42,(AB80+AN31*D19)/AL42,(AB81+AN31*D19)/AM42,(AB82+AN31*D19)/AN42,(AB83+AN31*D19)/AO42)*AP42","v":{"$error":"#VALUE!"}},{"$f":"MIN((AC79+AN31*D19)/AK42,(AC80+AN31*D19)/AL42,(AC81+AN31*D19)/AM42,(AC82+AN31*D19)/AN42,(AC83+AN31*D19)/AO42)*AP42","v":{"$error":"#VALUE!"}},{"$f":"MIN((AD79+AN31*D19)/AK42,(AD80+AN31*D19)/AL42,(AD81+AN31*D19)/AM42,(AD82+AN31*D19)/AN42,(AD83+AN31*D19)/AO42)*AP42","v":{"$error":"#VALUE!"}},{"$f":"MIN((AE79+AN31*D19)/AK42,(AE80+AN31*D19)/AL42,(AE81+AN31*D19)/AM42,(AE82+AN31*D19)/AN42,(AE83+AN31*D19)/AO42)*AP42","v":{"$error":"#VALUE!"}},{"$f":"MIN((AF79+AN31*D19)/AK42,(AF80+AN31*D19)/AL42,(AF81+AN31*D19)/AM42,(AF82+AN31*D19)/AN42,(AF83+AN31*D19)/AO42)*AP42","v":{"$error":"#VALUE!"}},{"$error":"#VALUE!"},null,"",{"$f":"MIN((S79+AO31*D19)/AK43,(S80+AO31*D19)/AL43,(S81+AO31*D19)/AM43,(S82+AO31*D19)/AN43,(S83+AO31*D19)/AO43)*AP43","v":{"$error":"#VALUE!"}},{"$f":"MIN((T79+AO31*D19)/AK43,(T80+AO31*D19)/AL43,(T81+AO31*D19)/AM43,(T82+AO31*D19)/AN43,(T83+AO31*D19)/AO43)*AP43","v":{"$error":"#VALUE!"}},{"$f":"MIN((U79+AO31*D19)/AK43,(U80+AO31*D19)/AL43,(U81+AO31*D19)/AM43,(U82+AO31*D19)/AN43,(U83+AO31*D19)/AO43)*AP43","v":{"$error":"#VALUE!"}},{"$f":"MIN((V79+AO31*D19)/AK43,(V80+AO31*D19)/AL43,(V81+AO31*D19)/AM43,(V82+AO31*D19)/AN43,(V83+AO31*D19)/AO43)*AP43","v":{"$error":"#VALUE!"}},{"$f":"MIN((W79+AO31*D19)/AK43,(W80+AO31*D19)/AL43,(W81+AO31*D19)/AM43,(W82+AO31*D19)/AN43,(W83+AO31*D19)/AO43)*AP43","v":{"$error":"#VALUE!"}},{"$f":"MIN((X79+AO31*D19)/AK43,(X80+AO31*D19)/AL43,(X81+AO31*D19)/AM43,(X82+AO31*D19)/AN43,(X83+AO31*D19)/AO43)*AP43","v":{"$error":"#VALUE!"}},{"$f":"MIN((Y79+AO31*D19)/AK43,(Y80+AO31*D19)/AL43,(Y81+AO31*D19)/AM43,(Y82+AO31*D19)/AN43,(Y83+AO31*D19)/AO43)*AP43","v":{"$error":"#VALUE!"}},{"$f":"MIN((Z79+AO31*D19)/AK43,(Z80+AO31*D19)/AL43,(Z81+AO31*D19)/AM43,(Z82+AO31*D19)/AN43,(Z83+AO31*D19)/AO43)*AP43","v":{"$error":"#VALUE!"}},{"$f":"MIN((AA79+AO31*D19)/AK43,(AA80+AO31*D19)/AL43,(AA81+AO31*D19)/AM43,(AA82+AO31*D19)/AN43,(AA83+AO31*D19)/AO43)*AP43","v":{"$error":"#VALUE!"}},{"$f":"MIN((AB79+AO31*D19)/AK43,(AB80+AO31*D19)/AL43,(AB81+AO31*D19)/AM43,(AB82+AO31*D19)/AN43,(AB83+AO31*D19)/AO43)*AP43","v":{"$error":"#VALUE!"}},{"$f":"MIN((AC79+AO31*D19)/AK43,(AC80+AO31*D19)/AL43,(AC81+AO31*D19)/AM43,(AC82+AO31*D19)/AN43,(AC83+AO31*D19)/AO43)*AP43","v":{"$error":"#VALUE!"}},{"$f":"MIN((AD79+AO31*D19)/AK43,(AD80+AO31*D19)/AL43,(AD81+AO31*D19)/AM43,(AD82+AO31*D19)/AN43,(AD83+AO31*D19)/AO43)*AP43","v":{"$error":"#VALUE!"}},{"$f":"MIN((AE79+AO31*D19)/AK43,(AE80+AO31*D19)/AL43,(AE81+AO31*D19)/AM43,(AE82+AO31*D19)/AN43,(AE83+AO31*D19)/AO43)*AP43","v":{"$error":"#VALUE!"}},{"$f":"MIN((AF79+AO31*D19)/AK43,(AF80+AO31*D19)/AL43,(AF81+AO31*D19)/AM43,(AF82+AO31*D19)/AN43,(AF83+AO31*D19)/AO43)*AP43","v":{"$error":"#VALUE!"}},{"$error":"#VALUE!"},"meilleur kit par poste / joueur"]
[null,null,null,null,null,null,null,null,null,null,null,null,null,null,null,null,null,{"$f":"J17+AH41+D15+D17+D21+D19*AG14","v":{"$error":"#VALUE!"}},{"$f":"R102+Q12","v":{"$error":"#VALUE!"}},{"$f":"R102+R12","v":{"$error":"#VALUE!"}},{"$f":"R102+S12","v":{"$error":"#VALUE!"}},{"$f":"R102+T12","v":{"$error":"#VALUE!"}},{"$f":"R102+U12","v":{"$error":"#VALUE!"}},{"$f":"R102+V12","v":{"$error":"#VALUE!"}},{"$f":"R102+W12","v":{"$error":"#VALUE!"}},{"$f":"R102+X12","v":{"$error":"#VALUE!"}},{"$f":"R102+Y12","v":{"$error":"#VALUE!"}},{"$f":"R102+Z12","v":{"$error":"#VALUE!"}},{"$f":"R102+AA12","v":{"$error":"#VALUE!"}},{"$f":"R102+AB12","v":{"$error":"#VALUE!"}},{"$f":"R102+AC12","v":{"$error":"#VALUE!"}},{"$f":"R102+AD12","v":{"$error":"#VALUE!"}},null,null,null,"",{"$f":"MIN((S86+AN31*D19)/AK42,(S87+AN31*D19)/AL42,(S88+AN31*D19)/AM42,(S89+AN31*D19)/AN42,(S90+AN31*D19)/AO42)*AP42","v":{"$error":"#VALUE!"}},{"$f":"MIN((T86+AN31*D19)/AK42,(T87+AN31*D19)/AL42,(T88+AN31*D19)/AM42,(T89+AN31*D19)/AN42,(T90+AN31*D19)/AO42)*AP42","v":{"$error":"#VALUE!"}},{"$f":"MIN((U86+AN31*D19)/AK42,(U87+AN31*D19)/AL42,(U88+AN31*D19)/AM42,(U89+AN31*D19)/AN42,(U90+AN31*D19)/AO42)*AP42","v":{"$error":"#VALUE!"}},{"$f":"MIN((V86+AN31*D19)/AK42,(V87+AN31*D19)/AL42,(V88+AN31*D19)/AM42,(V89+AN31*D19)/AN42,(V90+AN31*D19)/AO42)*AP42","v":{"$error":"#VALUE!"}},{"$f":"MIN((W86+AN31*D19)/AK42,(W87+AN31*D19)/AL42,(W88+AN31*D19)/AM42,(W89+AN31*D19)/AN42,(W90+AN31*D19)/AO42)*AP42","v":{"$error":"#VALUE!"}},{"$f":"MIN((X86+AN31*D19)/AK42,(X87+AN31*D19)/AL42,(X88+AN31*D19)/AM42,(X89+AN31*D19)/AN42,(X90+AN31*D19)/AO42)*AP42","v":{"$error":"#VALUE!"}},{"$f":"MIN((Y86+AN31*D19)/AK42,(Y87+AN31*D19)/AL42,(Y88+AN31*D19)/AM42,(Y89+AN31*D19)/AN42,(Y90+AN31*D19)/AO42)*AP42","v":{"$error":"#VALUE!"}},{"$f":"MIN((Z86+AN31*D19)/AK42,(Z87+AN31*D19)/AL42,(Z88+AN31*D19)/AM42,(Z89+AN31*D19)/AN42,(Z90+AN31*D19)/AO42)*AP42","v":{"$error":"#VALUE!"}},{"$f":"MIN((AA86+AN31*D19)/AK42,(AA87+AN31*D19)/AL42,(AA88+AN31*D19)/AM42,(AA89+AN31*D19)/AN42,(AA90+AN31*D19)/AO42)*AP42","v":{"$error":"#VALUE!"}},{"$f":"MIN((AB86+AN31*D19)/AK42,(AB87+AN31*D19)/AL42,(AB88+AN31*D19)/AM42,(AB89+AN31*D19)/AN42,(AB90+AN31*D19)/AO42)*AP42","v":{"$error":"#VALUE!"}},{"$f":"MIN((AC86+AN31*D19)/AK42,(AC87+AN31*D19)/AL42,(AC88+AN31*D19)/AM42,(AC89+AN31*D19)/AN42,(AC90+AN31*D19)/AO42)*AP42","v":{"$error":"#VALUE!"}},{"$f":"MIN((AD86+AN31*D19)/AK42,(AD87+AN31*D19)/AL42,(AD88+AN31*D19)/AM42,(AD89+AN31*D19)/AN42,(AD90+AN31*D19)/AO42)*AP42","v":{"$error":"#VALUE!"}},{"$f":"MIN((AE86+AN31*D19)/AK42,(AE87+AN31*D19)/AL42,(AE88+AN31*D19)/AM42,(AE89+AN31*D19)/AN42,(AE90+AN31*D19)/AO42)*AP42","v":{"$error":"#VALUE!"}},{"$f":"MIN((AF86+AN31*D19)/AK42,(AF87+AN31*D19)/AL42,(AF88+AN31*D19)/AM42,(AF89+AN31*D19)/AN42,(AF90+AN31*D19)/AO42)*AP42","v":{"$error":"#VALUE!"}},{"$error":"#VALUE!"},null,"",{"$f":"MIN((S86+AO31*D19)/AK43,(S87+AO31*D19)/AL43,(S88+AO31*D19)/AM43,(S89+AO31*D19)/AN43,(S90+AO31*D19)/AO43)*AP43","v":{"$error":"#VALUE!"}},{"$f":"MIN((T86+AO31*D19)/AK43,(T87+AO31*D19)/AL43,(T88+AO31*D19)/AM43,(T89+AO31*D19)/AN43,(T90+AO31*D19)/AO43)*AP43","v":{"$error":"#VALUE!"}},{"$f":"MIN((U86+AO31*D19)/AK43,(U87+AO31*D19)/AL43,(U88+AO31*D19)/AM43,(U89+AO31*D19)/AN43,(U90+AO31*D19)/AO43)*AP43","v":{"$error":"#VALUE!"}},{"$f":"MIN((V86+AO31*D19)/AK43,(V87+AO31*D19)/AL43,(V88+AO31*D19)/AM43,(V89+AO31*D19)/AN43,(V90+AO31*D19)/AO43)*AP43","v":{"$error":"#VALUE!"}},{"$f":"MIN((W86+AO31*D19)/AK43,(W87+AO31*D19)/AL43,(W88+AO31*D19)/AM43,(W89+AO31*D19)/AN43,(W90+AO31*D19)/AO43)*AP43","v":{"$error":"#VALUE!"}},{"$f":"MIN((X86+AO31*D19)/AK43,(X87+AO31*D19)/AL43,(X88+AO31*D19)/AM43,(X89+AO31*D19)/AN43,(X90+AO31*D19)/AO43)*AP43","v":{"$error":"#VALUE!"}},{"$f":"MIN((Y86+AO31*D19)/AK43,(Y87+AO31*D19)/AL43,(Y88+AO31*D19)/AM43,(Y89+AO31*D19)/AN43,(Y90+AO31*D19)/AO43)*AP43","v":{"$error":"#VALUE!"}},{"$f":"MIN((Z86+AO31*D19)/AK43,(Z87+AO31*D19)/AL43,(Z88+AO31*D19)/AM43,(Z89+AO31*D19)/AN43,(Z90+AO31*D19)/AO43)*AP43","v":{"$error":"#VALUE!"}},{"$f":"MIN((AA86+AO31*D19)/AK43,(AA87+AO31*D19)/AL43,(AA88+AO31*D19)/AM43,(AA89+AO31*D19)/AN43,(AA90+AO31*D19)/AO43)*AP43","v":{"$error":"#VALUE!"}},{"$f":"MIN((AB86+AO31*D19)/AK43,(AB87+AO31*D19)/AL43,(AB88+AO31*D19)/AM43,(AB89+AO31*D19)/AN43,(AB90+AO31*D19)/AO43)*AP43","v":{"$error":"#VALUE!"}},{"$f":"MIN((AC86+AO31*D19)/AK43,(AC87+AO31*D19)/AL43,(AC88+AO31*D19)/AM43,(AC89+AO31*D19)/AN43,(AC90+AO31*D19)/AO43)*AP43","v":{"$error":"#VALUE!"}},{"$f":"MIN((AD86+AO31*D19)/AK43,(AD87+AO31*D19)/AL43,(AD88+AO31*D19)/AM43,(AD89+AO31*D19)/AN43,(AD90+AO31*D19)/AO43)*AP43","v":{"$error":"#VALUE!"}},{"$f":"MIN((AE86+AO31*D19)/AK43,(AE87+AO31*D19)/AL43,(AE88+AO31*D19)/AM43,(AE89+AO31*D19)/AN43,(AE90+AO31*D19)/AO43)*AP43","v":{"$error":"#VALUE!"}},{"$f":"MIN((AF86+AO31*D19)/AK43,(AF87+AO31*D19)/AL43,(AF88+AO31*D19)/AM43,(AF89+AO31*D19)/AN43,(AF90+AO31*D19)/AO43)*AP43","v":{"$error":"#VALUE!"}},{"$error":"#VALUE!"},null,null,1,null,2,null,3,null,4,null,5,null,6,null,7,null,8,null,9,null,10,null,11]
[null,null,null,"Calcul du capitaine",null,null,"ss kit ss vitamine","kit ss vit","kit + vit",null,null,null,null,null,null,null,null,{"$f":"K17+AH42+D16+D17+D21+D19*AG14","v":{"$error":"#VALUE!"}},{"$f":"R103+Q13","v":{"$error":"#VALUE!"}},{"$f":"R103+R13","v":{"$error":"#VALUE!"}},{"$f":"R103+S13","v":{"$error":"#VALUE!"}},{"$f":"R103+T13","v":{"$error":"#VALUE!"}},{"$f":"R103+U13","v":{"$error":"#VALUE!"}},{"$f":"R103+V13","v":{"$error":"#VALUE!"}},{"$f":"R103+W13","v":{"$error":"#VALUE!"}},{"$f":"R103+X13","v":{"$error":"#VALUE!"}},{"$f":"R103+Y13","v":{"$error":"#VALUE!"}},{"$f":"R103+Z13","v":{"$error":"#VALUE!"}},{"$f":"R103+AA13","v":{"$error":"#VALUE!"}},{"$f":"R103+AB13","v":{"$error":"#VALUE!"}},{"$f":"R103+AC13","v":{"$error":"#VALUE!"}},{"$f":"R103+AD13","v":{"$error":"#VALUE!"}},null,null,null,"",{"$f":"MIN((S93+AN31*D19)/AK42,(S94+AN31*D19)/AL42,(S95+AN31*D19)/AM42,(S96+AN31*D19)/AN42,(S97+AN31*D19)/AO42)*AP42","v":{"$error":"#VALUE!"}},{"$f":"MIN((T93+AN31*D19)/AK42,(T94+AN31*D19)/AL42,(T95+AN31*D19)/AM42,(T96+AN31*D19)/AN42,(T97+AN31*D19)/AO42)*AP42","v":{"$error":"#VALUE!"}},{"$f":"MIN((U93+AN31*D19)/AK42,(U94+AN31*D19)/AL42,(U95+AN31*D19)/AM42,(U96+AN31*D19)/AN42,(U97+AN31*D19)/AO42)*AP42","v":{"$error":"#VALUE!"}},{"$f":"MIN((V93+AN31*D19)/AK42,(V94+AN31*D19)/AL42,(V95+AN31*D19)/AM42,(V96+AN31*D19)/AN42,(V97+AN31*D19)/AO42)*AP42","v":{"$error":"#VALUE!"}},{"$f":"MIN((W93+AN31*D19)/AK42,(W94+AN31*D19)/AL42,(W95+AN31*D19)/AM42,(W96+AN31*D19)/AN42,(W97+AN31*D19)/AO42)*AP42","v":{"$error":"#VALUE!"}},{"$f":"MIN((X93+AN31*D19)/AK42,(X94+AN31*D19)/AL42,(X95+AN31*D19)/AM42,(X96+AN31*D19)/AN42,(X97+AN31*D19)/AO42)*AP42","v":{"$error":"#VALUE!"}},{"$f":"MIN((Y93+AN31*D19)/AK42,(Y94+AN31*D19)/AL42,(Y95+AN31*D19)/AM42,(Y96+AN31*D19)/AN42,(Y97+AN31*D19)/AO42)*AP42","v":{"$error":"#VALUE!"}},{"$f":"MIN((Z93+AN31*D19)/AK42,(Z94+AN31*D19)/AL42,(Z95+AN31*D19)/AM42,(Z96+AN31*D19)/AN42,(Z97+AN31*D19)/AO42)*AP42","v":{"$error":"#VALUE!"}},{"$f":"MIN((AA93+AN31*D19)/AK42,(AA94+AN31*D19)/AL42,(AA95+AN31*D19)/AM42,(AA96+AN31*D19)/AN42,(AA97+AN31*D19)/AO42)*AP42","v":{"$error":"#VALUE!"}},{"$f":"MIN((AB93+AN31*D19)/AK42,(AB94+AN31*D19)/AL42,(AB95+AN31*D19)/AM42,(AB96+AN31*D19)/AN42,(AB97+AN31*D19)/AO42)*AP42","v":{"$error":"#VALUE!"}},{"$f":"MIN((AC93+AN31*D19)/AK42,(AC94+AN31*D19)/AL42,(AC95+AN31*D19)/AM42,(AC96+AN31*D19)/AN42,(AC97+AN31*D19)/AO42)*AP42","v":{"$error":"#VALUE!"}},{"$f":"MIN((AD93+AN31*D19)/AK42,(AD94+AN31*D19)/AL42,(AD95+AN31*D19)/AM42,(AD96+AN31*D19)/AN42,(AD97+AN31*D19)/AO42)*AP42","v":{"$error":"#VALUE!"}},{"$f":"MIN((AE93+AN31*D19)/AK42,(AE94+AN31*D19)/AL42,(AE95+AN31*D19)/AM42,(AE96+AN31*D19)/AN42,(AE97+AN31*D19)/AO42)*AP42","v":{"$error":"#VALUE!"}},{"$f":"MIN((AF93+AN31*D19)/AK42,(AF94+AN31*D19)/AL42,(AF95+AN31*D19)/AM42,(AF96+AN31*D19)/AN42,(AF97+AN31*D19)/AO42)*AP42","v":{"$error":"#VALUE!"}},{"$error":"#VALUE!"},null,"",{"$f":"MIN((S93+AO31*D19)/AK43,(S94+AO31*D19)/AL43,(S95+AO31*D19)/AM43,(S96+AO31*D19)/AN43,(S97+AO31*D19)/AO43)*AP43","v":{"$error":"#VALUE!"}},{"$f":"MIN((T93+AO31*D19)/AK43,(T94+AO31*D19)/AL43,(T95+AO31*D19)/AM43,(T96+AO31*D19)/AN43,(T97+AO31*D19)/AO43)*AP43","v":{"$error":"#VALUE!"}},{"$f":"MIN((U93+AO31*D19)/AK43,(U94+AO31*D19)/AL43,(U95+AO31*D19)/AM43,(U96+AO31*D19)/AN43,(U97+AO31*D19)/AO43)*AP43","v":{"$error":"#VALUE!"}},{"$f":"MIN((V93+AO31*D19)/AK43,(V94+AO31*D19)/AL43,(V95+AO31*D19)/AM43,(V96+AO31*D19)/AN43,(V97+AO31*D19)/AO43)*AP43","v":{"$error":"#VALUE!"}},{"$f":"MIN((W93+AO31*D19)/AK43,(W94+AO31*D19)/AL43,(W95+AO31*D19)/AM43,(W96+AO31*D19)/AN43,(W97+AO31*D19)/AO43)*AP43","v":{"$error":"#VALUE!"}},{"$f":"MIN((X93+AO31*D19)/AK43,(X94+AO31*D19)/AL43,(X95+AO31*D19)/AM43,(X96+AO31*D19)/AN43,(X97+AO31*D19)/AO43)*AP43","v":{"$error":"#VALUE!"}},{"$f":"MIN((Y93+AO31*D19)/AK43,(Y94+AO31*D19)/AL43,(Y95+AO31*D19)/AM43,(Y96+AO31*D19)/AN43,(Y97+AO31*D19)/AO43)*AP43","v":{"$error":"#VALUE!"}},{"$f":"MIN((Z93+AO31*D19)/AK43,(Z94+AO31*D19)/AL43,(Z95+AO31*D19)/AM43,(Z96+AO31*D19)/AN43,(Z97+AO31*D19)/AO43)*AP43","v":{"$error":"#VALUE!"}},{"$f":"MIN((AA93+AO31*D19)/AK43,(AA94+AO31*D19)/AL43,(AA95+AO31*D19)/AM43,(AA96+AO31*D19)/AN43,(AA97+AO31*D19)/AO43)*AP43","v":{"$error":"#VALUE!"}},{"$f":"MIN((AB93+AO31*D19)/AK43,(AB94+AO31*D19)/AL43,(AB95+AO31*D19)/AM43,(AB96+AO31*D19)/AN43,(AB97+AO31*D19)/AO43)*AP43","v":{"$error":"#VALUE!"}},{"$f":"MIN((AC93+AO31*D19)/AK43,(AC94+AO31*D19)/AL43,(AC95+AO31*D19)/AM43,(AC96+AO31*D19)/AN43,(AC97+AO31*D19)/AO43)*AP43","v":{"$error":"#VALUE!"}},{"$f":"MIN((AD93+AO31*D19)/AK43,(AD94+AO31*D19)/AL43,(AD95+AO31*D19)/AM43,(AD96+AO31*D19)/AN43,(AD97+AO31*D19)/AO43)*AP43","v":{"$error":"#VALUE!"}},{"$f":"MIN((AE93+AO31*D19)/AK43,(AE94+AO31*D19)/AL43,(AE95+AO31*D19)/AM43,(AE96+AO31*D19)/AN43,(AE97+AO31*D19)/AO43)*AP43","v":{"$error":"#VALUE!"}},{"$f":"MIN((AF93+AO31*D19)/AK43,(AF94+AO31*D19)/AL43,(AF95+AO31*D19)/AM43,(AF96+AO31*D19)/AN43,(AF97+AO31*D19)/AO43)*AP43","v":{"$error":"#VALUE!"}},{"$error":"#VALUE!"},null,{"$f":"BA98","v":""},{"$f":"IF(AY52=AK52,BR83,IF(AY52=AL52,BS83,IF(AY52=AM52,BT83,IF(AY52=AN52,BU83,IF(AY52=AO52,BV83,IF(AY52=AP52,BW83,IF(AY52=AQ52,BX83,IF(AY52=AR52,BY83,BT103))))))))","v":{"$error":"#VALUE!"}},{"$f":"IF(AY52=AS52,BZ83,IF(AY52=AT52,CA83,IF(AY52=AU52,CB83,IF(AY52=AV52,CC83,IF(AY52=AW52,CD83,IF(AY52=AX52,CE83,CO103))))))","v":{"$error":"#VALUE!"}},{"$f":"IF(BP52=BB52,BR83,IF(BP52=BC52,BS83,IF(BP52=BD52,BT83,IF(BP52=BE52,BU83,IF(BP52=BF52,BV83,IF(BP52=BG52,BW83,IF(BP52=BH52,BX83,IF(BP52=BI52,BY83,BV103))))))))","v":{"$error":"#VALUE!"}},{"$f":"IF(BP52=BJ52,BZ83,IF(BP52=BK52,CA83,IF(BP52=BL52,CB83,IF(BP52=BM52,CC83,IF(BP52=BN52,CD83,IF(BP52=BO52,CE83,CO103))))))","v":{"$error":"#VALUE!"}},{"$f":"IF(AY75=AK75,BR83,IF(AY75=AL75,BS83,IF(AY75=AM75,BT83,IF(AY75=AN75,BU83,IF(AY75=AO75,BV83,IF(AY75=AP75,BW83,IF(AY75=AQ75,BX83,IF(AY75=AR75,BY83,BX103))))))))","v":{"$error":"#VALUE!"}},{"$f":"IF(AY75=AS75,BZ83,IF(AY75=AT75,CA83,IF(AY75=AU75,CB83,IF(AY75=AV75,CC83,IF(AY75=AW75,CD83,IF(AY75=AX75,CE83,CO103))))))","v":{"$error":"#VALUE!"}},{"$f":"IF(BP75=BB75,BR83,IF(BP75=BC75,BS83,IF(BP75=BD75,BT83,IF(BP75=BE75,BU83,IF(BP75=BF75,BV83,IF(BP75=BG75,BW83,IF(BP75=BH75,BX83,IF(BP75=BI75,BY83,BZ103))))))))","v":{"$error":"#VALUE!"}},{"$f":"IF(BP75=BJ75,BZ83,IF(BP75=BK75,CA83,IF(BP75=BL75,CB83,IF(BP75=BM75,CC83,IF(BP75=BN75,CD83,IF(BP75=BO75,CE83,CO103))))))","v":{"$error":"#VALUE!"}},{"$f":"IF(AY98=AK98,BR83,IF(AY98=AL98,BS83,IF(AY98=AM98,BT83,IF(AY98=AN98,BU83,IF(AY98=AO98,BV83,IF(AY98=AP98,BW83,IF(AY98=AQ98,BX83,IF(AY98=AR98,BY83,CB103))))))))","v":{"$error":"#VALUE!"}},{"$f":"IF(AY98=AS98,BZ83,IF(AY98=AT98,CA83,IF(AY98=AU98,CB83,IF(AY98=AV98,CC83,IF(AY98=AW98,CD83,IF(AY98=AX98,CE83,CO103))))))","v":{"$error":"#VALUE!"}},{"$f":"IF(BP98=BB98,BR83,IF(BP98=BC98,BS83,IF(BP98=BD98,BT83,IF(BP98=BE98,BU83,IF(BP98=BF98,BV83,IF(BP98=BG98,BW83,IF(BP98=BH98,BX83,IF(BP98=BI98,BY83,CD103))))))))","v":{"$error":"#VALUE!"}},{"$f":"IF(BP98=BJ98,BZ83,IF(BP98=BK98,CA83,IF(BP98=BL98,CB83,IF(BP98=BM98,CC83,IF(BP98=BN98,CD83,IF(BP98=BO98,CE83,CO103))))))","v":{"$error":"#VALUE!"}},{"$f":"IF(AY121=AK121,BR83,IF(AY121=AL121,BS83,IF(AY121=AM121,BT83,IF(AY121=AN121,BU83,IF(AY121=AO121,BV83,IF(AY121=AP121,BW83,IF(AY121=AQ121,BX83,IF(AY121=AR121,BY83,CF103))))))))","v":{"$error":"#VALUE!"}},{"$f":"IF(AY121=AS121,BZ83,IF(AY121=AT121,CA83,IF(AY121=AU121,CB83,IF(AY121=AV121,CC83,IF(AY121=AW121,CD83,IF(AY121=AX121,CE83,CO103))))))","v":{"$error":"#VALUE!"}},{"$f":"IF(BP121=BB121,BR83,IF(BP121=BC121,BS83,IF(BP121=BD121,BT83,IF(BP121=BE121,BU83,IF(BP121=BF121,BV83,IF(BP121=BG121,BW83,IF(BP121=BH121,BX83,IF(BP121=BI121,BY83,CH103))))))))","v":{"$error":"#VALUE!"}},{"$f":"IF(BP121=BJ121,BZ83,IF(BP121=BK121,CA83,IF(BP121=BL121,CB83,IF(BP121=BM121,CC83,IF(BP121=BN121,CD83,IF(BP121=BO121,CE83,CO103))))))","v":{"$error":"#VALUE!"}},{"$f":"IF(AY144=AK144,BR83,IF(AY144=AL144,BS83,IF(AY144=AM144,BT83,IF(AY144=AN144,BU83,IF(AY144=AO144,BV83,IF(AY144=AP144,BW83,IF(AY144=AQ144,BX83,IF(AY144=AR144,BY83,CJ103))))))))","v":{"$error":"#VALUE!"}},{"$f":"IF(AY144=AS144,BZ83,IF(AY144=AT144,CA83,IF(AY144=AU144,CB83,IF(AY144=AV144,CC83,IF(AY144=AW144,CD83,IF(AY144=AX144,CE83,CO103))))))","v":{"$error":"#VALUE!"}},{"$f":"IF(BP144=BB144,BR83,IF(BP144=BC144,BS83,IF(BP144=BD144,BT83,IF(BP144=BE144,BU83,IF(BP144=BF144,BV83,IF(BP144=BG144,BW83,IF(BP144=BH144,BX83,IF(BP144=BI144,BY83,CL103))))))))","v":{"$error":"#VALUE!"}},{"$f":"IF(BP144=BJ144,BZ83,IF(BP144=BK144,CA83,IF(BP144=BL144,CB83,IF(BP144=BM144,CC83,IF(BP144=BN144,CD83,IF(BP144=BO144,CE83,CO103))))))","v":{"$error":"#VALUE!"}},{"$f":"IF(AY167=AK167,BR83,IF(AY167=AL167,BS83,IF(AY167=AM167,BT83,IF(AY167=AN167,BU83,IF(AY167=AO167,BV83,IF(AY167=AP167,BW83,IF(AY167=AQ167,BX83,IF(AY167=AR167,BY83,CN103))))))))","v":{"$error":"#VALUE!"}},{"$f":"IF(AY167=AS167,BZ83,IF(AY167=AT167,CA83,IF(AY167=AU167,CB83,IF(AY167=AV167,CC83,IF(AY167=AW167,CD83,IF(AY167=AX167,CE83,CO103))))))","v":{"$error":"#VALUE!"}},"-"]
[null,null,null,{"$f":"IF(MAX($I$104:$I$121)=I104,\"CAP\",\"\")","v":""},{"$f":"IF(G11<>\"\",G11,\"\")","v":""},{"$f":"VLOOKUP(E104,$AI$8:$AV$25,14,FALSE)","v":1},{"$f":"IF(G11<>\"\",(R62/100+M11/500)/100,\"\")","v":""},{"$f":"IF(G11<>\"\",IF(ISNA(IF(VLOOKUP(G11,$AI$8:$AV$25,14,FALSE)=\"\",\"\",(HLOOKUP(VLOOKUP(G11,$BA$10:$BB$20,2,FALSE),S57:AF62,6,FALSE)/100+M11/500)/100)),G104,IF(VLOOKUP(G11,$AI$8:$AV$25,14,FALSE)=\"\",\"\",(HLOOKUP(VLOOKUP(G11,$BA$10:$BB$20,2,FALSE),S57:AF62,6,FALSE)/100+M11/500)/100)),\"\")","v":""},{"$f":"IF(G11<>\"\",IF(ISNA(IF(VLOOKUP(G11,$AI$8:$AV$25,14,FALSE)=\"\",\"\",((HLOOKUP(VLOOKUP(G11,$BA$10:$BB$20,2,FALSE),$S$57:$AF$62,6,FALSE)+IF(HLOOKUP(F104,$AJ$7:$AT$31,21,FALSE)=1,D19,0))/100+M11/500)/100)),H104,IF(VLOOKUP(G11,$AI$8:$AV$25,14,FALSE)=\"\",\"\",((HLOOKUP(VLOOKUP(G11,$BA$10:$BB$20,2,FALSE),$S$57:$AF$62,6,FALSE)+IF(HLOOKUP(F104,$AJ$7:$AT$31,21,FALSE)=1,D19,0))/100+M11/500)/100)),\"\")","v":""},null,null,null,null,null,null,null,null,{"$f":"L17+AH43+D15+D17+D21+D19*AG14","v":{"$error":"#VALUE!"}},{"$f":"R104+Q14","v":{"$error":"#VALUE!"}},{"$f":"R104+R14","v":{"$error":"#VALUE!"}},{"$f":"R104+S14","v":{"$error":"#VALUE!"}},{"$f":"R104+T14","v":{"$error":"#VALUE!"}},{"$f":"R104+U14","v":{"$error":"#VALUE!"}},{"$f":"R104+V14","v":{"$error":"#VALUE!"}},{"$f":"R104+W14","v":{"$error":"#VALUE!"}},{"$f":"R104+X14","v":{"$error":"#VALUE!"}},{"$f":"R104+Y14","v":{"$error":"#VALUE!"}},{"$f":"R104+Z14","v":{"$error":"#VALUE!"}},{"$f":"R104+AA14","v":{"$error":"#VALUE!"}},{"$f":"R104+AB14","v":{"$error":"#VALUE!"}},{"$f":"R104+AC14","v":{"$error":"#VALUE!"}},{"$f":"R104+AD14","v":{"$error":"#VALUE!"}},null,null,null,"",{"$f":"MIN((S100+AN31*D19)/AK42,(S101+AN31*D19)/AL42,(S102+AN31*D19)/AM42,(S103+AN31*D19)/AN42,(S104+AN31*D19)/AO42)*AP42","v":{"$error":"#VALUE!"}},{"$f":"MIN((T100+AN31*D19)/AK42,(T101+AN31*D19)/AL42,(T102+AN31*D19)/AM42,(T103+AN31*D19)/AN42,(T104+AN31*D19)/AO42)*AP42","v":{"$error":"#VALUE!"}},{"$f":"MIN((U100+AN31*D19)/AK42,(U101+AN31*D19)/AL42,(U102+AN31*D19)/AM42,(U103+AN31*D19)/AN42,(U104+AN31*D19)/AO42)*AP42","v":{"$error":"#VALUE!"}},{"$f":"MIN((V100+AN31*D19)/AK42,(V101+AN31*D19)/AL42,(V102+AN31*D19)/AM42,(V103+AN31*D19)/AN42,(V104+AN31*D19)/AO42)*AP42","v":{"$error":"#VALUE!"}},{"$f":"MIN((W100+AN31*D19)/AK42,(W101+AN31*D19)/AL42,(W102+AN31*D19)/AM42,(W103+AN31*D19)/AN42,(W104+AN31*D19)/AO42)*AP42","v":{"$error":"#VALUE!"}},{"$f":"MIN((X100+AN31*D19)/AK42,(X101+AN31*D19)/AL42,(X102+AN31*D19)/AM42,(X103+AN31*D19)/AN42,(X104+AN31*D19)/AO42)*AP42","v":{"$error":"#VALUE!"}},{"$f":"MIN((Y100+AN31*D19)/AK42,(Y101+AN31*D19)/AL42,(Y102+AN31*D19)/AM42,(Y103+AN31*D19)/AN42,(Y104+AN31*D19)/AO42)*AP42","v":{"$error":"#VALUE!"}},{"$f":"MIN((Z100+AN31*D19)/AK42,(Z101+AN31*D19)/AL42,(Z102+AN31*D19)/AM42,(Z103+AN31*D19)/AN42,(Z104+AN31*D19)/AO42)*AP42","v":{"$error":"#VALUE!"}},{"$f":"MIN((AA100+AN31*D19)/AK42,(AA101+AN31*D19)/AL42,(AA102+AN31*D19)/AM42,(AA103+AN31*D19)/AN42,(AA104+AN31*D19)/AO42)*AP42","v":{"$error":"#VALUE!"}},{"$f":"MIN((AB100+AN31*D19)/AK42,(AB101+AN31*D19)/AL42,(AB102+AN31*D19)/AM42,(AB103+AN31*D19)/AN42,(AB104+AN31*D19)/AO42)*AP42","v":{"$error":"#VALUE!"}},{"$f":"MIN((AC100+AN31*D19)/AK42,(AC101+AN31*D19)/AL42,(AC102+AN31*D19)/AM42,(AC103+AN31*D19)/AN42,(AC104+AN31*D19)/AO42)*AP42","v":{"$error":"#VALUE!"}},{"$f":"MIN((AD100+AN31*D19)/AK42,(AD101+AN31*D19)/AL42,(AD102+AN31*D19)/AM42,(AD103+AN31*D19)/AN42,(AD104+AN31*D19)/AO42)*AP42","v":{"$error":"#VALUE!"}},{"$f":"MIN((AE100+AN31*D19)/AK42,(AE101+AN31*D19)/AL42,(AE102+AN31*D19)/AM42,(AE103+AN31*D19)/AN42,(AE104+AN31*D19)/AO42)*AP42","v":{"$error":"#VALUE!"}},{"$f":"MIN((AF100+AN31*D19)/AK42,(AF101+AN31*D19)/AL42,(AF102+AN31*D19)/AM42,(AF103+AN31*D19)/AN42,(AF104+AN31*D19)/AO42)*AP42","v":{"$error":"#VALUE!"}},{"$error":"#VALUE!"},null,"",{"$f":"MIN((S100+AO31*D19)/AK43,(S101+AO31*D19)/AL43,(S102+AO31*D19)/AM43,(S103+AO31*D19)/AN43,(S104+AO31*D19)/AO43)*AP43","v":{"$error":"#VALUE!"}},{"$f":"MIN((T100+AO31*D19)/AK43,(T101+AO31*D19)/AL43,(T102+AO31*D19)/AM43,(T103+AO31*D19)/AN43,(T104+AO31*D19)/AO43)*AP43","v":{"$error":"#VALUE!"}},{"$f":"MIN((U100+AO31*D19)/AK43,(U101+AO31*D19)/AL43,(U102+AO31*D19)/AM43,(U103+AO31*D19)/AN43,(U104+AO31*D19)/AO43)*AP43","v":{"$error":"#VALUE!"}},{"$f":"MIN((V100+AO31*D19)/AK43,(V101+AO31*D19)/AL43,(V102+AO31*D19)/AM43,(V103+AO31*D19)/AN43,(V104+AO31*D19)/AO43)*AP43","v":{"$error":"#VALUE!"}},{"$f":"MIN((W100+AO31*D19)/AK43,(W101+AO31*D19)/AL43,(W102+AO31*D19)/AM43,(W103+AO31*D19)/AN43,(W104+AO31*D19)/AO43)*AP43","v":{"$error":"#VALUE!"}},{"$f":"MIN((X100+AO31*D19)/AK43,(X101+AO31*D19)/AL43,(X102+AO31*D19)/AM43,(X103+AO31*D19)/AN43,(X104+AO31*D19)/AO43)*AP43","v":{"$error":"#VALUE!"}},{"$f":"MIN((Y100+AO31*D19)/AK43,(Y101+AO31*D19)/AL43,(Y102+AO31*D19)/AM43,(Y103+AO31*D19)/AN43,(Y104+AO31*D19)/AO43)*AP43","v":{"$error":"#VALUE!"}},{"$f":"MIN((Z100+AO31*D19)/AK43,(Z101+AO31*D19)/AL43,(Z102+AO31*D19)/AM43,(Z103+AO31*D19)/AN43,(Z104+AO31*D19)/AO43)*AP43","v":{"$error":"#VALUE!"}},{"$f":"MIN((AA100+AO31*D19)/AK43,(AA101+AO31*D19)/AL43,(AA102+AO31*D19)/AM43,(AA103+AO31*D19)/AN43,(AA104+AO31*D19)/AO43)*AP43","v":{"$error":"#VALUE!"}},{"$f":"MIN((AB100+AO31*D19)/AK43,(AB101+AO31*D19)/AL43,(AB102+AO31*D19)/AM43,(AB103+AO31*D19)/AN43,(AB104+AO31*D19)/AO43)*AP43","v":{"$error":"#VALUE!"}},{"$f":"MIN((AC100+AO31*D19)/AK43,(AC101+AO31*D19)/AL43,(AC102+AO31*D19)/AM43,(AC103+AO31*D19)/AN43,(AC104+AO31*D19)/AO43)*AP43","v":{"$error":"#VALUE!"}},{"$f":"MIN((AD100+AO31*D19)/AK43,(AD101+AO31*D19)/AL43,(AD102+AO31*D19)/AM43,(AD103+AO31*D19)/AN43,(AD104+AO31*D19)/AO43)*AP43","v":{"$error":"#VALUE!"}},{"$f":"MIN((AE100+AO31*D19)/AK43,(AE101+AO31*D19)/AL43,(AE102+AO31*D19)/AM43,(AE103+AO31*D19)/AN43,(AE104+AO31*D19)/AO43)*AP43","v":{"$error":"#VALUE!"}},{"$f":"MIN((AF100+AO31*D19)/AK43,(AF101+AO31*D19)/AL43,(AF102+AO31*D19)/AM43,(AF103+AO31*D19)/AN43,(AF104+AO31*D19)/AO43)*AP43","v":{"$error":"#VALUE!"}},{"$error":"#VALUE!"},null,"",{"$error":"#VALUE!"},{"$error":"#VALUE!"},{"$error":"#VALUE!"},{"$error":"#VALUE!"},{"$error":"#VALUE!"},{"$error":"#VALUE!"},{"$error":"#VALUE!"},{"$error":"#VALUE!"},{"$error":"#VALUE!"},{"$error":"#VALUE!"},{"$error":"#VALUE!"},{"$error":"#VALUE!"},{"$error":"#VALUE!"},{"$error":"#VALUE!"},{"$error":"#VALUE!"},{"$error":"#VALUE!"},{"$error":"#VALUE!"},{"$error":"#VALUE!"},{"$error":"#VALUE!"},{"$error":"#VALUE!"},{"$error":"#VALUE!"},{"$error":"#VALUE!"},"-"]
[null,null,null,"",{"$f":"IF(G12<>\"\",G12,\"\")","v":""},1,{"$f":"IF(G12<>\"\",(R69/100+M12/500)/100,\"\")","v":""},{"$f":"IF(G12<>\"\",IF(ISNA(IF(VLOOKUP(G12,$AI$8:$AV$25,14,FALSE)=\"\",\"\",(HLOOKUP(VLOOKUP(G12,$BA$10:$BB$20,2,FALSE),S64:AF69,6,FALSE)/100+M12/500)/100)),G105,IF(VLOOKUP(G12,$AI$8:$AV$25,14,FALSE)=\"\",\"\",(HLOOKUP(VLOOKUP(G12,$BA$10:$BB$20,2,FALSE),S64:AF69,6,FALSE)/100+M12/500)/100)),\"\")","v":""},{"$f":"IF(G12<>\"\",IF(ISNA(IF(VLOOKUP(G12,$AI$8:$AV$25,14,FALSE)=\"\",\"\",((HLOOKUP(VLOOKUP(G12,$BA$10:$BB$20,2,FALSE),$S$64:$AF$69,6,FALSE)+IF(HLOOKUP(F105,$AJ$7:$AT$31,21,FALSE)=1,D19,0))/100+M12/500)/100)),H105,IF(VLOOKUP(G12,$AI$8:$AV$25,14,FALSE)=\"\",\"\",((HLOOKUP(VLOOKUP(G12,$BA$10:$BB$20,2,FALSE),$S$64:$AF$69,6,FALSE)+IF(HLOOKUP(F105,$AJ$7:$AT$31,21,FALSE)=1,D19,0))/100+M12/500)/100)),\"\")","v":""},null,null,null,null,null,null,null,null,null,null,null,null,null,null,null,null,null,null,null,null,null,null,null,null,null,null,"",{"$f":"MIN((S107+AN31*D19)/AK42,(S108+AN31*D19)/AL42,(S109+AN31*D19)/AM42,(S110+AN31*D19)/AN42,(S111+AN31*D19)/AO42)*AP42","v":{"$error":"#VALUE!"}},{"$f":"MIN((T107+AN31*D19)/AK42,(T108+AN31*D19)/AL42,(T109+AN31*D19)/AM42,(T110+AN31*D19)/AN42,(T111+AN31*D19)/AO42)*AP42","v":{"$error":"#VALUE!"}},{"$f":"MIN((U107+AN31*D19)/AK42,(U108+AN31*D19)/AL42,(U109+AN31*D19)/AM42,(U110+AN31*D19)/AN42,(U111+AN31*D19)/AO42)*AP42","v":{"$error":"#VALUE!"}},{"$f":"MIN((V107+AN31*D19)/AK42,(V108+AN31*D19)/AL42,(V109+AN31*D19)/AM42,(V110+AN31*D19)/AN42,(V111+AN31*D19)/AO42)*AP42","v":{"$error":"#VALUE!"}},{"$f":"MIN((W107+AN31*D19)/AK42,(W108+AN31*D19)/AL42,(W109+AN31*D19)/AM42,(W110+AN31*D19)/AN42,(W111+AN31*D19)/AO42)*AP42","v":{"$error":"#VALUE!"}},{"$f":"MIN((X107+AN31*D19)/AK42,(X108+AN31*D19)/AL42,(X109+AN31*D19)/AM42,(X110+AN31*D19)/AN42,(X111+AN31*D19)/AO42)*AP42","v":{"$error":"#VALUE!"}},{"$f":"MIN((Y107+AN31*D19)/AK42,(Y108+AN31*D19)/AL42,(Y109+AN31*D19)/AM42,(Y110+AN31*D19)/AN42,(Y111+AN31*D19)/AO42)*AP42","v":{"$error":"#VALUE!"}},{"$f":"MIN((Z107+AN31*D19)/AK42,(Z108+AN31*D19)/AL42,(Z109+AN31*D19)/AM42,(Z110+AN31*D19)/AN42,(Z111+AN31*D19)/AO42)*AP42","v":{"$error":"#VALUE!"}},{"$f":"MIN((AA107+AN31*D19)/AK42,(AA108+AN31*D19)/AL42,(AA109+AN31*D19)/AM42,(AA110+AN31*D19)/AN42,(AA111+AN31*D19)/AO42)*AP42","v":{"$error":"#VALUE!"}},{"$f":"MIN((AB107+AN31*D19)/AK42,(AB108+AN31*D19)/AL42,(AB109+AN31*D19)/AM42,(AB110+AN31*D19)/AN42,(AB111+AN31*D19)/AO42)*AP42","v":{"$error":"#VALUE!"}},{"$f":"MIN((AC107+AN31*D19)/AK42,(AC108+AN31*D19)/AL42,(AC109+AN31*D19)/AM42,(AC110+AN31*D19)/AN42,(AC111+AN31*D19)/AO42)*AP42","v":{"$error":"#VALUE!"}},{"$f":"MIN((AD107+AN31*D19)/AK42,(AD108+AN31*D19)/AL42,(AD109+AN31*D19)/AM42,(AD110+AN31*D19)/AN42,(AD111+AN31*D19)/AO42)*AP42","v":{"$error":"#VALUE!"}},{"$f":"MIN((AE107+AN31*D19)/AK42,(AE108+AN31*D19)/AL42,(AE109+AN31*D19)/AM42,(AE110+AN31*D19)/AN42,(AE111+AN31*D19)/AO42)*AP42","v":{"$error":"#VALUE!"}},{"$f":"MIN((AF107+AN31*D19)/AK42,(AF108+AN31*D19)/AL42,(AF109+AN31*D19)/AM42,(AF110+AN31*D19)/AN42,(AF111+AN31*D19)/AO42)*AP42","v":{"$error":"#VALUE!"}},{"$error":"#VALUE!"},null,"",{"$f":"MIN((S107+AO31*D19)/AK43,(S108+AO31*D19)/AL43,(S109+AO31*D19)/AM43,(S110+AO31*D19)/AN43,(S111+AO31*D19)/AO43)*AP43","v":{"$error":"#VALUE!"}},{"$f":"MIN((T107+AO31*D19)/AK43,(T108+AO31*D19)/AL43,(T109+AO31*D19)/AM43,(T110+AO31*D19)/AN43,(T111+AO31*D19)/AO43)*AP43","v":{"$error":"#VALUE!"}},{"$f":"MIN((U107+AO31*D19)/AK43,(U108+AO31*D19)/AL43,(U109+AO31*D19)/AM43,(U110+AO31*D19)/AN43,(U111+AO31*D19)/AO43)*AP43","v":{"$error":"#VALUE!"}},{"$f":"MIN((V107+AO31*D19)/AK43,(V108+AO31*D19)/AL43,(V109+AO31*D19)/AM43,(V110+AO31*D19)/AN43,(V111+AO31*D19)/AO43)*AP43","v":{"$error":"#VALUE!"}},{"$f":"MIN((W107+AO31*D19)/AK43,(W108+AO31*D19)/AL43,(W109+AO31*D19)/AM43,(W110+AO31*D19)/AN43,(W111+AO31*D19)/AO43)*AP43","v":{"$error":"#VALUE!"}},{"$f":"MIN((X107+AO31*D19)/AK43,(X108+AO31*D19)/AL43,(X109+AO31*D19)/AM43,(X110+AO31*D19)/AN43,(X111+AO31*D19)/AO43)*AP43","v":{"$error":"#VALUE!"}},{"$f":"MIN((Y107+AO31*D19)/AK43,(Y108+AO31*D19)/AL43,(Y109+AO31*D19)/AM43,(Y110+AO31*D19)/AN43,(Y111+AO31*D19)/AO43)*AP43","v":{"$error":"#VALUE!"}},{"$f":"MIN((Z107+AO31*D19)/AK43,(Z108+AO31*D19)/AL43,(Z109+AO31*D19)/AM43,(Z110+AO31*D19)/AN43,(Z111+AO31*D19)/AO43)*AP43","v":{"$error":"#VALUE!"}},{"$f":"MIN((AA107+AO31*D19)/AK43,(AA108+AO31*D19)/AL43,(AA109+AO31*D19)/AM43,(AA110+AO31*D19)/AN43,(AA111+AO31*D19)/AO43)*AP43","v":{"$error":"#VALUE!"}},{"$f":"MIN((AB107+AO31*D19)/AK43,(AB108+AO31*D19)/AL43,(AB109+AO31*D19)/AM43,(AB110+AO31*D19)/AN43,(AB111+AO31*D19)/AO43)*AP43","v":{"$error":"#VALUE!"}},{"$f":"MIN((AC107+AO31*D19)/AK43,(AC108+AO31*D19)/AL43,(AC109+AO31*D19)/AM43,(AC110+AO31*D19)/AN43,(AC111+AO31*D19)/AO43)*AP43","v":{"$error":"#VALUE!"}},{"$f":"MIN((AD107+AO31*D19)/AK43,(AD108+AO31*D19)/AL43,(AD109+AO31*D19)/AM43,(AD110+AO31*D19)/AN43,(AD111+AO31*D19)/AO43)*AP43","v":{"$error":"#VALUE!"}},{"$f":"MIN((AE107+AO31*D19)/AK43,(AE108+AO31*D19)/AL43,(AE109+AO31*D19)/AM43,(AE110+AO31*D19)/AN43,(AE111+AO31*D19)/AO43)*AP43","v":{"$error":"#VALUE!"}},{"$f":"MIN((AF107+AO31*D19)/AK43,(AF108+AO31*D19)/AL43,(AF109+AO31*D19)/AM43,(AF110+AO31*D19)/AN43,(AF111+AO31*D19)/AO43)*AP43","v":{"$error":"#VALUE!"}},{"$error":"#VALUE!"},null,"",{"$error":"#VALUE!"},{"$error":"#VALUE!"},{"$error":"#VALUE!"},{"$error":"#VALUE!"},{"$error":"#VALUE!"},{"$error":"#VALUE!"},{"$error":"#VALUE!"},{"$error":"#VALUE!"},{"$error":"#VALUE!"},{"$error":"#VALUE!"},{"$error":"#VALUE!"},{"$error":"#VALUE!"},{"$error":"#VALUE!"},{"$error":"#VALUE!"},{"$error":"#VALUE!"},{"$error":"#VALUE!"},{"$error":"#VALUE!"},{"$error":"#VALUE!"},{"$error":"#VALUE!"},{"$error":"#VALUE!"},{"$error":"#VALUE!"},{"$error":"#VALUE!"},"-"]
[null,null,null,"","",1,{"$f":"IF(G13<>\"\",(R76/100+M13/500)/100,\"\")","v":""},{"$f":"IF(G13<>\"\",IF(ISNA(IF(VLOOKUP(G13,$AI$8:$AV$25,14,FALSE)=\"\",\"\",(HLOOKUP(VLOOKUP(G13,$BA$10:$BB$20,2,FALSE),S71:AF76,6,FALSE)/100+M13/500)/100)),G106,IF(VLOOKUP(G13,$AI$8:$AV$25,14,FALSE)=\"\",\"\",(HLOOKUP(VLOOKUP(G13,$BA$10:$BB$20,2,FALSE),S71:AF76,6,FALSE)/100+M13/500)/100)),\"\")","v":""},{"$f":"IF(G13<>\"\",IF(ISNA(IF(VLOOKUP(G13,$AI$8:$AV$25,14,FALSE)=\"\",\"\",((HLOOKUP(VLOOKUP(G13,$BA$10:$BB$20,2,FALSE),$S$71:$AF$76,6,FALSE)+IF(HLOOKUP(F106,$AJ$7:$AT$31,21,FALSE)=1,D19,0))/100+M13/500)/100)),H106,IF(VLOOKUP(G13,$AI$8:$AV$25,14,FALSE)=\"\",\"\",((HLOOKUP(VLOOKUP(G13,$BA$10:$BB$20,2,FALSE),$S$71:$AF$76,6,FALSE)+IF(HLOOKUP(F106,$AJ$7:$AT$31,21,FALSE)=1,D19,0))/100+M13/500)/100)),\"\")","v":""},null,null,null,null,null,null,null,null,{"$f":"G18","v":""},{"$f":"S99","v":"kit 1"},{"$f":"T99","v":"kit 2A"},"kit 2B","kit 4A","kit 4B","kit 5","kit 6A","kit 6B","kit 7","kit 8","kit 9A","kit 9B",{"$f":"AE99","v":"kit 10"},{"$f":"AF99","v":"kit 11"},null,null,null,"",{"$f":"MIN((S114+AN31*D19)/AK42,(S115+AN31*D19)/AL42,(S116+AN31*D19)/AM42,(S117+AN31*D19)/AN42,(S118+AN31*D19)/AO42)*AP42","v":{"$error":"#VALUE!"}},{"$f":"MIN((T114+AN31*D19)/AK42,(T115+AN31*D19)/AL42,(T116+AN31*D19)/AM42,(T117+AN31*D19)/AN42,(T118+AN31*D19)/AO42)*AP42","v":{"$error":"#VALUE!"}},{"$f":"MIN((U114+AN31*D19)/AK42,(U115+AN31*D19)/AL42,(U116+AN31*D19)/AM42,(U117+AN31*D19)/AN42,(U118+AN31*D19)/AO42)*AP42","v":{"$error":"#VALUE!"}},{"$f":"MIN((V114+AN31*D19)/AK42,(V115+AN31*D19)/AL42,(V116+AN31*D19)/AM42,(V117+AN31*D19)/AN42,(V118+AN31*D19)/AO42)*AP42","v":{"$error":"#VALUE!"}},{"$f":"MIN((W114+AN31*D19)/AK42,(W115+AN31*D19)/AL42,(W116+AN31*D19)/AM42,(W117+AN31*D19)/AN42,(W118+AN31*D19)/AO42)*AP42","v":{"$error":"#VALUE!"}},{"$f":"MIN((X114+AN31*D19)/AK42,(X115+AN31*D19)/AL42,(X116+AN31*D19)/AM42,(X117+AN31*D19)/AN42,(X118+AN31*D19)/AO42)*AP42","v":{"$error":"#VALUE!"}},{"$f":"MIN((Y114+AN31*D19)/AK42,(Y115+AN31*D19)/AL42,(Y116+AN31*D19)/AM42,(Y117+AN31*D19)/AN42,(Y118+AN31*D19)/AO42)*AP42","v":{"$error":"#VALUE!"}},{"$f":"MIN((Z114+AN31*D19)/AK42,(Z115+AN31*D19)/AL42,(Z116+AN31*D19)/AM42,(Z117+AN31*D19)/AN42,(Z118+AN31*D19)/AO42)*AP42","v":{"$error":"#VALUE!"}},{"$f":"MIN((AA114+AN31*D19)/AK42,(AA115+AN31*D19)/AL42,(AA116+AN31*D19)/AM42,(AA117+AN31*D19)/AN42,(AA118+AN31*D19)/AO42)*AP42","v":{"$error":"#VALUE!"}},{"$f":"MIN((AB114+AN31*D19)/AK42,(AB115+AN31*D19)/AL42,(AB116+AN31*D19)/AM42,(AB117+AN31*D19)/AN42,(AB118+AN31*D19)/AO42)*AP42","v":{"$error":"#VALUE!"}},{"$f":"MIN((AC114+AN31*D19)/AK42,(AC115+AN31*D19)/AL42,(AC116+AN31*D19)/AM42,(AC117+AN31*D19)/AN42,(AC118+AN31*D19)/AO42)*AP42","v":{"$error":"#VALUE!"}},{"$f":"MIN((AD114+AN31*D19)/AK42,(AD115+AN31*D19)/AL42,(AD116+AN31*D19)/AM42,(AD117+AN31*D19)/AN42,(AD118+AN31*D19)/AO42)*AP42","v":{"$error":"#VALUE!"}},{"$f":"MIN((AE114+AN31*D19)/AK42,(AE115+AN31*D19)/AL42,(AE116+AN31*D19)/AM42,(AE117+AN31*D19)/AN42,(AE118+AN31*D19)/AO42)*AP42","v":{"$error":"#VALUE!"}},{"$f":"MIN((AF114+AN31*D19)/AK42,(AF115+AN31*D19)/AL42,(AF116+AN31*D19)/AM42,(AF117+AN31*D19)/AN42,(AF118+AN31*D19)/AO42)*AP42","v":{"$error":"#VALUE!"}},{"$error":"#VALUE!"},null,"",{"$f":"MIN((S114+AO31*D19)/AK43,(S115+AO31*D19)/AL43,(S116+AO31*D19)/AM43,(S117+AO31*D19)/AN43,(S118+AO31*D19)/AO43)*AP43","v":{"$error":"#VALUE!"}},{"$f":"MIN((T114+AO31*D19)/AK43,(T115+AO31*D19)/AL43,(T116+AO31*D19)/AM43,(T117+AO31*D19)/AN43,(T118+AO31*D19)/AO43)*AP43","v":{"$error":"#VALUE!"}},{"$f":"MIN((U114+AO31*D19)/AK43,(U115+AO31*D19)/AL43,(U116+AO31*D19)/AM43,(U117+AO31*D19)/AN43,(U118+AO31*D19)/AO43)*AP43","v":{"$error":"#VALUE!"}},{"$f":"MIN((V114+AO31*D19)/AK43,(V115+AO31*D19)/AL43,(V116+AO31*D19)/AM43,(V117+AO31*D19)/AN43,(V118+AO31*D19)/AO43)*AP43","v":{"$error":"#VALUE!"}},{"$f":"MIN((W114+AO31*D19)/AK43,(W115+AO31*D19)/AL43,(W116+AO31*D19)/AM43,(W117+AO31*D19)/AN43,(W118+AO31*D19)/AO43)*AP43","v":{"$error":"#VALUE!"}},{"$f":"MIN((X114+AO31*D19)/AK43,(X115+AO31*D19)/AL43,(X116+AO31*D19)/AM43,(X117+AO31*D19)/AN43,(X118+AO31*D19)/AO43)*AP43","v":{"$error":"#VALUE!"}},{"$f":"MIN((Y114+AO31*D19)/AK43,(Y115+AO31*D19)/AL43,(Y116+AO31*D19)/AM43,(Y117+AO31*D19)/AN43,(Y118+AO31*D19)/AO43)*AP43","v":{"$error":"#VALUE!"}},{"$f":"MIN((Z114+AO31*D19)/AK43,(Z115+AO31*D19)/AL43,(Z116+AO31*D19)/AM43,(Z117+AO31*D19)/AN43,(Z118+AO31*D19)/AO43)*AP43","v":{"$error":"#VALUE!"}},{"$f":"MIN((AA114+AO31*D19)/AK43,(AA115+AO31*D19)/AL43,(AA116+AO31*D19)/AM43,(AA117+AO31*D19)/AN43,(AA118+AO31*D19)/AO43)*AP43","v":{"$error":"#VALUE!"}},{"$f":"MIN((AB114+AO31*D19)/AK43,(AB115+AO31*D19)/AL43,(AB116+AO31*D19)/AM43,(AB117+AO31*D19)/AN43,(AB118+AO31*D19)/AO43)*AP43","v":{"$error":"#VALUE!"}},{"$f":"MIN((AC114+AO31*D19)/AK43,(AC115+AO31*D19)/AL43,(AC116+AO31*D19)/AM43,(AC117+AO31*D19)/AN43,(AC118+AO31*D19)/AO43)*AP43","v":{"$error":"#VALUE!"}},{"$f":"MIN((AD114+AO31*D19)/AK43,(AD115+AO31*D19)/AL43,(AD116+AO31*D19)/AM43,(AD117+AO31*D19)/AN43,(AD118+AO31*D19)/AO43)*AP43","v":{"$error":"#VALUE!"}},{"$f":"MIN((AE114+AO31*D19)/AK43,(AE115+AO31*D19)/AL43,(AE116+AO31*D19)/AM43,(AE117+AO31*D19)/AN43,(AE118+AO31*D19)/AO43)*AP43","v":{"$error":"#VALUE!"}},{"$f":"MIN((AF114+AO31*D19)/AK43,(AF115+AO31*D19)/AL43,(AF116+AO31*D19)/AM43,(AF117+AO31*D19)/AN43,(AF118+AO31*D19)/AO43)*AP43","v":{"$error":"#VALUE!"}},{"$error":"#VALUE!"},null,"",{"$error":"#VALUE!"},{"$error":"#VALUE!"},{"$error":"#VALUE!"},{"$error":"#VALUE!"},{"$error":"#VALUE!"},{"$error":"#VALUE!"},{"$error":"#VALUE!"},{"$error":"#VALUE!"},{"$error":"#VALUE!"},{"$error":"#VALUE!"},{"$error":"#VALUE!"},{"$error":"#VALUE!"},{"$error":"#VALUE!"},{"$error":"#VALUE!"},{"$error":"#VALUE!"},{"$error":"#VALUE!"},{"$error":"#VALUE!"},{"$error":"#VALUE!"},{"$error":"#VALUE!"},{"$error":"#VALUE!"},{"$error":"#VALUE!"},{"$error":"#VALUE!"},"-"]
[null,null,null,"","",1,{"$f":"IF(G14<>\"\",(R83/100+M14/500)/100,\"\")","v":""},{"$f":"IF(G14<>\"\",IF(ISNA(IF(VLOOKUP(G14,$AI$8:$AV$25,14,FALSE)=\"\",\"\",(HLOOKUP(VLOOKUP(G14,$BA$10:$BB$20,2,FALSE),S78:AF83,6,FALSE)/100+M14/500)/100)),G107,IF(VLOOKUP(G14,$AI$8:$AV$25,14,FALSE)=\"\",\"\",(HLOOKUP(VLOOKUP(G14,$BA$10:$BB$20,2,FALSE),S78:AF83,6,FALSE)/100+M14/500)/100)),\"\")","v":""},{"$f":"IF(G14<>\"\",IF(ISNA(IF(VLOOKUP(G14,$AI$8:$AV$25,14,FALSE)=\"\",\"\",((HLOOKUP(VLOOKUP(G14,$BA$10:$BB$20,2,FALSE),$S$78:$AF$83,6,FALSE)+IF(HLOOKUP(F107,$AJ$7:$AT$31,21,FALSE)=1,D19,0))/100+M14/500)/100)),H107,IF(VLOOKUP(G14,$AI$8:$AV$25,14,FALSE)=\"\",\"\",((HLOOKUP(VLOOKUP(G14,$BA$10:$BB$20,2,FALSE),$S$78:$AF$83,6,FALSE)+IF(HLOOKUP(F107,$AJ$7:$AT$31,21,FALSE)=1,D19,0))/100+M14/500)/100)),\"\")","v":""},null,null,null,null,null,null,null,null,{"$f":"H18+AH39+D16+D17+D21+D19*AG15","v":{"$error":"#VALUE!"}},{"$f":"R107+Q10","v":{"$error":"#VALUE!"}},{"$f":"R107+R10","v":{"$error":"#VALUE!"}},{"$f":"R107+S10","v":{"$error":"#VALUE!"}},{"$f":"R107+T10","v":{"$error":"#VALUE!"}},{"$f":"R107+U10","v":{"$error":"#VALUE!"}},{"$f":"R107+V10","v":{"$error":"#VALUE!"}},{"$f":"R107+W10","v":{"$error":"#VALUE!"}},{"$f":"R107+X10","v":{"$error":"#VALUE!"}},{"$f":"R107+Y10","v":{"$error":"#VALUE!"}},{"$f":"R107+Z10","v":{"$error":"#VALUE!"}},{"$f":"R107+AA10","v":{"$error":"#VALUE!"}},{"$f":"R107+AB10","v":{"$error":"#VALUE!"}},{"$f":"R107+AC10","v":{"$error":"#VALUE!"}},{"$f":"R107+AD10","v":{"$error":"#VALUE!"}},null,null,null,"",{"$f":"MIN((S121+AN31*D19)/AK42,(S122+AN31*D19)/AL42,(S123+AN31*D19)/AM42,(S124+AN31*D19)/AN42,(S125+AN31*D19)/AO42)*AP42","v":{"$error":"#VALUE!"}},{"$f":"MIN((T121+AN31*D19)/AK42,(T122+AN31*D19)/AL42,(T123+AN31*D19)/AM42,(T124+AN31*D19)/AN42,(T125+AN31*D19)/AO42)*AP42","v":{"$error":"#VALUE!"}},{"$f":"MIN((U121+AN31*D19)/AK42,(U122+AN31*D19)/AL42,(U123+AN31*D19)/AM42,(U124+AN31*D19)/AN42,(U125+AN31*D19)/AO42)*AP42","v":{"$error":"#VALUE!"}},{"$f":"MIN((V121+AN31*D19)/AK42,(V122+AN31*D19)/AL42,(V123+AN31*D19)/AM42,(V124+AN31*D19)/AN42,(V125+AN31*D19)/AO42)*AP42","v":{"$error":"#VALUE!"}},{"$f":"MIN((W121+AN31*D19)/AK42,(W122+AN31*D19)/AL42,(W123+AN31*D19)/AM42,(W124+AN31*D19)/AN42,(W125+AN31*D19)/AO42)*AP42","v":{"$error":"#VALUE!"}},{"$f":"MIN((X121+AN31*D19)/AK42,(X122+AN31*D19)/AL42,(X123+AN31*D19)/AM42,(X124+AN31*D19)/AN42,(X125+AN31*D19)/AO42)*AP42","v":{"$error":"#VALUE!"}},{"$f":"MIN((Y121+AN31*D19)/AK42,(Y122+AN31*D19)/AL42,(Y123+AN31*D19)/AM42,(Y124+AN31*D19)/AN42,(Y125+AN31*D19)/AO42)*AP42","v":{"$error":"#VALUE!"}},{"$f":"MIN((Z121+AN31*D19)/AK42,(Z122+AN31*D19)/AL42,(Z123+AN31*D19)/AM42,(Z124+AN31*D19)/AN42,(Z125+AN31*D19)/AO42)*AP42","v":{"$error":"#VALUE!"}},{"$f":"MIN((AA121+AN31*D19)/AK42,(AA122+AN31*D19)/AL42,(AA123+AN31*D19)/AM42,(AA124+AN31*D19)/AN42,(AA125+AN31*D19)/AO42)*AP42","v":{"$error":"#VALUE!"}},{"$f":"MIN((AB121+AN31*D19)/AK42,(AB122+AN31*D19)/AL42,(AB123+AN31*D19)/AM42,(AB124+AN31*D19)/AN42,(AB125+AN31*D19)/AO42)*AP42","v":{"$error":"#VALUE!"}},{"$f":"MIN((AC121+AN31*D19)/AK42,(AC122+AN31*D19)/AL42,(AC123+AN31*D19)/AM42,(AC124+AN31*D19)/AN42,(AC125+AN31*D19)/AO42)*AP42","v":{"$error":"#VALUE!"}},{"$f":"MIN((AD121+AN31*D19)/AK42,(AD122+AN31*D19)/AL42,(AD123+AN31*D19)/AM42,(AD124+AN31*D19)/AN42,(AD125+AN31*D19)/AO42)*AP42","v":{"$error":"#VALUE!"}},{"$f":"MIN((AE121+AN31*D19)/AK42,(AE122+AN31*D19)/AL42,(AE123+AN31*D19)/AM42,(AE124+AN31*D19)/AN42,(AE125+AN31*D19)/AO42)*AP42","v":{"$error":"#VALUE!"}},{"$f":"MIN((AF121+AN31*D19)/AK42,(AF122+AN31*D19)/AL42,(AF123+AN31*D19)/AM42,(AF124+AN31*D19)/AN42,(AF125+AN31*D19)/AO42)*AP42","v":{"$error":"#VALUE!"}},{"$error":"#VALUE!"},null,"",{"$f":"MIN((S121+AO31*D19)/AK43,(S122+AO31*D19)/AL43,(S123+AO31*D19)/AM43,(S124+AO31*D19)/AN43,(S125+AO31*D19)/AO43)*AP43","v":{"$error":"#VALUE!"}},{"$f":"MIN((T121+AO31*D19)/AK43,(T122+AO31*D19)/AL43,(T123+AO31*D19)/AM43,(T124+AO31*D19)/AN43,(T125+AO31*D19)/AO43)*AP43","v":{"$error":"#VALUE!"}},{"$f":"MIN((U121+AO31*D19)/AK43,(U122+AO31*D19)/AL43,(U123+AO31*D19)/AM43,(U124+AO31*D19)/AN43,(U125+AO31*D19)/AO43)*AP43","v":{"$error":"#VALUE!"}},{"$f":"MIN((V121+AO31*D19)/AK43,(V122+AO31*D19)/AL43,(V123+AO31*D19)/AM43,(V124+AO31*D19)/AN43,(V125+AO31*D19)/AO43)*AP43","v":{"$error":"#VALUE!"}},{"$f":"MIN((W121+AO31*D19)/AK43,(W122+AO31*D19)/AL43,(W123+AO31*D19)/AM43,(W124+AO31*D19)/AN43,(W125+AO31*D19)/AO43)*AP43","v":{"$error":"#VALUE!"}},{"$f":"MIN((X121+AO31*D19)/AK43,(X122+AO31*D19)/AL43,(X123+AO31*D19)/AM43,(X124+AO31*D19)/AN43,(X125+AO31*D19)/AO43)*AP43","v":{"$error":"#VALUE!"}},{"$f":"MIN((Y121+AO31*D19)/AK43,(Y122+AO31*D19)/AL43,(Y123+AO31*D19)/AM43,(Y124+AO31*D19)/AN43,(Y125+AO31*D19)/AO43)*AP43","v":{"$error":"#VALUE!"}},{"$f":"MIN((Z121+AO31*D19)/AK43,(Z122+AO31*D19)/AL43,(Z123+AO31*D19)/AM43,(Z124+AO31*D19)/AN43,(Z125+AO31*D19)/AO43)*AP43","v":{"$error":"#VALUE!"}},{"$f":"MIN((AA121+AO31*D19)/AK43,(AA122+AO31*D19)/AL43,(AA123+AO31*D19)/AM43,(AA124+AO31*D19)/AN43,(AA125+AO31*D19)/AO43)*AP43","v":{"$error":"#VALUE!"}},{"$f":"MIN((AB121+AO31*D19)/AK43,(AB122+AO31*D19)/AL43,(AB123+AO31*D19)/AM43,(AB124+AO31*D19)/AN43,(AB125+AO31*D19)/AO43)*AP43","v":{"$error":"#VALUE!"}},{"$f":"MIN((AC121+AO31*D19)/AK43,(AC122+AO31*D19)/AL43,(AC123+AO31*D19)/AM43,(AC124+AO31*D19)/AN43,(AC125+AO31*D19)/AO43)*AP43","v":{"$error":"#VALUE!"}},{"$f":"MIN((AD121+AO31*D19)/AK43,(AD122+AO31*D19)/AL43,(AD123+AO31*D19)/AM43,(AD124+AO31*D19)/AN43,(AD125+AO31*D19)/AO43)*AP43","v":{"$error":"#VALUE!"}},{"$f":"MIN((AE121+AO31*D19)/AK43,(AE122+AO31*D19)/AL43,(AE123+AO31*D19)/AM43,(AE124+AO31*D19)/AN43,(AE125+AO31*D19)/AO43)*AP43","v":{"$error":"#VALUE!"}},{"$f":"MIN((AF121+AO31*D19)/AK43,(AF122+AO31*D19)/AL43,(AF123+AO31*D19)/AM43,(AF124+AO31*D19)/AN43,(AF125+AO31*D19)/AO43)*AP43","v":{"$error":"#VALUE!"}},{"$error":"#VALUE!"},null,"",{"$error":"#VALUE!"},{"$error":"#VALUE!"},{"$error":"#VALUE!"},{"$error":"#VALUE!"},{"$error":"#VALUE!"},{"$error":"#VALUE!"},{"$error":"#VALUE!"},{"$error":"#VALUE!"},{"$error":"#VALUE!"},{"$error":"#VALUE!"},{"$error":"#VALUE!"},{"$error":"#VALUE!"},{"$error":"#VALUE!"},{"$error":"#VALUE!"},{"$error":"#VALUE!"},{"$error":"#VALUE!"},{"$error":"#VALUE!"},{"$error":"#VALUE!"},{"$error":"#VALUE!"},{"$error":"#VALUE!"},{"$error":"#VALUE!"},{"$error":"#VALUE!"},"-"]
[null,null,null,"","",1,{"$f":"IF(G15<>\"\",(R90/100+M15/500)/100,\"\")","v":""},{"$f":"IF(G15<>\"\",IF(ISNA(IF(VLOOKUP(G15,$AI$8:$AV$25,14,FALSE)=\"\",\"\",(HLOOKUP(VLOOKUP(G15,$BA$10:$BB$20,2,FALSE),S85:AF90,6,FALSE)/100+M15/500)/100)),G108,IF(VLOOKUP(G15,$AI$8:$AV$25,14,FALSE)=\"\",\"\",(HLOOKUP(VLOOKUP(G15,$BA$10:$BB$20,2,FALSE),S85:AF90,6,FALSE)/100+M15/500)/100)),\"\")","v":""},{"$f":"IF(G15<>\"\",IF(ISNA(IF(VLOOKUP(G15,$AI$8:$AV$25,14,FALSE)=\"\",\"\",((HLOOKUP(VLOOKUP(G15,$BA$10:$BB$20,2,FALSE),$S$85:$AF$90,6,FALSE)+IF(HLOOKUP(F108,$AJ$7:$AT$31,21,FALSE)=1,D19,0))/100+M15/500)/100)),H108,IF(VLOOKUP(G15,$AI$8:$AV$25,14,FALSE)=\"\",\"\",((HLOOKUP(VLOOKUP(G15,$BA$10:$BB$20,2,FALSE),$S$85:$AF$90,6,FALSE)+IF(HLOOKUP(F108,$AJ$7:$AT$31,21,FALSE)=1,D19,0))/100+M15/500)/100)),\"\")","v":""},null,null,null,null,null,null,null,null,{"$f":"I18+AH40+D15+D17+D21+D19*AG15","v":{"$error":"#VALUE!"}},{"$f":"R108+Q11","v":{"$error":"#VALUE!"}},{"$f":"R108+R11","v":{"$error":"#VALUE!"}},{"$f":"R108+S11","v":{"$error":"#VALUE!"}},{"$f":"R108+T11","v":{"$error":"#VALUE!"}},{"$f":"R108+U11","v":{"$error":"#VALUE!"}},{"$f":"R108+V11","v":{"$error":"#VALUE!"}},{"$f":"R108+W11","v":{"$error":"#VALUE!"}},{"$f":"R108+X11","v":{"$error":"#VALUE!"}},{"$f":"R108+Y11","v":{"$error":"#VALUE!"}},{"$f":"R108+Z11","v":{"$error":"#VALUE!"}},{"$f":"R108+AA11","v":{"$error":"#VALUE!"}},{"$f":"R108+AB11","v":{"$error":"#VALUE!"}},{"$f":"R108+AC11","v":{"$error":"#VALUE!"}},{"$f":"R108+AD11","v":{"$error":"#VALUE!"}},null,null,null,"",{"$f":"MIN((S128+AN31*D19)/AK42,(S129+AN31*D19)/AL42,(S130+AN31*D19)/AM42,(S131+AN31*D19)/AN42,(S132+AN31*D19)/AO42)*AP42","v":{"$error":"#VALUE!"}},{"$f":"MIN((T128+AN31*D19)/AK42,(T129+AN31*D19)/AL42,(T130+AN31*D19)/AM42,(T131+AN31*D19)/AN42,(T132+AN31*D19)/AO42)*AP42","v":{"$error":"#VALUE!"}},{"$f":"MIN((U128+AN31*D19)/AK42,(U129+AN31*D19)/AL42,(U130+AN31*D19)/AM42,(U131+AN31*D19)/AN42,(U132+AN31*D19)/AO42)*AP42","v":{"$error":"#VALUE!"}},{"$f":"MIN((V128+AN31*D19)/AK42,(V129+AN31*D19)/AL42,(V130+AN31*D19)/AM42,(V131+AN31*D19)/AN42,(V132+AN31*D19)/AO42)*AP42","v":{"$error":"#VALUE!"}},{"$f":"MIN((W128+AN31*D19)/AK42,(W129+AN31*D19)/AL42,(W130+AN31*D19)/AM42,(W131+AN31*D19)/AN42,(W132+AN31*D19)/AO42)*AP42","v":{"$error":"#VALUE!"}},{"$f":"MIN((X128+AN31*D19)/AK42,(X129+AN31*D19)/AL42,(X130+AN31*D19)/AM42,(X131+AN31*D19)/AN42,(X132+AN31*D19)/AO42)*AP42","v":{"$error":"#VALUE!"}},{"$f":"MIN((Y128+AN31*D19)/AK42,(Y129+AN31*D19)/AL42,(Y130+AN31*D19)/AM42,(Y131+AN31*D19)/AN42,(Y132+AN31*D19)/AO42)*AP42","v":{"$error":"#VALUE!"}},{"$f":"MIN((Z128+AN31*D19)/AK42,(Z129+AN31*D19)/AL42,(Z130+AN31*D19)/AM42,(Z131+AN31*D19)/AN42,(Z132+AN31*D19)/AO42)*AP42","v":{"$error":"#VALUE!"}},{"$f":"MIN((AA128+AN31*D19)/AK42,(AA129+AN31*D19)/AL42,(AA130+AN31*D19)/AM42,(AA131+AN31*D19)/AN42,(AA132+AN31*D19)/AO42)*AP42","v":{"$error":"#VALUE!"}},{"$f":"MIN((AB128+AN31*D19)/AK42,(AB129+AN31*D19)/AL42,(AB130+AN31*D19)/AM42,(AB131+AN31*D19)/AN42,(AB132+AN31*D19)/AO42)*AP42","v":{"$error":"#VALUE!"}},{"$f":"MIN((AC128+AN31*D19)/AK42,(AC129+AN31*D19)/AL42,(AC130+AN31*D19)/AM42,(AC131+AN31*D19)/AN42,(AC132+AN31*D19)/AO42)*AP42","v":{"$error":"#VALUE!"}},{"$f":"MIN((AD128+AN31*D19)/AK42,(AD129+AN31*D19)/AL42,(AD130+AN31*D19)/AM42,(AD131+AN31*D19)/AN42,(AD132+AN31*D19)/AO42)*AP42","v":{"$error":"#VALUE!"}},{"$f":"MIN((AE128+AN31*D19)/AK42,(AE129+AN31*D19)/AL42,(AE130+AN31*D19)/AM42,(AE131+AN31*D19)/AN42,(AE132+AN31*D19)/AO42)*AP42","v":{"$error":"#VALUE!"}},{"$f":"MIN((AF128+AN31*D19)/AK42,(AF129+AN31*D19)/AL42,(AF130+AN31*D19)/AM42,(AF131+AN31*D19)/AN42,(AF132+AN31*D19)/AO42)*AP42","v":{"$error":"#VALUE!"}},{"$error":"#VALUE!"},null,"",{"$f":"MIN((S128+AO31*D19)/AK43,(S129+AO31*D19)/AL43,(S130+AO31*D19)/AM43,(S131+AO31*D19)/AN43,(S132+AO31*D19)/AO43)*AP43","v":{"$error":"#VALUE!"}},{"$f":"MIN((T128+AO31*D19)/AK43,(T129+AO31*D19)/AL43,(T130+AO31*D19)/AM43,(T131+AO31*D19)/AN43,(T132+AO31*D19)/AO43)*AP43","v":{"$error":"#VALUE!"}},{"$f":"MIN((U128+AO31*D19)/AK43,(U129+AO31*D19)/AL43,(U130+AO31*D19)/AM43,(U131+AO31*D19)/AN43,(U132+AO31*D19)/AO43)*AP43","v":{"$error":"#VALUE!"}},{"$f":"MIN((V128+AO31*D19)/AK43,(V129+AO31*D19)/AL43,(V130+AO31*D19)/AM43,(V131+AO31*D19)/AN43,(V132+AO31*D19)/AO43)*AP43","v":{"$error":"#VALUE!"}},{"$f":"MIN((W128+AO31*D19)/AK43,(W129+AO31*D19)/AL43,(W130+AO31*D19)/AM43,(W131+AO31*D19)/AN43,(W132+AO31*D19)/AO43)*AP43","v":{"$error":"#VALUE!"}},{"$f":"MIN((X128+AO31*D19)/AK43,(X129+AO31*D19)/AL43,(X130+AO31*D19)/AM43,(X131+AO31*D19)/AN43,(X132+AO31*D19)/AO43)*AP43","v":{"$error":"#VALUE!"}},{"$f":"MIN((Y128+AO31*D19)/AK43,(Y129+AO31*D19)/AL43,(Y130+AO31*D19)/AM43,(Y131+AO31*D19)/AN43,(Y132+AO31*D19)/AO43)*AP43","v":{"$error":"#VALUE!"}},{"$f":"MIN((Z128+AO31*D19)/AK43,(Z129+AO31*D19)/AL43,(Z130+AO31*D19)/AM43,(Z131+AO31*D19)/AN43,(Z132+AO31*D19)/AO43)*AP43","v":{"$error":"#VALUE!"}},{"$f":"MIN((AA128+AO31*D19)/AK43,(AA129+AO31*D19)/AL43,(AA130+AO31*D19)/AM43,(AA131+AO31*D19)/AN43,(AA132+AO31*D19)/AO43)*AP43","v":{"$error":"#VALUE!"}},{"$f":"MIN((AB128+AO31*D19)/AK43,(AB129+AO31*D19)/AL43,(AB130+AO31*D19)/AM43,(AB131+AO31*D19)/AN43,(AB132+AO31*D19)/AO43)*AP43","v":{"$error":"#VALUE!"}},{"$f":"MIN((AC128+AO31*D19)/AK43,(AC129+AO31*D19)/AL43,(AC130+AO31*D19)/AM43,(AC131+AO31*D19)/AN43,(AC132+AO31*D19)/AO43)*AP43","v":{"$error":"#VALUE!"}},{"$f":"MIN((AD128+AO31*D19)/AK43,(AD129+AO31*D19)/AL43,(AD130+AO31*D19)/AM43,(AD131+AO31*D19)/AN43,(AD132+AO31*D19)/AO43)*AP43","v":{"$error":"#VALUE!"}},{"$f":"MIN((AE128+AO31*D19)/AK43,(AE129+AO31*D19)/AL43,(AE130+AO31*D19)/AM43,(AE131+AO31*D19)/AN43,(AE132+AO31*D19)/AO43)*AP43","v":{"$error":"#VALUE!"}},{"$f":"MIN((AF128+AO31*D19)/AK43,(AF129+AO31*D19)/AL43,(AF130+AO31*D19)/AM43,(AF131+AO31*D19)/AN43,(AF132+AO31*D19)/AO43)*AP43","v":{"$error":"#VALUE!"}},{"$error":"#VALUE!"},null,"",{"$error":"#VALUE!"},{"$error":"#VALUE!"},{"$error":"#VALUE!"},{"$error":"#VALUE!"},{"$error":"#VALUE!"},{"$error":"#VALUE!"},{"$error":"#VALUE!"},{"$error":"#VALUE!"},{"$error":"#VALUE!"},{"$error":"#VALUE!"},{"$error":"#VALUE!"},{"$error":"#VALUE!"},{"$error":"#VALUE!"},{"$error":"#VALUE!"},{"$error":"#VALUE!"},{"$error":"#VALUE!"},{"$error":"#VALUE!"},{"$error":"#VALUE!"},{"$error":"#VALUE!"},{"$error":"#VALUE!"},{"$error":"#VALUE!"},{"$error":"#VALUE!"},"-"]
[null,null,null,"","",1,{"$f":"IF(G16<>\"\",(R97/100+M16/500)/100,\"\")","v":""},{"$f":"IF(G16<>\"\",IF(ISNA(IF(VLOOKUP(G16,$AI$8:$AV$25,14,FALSE)=\"\",\"\",(HLOOKUP(VLOOKUP(G16,$BA$10:$BB$20,2,FALSE),S92:AF97,6,FALSE)/100+M16/500)/100)),G109,IF(VLOOKUP(G16,$AI$8:$AV$25,14,FALSE)=\"\",\"\",(HLOOKUP(VLOOKUP(G16,$BA$10:$BB$20,2,FALSE),S92:AF97,6,FALSE)/100+M16/500)/100)),\"\")","v":""},{"$f":"IF(G16<>\"\",IF(ISNA(IF(VLOOKUP(G16,$AI$8:$AV$25,14,FALSE)=\"\",\"\",((HLOOKUP(VLOOKUP(G16,$BA$10:$BB$20,2,FALSE),$S$92:$AF$97,6,FALSE)+IF(HLOOKUP(F109,$AJ$7:$AT$31,21,FALSE)=1,D19,0))/100+M16/500)/100)),H109,IF(VLOOKUP(G16,$AI$8:$AV$25,14,FALSE)=\"\",\"\",((HLOOKUP(VLOOKUP(G16,$BA$10:$BB$20,2,FALSE),$S$92:$AF$97,6,FALSE)+IF(HLOOKUP(F109,$AJ$7:$AT$31,21,FALSE)=1,D19,0))/100+M16/500)/100)),\"\")","v":""},null,null,null,null,null,null,null,null,{"$f":"J18+AH41+D15+D17+D21+D19*AG15","v":{"$error":"#VALUE!"}},{"$f":"R109+Q12","v":{"$error":"#VALUE!"}},{"$f":"R109+R12","v":{"$error":"#VALUE!"}},{"$f":"R109+S12","v":{"$error":"#VALUE!"}},{"$f":"R109+T12","v":{"$error":"#VALUE!"}},{"$f":"R109+U12","v":{"$error":"#VALUE!"}},{"$f":"R109+V12","v":{"$error":"#VALUE!"}},{"$f":"R109+W12","v":{"$error":"#VALUE!"}},{"$f":"R109+X12","v":{"$error":"#VALUE!"}},{"$f":"R109+Y12","v":{"$error":"#VALUE!"}},{"$f":"R109+Z12","v":{"$error":"#VALUE!"}},{"$f":"R109+AA12","v":{"$error":"#VALUE!"}},{"$f":"R109+AB12","v":{"$error":"#VALUE!"}},{"$f":"R109+AC12","v":{"$error":"#VALUE!"}},{"$f":"R109+AD12","v":{"$error":"#VALUE!"}},null,null,null,"",{"$f":"MIN((S135+AN31*D19)/AK42,(S136+AN31*D19)/AL42,(S137+AN31*D19)/AM42,(S138+AN31*D19)/AN42,(S139+AN31*D19)/AO42)*AP42","v":{"$error":"#VALUE!"}},{"$f":"MIN((T135+AN31*D19)/AK42,(T136+AN31*D19)/AL42,(T137+AN31*D19)/AM42,(T138+AN31*D19)/AN42,(T139+AN31*D19)/AO42)*AP42","v":{"$error":"#VALUE!"}},{"$f":"MIN((U135+AN31*D19)/AK42,(U136+AN31*D19)/AL42,(U137+AN31*D19)/AM42,(U138+AN31*D19)/AN42,(U139+AN31*D19)/AO42)*AP42","v":{"$error":"#VALUE!"}},{"$f":"MIN((V135+AN31*D19)/AK42,(V136+AN31*D19)/AL42,(V137+AN31*D19)/AM42,(V138+AN31*D19)/AN42,(V139+AN31*D19)/AO42)*AP42","v":{"$error":"#VALUE!"}},{"$f":"MIN((W135+AN31*D19)/AK42,(W136+AN31*D19)/AL42,(W137+AN31*D19)/AM42,(W138+AN31*D19)/AN42,(W139+AN31*D19)/AO42)*AP42","v":{"$error":"#VALUE!"}},{"$f":"MIN((X135+AN31*D19)/AK42,(X136+AN31*D19)/AL42,(X137+AN31*D19)/AM42,(X138+AN31*D19)/AN42,(X139+AN31*D19)/AO42)*AP42","v":{"$error":"#VALUE!"}},{"$f":"MIN((Y135+AN31*D19)/AK42,(Y136+AN31*D19)/AL42,(Y137+AN31*D19)/AM42,(Y138+AN31*D19)/AN42,(Y139+AN31*D19)/AO42)*AP42","v":{"$error":"#VALUE!"}},{"$f":"MIN((Z135+AN31*D19)/AK42,(Z136+AN31*D19)/AL42,(Z137+AN31*D19)/AM42,(Z138+AN31*D19)/AN42,(Z139+AN31*D19)/AO42)*AP42","v":{"$error":"#VALUE!"}},{"$f":"MIN((AA135+AN31*D19)/AK42,(AA136+AN31*D19)/AL42,(AA137+AN31*D19)/AM42,(AA138+AN31*D19)/AN42,(AA139+AN31*D19)/AO42)*AP42","v":{"$error":"#VALUE!"}},{"$f":"MIN((AB135+AN31*D19)/AK42,(AB136+AN31*D19)/AL42,(AB137+AN31*D19)/AM42,(AB138+AN31*D19)/AN42,(AB139+AN31*D19)/AO42)*AP42","v":{"$error":"#VALUE!"}},{"$f":"MIN((AC135+AN31*D19)/AK42,(AC136+AN31*D19)/AL42,(AC137+AN31*D19)/AM42,(AC138+AN31*D19)/AN42,(AC139+AN31*D19)/AO42)*AP42","v":{"$error":"#VALUE!"}},{"$f":"MIN((AD135+AN31*D19)/AK42,(AD136+AN31*D19)/AL42,(AD137+AN31*D19)/AM42,(AD138+AN31*D19)/AN42,(AD139+AN31*D19)/AO42)*AP42","v":{"$error":"#VALUE!"}},{"$f":"MIN((AE135+AN31*D19)/AK42,(AE136+AN31*D19)/AL42,(AE137+AN31*D19)/AM42,(AE138+AN31*D19)/AN42,(AE139+AN31*D19)/AO42)*AP42","v":{"$error":"#VALUE!"}},{"$f":"MIN((AF135+AN31*D19)/AK42,(AF136+AN31*D19)/AL42,(AF137+AN31*D19)/AM42,(AF138+AN31*D19)/AN42,(AF139+AN31*D19)/AO42)*AP42","v":{"$error":"#VALUE!"}},{"$error":"#VALUE!"},null,"",{"$f":"MIN((S135+AO31*D19)/AK43,(S136+AO31*D19)/AL43,(S137+AO31*D19)/AM43,(S138+AO31*D19)/AN43,(S139+AO31*D19)/AO43)*AP43","v":{"$error":"#VALUE!"}},{"$f":"MIN((T135+AO31*D19)/AK43,(T136+AO31*D19)/AL43,(T137+AO31*D19)/AM43,(T138+AO31*D19)/AN43,(T139+AO31*D19)/AO43)*AP43","v":{"$error":"#VALUE!"}},{"$f":"MIN((U135+AO31*D19)/AK43,(U136+AO31*D19)/AL43,(U137+AO31*D19)/AM43,(U138+AO31*D19)/AN43,(U139+AO31*D19)/AO43)*AP43","v":{"$error":"#VALUE!"}},{"$f":"MIN((V135+AO31*D19)/AK43,(V136+AO31*D19)/AL43,(V137+AO31*D19)/AM43,(V138+AO31*D19)/AN43,(V139+AO31*D19)/AO43)*AP43","v":{"$error":"#VALUE!"}},{"$f":"MIN((W135+AO31*D19)/AK43,(W136+AO31*D19)/AL43,(W137+AO31*D19)/AM43,(W138+AO31*D19)/AN43,(W139+AO31*D19)/AO43)*AP43","v":{"$error":"#VALUE!"}},{"$f":"MIN((X135+AO31*D19)/AK43,(X136+AO31*D19)/AL43,(X137+AO31*D19)/AM43,(X138+AO31*D19)/AN43,(X139+AO31*D19)/AO43)*AP43","v":{"$error":"#VALUE!"}},{"$f":"MIN((Y135+AO31*D19)/AK43,(Y136+AO31*D19)/AL43,(Y137+AO31*D19)/AM43,(Y138+AO31*D19)/AN43,(Y139+AO31*D19)/AO43)*AP43","v":{"$error":"#VALUE!"}},{"$f":"MIN((Z135+AO31*D19)/AK43,(Z136+AO31*D19)/AL43,(Z137+AO31*D19)/AM43,(Z138+AO31*D19)/AN43,(Z139+AO31*D19)/AO43)*AP43","v":{"$error":"#VALUE!"}},{"$f":"MIN((AA135+AO31*D19)/AK43,(AA136+AO31*D19)/AL43,(AA137+AO31*D19)/AM43,(AA138+AO31*D19)/AN43,(AA139+AO31*D19)/AO43)*AP43","v":{"$error":"#VALUE!"}},{"$f":"MIN((AB135+AO31*D19)/AK43,(AB136+AO31*D19)/AL43,(AB137+AO31*D19)/AM43,(AB138+AO31*D19)/AN43,(AB139+AO31*D19)/AO43)*AP43","v":{"$error":"#VALUE!"}},{"$f":"MIN((AC135+AO31*D19)/AK43,(AC136+AO31*D19)/AL43,(AC137+AO31*D19)/AM43,(AC138+AO31*D19)/AN43,(AC139+AO31*D19)/AO43)*AP43","v":{"$error":"#VALUE!"}},{"$f":"MIN((AD135+AO31*D19)/AK43,(AD136+AO31*D19)/AL43,(AD137+AO31*D19)/AM43,(AD138+AO31*D19)/AN43,(AD139+AO31*D19)/AO43)*AP43","v":{"$error":"#VALUE!"}},{"$f":"MIN((AE135+AO31*D19)/AK43,(AE136+AO31*D19)/AL43,(AE137+AO31*D19)/AM43,(AE138+AO31*D19)/AN43,(AE139+AO31*D19)/AO43)*AP43","v":{"$error":"#VALUE!"}},{"$f":"MIN((AF135+AO31*D19)/AK43,(AF136+AO31*D19)/AL43,(AF137+AO31*D19)/AM43,(AF138+AO31*D19)/AN43,(AF139+AO31*D19)/AO43)*AP43","v":{"$error":"#VALUE!"}},{"$error":"#VALUE!"},null,"",{"$error":"#VALUE!"},{"$error":"#VALUE!"},{"$error":"#VALUE!"},{"$error":"#VALUE!"},{"$error":"#VALUE!"},{"$error":"#VALUE!"},{"$error":"#VALUE!"},{"$error":"#VALUE!"},{"$error":"#VALUE!"},{"$error":"#VALUE!"},{"$error":"#VALUE!"},{"$error":"#VALUE!"},{"$error":"#VALUE!"},{"$error":"#VALUE!"},{"$error":"#VALUE!"},{"$error":"#VALUE!"},{"$error":"#VALUE!"},{"$error":"#VALUE!"},{"$error":"#VALUE!"},{"$error":"#VALUE!"},{"$error":"#VALUE!"},{"$error":"#VALUE!"},"-"]
[null,null,null,{"$f":"IF(MAX($I$104:$I$121)=I110,\"CAP\",\"\")","v":""},"",1,{"$f":"IF(G17<>\"\",(R104/100+M17/500)/100,\"\")","v":""},{"$f":"IF(G17<>\"\",IF(ISNA(IF(VLOOKUP(G17,$AI$8:$AV$25,14,FALSE)=\"\",\"\",(HLOOKUP(VLOOKUP(G17,$BA$10:$BB$20,2,FALSE),S99:AF104,6,FALSE)/100+M17/500)/100)),G110,IF(VLOOKUP(G17,$AI$8:$AV$25,14,FALSE)=\"\",\"\",(HLOOKUP(VLOOKUP(G17,$BA$10:$BB$20,2,FALSE),S99:AF104,6,FALSE)/100+M17/500)/100)),\"\")","v":""},{"$f":"IF(G17<>\"\",IF(ISNA(IF(VLOOKUP(G17,$AI$8:$AV$25,14,FALSE)=\"\",\"\",((HLOOKUP(VLOOKUP(G17,$BA$10:$BB$20,2,FALSE),$S$99:$AF$104,6,FALSE)+IF(HLOOKUP(F110,$AJ$7:$AT$31,21,FALSE)=1,D19,0))/100+M17/500)/100)),H110,IF(VLOOKUP(G17,$AI$8:$AV$25,14,FALSE)=\"\",\"\",((HLOOKUP(VLOOKUP(G17,$BA$10:$BB$20,2,FALSE),$S$99:$AF$104,6,FALSE)+IF(HLOOKUP(F110,$AJ$7:$AT$31,21,FALSE)=1,D19,0))/100+M17/500)/100)),\"\")","v":""},null,null,null,null,null,null,null,null,{"$f":"K18+AH42+D16+D17+D21+D19*AG15","v":{"$error":"#VALUE!"}},{"$f":"R110+Q13","v":{"$error":"#VALUE!"}},{"$f":"R110+R13","v":{"$error":"#VALUE!"}},{"$f":"R110+S13","v":{"$error":"#VALUE!"}},{"$f":"R110+T13","v":{"$error":"#VALUE!"}},{"$f":"R110+U13","v":{"$error":"#VALUE!"}},{"$f":"R110+V13","v":{"$error":"#VALUE!"}},{"$f":"R110+W13","v":{"$error":"#VALUE!"}},{"$f":"R110+X13","v":{"$error":"#VALUE!"}},{"$f":"R110+Y13","v":{"$error":"#VALUE!"}},{"$f":"R110+Z13","v":{"$error":"#VALUE!"}},{"$f":"R110+AA13","v":{"$error":"#VALUE!"}},{"$f":"R110+AB13","v":{"$error":"#VALUE!"}},{"$f":"R110+AC13","v":{"$error":"#VALUE!"}},{"$f":"R110+AD13","v":{"$error":"#VALUE!"}},null,null,null,"",{"$f":"MIN((S142+AN31*D19)/AK42,(S143+AN31*D19)/AL42,(S144+AN31*D19)/AM42,(S145+AN31*D19)/AN42,(S146+AN31*D19)/AO42)*AP42","v":{"$error":"#VALUE!"}},{"$f":"MIN((T142+AN31*D19)/AK42,(T143+AN31*D19)/AL42,(T144+AN31*D19)/AM42,(T145+AN31*D19)/AN42,(T146+AN31*D19)/AO42)*AP42","v":{"$error":"#VALUE!"}},{"$f":"MIN((U142+AN31*D19)/AK42,(U143+AN31*D19)/AL42,(U144+AN31*D19)/AM42,(U145+AN31*D19)/AN42,(U146+AN31*D19)/AO42)*AP42","v":{"$error":"#VALUE!"}},{"$f":"MIN((V142+AN31*D19)/AK42,(V143+AN31*D19)/AL42,(V144+AN31*D19)/AM42,(V145+AN31*D19)/AN42,(V146+AN31*D19)/AO42)*AP42","v":{"$error":"#VALUE!"}},{"$f":"MIN((W142+AN31*D19)/AK42,(W143+AN31*D19)/AL42,(W144+AN31*D19)/AM42,(W145+AN31*D19)/AN42,(W146+AN31*D19)/AO42)*AP42","v":{"$error":"#VALUE!"}},{"$f":"MIN((X142+AN31*D19)/AK42,(X143+AN31*D19)/AL42,(X144+AN31*D19)/AM42,(X145+AN31*D19)/AN42,(X146+AN31*D19)/AO42)*AP42","v":{"$error":"#VALUE!"}},{"$f":"MIN((Y142+AN31*D19)/AK42,(Y143+AN31*D19)/AL42,(Y144+AN31*D19)/AM42,(Y145+AN31*D19)/AN42,(Y146+AN31*D19)/AO42)*AP42","v":{"$error":"#VALUE!"}},{"$f":"MIN((Z142+AN31*D19)/AK42,(Z143+AN31*D19)/AL42,(Z144+AN31*D19)/AM42,(Z145+AN31*D19)/AN42,(Z146+AN31*D19)/AO42)*AP42","v":{"$error":"#VALUE!"}},{"$f":"MIN((AA142+AN31*D19)/AK42,(AA143+AN31*D19)/AL42,(AA144+AN31*D19)/AM42,(AA145+AN31*D19)/AN42,(AA146+AN31*D19)/AO42)*AP42","v":{"$error":"#VALUE!"}},{"$f":"MIN((AB142+AN31*D19)/AK42,(AB143+AN31*D19)/AL42,(AB144+AN31*D19)/AM42,(AB145+AN31*D19)/AN42,(AB146+AN31*D19)/AO42)*AP42","v":{"$error":"#VALUE!"}},{"$f":"MIN((AC142+AN31*D19)/AK42,(AC143+AN31*D19)/AL42,(AC144+AN31*D19)/AM42,(AC145+AN31*D19)/AN42,(AC146+AN31*D19)/AO42)*AP42","v":{"$error":"#VALUE!"}},{"$f":"MIN((AD142+AN31*D19)/AK42,(AD143+AN31*D19)/AL42,(AD144+AN31*D19)/AM42,(AD145+AN31*D19)/AN42,(AD146+AN31*D19)/AO42)*AP42","v":{"$error":"#VALUE!"}},{"$f":"MIN((AE142+AN31*D19)/AK42,(AE143+AN31*D19)/AL42,(AE144+AN31*D19)/AM42,(AE145+AN31*D19)/AN42,(AE146+AN31*D19)/AO42)*AP42","v":{"$error":"#VALUE!"}},{"$f":"MIN((AF142+AN31*D19)/AK42,(AF143+AN31*D19)/AL42,(AF144+AN31*D19)/AM42,(AF145+AN31*D19)/AN42,(AF146+AN31*D19)/AO42)*AP42","v":{"$error":"#VALUE!"}},{"$error":"#VALUE!"},null,"",{"$f":"MIN((S142+AO31*D19)/AK43,(S143+AO31*D19)/AL43,(S144+AO31*D19)/AM43,(S145+AO31*D19)/AN43,(S146+AO31*D19)/AO43)*AP43","v":{"$error":"#VALUE!"}},{"$f":"MIN((T142+AO31*D19)/AK43,(T143+AO31*D19)/AL43,(T144+AO31*D19)/AM43,(T145+AO31*D19)/AN43,(T146+AO31*D19)/AO43)*AP43","v":{"$error":"#VALUE!"}},{"$f":"MIN((U142+AO31*D19)/AK43,(U143+AO31*D19)/AL43,(U144+AO31*D19)/AM43,(U145+AO31*D19)/AN43,(U146+AO31*D19)/AO43)*AP43","v":{"$error":"#VALUE!"}},{"$f":"MIN((V142+AO31*D19)/AK43,(V143+AO31*D19)/AL43,(V144+AO31*D19)/AM43,(V145+AO31*D19)/AN43,(V146+AO31*D19)/AO43)*AP43","v":{"$error":"#VALUE!"}},{"$f":"MIN((W142+AO31*D19)/AK43,(W143+AO31*D19)/AL43,(W144+AO31*D19)/AM43,(W145+AO31*D19)/AN43,(W146+AO31*D19)/AO43)*AP43","v":{"$error":"#VALUE!"}},{"$f":"MIN((X142+AO31*D19)/AK43,(X143+AO31*D19)/AL43,(X144+AO31*D19)/AM43,(X145+AO31*D19)/AN43,(X146+AO31*D19)/AO43)*AP43","v":{"$error":"#VALUE!"}},{"$f":"MIN((Y142+AO31*D19)/AK43,(Y143+AO31*D19)/AL43,(Y144+AO31*D19)/AM43,(Y145+AO31*D19)/AN43,(Y146+AO31*D19)/AO43)*AP43","v":{"$error":"#VALUE!"}},{"$f":"MIN((Z142+AO31*D19)/AK43,(Z143+AO31*D19)/AL43,(Z144+AO31*D19)/AM43,(Z145+AO31*D19)/AN43,(Z146+AO31*D19)/AO43)*AP43","v":{"$error":"#VALUE!"}},{"$f":"MIN((AA142+AO31*D19)/AK43,(AA143+AO31*D19)/AL43,(AA144+AO31*D19)/AM43,(AA145+AO31*D19)/AN43,(AA146+AO31*D19)/AO43)*AP43","v":{"$error":"#VALUE!"}},{"$f":"MIN((AB142+AO31*D19)/AK43,(AB143+AO31*D19)/AL43,(AB144+AO31*D19)/AM43,(AB145+AO31*D19)/AN43,(AB146+AO31*D19)/AO43)*AP43","v":{"$error":"#VALUE!"}},{"$f":"MIN((AC142+AO31*D19)/AK43,(AC143+AO31*D19)/AL43,(AC144+AO31*D19)/AM43,(AC145+AO31*D19)/AN43,(AC146+AO31*D19)/AO43)*AP43","v":{"$error":"#VALUE!"}},{"$f":"MIN((AD142+AO31*D19)/AK43,(AD143+AO31*D19)/AL43,(AD144+AO31*D19)/AM43,(AD145+AO31*D19)/AN43,(AD146+AO31*D19)/AO43)*AP43","v":{"$error":"#VALUE!"}},{"$f":"MIN((AE142+AO31*D19)/AK43,(AE143+AO31*D19)/AL43,(AE144+AO31*D19)/AM43,(AE145+AO31*D19)/AN43,(AE146+AO31*D19)/AO43)*AP43","v":{"$error":"#VALUE!"}},{"$f":"MIN((AF142+AO31*D19)/AK43,(AF143+AO31*D19)/AL43,(AF144+AO31*D19)/AM43,(AF145+AO31*D19)/AN43,(AF146+AO31*D19)/AO43)*AP43","v":{"$error":"#VALUE!"}},{"$error":"#VALUE!"},null,"",{"$error":"#VALUE!"},{"$error":"#VALUE!"},{"$error":"#VALUE!"},{"$error":"#VALUE!"},{"$error":"#VALUE!"},{"$error":"#VALUE!"},{"$error":"#VALUE!"},{"$error":"#VALUE!"},{"$error":"#VALUE!"},{"$error":"#VALUE!"},{"$error":"#VALUE!"},{"$error":"#VALUE!"},{"$error":"#VALUE!"},{"$error":"#VALUE!"},{"$error":"#VALUE!"},{"$error":"#VALUE!"},{"$error":"#VALUE!"},{"$error":"#VALUE!"},{"$error":"#VALUE!"},{"$error":"#VALUE!"},{"$error":"#VALUE!"},{"$error":"#VALUE!"},"-"]
[null,null,null,{"$f":"IF(MAX($I$104:$I$121)=I111,\"CAP\",\"\")","v":""},"",1,{"$f":"IF(G18<>\"\",(R111/100+M18/500)/100,\"\")","v":""},{"$f":"IF(G18<>\"\",IF(ISNA(IF(VLOOKUP(G18,$AI$8:$AV$25,14,FALSE)=\"\",\"\",(HLOOKUP(VLOOKUP(G18,$BA$10:$BB$20,2,FALSE),S106:AF111,6,FALSE)/100+M18/500)/100)),G111,IF(VLOOKUP(G18,$AI$8:$AV$25,14,FALSE)=\"\",\"\",(HLOOKUP(VLOOKUP(G18,$BA$10:$BB$20,2,FALSE),S106:AF111,6,FALSE)/100+M18/500)/100)),\"\")","v":""},{"$f":"IF(G18<>\"\",IF(ISNA(IF(VLOOKUP(G18,$AI$8:$AV$25,14,FALSE)=\"\",\"\",((HLOOKUP(VLOOKUP(G18,$BA$10:$BB$20,2,FALSE),$S$106:$AF$111,6,FALSE)+IF(HLOOKUP(F111,$AJ$7:$AT$31,21,FALSE)=1,D19,0))/100+M18/500)/100)),H111,IF(VLOOKUP(G18,$AI$8:$AV$25,14,FALSE)=\"\",\"\",((HLOOKUP(VLOOKUP(G18,$BA$10:$BB$20,2,FALSE),$S$106:$AF$111,6,FALSE)+IF(HLOOKUP(F111,$AJ$7:$AT$31,21,FALSE)=1,D19,0))/100+M18/500)/100)),\"\")","v":""},null,null,null,null,null,null,null,null,{"$f":"L18+AH43+D15+D17+D21+D19*AG15","v":{"$error":"#VALUE!"}},{"$f":"R111+Q14","v":{"$error":"#VALUE!"}},{"$f":"R111+R14","v":{"$error":"#VALUE!"}},{"$f":"R111+S14","v":{"$error":"#VALUE!"}},{"$f":"R111+T14","v":{"$error":"#VALUE!"}},{"$f":"R111+U14","v":{"$error":"#VALUE!"}},{"$f":"R111+V14","v":{"$error":"#VALUE!"}},{"$f":"R111+W14","v":{"$error":"#VALUE!"}},{"$f":"R111+X14","v":{"$error":"#VALUE!"}},{"$f":"R111+Y14","v":{"$error":"#VALUE!"}},{"$f":"R111+Z14","v":{"$error":"#VALUE!"}},{"$f":"R111+AA14","v":{"$error":"#VALUE!"}},{"$f":"R111+AB14","v":{"$error":"#VALUE!"}},{"$f":"R111+AC14","v":{"$error":"#VALUE!"}},{"$f":"R111+AD14","v":{"$error":"#VALUE!"}},null,null,null,"",{"$f":"MIN((S149+AN31*D19)/AK42,(S150+AN31*D19)/AL42,(S151+AN31*D19)/AM42,(S152+AN31*D19)/AN42,(S153+AN31*D19)/AO42)*AP42","v":{"$error":"#VALUE!"}},{"$f":"MIN((T149+AN31*D19)/AK42,(T150+AN31*D19)/AL42,(T151+AN31*D19)/AM42,(T152+AN31*D19)/AN42,(T153+AN31*D19)/AO42)*AP42","v":{"$error":"#VALUE!"}},{"$f":"MIN((U149+AN31*D19)/AK42,(U150+AN31*D19)/AL42,(U151+AN31*D19)/AM42,(U152+AN31*D19)/AN42,(U153+AN31*D19)/AO42)*AP42","v":{"$error":"#VALUE!"}},{"$f":"MIN((V149+AN31*D19)/AK42,(V150+AN31*D19)/AL42,(V151+AN31*D19)/AM42,(V152+AN31*D19)/AN42,(V153+AN31*D19)/AO42)*AP42","v":{"$error":"#VALUE!"}},{"$f":"MIN((W149+AN31*D19)/AK42,(W150+AN31*D19)/AL42,(W151+AN31*D19)/AM42,(W152+AN31*D19)/AN42,(W153+AN31*D19)/AO42)*AP42","v":{"$error":"#VALUE!"}},{"$f":"MIN((X149+AN31*D19)/AK42,(X150+AN31*D19)/AL42,(X151+AN31*D19)/AM42,(X152+AN31*D19)/AN42,(X153+AN31*D19)/AO42)*AP42","v":{"$error":"#VALUE!"}},{"$f":"MIN((Y149+AN31*D19)/AK42,(Y150+AN31*D19)/AL42,(Y151+AN31*D19)/AM42,(Y152+AN31*D19)/AN42,(Y153+AN31*D19)/AO42)*AP42","v":{"$error":"#VALUE!"}},{"$f":"MIN((Z149+AN31*D19)/AK42,(Z150+AN31*D19)/AL42,(Z151+AN31*D19)/AM42,(Z152+AN31*D19)/AN42,(Z153+AN31*D19)/AO42)*AP42","v":{"$error":"#VALUE!"}},{"$f":"MIN((AA149+AN31*D19)/AK42,(AA150+AN31*D19)/AL42,(AA151+AN31*D19)/AM42,(AA152+AN31*D19)/AN42,(AA153+AN31*D19)/AO42)*AP42","v":{"$error":"#VALUE!"}},{"$f":"MIN((AB149+AN31*D19)/AK42,(AB150+AN31*D19)/AL42,(AB151+AN31*D19)/AM42,(AB152+AN31*D19)/AN42,(AB153+AN31*D19)/AO42)*AP42","v":{"$error":"#VALUE!"}},{"$f":"MIN((AC149+AN31*D19)/AK42,(AC150+AN31*D19)/AL42,(AC151+AN31*D19)/AM42,(AC152+AN31*D19)/AN42,(AC153+AN31*D19)/AO42)*AP42","v":{"$error":"#VALUE!"}},{"$f":"MIN((AD149+AN31*D19)/AK42,(AD150+AN31*D19)/AL42,(AD151+AN31*D19)/AM42,(AD152+AN31*D19)/AN42,(AD153+AN31*D19)/AO42)*AP42","v":{"$error":"#VALUE!"}},{"$f":"MIN((AE149+AN31*D19)/AK42,(AE150+AN31*D19)/AL42,(AE151+AN31*D19)/AM42,(AE152+AN31*D19)/AN42,(AE153+AN31*D19)/AO42)*AP42","v":{"$error":"#VALUE!"}},{"$f":"MIN((AF149+AN31*D19)/AK42,(AF150+AN31*D19)/AL42,(AF151+AN31*D19)/AM42,(AF152+AN31*D19)/AN42,(AF153+AN31*D19)/AO42)*AP42","v":{"$error":"#VALUE!"}},{"$error":"#VALUE!"},null,"",{"$f":"MIN((S149+AO31*D19)/AK43,(S150+AO31*D19)/AL43,(S151+AO31*D19)/AM43,(S152+AO31*D19)/AN43,(S153+AO31*D19)/AO43)*AP43","v":{"$error":"#VALUE!"}},{"$f":"MIN((T149+AO31*D19)/AK43,(T150+AO31*D19)/AL43,(T151+AO31*D19)/AM43,(T152+AO31*D19)/AN43,(T153+AO31*D19)/AO43)*AP43","v":{"$error":"#VALUE!"}},{"$f":"MIN((U149+AO31*D19)/AK43,(U150+AO31*D19)/AL43,(U151+AO31*D19)/AM43,(U152+AO31*D19)/AN43,(U153+AO31*D19)/AO43)*AP43","v":{"$error":"#VALUE!"}},{"$f":"MIN((V149+AO31*D19)/AK43,(V150+AO31*D19)/AL43,(V151+AO31*D19)/AM43,(V152+AO31*D19)/AN43,(V153+AO31*D19)/AO43)*AP43","v":{"$error":"#VALUE!"}},{"$f":"MIN((W149+AO31*D19)/AK43,(W150+AO31*D19)/AL43,(W151+AO31*D19)/AM43,(W152+AO31*D19)/AN43,(W153+AO31*D19)/AO43)*AP43","v":{"$error":"#VALUE!"}},{"$f":"MIN((X149+AO31*D19)/AK43,(X150+AO31*D19)/AL43,(X151+AO31*D19)/AM43,(X152+AO31*D19)/AN43,(X153+AO31*D19)/AO43)*AP43","v":{"$error":"#VALUE!"}},{"$f":"MIN((Y149+AO31*D19)/AK43,(Y150+AO31*D19)/AL43,(Y151+AO31*D19)/AM43,(Y152+AO31*D19)/AN43,(Y153+AO31*D19)/AO43)*AP43","v":{"$error":"#VALUE!"}},{"$f":"MIN((Z149+AO31*D19)/AK43,(Z150+AO31*D19)/AL43,(Z151+AO31*D19)/AM43,(Z152+AO31*D19)/AN43,(Z153+AO31*D19)/AO43)*AP43","v":{"$error":"#VALUE!"}},{"$f":"MIN((AA149+AO31*D19)/AK43,(AA150+AO31*D19)/AL43,(AA151+AO31*D19)/AM43,(AA152+AO31*D19)/AN43,(AA153+AO31*D19)/AO43)*AP43","v":{"$error":"#VALUE!"}},{"$f":"MIN((AB149+AO31*D19)/AK43,(AB150+AO31*D19)/AL43,(AB151+AO31*D19)/AM43,(AB152+AO31*D19)/AN43,(AB153+AO31*D19)/AO43)*AP43","v":{"$error":"#VALUE!"}},{"$f":"MIN((AC149+AO31*D19)/AK43,(AC150+AO31*D19)/AL43,(AC151+AO31*D19)/AM43,(AC152+AO31*D19)/AN43,(AC153+AO31*D19)/AO43)*AP43","v":{"$error":"#VALUE!"}},{"$f":"MIN((AD149+AO31*D19)/AK43,(AD150+AO31*D19)/AL43,(AD151+AO31*D19)/AM43,(AD152+AO31*D19)/AN43,(AD153+AO31*D19)/AO43)*AP43","v":{"$error":"#VALUE!"}},{"$f":"MIN((AE149+AO31*D19)/AK43,(AE150+AO31*D19)/AL43,(AE151+AO31*D19)/AM43,(AE152+AO31*D19)/AN43,(AE153+AO31*D19)/AO43)*AP43","v":{"$error":"#VALUE!"}},{"$f":"MIN((AF149+AO31*D19)/AK43,(AF150+AO31*D19)/AL43,(AF151+AO31*D19)/AM43,(AF152+AO31*D19)/AN43,(AF153+AO31*D19)/AO43)*AP43","v":{"$error":"#VALUE!"}},{"$error":"#VALUE!"},null,"",{"$error":"#VALUE!"},{"$error":"#VALUE!"},{"$error":"#VALUE!"},{"$error":"#VALUE!"},{"$error":"#VALUE!"},{"$error":"#VALUE!"},{"$error":"#VALUE!"},{"$error":"#VALUE!"},{"$error":"#VALUE!"},{"$error":"#VALUE!"},{"$error":"#VALUE!"},{"$error":"#VALUE!"},{"$error":"#VALUE!"},{"$error":"#VALUE!"},{"$error":"#VALUE!"},{"$error":"#VALUE!"},{"$error":"#VALUE!"},{"$error":"#VALUE!"},{"$error":"#VALUE!"},{"$error":"#VALUE!"},{"$error":"#VALUE!"},{"$error":"#VALUE!"},"-"]
[null,null,null,{"$f":"IF(MAX($I$104:$I$121)=I112,\"CAP\",\"\")","v":""},"",1,{"$f":"IF(G19<>\"\",(R118/100+M19/500)/100,\"\")","v":""},{"$f":"IF(G19<>\"\",IF(ISNA(IF(VLOOKUP(G19,$AI$8:$AV$25,14,FALSE)=\"\",\"\",(HLOOKUP(VLOOKUP(G19,$BA$10:$BB$20,2,FALSE),S113:AF118,6,FALSE)/100+M19/500)/100)),G112,IF(VLOOKUP(G19,$AI$8:$AV$25,14,FALSE)=\"\",\"\",(HLOOKUP(VLOOKUP(G19,$BA$10:$BB$20,2,FALSE),S113:AF118,6,FALSE)/100+M19/500)/100)),\"\")","v":""},{"$f":"IF(G19<>\"\",IF(ISNA(IF(VLOOKUP(G19,$AI$8:$AV$25,14,FALSE)=\"\",\"\",((HLOOKUP(VLOOKUP(G19,$BA$10:$BB$20,2,FALSE),$S$113:$AF$118,6,FALSE)+IF(HLOOKUP(F112,$AJ$7:$AT$31,21,FALSE)=1,D19,0))/100+M19/500)/100)),H112,IF(VLOOKUP(G19,$AI$8:$AV$25,14,FALSE)=\"\",\"\",((HLOOKUP(VLOOKUP(G19,$BA$10:$BB$20,2,FALSE),$S$113:$AF$118,6,FALSE)+IF(HLOOKUP(F112,$AJ$7:$AT$31,21,FALSE)=1,D19,0))/100+M19/500)/100)),\"\")","v":""},null,null,null,null,null,null,null,null,null,null,null,null,null,null,null,null,null,null,null,null,null,null,null,null,null,null,"",{"$f":"MIN((S156+AN31*D19)/AK42,(S157+AN31*D19)/AL42,(S158+AN31*D19)/AM42,(S159+AN31*D19)/AN42,(S160+AN31*D19)/AO42)*AP42","v":{"$error":"#VALUE!"}},{"$f":"MIN((T156+AN31*D19)/AK42,(T157+AN31*D19)/AL42,(T158+AN31*D19)/AM42,(T159+AN31*D19)/AN42,(T160+AN31*D19)/AO42)*AP42","v":{"$error":"#VALUE!"}},{"$f":"MIN((U156+AN31*D19)/AK42,(U157+AN31*D19)/AL42,(U158+AN31*D19)/AM42,(U159+AN31*D19)/AN42,(U160+AN31*D19)/AO42)*AP42","v":{"$error":"#VALUE!"}},{"$f":"MIN((V156+AN31*D19)/AK42,(V157+AN31*D19)/AL42,(V158+AN31*D19)/AM42,(V159+AN31*D19)/AN42,(V160+AN31*D19)/AO42)*AP42","v":{"$error":"#VALUE!"}},{"$f":"MIN((W156+AN31*D19)/AK42,(W157+AN31*D19)/AL42,(W158+AN31*D19)/AM42,(W159+AN31*D19)/AN42,(W160+AN31*D19)/AO42)*AP42","v":{"$error":"#VALUE!"}},{"$f":"MIN((X156+AN31*D19)/AK42,(X157+AN31*D19)/AL42,(X158+AN31*D19)/AM42,(X159+AN31*D19)/AN42,(X160+AN31*D19)/AO42)*AP42","v":{"$error":"#VALUE!"}},{"$f":"MIN((Y156+AN31*D19)/AK42,(Y157+AN31*D19)/AL42,(Y158+AN31*D19)/AM42,(Y159+AN31*D19)/AN42,(Y160+AN31*D19)/AO42)*AP42","v":{"$error":"#VALUE!"}},{"$f":"MIN((Z156+AN31*D19)/AK42,(Z157+AN31*D19)/AL42,(Z158+AN31*D19)/AM42,(Z159+AN31*D19)/AN42,(Z160+AN31*D19)/AO42)*AP42","v":{"$error":"#VALUE!"}},{"$f":"MIN((AA156+AN31*D19)/AK42,(AA157+AN31*D19)/AL42,(AA158+AN31*D19)/AM42,(AA159+AN31*D19)/AN42,(AA160+AN31*D19)/AO42)*AP42","v":{"$error":"#VALUE!"}},{"$f":"MIN((AB156+AN31*D19)/AK42,(AB157+AN31*D19)/AL42,(AB158+AN31*D19)/AM42,(AB159+AN31*D19)/AN42,(AB160+AN31*D19)/AO42)*AP42","v":{"$error":"#VALUE!"}},{"$f":"MIN((AC156+AN31*D19)/AK42,(AC157+AN31*D19)/AL42,(AC158+AN31*D19)/AM42,(AC159+AN31*D19)/AN42,(AC160+AN31*D19)/AO42)*AP42","v":{"$error":"#VALUE!"}},{"$f":"MIN((AD156+AN31*D19)/AK42,(AD157+AN31*D19)/AL42,(AD158+AN31*D19)/AM42,(AD159+AN31*D19)/AN42,(AD160+AN31*D19)/AO42)*AP42","v":{"$error":"#VALUE!"}},{"$f":"MIN((AE156+AN31*D19)/AK42,(AE157+AN31*D19)/AL42,(AE158+AN31*D19)/AM42,(AE159+AN31*D19)/AN42,(AE160+AN31*D19)/AO42)*AP42","v":{"$error":"#VALUE!"}},{"$f":"MIN((AF156+AN31*D19)/AK42,(AF157+AN31*D19)/AL42,(AF158+AN31*D19)/AM42,(AF159+AN31*D19)/AN42,(AF160+AN31*D19)/AO42)*AP42","v":{"$error":"#VALUE!"}},{"$error":"#VALUE!"},null,"",{"$f":"MIN((S156+AO31*D19)/AK43,(S157+AO31*D19)/AL43,(S158+AO31*D19)/AM43,(S159+AO31*D19)/AN43,(S160+AO31*D19)/AO43)*AP43","v":{"$error":"#VALUE!"}},{"$f":"MIN((T156+AO31*D19)/AK43,(T157+AO31*D19)/AL43,(T158+AO31*D19)/AM43,(T159+AO31*D19)/AN43,(T160+AO31*D19)/AO43)*AP43","v":{"$error":"#VALUE!"}},{"$f":"MIN((U156+AO31*D19)/AK43,(U157+AO31*D19)/AL43,(U158+AO31*D19)/AM43,(U159+AO31*D19)/AN43,(U160+AO31*D19)/AO43)*AP43","v":{"$error":"#VALUE!"}},{"$f":"MIN((V156+AO31*D19)/AK43,(V157+AO31*D19)/AL43,(V158+AO31*D19)/AM43,(V159+AO31*D19)/AN43,(V160+AO31*D19)/AO43)*AP43","v":{"$error":"#VALUE!"}},{"$f":"MIN((W156+AO31*D19)/AK43,(W157+AO31*D19)/AL43,(W158+AO31*D19)/AM43,(W159+AO31*D19)/AN43,(W160+AO31*D19)/AO43)*AP43","v":{"$error":"#VALUE!"}},{"$f":"MIN((X156+AO31*D19)/AK43,(X157+AO31*D19)/AL43,(X158+AO31*D19)/AM43,(X159+AO31*D19)/AN43,(X160+AO31*D19)/AO43)*AP43","v":{"$error":"#VALUE!"}},{"$f":"MIN((Y156+AO31*D19)/AK43,(Y157+AO31*D19)/AL43,(Y158+AO31*D19)/AM43,(Y159+AO31*D19)/AN43,(Y160+AO31*D19)/AO43)*AP43","v":{"$error":"#VALUE!"}},{"$f":"MIN((Z156+AO31*D19)/AK43,(Z157+AO31*D19)/AL43,(Z158+AO31*D19)/AM43,(Z159+AO31*D19)/AN43,(Z160+AO31*D19)/AO43)*AP43","v":{"$error":"#VALUE!"}},{"$f":"MIN((AA156+AO31*D19)/AK43,(AA157+AO31*D19)/AL43,(AA158+AO31*D19)/AM43,(AA159+AO31*D19)/AN43,(AA160+AO31*D19)/AO43)*AP43","v":{"$error":"#VALUE!"}},{"$f":"MIN((AB156+AO31*D19)/AK43,(AB157+AO31*D19)/AL43,(AB158+AO31*D19)/AM43,(AB159+AO31*D19)/AN43,(AB160+AO31*D19)/AO43)*AP43","v":{"$error":"#VALUE!"}},{"$f":"MIN((AC156+AO31*D19)/AK43,(AC157+AO31*D19)/AL43,(AC158+AO31*D19)/AM43,(AC159+AO31*D19)/AN43,(AC160+AO31*D19)/AO43)*AP43","v":{"$error":"#VALUE!"}},{"$f":"MIN((AD156+AO31*D19)/AK43,(AD157+AO31*D19)/AL43,(AD158+AO31*D19)/AM43,(AD159+AO31*D19)/AN43,(AD160+AO31*D19)/AO43)*AP43","v":{"$error":"#VALUE!"}},{"$f":"MIN((AE156+AO31*D19)/AK43,(AE157+AO31*D19)/AL43,(AE158+AO31*D19)/AM43,(AE159+AO31*D19)/AN43,(AE160+AO31*D19)/AO43)*AP43","v":{"$error":"#VALUE!"}},{"$f":"MIN((AF156+AO31*D19)/AK43,(AF157+AO31*D19)/AL43,(AF158+AO31*D19)/AM43,(AF159+AO31*D19)/AN43,(AF160+AO31*D19)/AO43)*AP43","v":{"$error":"#VALUE!"}},{"$error":"#VALUE!"},null,"",{"$error":"#VALUE!"},{"$error":"#VALUE!"},{"$error":"#VALUE!"},{"$error":"#VALUE!"},{"$error":"#VALUE!"},{"$error":"#VALUE!"},{"$error":"#VALUE!"},{"$error":"#VALUE!"},{"$error":"#VALUE!"},{"$error":"#VALUE!"},{"$error":"#VALUE!"},{"$error":"#VALUE!"},{"$error":"#VALUE!"},{"$error":"#VALUE!"},{"$error":"#VALUE!"},{"$error":"#VALUE!"},{"$error":"#VALUE!"},{"$error":"#VALUE!"},{"$error":"#VALUE!"},{"$error":"#VALUE!"},{"$error":"#VALUE!"},{"$error":"#VALUE!"},"-"]
[null,null,null,{"$f":"IF(MAX($I$104:$I$121)=I113,\"CAP\",\"\")","v":""},"",1,{"$f":"IF(G20<>\"\",(R125/100+M20/500)/100,\"\")","v":""},{"$f":"IF(G20<>\"\",IF(ISNA(IF(VLOOKUP(G20,$AI$8:$AV$25,14,FALSE)=\"\",\"\",(HLOOKUP(VLOOKUP(G20,$BA$10:$BB$20,2,FALSE),S120:AF125,6,FALSE)/100+M20/500)/100)),G113,IF(VLOOKUP(G20,$AI$8:$AV$25,14,FALSE)=\"\",\"\",(HLOOKUP(VLOOKUP(G20,$BA$10:$BB$20,2,FALSE),S120:AF125,6,FALSE)/100+M20/500)/100)),\"\")","v":""},{"$f":"IF(G20<>\"\",IF(ISNA(IF(VLOOKUP(G20,$AI$8:$AV$25,14,FALSE)=\"\",\"\",((HLOOKUP(VLOOKUP(G20,$BA$10:$BB$20,2,FALSE),$S$120:$AF$125,6,FALSE)+IF(HLOOKUP(F113,$AJ$7:$AT$31,21,FALSE)=1,D19,0))/100+M20/500)/100)),H113,IF(VLOOKUP(G20,$AI$8:$AV$25,14,FALSE)=\"\",\"\",((HLOOKUP(VLOOKUP(G20,$BA$10:$BB$20,2,FALSE),$S$120:$AF$125,6,FALSE)+IF(HLOOKUP(F113,$AJ$7:$AT$31,21,FALSE)=1,D19,0))/100+M20/500)/100)),\"\")","v":""},null,null,null,null,null,null,null,null,{"$f":"G19","v":""},{"$f":"S106","v":"kit 1"},{"$f":"T106","v":"kit 2A"},"kit 2B","kit 4A","kit 4B","kit 5","kit 6A","kit 6B","kit 7","kit 8","kit 9A","kit 9B",{"$f":"AE106","v":"kit 10"},{"$f":"AF106","v":"kit 11"},null,null,null,"",{"$f":"MIN((S163+AN31*D19)/AK42,(S164+AN31*D19)/AL42,(S165+AN31*D19)/AM42,(S166+AN31*D19)/AN42,(S167+AN31*D19)/AO42)*AP42","v":{"$error":"#VALUE!"}},{"$f":"MIN((T163+AN31*D19)/AK42,(T164+AN31*D19)/AL42,(T165+AN31*D19)/AM42,(T166+AN31*D19)/AN42,(T167+AN31*D19)/AO42)*AP42","v":{"$error":"#VALUE!"}},{"$f":"MIN((U163+AN31*D19)/AK42,(U164+AN31*D19)/AL42,(U165+AN31*D19)/AM42,(U166+AN31*D19)/AN42,(U167+AN31*D19)/AO42)*AP42","v":{"$error":"#VALUE!"}},{"$f":"MIN((V163+AN31*D19)/AK42,(V164+AN31*D19)/AL42,(V165+AN31*D19)/AM42,(V166+AN31*D19)/AN42,(V167+AN31*D19)/AO42)*AP42","v":{"$error":"#VALUE!"}},{"$f":"MIN((W163+AN31*D19)/AK42,(W164+AN31*D19)/AL42,(W165+AN31*D19)/AM42,(W166+AN31*D19)/AN42,(W167+AN31*D19)/AO42)*AP42","v":{"$error":"#VALUE!"}},{"$f":"MIN((X163+AN31*D19)/AK42,(X164+AN31*D19)/AL42,(X165+AN31*D19)/AM42,(X166+AN31*D19)/AN42,(X167+AN31*D19)/AO42)*AP42","v":{"$error":"#VALUE!"}},{"$f":"MIN((Y163+AN31*D19)/AK42,(Y164+AN31*D19)/AL42,(Y165+AN31*D19)/AM42,(Y166+AN31*D19)/AN42,(Y167+AN31*D19)/AO42)*AP42","v":{"$error":"#VALUE!"}},{"$f":"MIN((Z163+AN31*D19)/AK42,(Z164+AN31*D19)/AL42,(Z165+AN31*D19)/AM42,(Z166+AN31*D19)/AN42,(Z167+AN31*D19)/AO42)*AP42","v":{"$error":"#VALUE!"}},{"$f":"MIN((AA163+AN31*D19)/AK42,(AA164+AN31*D19)/AL42,(AA165+AN31*D19)/AM42,(AA166+AN31*D19)/AN42,(AA167+AN31*D19)/AO42)*AP42","v":{"$error":"#VALUE!"}},{"$f":"MIN((AB163+AN31*D19)/AK42,(AB164+AN31*D19)/AL42,(AB165+AN31*D19)/AM42,(AB166+AN31*D19)/AN42,(AB167+AN31*D19)/AO42)*AP42","v":{"$error":"#VALUE!"}},{"$f":"MIN((AC163+AN31*D19)/AK42,(AC164+AN31*D19)/AL42,(AC165+AN31*D19)/AM42,(AC166+AN31*D19)/AN42,(AC167+AN31*D19)/AO42)*AP42","v":{"$error":"#VALUE!"}},{"$f":"MIN((AD163+AN31*D19)/AK42,(AD164+AN31*D19)/AL42,(AD165+AN31*D19)/AM42,(AD166+AN31*D19)/AN42,(AD167+AN31*D19)/AO42)*AP42","v":{"$error":"#VALUE!"}},{"$f":"MIN((AE163+AN31*D19)/AK42,(AE164+AN31*D19)/AL42,(AE165+AN31*D19)/AM42,(AE166+AN31*D19)/AN42,(AE167+AN31*D19)/AO42)*AP42","v":{"$error":"#VALUE!"}},{"$f":"MIN((AF163+AN31*D19)/AK42,(AF164+AN31*D19)/AL42,(AF165+AN31*D19)/AM42,(AF166+AN31*D19)/AN42,(AF167+AN31*D19)/AO42)*AP42","v":{"$error":"#VALUE!"}},{"$error":"#VALUE!"},null,"",{"$f":"MIN((S163+AO31*D19)/AK43,(S164+AO31*D19)/AL43,(S165+AO31*D19)/AM43,(S166+AO31*D19)/AN43,(S167+AO31*D19)/AO43)*AP43","v":{"$error":"#VALUE!"}},{"$f":"MIN((T163+AO31*D19)/AK43,(T164+AO31*D19)/AL43,(T165+AO31*D19)/AM43,(T166+AO31*D19)/AN43,(T167+AO31*D19)/AO43)*AP43","v":{"$error":"#VALUE!"}},{"$f":"MIN((U163+AO31*D19)/AK43,(U164+AO31*D19)/AL43,(U165+AO31*D19)/AM43,(U166+AO31*D19)/AN43,(U167+AO31*D19)/AO43)*AP43","v":{"$error":"#VALUE!"}},{"$f":"MIN((V163+AO31*D19)/AK43,(V164+AO31*D19)/AL43,(V165+AO31*D19)/AM43,(V166+AO31*D19)/AN43,(V167+AO31*D19)/AO43)*AP43","v":{"$error":"#VALUE!"}},{"$f":"MIN((W163+AO31*D19)/AK43,(W164+AO31*D19)/AL43,(W165+AO31*D19)/AM43,(W166+AO31*D19)/AN43,(W167+AO31*D19)/AO43)*AP43","v":{"$error":"#VALUE!"}},{"$f":"MIN((X163+AO31*D19)/AK43,(X164+AO31*D19)/AL43,(X165+AO31*D19)/AM43,(X166+AO31*D19)/AN43,(X167+AO31*D19)/AO43)*AP43","v":{"$error":"#VALUE!"}},{"$f":"MIN((Y163+AO31*D19)/AK43,(Y164+AO31*D19)/AL43,(Y165+AO31*D19)/AM43,(Y166+AO31*D19)/AN43,(Y167+AO31*D19)/AO43)*AP43","v":{"$error":"#VALUE!"}},{"$f":"MIN((Z163+AO31*D19)/AK43,(Z164+AO31*D19)/AL43,(Z165+AO31*D19)/AM43,(Z166+AO31*D19)/AN43,(Z167+AO31*D19)/AO43)*AP43","v":{"$error":"#VALUE!"}},{"$f":"MIN((AA163+AO31*D19)/AK43,(AA164+AO31*D19)/AL43,(AA165+AO31*D19)/AM43,(AA166+AO31*D19)/AN43,(AA167+AO31*D19)/AO43)*AP43","v":{"$error":"#VALUE!"}},{"$f":"MIN((AB163+AO31*D19)/AK43,(AB164+AO31*D19)/AL43,(AB165+AO31*D19)/AM43,(AB166+AO31*D19)/AN43,(AB167+AO31*D19)/AO43)*AP43","v":{"$error":"#VALUE!"}},{"$f":"MIN((AC163+AO31*D19)/AK43,(AC164+AO31*D19)/AL43,(AC165+AO31*D19)/AM43,(AC166+AO31*D19)/AN43,(AC167+AO31*D19)/AO43)*AP43","v":{"$error":"#VALUE!"}},{"$f":"MIN((AD163+AO31*D19)/AK43,(AD164+AO31*D19)/AL43,(AD165+AO31*D19)/AM43,(AD166+AO31*D19)/AN43,(AD167+AO31*D19)/AO43)*AP43","v":{"$error":"#VALUE!"}},{"$f":"MIN((AE163+AO31*D19)/AK43,(AE164+AO31*D19)/AL43,(AE165+AO31*D19)/AM43,(AE166+AO31*D19)/AN43,(AE167+AO31*D19)/AO43)*AP43","v":{"$error":"#VALUE!"}},{"$f":"MIN((AF163+AO31*D19)/AK43,(AF164+AO31*D19)/AL43,(AF165+AO31*D19)/AM43,(AF166+AO31*D19)/AN43,(AF167+AO31*D19)/AO43)*AP43","v":{"$error":"#VALUE!"}},{"$error":"#VALUE!"},null,"",{"$error":"#VALUE!"},{"$error":"#VALUE!"},{"$error":"#VALUE!"},{"$error":"#VALUE!"},{"$error":"#VALUE!"},{"$error":"#VALUE!"},{"$error":"#VALUE!"},{"$error":"#VALUE!"},{"$error":"#VALUE!"},{"$error":"#VALUE!"},{"$error":"#VALUE!"},{"$error":"#VALUE!"},{"$error":"#VALUE!"},{"$error":"#VALUE!"},{"$error":"#VALUE!"},{"$error":"#VALUE!"},{"$error":"#VALUE!"},{"$error":"#VALUE!"},{"$error":"#VALUE!"},{"$error":"#VALUE!"},{"$error":"#VALUE!"},{"$error":"#VALUE!"},"-"]
[null,null,null,"","",1,{"$f":"IF(G21<>\"\",(R132/100+M21/500)/100,\"\")","v":""},{"$f":"IF(G21<>\"\",IF(ISNA(IF(VLOOKUP(G21,$AI$8:$AV$25,14,FALSE)=\"\",\"\",(HLOOKUP(VLOOKUP(G21,$BA$10:$BB$20,2,FALSE),S127:AF132,6,FALSE)/100+M21/500)/100)),G114,IF(VLOOKUP(G21,$AI$8:$AV$25,14,FALSE)=\"\",\"\",(HLOOKUP(VLOOKUP(G21,$BA$10:$BB$20,2,FALSE),S127:AF132,6,FALSE)/100+M21/500)/100)),\"\")","v":""},{"$f":"IF(G21<>\"\",IF(ISNA(IF(VLOOKUP(G21,$AI$8:$AV$25,14,FALSE)=\"\",\"\",((HLOOKUP(VLOOKUP(G21,$BA$10:$BB$20,2,FALSE),$S$127:$AF$132,6,FALSE)+IF(HLOOKUP(F114,$AJ$7:$AT$31,21,FALSE)=1,D19,0))/100+M21/500)/100)),H114,IF(VLOOKUP(G21,$AI$8:$AV$25,14,FALSE)=\"\",\"\",((HLOOKUP(VLOOKUP(G21,$BA$10:$BB$20,2,FALSE),$S$127:$AF$132,6,FALSE)+IF(HLOOKUP(F114,$AJ$7:$AT$31,21,FALSE)=1,D19,0))/100+M21/500)/100)),\"\")","v":""},null,null,null,null,null,null,null,null,{"$f":"H19+AH39+D16+D17+D21+D19*AG16","v":{"$error":"#VALUE!"}},{"$f":"R114+Q10","v":{"$error":"#VALUE!"}},{"$f":"R114+R10","v":{"$error":"#VALUE!"}},{"$f":"R114+S10","v":{"$error":"#VALUE!"}},{"$f":"R114+T10","v":{"$error":"#VALUE!"}},{"$f":"R114+U10","v":{"$error":"#VALUE!"}},{"$f":"R114+V10","v":{"$error":"#VALUE!"}},{"$f":"R114+W10","v":{"$error":"#VALUE!"}},{"$f":"R114+X10","v":{"$error":"#VALUE!"}},{"$f":"R114+Y10","v":{"$error":"#VALUE!"}},{"$f":"R114+Z10","v":{"$error":"#VALUE!"}},{"$f":"R114+AA10","v":{"$error":"#VALUE!"}},{"$f":"R114+AB10","v":{"$error":"#VALUE!"}},{"$f":"R114+AC10","v":{"$error":"#VALUE!"}},{"$f":"R114+AD10","v":{"$error":"#VALUE!"}},null,null,null,"",{"$f":"MIN((S170+AN31*D19)/AK42,(S171+AN31*D19)/AL42,(S172+AN31*D19)/AM42,(S173+AN31*D19)/AN42,(S174+AN31*D19)/AO42)*AP42","v":{"$error":"#VALUE!"}},{"$f":"MIN((T170+AN31*D19)/AK42,(T171+AN31*D19)/AL42,(T172+AN31*D19)/AM42,(T173+AN31*D19)/AN42,(T174+AN31*D19)/AO42)*AP42","v":{"$error":"#VALUE!"}},{"$f":"MIN((U170+AN31*D19)/AK42,(U171+AN31*D19)/AL42,(U172+AN31*D19)/AM42,(U173+AN31*D19)/AN42,(U174+AN31*D19)/AO42)*AP42","v":{"$error":"#VALUE!"}},{"$f":"MIN((V170+AN31*D19)/AK42,(V171+AN31*D19)/AL42,(V172+AN31*D19)/AM42,(V173+AN31*D19)/AN42,(V174+AN31*D19)/AO42)*AP42","v":{"$error":"#VALUE!"}},{"$f":"MIN((W170+AN31*D19)/AK42,(W171+AN31*D19)/AL42,(W172+AN31*D19)/AM42,(W173+AN31*D19)/AN42,(W174+AN31*D19)/AO42)*AP42","v":{"$error":"#VALUE!"}},{"$f":"MIN((X170+AN31*D19)/AK42,(X171+AN31*D19)/AL42,(X172+AN31*D19)/AM42,(X173+AN31*D19)/AN42,(X174+AN31*D19)/AO42)*AP42","v":{"$error":"#VALUE!"}},{"$f":"MIN((Y170+AN31*D19)/AK42,(Y171+AN31*D19)/AL42,(Y172+AN31*D19)/AM42,(Y173+AN31*D19)/AN42,(Y174+AN31*D19)/AO42)*AP42","v":{"$error":"#VALUE!"}},{"$f":"MIN((Z170+AN31*D19)/AK42,(Z171+AN31*D19)/AL42,(Z172+AN31*D19)/AM42,(Z173+AN31*D19)/AN42,(Z174+AN31*D19)/AO42)*AP42","v":{"$error":"#VALUE!"}},{"$f":"MIN((AA170+AN31*D19)/AK42,(AA171+AN31*D19)/AL42,(AA172+AN31*D19)/AM42,(AA173+AN31*D19)/AN42,(AA174+AN31*D19)/AO42)*AP42","v":{"$error":"#VALUE!"}},{"$f":"MIN((AB170+AN31*D19)/AK42,(AB171+AN31*D19)/AL42,(AB172+AN31*D19)/AM42,(AB173+AN31*D19)/AN42,(AB174+AN31*D19)/AO42)*AP42","v":{"$error":"#VALUE!"}},{"$f":"MIN((AC170+AN31*D19)/AK42,(AC171+AN31*D19)/AL42,(AC172+AN31*D19)/AM42,(AC173+AN31*D19)/AN42,(AC174+AN31*D19)/AO42)*AP42","v":{"$error":"#VALUE!"}},{"$f":"MIN((AD170+AN31*D19)/AK42,(AD171+AN31*D19)/AL42,(AD172+AN31*D19)/AM42,(AD173+AN31*D19)/AN42,(AD174+AN31*D19)/AO42)*AP42","v":{"$error":"#VALUE!"}},{"$f":"MIN((AE170+AN31*D19)/AK42,(AE171+AN31*D19)/AL42,(AE172+AN31*D19)/AM42,(AE173+AN31*D19)/AN42,(AE174+AN31*D19)/AO42)*AP42","v":{"$error":"#VALUE!"}},{"$f":"MIN((AF170+AN31*D19)/AK42,(AF171+AN31*D19)/AL42,(AF172+AN31*D19)/AM42,(AF173+AN31*D19)/AN42,(AF174+AN31*D19)/AO42)*AP42","v":{"$error":"#VALUE!"}},{"$error":"#VALUE!"},null,"",{"$f":"MIN((S170+AO31*D19)/AK43,(S171+AO31*D19)/AL43,(S172+AO31*D19)/AM43,(S173+AO31*D19)/AN43,(S174+AO31*D19)/AO43)*AP43","v":{"$error":"#VALUE!"}},{"$f":"MIN((T170+AO31*D19)/AK43,(T171+AO31*D19)/AL43,(T172+AO31*D19)/AM43,(T173+AO31*D19)/AN43,(T174+AO31*D19)/AO43)*AP43","v":{"$error":"#VALUE!"}},{"$f":"MIN((U170+AO31*D19)/AK43,(U171+AO31*D19)/AL43,(U172+AO31*D19)/AM43,(U173+AO31*D19)/AN43,(U174+AO31*D19)/AO43)*AP43","v":{"$error":"#VALUE!"}},{"$f":"MIN((V170+AO31*D19)/AK43,(V171+AO31*D19)/AL43,(V172+AO31*D19)/AM43,(V173+AO31*D19)/AN43,(V174+AO31*D19)/AO43)*AP43","v":{"$error":"#VALUE!"}},{"$f":"MIN((W170+AO31*D19)/AK43,(W171+AO31*D19)/AL43,(W172+AO31*D19)/AM43,(W173+AO31*D19)/AN43,(W174+AO31*D19)/AO43)*AP43","v":{"$error":"#VALUE!"}},{"$f":"MIN((X170+AO31*D19)/AK43,(X171+AO31*D19)/AL43,(X172+AO31*D19)/AM43,(X173+AO31*D19)/AN43,(X174+AO31*D19)/AO43)*AP43","v":{"$error":"#VALUE!"}},{"$f":"MIN((Y170+AO31*D19)/AK43,(Y171+AO31*D19)/AL43,(Y172+AO31*D19)/AM43,(Y173+AO31*D19)/AN43,(Y174+AO31*D19)/AO43)*AP43","v":{"$error":"#VALUE!"}},{"$f":"MIN((Z170+AO31*D19)/AK43,(Z171+AO31*D19)/AL43,(Z172+AO31*D19)/AM43,(Z173+AO31*D19)/AN43,(Z174+AO31*D19)/AO43)*AP43","v":{"$error":"#VALUE!"}},{"$f":"MIN((AA170+AO31*D19)/AK43,(AA171+AO31*D19)/AL43,(AA172+AO31*D19)/AM43,(AA173+AO31*D19)/AN43,(AA174+AO31*D19)/AO43)*AP43","v":{"$error":"#VALUE!"}},{"$f":"MIN((AB170+AO31*D19)/AK43,(AB171+AO31*D19)/AL43,(AB172+AO31*D19)/AM43,(AB173+AO31*D19)/AN43,(AB174+AO31*D19)/AO43)*AP43","v":{"$error":"#VALUE!"}},{"$f":"MIN((AC170+AO31*D19)/AK43,(AC171+AO31*D19)/AL43,(AC172+AO31*D19)/AM43,(AC173+AO31*D19)/AN43,(AC174+AO31*D19)/AO43)*AP43","v":{"$error":"#VALUE!"}},{"$f":"MIN((AD170+AO31*D19)/AK43,(AD171+AO31*D19)/AL43,(AD172+AO31*D19)/AM43,(AD173+AO31*D19)/AN43,(AD174+AO31*D19)/AO43)*AP43","v":{"$error":"#VALUE!"}},{"$f":"MIN((AE170+AO31*D19)/AK43,(AE171+AO31*D19)/AL43,(AE172+AO31*D19)/AM43,(AE173+AO31*D19)/AN43,(AE174+AO31*D19)/AO43)*AP43","v":{"$error":"#VALUE!"}},{"$f":"MIN((AF170+AO31*D19)/AK43,(AF171+AO31*D19)/AL43,(AF172+AO31*D19)/AM43,(AF173+AO31*D19)/AN43,(AF174+AO31*D19)/AO43)*AP43","v":{"$error":"#VALUE!"}},{"$error":"#VALUE!"},null,"",{"$error":"#VALUE!"},{"$error":"#VALUE!"},{"$error":"#VALUE!"},{"$error":"#VALUE!"},{"$error":"#VALUE!"},{"$error":"#VALUE!"},{"$error":"#VALUE!"},{"$error":"#VALUE!"},{"$error":"#VALUE!"},{"$error":"#VALUE!"},{"$error":"#VALUE!"},{"$error":"#VALUE!"},{"$error":"#VALUE!"},{"$error":"#VALUE!"},{"$error":"#VALUE!"},{"$error":"#VALUE!"},{"$error":"#VALUE!"},{"$error":"#VALUE!"},{"$error":"#VALUE!"},{"$error":"#VALUE!"},{"$error":"#VALUE!"},{"$error":"#VALUE!"},"-"]
[null,null,null,"","",1,{"$f":"IF(G22<>\"\",(R139/100+M22/500)/100,\"\")","v":""},{"$f":"IF(G22<>\"\",IF(ISNA(IF(VLOOKUP(G22,$AI$8:$AV$25,14,FALSE)=\"\",\"\",(HLOOKUP(VLOOKUP(G22,$BA$10:$BB$20,2,FALSE),S134:AF139,6,FALSE)/100+M22/500)/100)),G115,IF(VLOOKUP(G22,$AI$8:$AV$25,14,FALSE)=\"\",\"\",(HLOOKUP(VLOOKUP(G22,$BA$10:$BB$20,2,FALSE),S134:AF139,6,FALSE)/100+M22/500)/100)),\"\")","v":""},{"$f":"IF(G22<>\"\",IF(ISNA(IF(VLOOKUP(G22,$AI$8:$AV$25,14,FALSE)=\"\",\"\",((HLOOKUP(VLOOKUP(G22,$BA$10:$BB$20,2,FALSE),$S$134:$AF$139,6,FALSE)+IF(HLOOKUP(F115,$AJ$7:$AT$31,21,FALSE)=1,D19,0))/100+M22/500)/100)),H115,IF(VLOOKUP(G22,$AI$8:$AV$25,14,FALSE)=\"\",\"\",((HLOOKUP(VLOOKUP(G22,$BA$10:$BB$20,2,FALSE),$S$134:$AF$139,6,FALSE)+IF(HLOOKUP(F115,$AJ$7:$AT$31,21,FALSE)=1,D19,0))/100+M22/500)/100)),\"\")","v":""},null,null,null,null,null,null,null,null,{"$f":"I19+AH40+D15+D17+D21+D19*AG16","v":{"$error":"#VALUE!"}},{"$f":"R115+Q11","v":{"$error":"#VALUE!"}},{"$f":"R115+R11","v":{"$error":"#VALUE!"}},{"$f":"R115+S11","v":{"$error":"#VALUE!"}},{"$f":"R115+T11","v":{"$error":"#VALUE!"}},{"$f":"R115+U11","v":{"$error":"#VALUE!"}},{"$f":"R115+V11","v":{"$error":"#VALUE!"}},{"$f":"R115+W11","v":{"$error":"#VALUE!"}},{"$f":"R115+X11","v":{"$error":"#VALUE!"}},{"$f":"R115+Y11","v":{"$error":"#VALUE!"}},{"$f":"R115+Z11","v":{"$error":"#VALUE!"}},{"$f":"R115+AA11","v":{"$error":"#VALUE!"}},{"$f":"R115+AB11","v":{"$error":"#VALUE!"}},{"$f":"R115+AC11","v":{"$error":"#VALUE!"}},{"$f":"R115+AD11","v":{"$error":"#VALUE!"}},null,null,null,"",{"$f":"MIN((S177+AN31*D19)/AK42,(S178+AN31*D19)/AL42,(S179+AN31*D19)/AM42,(S180+AN31*D19)/AN42,(S181+AN31*D19)/AO42)*AP42","v":{"$error":"#VALUE!"}},{"$f":"MIN((T177+AN31*D19)/AK42,(T178+AN31*D19)/AL42,(T179+AN31*D19)/AM42,(T180+AN31*D19)/AN42,(T181+AN31*D19)/AO42)*AP42","v":{"$error":"#VALUE!"}},{"$f":"MIN((U177+AN31*D19)/AK42,(U178+AN31*D19)/AL42,(U179+AN31*D19)/AM42,(U180+AN31*D19)/AN42,(U181+AN31*D19)/AO42)*AP42","v":{"$error":"#VALUE!"}},{"$f":"MIN((V177+AN31*D19)/AK42,(V178+AN31*D19)/AL42,(V179+AN31*D19)/AM42,(V180+AN31*D19)/AN42,(V181+AN31*D19)/AO42)*AP42","v":{"$error":"#VALUE!"}},{"$f":"MIN((W177+AN31*D19)/AK42,(W178+AN31*D19)/AL42,(W179+AN31*D19)/AM42,(W180+AN31*D19)/AN42,(W181+AN31*D19)/AO42)*AP42","v":{"$error":"#VALUE!"}},{"$f":"MIN((X177+AN31*D19)/AK42,(X178+AN31*D19)/AL42,(X179+AN31*D19)/AM42,(X180+AN31*D19)/AN42,(X181+AN31*D19)/AO42)*AP42","v":{"$error":"#VALUE!"}},{"$f":"MIN((Y177+AN31*D19)/AK42,(Y178+AN31*D19)/AL42,(Y179+AN31*D19)/AM42,(Y180+AN31*D19)/AN42,(Y181+AN31*D19)/AO42)*AP42","v":{"$error":"#VALUE!"}},{"$f":"MIN((Z177+AN31*D19)/AK42,(Z178+AN31*D19)/AL42,(Z179+AN31*D19)/AM42,(Z180+AN31*D19)/AN42,(Z181+AN31*D19)/AO42)*AP42","v":{"$error":"#VALUE!"}},{"$f":"MIN((AA177+AN31*D19)/AK42,(AA178+AN31*D19)/AL42,(AA179+AN31*D19)/AM42,(AA180+AN31*D19)/AN42,(AA181+AN31*D19)/AO42)*AP42","v":{"$error":"#VALUE!"}},{"$f":"MIN((AB177+AN31*D19)/AK42,(AB178+AN31*D19)/AL42,(AB179+AN31*D19)/AM42,(AB180+AN31*D19)/AN42,(AB181+AN31*D19)/AO42)*AP42","v":{"$error":"#VALUE!"}},{"$f":"MIN((AC177+AN31*D19)/AK42,(AC178+AN31*D19)/AL42,(AC179+AN31*D19)/AM42,(AC180+AN31*D19)/AN42,(AC181+AN31*D19)/AO42)*AP42","v":{"$error":"#VALUE!"}},{"$f":"MIN((AD177+AN31*D19)/AK42,(AD178+AN31*D19)/AL42,(AD179+AN31*D19)/AM42,(AD180+AN31*D19)/AN42,(AD181+AN31*D19)/AO42)*AP42","v":{"$error":"#VALUE!"}},{"$f":"MIN((AE177+AN31*D19)/AK42,(AE178+AN31*D19)/AL42,(AE179+AN31*D19)/AM42,(AE180+AN31*D19)/AN42,(AE181+AN31*D19)/AO42)*AP42","v":{"$error":"#VALUE!"}},{"$f":"MIN((AF177+AN31*D19)/AK42,(AF178+AN31*D19)/AL42,(AF179+AN31*D19)/AM42,(AF180+AN31*D19)/AN42,(AF181+AN31*D19)/AO42)*AP42","v":{"$error":"#VALUE!"}},{"$error":"#VALUE!"},null,"",{"$f":"MIN((S177+AO31*D19)/AK43,(S178+AO31*D19)/AL43,(S179+AO31*D19)/AM43,(S180+AO31*D19)/AN43,(S181+AO31*D19)/AO43)*AP43","v":{"$error":"#VALUE!"}},{"$f":"MIN((T177+AO31*D19)/AK43,(T178+AO31*D19)/AL43,(T179+AO31*D19)/AM43,(T180+AO31*D19)/AN43,(T181+AO31*D19)/AO43)*AP43","v":{"$error":"#VALUE!"}},{"$f":"MIN((U177+AO31*D19)/AK43,(U178+AO31*D19)/AL43,(U179+AO31*D19)/AM43,(U180+AO31*D19)/AN43,(U181+AO31*D19)/AO43)*AP43","v":{"$error":"#VALUE!"}},{"$f":"MIN((V177+AO31*D19)/AK43,(V178+AO31*D19)/AL43,(V179+AO31*D19)/AM43,(V180+AO31*D19)/AN43,(V181+AO31*D19)/AO43)*AP43","v":{"$error":"#VALUE!"}},{"$f":"MIN((W177+AO31*D19)/AK43,(W178+AO31*D19)/AL43,(W179+AO31*D19)/AM43,(W180+AO31*D19)/AN43,(W181+AO31*D19)/AO43)*AP43","v":{"$error":"#VALUE!"}},{"$f":"MIN((X177+AO31*D19)/AK43,(X178+AO31*D19)/AL43,(X179+AO31*D19)/AM43,(X180+AO31*D19)/AN43,(X181+AO31*D19)/AO43)*AP43","v":{"$error":"#VALUE!"}},{"$f":"MIN((Y177+AO31*D19)/AK43,(Y178+AO31*D19)/AL43,(Y179+AO31*D19)/AM43,(Y180+AO31*D19)/AN43,(Y181+AO31*D19)/AO43)*AP43","v":{"$error":"#VALUE!"}},{"$f":"MIN((Z177+AO31*D19)/AK43,(Z178+AO31*D19)/AL43,(Z179+AO31*D19)/AM43,(Z180+AO31*D19)/AN43,(Z181+AO31*D19)/AO43)*AP43","v":{"$error":"#VALUE!"}},{"$f":"MIN((AA177+AO31*D19)/AK43,(AA178+AO31*D19)/AL43,(AA179+AO31*D19)/AM43,(AA180+AO31*D19)/AN43,(AA181+AO31*D19)/AO43)*AP43","v":{"$error":"#VALUE!"}},{"$f":"MIN((AB177+AO31*D19)/AK43,(AB178+AO31*D19)/AL43,(AB179+AO31*D19)/AM43,(AB180+AO31*D19)/AN43,(AB181+AO31*D19)/AO43)*AP43","v":{"$error":"#VALUE!"}},{"$f":"MIN((AC177+AO31*D19)/AK43,(AC178+AO31*D19)/AL43,(AC179+AO31*D19)/AM43,(AC180+AO31*D19)/AN43,(AC181+AO31*D19)/AO43)*AP43","v":{"$error":"#VALUE!"}},{"$f":"MIN((AD177+AO31*D19)/AK43,(AD178+AO31*D19)/AL43,(AD179+AO31*D19)/AM43,(AD180+AO31*D19)/AN43,(AD181+AO31*D19)/AO43)*AP43","v":{"$error":"#VALUE!"}},{"$f":"MIN((AE177+AO31*D19)/AK43,(AE178+AO31*D19)/AL43,(AE179+AO31*D19)/AM43,(AE180+AO31*D19)/AN43,(AE181+AO31*D19)/AO43)*AP43","v":{"$error":"#VALUE!"}},{"$f":"MIN((AF177+AO31*D19)/AK43,(AF178+AO31*D19)/AL43,(AF179+AO31*D19)/AM43,(AF180+AO31*D19)/AN43,(AF181+AO31*D19)/AO43)*AP43","v":{"$error":"#VALUE!"}},{"$error":"#VALUE!"},null,"",{"$error":"#VALUE!"},{"$error":"#VALUE!"},{"$error":"#VALUE!"},{"$error":"#VALUE!"},{"$error":"#VALUE!"},{"$error":"#VALUE!"},{"$error":"#VALUE!"},{"$error":"#VALUE!"},{"$error":"#VALUE!"},{"$error":"#VALUE!"},{"$error":"#VALUE!"},{"$error":"#VALUE!"},{"$error":"#VALUE!"},{"$error":"#VALUE!"},{"$error":"#VALUE!"},{"$error":"#VALUE!"},{"$error":"#VALUE!"},{"$error":"#VALUE!"},{"$error":"#VALUE!"},{"$error":"#VALUE!"},{"$error":"#VALUE!"},{"$error":"#VALUE!"},"-"]
[null,null,null,"","",1,{"$f":"IF(G23<>\"\",(R146/100+M23/500)/100,\"\")","v":""},{"$f":"IF(G23<>\"\",IF(ISNA(IF(VLOOKUP(G23,$AI$8:$AV$25,14,FALSE)=\"\",\"\",(HLOOKUP(VLOOKUP(G23,$BA$10:$BB$20,2,FALSE),S141:AF146,6,FALSE)/100+M23/500)/100)),G116,IF(VLOOKUP(G23,$AI$8:$AV$25,14,FALSE)=\"\",\"\",(HLOOKUP(VLOOKUP(G23,$BA$10:$BB$20,2,FALSE),S141:AF146,6,FALSE)/100+M23/500)/100)),\"\")","v":""},{"$f":"IF(G23<>\"\",IF(ISNA(IF(VLOOKUP(G23,$AI$8:$AV$25,14,FALSE)=\"\",\"\",((HLOOKUP(VLOOKUP(G23,$BA$10:$BB$20,2,FALSE),$S$141:$AF$146,6,FALSE)+IF(HLOOKUP(F116,$AJ$7:$AT$31,21,FALSE)=1,D19,0))/100+M23/500)/100)),H116,IF(VLOOKUP(G23,$AI$8:$AV$25,14,FALSE)=\"\",\"\",((HLOOKUP(VLOOKUP(G23,$BA$10:$BB$20,2,FALSE),$S$141:$AF$146,6,FALSE)+IF(HLOOKUP(F116,$AJ$7:$AT$31,21,FALSE)=1,D19,0))/100+M23/500)/100)),\"\")","v":""},null,null,null,null,null,null,null,null,{"$f":"J19+AH41+D15+D17+D21+D19*AG16","v":{"$error":"#VALUE!"}},{"$f":"R116+Q12","v":{"$error":"#VALUE!"}},{"$f":"R116+R12","v":{"$error":"#VALUE!"}},{"$f":"R116+S12","v":{"$error":"#VALUE!"}},{"$f":"R116+T12","v":{"$error":"#VALUE!"}},{"$f":"R116+U12","v":{"$error":"#VALUE!"}},{"$f":"R116+V12","v":{"$error":"#VALUE!"}},{"$f":"R116+W12","v":{"$error":"#VALUE!"}},{"$f":"R116+X12","v":{"$error":"#VALUE!"}},{"$f":"R116+Y12","v":{"$error":"#VALUE!"}},{"$f":"R116+Z12","v":{"$error":"#VALUE!"}},{"$f":"R116+AA12","v":{"$error":"#VALUE!"}},{"$f":"R116+AB12","v":{"$error":"#VALUE!"}},{"$f":"R116+AC12","v":{"$error":"#VALUE!"}},{"$f":"R116+AD12","v":{"$error":"#VALUE!"}},null,null,null,0,{"$f":"MIN((S184+AN31*D19)/AK42,(S185+AN31*D19)/AL42,(S186+AN31*D19)/AM42,(S187+AN31*D19)/AN42,(S188+AN31*D19)/AO42)*AP42","v":{"$error":"#VALUE!"}},{"$f":"MIN((T184+AN31*D19)/AK42,(T185+AN31*D19)/AL42,(T186+AN31*D19)/AM42,(T187+AN31*D19)/AN42,(T188+AN31*D19)/AO42)*AP42","v":{"$error":"#VALUE!"}},{"$f":"MIN((U184+AN31*D19)/AK42,(U185+AN31*D19)/AL42,(U186+AN31*D19)/AM42,(U187+AN31*D19)/AN42,(U188+AN31*D19)/AO42)*AP42","v":{"$error":"#VALUE!"}},{"$f":"MIN((V184+AN31*D19)/AK42,(V185+AN31*D19)/AL42,(V186+AN31*D19)/AM42,(V187+AN31*D19)/AN42,(V188+AN31*D19)/AO42)*AP42","v":{"$error":"#VALUE!"}},{"$f":"MIN((W184+AN31*D19)/AK42,(W185+AN31*D19)/AL42,(W186+AN31*D19)/AM42,(W187+AN31*D19)/AN42,(W188+AN31*D19)/AO42)*AP42","v":{"$error":"#VALUE!"}},{"$f":"MIN((X184+AN31*D19)/AK42,(X185+AN31*D19)/AL42,(X186+AN31*D19)/AM42,(X187+AN31*D19)/AN42,(X188+AN31*D19)/AO42)*AP42","v":{"$error":"#VALUE!"}},{"$f":"MIN((Y184+AN31*D19)/AK42,(Y185+AN31*D19)/AL42,(Y186+AN31*D19)/AM42,(Y187+AN31*D19)/AN42,(Y188+AN31*D19)/AO42)*AP42","v":{"$error":"#VALUE!"}},{"$f":"MIN((Z184+AN31*D19)/AK42,(Z185+AN31*D19)/AL42,(Z186+AN31*D19)/AM42,(Z187+AN31*D19)/AN42,(Z188+AN31*D19)/AO42)*AP42","v":{"$error":"#VALUE!"}},{"$f":"MIN((AA184+AN31*D19)/AK42,(AA185+AN31*D19)/AL42,(AA186+AN31*D19)/AM42,(AA187+AN31*D19)/AN42,(AA188+AN31*D19)/AO42)*AP42","v":{"$error":"#VALUE!"}},{"$f":"MIN((AB184+AN31*D19)/AK42,(AB185+AN31*D19)/AL42,(AB186+AN31*D19)/AM42,(AB187+AN31*D19)/AN42,(AB188+AN31*D19)/AO42)*AP42","v":{"$error":"#VALUE!"}},{"$f":"MIN((AC184+AN31*D19)/AK42,(AC185+AN31*D19)/AL42,(AC186+AN31*D19)/AM42,(AC187+AN31*D19)/AN42,(AC188+AN31*D19)/AO42)*AP42","v":{"$error":"#VALUE!"}},{"$f":"MIN((AD184+AN31*D19)/AK42,(AD185+AN31*D19)/AL42,(AD186+AN31*D19)/AM42,(AD187+AN31*D19)/AN42,(AD188+AN31*D19)/AO42)*AP42","v":{"$error":"#VALUE!"}},{"$f":"MIN((AE184+AN31*D19)/AK42,(AE185+AN31*D19)/AL42,(AE186+AN31*D19)/AM42,(AE187+AN31*D19)/AN42,(AE188+AN31*D19)/AO42)*AP42","v":{"$error":"#VALUE!"}},{"$f":"MIN((AF184+AN31*D19)/AK42,(AF185+AN31*D19)/AL42,(AF186+AN31*D19)/AM42,(AF187+AN31*D19)/AN42,(AF188+AN31*D19)/AO42)*AP42","v":{"$error":"#VALUE!"}},{"$error":"#VALUE!"},null,0,{"$f":"MIN((S184+AO31*D19)/AK43,(S185+AO31*D19)/AL43,(S186+AO31*D19)/AM43,(S187+AO31*D19)/AN43,(S188+AO31*D19)/AO43)*AP43","v":{"$error":"#VALUE!"}},{"$f":"MIN((T184+AO31*D19)/AK43,(T185+AO31*D19)/AL43,(T186+AO31*D19)/AM43,(T187+AO31*D19)/AN43,(T188+AO31*D19)/AO43)*AP43","v":{"$error":"#VALUE!"}},{"$f":"MIN((U184+AO31*D19)/AK43,(U185+AO31*D19)/AL43,(U186+AO31*D19)/AM43,(U187+AO31*D19)/AN43,(U188+AO31*D19)/AO43)*AP43","v":{"$error":"#VALUE!"}},{"$f":"MIN((V184+AO31*D19)/AK43,(V185+AO31*D19)/AL43,(V186+AO31*D19)/AM43,(V187+AO31*D19)/AN43,(V188+AO31*D19)/AO43)*AP43","v":{"$error":"#VALUE!"}},{"$f":"MIN((W184+AO31*D19)/AK43,(W185+AO31*D19)/AL43,(W186+AO31*D19)/AM43,(W187+AO31*D19)/AN43,(W188+AO31*D19)/AO43)*AP43","v":{"$error":"#VALUE!"}},{"$f":"MIN((X184+AO31*D19)/AK43,(X185+AO31*D19)/AL43,(X186+AO31*D19)/AM43,(X187+AO31*D19)/AN43,(X188+AO31*D19)/AO43)*AP43","v":{"$error":"#VALUE!"}},{"$f":"MIN((Y184+AO31*D19)/AK43,(Y185+AO31*D19)/AL43,(Y186+AO31*D19)/AM43,(Y187+AO31*D19)/AN43,(Y188+AO31*D19)/AO43)*AP43","v":{"$error":"#VALUE!"}},{"$f":"MIN((Z184+AO31*D19)/AK43,(Z185+AO31*D19)/AL43,(Z186+AO31*D19)/AM43,(Z187+AO31*D19)/AN43,(Z188+AO31*D19)/AO43)*AP43","v":{"$error":"#VALUE!"}},{"$f":"MIN((AA184+AO31*D19)/AK43,(AA185+AO31*D19)/AL43,(AA186+AO31*D19)/AM43,(AA187+AO31*D19)/AN43,(AA188+AO31*D19)/AO43)*AP43","v":{"$error":"#VALUE!"}},{"$f":"MIN((AB184+AO31*D19)/AK43,(AB185+AO31*D19)/AL43,(AB186+AO31*D19)/AM43,(AB187+AO31*D19)/AN43,(AB188+AO31*D19)/AO43)*AP43","v":{"$error":"#VALUE!"}},{"$f":"MIN((AC184+AO31*D19)/AK43,(AC185+AO31*D19)/AL43,(AC186+AO31*D19)/AM43,(AC187+AO31*D19)/AN43,(AC188+AO31*D19)/AO43)*AP43","v":{"$error":"#VALUE!"}},{"$f":"MIN((AD184+AO31*D19)/AK43,(AD185+AO31*D19)/AL43,(AD186+AO31*D19)/AM43,(AD87+AO31*D19)/AN43,(AD188+AO31*D19)/AO43)*AP43","v":{"$error":"#VALUE!"}},{"$f":"MIN((AE184+AO31*D19)/AK43,(AE185+AO31*D19)/AL43,(AE186+AO31*D19)/AM43,(AE187+AO31*D19)/AN43,(AE188+AO31*D19)/AO43)*AP43","v":{"$error":"#VALUE!"}},{"$f":"MIN((AF184+AO31*D19)/AK43,(AF185+AO31*D19)/AL43,(AF186+AO31*D19)/AM43,(AF187+AO31*D19)/AN43,(AF188+AO31*D19)/AO43)*AP43","v":{"$error":"#VALUE!"}},{"$error":"#VALUE!"},null,"",{"$error":"#VALUE!"},{"$error":"#VALUE!"},{"$error":"#VALUE!"},{"$error":"#VALUE!"},{"$error":"#VALUE!"},{"$error":"#VALUE!"},{"$error":"#VALUE!"},{"$error":"#VALUE!"},{"$error":"#VALUE!"},{"$error":"#VALUE!"},{"$error":"#VALUE!"},{"$error":"#VALUE!"},{"$error":"#VALUE!"},{"$error":"#VALUE!"},{"$error":"#VALUE!"},{"$error":"#VALUE!"},{"$error":"#VALUE!"},{"$error":"#VALUE!"},{"$error":"#VALUE!"},{"$error":"#VALUE!"},{"$error":"#VALUE!"},{"$error":"#VALUE!"},"-"]
[null,null,null,"","",1,{"$f":"IF(G24<>\"\",(R153/100+M24/500)/100,\"\")","v":""},{"$f":"IF(G24<>\"\",IF(ISNA(IF(VLOOKUP(G24,$AI$8:$AV$25,14,FALSE)=\"\",\"\",(HLOOKUP(VLOOKUP(G24,$BA$10:$BB$20,2,FALSE),S148:AF153,6,FALSE)/100+M24/500)/100)),G117,IF(VLOOKUP(G24,$AI$8:$AV$25,14,FALSE)=\"\",\"\",(HLOOKUP(VLOOKUP(G24,$BA$10:$BB$20,2,FALSE),S148:AF153,6,FALSE)/100+M24/500)/100)),\"\")","v":""},{"$f":"IF(G24<>\"\",IF(ISNA(IF(VLOOKUP(G24,$AI$8:$AV$25,14,FALSE)=\"\",\"\",((HLOOKUP(VLOOKUP(G24,$BA$10:$BB$20,2,FALSE),$S$148:$AF$153,6,FALSE)+IF(HLOOKUP(F117,$AJ$7:$AT$31,21,FALSE)=1,D19,0))/100+M24/500)/100)),H117,IF(VLOOKUP(G24,$AI$8:$AV$25,14,FALSE)=\"\",\"\",((HLOOKUP(VLOOKUP(G24,$BA$10:$BB$20,2,FALSE),$S$148:$AF$153,6,FALSE)+IF(HLOOKUP(F117,$AJ$7:$AT$31,21,FALSE)=1,D19,0))/100+M24/500)/100)),\"\")","v":""},null,null,null,null,null,null,null,null,{"$f":"K19+AH42+D16+D17+D21+D19*AG16","v":{"$error":"#VALUE!"}},{"$f":"R117+Q13","v":{"$error":"#VALUE!"}},{"$f":"R117+R13","v":{"$error":"#VALUE!"}},{"$f":"R117+S13","v":{"$error":"#VALUE!"}},{"$f":"R117+T13","v":{"$error":"#VALUE!"}},{"$f":"R117+U13","v":{"$error":"#VALUE!"}},{"$f":"R117+V13","v":{"$error":"#VALUE!"}},{"$f":"R117+W13","v":{"$error":"#VALUE!"}},{"$f":"R117+X13","v":{"$error":"#VALUE!"}},{"$f":"R117+Y13","v":{"$error":"#VALUE!"}},{"$f":"R117+Z13","v":{"$error":"#VALUE!"}},{"$f":"R117+AA13","v":{"$error":"#VALUE!"}},{"$f":"R117+AB13","v":{"$error":"#VALUE!"}},{"$f":"R117+AC13","v":{"$error":"#VALUE!"}},{"$f":"R117+AD13","v":{"$error":"#VALUE!"}},null,null,null,0,null,null,null,null,null,null,null,null,null,null,null,null,null,null,0,null,0,null,null,null,null,null,null,null,null,null,null,null,null,null,null,0,null,"",{"$error":"#VALUE!"},{"$error":"#VALUE!"},{"$error":"#VALUE!"},{"$error":"#VALUE!"},{"$error":"#VALUE!"},{"$error":"#VALUE!"},{"$error":"#VALUE!"},{"$error":"#VALUE!"},{"$error":"#VALUE!"},{"$error":"#VALUE!"},{"$error":"#VALUE!"},{"$error":"#VALUE!"},{"$error":"#VALUE!"},{"$error":"#VALUE!"},{"$error":"#VALUE!"},{"$error":"#VALUE!"},{"$error":"#VALUE!"},{"$error":"#VALUE!"},{"$error":"#VALUE!"},{"$error":"#VALUE!"},{"$error":"#VALUE!"},{"$error":"#VALUE!"},"-"]
[null,null,null,"","",1,{"$f":"IF(G25<>\"\",(R160/100+M25/500)/100,\"\")","v":""},{"$f":"IF(G25<>\"\",IF(ISNA(IF(VLOOKUP(G25,$AI$8:$AV$25,14,FALSE)=\"\",\"\",(HLOOKUP(VLOOKUP(G25,$BA$10:$BB$20,2,FALSE),S155:AF160,6,FALSE)/100+M25/500)/100)),G118,IF(VLOOKUP(G25,$AI$8:$AV$25,14,FALSE)=\"\",\"\",(HLOOKUP(VLOOKUP(G25,$BA$10:$BB$20,2,FALSE),S155:AF160,6,FALSE)/100+M25/500)/100)),\"\")","v":""},{"$f":"IF(G25<>\"\",IF(ISNA(IF(VLOOKUP(G25,$AI$8:$AV$25,14,FALSE)=\"\",\"\",((HLOOKUP(VLOOKUP(G25,$BA$10:$BB$20,2,FALSE),$S$155:$AF$160,6,FALSE)+IF(HLOOKUP(F118,$AJ$7:$AT$31,21,FALSE)=1,D19,0))/100+M25/500)/100)),H118,IF(VLOOKUP(G25,$AI$8:$AV$25,14,FALSE)=\"\",\"\",((HLOOKUP(VLOOKUP(G25,$BA$10:$BB$20,2,FALSE),$S$155:$AF$160,6,FALSE)+IF(HLOOKUP(F118,$AJ$7:$AT$31,21,FALSE)=1,D19,0))/100+M25/500)/100)),\"\")","v":""},null,null,null,null,null,null,null,null,{"$f":"L19+AH43+D15+D17+D21+D19*AG16","v":{"$error":"#VALUE!"}},{"$f":"R118+Q14","v":{"$error":"#VALUE!"}},{"$f":"R118+R14","v":{"$error":"#VALUE!"}},{"$f":"R118+S14","v":{"$error":"#VALUE!"}},{"$f":"R118+T14","v":{"$error":"#VALUE!"}},{"$f":"R118+U14","v":{"$error":"#VALUE!"}},{"$f":"R118+V14","v":{"$error":"#VALUE!"}},{"$f":"R118+W14","v":{"$error":"#VALUE!"}},{"$f":"R118+X14","v":{"$error":"#VALUE!"}},{"$f":"R118+Y14","v":{"$error":"#VALUE!"}},{"$f":"R118+Z14","v":{"$error":"#VALUE!"}},{"$f":"R118+AA14","v":{"$error":"#VALUE!"}},{"$f":"R118+AB14","v":{"$error":"#VALUE!"}},{"$f":"R118+AC14","v":{"$error":"#VALUE!"}},{"$f":"R118+AD14","v":{"$error":"#VALUE!"}},null,null,null,0,null,null,null,null,null,null,null,null,null,null,null,null,null,null,0,null,0,null,null,null,null,null,null,null,null,null,null,null,null,null,null,0,null,"",{"$error":"#VALUE!"},{"$error":"#VALUE!"},{"$error":"#VALUE!"},{"$error":"#VALUE!"},{"$error":"#VALUE!"},{"$error":"#VALUE!"},{"$error":"#VALUE!"},{"$error":"#VALUE!"},{"$error":"#VALUE!"},{"$error":"#VALUE!"},{"$error":"#VALUE!"},{"$error":"#VALUE!"},{"$error":"#VALUE!"},{"$error":"#VALUE!"},{"$error":"#VALUE!"},{"$error":"#VALUE!"},{"$error":"#VALUE!"},{"$error":"#VALUE!"},{"$error":"#VALUE!"},{"$error":"#VALUE!"},{"$error":"#VALUE!"},{"$error":"#VALUE!"},"-"]
[null,null,null,"","",1,{"$f":"IF(G26<>\"\",(R167/100+M26/500)/100,\"\")","v":""},{"$f":"IF(G26<>\"\",IF(ISNA(IF(VLOOKUP(G26,$AI$8:$AV$25,14,FALSE)=\"\",\"\",(HLOOKUP(VLOOKUP(G26,$BA$10:$BB$20,2,FALSE),S162:AF167,6,FALSE)/100+M26/500)/100)),G119,IF(VLOOKUP(G26,$AI$8:$AV$25,14,FALSE)=\"\",\"\",(HLOOKUP(VLOOKUP(G26,$BA$10:$BB$20,2,FALSE),S162:AF167,6,FALSE)/100+M26/500)/100)),\"\")","v":""},{"$f":"IF(G26<>\"\",IF(ISNA(IF(VLOOKUP(G26,$AI$8:$AV$25,14,FALSE)=\"\",\"\",((HLOOKUP(VLOOKUP(G26,$BA$10:$BB$20,2,FALSE),$S$162:$AF$167,6,FALSE)+IF(HLOOKUP(F119,$AJ$7:$AT$31,21,FALSE)=1,D19,0))/100+M26/500)/100)),H119,IF(VLOOKUP(G26,$AI$8:$AV$25,14,FALSE)=\"\",\"\",((HLOOKUP(VLOOKUP(G26,$BA$10:$BB$20,2,FALSE),$S$162:$AF$167,6,FALSE)+IF(HLOOKUP(F119,$AJ$7:$AT$31,21,FALSE)=1,D19,0))/100+M26/500)/100)),\"\")","v":""},null,null,null,null,null,null,null,null,null,null,null,null,null,null,null,null,null,null,null,null,null,null,null,null,null,null,null,null,null,null,null,null,null,null,null,null,null,null,null,null,null,null,null,null,null,null,null,null,null,null,null,null,null,null,null,null,null,null,null,null,"",{"$error":"#VALUE!"},{"$error":"#VALUE!"},{"$error":"#VALUE!"},{"$error":"#VALUE!"},{"$error":"#VALUE!"},{"$error":"#VALUE!"},{"$error":"#VALUE!"},{"$error":"#VALUE!"},{"$error":"#VALUE!"},{"$error":"#VALUE!"},{"$error":"#VALUE!"},{"$error":"#VALUE!"},{"$error":"#VALUE!"},{"$error":"#VALUE!"},{"$error":"#VALUE!"},{"$error":"#VALUE!"},{"$error":"#VALUE!"},{"$error":"#VALUE!"},{"$error":"#VALUE!"},{"$error":"#VALUE!"},{"$error":"#VALUE!"},{"$error":"#VALUE!"},"-"]
[null,null,null,"","",1,{"$f":"IF(G27<>\"\",(R174/100+M27/500)/100,\"\")","v":""},{"$f":"IF(G27<>\"\",IF(ISNA(IF(VLOOKUP(G27,$AI$8:$AV$25,14,FALSE)=\"\",\"\",(HLOOKUP(VLOOKUP(G27,$BA$10:$BB$20,2,FALSE),S169:AF174,6,FALSE)/100+M27/500)/100)),G120,IF(VLOOKUP(G27,$AI$8:$AV$25,14,FALSE)=\"\",\"\",(HLOOKUP(VLOOKUP(G27,$BA$10:$BB$20,2,FALSE),S169:AF174,6,FALSE)/100+M27/500)/100)),\"\")","v":""},{"$f":"IF(G27<>\"\",IF(ISNA(IF(VLOOKUP(G27,$AI$8:$AV$25,14,FALSE)=\"\",\"\",((HLOOKUP(VLOOKUP(G27,$BA$10:$BB$20,2,FALSE),$S$169:$AF$174,6,FALSE)+IF(HLOOKUP(F120,$AJ$7:$AT$31,21,FALSE)=1,D19,0))/100+M27/500)/100)),H120,IF(VLOOKUP(G27,$AI$8:$AV$25,14,FALSE)=\"\",\"\",((HLOOKUP(VLOOKUP(G27,$BA$10:$BB$20,2,FALSE),$S$169:$AF$174,6,FALSE)+IF(HLOOKUP(F120,$AJ$7:$AT$31,21,FALSE)=1,D19,0))/100+M27/500)/100)),\"\")","v":""},null,null,null,null,null,null,null,null,{"$f":"G20","v":""},{"$f":"S113","v":"kit 1"},{"$f":"T113","v":"kit 2A"},"kit 2B","kit 4A","kit 4B","kit 5","kit 6A","kit 6B","kit 7","kit 8","kit 9A","kit 9B",{"$f":"AE113","v":"kit 10"},{"$f":"AF113","v":"kit 11"},null,null,null,7,{"$f":"Q9","v":"kit 1"},"kit 2A","kit 2B","kit 4A","kit 4B","kit 5","kit 6A","kit 6B","kit 7","kit 8","kit 9A","kit 9B","kit 10","kit 11","MAX",null,8,{"$f":"Q9","v":"kit 1"},"kit 2A","kit 2B","kit 4A","kit 4B","kit 5","kit 6A","kit 6B","kit 7","kit 8","kit 9A","kit 9B","kit 10","kit 11","MAX",null,"",{"$f":"IF(AY69=AK69,BR100,IF(AY69=AL69,BS100,IF(AY69=AM69,BT100,IF(AY69=AN69,BU100,IF(AY69=AO69,BV100,IF(AY69=AP69,BW100,IF(AY69=AQ69,BX100,IF(AY69=AR69,BY100,BT120))))))))","v":{"$error":"#VALUE!"}},{"$f":"IF(AY69=AS69,BZ100,IF(AY69=AT69,CA100,IF(AY69=AU69,CB100,IF(AY69=AV69,CC100,IF(AY69=AW69,CD100,IF(AY69=AX69,CE100,CO120))))))","v":{"$error":"#VALUE!"}},{"$f":"IF(BP69=BB69,BR100,IF(BP69=BC69,BS100,IF(BP69=BD69,BT100,IF(BP69=BE69,BU100,IF(BP69=BF69,BV100,IF(BP69=BG69,BW100,IF(BP69=BH69,BX100,IF(BP69=BI69,BY100,BV120))))))))","v":{"$error":"#VALUE!"}},{"$f":"IF(BP69=BJ69,BZ100,IF(BP69=BK69,CA100,IF(BP69=BL69,CB100,IF(BP69=BM69,CC100,IF(BP69=BN69,CD100,IF(BP69=BO69,CE100,CO120))))))","v":{"$error":"#VALUE!"}},{"$error":"#VALUE!"},{"$error":"#VALUE!"},{"$error":"#VALUE!"},{"$error":"#VALUE!"},{"$error":"#VALUE!"},{"$error":"#VALUE!"},{"$error":"#VALUE!"},{"$error":"#VALUE!"},{"$error":"#VALUE!"},{"$error":"#VALUE!"},{"$error":"#VALUE!"},{"$error":"#VALUE!"},{"$error":"#VALUE!"},{"$error":"#VALUE!"},{"$error":"#VALUE!"},{"$error":"#VALUE!"},{"$error":"#VALUE!"},{"$error":"#VALUE!"},"-"]
[null,null,null,"","",1,{"$f":"IF(G28<>\"\",(R181/100+M28/500)/100,\"\")","v":""},{"$f":"IF(G28<>\"\",IF(ISNA(IF(VLOOKUP(G28,$AI$8:$AV$25,14,FALSE)=\"\",\"\",(HLOOKUP(VLOOKUP(G28,$BA$10:$BB$20,2,FALSE),S176:AF181,6,FALSE)/100+M28/500)/100)),G121,IF(VLOOKUP(G28,$AI$8:$AV$25,14,FALSE)=\"\",\"\",(HLOOKUP(VLOOKUP(G28,$BA$10:$BB$20,2,FALSE),S176:AF181,6,FALSE)/100+M28/500)/100)),\"\")","v":""},{"$f":"IF(G28<>\"\",IF(ISNA(IF(VLOOKUP(G28,$AI$8:$AV$25,14,FALSE)=\"\",\"\",((HLOOKUP(VLOOKUP(G28,$BA$10:$BB$20,2,FALSE),$S$176:$AF$181,6,FALSE)+IF(HLOOKUP(F121,$AJ$7:$AT$31,21,FALSE)=1,D19,0))/100+M28/500)/100)),H121,IF(VLOOKUP(G28,$AI$8:$AV$25,14,FALSE)=\"\",\"\",((HLOOKUP(VLOOKUP(G28,$BA$10:$BB$20,2,FALSE),$S$176:$AF$181,6,FALSE)+IF(HLOOKUP(F121,$AJ$7:$AT$31,21,FALSE)=1,D19,0))/100+M28/500)/100)),\"\")","v":""},null,null,null,null,null,null,null,null,{"$f":"H20+AH39+D16+D17+D21+D19*AG17","v":{"$error":"#VALUE!"}},{"$f":"R121+Q10","v":{"$error":"#VALUE!"}},{"$f":"R121+R10","v":{"$error":"#VALUE!"}},{"$f":"R121+S10","v":{"$error":"#VALUE!"}},{"$f":"R121+T10","v":{"$error":"#VALUE!"}},{"$f":"R121+U10","v":{"$error":"#VALUE!"}},{"$f":"R121+V10","v":{"$error":"#VALUE!"}},{"$f":"R121+W10","v":{"$error":"#VALUE!"}},{"$f":"R121+X10","v":{"$error":"#VALUE!"}},{"$f":"R121+Y10","v":{"$error":"#VALUE!"}},{"$f":"R121+Z10","v":{"$error":"#VALUE!"}},{"$f":"R121+AA10","v":{"$error":"#VALUE!"}},{"$f":"R121+AB10","v":{"$error":"#VALUE!"}},{"$f":"R121+AC10","v":{"$error":"#VALUE!"}},{"$f":"R121+AD10","v":{"$error":"#VALUE!"}},null,null,null,{"$f":"AJ167","v":""},{"$f":"MIN((S58+AP31*D19)/AK44,(S59+AP31*D19)/AL44,(S60+AP31*D19)/AM44,(S61+AP31*D19)/AN44,(S62+AP31*D19)/AO44)*AP44","v":{"$error":"#VALUE!"}},{"$f":"MIN((T58+AP31*D19)/AK44,(T59+AP31*D19)/AL44,(T60+AP31*D19)/AM44,(T61+AP31*D19)/AN44,(T62+AP31*D19)/AO44)*AP44","v":{"$error":"#VALUE!"}},{"$f":"MIN((U58+AP31*D19)/AK44,(U59+AP31*D19)/AL44,(U60+AP31*D19)/AM44,(U61+AP31*D19)/AN44,(U62+AP31*D19)/AO44)*AP44","v":{"$error":"#VALUE!"}},{"$f":"MIN((V58+AP31*D19)/AK44,(V59+AP31*D19)/AL44,(V60+AP31*D19)/AM44,(V61+AP31*D19)/AN44,(V62+AP31*D19)/AO44)*AP44","v":{"$error":"#VALUE!"}},{"$f":"MIN((W58+AP31*D19)/AK44,(W59+AP31*D19)/AL44,(W60+AP31*D19)/AM44,(W61+AP31*D19)/AN44,(W62+AP31*D19)/AO44)*AP44","v":{"$error":"#VALUE!"}},{"$f":"MIN((X58+AP31*D19)/AK44,(X59+AP31*D19)/AL44,(X60+AP31*D19)/AM44,(X61+AP31*D19)/AN44,(X62+AP31*D19)/AO44)*AP44","v":{"$error":"#VALUE!"}},{"$f":"MIN((Y58+AP31*D19)/AK44,(Y59+AP31*D19)/AL44,(Y60+AP31*D19)/AM44,(Y61+AP31*D19)/AN44,(Y62+AP31*D19)/AO44)*AP44","v":{"$error":"#VALUE!"}},{"$f":"MIN((Z58+AP31*D19)/AK44,(Z59+AP31*D19)/AL44,(Z60+AP31*D19)/AM44,(Z61+AP31*D19)/AN44,(Z62+AP31*D19)/AO44)*AP44","v":{"$error":"#VALUE!"}},{"$f":"MIN((AA58+AP31*D19)/AK44,(AA59+AP31*D19)/AL44,(AA60+AP31*D19)/AM44,(AA61+AP31*D19)/AN44,(AA62+AP31*D19)/AO44)*AP44","v":{"$error":"#VALUE!"}},{"$f":"MIN((AB58+AP31*D19)/AK44,(AB59+AP31*D19)/AL44,(AB60+AP31*D19)/AM44,(AB61+AP31*D19)/AN44,(AB62+AP31*D19)/AO44)*AP44","v":{"$error":"#VALUE!"}},{"$f":"MIN((AC58+AP31*D19)/AK44,(AC59+AP31*D19)/AL44,(AC60+AP31*D19)/AM44,(AC61+AP31*D19)/AN44,(AC62+AP31*D19)/AO44)*AP44","v":{"$error":"#VALUE!"}},{"$f":"MIN((AD58+AP31*D19)/AK44,(AD59+AP31*D19)/AL44,(AD60+AP31*D19)/AM44,(AD61+AP31*D19)/AN44,(AD62+AP31*D19)/AO44)*AP44","v":{"$error":"#VALUE!"}},{"$f":"MIN((AE58+AP31*D19)/AK44,(AE59+AP31*D19)/AL44,(AE60+AP31*D19)/AM44,(AE61+AP31*D19)/AN44,(AE62+AP31*D19)/AO44)*AP44","v":{"$error":"#VALUE!"}},{"$f":"MIN((AF58+AP31*D19)/AK44,(AF59+AP31*D19)/AL44,(AF60+AP31*D19)/AM44,(AF61+AP31*D19)/AN44,(AF62+AP31*D19)/AO44)*AP44","v":{"$error":"#VALUE!"}},{"$f":"MAX(AK121:AX121)","v":{"$error":"#VALUE!"}},null,{"$f":"AJ167","v":""},{"$f":"MIN((S58+AQ31*D19)/AK45,(S59+AQ31*D19)/AL45,(S60+AQ31*D19)/AM45,(S61+AQ31*D19)/AN45,(S62+AQ31*D19)/AO45)*AP45","v":{"$error":"#VALUE!"}},{"$f":"MIN((T58+AQ31*D19)/AK45,(T59+AQ31*D19)/AL45,(T60+AQ31*D19)/AM45,(T61+AQ31*D19)/AN45,(T62+AQ31*D19)/AO45)*AP45","v":{"$error":"#VALUE!"}},{"$f":"MIN((U58+AQ31*D19)/AK45,(U59+AQ31*D19)/AL45,(U60+AQ31*D19)/AM45,(U61+AQ31*D19)/AN45,(U62+AQ31*D19)/AO45)*AP45","v":{"$error":"#VALUE!"}},{"$f":"MIN((V58+AQ31*D19)/AK45,(V59+AQ31*D19)/AL45,(V60+AQ31*D19)/AM45,(V61+AQ31*D19)/AN45,(V62+AQ31*D19)/AO45)*AP45","v":{"$error":"#VALUE!"}},{"$f":"MIN((W58+AQ31*D19)/AK45,(W59+AQ31*D19)/AL45,(W60+AQ31*D19)/AM45,(W61+AQ31*D19)/AN45,(W62+AQ31*D19)/AO45)*AP45","v":{"$error":"#VALUE!"}},{"$f":"MIN((X58+AQ31*D19)/AK45,(X59+AQ31*D19)/AL45,(X60+AQ31*D19)/AM45,(X61+AQ31*D19)/AN45,(X62+AQ31*D19)/AO45)*AP45","v":{"$error":"#VALUE!"}},{"$f":"MIN((Y58+AQ31*D19)/AK45,(Y59+AQ31*D19)/AL45,(Y60+AQ31*D19)/AM45,(Y61+AQ31*D19)/AN45,(Y62+AQ31*D19)/AO45)*AP45","v":{"$error":"#VALUE!"}},{"$f":"MIN((Z58+AQ31*D19)/AK45,(Z59+AQ31*D19)/AL45,(Z60+AQ31*D19)/AM45,(Z61+AQ31*D19)/AN45,(Z62+AQ31*D19)/AO45)*AP45","v":{"$error":"#VALUE!"}},{"$f":"MIN((AA58+AQ31*D19)/AK45,(AA59+AQ31*D19)/AL45,(AA60+AQ31*D19)/AM45,(AA61+AQ31*D19)/AN45,(AA62+AQ31*D19)/AO45)*AP45","v":{"$error":"#VALUE!"}},{"$f":"MIN((AB58+AQ31*D19)/AK45,(AB59+AQ31*D19)/AL45,(AB60+AQ31*D19)/AM45,(AB61+AQ31*D19)/AN45,(AB62+AQ31*D19)/AO45)*AP45","v":{"$error":"#VALUE!"}},{"$f":"MIN((AC58+AQ31*D19)/AK45,(AC59+AQ31*D19)/AL45,(AC60+AQ31*D19)/AM45,(AC61+AQ31*D19)/AN45,(AC62+AQ31*D19)/AO45)*AP45","v":{"$error":"#VALUE!"}},{"$f":"MIN((AD58+AQ31*D19)/AK45,(AD59+AQ31*D19)/AL45,(AD60+AQ31*D19)/AM45,(AD61+AQ31*D19)/AN45,(AD62+AQ31*D19)/AO45)*AP45","v":{"$error":"#VALUE!"}},{"$f":"MIN((AE58+AQ31*D19)/AK45,(AE59+AQ31*D19)/AL45,(AE60+AQ31*D19)/AM45,(AE61+AQ31*D19)/AN45,(AE62+AQ31*D19)/AO45)*AP45","v":{"$error":"#VALUE!"}},{"$f":"MIN((AF58+AQ31*D19)/AK45,(AF59+AQ31*D19)/AL45,(AF60+AQ31*D19)/AM45,(AF61+AQ31*D19)/AN45,(AF62+AQ31*D19)/AO45)*AP45","v":{"$error":"#VALUE!"}},{"$f":"MAX(BB121:BO121)","v":{"$error":"#VALUE!"}}]
[null,null,null,null,null,null,null,null,null,null,null,null,null,null,null,null,null,{"$f":"I20+AH40+D15+D17+D21+D19*AG17","v":{"$error":"#VALUE!"}},{"$f":"R122+Q11","v":{"$error":"#VALUE!"}},{"$f":"R122+R11","v":{"$error":"#VALUE!"}},{"$f":"R122+S11","v":{"$error":"#VALUE!"}},{"$f":"R122+T11","v":{"$error":"#VALUE!"}},{"$f":"R122+U11","v":{"$error":"#VALUE!"}},{"$f":"R122+V11","v":{"$error":"#VALUE!"}},{"$f":"R122+W11","v":{"$error":"#VALUE!"}},{"$f":"R122+X11","v":{"$error":"#VALUE!"}},{"$f":"R122+Y11","v":{"$error":"#VALUE!"}},{"$f":"R122+Z11","v":{"$error":"#VALUE!"}},{"$f":"R122+AA11","v":{"$error":"#VALUE!"}},{"$f":"R122+AB11","v":{"$error":"#VALUE!"}},{"$f":"R122+AC11","v":{"$error":"#VALUE!"}},{"$f":"R122+AD11","v":{"$error":"#VALUE!"}},null,null,null,"",{"$f":"MIN((S65+AP31*D19)/AK44,(S66+AP31*D19)/AL44,(S67+AP31*D19)/AM44,(S68+AP31*D19)/AN44,(S69+AP31*D19)/AO44)*AP44","v":{"$error":"#VALUE!"}},{"$f":"MIN((T65+AP31*D19)/AK44,(T66+AP31*D19)/AL44,(T67+AP31*D19)/AM44,(T68+AP31*D19)/AN44,(T69+AP31*D19)/AO44)*AP44","v":{"$error":"#VALUE!"}},{"$f":"MIN((U65+AP31*D19)/AK44,(U66+AP31*D19)/AL44,(U67+AP31*D19)/AM44,(U68+AP31*D19)/AN44,(U69+AP31*D19)/AO44)*AP44","v":{"$error":"#VALUE!"}},{"$f":"MIN((V65+AP31*D19)/AK44,(V66+AP31*D19)/AL44,(V67+AP31*D19)/AM44,(V68+AP31*D19)/AN44,(V69+AP31*D19)/AO44)*AP44","v":{"$error":"#VALUE!"}},{"$f":"MIN((W65+AP31*D19)/AK44,(W66+AP31*D19)/AL44,(W67+AP31*D19)/AM44,(W68+AP31*D19)/AN44,(W69+AP31*D19)/AO44)*AP44","v":{"$error":"#VALUE!"}},{"$f":"MIN((X65+AP31*D19)/AK44,(X66+AP31*D19)/AL44,(X67+AP31*D19)/AM44,(X68+AP31*D19)/AN44,(X69+AP31*D19)/AO44)*AP44","v":{"$error":"#VALUE!"}},{"$f":"MIN((Y65+AP31*D19)/AK44,(Y66+AP31*D19)/AL44,(Y67+AP31*D19)/AM44,(Y68+AP31*D19)/AN44,(Y69+AP31*D19)/AO44)*AP44","v":{"$error":"#VALUE!"}},{"$f":"MIN((Z65+AP31*D19)/AK44,(Z66+AP31*D19)/AL44,(Z67+AP31*D19)/AM44,(Z68+AP31*D19)/AN44,(Z69+AP31*D19)/AO44)*AP44","v":{"$error":"#VALUE!"}},{"$f":"MIN((AA65+AP31*D19)/AK44,(AA66+AP31*D19)/AL44,(AA67+AP31*D19)/AM44,(AA68+AP31*D19)/AN44,(AA69+AP31*D19)/AO44)*AP44","v":{"$error":"#VALUE!"}},{"$f":"MIN((AB65+AP31*D19)/AK44,(AB66+AP31*D19)/AL44,(AB67+AP31*D19)/AM44,(AB68+AP31*D19)/AN44,(AB69+AP31*D19)/AO44)*AP44","v":{"$error":"#VALUE!"}},{"$f":"MIN((AC65+AP31*D19)/AK44,(AC66+AP31*D19)/AL44,(AC67+AP31*D19)/AM44,(AC68+AP31*D19)/AN44,(AC69+AP31*D19)/AO44)*AP44","v":{"$error":"#VALUE!"}},{"$f":"MIN((AD65+AP31*D19)/AK44,(AD66+AP31*D19)/AL44,(AD67+AP31*D19)/AM44,(AD68+AP31*D19)/AN44,(AD69+AP31*D19)/AO44)*AP44","v":{"$error":"#VALUE!"}},{"$f":"MIN((AE65+AP31*D19)/AK44,(AE66+AP31*D19)/AL44,(AE67+AP31*D19)/AM44,(AE68+AP31*D19)/AN44,(AE69+AP31*D19)/AO44)*AP44","v":{"$error":"#VALUE!"}},{"$f":"MIN((AF65+AP31*D19)/AK44,(AF66+AP31*D19)/AL44,(AF67+AP31*D19)/AM44,(AF68+AP31*D19)/AN44,(AF69+AP31*D19)/AO44)*AP44","v":{"$error":"#VALUE!"}},{"$error":"#VALUE!"},null,"",{"$f":"MIN((S65+AQ31*D19)/AK45,(S66+AQ31*D19)/AL45,(S67+AQ31*D19)/AM45,(S68+AQ31*D19)/AN45,(S69+AQ31*D19)/AO45)*AP45","v":{"$error":"#VALUE!"}},{"$f":"MIN((T65+AQ31*D19)/AK45,(T66+AQ31*D19)/AL45,(T67+AQ31*D19)/AM45,(T68+AQ31*D19)/AN45,(T69+AQ31*D19)/AO45)*AP45","v":{"$error":"#VALUE!"}},{"$f":"MIN((U65+AQ31*D19)/AK45,(U66+AQ31*D19)/AL45,(U67+AQ31*D19)/AM45,(U68+AQ31*D19)/AN45,(U69+AQ31*D19)/AO45)*AP45","v":{"$error":"#VALUE!"}},{"$f":"MIN((V65+AQ31*D19)/AK45,(V66+AQ31*D19)/AL45,(V67+AQ31*D19)/AM45,(V68+AQ31*D19)/AN45,(V69+AQ31*D19)/AO45)*AP45","v":{"$error":"#VALUE!"}},{"$f":"MIN((W65+AQ31*D19)/AK45,(W66+AQ31*D19)/AL45,(W67+AQ31*D19)/AM45,(W68+AQ31*D19)/AN45,(W69+AQ31*D19)/AO45)*AP45","v":{"$error":"#VALUE!"}},{"$f":"MIN((X65+AQ31*D19)/AK45,(X66+AQ31*D19)/AL45,(X67+AQ31*D19)/AM45,(X68+AQ31*D19)/AN45,(X69+AQ31*D19)/AO45)*AP45","v":{"$error":"#VALUE!"}},{"$f":"MIN((Y65+AQ31*D19)/AK45,(Y66+AQ31*D19)/AL45,(Y67+AQ31*D19)/AM45,(Y68+AQ31*D19)/AN45,(Y69+AQ31*D19)/AO45)*AP45","v":{"$error":"#VALUE!"}},{"$f":"MIN((Z65+AQ31*D19)/AK45,(Z66+AQ31*D19)/AL45,(Z67+AQ31*D19)/AM45,(Z68+AQ31*D19)/AN45,(Z69+AQ31*D19)/AO45)*AP45","v":{"$error":"#VALUE!"}},{"$f":"MIN((AA65+AQ31*D19)/AK45,(AA66+AQ31*D19)/AL45,(AA67+AQ31*D19)/AM45,(AA68+AQ31*D19)/AN45,(AA69+AQ31*D19)/AO45)*AP45","v":{"$error":"#VALUE!"}},{"$f":"MIN((AB65+AQ31*D19)/AK45,(AB66+AQ31*D19)/AL45,(AB67+AQ31*D19)/AM45,(AB68+AQ31*D19)/AN45,(AB69+AQ31*D19)/AO45)*AP45","v":{"$error":"#VALUE!"}},{"$f":"MIN((AC65+AQ31*D19)/AK45,(AC66+AQ31*D19)/AL45,(AC67+AQ31*D19)/AM45,(AC68+AQ31*D19)/AN45,(AC69+AQ31*D19)/AO45)*AP45","v":{"$error":"#VALUE!"}},{"$f":"MIN((AD65+AQ31*D19)/AK45,(AD66+AQ31*D19)/AL45,(AD67+AQ31*D19)/AM45,(AD68+AQ31*D19)/AN45,(AD69+AQ31*D19)/AO45)*AP45","v":{"$error":"#VALUE!"}},{"$f":"MIN((AE65+AQ31*D19)/AK45,(AE66+AQ31*D19)/AL45,(AE67+AQ31*D19)/AM45,(AE68+AQ31*D19)/AN45,(AE69+AQ31*D19)/AO45)*AP45","v":{"$error":"#VALUE!"}},{"$f":"MIN((AF65+AQ31*D19)/AK45,(AF66+AQ31*D19)/AL45,(AF67+AQ31*D19)/AM45,(AF68+AQ31*D19)/AN45,(AF69+AQ31*D19)/AO45)*AP45","v":{"$error":"#VALUE!"}},{"$error":"#VALUE!"},null,"formule meilleur kit par poste /joueur"]
[null,null,null,null,null,null,null,null,null,null,null,null,null,null,null,null,null,{"$f":"J20+AH41+D15+D17+D21+D19*AG17","v":{"$error":"#VALUE!"}},{"$f":"R123+Q12","v":{"$error":"#VALUE!"}},{"$f":"R123+R12","v":{"$error":"#VALUE!"}},{"$f":"R123+S12","v":{"$error":"#VALUE!"}},{"$f":"R123+T12","v":{"$error":"#VALUE!"}},{"$f":"R123+U12","v":{"$error":"#VALUE!"}},{"$f":"R123+V12","v":{"$error":"#VALUE!"}},{"$f":"R123+W12","v":{"$error":"#VALUE!"}},{"$f":"R123+X12","v":{"$error":"#VALUE!"}},{"$f":"R123+Y12","v":{"$error":"#VALUE!"}},{"$f":"R123+Z12","v":{"$error":"#VALUE!"}},{"$f":"R123+AA12","v":{"$error":"#VALUE!"}},{"$f":"R123+AB12","v":{"$error":"#VALUE!"}},{"$f":"R123+AC12","v":{"$error":"#VALUE!"}},{"$f":"R123+AD12","v":{"$error":"#VALUE!"}},null,null,null,"",{"$f":"MIN((S72+AP31*D19)/AK44,(S73+AP31*D19)/AL44,(S74+AP31*D19)/AM44,(S75+AP31*D19)/AN44,(S76+AP31*D19)/AO44)*AP44","v":{"$error":"#VALUE!"}},{"$f":"MIN((T72+AP31*D19)/AK44,(T73+AP31*D19)/AL44,(T74+AP31*D19)/AM44,(T75+AP31*D19)/AN44,(T76+AP31*D19)/AO44)*AP44","v":{"$error":"#VALUE!"}},{"$f":"MIN((U72+AP31*D19)/AK44,(U73+AP31*D19)/AL44,(U74+AP31*D19)/AM44,(U75+AP31*D19)/AN44,(U76+AP31*D19)/AO44)*AP44","v":{"$error":"#VALUE!"}},{"$f":"MIN((V72+AP31*D19)/AK44,(V73+AP31*D19)/AL44,(V74+AP31*D19)/AM44,(V75+AP31*D19)/AN44,(V76+AP31*D19)/AO44)*AP44","v":{"$error":"#VALUE!"}},{"$f":"MIN((W72+AP31*D19)/AK44,(W73+AP31*D19)/AL44,(W74+AP31*D19)/AM44,(W75+AP31*D19)/AN44,(W76+AP31*D19)/AO44)*AP44","v":{"$error":"#VALUE!"}},{"$f":"MIN((X72+AP31*D19)/AK44,(X73+AP31*D19)/AL44,(X74+AP31*D19)/AM44,(X75+AP31*D19)/AN44,(X76+AP31*D19)/AO44)*AP44","v":{"$error":"#VALUE!"}},{"$f":"MIN((Y72+AP31*D19)/AK44,(Y73+AP31*D19)/AL44,(Y74+AP31*D19)/AM44,(Y75+AP31*D19)/AN44,(Y76+AP31*D19)/AO44)*AP44","v":{"$error":"#VALUE!"}},{"$f":"MIN((Z72+AP31*D19)/AK44,(Z73+AP31*D19)/AL44,(Z74+AP31*D19)/AM44,(Z75+AP31*D19)/AN44,(Z76+AP31*D19)/AO44)*AP44","v":{"$error":"#VALUE!"}},{"$f":"MIN((AA72+AP31*D19)/AK44,(AA73+AP31*D19)/AL44,(AA74+AP31*D19)/AM44,(AA75+AP31*D19)/AN44,(AA76+AP31*D19)/AO44)*AP44","v":{"$error":"#VALUE!"}},{"$f":"MIN((AB72+AP31*D19)/AK44,(AB73+AP31*D19)/AL44,(AB74+AP31*D19)/AM44,(AB75+AP31*D19)/AN44,(AB76+AP31*D19)/AO44)*AP44","v":{"$error":"#VALUE!"}},{"$f":"MIN((AC72+AP31*D19)/AK44,(AC73+AP31*D19)/AL44,(AC74+AP31*D19)/AM44,(AC75+AP31*D19)/AN44,(AC76+AP31*D19)/AO44)*AP44","v":{"$error":"#VALUE!"}},{"$f":"MIN((AD72+AP31*D19)/AK44,(AD73+AP31*D19)/AL44,(AD74+AP31*D19)/AM44,(AD75+AP31*D19)/AN44,(AD76+AP31*D19)/AO44)*AP44","v":{"$error":"#VALUE!"}},{"$f":"MIN((AE72+AP31*D19)/AK44,(AE73+AP31*D19)/AL44,(AE74+AP31*D19)/AM44,(AE75+AP31*D19)/AN44,(AE76+AP31*D19)/AO44)*AP44","v":{"$error":"#VALUE!"}},{"$f":"MIN((AF72+AP31*D19)/AK44,(AF73+AP31*D19)/AL44,(AF74+AP31*D19)/AM44,(AF75+AP31*D19)/AN44,(AF76+AP31*D19)/AO44)*AP44","v":{"$error":"#VALUE!"}},{"$error":"#VALUE!"},null,"",{"$f":"MIN((S72+AQ31*D19)/AK45,(S73+AQ31*D19)/AL45,(S74+AQ31*D19)/AM45,(S75+AQ31*D19)/AN45,(S76+AQ31*D19)/AO45)*AP45","v":{"$error":"#VALUE!"}},{"$f":"MIN((T72+AQ31*D19)/AK45,(T73+AQ31*D19)/AL45,(T74+AQ31*D19)/AM45,(T75+AQ31*D19)/AN45,(T76+AQ31*D19)/AO45)*AP45","v":{"$error":"#VALUE!"}},{"$f":"MIN((U72+AQ31*D19)/AK45,(U73+AQ31*D19)/AL45,(U74+AQ31*D19)/AM45,(U75+AQ31*D19)/AN45,(U76+AQ31*D19)/AO45)*AP45","v":{"$error":"#VALUE!"}},{"$f":"MIN((V72+AQ31*D19)/AK45,(V73+AQ31*D19)/AL45,(V74+AQ31*D19)/AM45,(V75+AQ31*D19)/AN45,(V76+AQ31*D19)/AO45)*AP45","v":{"$error":"#VALUE!"}},{"$f":"MIN((W72+AQ31*D19)/AK45,(W73+AQ31*D19)/AL45,(W74+AQ31*D19)/AM45,(W75+AQ31*D19)/AN45,(W76+AQ31*D19)/AO45)*AP45","v":{"$error":"#VALUE!"}},{"$f":"MIN((X72+AQ31*D19)/AK45,(X73+AQ31*D19)/AL45,(X74+AQ31*D19)/AM45,(X75+AQ31*D19)/AN45,(X76+AQ31*D19)/AO45)*AP45","v":{"$error":"#VALUE!"}},{"$f":"MIN((Y72+AQ31*D19)/AK45,(Y73+AQ31*D19)/AL45,(Y74+AQ31*D19)/AM45,(Y75+AQ31*D19)/AN45,(Y76+AQ31*D19)/AO45)*AP45","v":{"$error":"#VALUE!"}},{"$f":"MIN((Z72+AQ31*D19)/AK45,(Z73+AQ31*D19)/AL45,(Z74+AQ31*D19)/AM45,(Z75+AQ31*D19)/AN45,(Z76+AQ31*D19)/AO45)*AP45","v":{"$error":"#VALUE!"}},{"$f":"MIN((AA72+AQ31*D19)/AK45,(AA73+AQ31*D19)/AL45,(AA74+AQ31*D19)/AM45,(AA75+AQ31*D19)/AN45,(AA76+AQ31*D19)/AO45)*AP45","v":{"$error":"#VALUE!"}},{"$f":"MIN((AB72+AQ31*D19)/AK45,(AB73+AQ31*D19)/AL45,(AB74+AQ31*D19)/AM45,(AB75+AQ31*D19)/AN45,(AB76+AQ31*D19)/AO45)*AP45","v":{"$error":"#VALUE!"}},{"$f":"MIN((AC72+AQ31*D19)/AK45,(AC73+AQ31*D19)/AL45,(AC74+AQ31*D19)/AM45,(AC75+AQ31*D19)/AN45,(AC76+AQ31*D19)/AO45)*AP45","v":{"$error":"#VALUE!"}},{"$f":"MIN((AD72+AQ31*D19)/AK45,(AD73+AQ31*D19)/AL45,(AD74+AQ31*D19)/AM45,(AD75+AQ31*D19)/AN45,(AD76+AQ31*D19)/AO45)*AP45","v":{"$error":"#VALUE!"}},{"$f":"MIN((AE72+AQ31*D19)/AK45,(AE73+AQ31*D19)/AL45,(AE74+AQ31*D19)/AM45,(AE75+AQ31*D19)/AN45,(AE76+AQ31*D19)/AO45)*AP45","v":{"$error":"#VALUE!"}},{"$f":"MIN((AF72+AQ31*D19)/AK45,(AF73+AQ31*D19)/AL45,(AF74+AQ31*D19)/AM45,(AF75+AQ31*D19)/AN45,(AF76+AQ31*D19)/AO45)*AP45","v":{"$error":"#VALUE!"}},{"$error":"#VALUE!"}]
[null,null,null,null,null,null,null,null,null,null,null,null,null,null,null,null,null,{"$f":"K20+AH42+D16+D17+D21+D19*AG17","v":{"$error":"#VALUE!"}},{"$f":"R124+Q13","v":{"$error":"#VALUE!"}},{"$f":"R124+R13","v":{"$error":"#VALUE!"}},{"$f":"R124+S13","v":{"$error":"#VALUE!"}},{"$f":"R124+T13","v":{"$error":"#VALUE!"}},{"$f":"R124+U13","v":{"$error":"#VALUE!"}},{"$f":"R124+V13","v":{"$error":"#VALUE!"}},{"$f":"R124+W13","v":{"$error":"#VALUE!"}},{"$f":"R124+X13","v":{"$error":"#VALUE!"}},{"$f":"R124+Y13","v":{"$error":"#VALUE!"}},{"$f":"R124+Z13","v":{"$error":"#VALUE!"}},{"$f":"R124+AA13","v":{"$error":"#VALUE!"}},{"$f":"R124+AB13","v":{"$error":"#VALUE!"}},{"$f":"R124+AC13","v":{"$error":"#VALUE!"}},{"$f":"R124+AD13","v":{"$error":"#VALUE!"}},null,null,null,"",{"$f":"MIN((S79+AP31*D19)/AK44,(S80+AP31*D19)/AL44,(S81+AP31*D19)/AM44,(S82+AP31*D19)/AN44,(S83+AP31*D19)/AO44)*AP44","v":{"$error":"#VALUE!"}},{"$f":"MIN((T79+AP31*D19)/AK44,(T80+AP31*D19)/AL44,(T81+AP31*D19)/AM44,(T82+AP31*D19)/AN44,(T83+AP31*D19)/AO44)*AP44","v":{"$error":"#VALUE!"}},{"$f":"MIN((U79+AP31*D19)/AK44,(U80+AP31*D19)/AL44,(U81+AP31*D19)/AM44,(U82+AP31*D19)/AN44,(U83+AP31*D19)/AO44)*AP44","v":{"$error":"#VALUE!"}},{"$f":"MIN((V79+AP31*D19)/AK44,(V80+AP31*D19)/AL44,(V81+AP31*D19)/AM44,(V82+AP31*D19)/AN44,(V83+AP31*D19)/AO44)*AP44","v":{"$error":"#VALUE!"}},{"$f":"MIN((W79+AP31*D19)/AK44,(W80+AP31*D19)/AL44,(W81+AP31*D19)/AM44,(W82+AP31*D19)/AN44,(W83+AP31*D19)/AO44)*AP44","v":{"$error":"#VALUE!"}},{"$f":"MIN((X79+AP31*D19)/AK44,(X80+AP31*D19)/AL44,(X81+AP31*D19)/AM44,(X82+AP31*D19)/AN44,(X83+AP31*D19)/AO44)*AP44","v":{"$error":"#VALUE!"}},{"$f":"MIN((Y79+AP31*D19)/AK44,(Y80+AP31*D19)/AL44,(Y81+AP31*D19)/AM44,(Y82+AP31*D19)/AN44,(Y83+AP31*D19)/AO44)*AP44","v":{"$error":"#VALUE!"}},{"$f":"MIN((Z79+AP31*D19)/AK44,(Z80+AP31*D19)/AL44,(Z81+AP31*D19)/AM44,(Z82+AP31*D19)/AN44,(Z83+AP31*D19)/AO44)*AP44","v":{"$error":"#VALUE!"}},{"$f":"MIN((AA79+AP31*D19)/AK44,(AA80+AP31*D19)/AL44,(AA81+AP31*D19)/AM44,(AA82+AP31*D19)/AN44,(AA83+AP31*D19)/AO44)*AP44","v":{"$error":"#VALUE!"}},{"$f":"MIN((AB79+AP31*D19)/AK44,(AB80+AP31*D19)/AL44,(AB81+AP31*D19)/AM44,(AB82+AP31*D19)/AN44,(AB83+AP31*D19)/AO44)*AP44","v":{"$error":"#VALUE!"}},{"$f":"MIN((AC79+AP31*D19)/AK44,(AC80+AP31*D19)/AL44,(AC81+AP31*D19)/AM44,(AC82+AP31*D19)/AN44,(AC83+AP31*D19)/AO44)*AP44","v":{"$error":"#VALUE!"}},{"$f":"MIN((AD79+AP31*D19)/AK44,(AD80+AP31*D19)/AL44,(AD81+AP31*D19)/AM44,(AD82+AP31*D19)/AN44,(AD83+AP31*D19)/AO44)*AP44","v":{"$error":"#VALUE!"}},{"$f":"MIN((AE79+AP31*D19)/AK44,(AE80+AP31*D19)/AL44,(AE81+AP31*D19)/AM44,(AE82+AP31*D19)/AN44,(AE83+AP31*D19)/AO44)*AP44","v":{"$error":"#VALUE!"}},{"$f":"MIN((AF79+AP31*D19)/AK44,(AF80+AP31*D19)/AL44,(AF81+AP31*D19)/AM44,(AF82+AP31*D19)/AN44,(AF83+AP31*D19)/AO44)*AP44","v":{"$error":"#VALUE!"}},{"$error":"#VALUE!"},null,"",{"$f":"MIN((S79+AQ31*D19)/AK45,(S80+AQ31*D19)/AL45,(S81+AQ31*D19)/AM45,(S82+AQ31*D19)/AN45,(S83+AQ31*D19)/AO45)*AP45","v":{"$error":"#VALUE!"}},{"$f":"MIN((T79+AQ31*D19)/AK45,(T80+AQ31*D19)/AL45,(T81+AQ31*D19)/AM45,(T82+AQ31*D19)/AN45,(T83+AQ31*D19)/AO45)*AP45","v":{"$error":"#VALUE!"}},{"$f":"MIN((U79+AQ31*D19)/AK45,(U80+AQ31*D19)/AL45,(U81+AQ31*D19)/AM45,(U82+AQ31*D19)/AN45,(U83+AQ31*D19)/AO45)*AP45","v":{"$error":"#VALUE!"}},{"$f":"MIN((V79+AQ31*D19)/AK45,(V80+AQ31*D19)/AL45,(V81+AQ31*D19)/AM45,(V82+AQ31*D19)/AN45,(V83+AQ31*D19)/AO45)*AP45","v":{"$error":"#VALUE!"}},{"$f":"MIN((W79+AQ31*D19)/AK45,(W80+AQ31*D19)/AL45,(W81+AQ31*D19)/AM45,(W82+AQ31*D19)/AN45,(W83+AQ31*D19)/AO45)*AP45","v":{"$error":"#VALUE!"}},{"$f":"MIN((X79+AQ31*D19)/AK45,(X80+AQ31*D19)/AL45,(X81+AQ31*D19)/AM45,(X82+AQ31*D19)/AN45,(X83+AQ31*D19)/AO45)*AP45","v":{"$error":"#VALUE!"}},{"$f":"MIN((Y79+AQ31*D19)/AK45,(Y80+AQ31*D19)/AL45,(Y81+AQ31*D19)/AM45,(Y82+AQ31*D19)/AN45,(Y83+AQ31*D19)/AO45)*AP45","v":{"$error":"#VALUE!"}},{"$f":"MIN((Z79+AQ31*D19)/AK45,(Z80+AQ31*D19)/AL45,(Z81+AQ31*D19)/AM45,(Z82+AQ31*D19)/AN45,(Z83+AQ31*D19)/AO45)*AP45","v":{"$error":"#VALUE!"}},{"$f":"MIN((AA79+AQ31*D19)/AK45,(AA80+AQ31*D19)/AL45,(AA81+AQ31*D19)/AM45,(AA82+AQ31*D19)/AN45,(AA83+AQ31*D19)/AO45)*AP45","v":{"$error":"#VALUE!"}},{"$f":"MIN((AB79+AQ31*D19)/AK45,(AB80+AQ31*D19)/AL45,(AB81+AQ31*D19)/AM45,(AB82+AQ31*D19)/AN45,(AB83+AQ31*D19)/AO45)*AP45","v":{"$error":"#VALUE!"}},{"$f":"MIN((AC79+AQ31*D19)/AK45,(AC80+AQ31*D19)/AL45,(AC81+AQ31*D19)/AM45,(AC82+AQ31*D19)/AN45,(AC83+AQ31*D19)/AO45)*AP45","v":{"$error":"#VALUE!"}},{"$f":"MIN((AD79+AQ31*D19)/AK45,(AD80+AQ31*D19)/AL45,(AD81+AQ31*D19)/AM45,(AD82+AQ31*D19)/AN45,(AD83+AQ31*D19)/AO45)*AP45","v":{"$error":"#VALUE!"}},{"$f":"MIN((AE79+AQ31*D19)/AK45,(AE80+AQ31*D19)/AL45,(AE81+AQ31*D19)/AM45,(AE82+AQ31*D19)/AN45,(AE83+AQ31*D19)/AO45)*AP45","v":{"$error":"#VALUE!"}},{"$f":"MIN((AF79+AQ31*D19)/AK45,(AF80+AQ31*D19)/AL45,(AF81+AQ31*D19)/AM45,(AF82+AQ31*D19)/AN45,(AF83+AQ31*D19)/AO45)*AP45","v":{"$error":"#VALUE!"}},{"$error":"#VALUE!"},null,null,{"$f":"IF(AV24=1,BS119,IF(AV25=1,BS120,BS80))","v":"attente"},{"$f":"IF(AV16=1,BS111,IF(AV17=1,BS112,IF(AV18=1,BS113,IF(AV19=1,BS114,IF(AV20=1,BS115,IF(AV21=1,BS116,IF(AV22=1,BS117,IF(AV23=1,BS118,BS124))))))))","v":"attente"}]
[null,null,null,null,null,null,null,null,null,null,null,null,null,null,null,null,null,{"$f":"L20+AH43+D15+D17+D21+D19*AG17","v":{"$error":"#VALUE!"}},{"$f":"R125+Q14","v":{"$error":"#VALUE!"}},{"$f":"R125+R14","v":{"$error":"#VALUE!"}},{"$f":"R125+S14","v":{"$error":"#VALUE!"}},{"$f":"R125+T14","v":{"$error":"#VALUE!"}},{"$f":"R125+U14","v":{"$error":"#VALUE!"}},{"$f":"R125+V14","v":{"$error":"#VALUE!"}},{"$f":"R125+W14","v":{"$error":"#VALUE!"}},{"$f":"R125+X14","v":{"$error":"#VALUE!"}},{"$f":"R125+Y14","v":{"$error":"#VALUE!"}},{"$f":"R125+Z14","v":{"$error":"#VALUE!"}},{"$f":"R125+AA14","v":{"$error":"#VALUE!"}},{"$f":"R125+AB14","v":{"$error":"#VALUE!"}},{"$f":"R125+AC14","v":{"$error":"#VALUE!"}},{"$f":"R125+AD14","v":{"$error":"#VALUE!"}},null,null,null,"",{"$f":"MIN((S86+AP31*D19)/AK44,(S87+AP31*D19)/AL44,(S88+AP31*D19)/AM44,(S89+AP31*D19)/AN44,(S90+AP31*D19)/AO44)*AP44","v":{"$error":"#VALUE!"}},{"$f":"MIN((T86+AP31*D19)/AK44,(T87+AP31*D19)/AL44,(T88+AP31*D19)/AM44,(T89+AP31*D19)/AN44,(T90+AP31*D19)/AO44)*AP44","v":{"$error":"#VALUE!"}},{"$f":"MIN((U86+AP31*D19)/AK44,(U87+AP31*D19)/AL44,(U88+AP31*D19)/AM44,(U89+AP31*D19)/AN44,(U90+AP31*D19)/AO44)*AP44","v":{"$error":"#VALUE!"}},{"$f":"MIN((V86+AP31*D19)/AK44,(V87+AP31*D19)/AL44,(V88+AP31*D19)/AM44,(V89+AP31*D19)/AN44,(V90+AP31*D19)/AO44)*AP44","v":{"$error":"#VALUE!"}},{"$f":"MIN((W86+AP31*D19)/AK44,(W87+AP31*D19)/AL44,(W88+AP31*D19)/AM44,(W89+AP31*D19)/AN44,(W90+AP31*D19)/AO44)*AP44","v":{"$error":"#VALUE!"}},{"$f":"MIN((X86+AP31*D19)/AK44,(X87+AP31*D19)/AL44,(X88+AP31*D19)/AM44,(X89+AP31*D19)/AN44,(X90+AP31*D19)/AO44)*AP44","v":{"$error":"#VALUE!"}},{"$f":"MIN((Y86+AP31*D19)/AK44,(Y87+AP31*D19)/AL44,(Y88+AP31*D19)/AM44,(Y89+AP31*D19)/AN44,(Y90+AP31*D19)/AO44)*AP44","v":{"$error":"#VALUE!"}},{"$f":"MIN((Z86+AP31*D19)/AK44,(Z87+AP31*D19)/AL44,(Z88+AP31*D19)/AM44,(Z89+AP31*D19)/AN44,(Z90+AP31*D19)/AO44)*AP44","v":{"$error":"#VALUE!"}},{"$f":"MIN((AA86+AP31*D19)/AK44,(AA87+AP31*D19)/AL44,(AA88+AP31*D19)/AM44,(AA89+AP31*D19)/AN44,(AA90+AP31*D19)/AO44)*AP44","v":{"$error":"#VALUE!"}},{"$f":"MIN((AB86+AP31*D19)/AK44,(AB87+AP31*D19)/AL44,(AB88+AP31*D19)/AM44,(AB89+AP31*D19)/AN44,(AB90+AP31*D19)/AO44)*AP44","v":{"$error":"#VALUE!"}},{"$f":"MIN((AC86+AP31*D19)/AK44,(AC87+AP31*D19)/AL44,(AC88+AP31*D19)/AM44,(AC89+AP31*D19)/AN44,(AC90+AP31*D19)/AO44)*AP44","v":{"$error":"#VALUE!"}},{"$f":"MIN((AD86+AP31*D19)/AK44,(AD87+AP31*D19)/AL44,(AD88+AP31*D19)/AM44,(AD89+AP31*D19)/AN44,(AD90+AP31*D19)/AO44)*AP44","v":{"$error":"#VALUE!"}},{"$f":"MIN((AE86+AP31*D19)/AK44,(AE87+AP31*D19)/AL44,(AE88+AP31*D19)/AM44,(AE89+AP31*D19)/AN44,(AE90+AP31*D19)/AO44)*AP44","v":{"$error":"#VALUE!"}},{"$f":"MIN((AF86+AP31*D19)/AK44,(AF87+AP31*D19)/AL44,(AF88+AP31*D19)/AM44,(AF89+AP31*D19)/AN44,(AF90+AP31*D19)/AO44)*AP44","v":{"$error":"#VALUE!"}},{"$error":"#VALUE!"},null,"",{"$f":"MIN((S86+AQ31*D19)/AK45,(S87+AQ31*D19)/AL45,(S88+AQ31*D19)/AM45,(S89+AQ31*D19)/AN45,(S90+AQ31*D19)/AO45)*AP45","v":{"$error":"#VALUE!"}},{"$f":"MIN((T86+AQ31*D19)/AK45,(T87+AQ31*D19)/AL45,(T88+AQ31*D19)/AM45,(T89+AQ31*D19)/AN45,(T90+AQ31*D19)/AO45)*AP45","v":{"$error":"#VALUE!"}},{"$f":"MIN((U86+AQ31*D19)/AK45,(U87+AQ31*D19)/AL45,(U88+AQ31*D19)/AM45,(U89+AQ31*D19)/AN45,(U90+AQ31*D19)/AO45)*AP45","v":{"$error":"#VALUE!"}},{"$f":"MIN((V86+AQ31*D19)/AK45,(V87+AQ31*D19)/AL45,(V88+AQ31*D19)/AM45,(V89+AQ31*D19)/AN45,(V90+AQ31*D19)/AO45)*AP45","v":{"$error":"#VALUE!"}},{"$f":"MIN((W86+AQ31*D19)/AK45,(W87+AQ31*D19)/AL45,(W88+AQ31*D19)/AM45,(W89+AQ31*D19)/AN45,(W90+AQ31*D19)/AO45)*AP45","v":{"$error":"#VALUE!"}},{"$f":"MIN((X86+AQ31*D19)/AK45,(X87+AQ31*D19)/AL45,(X88+AQ31*D19)/AM45,(X89+AQ31*D19)/AN45,(X90+AQ31*D19)/AO45)*AP45","v":{"$error":"#VALUE!"}},{"$f":"MIN((Y86+AQ31*D19)/AK45,(Y87+AQ31*D19)/AL45,(Y88+AQ31*D19)/AM45,(Y89+AQ31*D19)/AN45,(Y90+AQ31*D19)/AO45)*AP45","v":{"$error":"#VALUE!"}},{"$f":"MIN((Z86+AQ31*D19)/AK45,(Z87+AQ31*D19)/AL45,(Z88+AQ31*D19)/AM45,(Z89+AQ31*D19)/AN45,(Z90+AQ31*D19)/AO45)*AP45","v":{"$error":"#VALUE!"}},{"$f":"MIN((AA86+AQ31*D19)/AK45,(AA87+AQ31*D19)/AL45,(AA88+AQ31*D19)/AM45,(AA89+AQ31*D19)/AN45,(AA90+AQ31*D19)/AO45)*AP45","v":{"$error":"#VALUE!"}},{"$f":"MIN((AB86+AQ31*D19)/AK45,(AB87+AQ31*D19)/AL45,(AB88+AQ31*D19)/AM45,(AB89+AQ31*D19)/AN45,(AB90+AQ31*D19)/AO45)*AP45","v":{"$error":"#VALUE!"}},{"$f":"MIN((AC86+AQ31*D19)/AK45,(AC87+AQ31*D19)/AL45,(AC88+AQ31*D19)/AM45,(AC89+AQ31*D19)/AN45,(AC90+AQ31*D19)/AO45)*AP45","v":{"$error":"#VALUE!"}},{"$f":"MIN((AD86+AQ31*D19)/AK45,(AD87+AQ31*D19)/AL45,(AD88+AQ31*D19)/AM45,(AD89+AQ31*D19)/AN45,(AD90+AQ31*D19)/AO45)*AP45","v":{"$error":"#VALUE!"}},{"$f":"MIN((AE86+AQ31*D19)/AK45,(AE87+AQ31*D19)/AL45,(AE88+AQ31*D19)/AM45,(AE89+AQ31*D19)/AN45,(AE90+AQ31*D19)/AO45)*AP45","v":{"$error":"#VALUE!"}},{"$f":"MIN((AF86+AQ31*D19)/AK45,(AF87+AQ31*D19)/AL45,(AF88+AQ31*D19)/AM45,(AF89+AQ31*D19)/AN45,(AF90+AQ31*D19)/AO45)*AP45","v":{"$error":"#VALUE!"}},{"$error":"#VALUE!"},null,null,{"$f":"IF(AV24=2,BU119,IF(AV25=2,BU120,BS80))","v":"attente"},{"$f":"IF(AV16=2,BU111,IF(AV17=2,BU112,IF(AV18=2,BU113,IF(AV19=2,BU114,IF(AV20=2,BU115,IF(AV21=2,BU116,IF(AV22=2,BU117,IF(AV23=2,BU118,BS125))))))))","v":"attente"}]
[null,null,null,null,null,null,null,null,null,null,null,null,null,null,null,null,null,null,null,null,null,null,null,null,null,null,null,null,null,null,null,null,null,null,null,"",{"$f":"MIN((S93+AP31*D19)/AK44,(S94+AP31*D19)/AL44,(S95+AP31*D19)/AM44,(S96+AP31*D19)/AN44,(S97+AP31*D19)/AO44)*AP44","v":{"$error":"#VALUE!"}},{"$f":"MIN((T93+AP31*D19)/AK44,(T94+AP31*D19)/AL44,(T95+AP31*D19)/AM44,(T96+AP31*D19)/AN44,(T97+AP31*D19)/AO44)*AP44","v":{"$error":"#VALUE!"}},{"$f":"MIN((U93+AP31*D19)/AK44,(U94+AP31*D19)/AL44,(U95+AP31*D19)/AM44,(U96+AP31*D19)/AN44,(U97+AP31*D19)/AO44)*AP44","v":{"$error":"#VALUE!"}},{"$f":"MIN((V93+AP31*D19)/AK44,(V94+AP31*D19)/AL44,(V95+AP31*D19)/AM44,(V96+AP31*D19)/AN44,(V97+AP31*D19)/AO44)*AP44","v":{"$error":"#VALUE!"}},{"$f":"MIN((W93+AP31*D19)/AK44,(W94+AP31*D19)/AL44,(W95+AP31*D19)/AM44,(W96+AP31*D19)/AN44,(W97+AP31*D19)/AO44)*AP44","v":{"$error":"#VALUE!"}},{"$f":"MIN((X93+AP31*D19)/AK44,(X94+AP31*D19)/AL44,(X95+AP31*D19)/AM44,(X96+AP31*D19)/AN44,(X97+AP31*D19)/AO44)*AP44","v":{"$error":"#VALUE!"}},{"$f":"MIN((Y93+AP31*D19)/AK44,(Y94+AP31*D19)/AL44,(Y95+AP31*D19)/AM44,(Y96+AP31*D19)/AN44,(Y97+AP31*D19)/AO44)*AP44","v":{"$error":"#VALUE!"}},{"$f":"MIN((Z93+AP31*D19)/AK44,(Z94+AP31*D19)/AL44,(Z95+AP31*D19)/AM44,(Z96+AP31*D19)/AN44,(Z97+AP31*D19)/AO44)*AP44","v":{"$error":"#VALUE!"}},{"$f":"MIN((AA93+AP31*D19)/AK44,(AA94+AP31*D19)/AL44,(AA95+AP31*D19)/AM44,(AA96+AP31*D19)/AN44,(AA97+AP31*D19)/AO44)*AP44","v":{"$error":"#VALUE!"}},{"$f":"MIN((AB93+AP31*D19)/AK44,(AB94+AP31*D19)/AL44,(AB95+AP31*D19)/AM44,(AB96+AP31*D19)/AN44,(AB97+AP31*D19)/AO44)*AP44","v":{"$error":"#VALUE!"}},{"$f":"MIN((AC93+AP31*D19)/AK44,(AC94+AP31*D19)/AL44,(AC95+AP31*D19)/AM44,(AC96+AP31*D19)/AN44,(AC97+AP31*D19)/AO44)*AP44","v":{"$error":"#VALUE!"}},{"$f":"MIN((AD93+AP31*D19)/AK44,(AD94+AP31*D19)/AL44,(AD95+AP31*D19)/AM44,(AD96+AP31*D19)/AN44,(AD97+AP31*D19)/AO44)*AP44","v":{"$error":"#VALUE!"}},{"$f":"MIN((AE93+AP31*D19)/AK44,(AE94+AP31*D19)/AL44,(AE95+AP31*D19)/AM44,(AE96+AP31*D19)/AN44,(AE97+AP31*D19)/AO44)*AP44","v":{"$error":"#VALUE!"}},{"$f":"MIN((AF93+AP31*D19)/AK44,(AF94+AP31*D19)/AL44,(AF95+AP31*D19)/AM44,(AF96+AP31*D19)/AN44,(AF97+AP31*D19)/AO44)*AP44","v":{"$error":"#VALUE!"}},{"$error":"#VALUE!"},null,"",{"$f":"MIN((S93+AQ31*D19)/AK45,(S94+AQ31*D19)/AL45,(S95+AQ31*D19)/AM45,(S96+AQ31*D19)/AN45,(S97+AQ31*D19)/AO45)*AP45","v":{"$error":"#VALUE!"}},{"$f":"MIN((T93+AQ31*D19)/AK45,(T94+AQ31*D19)/AL45,(T95+AQ31*D19)/AM45,(T96+AQ31*D19)/AN45,(T97+AQ31*D19)/AO45)*AP45","v":{"$error":"#VALUE!"}},{"$f":"MIN((U93+AQ31*D19)/AK45,(U94+AQ31*D19)/AL45,(U95+AQ31*D19)/AM45,(U96+AQ31*D19)/AN45,(U97+AQ31*D19)/AO45)*AP45","v":{"$error":"#VALUE!"}},{"$f":"MIN((V93+AQ31*D19)/AK45,(V94+AQ31*D19)/AL45,(V95+AQ31*D19)/AM45,(V96+AQ31*D19)/AN45,(V97+AQ31*D19)/AO45)*AP45","v":{"$error":"#VALUE!"}},{"$f":"MIN((W93+AQ31*D19)/AK45,(W94+AQ31*D19)/AL45,(W95+AQ31*D19)/AM45,(W96+AQ31*D19)/AN45,(W97+AQ31*D19)/AO45)*AP45","v":{"$error":"#VALUE!"}},{"$f":"MIN((X93+AQ31*D19)/AK45,(X94+AQ31*D19)/AL45,(X95+AQ31*D19)/AM45,(X96+AQ31*D19)/AN45,(X97+AQ31*D19)/AO45)*AP45","v":{"$error":"#VALUE!"}},{"$f":"MIN((Y93+AQ31*D19)/AK45,(Y94+AQ31*D19)/AL45,(Y95+AQ31*D19)/AM45,(Y96+AQ31*D19)/AN45,(Y97+AQ31*D19)/AO45)*AP45","v":{"$error":"#VALUE!"}},{"$f":"MIN((Z93+AQ31*D19)/AK45,(Z94+AQ31*D19)/AL45,(Z95+AQ31*D19)/AM45,(Z96+AQ31*D19)/AN45,(Z97+AQ31*D19)/AO45)*AP45","v":{"$error":"#VALUE!"}},{"$f":"MIN((AA93+AQ31*D19)/AK45,(AA94+AQ31*D19)/AL45,(AA95+AQ31*D19)/AM45,(AA96+AQ31*D19)/AN45,(AA97+AQ31*D19)/AO45)*AP45","v":{"$error":"#VALUE!"}},{"$f":"MIN((AB93+AQ31*D19)/AK45,(AB94+AQ31*D19)/AL45,(AB95+AQ31*D19)/AM45,(AB96+AQ31*D19)/AN45,(AB97+AQ31*D19)/AO45)*AP45","v":{"$error":"#VALUE!"}},{"$f":"MIN((AC93+AQ31*D19)/AK45,(AC94+AQ31*D19)/AL45,(AC95+AQ31*D19)/AM45,(AC96+AQ31*D19)/AN45,(AC97+AQ31*D19)/AO45)*AP45","v":{"$error":"#VALUE!"}},{"$f":"MIN((AD93+AQ31*D19)/AK45,(AD94+AQ31*D19)/AL45,(AD95+AQ31*D19)/AM45,(AD96+AQ31*D19)/AN45,(AD97+AQ31*D19)/AO45)*AP45","v":{"$error":"#VALUE!"}},{"$f":"MIN((AE93+AQ31*D19)/AK45,(AE94+AQ31*D19)/AL45,(AE95+AQ31*D19)/AM45,(AE96+AQ31*D19)/AN45,(AE97+AQ31*D19)/AO45)*AP45","v":{"$error":"#VALUE!"}},{"$f":"MIN((AF93+AQ31*D19)/AK45,(AF94+AQ31*D19)/AL45,(AF95+AQ31*D19)/AM45,(AF96+AQ31*D19)/AN45,(AF97+AQ31*D19)/AO45)*AP45","v":{"$error":"#VALUE!"}},{"$error":"#VALUE!"},null,null,{"$f":"IF(AV24=3,BW119,IF(AV25=3,BW120,BS80))","v":"attente"},{"$f":"IF(AV16=3,BW111,IF(AV17=3,BW112,IF(AV18=3,BW113,IF(AV19=3,BW114,IF(AV20=3,BW115,IF(AV21=3,BW116,IF(AV22=3,BW117,IF(AV23=3,BW118,BS126))))))))","v":"attente"}]
[null,null,null,null,null,null,null,null,null,null,null,null,null,null,null,null,null,{"$f":"G21","v":""},{"$f":"S120","v":"kit 1"},{"$f":"T120","v":"kit 2A"},"kit 2B","kit 4A","kit 4B","kit 5","kit 6A","kit 6B","kit 7","kit 8","kit 9A","kit 9B",{"$f":"AE120","v":"kit 10"},{"$f":"AF120","v":"kit 11"},null,null,null,"",{"$f":"MIN((S100+AP31*D19)/AK44,(S101+AP31*D19)/AL44,(S102+AP31*D19)/AM44,(S103+AP31*D19)/AN44,(S104+AP31*D19)/AO44)*AP44","v":{"$error":"#VALUE!"}},{"$f":"MIN((T100+AP31*D19)/AK44,(T101+AP31*D19)/AL44,(T102+AP31*D19)/AM44,(T103+AP31*D19)/AN44,(T104+AP31*D19)/AO44)*AP44","v":{"$error":"#VALUE!"}},{"$f":"MIN((U100+AP31*D19)/AK44,(U101+AP31*D19)/AL44,(U102+AP31*D19)/AM44,(U103+AP31*D19)/AN44,(U104+AP31*D19)/AO44)*AP44","v":{"$error":"#VALUE!"}},{"$f":"MIN((V100+AP31*D19)/AK44,(V101+AP31*D19)/AL44,(V102+AP31*D19)/AM44,(V103+AP31*D19)/AN44,(V104+AP31*D19)/AO44)*AP44","v":{"$error":"#VALUE!"}},{"$f":"MIN((W100+AP31*D19)/AK44,(W101+AP31*D19)/AL44,(W102+AP31*D19)/AM44,(W103+AP31*D19)/AN44,(W104+AP31*D19)/AO44)*AP44","v":{"$error":"#VALUE!"}},{"$f":"MIN((X100+AP31*D19)/AK44,(X101+AP31*D19)/AL44,(X102+AP31*D19)/AM44,(X103+AP31*D19)/AN44,(X104+AP31*D19)/AO44)*AP44","v":{"$error":"#VALUE!"}},{"$f":"MIN((Y100+AP31*D19)/AK44,(Y101+AP31*D19)/AL44,(Y102+AP31*D19)/AM44,(Y103+AP31*D19)/AN44,(Y104+AP31*D19)/AO44)*AP44","v":{"$error":"#VALUE!"}},{"$f":"MIN((Z100+AP31*D19)/AK44,(Z101+AP31*D19)/AL44,(Z102+AP31*D19)/AM44,(Z103+AP31*D19)/AN44,(Z104+AP31*D19)/AO44)*AP44","v":{"$error":"#VALUE!"}},{"$f":"MIN((AA100+AP31*D19)/AK44,(AA101+AP31*D19)/AL44,(AA102+AP31*D19)/AM44,(AA103+AP31*D19)/AN44,(AA104+AP31*D19)/AO44)*AP44","v":{"$error":"#VALUE!"}},{"$f":"MIN((AB100+AP31*D19)/AK44,(AB101+AP31*D19)/AL44,(AB102+AP31*D19)/AM44,(AB103+AP31*D19)/AN44,(AB104+AP31*D19)/AO44)*AP44","v":{"$error":"#VALUE!"}},{"$f":"MIN((AC100+AP31*D19)/AK44,(AC101+AP31*D19)/AL44,(AC102+AP31*D19)/AM44,(AC103+AP31*D19)/AN44,(AC104+AP31*D19)/AO44)*AP44","v":{"$error":"#VALUE!"}},{"$f":"MIN((AD100+AP31*D19)/AK44,(AD101+AP31*D19)/AL44,(AD102+AP31*D19)/AM44,(AD103+AP31*D19)/AN44,(AD104+AP31*D19)/AO44)*AP44","v":{"$error":"#VALUE!"}},{"$f":"MIN((AE100+AP31*D19)/AK44,(AE101+AP31*D19)/AL44,(AE102+AP31*D19)/AM44,(AE103+AP31*D19)/AN44,(AE104+AP31*D19)/AO44)*AP44","v":{"$error":"#VALUE!"}},{"$f":"MIN((AF100+AP31*D19)/AK44,(AF101+AP31*D19)/AL44,(AF102+AP31*D19)/AM44,(AF103+AP31*D19)/AN44,(AF104+AP31*D19)/AO44)*AP44","v":{"$error":"#VALUE!"}},{"$error":"#VALUE!"},null,"",{"$f":"MIN((S100+AQ31*D19)/AK45,(S101+AQ31*D19)/AL45,(S102+AQ31*D19)/AM45,(S103+AQ31*D19)/AN45,(S104+AQ31*D19)/AO45)*AP45","v":{"$error":"#VALUE!"}},{"$f":"MIN((T100+AQ31*D19)/AK45,(T101+AQ31*D19)/AL45,(T102+AQ31*D19)/AM45,(T103+AQ31*D19)/AN45,(T104+AQ31*D19)/AO45)*AP45","v":{"$error":"#VALUE!"}},{"$f":"MIN((U100+AQ31*D19)/AK45,(U101+AQ31*D19)/AL45,(U102+AQ31*D19)/AM45,(U103+AQ31*D19)/AN45,(U104+AQ31*D19)/AO45)*AP45","v":{"$error":"#VALUE!"}},{"$f":"MIN((V100+AQ31*D19)/AK45,(V101+AQ31*D19)/AL45,(V102+AQ31*D19)/AM45,(V103+AQ31*D19)/AN45,(V104+AQ31*D19)/AO45)*AP45","v":{"$error":"#VALUE!"}},{"$f":"MIN((W100+AQ31*D19)/AK45,(W101+AQ31*D19)/AL45,(W102+AQ31*D19)/AM45,(W103+AQ31*D19)/AN45,(W104+AQ31*D19)/AO45)*AP45","v":{"$error":"#VALUE!"}},{"$f":"MIN((X100+AQ31*D19)/AK45,(X101+AQ31*D19)/AL45,(X102+AQ31*D19)/AM45,(X103+AQ31*D19)/AN45,(X104+AQ31*D19)/AO45)*AP45","v":{"$error":"#VALUE!"}},{"$f":"MIN((Y100+AQ31*D19)/AK45,(Y101+AQ31*D19)/AL45,(Y102+AQ31*D19)/AM45,(Y103+AQ31*D19)/AN45,(Y104+AQ31*D19)/AO45)*AP45","v":{"$error":"#VALUE!"}},{"$f":"MIN((Z100+AQ31*D19)/AK45,(Z101+AQ31*D19)/AL45,(Z102+AQ31*D19)/AM45,(Z103+AQ31*D19)/AN45,(Z104+AQ31*D19)/AO45)*AP45","v":{"$error":"#VALUE!"}},{"$f":"MIN((AA100+AQ31*D19)/AK45,(AA101+AQ31*D19)/AL45,(AA102+AQ31*D19)/AM45,(AA103+AQ31*D19)/AN45,(AA104+AQ31*D19)/AO45)*AP45","v":{"$error":"#VALUE!"}},{"$f":"MIN((AB100+AQ31*D19)/AK45,(AB101+AQ31*D19)/AL45,(AB102+AQ31*D19)/AM45,(AB103+AQ31*D19)/AN45,(AB104+AQ31*D19)/AO45)*AP45","v":{"$error":"#VALUE!"}},{"$f":"MIN((AC100+AQ31*D19)/AK45,(AC101+AQ31*D19)/AL45,(AC102+AQ31*D19)/AM45,(AC103+AQ31*D19)/AN45,(AC104+AQ31*D19)/AO45)*AP45","v":{"$error":"#VALUE!"}},{"$f":"MIN((AD100+AQ31*D19)/AK45,(AD101+AQ31*D19)/AL45,(AD102+AQ31*D19)/AM45,(AD103+AQ31*D19)/AN45,(AD104+AQ31*D19)/AO45)*AP45","v":{"$error":"#VALUE!"}},{"$f":"MIN((AE100+AQ31*D19)/AK45,(AE101+AQ31*D19)/AL45,(AE102+AQ31*D19)/AM45,(AE103+AQ31*D19)/AN45,(AE104+AQ31*D19)/AO45)*AP45","v":{"$error":"#VALUE!"}},{"$f":"MIN((AF100+AQ31*D19)/AK45,(AF101+AQ31*D19)/AL45,(AF102+AQ31*D19)/AM45,(AF103+AQ31*D19)/AN45,(AF104+AQ31*D19)/AO45)*AP45","v":{"$error":"#VALUE!"}},{"$error":"#VALUE!"},null,null,{"$f":"IF(AV24=4,BY119,IF(AV25=4,BY120,BS80))","v":"attente"},{"$f":"IF(AV16=4,BY111,IF(AV17=4,BY112,IF(AV18=4,BY113,IF(AV19=4,BY114,IF(AV20=4,BY115,IF(AV21=4,BY116,IF(AV22=4,BY117,IF(AV23=4,BY118,BS127))))))))","v":"attente"}]
[null,null,null,null,null,null,null,null,null,null,null,null,null,null,null,null,null,{"$f":"H21+AH39+D16+D17+D21+D19*AG18","v":{"$error":"#VALUE!"}},{"$f":"R128+Q10","v":{"$error":"#VALUE!"}},{"$f":"R128+R10","v":{"$error":"#VALUE!"}},{"$f":"R128+S10","v":{"$error":"#VALUE!"}},{"$f":"R128+T10","v":{"$error":"#VALUE!"}},{"$f":"R128+U10","v":{"$error":"#VALUE!"}},{"$f":"R128+V10","v":{"$error":"#VALUE!"}},{"$f":"R128+W10","v":{"$error":"#VALUE!"}},{"$f":"R128+X10","v":{"$error":"#VALUE!"}},{"$f":"R128+Y10","v":{"$error":"#VALUE!"}},{"$f":"R128+Z10","v":{"$error":"#VALUE!"}},{"$f":"R128+AA10","v":{"$error":"#VALUE!"}},{"$f":"R128+AB10","v":{"$error":"#VALUE!"}},{"$f":"R128+AC10","v":{"$error":"#VALUE!"}},{"$f":"R128+AD10","v":{"$error":"#VALUE!"}},null,null,null,"",{"$f":"MIN((S107+AP31*D19)/AK44,(S108+AP31*D19)/AL44,(S109+AP31*D19)/AM44,(S110+AP31*D19)/AN44,(S111+AP31*D19)/AO44)*AP44","v":{"$error":"#VALUE!"}},{"$f":"MIN((T107+AP31*D19)/AK44,(T108+AP31*D19)/AL44,(T109+AP31*D19)/AM44,(T110+AP31*D19)/AN44,(T111+AP31*D19)/AO44)*AP44","v":{"$error":"#VALUE!"}},{"$f":"MIN((U107+AP31*D19)/AK44,(U108+AP31*D19)/AL44,(U109+AP31*D19)/AM44,(U110+AP31*D19)/AN44,(U111+AP31*D19)/AO44)*AP44","v":{"$error":"#VALUE!"}},{"$f":"MIN((V107+AP31*D19)/AK44,(V108+AP31*D19)/AL44,(V109+AP31*D19)/AM44,(V110+AP31*D19)/AN44,(V111+AP31*D19)/AO44)*AP44","v":{"$error":"#VALUE!"}},{"$f":"MIN((W107+AP31*D19)/AK44,(W108+AP31*D19)/AL44,(W109+AP31*D19)/AM44,(W110+AP31*D19)/AN44,(W111+AP31*D19)/AO44)*AP44","v":{"$error":"#VALUE!"}},{"$f":"MIN((X107+AP31*D19)/AK44,(X108+AP31*D19)/AL44,(X109+AP31*D19)/AM44,(X110+AP31*D19)/AN44,(X111+AP31*D19)/AO44)*AP44","v":{"$error":"#VALUE!"}},{"$f":"MIN((Y107+AP31*D19)/AK44,(Y108+AP31*D19)/AL44,(Y109+AP31*D19)/AM44,(Y110+AP31*D19)/AN44,(Y111+AP31*D19)/AO44)*AP44","v":{"$error":"#VALUE!"}},{"$f":"MIN((Z107+AP31*D19)/AK44,(Z108+AP31*D19)/AL44,(Z109+AP31*D19)/AM44,(Z110+AP31*D19)/AN44,(Z111+AP31*D19)/AO44)*AP44","v":{"$error":"#VALUE!"}},{"$f":"MIN((AA107+AP31*D19)/AK44,(AA108+AP31*D19)/AL44,(AA109+AP31*D19)/AM44,(AA110+AP31*D19)/AN44,(AA111+AP31*D19)/AO44)*AP44","v":{"$error":"#VALUE!"}},{"$f":"MIN((AB107+AP31*D19)/AK44,(AB108+AP31*D19)/AL44,(AB109+AP31*D19)/AM44,(AB110+AP31*D19)/AN44,(AB111+AP31*D19)/AO44)*AP44","v":{"$error":"#VALUE!"}},{"$f":"MIN((AC107+AP31*D19)/AK44,(AC108+AP31*D19)/AL44,(AC109+AP31*D19)/AM44,(AC110+AP31*D19)/AN44,(AC111+AP31*D19)/AO44)*AP44","v":{"$error":"#VALUE!"}},{"$f":"MIN((AD107+AP31*D19)/AK44,(AD108+AP31*D19)/AL44,(AD109+AP31*D19)/AM44,(AD110+AP31*D19)/AN44,(AD111+AP31*D19)/AO44)*AP44","v":{"$error":"#VALUE!"}},{"$f":"MIN((AE107+AP31*D19)/AK44,(AE108+AP31*D19)/AL44,(AE109+AP31*D19)/AM44,(AE110+AP31*D19)/AN44,(AE111+AP31*D19)/AO44)*AP44","v":{"$error":"#VALUE!"}},{"$f":"MIN((AF107+AP31*D19)/AK44,(AF108+AP31*D19)/AL44,(AF109+AP31*D19)/AM44,(AF110+AP31*D19)/AN44,(AF111+AP31*D19)/AO44)*AP44","v":{"$error":"#VALUE!"}},{"$error":"#VALUE!"},null,"",{"$f":"MIN((S107+AQ31*D19)/AK45,(S108+AQ31*D19)/AL45,(S109+AQ31*D19)/AM45,(S110+AQ31*D19)/AN45,(S111+AQ31*D19)/AO45)*AP45","v":{"$error":"#VALUE!"}},{"$f":"MIN((T107+AQ31*D19)/AK45,(T108+AQ31*D19)/AL45,(T109+AQ31*D19)/AM45,(T110+AQ31*D19)/AN45,(T111+AQ31*D19)/AO45)*AP45","v":{"$error":"#VALUE!"}},{"$f":"MIN((U107+AQ31*D19)/AK45,(U108+AQ31*D19)/AL45,(U109+AQ31*D19)/AM45,(U110+AQ31*D19)/AN45,(U111+AQ31*D19)/AO45)*AP45","v":{"$error":"#VALUE!"}},{"$f":"MIN((V107+AQ31*D19)/AK45,(V108+AQ31*D19)/AL45,(V109+AQ31*D19)/AM45,(V110+AQ31*D19)/AN45,(V111+AQ31*D19)/AO45)*AP45","v":{"$error":"#VALUE!"}},{"$f":"MIN((W107+AQ31*D19)/AK45,(W108+AQ31*D19)/AL45,(W109+AQ31*D19)/AM45,(W110+AQ31*D19)/AN45,(W111+AQ31*D19)/AO45)*AP45","v":{"$error":"#VALUE!"}},{"$f":"MIN((X107+AQ31*D19)/AK45,(X108+AQ31*D19)/AL45,(X109+AQ31*D19)/AM45,(X110+AQ31*D19)/AN45,(X111+AQ31*D19)/AO45)*AP45","v":{"$error":"#VALUE!"}},{"$f":"MIN((Y107+AQ31*D19)/AK45,(Y108+AQ31*D19)/AL45,(Y109+AQ31*D19)/AM45,(Y110+AQ31*D19)/AN45,(Y111+AQ31*D19)/AO45)*AP45","v":{"$error":"#VALUE!"}},{"$f":"MIN((Z107+AQ31*D19)/AK45,(Z108+AQ31*D19)/AL45,(Z109+AQ31*D19)/AM45,(Z110+AQ31*D19)/AN45,(Z111+AQ31*D19)/AO45)*AP45","v":{"$error":"#VALUE!"}},{"$f":"MIN((AA107+AQ31*D19)/AK45,(AA108+AQ31*D19)/AL45,(AA109+AQ31*D19)/AM45,(AA110+AQ31*D19)/AN45,(AA111+AQ31*D19)/AO45)*AP45","v":{"$error":"#VALUE!"}},{"$f":"MIN((AB107+AQ31*D19)/AK45,(AB108+AQ31*D19)/AL45,(AB109+AQ31*D19)/AM45,(AB110+AQ31*D19)/AN45,(AB111+AQ31*D19)/AO45)*AP45","v":{"$error":"#VALUE!"}},{"$f":"MIN((AC107+AQ31*D19)/AK45,(AC108+AQ31*D19)/AL45,(AC109+AQ31*D19)/AM45,(AC110+AQ31*D19)/AN45,(AC111+AQ31*D19)/AO45)*AP45","v":{"$error":"#VALUE!"}},{"$f":"MIN((AD107+AQ31*D19)/AK45,(AD108+AQ31*D19)/AL45,(AD109+AQ31*D19)/AM45,(AD110+AQ31*D19)/AN45,(AD111+AQ31*D19)/AO45)*AP45","v":{"$error":"#VALUE!"}},{"$f":"MIN((AE107+AQ31*D19)/AK45,(AE108+AQ31*D19)/AL45,(AE109+AQ31*D19)/AM45,(AE110+AQ31*D19)/AN45,(AE111+AQ31*D19)/AO45)*AP45","v":{"$error":"#VALUE!"}},{"$f":"MIN((AF107+AQ31*D19)/AK45,(AF108+AQ31*D19)/AL45,(AF109+AQ31*D19)/AM45,(AF110+AQ31*D19)/AN45,(AF111+AQ31*D19)/AO45)*AP45","v":{"$error":"#VALUE!"}},{"$error":"#VALUE!"},null,null,{"$f":"IF(AV24=5,CA119,IF(AV25=5,CA120,BS80))","v":"attente"},{"$f":"IF(AV16=5,CA111,IF(AV17=5,CA112,IF(AV18=5,CA113,IF(AV19=5,CA114,IF(AV20=5,CA115,IF(AV21=5,CA116,IF(AV22=5,CA117,IF(AV23=5,CA118,BS128))))))))","v":"attente"}]
[null,null,null,null,null,null,null,null,null,null,null,null,null,null,null,null,null,{"$f":"I21+AH40+D15+D17+D21+D19*AG18","v":{"$error":"#VALUE!"}},{"$f":"R129+Q11","v":{"$error":"#VALUE!"}},{"$f":"R129+R11","v":{"$error":"#VALUE!"}},{"$f":"R129+S11","v":{"$error":"#VALUE!"}},{"$f":"R129+T11","v":{"$error":"#VALUE!"}},{"$f":"R129+U11","v":{"$error":"#VALUE!"}},{"$f":"R129+V11","v":{"$error":"#VALUE!"}},{"$f":"R129+W11","v":{"$error":"#VALUE!"}},{"$f":"R129+X11","v":{"$error":"#VALUE!"}},{"$f":"R129+Y11","v":{"$error":"#VALUE!"}},{"$f":"R129+Z11","v":{"$error":"#VALUE!"}},{"$f":"R129+AA11","v":{"$error":"#VALUE!"}},{"$f":"R129+AB11","v":{"$error":"#VALUE!"}},{"$f":"R129+AC11","v":{"$error":"#VALUE!"}},{"$f":"R129+AD11","v":{"$error":"#VALUE!"}},null,null,null,"",{"$f":"MIN((S114+AP31*D19)/AK44,(S115+AP31*D19)/AL44,(S116+AP31*D19)/AM44,(S117+AP31*D19)/AN44,(S118+AP31*D19)/AO44)*AP44","v":{"$error":"#VALUE!"}},{"$f":"MIN((T114+AP31*D19)/AK44,(T115+AP31*D19)/AL44,(T116+AP31*D19)/AM44,(T117+AP31*D19)/AN44,(T118+AP31*D19)/AO44)*AP44","v":{"$error":"#VALUE!"}},{"$f":"MIN((U114+AP31*D19)/AK44,(U115+AP31*D19)/AL44,(U116+AP31*D19)/AM44,(U117+AP31*D19)/AN44,(U118+AP31*D19)/AO44)*AP44","v":{"$error":"#VALUE!"}},{"$f":"MIN((V114+AP31*D19)/AK44,(V115+AP31*D19)/AL44,(V116+AP31*D19)/AM44,(V117+AP31*D19)/AN44,(V118+AP31*D19)/AO44)*AP44","v":{"$error":"#VALUE!"}},{"$f":"MIN((W114+AP31*D19)/AK44,(W115+AP31*D19)/AL44,(W116+AP31*D19)/AM44,(W117+AP31*D19)/AN44,(W118+AP31*D19)/AO44)*AP44","v":{"$error":"#VALUE!"}},{"$f":"MIN((X114+AP31*D19)/AK44,(X115+AP31*D19)/AL44,(X116+AP31*D19)/AM44,(X117+AP31*D19)/AN44,(X118+AP31*D19)/AO44)*AP44","v":{"$error":"#VALUE!"}},{"$f":"MIN((Y114+AP31*D19)/AK44,(Y115+AP31*D19)/AL44,(Y116+AP31*D19)/AM44,(Y117+AP31*D19)/AN44,(Y118+AP31*D19)/AO44)*AP44","v":{"$error":"#VALUE!"}},{"$f":"MIN((Z114+AP31*D19)/AK44,(Z115+AP31*D19)/AL44,(Z116+AP31*D19)/AM44,(Z117+AP31*D19)/AN44,(Z118+AP31*D19)/AO44)*AP44","v":{"$error":"#VALUE!"}},{"$f":"MIN((AA114+AP31*D19)/AK44,(AA115+AP31*D19)/AL44,(AA116+AP31*D19)/AM44,(AA117+AP31*D19)/AN44,(AA118+AP31*D19)/AO44)*AP44","v":{"$error":"#VALUE!"}},{"$f":"MIN((AB114+AP31*D19)/AK44,(AB115+AP31*D19)/AL44,(AB116+AP31*D19)/AM44,(AB117+AP31*D19)/AN44,(AB118+AP31*D19)/AO44)*AP44","v":{"$error":"#VALUE!"}},{"$f":"MIN((AC114+AP31*D19)/AK44,(AC115+AP31*D19)/AL44,(AC116+AP31*D19)/AM44,(AC117+AP31*D19)/AN44,(AC118+AP31*D19)/AO44)*AP44","v":{"$error":"#VALUE!"}},{"$f":"MIN((AD114+AP31*D19)/AK44,(AD115+AP31*D19)/AL44,(AD116+AP31*D19)/AM44,(AD117+AP31*D19)/AN44,(AD118+AP31*D19)/AO44)*AP44","v":{"$error":"#VALUE!"}},{"$f":"MIN((AE114+AP31*D19)/AK44,(AE115+AP31*D19)/AL44,(AE116+AP31*D19)/AM44,(AE117+AP31*D19)/AN44,(AE118+AP31*D19)/AO44)*AP44","v":{"$error":"#VALUE!"}},{"$f":"MIN((AF114+AP31*D19)/AK44,(AF115+AP31*D19)/AL44,(AF116+AP31*D19)/AM44,(AF117+AP31*D19)/AN44,(AF118+AP31*D19)/AO44)*AP44","v":{"$error":"#VALUE!"}},{"$error":"#VALUE!"},null,"",{"$f":"MIN((S114+AQ31*D19)/AK45,(S115+AQ31*D19)/AL45,(S116+AQ31*D19)/AM45,(S117+AQ31*D19)/AN45,(S118+AQ31*D19)/AO45)*AP45","v":{"$error":"#VALUE!"}},{"$f":"MIN((T114+AQ31*D19)/AK45,(T115+AQ31*D19)/AL45,(T116+AQ31*D19)/AM45,(T117+AQ31*D19)/AN45,(T118+AQ31*D19)/AO45)*AP45","v":{"$error":"#VALUE!"}},{"$f":"MIN((U114+AQ31*D19)/AK45,(U115+AQ31*D19)/AL45,(U116+AQ31*D19)/AM45,(U117+AQ31*D19)/AN45,(U118+AQ31*D19)/AO45)*AP45","v":{"$error":"#VALUE!"}},{"$f":"MIN((V114+AQ31*D19)/AK45,(V115+AQ31*D19)/AL45,(V116+AQ31*D19)/AM45,(V117+AQ31*D19)/AN45,(V118+AQ31*D19)/AO45)*AP45","v":{"$error":"#VALUE!"}},{"$f":"MIN((W114+AQ31*D19)/AK45,(W115+AQ31*D19)/AL45,(W116+AQ31*D19)/AM45,(W117+AQ31*D19)/AN45,(W118+AQ31*D19)/AO45)*AP45","v":{"$error":"#VALUE!"}},{"$f":"MIN((X114+AQ31*D19)/AK45,(X115+AQ31*D19)/AL45,(X116+AQ31*D19)/AM45,(X117+AQ31*D19)/AN45,(X118+AQ31*D19)/AO45)*AP45","v":{"$error":"#VALUE!"}},{"$f":"MIN((Y114+AQ31*D19)/AK45,(Y115+AQ31*D19)/AL45,(Y116+AQ31*D19)/AM45,(Y117+AQ31*D19)/AN45,(Y118+AQ31*D19)/AO45)*AP45","v":{"$error":"#VALUE!"}},{"$f":"MIN((Z114+AQ31*D19)/AK45,(Z115+AQ31*D19)/AL45,(Z116+AQ31*D19)/AM45,(Z117+AQ31*D19)/AN45,(Z118+AQ31*D19)/AO45)*AP45","v":{"$error":"#VALUE!"}},{"$f":"MIN((AA114+AQ31*D19)/AK45,(AA115+AQ31*D19)/AL45,(AA116+AQ31*D19)/AM45,(AA117+AQ31*D19)/AN45,(AA118+AQ31*D19)/AO45)*AP45","v":{"$error":"#VALUE!"}},{"$f":"MIN((AB114+AQ31*D19)/AK45,(AB115+AQ31*D19)/AL45,(AB116+AQ31*D19)/AM45,(AB117+AQ31*D19)/AN45,(AB118+AQ31*D19)/AO45)*AP45","v":{"$error":"#VALUE!"}},{"$f":"MIN((AC114+AQ31*D19)/AK45,(AC115+AQ31*D19)/AL45,(AC116+AQ31*D19)/AM45,(AC117+AQ31*D19)/AN45,(AC118+AQ31*D19)/AO45)*AP45","v":{"$error":"#VALUE!"}},{"$f":"MIN((AD114+AQ31*D19)/AK45,(AD115+AQ31*D19)/AL45,(AD116+AQ31*D19)/AM45,(AD117+AQ31*D19)/AN45,(AD118+AQ31*D19)/AO45)*AP45","v":{"$error":"#VALUE!"}},{"$f":"MIN((AE114+AQ31*D19)/AK45,(AE115+AQ31*D19)/AL45,(AE116+AQ31*D19)/AM45,(AE117+AQ31*D19)/AN45,(AE118+AQ31*D19)/AO45)*AP45","v":{"$error":"#VALUE!"}},{"$f":"MIN((AF114+AQ31*D19)/AK45,(AF115+AQ31*D19)/AL45,(AF116+AQ31*D19)/AM45,(AF117+AQ31*D19)/AN45,(AF118+AQ31*D19)/AO45)*AP45","v":{"$error":"#VALUE!"}},{"$error":"#VALUE!"},null,null,{"$f":"IF(AV24=6,CC119,IF(AV25=6,CC120,BS80))","v":"attente"},{"$f":"IF(AV16=6,CC111,IF(AV17=6,CC112,IF(AV18=6,CC113,IF(AV19=6,CC114,IF(AV20=6,CC115,IF(AV21=6,CC116,IF(AV22=6,CC117,IF(AV23=6,CC118,BS129))))))))","v":"attente"}]
[null,null,null,null,null,null,null,null,null,null,null,null,null,null,null,null,null,{"$f":"J21+AH41+D15+D17+D21+D19*AG18","v":{"$error":"#VALUE!"}},{"$f":"R130+Q12","v":{"$error":"#VALUE!"}},{"$f":"R130+R12","v":{"$error":"#VALUE!"}},{"$f":"R130+S12","v":{"$error":"#VALUE!"}},{"$f":"R130+T12","v":{"$error":"#VALUE!"}},{"$f":"R130+U12","v":{"$error":"#VALUE!"}},{"$f":"R130+V12","v":{"$error":"#VALUE!"}},{"$f":"R130+W12","v":{"$error":"#VALUE!"}},{"$f":"R130+X12","v":{"$error":"#VALUE!"}},{"$f":"R130+Y12","v":{"$error":"#VALUE!"}},{"$f":"R130+Z12","v":{"$error":"#VALUE!"}},{"$f":"R130+AA12","v":{"$error":"#VALUE!"}},{"$f":"R130+AB12","v":{"$error":"#VALUE!"}},{"$f":"R130+AC12","v":{"$error":"#VALUE!"}},{"$f":"R130+AD12","v":{"$error":"#VALUE!"}},null,null,null,"",{"$f":"MIN((S121+AP31*D19)/AK44,(S122+AP31*D19)/AL44,(S123+AP31*D19)/AM44,(S124+AP31*D19)/AN44,(S125+AP31*D19)/AO44)*AP44","v":{"$error":"#VALUE!"}},{"$f":"MIN((T121+AP31*D19)/AK44,(T122+AP31*D19)/AL44,(T123+AP31*D19)/AM44,(T124+AP31*D19)/AN44,(T125+AP31*D19)/AO44)*AP44","v":{"$error":"#VALUE!"}},{"$f":"MIN((U121+AP31*D19)/AK44,(U122+AP31*D19)/AL44,(U123+AP31*D19)/AM44,(U124+AP31*D19)/AN44,(U125+AP31*D19)/AO44)*AP44","v":{"$error":"#VALUE!"}},{"$f":"MIN((V121+AP31*D19)/AK44,(V122+AP31*D19)/AL44,(V123+AP31*D19)/AM44,(V124+AP31*D19)/AN44,(V125+AP31*D19)/AO44)*AP44","v":{"$error":"#VALUE!"}},{"$f":"MIN((W121+AP31*D19)/AK44,(W122+AP31*D19)/AL44,(W123+AP31*D19)/AM44,(W124+AP31*D19)/AN44,(W125+AP31*D19)/AO44)*AP44","v":{"$error":"#VALUE!"}},{"$f":"MIN((X121+AP31*D19)/AK44,(X122+AP31*D19)/AL44,(X123+AP31*D19)/AM44,(X124+AP31*D19)/AN44,(X125+AP31*D19)/AO44)*AP44","v":{"$error":"#VALUE!"}},{"$f":"MIN((Y121+AP31*D19)/AK44,(Y122+AP31*D19)/AL44,(Y123+AP31*D19)/AM44,(Y124+AP31*D19)/AN44,(Y125+AP31*D19)/AO44)*AP44","v":{"$error":"#VALUE!"}},{"$f":"MIN((Z121+AP31*D19)/AK44,(Z122+AP31*D19)/AL44,(Z123+AP31*D19)/AM44,(Z124+AP31*D19)/AN44,(Z125+AP31*D19)/AO44)*AP44","v":{"$error":"#VALUE!"}},{"$f":"MIN((AA121+AP31*D19)/AK44,(AA122+AP31*D19)/AL44,(AA123+AP31*D19)/AM44,(AA124+AP31*D19)/AN44,(AA125+AP31*D19)/AO44)*AP44","v":{"$error":"#VALUE!"}},{"$f":"MIN((AB121+AP31*D19)/AK44,(AB122+AP31*D19)/AL44,(AB123+AP31*D19)/AM44,(AB124+AP31*D19)/AN44,(AB125+AP31*D19)/AO44)*AP44","v":{"$error":"#VALUE!"}},{"$f":"MIN((AC121+AP31*D19)/AK44,(AC122+AP31*D19)/AL44,(AC123+AP31*D19)/AM44,(AC124+AP31*D19)/AN44,(AC125+AP31*D19)/AO44)*AP44","v":{"$error":"#VALUE!"}},{"$f":"MIN((AD121+AP31*D19)/AK44,(AD122+AP31*D19)/AL44,(AD123+AP31*D19)/AM44,(AD124+AP31*D19)/AN44,(AD125+AP31*D19)/AO44)*AP44","v":{"$error":"#VALUE!"}},{"$f":"MIN((AE121+AP31*D19)/AK44,(AE122+AP31*D19)/AL44,(AE123+AP31*D19)/AM44,(AE124+AP31*D19)/AN44,(AE125+AP31*D19)/AO44)*AP44","v":{"$error":"#VALUE!"}},{"$f":"MIN((AF121+AP31*D19)/AK44,(AF122+AP31*D19)/AL44,(AF123+AP31*D19)/AM44,(AF124+AP31*D19)/AN44,(AF125+AP31*D19)/AO44)*AP44","v":{"$error":"#VALUE!"}},{"$error":"#VALUE!"},null,"",{"$f":"MIN((S121+AQ31*D19)/AK45,(S122+AQ31*D19)/AL45,(S123+AQ31*D19)/AM45,(S124+AQ31*D19)/AN45,(S125+AQ31*D19)/AO45)*AP45","v":{"$error":"#VALUE!"}},{"$f":"MIN((T121+AQ31*D19)/AK45,(T122+AQ31*D19)/AL45,(T123+AQ31*D19)/AM45,(T124+AQ31*D19)/AN45,(T125+AQ31*D19)/AO45)*AP45","v":{"$error":"#VALUE!"}},{"$f":"MIN((U121+AQ31*D19)/AK45,(U122+AQ31*D19)/AL45,(U123+AQ31*D19)/AM45,(U124+AQ31*D19)/AN45,(U125+AQ31*D19)/AO45)*AP45","v":{"$error":"#VALUE!"}},{"$f":"MIN((V121+AQ31*D19)/AK45,(V122+AQ31*D19)/AL45,(V123+AQ31*D19)/AM45,(V124+AQ31*D19)/AN45,(V125+AQ31*D19)/AO45)*AP45","v":{"$error":"#VALUE!"}},{"$f":"MIN((W121+AQ31*D19)/AK45,(W122+AQ31*D19)/AL45,(W123+AQ31*D19)/AM45,(W124+AQ31*D19)/AN45,(W125+AQ31*D19)/AO45)*AP45","v":{"$error":"#VALUE!"}},{"$f":"MIN((X121+AQ31*D19)/AK45,(X122+AQ31*D19)/AL45,(X123+AQ31*D19)/AM45,(X124+AQ31*D19)/AN45,(X125+AQ31*D19)/AO45)*AP45","v":{"$error":"#VALUE!"}},{"$f":"MIN((Y121+AQ31*D19)/AK45,(Y122+AQ31*D19)/AL45,(Y123+AQ31*D19)/AM45,(Y124+AQ31*D19)/AN45,(Y125+AQ31*D19)/AO45)*AP45","v":{"$error":"#VALUE!"}},{"$f":"MIN((Z121+AQ31*D19)/AK45,(Z122+AQ31*D19)/AL45,(Z123+AQ31*D19)/AM45,(Z124+AQ31*D19)/AN45,(Z125+AQ31*D19)/AO45)*AP45","v":{"$error":"#VALUE!"}},{"$f":"MIN((AA121+AQ31*D19)/AK45,(AA122+AQ31*D19)/AL45,(AA123+AQ31*D19)/AM45,(AA124+AQ31*D19)/AN45,(AA125+AQ31*D19)/AO45)*AP45","v":{"$error":"#VALUE!"}},{"$f":"MIN((AB121+AQ31*D19)/AK45,(AB122+AQ31*D19)/AL45,(AB123+AQ31*D19)/AM45,(AB124+AQ31*D19)/AN45,(AB125+AQ31*D19)/AO45)*AP45","v":{"$error":"#VALUE!"}},{"$f":"MIN((AC121+AQ31*D19)/AK45,(AC122+AQ31*D19)/AL45,(AC123+AQ31*D19)/AM45,(AC124+AQ31*D19)/AN45,(AC125+AQ31*D19)/AO45)*AP45","v":{"$error":"#VALUE!"}},{"$f":"MIN((AD121+AQ31*D19)/AK45,(AD122+AQ31*D19)/AL45,(AD123+AQ31*D19)/AM45,(AD124+AQ31*D19)/AN45,(AD125+AQ31*D19)/AO45)*AP45","v":{"$error":"#VALUE!"}},{"$f":"MIN((AE121+AQ31*D19)/AK45,(AE122+AQ31*D19)/AL45,(AE123+AQ31*D19)/AM45,(AE124+AQ31*D19)/AN45,(AE125+AQ31*D19)/AO45)*AP45","v":{"$error":"#VALUE!"}},{"$f":"MIN((AF121+AQ31*D19)/AK45,(AF122+AQ31*D19)/AL45,(AF123+AQ31*D19)/AM45,(AF124+AQ31*D19)/AN45,(AF125+AQ31*D19)/AO45)*AP45","v":{"$error":"#VALUE!"}},{"$error":"#VALUE!"},null,null,{"$f":"IF(AV24=7,CE119,IF(AV25=7,CE120,BS80))","v":"attente"},{"$f":"IF(AV16=7,CE111,IF(AV17=7,CE112,IF(AV18=7,CE113,IF(AV19=7,CE114,IF(AV20=7,CE115,IF(AV21=7,CE116,IF(AV22=7,CE117,IF(AV23=7,CE118,BS130))))))))","v":"attente"}]
[null,null,null,null,null,null,null,null,null,null,null,null,null,null,null,null,null,{"$f":"K21+AH42+D16+D17+D21+D19*AG18","v":{"$error":"#VALUE!"}},{"$f":"R131+Q13","v":{"$error":"#VALUE!"}},{"$f":"R131+R13","v":{"$error":"#VALUE!"}},{"$f":"R131+S13","v":{"$error":"#VALUE!"}},{"$f":"R131+T13","v":{"$error":"#VALUE!"}},{"$f":"R131+U13","v":{"$error":"#VALUE!"}},{"$f":"R131+V13","v":{"$error":"#VALUE!"}},{"$f":"R131+W13","v":{"$error":"#VALUE!"}},{"$f":"R131+X13","v":{"$error":"#VALUE!"}},{"$f":"R131+Y13","v":{"$error":"#VALUE!"}},{"$f":"R131+Z13","v":{"$error":"#VALUE!"}},{"$f":"R131+AA13","v":{"$error":"#VALUE!"}},{"$f":"R131+AB13","v":{"$error":"#VALUE!"}},{"$f":"R131+AC13","v":{"$error":"#VALUE!"}},{"$f":"R131+AD13","v":{"$error":"#VALUE!"}},null,null,null,"",{"$f":"MIN((S128+AP31*D19)/AK44,(S129+AP31*D19)/AL44,(S130+AP31*D19)/AM44,(S131+AP31*D19)/AN44,(S132+AP31*D19)/AO44)*AP44","v":{"$error":"#VALUE!"}},{"$f":"MIN((T128+AP31*D19)/AK44,(T129+AP31*D19)/AL44,(T130+AP31*D19)/AM44,(T131+AP31*D19)/AN44,(T132+AP31*D19)/AO44)*AP44","v":{"$error":"#VALUE!"}},{"$f":"MIN((U128+AP31*D19)/AK44,(U129+AP31*D19)/AL44,(U130+AP31*D19)/AM44,(U131+AP31*D19)/AN44,(U132+AP31*D19)/AO44)*AP44","v":{"$error":"#VALUE!"}},{"$f":"MIN((V128+AP31*D19)/AK44,(V129+AP31*D19)/AL44,(V130+AP31*D19)/AM44,(V131+AP31*D19)/AN44,(V132+AP31*D19)/AO44)*AP44","v":{"$error":"#VALUE!"}},{"$f":"MIN((W128+AP31*D19)/AK44,(W129+AP31*D19)/AL44,(W130+AP31*D19)/AM44,(W131+AP31*D19)/AN44,(W132+AP31*D19)/AO44)*AP44","v":{"$error":"#VALUE!"}},{"$f":"MIN((X128+AP31*D19)/AK44,(X129+AP31*D19)/AL44,(X130+AP31*D19)/AM44,(X131+AP31*D19)/AN44,(X132+AP31*D19)/AO44)*AP44","v":{"$error":"#VALUE!"}},{"$f":"MIN((Y128+AP31*D19)/AK44,(Y129+AP31*D19)/AL44,(Y130+AP31*D19)/AM44,(Y131+AP31*D19)/AN44,(Y132+AP31*D19)/AO44)*AP44","v":{"$error":"#VALUE!"}},{"$f":"MIN((Z128+AP31*D19)/AK44,(Z129+AP31*D19)/AL44,(Z130+AP31*D19)/AM44,(Z131+AP31*D19)/AN44,(Z132+AP31*D19)/AO44)*AP44","v":{"$error":"#VALUE!"}},{"$f":"MIN((AA128+AP31*D19)/AK44,(AA129+AP31*D19)/AL44,(AA130+AP31*D19)/AM44,(AA131+AP31*D19)/AN44,(AA132+AP31*D19)/AO44)*AP44","v":{"$error":"#VALUE!"}},{"$f":"MIN((AB128+AP31*D19)/AK44,(AB129+AP31*D19)/AL44,(AB130+AP31*D19)/AM44,(AB131+AP31*D19)/AN44,(AB132+AP31*D19)/AO44)*AP44","v":{"$error":"#VALUE!"}},{"$f":"MIN((AC128+AP31*D19)/AK44,(AC129+AP31*D19)/AL44,(AC130+AP31*D19)/AM44,(AC131+AP31*D19)/AN44,(AC132+AP31*D19)/AO44)*AP44","v":{"$error":"#VALUE!"}},{"$f":"MIN((AD128+AP31*D19)/AK44,(AD129+AP31*D19)/AL44,(AD130+AP31*D19)/AM44,(AD131+AP31*D19)/AN44,(AD132+AP31*D19)/AO44)*AP44","v":{"$error":"#VALUE!"}},{"$f":"MIN((AE128+AP31*D19)/AK44,(AE129+AP31*D19)/AL44,(AE130+AP31*D19)/AM44,(AE131+AP31*D19)/AN44,(AE132+AP31*D19)/AO44)*AP44","v":{"$error":"#VALUE!"}},{"$f":"MIN((AF128+AP31*D19)/AK44,(AF129+AP31*D19)/AL44,(AF130+AP31*D19)/AM44,(AF131+AP31*D19)/AN44,(AF132+AP31*D19)/AO44)*AP44","v":{"$error":"#VALUE!"}},{"$error":"#VALUE!"},null,"",{"$f":"MIN((S128+AQ31*D19)/AK45,(S129+AQ31*D19)/AL45,(S130+AQ31*D19)/AM45,(S131+AQ31*D19)/AN45,(S132+AQ31*D19)/AO45)*AP45","v":{"$error":"#VALUE!"}},{"$f":"MIN((T128+AQ31*D19)/AK45,(T129+AQ31*D19)/AL45,(T130+AQ31*D19)/AM45,(T131+AQ31*D19)/AN45,(T132+AQ31*D19)/AO45)*AP45","v":{"$error":"#VALUE!"}},{"$f":"MIN((U128+AQ31*D19)/AK45,(U129+AQ31*D19)/AL45,(U130+AQ31*D19)/AM45,(U131+AQ31*D19)/AN45,(U132+AQ31*D19)/AO45)*AP45","v":{"$error":"#VALUE!"}},{"$f":"MIN((V128+AQ31*D19)/AK45,(V129+AQ31*D19)/AL45,(V130+AQ31*D19)/AM45,(V131+AQ31*D19)/AN45,(V132+AQ31*D19)/AO45)*AP45","v":{"$error":"#VALUE!"}},{"$f":"MIN((W128+AQ31*D19)/AK45,(W129+AQ31*D19)/AL45,(W130+AQ31*D19)/AM45,(W131+AQ31*D19)/AN45,(W132+AQ31*D19)/AO45)*AP45","v":{"$error":"#VALUE!"}},{"$f":"MIN((X128+AQ31*D19)/AK45,(X129+AQ31*D19)/AL45,(X130+AQ31*D19)/AM45,(X131+AQ31*D19)/AN45,(X132+AQ31*D19)/AO45)*AP45","v":{"$error":"#VALUE!"}},{"$f":"MIN((Y128+AQ31*D19)/AK45,(Y129+AQ31*D19)/AL45,(Y130+AQ31*D19)/AM45,(Y131+AQ31*D19)/AN45,(Y132+AQ31*D19)/AO45)*AP45","v":{"$error":"#VALUE!"}},{"$f":"MIN((Z128+AQ31*D19)/AK45,(Z129+AQ31*D19)/AL45,(Z130+AQ31*D19)/AM45,(Z131+AQ31*D19)/AN45,(Z132+AQ31*D19)/AO45)*AP45","v":{"$error":"#VALUE!"}},{"$f":"MIN((AA128+AQ31*D19)/AK45,(AA129+AQ31*D19)/AL45,(AA130+AQ31*D19)/AM45,(AA131+AQ31*D19)/AN45,(AA132+AQ31*D19)/AO45)*AP45","v":{"$error":"#VALUE!"}},{"$f":"MIN((AB128+AQ31*D19)/AK45,(AB129+AQ31*D19)/AL45,(AB130+AQ31*D19)/AM45,(AB131+AQ31*D19)/AN45,(AB132+AQ31*D19)/AO45)*AP45","v":{"$error":"#VALUE!"}},{"$f":"MIN((AC128+AQ31*D19)/AK45,(AC129+AQ31*D19)/AL45,(AC130+AQ31*D19)/AM45,(AC131+AQ31*D19)/AN45,(AC132+AQ31*D19)/AO45)*AP45","v":{"$error":"#VALUE!"}},{"$f":"MIN((AD128+AQ31*D19)/AK45,(AD129+AQ31*D19)/AL45,(AD130+AQ31*D19)/AM45,(AD131+AQ31*D19)/AN45,(AD132+AQ31*D19)/AO45)*AP45","v":{"$error":"#VALUE!"}},{"$f":"MIN((AE128+AQ31*D19)/AK45,(AE129+AQ31*D19)/AL45,(AE130+AQ31*D19)/AM45,(AE131+AQ31*D19)/AN45,(AE132+AQ31*D19)/AO45)*AP45","v":{"$error":"#VALUE!"}},{"$f":"MIN((AF128+AQ31*D19)/AK45,(AF129+AQ31*D19)/AL45,(AF130+AQ31*D19)/AM45,(AF131+AQ31*D19)/AN45,(AF132+AQ31*D19)/AO45)*AP45","v":{"$error":"#VALUE!"}},{"$error":"#VALUE!"},null,null,{"$f":"IF(AV24=8,CG119,IF(AV25=8,CG120,BS80))","v":"attente"},{"$f":"IF(AV16=8,CG111,IF(AV17=8,CG112,IF(AV18=8,CG113,IF(AV19=8,CG114,IF(AV20=8,CG115,IF(AV21=8,CG116,IF(AV22=8,CG117,IF(AV23=8,CG118,BS131))))))))","v":"attente"}]
[null,null,null,null,null,null,null,null,null,null,null,null,null,null,null,null,null,{"$f":"L21+AH43+D15+D17+D21+D19*AG18","v":{"$error":"#VALUE!"}},{"$f":"R132+Q14","v":{"$error":"#VALUE!"}},{"$f":"R132+R14","v":{"$error":"#VALUE!"}},{"$f":"R132+S14","v":{"$error":"#VALUE!"}},{"$f":"R132+T14","v":{"$error":"#VALUE!"}},{"$f":"R132+U14","v":{"$error":"#VALUE!"}},{"$f":"R132+V14","v":{"$error":"#VALUE!"}},{"$f":"R132+W14","v":{"$error":"#VALUE!"}},{"$f":"R132+X14","v":{"$error":"#VALUE!"}},{"$f":"R132+Y14","v":{"$error":"#VALUE!"}},{"$f":"R132+Z14","v":{"$error":"#VALUE!"}},{"$f":"R132+AA14","v":{"$error":"#VALUE!"}},{"$f":"R132+AB14","v":{"$error":"#VALUE!"}},{"$f":"R132+AC14","v":{"$error":"#VALUE!"}},{"$f":"R132+AD14","v":{"$error":"#VALUE!"}},null,null,null,"",{"$f":"MIN((S135+AP31*D19)/AK44,(S136+AP31*D19)/AL44,(S137+AP31*D19)/AM44,(S138+AP31*D19)/AN44,(S139+AP31*D19)/AO44)*AP44","v":{"$error":"#VALUE!"}},{"$f":"MIN((T135+AP31*D19)/AK44,(T136+AP31*D19)/AL44,(T137+AP31*D19)/AM44,(T138+AP31*D19)/AN44,(T139+AP31*D19)/AO44)*AP44","v":{"$error":"#VALUE!"}},{"$f":"MIN((U135+AP31*D19)/AK44,(U136+AP31*D19)/AL44,(U137+AP31*D19)/AM44,(U138+AP31*D19)/AN44,(U139+AP31*D19)/AO44)*AP44","v":{"$error":"#VALUE!"}},{"$f":"MIN((V135+AP31*D19)/AK44,(V136+AP31*D19)/AL44,(V137+AP31*D19)/AM44,(V138+AP31*D19)/AN44,(V139+AP31*D19)/AO44)*AP44","v":{"$error":"#VALUE!"}},{"$f":"MIN((W135+AP31*D19)/AK44,(W136+AP31*D19)/AL44,(W137+AP31*D19)/AM44,(W138+AP31*D19)/AN44,(W139+AP31*D19)/AO44)*AP44","v":{"$error":"#VALUE!"}},{"$f":"MIN((X135+AP31*D19)/AK44,(X136+AP31*D19)/AL44,(X137+AP31*D19)/AM44,(X138+AP31*D19)/AN44,(X139+AP31*D19)/AO44)*AP44","v":{"$error":"#VALUE!"}},{"$f":"MIN((Y135+AP31*D19)/AK44,(Y136+AP31*D19)/AL44,(Y137+AP31*D19)/AM44,(Y138+AP31*D19)/AN44,(Y139+AP31*D19)/AO44)*AP44","v":{"$error":"#VALUE!"}},{"$f":"MIN((Z135+AP31*D19)/AK44,(Z136+AP31*D19)/AL44,(Z137+AP31*D19)/AM44,(Z138+AP31*D19)/AN44,(Z139+AP31*D19)/AO44)*AP44","v":{"$error":"#VALUE!"}},{"$f":"MIN((AA135+AP31*D19)/AK44,(AA136+AP31*D19)/AL44,(AA137+AP31*D19)/AM44,(AA138+AP31*D19)/AN44,(AA139+AP31*D19)/AO44)*AP44","v":{"$error":"#VALUE!"}},{"$f":"MIN((AB135+AP31*D19)/AK44,(AB136+AP31*D19)/AL44,(AB137+AP31*D19)/AM44,(AB138+AP31*D19)/AN44,(AB139+AP31*D19)/AO44)*AP44","v":{"$error":"#VALUE!"}},{"$f":"MIN((AC135+AP31*D19)/AK44,(AC136+AP31*D19)/AL44,(AC137+AP31*D19)/AM44,(AC138+AP31*D19)/AN44,(AC139+AP31*D19)/AO44)*AP44","v":{"$error":"#VALUE!"}},{"$f":"MIN((AD135+AP31*D19)/AK44,(AD136+AP31*D19)/AL44,(AD137+AP31*D19)/AM44,(AD138+AP31*D19)/AN44,(AD139+AP31*D19)/AO44)*AP44","v":{"$error":"#VALUE!"}},{"$f":"MIN((AE135+AP31*D19)/AK44,(AE136+AP31*D19)/AL44,(AE137+AP31*D19)/AM44,(AE138+AP31*D19)/AN44,(AE139+AP31*D19)/AO44)*AP44","v":{"$error":"#VALUE!"}},{"$f":"MIN((AF135+AP31*D19)/AK44,(AF136+AP31*D19)/AL44,(AF137+AP31*D19)/AM44,(AF138+AP31*D19)/AN44,(AF139+AP31*D19)/AO44)*AP44","v":{"$error":"#VALUE!"}},{"$error":"#VALUE!"},null,"",{"$f":"MIN((S135+AQ31*D19)/AK45,(S136+AQ31*D19)/AL45,(S137+AQ31*D19)/AM45,(S138+AQ31*D19)/AN45,(S139+AQ31*D19)/AO45)*AP45","v":{"$error":"#VALUE!"}},{"$f":"MIN((T135+AQ31*D19)/AK45,(T136+AQ31*D19)/AL45,(T137+AQ31*D19)/AM45,(T138+AQ31*D19)/AN45,(T139+AQ31*D19)/AO45)*AP45","v":{"$error":"#VALUE!"}},{"$f":"MIN((U135+AQ31*D19)/AK45,(U136+AQ31*D19)/AL45,(U137+AQ31*D19)/AM45,(U138+AQ31*D19)/AN45,(U139+AQ31*D19)/AO45)*AP45","v":{"$error":"#VALUE!"}},{"$f":"MIN((V135+AQ31*D19)/AK45,(V136+AQ31*D19)/AL45,(V137+AQ31*D19)/AM45,(V138+AQ31*D19)/AN45,(V139+AQ31*D19)/AO45)*AP45","v":{"$error":"#VALUE!"}},{"$f":"MIN((W135+AQ31*D19)/AK45,(W136+AQ31*D19)/AL45,(W137+AQ31*D19)/AM45,(W138+AQ31*D19)/AN45,(W139+AQ31*D19)/AO45)*AP45","v":{"$error":"#VALUE!"}},{"$f":"MIN((X135+AQ31*D19)/AK45,(X136+AQ31*D19)/AL45,(X137+AQ31*D19)/AM45,(X138+AQ31*D19)/AN45,(X139+AQ31*D19)/AO45)*AP45","v":{"$error":"#VALUE!"}},{"$f":"MIN((Y135+AQ31*D19)/AK45,(Y136+AQ31*D19)/AL45,(Y137+AQ31*D19)/AM45,(Y138+AQ31*D19)/AN45,(Y139+AQ31*D19)/AO45)*AP45","v":{"$error":"#VALUE!"}},{"$f":"MIN((Z135+AQ31*D19)/AK45,(Z136+AQ31*D19)/AL45,(Z137+AQ31*D19)/AM45,(Z138+AQ31*D19)/AN45,(Z139+AQ31*D19)/AO45)*AP45","v":{"$error":"#VALUE!"}},{"$f":"MIN((AA135+AQ31*D19)/AK45,(AA136+AQ31*D19)/AL45,(AA137+AQ31*D19)/AM45,(AA138+AQ31*D19)/AN45,(AA139+AQ31*D19)/AO45)*AP45","v":{"$error":"#VALUE!"}},{"$f":"MIN((AB135+AQ31*D19)/AK45,(AB136+AQ31*D19)/AL45,(AB137+AQ31*D19)/AM45,(AB138+AQ31*D19)/AN45,(AB139+AQ31*D19)/AO45)*AP45","v":{"$error":"#VALUE!"}},{"$f":"MIN((AC135+AQ31*D19)/AK45,(AC136+AQ31*D19)/AL45,(AC137+AQ31*D19)/AM45,(AC138+AQ31*D19)/AN45,(AC139+AQ31*D19)/AO45)*AP45","v":{"$error":"#VALUE!"}},{"$f":"MIN((AD135+AQ31*D19)/AK45,(AD136+AQ31*D19)/AL45,(AD137+AQ31*D19)/AM45,(AD138+AQ31*D19)/AN45,(AD139+AQ31*D19)/AO45)*AP45","v":{"$error":"#VALUE!"}},{"$f":"MIN((AE135+AQ31*D19)/AK45,(AE136+AQ31*D19)/AL45,(AE137+AQ31*D19)/AM45,(AE138+AQ31*D19)/AN45,(AE139+AQ31*D19)/AO45)*AP45","v":{"$error":"#VALUE!"}},{"$f":"MIN((AF135+AQ31*D19)/AK45,(AF136+AQ31*D19)/AL45,(AF137+AQ31*D19)/AM45,(AF138+AQ31*D19)/AN45,(AF139+AQ31*D19)/AO45)*AP45","v":{"$error":"#VALUE!"}},{"$error":"#VALUE!"},null,null,{"$f":"IF(AV24=9,CI119,IF(AV25=9,CI120,BS80))","v":"attente"},{"$f":"IF(AV16=9,CI111,IF(AV17=9,CI112,IF(AV18=9,CI113,IF(AV19=9,CI114,IF(AV20=9,CI115,IF(AV21=9,CI116,IF(AV22=9,CI117,IF(AV23=9,CI118,BS132))))))))","v":{"$error":"#VALUE!"}}]
[null,null,null,null,null,null,null,null,null,null,null,null,null,null,null,null,null,null,null,null,null,null,null,null,null,null,null,null,null,null,null,null,null,null,null,"",{"$f":"MIN((S142+AP31*D19)/AK44,(S143+AP31*D19)/AL44,(S144+AP31*D19)/AM44,(S145+AP31*D19)/AN44,(S146+AP31*D19)/AO44)*AP44","v":{"$error":"#VALUE!"}},{"$f":"MIN((T142+AP31*D19)/AK44,(T143+AP31*D19)/AL44,(T144+AP31*D19)/AM44,(T145+AP31*D19)/AN44,(T146+AP31*D19)/AO44)*AP44","v":{"$error":"#VALUE!"}},{"$f":"MIN((U142+AP31*D19)/AK44,(U143+AP31*D19)/AL44,(U144+AP31*D19)/AM44,(U145+AP31*D19)/AN44,(U146+AP31*D19)/AO44)*AP44","v":{"$error":"#VALUE!"}},{"$f":"MIN((V142+AP31*D19)/AK44,(V143+AP31*D19)/AL44,(V144+AP31*D19)/AM44,(V145+AP31*D19)/AN44,(V146+AP31*D19)/AO44)*AP44","v":{"$error":"#VALUE!"}},{"$f":"MIN((W142+AP31*D19)/AK44,(W143+AP31*D19)/AL44,(W144+AP31*D19)/AM44,(W145+AP31*D19)/AN44,(W146+AP31*D19)/AO44)*AP44","v":{"$error":"#VALUE!"}},{"$f":"MIN((X142+AP31*D19)/AK44,(X143+AP31*D19)/AL44,(X144+AP31*D19)/AM44,(X145+AP31*D19)/AN44,(X146+AP31*D19)/AO44)*AP44","v":{"$error":"#VALUE!"}},{"$f":"MIN((Y142+AP31*D19)/AK44,(Y143+AP31*D19)/AL44,(Y144+AP31*D19)/AM44,(Y145+AP31*D19)/AN44,(Y146+AP31*D19)/AO44)*AP44","v":{"$error":"#VALUE!"}},{"$f":"MIN((Z142+AP31*D19)/AK44,(Z143+AP31*D19)/AL44,(Z144+AP31*D19)/AM44,(Z145+AP31*D19)/AN44,(Z146+AP31*D19)/AO44)*AP44","v":{"$error":"#VALUE!"}},{"$f":"MIN((AA142+AP31*D19)/AK44,(AA143+AP31*D19)/AL44,(AA144+AP31*D19)/AM44,(AA145+AP31*D19)/AN44,(AA146+AP31*D19)/AO44)*AP44","v":{"$error":"#VALUE!"}},{"$f":"MIN((AB142+AP31*D19)/AK44,(AB143+AP31*D19)/AL44,(AB144+AP31*D19)/AM44,(AB145+AP31*D19)/AN44,(AB146+AP31*D19)/AO44)*AP44","v":{"$error":"#VALUE!"}},{"$f":"MIN((AC142+AP31*D19)/AK44,(AC143+AP31*D19)/AL44,(AC144+AP31*D19)/AM44,(AC145+AP31*D19)/AN44,(AC146+AP31*D19)/AO44)*AP44","v":{"$error":"#VALUE!"}},{"$f":"MIN((AD142+AP31*D19)/AK44,(AD143+AP31*D19)/AL44,(AD144+AP31*D19)/AM44,(AD145+AP31*D19)/AN44,(AD146+AP31*D19)/AO44)*AP44","v":{"$error":"#VALUE!"}},{"$f":"MIN((AE142+AP31*D19)/AK44,(AE143+AP31*D19)/AL44,(AE144+AP31*D19)/AM44,(AE145+AP31*D19)/AN44,(AE146+AP31*D19)/AO44)*AP44","v":{"$error":"#VALUE!"}},{"$f":"MIN((AF142+AP31*D19)/AK44,(AF143+AP31*D19)/AL44,(AF144+AP31*D19)/AM44,(AF145+AP31*D19)/AN44,(AF146+AP31*D19)/AO44)*AP44","v":{"$error":"#VALUE!"}},{"$error":"#VALUE!"},null,"",{"$f":"MIN((S142+AQ31*D19)/AK45,(S143+AQ31*D19)/AL45,(S144+AQ31*D19)/AM45,(S145+AQ31*D19)/AN45,(S146+AQ31*D19)/AO45)*AP45","v":{"$error":"#VALUE!"}},{"$f":"MIN((T142+AQ31*D19)/AK45,(T143+AQ31*D19)/AL45,(T144+AQ31*D19)/AM45,(T145+AQ31*D19)/AN45,(T146+AQ31*D19)/AO45)*AP45","v":{"$error":"#VALUE!"}},{"$f":"MIN((U142+AQ31*D19)/AK45,(U143+AQ31*D19)/AL45,(U144+AQ31*D19)/AM45,(U145+AQ31*D19)/AN45,(U146+AQ31*D19)/AO45)*AP45","v":{"$error":"#VALUE!"}},{"$f":"MIN((V142+AQ31*D19)/AK45,(V143+AQ31*D19)/AL45,(V144+AQ31*D19)/AM45,(V145+AQ31*D19)/AN45,(V146+AQ31*D19)/AO45)*AP45","v":{"$error":"#VALUE!"}},{"$f":"MIN((W142+AQ31*D19)/AK45,(W143+AQ31*D19)/AL45,(W144+AQ31*D19)/AM45,(W145+AQ31*D19)/AN45,(W146+AQ31*D19)/AO45)*AP45","v":{"$error":"#VALUE!"}},{"$f":"MIN((X142+AQ31*D19)/AK45,(X143+AQ31*D19)/AL45,(X144+AQ31*D19)/AM45,(X145+AQ31*D19)/AN45,(X146+AQ31*D19)/AO45)*AP45","v":{"$error":"#VALUE!"}},{"$f":"MIN((Y142+AQ31*D19)/AK45,(Y143+AQ31*D19)/AL45,(Y144+AQ31*D19)/AM45,(Y145+AQ31*D19)/AN45,(Y146+AQ31*D19)/AO45)*AP45","v":{"$error":"#VALUE!"}},{"$f":"MIN((Z142+AQ31*D19)/AK45,(Z143+AQ31*D19)/AL45,(Z144+AQ31*D19)/AM45,(Z145+AQ31*D19)/AN45,(Z146+AQ31*D19)/AO45)*AP45","v":{"$error":"#VALUE!"}},{"$f":"MIN((AA142+AQ31*D19)/AK45,(AA143+AQ31*D19)/AL45,(AA144+AQ31*D19)/AM45,(AA145+AQ31*D19)/AN45,(AA146+AQ31*D19)/AO45)*AP45","v":{"$error":"#VALUE!"}},{"$f":"MIN((AB142+AQ31*D19)/AK45,(AB143+AQ31*D19)/AL45,(AB144+AQ31*D19)/AM45,(AB145+AQ31*D19)/AN45,(AB146+AQ31*D19)/AO45)*AP45","v":{"$error":"#VALUE!"}},{"$f":"MIN((AC142+AQ31*D19)/AK45,(AC143+AQ31*D19)/AL45,(AC144+AQ31*D19)/AM45,(AC145+AQ31*D19)/AN45,(AC146+AQ31*D19)/AO45)*AP45","v":{"$error":"#VALUE!"}},{"$f":"MIN((AD142+AQ31*D19)/AK45,(AD143+AQ31*D19)/AL45,(AD144+AQ31*D19)/AM45,(AD145+AQ31*D19)/AN45,(AD146+AQ31*D19)/AO45)*AP45","v":{"$error":"#VALUE!"}},{"$f":"MIN((AE142+AQ31*D19)/AK45,(AE143+AQ31*D19)/AL45,(AE144+AQ31*D19)/AM45,(AE145+AQ31*D19)/AN45,(AE146+AQ31*D19)/AO45)*AP45","v":{"$error":"#VALUE!"}},{"$f":"MIN((AF142+AQ31*D19)/AK45,(AF143+AQ31*D19)/AL45,(AF144+AQ31*D19)/AM45,(AF145+AQ31*D19)/AN45,(AF146+AQ31*D19)/AO45)*AP45","v":{"$error":"#VALUE!"}},{"$error":"#VALUE!"},null,null,{"$f":"IF(AV24=10,CK119,IF(AV25=10,CK120,BS80))","v":"attente"},{"$f":"IF(AV16=10,CK111,IF(AV17=10,CK112,IF(AV18=10,CK113,IF(AV19=10,CK114,IF(AV20=10,CK115,IF(AV21=10,CK116,IF(AV22=10,CK117,IF(AV23=10,CK118,BS133))))))))","v":{"$error":"#VALUE!"}}]
[null,null,null,null,null,null,null,null,null,null,null,null,null,null,null,null,null,{"$f":"G22","v":""},{"$f":"S127","v":"kit 1"},{"$f":"T127","v":"kit 2A"},"kit 2B","kit 4A","kit 4B","kit 5","kit 6A","kit 6B","kit 7","kit 8","kit 9A","kit 9B",{"$f":"AE127","v":"kit 10"},{"$f":"AF127","v":"kit 11"},null,null,null,"",{"$f":"MIN((S149+AP31*D19)/AK44,(S150+AP31*D19)/AL44,(S151+AP31*D19)/AM44,(S152+AP31*D19)/AN44,(S153+AP31*D19)/AO44)*AP44","v":{"$error":"#VALUE!"}},{"$f":"MIN((T149+AP31*D19)/AK44,(T150+AP31*D19)/AL44,(T151+AP31*D19)/AM44,(T152+AP31*D19)/AN44,(T153+AP31*D19)/AO44)*AP44","v":{"$error":"#VALUE!"}},{"$f":"MIN((U149+AP31*D19)/AK44,(U150+AP31*D19)/AL44,(U151+AP31*D19)/AM44,(U152+AP31*D19)/AN44,(U153+AP31*D19)/AO44)*AP44","v":{"$error":"#VALUE!"}},{"$f":"MIN((V149+AP31*D19)/AK44,(V150+AP31*D19)/AL44,(V151+AP31*D19)/AM44,(V152+AP31*D19)/AN44,(V153+AP31*D19)/AO44)*AP44","v":{"$error":"#VALUE!"}},{"$f":"MIN((W149+AP31*D19)/AK44,(W150+AP31*D19)/AL44,(W151+AP31*D19)/AM44,(W152+AP31*D19)/AN44,(W153+AP31*D19)/AO44)*AP44","v":{"$error":"#VALUE!"}},{"$f":"MIN((X149+AP31*D19)/AK44,(X150+AP31*D19)/AL44,(X151+AP31*D19)/AM44,(X152+AP31*D19)/AN44,(X153+AP31*D19)/AO44)*AP44","v":{"$error":"#VALUE!"}},{"$f":"MIN((Y149+AP31*D19)/AK44,(Y150+AP31*D19)/AL44,(Y151+AP31*D19)/AM44,(Y152+AP31*D19)/AN44,(Y153+AP31*D19)/AO44)*AP44","v":{"$error":"#VALUE!"}},{"$f":"MIN((Z149+AP31*D19)/AK44,(Z150+AP31*D19)/AL44,(Z151+AP31*D19)/AM44,(Z152+AP31*D19)/AN44,(Z153+AP31*D19)/AO44)*AP44","v":{"$error":"#VALUE!"}},{"$f":"MIN((AA149+AP31*D19)/AK44,(AA150+AP31*D19)/AL44,(AA151+AP31*D19)/AM44,(AA152+AP31*D19)/AN44,(AA153+AP31*D19)/AO44)*AP44","v":{"$error":"#VALUE!"}},{"$f":"MIN((AB149+AP31*D19)/AK44,(AB150+AP31*D19)/AL44,(AB151+AP31*D19)/AM44,(AB152+AP31*D19)/AN44,(AB153+AP31*D19)/AO44)*AP44","v":{"$error":"#VALUE!"}},{"$f":"MIN((AC149+AP31*D19)/AK44,(AC150+AP31*D19)/AL44,(AC151+AP31*D19)/AM44,(AC152+AP31*D19)/AN44,(AC153+AP31*D19)/AO44)*AP44","v":{"$error":"#VALUE!"}},{"$f":"MIN((AD149+AP31*D19)/AK44,(AD150+AP31*D19)/AL44,(AD151+AP31*D19)/AM44,(AD152+AP31*D19)/AN44,(AD153+AP31*D19)/AO44)*AP44","v":{"$error":"#VALUE!"}},{"$f":"MIN((AE149+AP31*D19)/AK44,(AE150+AP31*D19)/AL44,(AE151+AP31*D19)/AM44,(AE152+AP31*D19)/AN44,(AE153+AP31*D19)/AO44)*AP44","v":{"$error":"#VALUE!"}},{"$f":"MIN((AF149+AP31*D19)/AK44,(AF150+AP31*D19)/AL44,(AF151+AP31*D19)/AM44,(AF152+AP31*D19)/AN44,(AF153+AP31*D19)/AO44)*AP44","v":{"$error":"#VALUE!"}},{"$error":"#VALUE!"},null,"",{"$f":"MIN((S149+AQ31*D19)/AK45,(S150+AQ31*D19)/AL45,(S151+AQ31*D19)/AM45,(S152+AQ31*D19)/AN45,(S153+AQ31*D19)/AO45)*AP45","v":{"$error":"#VALUE!"}},{"$f":"MIN((T149+AQ31*D19)/AK45,(T150+AQ31*D19)/AL45,(T151+AQ31*D19)/AM45,(T152+AQ31*D19)/AN45,(T153+AQ31*D19)/AO45)*AP45","v":{"$error":"#VALUE!"}},{"$f":"MIN((U149+AQ31*D19)/AK45,(U150+AQ31*D19)/AL45,(U151+AQ31*D19)/AM45,(U152+AQ31*D19)/AN45,(U153+AQ31*D19)/AO45)*AP45","v":{"$error":"#VALUE!"}},{"$f":"MIN((V149+AQ31*D19)/AK45,(V150+AQ31*D19)/AL45,(V151+AQ31*D19)/AM45,(V152+AQ31*D19)/AN45,(V153+AQ31*D19)/AO45)*AP45","v":{"$error":"#VALUE!"}},{"$f":"MIN((W149+AQ31*D19)/AK45,(W150+AQ31*D19)/AL45,(W151+AQ31*D19)/AM45,(W152+AQ31*D19)/AN45,(W153+AQ31*D19)/AO45)*AP45","v":{"$error":"#VALUE!"}},{"$f":"MIN((X149+AQ31*D19)/AK45,(X150+AQ31*D19)/AL45,(X151+AQ31*D19)/AM45,(X152+AQ31*D19)/AN45,(X153+AQ31*D19)/AO45)*AP45","v":{"$error":"#VALUE!"}},{"$f":"MIN((Y149+AQ31*D19)/AK45,(Y150+AQ31*D19)/AL45,(Y151+AQ31*D19)/AM45,(Y152+AQ31*D19)/AN45,(Y153+AQ31*D19)/AO45)*AP45","v":{"$error":"#VALUE!"}},{"$f":"MIN((Z149+AQ31*D19)/AK45,(Z150+AQ31*D19)/AL45,(Z151+AQ31*D19)/AM45,(Z152+AQ31*D19)/AN45,(Z153+AQ31*D19)/AO45)*AP45","v":{"$error":"#VALUE!"}},{"$f":"MIN((AA149+AQ31*D19)/AK45,(AA150+AQ31*D19)/AL45,(AA151+AQ31*D19)/AM45,(AA152+AQ31*D19)/AN45,(AA153+AQ31*D19)/AO45)*AP45","v":{"$error":"#VALUE!"}},{"$f":"MIN((AB149+AQ31*D19)/AK45,(AB150+AQ31*D19)/AL45,(AB151+AQ31*D19)/AM45,(AB152+AQ31*D19)/AN45,(AB153+AQ31*D19)/AO45)*AP45","v":{"$error":"#VALUE!"}},{"$f":"MIN((AC149+AQ31*D19)/AK45,(AC150+AQ31*D19)/AL45,(AC151+AQ31*D19)/AM45,(AC152+AQ31*D19)/AN45,(AC153+AQ31*D19)/AO45)*AP45","v":{"$error":"#VALUE!"}},{"$f":"MIN((AD149+AQ31*D19)/AK45,(AD150+AQ31*D19)/AL45,(AD151+AQ31*D19)/AM45,(AD152+AQ31*D19)/AN45,(AD153+AQ31*D19)/AO45)*AP45","v":{"$error":"#VALUE!"}},{"$f":"MIN((AE149+AQ31*D19)/AK45,(AE150+AQ31*D19)/AL45,(AE151+AQ31*D19)/AM45,(AE152+AQ31*D19)/AN45,(AE153+AQ31*D19)/AO45)*AP45","v":{"$error":"#VALUE!"}},{"$f":"MIN((AF149+AQ31*D19)/AK45,(AF150+AQ31*D19)/AL45,(AF151+AQ31*D19)/AM45,(AF152+AQ31*D19)/AN45,(AF153+AQ31*D19)/AO45)*AP45","v":{"$error":"#VALUE!"}},{"$error":"#VALUE!"},null,null,{"$f":"IF(AV24=11,CM119,IF(AV25=10,CM120,BS80))","v":"attente"},{"$f":"IF(AV16=11,CM111,IF(AV17=11,CM112,IF(AV18=11,CM113,IF(AV19=11,CM114,IF(AV20=11,CM115,IF(AV21=11,CM116,IF(AV22=11,CM117,IF(AV23=11,CM118,BS134))))))))","v":{"$error":"#VALUE!"}}]
[null,null,null,null,null,null,null,null,null,null,null,null,null,null,null,null,null,{"$f":"H22+AH39+D16+D17+D21+D19*AG19","v":{"$error":"#VALUE!"}},{"$f":"R135+Q10","v":{"$error":"#VALUE!"}},{"$f":"R135+R10","v":{"$error":"#VALUE!"}},{"$f":"R135+S10","v":{"$error":"#VALUE!"}},{"$f":"R135+T10","v":{"$error":"#VALUE!"}},{"$f":"R135+U10","v":{"$error":"#VALUE!"}},{"$f":"R135+V10","v":{"$error":"#VALUE!"}},{"$f":"R135+W10","v":{"$error":"#VALUE!"}},{"$f":"R135+X10","v":{"$error":"#VALUE!"}},{"$f":"R135+Y10","v":{"$error":"#VALUE!"}},{"$f":"R135+Z10","v":{"$error":"#VALUE!"}},{"$f":"R135+AA10","v":{"$error":"#VALUE!"}},{"$f":"R135+AB10","v":{"$error":"#VALUE!"}},{"$f":"R135+AC10","v":{"$error":"#VALUE!"}},{"$f":"R135+AD10","v":{"$error":"#VALUE!"}},null,null,null,"",{"$f":"MIN((S156+AP31*D19)/AK44,(S157+AP31*D19)/AL44,(S158+AP31*D19)/AM44,(S159+AP31*D19)/AN44,(S160+AP31*D19)/AO44)*AP44","v":{"$error":"#VALUE!"}},{"$f":"MIN((T156+AP31*D19)/AK44,(T157+AP31*D19)/AL44,(T158+AP31*D19)/AM44,(T159+AP31*D19)/AN44,(T160+AP31*D19)/AO44)*AP44","v":{"$error":"#VALUE!"}},{"$f":"MIN((U156+AP31*D19)/AK44,(U157+AP31*D19)/AL44,(U158+AP31*D19)/AM44,(U159+AP31*D19)/AN44,(U160+AP31*D19)/AO44)*AP44","v":{"$error":"#VALUE!"}},{"$f":"MIN((V156+AP31*D19)/AK44,(V157+AP31*D19)/AL44,(V158+AP31*D19)/AM44,(V159+AP31*D19)/AN44,(V160+AP31*D19)/AO44)*AP44","v":{"$error":"#VALUE!"}},{"$f":"MIN((W156+AP31*D19)/AK44,(W157+AP31*D19)/AL44,(W158+AP31*D19)/AM44,(W159+AP31*D19)/AN44,(W160+AP31*D19)/AO44)*AP44","v":{"$error":"#VALUE!"}},{"$f":"MIN((X156+AP31*D19)/AK44,(X157+AP31*D19)/AL44,(X158+AP31*D19)/AM44,(X159+AP31*D19)/AN44,(X160+AP31*D19)/AO44)*AP44","v":{"$error":"#VALUE!"}},{"$f":"MIN((Y156+AP31*D19)/AK44,(Y157+AP31*D19)/AL44,(Y158+AP31*D19)/AM44,(Y159+AP31*D19)/AN44,(Y160+AP31*D19)/AO44)*AP44","v":{"$error":"#VALUE!"}},{"$f":"MIN((Z156+AP31*D19)/AK44,(Z157+AP31*D19)/AL44,(Z158+AP31*D19)/AM44,(Z159+AP31*D19)/AN44,(Z160+AP31*D19)/AO44)*AP44","v":{"$error":"#VALUE!"}},{"$f":"MIN((AA156+AP31*D19)/AK44,(AA157+AP31*D19)/AL44,(AA158+AP31*D19)/AM44,(AA159+AP31*D19)/AN44,(AA160+AP31*D19)/AO44)*AP44","v":{"$error":"#VALUE!"}},{"$f":"MIN((AB156+AP31*D19)/AK44,(AB157+AP31*D19)/AL44,(AB158+AP31*D19)/AM44,(AB159+AP31*D19)/AN44,(AB160+AP31*D19)/AO44)*AP44","v":{"$error":"#VALUE!"}},{"$f":"MIN((AC156+AP31*D19)/AK44,(AC157+AP31*D19)/AL44,(AC158+AP31*D19)/AM44,(AC159+AP31*D19)/AN44,(AC160+AP31*D19)/AO44)*AP44","v":{"$error":"#VALUE!"}},{"$f":"MIN((AD156+AP31*D19)/AK44,(AD157+AP31*D19)/AL44,(AD158+AP31*D19)/AM44,(AD159+AP31*D19)/AN44,(AD160+AP31*D19)/AO44)*AP44","v":{"$error":"#VALUE!"}},{"$f":"MIN((AE156+AP31*D19)/AK44,(AE157+AP31*D19)/AL44,(AE158+AP31*D19)/AM44,(AE159+AP31*D19)/AN44,(AE160+AP31*D19)/AO44)*AP44","v":{"$error":"#VALUE!"}},{"$f":"MIN((AF156+AP31*D19)/AK44,(AF157+AP31*D19)/AL44,(AF158+AP31*D19)/AM44,(AF159+AP31*D19)/AN44,(AF160+AP31*D19)/AO44)*AP44","v":{"$error":"#VALUE!"}},{"$error":"#VALUE!"},null,"",{"$f":"MIN((S156+AQ31*D19)/AK45,(S157+AQ31*D19)/AL45,(S158+AQ31*D19)/AM45,(S159+AQ31*D19)/AN45,(S160+AQ31*D19)/AO45)*AP45","v":{"$error":"#VALUE!"}},{"$f":"MIN((T156+AQ31*D19)/AK45,(T157+AQ31*D19)/AL45,(T158+AQ31*D19)/AM45,(T159+AQ31*D19)/AN45,(T160+AQ31*D19)/AO45)*AP45","v":{"$error":"#VALUE!"}},{"$f":"MIN((U156+AQ31*D19)/AK45,(U157+AQ31*D19)/AL45,(U158+AQ31*D19)/AM45,(U159+AQ31*D19)/AN45,(U160+AQ31*D19)/AO45)*AP45","v":{"$error":"#VALUE!"}},{"$f":"MIN((V156+AQ31*D19)/AK45,(V157+AQ31*D19)/AL45,(V158+AQ31*D19)/AM45,(V159+AQ31*D19)/AN45,(V160+AQ31*D19)/AO45)*AP45","v":{"$error":"#VALUE!"}},{"$f":"MIN((W156+AQ31*D19)/AK45,(W157+AQ31*D19)/AL45,(W158+AQ31*D19)/AM45,(W159+AQ31*D19)/AN45,(W160+AQ31*D19)/AO45)*AP45","v":{"$error":"#VALUE!"}},{"$f":"MIN((X156+AQ31*D19)/AK45,(X157+AQ31*D19)/AL45,(X158+AQ31*D19)/AM45,(X159+AQ31*D19)/AN45,(X160+AQ31*D19)/AO45)*AP45","v":{"$error":"#VALUE!"}},{"$f":"MIN((Y156+AQ31*D19)/AK45,(Y157+AQ31*D19)/AL45,(Y158+AQ31*D19)/AM45,(Y159+AQ31*D19)/AN45,(Y160+AQ31*D19)/AO45)*AP45","v":{"$error":"#VALUE!"}},{"$f":"MIN((Z156+AQ31*D19)/AK45,(Z157+AQ31*D19)/AL45,(Z158+AQ31*D19)/AM45,(Z159+AQ31*D19)/AN45,(Z160+AQ31*D19)/AO45)*AP45","v":{"$error":"#VALUE!"}},{"$f":"MIN((AA156+AQ31*D19)/AK45,(AA157+AQ31*D19)/AL45,(AA158+AQ31*D19)/AM45,(AA159+AQ31*D19)/AN45,(AA160+AQ31*D19)/AO45)*AP45","v":{"$error":"#VALUE!"}},{"$f":"MIN((AB156+AQ31*D19)/AK45,(AB157+AQ31*D19)/AL45,(AB158+AQ31*D19)/AM45,(AB159+AQ31*D19)/AN45,(AB160+AQ31*D19)/AO45)*AP45","v":{"$error":"#VALUE!"}},{"$f":"MIN((AC156+AQ31*D19)/AK45,(AC157+AQ31*D19)/AL45,(AC158+AQ31*D19)/AM45,(AC159+AQ31*D19)/AN45,(AC160+AQ31*D19)/AO45)*AP45","v":{"$error":"#VALUE!"}},{"$f":"MIN((AD156+AQ31*D19)/AK45,(AD157+AQ31*D19)/AL45,(AD158+AQ31*D19)/AM45,(AD159+AQ31*D19)/AN45,(AD160+AQ31*D19)/AO45)*AP45","v":{"$error":"#VALUE!"}},{"$f":"MIN((AE156+AQ31*D19)/AK45,(AE157+AQ31*D19)/AL45,(AE158+AQ31*D19)/AM45,(AE159+AQ31*D19)/AN45,(AE160+AQ31*D19)/AO45)*AP45","v":{"$error":"#VALUE!"}},{"$f":"MIN((AF156+AQ31*D19)/AK45,(AF157+AQ31*D19)/AL45,(AF158+AQ31*D19)/AM45,(AF159+AQ31*D19)/AN45,(AF160+AQ31*D19)/AO45)*AP45","v":{"$error":"#VALUE!"}},{"$error":"#VALUE!"}]
[null,null,null,null,null,null,null,null,null,null,null,null,null,null,null,null,null,{"$f":"I22+AH40+D15+D17+D21+D19*AG19","v":{"$error":"#VALUE!"}},{"$f":"R136+Q11","v":{"$error":"#VALUE!"}},{"$f":"R136+R11","v":{"$error":"#VALUE!"}},{"$f":"R136+S11","v":{"$error":"#VALUE!"}},{"$f":"R136+T11","v":{"$error":"#VALUE!"}},{"$f":"R136+U11","v":{"$error":"#VALUE!"}},{"$f":"R136+V11","v":{"$error":"#VALUE!"}},{"$f":"R136+W11","v":{"$error":"#VALUE!"}},{"$f":"R136+X11","v":{"$error":"#VALUE!"}},{"$f":"R136+Y11","v":{"$error":"#VALUE!"}},{"$f":"R136+Z11","v":{"$error":"#VALUE!"}},{"$f":"R136+AA11","v":{"$error":"#VALUE!"}},{"$f":"R136+AB11","v":{"$error":"#VALUE!"}},{"$f":"R136+AC11","v":{"$error":"#VALUE!"}},{"$f":"R136+AD11","v":{"$error":"#VALUE!"}},null,null,null,"",{"$f":"MIN((S163+AP31*D19)/AK44,(S164+AP31*D19)/AL44,(S165+AP31*D19)/AM44,(S166+AP31*D19)/AN44,(S167+AP31*D19)/AO44)*AP44","v":{"$error":"#VALUE!"}},{"$f":"MIN((T163+AP31*D19)/AK44,(T164+AP31*D19)/AL44,(T165+AP31*D19)/AM44,(T166+AP31*D19)/AN44,(T167+AP31*D19)/AO44)*AP44","v":{"$error":"#VALUE!"}},{"$f":"MIN((U163+AP31*D19)/AK44,(U164+AP31*D19)/AL44,(U165+AP31*D19)/AM44,(U166+AP31*D19)/AN44,(U167+AP31*D19)/AO44)*AP44","v":{"$error":"#VALUE!"}},{"$f":"MIN((V163+AP31*D19)/AK44,(V164+AP31*D19)/AL44,(V165+AP31*D19)/AM44,(V166+AP31*D19)/AN44,(V167+AP31*D19)/AO44)*AP44","v":{"$error":"#VALUE!"}},{"$f":"MIN((W163+AP31*D19)/AK44,(W164+AP31*D19)/AL44,(W165+AP31*D19)/AM44,(W166+AP31*D19)/AN44,(W167+AP31*D19)/AO44)*AP44","v":{"$error":"#VALUE!"}},{"$f":"MIN((X163+AP31*D19)/AK44,(X164+AP31*D19)/AL44,(X165+AP31*D19)/AM44,(X166+AP31*D19)/AN44,(X167+AP31*D19)/AO44)*AP44","v":{"$error":"#VALUE!"}},{"$f":"MIN((Y163+AP31*D19)/AK44,(Y164+AP31*D19)/AL44,(Y165+AP31*D19)/AM44,(Y166+AP31*D19)/AN44,(Y167+AP31*D19)/AO44)*AP44","v":{"$error":"#VALUE!"}},{"$f":"MIN((Z163+AP31*D19)/AK44,(Z164+AP31*D19)/AL44,(Z165+AP31*D19)/AM44,(Z166+AP31*D19)/AN44,(Z167+AP31*D19)/AO44)*AP44","v":{"$error":"#VALUE!"}},{"$f":"MIN((AA163+AP31*D19)/AK44,(AA164+AP31*D19)/AL44,(AA165+AP31*D19)/AM44,(AA166+AP31*D19)/AN44,(AA167+AP31*D19)/AO44)*AP44","v":{"$error":"#VALUE!"}},{"$f":"MIN((AB163+AP31*D19)/AK44,(AB164+AP31*D19)/AL44,(AB165+AP31*D19)/AM44,(AB166+AP31*D19)/AN44,(AB167+AP31*D19)/AO44)*AP44","v":{"$error":"#VALUE!"}},{"$f":"MIN((AC163+AP31*D19)/AK44,(AC164+AP31*D19)/AL44,(AC165+AP31*D19)/AM44,(AC166+AP31*D19)/AN44,(AC167+AP31*D19)/AO44)*AP44","v":{"$error":"#VALUE!"}},{"$f":"MIN((AD163+AP31*D19)/AK44,(AD164+AP31*D19)/AL44,(AD165+AP31*D19)/AM44,(AD166+AP31*D19)/AN44,(AD167+AP31*D19)/AO44)*AP44","v":{"$error":"#VALUE!"}},{"$f":"MIN((AE163+AP31*D19)/AK44,(AE164+AP31*D19)/AL44,(AE165+AP31*D19)/AM44,(AE166+AP31*D19)/AN44,(AE167+AP31*D19)/AO44)*AP44","v":{"$error":"#VALUE!"}},{"$f":"MIN((AF163+AP31*D19)/AK44,(AF164+AP31*D19)/AL44,(AF165+AP31*D19)/AM44,(AF166+AP31*D19)/AN44,(AF167+AP31*D19)/AO44)*AP44","v":{"$error":"#VALUE!"}},{"$error":"#VALUE!"},null,"",{"$f":"MIN((S163+AQ31*D19)/AK45,(S164+AQ31*D19)/AL45,(S165+AQ31*D19)/AM45,(S166+AQ31*D19)/AN45,(S167+AQ31*D19)/AO45)*AP45","v":{"$error":"#VALUE!"}},{"$f":"MIN((T163+AQ31*D19)/AK45,(T164+AQ31*D19)/AL45,(T165+AQ31*D19)/AM45,(T166+AQ31*D19)/AN45,(T167+AQ31*D19)/AO45)*AP45","v":{"$error":"#VALUE!"}},{"$f":"MIN((U163+AQ31*D19)/AK45,(U164+AQ31*D19)/AL45,(U165+AQ31*D19)/AM45,(U166+AQ31*D19)/AN45,(U167+AQ31*D19)/AO45)*AP45","v":{"$error":"#VALUE!"}},{"$f":"MIN((V163+AQ31*D19)/AK45,(V164+AQ31*D19)/AL45,(V165+AQ31*D19)/AM45,(V166+AQ31*D19)/AN45,(V167+AQ31*D19)/AO45)*AP45","v":{"$error":"#VALUE!"}},{"$f":"MIN((W163+AQ31*D19)/AK45,(W164+AQ31*D19)/AL45,(W165+AQ31*D19)/AM45,(W166+AQ31*D19)/AN45,(W167+AQ31*D19)/AO45)*AP45","v":{"$error":"#VALUE!"}},{"$f":"MIN((X163+AQ31*D19)/AK45,(X164+AQ31*D19)/AL45,(X165+AQ31*D19)/AM45,(X166+AQ31*D19)/AN45,(X167+AQ31*D19)/AO45)*AP45","v":{"$error":"#VALUE!"}},{"$f":"MIN((Y163+AQ31*D19)/AK45,(Y164+AQ31*D19)/AL45,(Y165+AQ31*D19)/AM45,(Y166+AQ31*D19)/AN45,(Y167+AQ31*D19)/AO45)*AP45","v":{"$error":"#VALUE!"}},{"$f":"MIN((Z163+AQ31*D19)/AK45,(Z164+AQ31*D19)/AL45,(Z165+AQ31*D19)/AM45,(Z166+AQ31*D19)/AN45,(Z167+AQ31*D19)/AO45)*AP45","v":{"$error":"#VALUE!"}},{"$f":"MIN((AA163+AQ31*D19)/AK45,(AA164+AQ31*D19)/AL45,(AA165+AQ31*D19)/AM45,(AA166+AQ31*D19)/AN45,(AA167+AQ31*D19)/AO45)*AP45","v":{"$error":"#VALUE!"}},{"$f":"MIN((AB163+AQ31*D19)/AK45,(AB164+AQ31*D19)/AL45,(AB165+AQ31*D19)/AM45,(AB166+AQ31*D19)/AN45,(AB167+AQ31*D19)/AO45)*AP45","v":{"$error":"#VALUE!"}},{"$f":"MIN((AC163+AQ31*D19)/AK45,(AC164+AQ31*D19)/AL45,(AC165+AQ31*D19)/AM45,(AC166+AQ31*D19)/AN45,(AC167+AQ31*D19)/AO45)*AP45","v":{"$error":"#VALUE!"}},{"$f":"MIN((AD163+AQ31*D19)/AK45,(AD164+AQ31*D19)/AL45,(AD165+AQ31*D19)/AM45,(AD166+AQ31*D19)/AN45,(AD167+AQ31*D19)/AO45)*AP45","v":{"$error":"#VALUE!"}},{"$f":"MIN((AE163+AQ31*D19)/AK45,(AE164+AQ31*D19)/AL45,(AE165+AQ31*D19)/AM45,(AE166+AQ31*D19)/AN45,(AE167+AQ31*D19)/AO45)*AP45","v":{"$error":"#VALUE!"}},{"$f":"MIN((AF163+AQ31*D19)/AK45,(AF164+AQ31*D19)/AL45,(AF165+AQ31*D19)/AM45,(AF166+AQ31*D19)/AN45,(AF167+AQ31*D19)/AO45)*AP45","v":{"$error":"#VALUE!"}},{"$error":"#VALUE!"}]
[null,null,null,null,null,null,null,null,null,null,null,null,null,null,null,null,null,{"$f":"J22+AH41+D15+D17+D21+D19*AG19","v":{"$error":"#VALUE!"}},{"$f":"R137+Q12","v":{"$error":"#VALUE!"}},{"$f":"R137+R12","v":{"$error":"#VALUE!"}},{"$f":"R137+S12","v":{"$error":"#VALUE!"}},{"$f":"R137+T12","v":{"$error":"#VALUE!"}},{"$f":"R137+U12","v":{"$error":"#VALUE!"}},{"$f":"R137+V12","v":{"$error":"#VALUE!"}},{"$f":"R137+W12","v":{"$error":"#VALUE!"}},{"$f":"R137+X12","v":{"$error":"#VALUE!"}},{"$f":"R137+Y12","v":{"$error":"#VALUE!"}},{"$f":"R137+Z12","v":{"$error":"#VALUE!"}},{"$f":"R137+AA12","v":{"$error":"#VALUE!"}},{"$f":"R137+AB12","v":{"$error":"#VALUE!"}},{"$f":"R137+AC12","v":{"$error":"#VALUE!"}},{"$f":"R137+AD12","v":{"$error":"#VALUE!"}},null,null,null,"",{"$f":"MIN((S170+AP31*D19)/AK44,(S171+AP31*D19)/AL44,(S172+AP31*D19)/AM44,(S173+AP31*D19)/AN44,(S174+AP31*D19)/AO44)*AP44","v":{"$error":"#VALUE!"}},{"$f":"MIN((T170+AP31*D19)/AK44,(T171+AP31*D19)/AL44,(T172+AP31*D19)/AM44,(T173+AP31*D19)/AN44,(T174+AP31*D19)/AO44)*AP44","v":{"$error":"#VALUE!"}},{"$f":"MIN((U170+AP31*D19)/AK44,(U171+AP31*D19)/AL44,(U172+AP31*D19)/AM44,(U173+AP31*D19)/AN44,(U174+AP31*D19)/AO44)*AP44","v":{"$error":"#VALUE!"}},{"$f":"MIN((V170+AP31*D19)/AK44,(V171+AP31*D19)/AL44,(V172+AP31*D19)/AM44,(V173+AP31*D19)/AN44,(V174+AP31*D19)/AO44)*AP44","v":{"$error":"#VALUE!"}},{"$f":"MIN((W170+AP31*D19)/AK44,(W171+AP31*D19)/AL44,(W172+AP31*D19)/AM44,(W173+AP31*D19)/AN44,(W174+AP31*D19)/AO44)*AP44","v":{"$error":"#VALUE!"}},{"$f":"MIN((X170+AP31*D19)/AK44,(X171+AP31*D19)/AL44,(X172+AP31*D19)/AM44,(X173+AP31*D19)/AN44,(X174+AP31*D19)/AO44)*AP44","v":{"$error":"#VALUE!"}},{"$f":"MIN((Y170+AP31*D19)/AK44,(Y171+AP31*D19)/AL44,(Y172+AP31*D19)/AM44,(Y173+AP31*D19)/AN44,(Y174+AP31*D19)/AO44)*AP44","v":{"$error":"#VALUE!"}},{"$f":"MIN((Z170+AP31*D19)/AK44,(Z171+AP31*D19)/AL44,(Z172+AP31*D19)/AM44,(Z173+AP31*D19)/AN44,(Z174+AP31*D19)/AO44)*AP44","v":{"$error":"#VALUE!"}},{"$f":"MIN((AA170+AP31*D19)/AK44,(AA171+AP31*D19)/AL44,(AA172+AP31*D19)/AM44,(AA173+AP31*D19)/AN44,(AA174+AP31*D19)/AO44)*AP44","v":{"$error":"#VALUE!"}},{"$f":"MIN((AB170+AP31*D19)/AK44,(AB171+AP31*D19)/AL44,(AB172+AP31*D19)/AM44,(AB173+AP31*D19)/AN44,(AB174+AP31*D19)/AO44)*AP44","v":{"$error":"#VALUE!"}},{"$f":"MIN((AC170+AP31*D19)/AK44,(AC171+AP31*D19)/AL44,(AC172+AP31*D19)/AM44,(AC173+AP31*D19)/AN44,(AC174+AP31*D19)/AO44)*AP44","v":{"$error":"#VALUE!"}},{"$f":"MIN((AD170+AP31*D19)/AK44,(AD171+AP31*D19)/AL44,(AD172+AP31*D19)/AM44,(AD173+AP31*D19)/AN44,(AD174+AP31*D19)/AO44)*AP44","v":{"$error":"#VALUE!"}},{"$f":"MIN((AE170+AP31*D19)/AK44,(AE171+AP31*D19)/AL44,(AE172+AP31*D19)/AM44,(AE173+AP31*D19)/AN44,(AE174+AP31*D19)/AO44)*AP44","v":{"$error":"#VALUE!"}},{"$f":"MIN((AF170+AP31*D19)/AK44,(AF171+AP31*D19)/AL44,(AF172+AP31*D19)/AM44,(AF173+AP31*D19)/AN44,(AF174+AP31*D19)/AO44)*AP44","v":{"$error":"#VALUE!"}},{"$error":"#VALUE!"},null,"",{"$f":"MIN((S170+AQ31*D19)/AK45,(S171+AQ31*D19)/AL45,(S172+AQ31*D19)/AM45,(S173+AQ31*D19)/AN45,(S174+AQ31*D19)/AO45)*AP45","v":{"$error":"#VALUE!"}},{"$f":"MIN((T170+AQ31*D19)/AK45,(T171+AQ31*D19)/AL45,(T172+AQ31*D19)/AM45,(T173+AQ31*D19)/AN45,(T174+AQ31*D19)/AO45)*AP45","v":{"$error":"#VALUE!"}},{"$f":"MIN((U170+AQ31*D19)/AK45,(U171+AQ31*D19)/AL45,(U172+AQ31*D19)/AM45,(U173+AQ31*D19)/AN45,(U174+AQ31*D19)/AO45)*AP45","v":{"$error":"#VALUE!"}},{"$f":"MIN((V170+AQ31*D19)/AK45,(V171+AQ31*D19)/AL45,(V172+AQ31*D19)/AM45,(V173+AQ31*D19)/AN45,(V174+AQ31*D19)/AO45)*AP45","v":{"$error":"#VALUE!"}},{"$f":"MIN((W170+AQ31*D19)/AK45,(W171+AQ31*D19)/AL45,(W172+AQ31*D19)/AM45,(W173+AQ31*D19)/AN45,(W174+AQ31*D19)/AO45)*AP45","v":{"$error":"#VALUE!"}},{"$f":"MIN((X170+AQ31*D19)/AK45,(X171+AQ31*D19)/AL45,(X172+AQ31*D19)/AM45,(X173+AQ31*D19)/AN45,(X174+AQ31*D19)/AO45)*AP45","v":{"$error":"#VALUE!"}},{"$f":"MIN((Y170+AQ31*D19)/AK45,(Y171+AQ31*D19)/AL45,(Y172+AQ31*D19)/AM45,(Y173+AQ31*D19)/AN45,(Y174+AQ31*D19)/AO45)*AP45","v":{"$error":"#VALUE!"}},{"$f":"MIN((Z170+AQ31*D19)/AK45,(Z171+AQ31*D19)/AL45,(Z172+AQ31*D19)/AM45,(Z173+AQ31*D19)/AN45,(Z174+AQ31*D19)/AO45)*AP45","v":{"$error":"#VALUE!"}},{"$f":"MIN((AA170+AQ31*D19)/AK45,(AA171+AQ31*D19)/AL45,(AA172+AQ31*D19)/AM45,(AA173+AQ31*D19)/AN45,(AA174+AQ31*D19)/AO45)*AP45","v":{"$error":"#VALUE!"}},{"$f":"MIN((AB170+AQ31*D19)/AK45,(AB171+AQ31*D19)/AL45,(AB172+AQ31*D19)/AM45,(AB173+AQ31*D19)/AN45,(AB174+AQ31*D19)/AO45)*AP45","v":{"$error":"#VALUE!"}},{"$f":"MIN((AC170+AQ31*D19)/AK45,(AC171+AQ31*D19)/AL45,(AC172+AQ31*D19)/AM45,(AC173+AQ31*D19)/AN45,(AC174+AQ31*D19)/AO45)*AP45","v":{"$error":"#VALUE!"}},{"$f":"MIN((AD170+AQ31*D19)/AK45,(AD171+AQ31*D19)/AL45,(AD172+AQ31*D19)/AM45,(AD173+AQ31*D19)/AN45,(AD174+AQ31*D19)/AO45)*AP45","v":{"$error":"#VALUE!"}},{"$f":"MIN((AE170+AQ31*D19)/AK45,(AE171+AQ31*D19)/AL45,(AE172+AQ31*D19)/AM45,(AE173+AQ31*D19)/AN45,(AE174+AQ31*D19)/AO45)*AP45","v":{"$error":"#VALUE!"}},{"$f":"MIN((AF170+AQ31*D19)/AK45,(AF171+AQ31*D19)/AL45,(AF172+AQ31*D19)/AM45,(AF173+AQ31*D19)/AN45,(AF174+AQ31*D19)/AO45)*AP45","v":{"$error":"#VALUE!"}},{"$error":"#VALUE!"}]
[null,null,null,null,null,null,null,null,null,null,null,null,null,null,null,null,null,{"$f":"K22+AH42+D16+D17+D21+D19*AG19","v":{"$error":"#VALUE!"}},{"$f":"R138+Q13","v":{"$error":"#VALUE!"}},{"$f":"R138+R13","v":{"$error":"#VALUE!"}},{"$f":"R138+S13","v":{"$error":"#VALUE!"}},{"$f":"R138+T13","v":{"$error":"#VALUE!"}},{"$f":"R138+U13","v":{"$error":"#VALUE!"}},{"$f":"R138+V13","v":{"$error":"#VALUE!"}},{"$f":"R138+W13","v":{"$error":"#VALUE!"}},{"$f":"R138+X13","v":{"$error":"#VALUE!"}},{"$f":"R138+Y13","v":{"$error":"#VALUE!"}},{"$f":"R138+Z13","v":{"$error":"#VALUE!"}},{"$f":"R138+AA13","v":{"$error":"#VALUE!"}},{"$f":"R138+AB13","v":{"$error":"#VALUE!"}},{"$f":"R138+AC13","v":{"$error":"#VALUE!"}},{"$f":"R138+AD13","v":{"$error":"#VALUE!"}},null,null,null,"",{"$f":"MIN((S177+AP31*D19)/AK44,(S178+AP31*D19)/AL44,(S179+AP31*D19)/AM44,(S180+AP31*D19)/AN44,(S181+AP31*D19)/AO44)*AP44","v":{"$error":"#VALUE!"}},{"$f":"MIN((T177+AP31*D19)/AK44,(T178+AP31*D19)/AL44,(T179+AP31*D19)/AM44,(T180+AP31*D19)/AN44,(T181+AP31*D19)/AO44)*AP44","v":{"$error":"#VALUE!"}},{"$f":"MIN((U177+AP31*D19)/AK44,(U178+AP31*D19)/AL44,(U179+AP31*D19)/AM44,(U180+AP31*D19)/AN44,(U181+AP31*D19)/AO44)*AP44","v":{"$error":"#VALUE!"}},{"$f":"MIN((V177+AP31*D19)/AK44,(V178+AP31*D19)/AL44,(V179+AP31*D19)/AM44,(V180+AP31*D19)/AN44,(V181+AP31*D19)/AO44)*AP44","v":{"$error":"#VALUE!"}},{"$f":"MIN((W177+AP31*D19)/AK44,(W178+AP31*D19)/AL44,(W179+AP31*D19)/AM44,(W180+AP31*D19)/AN44,(W181+AP31*D19)/AO44)*AP44","v":{"$error":"#VALUE!"}},{"$f":"MIN((X177+AP31*D19)/AK44,(X178+AP31*D19)/AL44,(X179+AP31*D19)/AM44,(X180+AP31*D19)/AN44,(X181+AP31*D19)/AO44)*AP44","v":{"$error":"#VALUE!"}},{"$f":"MIN((Y177+AP31*D19)/AK44,(Y178+AP31*D19)/AL44,(Y179+AP31*D19)/AM44,(Y180+AP31*D19)/AN44,(Y181+AP31*D19)/AO44)*AP44","v":{"$error":"#VALUE!"}},{"$f":"MIN((Z177+AP31*D19)/AK44,(Z178+AP31*D19)/AL44,(Z179+AP31*D19)/AM44,(Z180+AP31*D19)/AN44,(Z181+AP31*D19)/AO44)*AP44","v":{"$error":"#VALUE!"}},{"$f":"MIN((AA177+AP31*D19)/AK44,(AA178+AP31*D19)/AL44,(AA179+AP31*D19)/AM44,(AA180+AP31*D19)/AN44,(AA181+AP31*D19)/AO44)*AP44","v":{"$error":"#VALUE!"}},{"$f":"MIN((AB177+AP31*D19)/AK44,(AB178+AP31*D19)/AL44,(AB179+AP31*D19)/AM44,(AB180+AP31*D19)/AN44,(AB181+AP31*D19)/AO44)*AP44","v":{"$error":"#VALUE!"}},{"$f":"MIN((AC177+AP31*D19)/AK44,(AC178+AP31*D19)/AL44,(AC179+AP31*D19)/AM44,(AC180+AP31*D19)/AN44,(AC181+AP31*D19)/AO44)*AP44","v":{"$error":"#VALUE!"}},{"$f":"MIN((AD177+AP31*D19)/AK44,(AD178+AP31*D19)/AL44,(AD179+AP31*D19)/AM44,(AD180+AP31*D19)/AN44,(AD181+AP31*D19)/AO44)*AP44","v":{"$error":"#VALUE!"}},{"$f":"MIN((AE177+AP31*D19)/AK44,(AE178+AP31*D19)/AL44,(AE179+AP31*D19)/AM44,(AE180+AP31*D19)/AN44,(AE181+AP31*D19)/AO44)*AP44","v":{"$error":"#VALUE!"}},{"$f":"MIN((AF177+AP31*D19)/AK44,(AF178+AP31*D19)/AL44,(AF179+AP31*D19)/AM44,(AF180+AP31*D19)/AN44,(AF181+AP31*D19)/AO44)*AP44","v":{"$error":"#VALUE!"}},{"$error":"#VALUE!"},null,"",{"$f":"MIN((S177+AQ31*D19)/AK45,(S178+AQ31*D19)/AL45,(S179+AQ31*D19)/AM45,(S180+AQ31*D19)/AN45,(S181+AQ31*D19)/AO45)*AP45","v":{"$error":"#VALUE!"}},{"$f":"MIN((T177+AQ31*D19)/AK45,(T178+AQ31*D19)/AL45,(T179+AQ31*D19)/AM45,(T180+AQ31*D19)/AN45,(T181+AQ31*D19)/AO45)*AP45","v":{"$error":"#VALUE!"}},{"$f":"MIN((U177+AQ31*D19)/AK45,(U178+AQ31*D19)/AL45,(U179+AQ31*D19)/AM45,(U180+AQ31*D19)/AN45,(U181+AQ31*D19)/AO45)*AP45","v":{"$error":"#VALUE!"}},{"$f":"MIN((V177+AQ31*D19)/AK45,(V178+AQ31*D19)/AL45,(V179+AQ31*D19)/AM45,(V180+AQ31*D19)/AN45,(V181+AQ31*D19)/AO45)*AP45","v":{"$error":"#VALUE!"}},{"$f":"MIN((W177+AQ31*D19)/AK45,(W178+AQ31*D19)/AL45,(W179+AQ31*D19)/AM45,(W180+AQ31*D19)/AN45,(W181+AQ31*D19)/AO45)*AP45","v":{"$error":"#VALUE!"}},{"$f":"MIN((X177+AQ31*D19)/AK45,(X178+AQ31*D19)/AL45,(X179+AQ31*D19)/AM45,(X180+AQ31*D19)/AN45,(X181+AQ31*D19)/AO45)*AP45","v":{"$error":"#VALUE!"}},{"$f":"MIN((Y177+AQ31*D19)/AK45,(Y178+AQ31*D19)/AL45,(Y179+AQ31*D19)/AM45,(Y180+AQ31*D19)/AN45,(Y181+AQ31*D19)/AO45)*AP45","v":{"$error":"#VALUE!"}},{"$f":"MIN((Z177+AQ31*D19)/AK45,(Z178+AQ31*D19)/AL45,(Z179+AQ31*D19)/AM45,(Z180+AQ31*D19)/AN45,(Z181+AQ31*D19)/AO45)*AP45","v":{"$error":"#VALUE!"}},{"$f":"MIN((AA177+AQ31*D19)/AK45,(AA178+AQ31*D19)/AL45,(AA179+AQ31*D19)/AM45,(AA180+AQ31*D19)/AN45,(AA181+AQ31*D19)/AO45)*AP45","v":{"$error":"#VALUE!"}},{"$f":"MIN((AB177+AQ31*D19)/AK45,(AB178+AQ31*D19)/AL45,(AB179+AQ31*D19)/AM45,(AB180+AQ31*D19)/AN45,(AB181+AQ31*D19)/AO45)*AP45","v":{"$error":"#VALUE!"}},{"$f":"MIN((AC177+AQ31*D19)/AK45,(AC178+AQ31*D19)/AL45,(AC179+AQ31*D19)/AM45,(AC180+AQ31*D19)/AN45,(AC181+AQ31*D19)/AO45)*AP45","v":{"$error":"#VALUE!"}},{"$f":"MIN((AD177+AQ31*D19)/AK45,(AD178+AQ31*D19)/AL45,(AD179+AQ31*D19)/AM45,(AD180+AQ31*D19)/AN45,(AD181+AQ31*D19)/AO45)*AP45","v":{"$error":"#VALUE!"}},{"$f":"MIN((AE177+AQ31*D19)/AK45,(AE178+AQ31*D19)/AL45,(AE179+AQ31*D19)/AM45,(AE180+AQ31*D19)/AN45,(AE181+AQ31*D19)/AO45)*AP45","v":{"$error":"#VALUE!"}},{"$f":"MIN((AF177+AQ31*D19)/AK45,(AF178+AQ31*D19)/AL45,(AF179+AQ31*D19)/AM45,(AF180+AQ31*D19)/AN45,(AF181+AQ31*D19)/AO45)*AP45","v":{"$error":"#VALUE!"}},{"$error":"#VALUE!"}]
[null,null,null,null,null,null,null,null,null,null,null,null,null,null,null,null,null,{"$f":"L22+AH43+D15+D17+D21+D19*AG19","v":{"$error":"#VALUE!"}},{"$f":"R139+Q14","v":{"$error":"#VALUE!"}},{"$f":"R139+R14","v":{"$error":"#VALUE!"}},{"$f":"R139+S14","v":{"$error":"#VALUE!"}},{"$f":"R139+T14","v":{"$error":"#VALUE!"}},{"$f":"R139+U14","v":{"$error":"#VALUE!"}},{"$f":"R139+V14","v":{"$error":"#VALUE!"}},{"$f":"R139+W14","v":{"$error":"#VALUE!"}},{"$f":"R139+X14","v":{"$error":"#VALUE!"}},{"$f":"R139+Y14","v":{"$error":"#VALUE!"}},{"$f":"R139+Z14","v":{"$error":"#VALUE!"}},{"$f":"R139+AA14","v":{"$error":"#VALUE!"}},{"$f":"R139+AB14","v":{"$error":"#VALUE!"}},{"$f":"R139+AC14","v":{"$error":"#VALUE!"}},{"$f":"R139+AD14","v":{"$error":"#VALUE!"}},null,null,null,{"$f":"AJ185","v":0},{"$f":"MIN((S184+AP31*D19)/AK44,(S185+AP31*D19)/AL44,(S186+AP31*D19)/AM44,(S187+AP31*D19)/AN44,(S188+AP31*D19)/AO44)*AP44","v":{"$error":"#VALUE!"}},{"$f":"MIN((T184+AP31*D19)/AK44,(T185+AP31*D19)/AL44,(T186+AP31*D19)/AM44,(T187+AP31*D19)/AN44,(T188+AP31*D19)/AO44)*AP44","v":{"$error":"#VALUE!"}},{"$f":"MIN((U184+AP31*D19)/AK44,(U185+AP31*D19)/AL44,(U186+AP31*D19)/AM44,(U187+AP31*D19)/AN44,(U188+AP31*D19)/AO44)*AP44","v":{"$error":"#VALUE!"}},{"$f":"MIN((V184+AP31*D19)/AK44,(V185+AP31*D19)/AL44,(V186+AP31*D19)/AM44,(V187+AP31*D19)/AN44,(V188+AP31*D19)/AO44)*AP44","v":{"$error":"#VALUE!"}},{"$f":"MIN((W184+AP31*D19)/AK44,(W185+AP31*D19)/AL44,(W186+AP31*D19)/AM44,(W187+AP31*D19)/AN44,(W188+AP31*D19)/AO44)*AP44","v":{"$error":"#VALUE!"}},{"$f":"MIN((X184+AP31*D19)/AK44,(X185+AP31*D19)/AL44,(X186+AP31*D19)/AM44,(X187+AP31*D19)/AN44,(X188+AP31*D19)/AO44)*AP44","v":{"$error":"#VALUE!"}},{"$f":"MIN((Y184+AP31*D19)/AK44,(Y185+AP31*D19)/AL44,(Y186+AP31*D19)/AM44,(Y187+AP31*D19)/AN44,(Y188+AP31*D19)/AO44)*AP44","v":{"$error":"#VALUE!"}},{"$f":"MIN((Z184+AP31*D19)/AK44,(Z185+AP31*D19)/AL44,(Z186+AP31*D19)/AM44,(Z187+AP31*D19)/AN44,(Z188+AP31*D19)/AO44)*AP44","v":{"$error":"#VALUE!"}},{"$f":"MIN((AA184+AP31*D19)/AK44,(AA185+AP31*D19)/AL44,(AA186+AP31*D19)/AM44,(AA187+AP31*D19)/AN44,(AA188+AP31*D19)/AO44)*AP44","v":{"$error":"#VALUE!"}},{"$f":"MIN((AB184+AP31*D19)/AK44,(AB185+AP31*D19)/AL44,(AB186+AP31*D19)/AM44,(AB187+AP31*D19)/AN44,(AB188+AP31*D19)/AO44)*AP44","v":{"$error":"#VALUE!"}},{"$f":"MIN((AC184+AP31*D19)/AK44,(AC185+AP31*D19)/AL44,(AC186+AP31*D19)/AM44,(AC187+AP31*D19)/AN44,(AC188+AP31*D19)/AO44)*AP44","v":{"$error":"#VALUE!"}},{"$f":"MIN((AD184+AP31*D19)/AK44,(AD185+AP31*D19)/AL44,(AD186+AP31*D19)/AM44,(AD187+AP31*D19)/AN44,(AD188+AP31*D19)/AO44)*AP44","v":{"$error":"#VALUE!"}},{"$f":"MIN((AE184+AP31*D19)/AK44,(AE185+AP31*D19)/AL44,(AE186+AP31*D19)/AM44,(AE187+AP31*D19)/AN44,(AE188+AP31*D19)/AO44)*AP44","v":{"$error":"#VALUE!"}},{"$f":"MIN((AF184+AP31*D19)/AK44,(AF185+AP31*D19)/AL44,(AF186+AP31*D19)/AM44,(AF187+AP31*D19)/AN44,(AF188+AP31*D19)/AO44)*AP44","v":{"$error":"#VALUE!"}},{"$error":"#VALUE!"},null,0,{"$f":"MIN((S184+AQ31*D19)/AK45,(S185+AQ31*D19)/AL45,(S186+AQ31*D19)/AM45,(S187+AQ31*D19)/AN45,(S188+AQ31*D19)/AO45)*AP45","v":{"$error":"#VALUE!"}},{"$f":"MIN((T184+AQ31*D19)/AK45,(T185+AQ31*D19)/AL45,(T186+AQ31*D19)/AM45,(T187+AQ31*D19)/AN45,(T188+AQ31*D19)/AO45)*AP45","v":{"$error":"#VALUE!"}},{"$f":"MIN((U184+AQ31*D19)/AK45,(U185+AQ31*D19)/AL45,(U186+AQ31*D19)/AM45,(U187+AQ31*D19)/AN45,(U188+AQ31*D19)/AO45)*AP45","v":{"$error":"#VALUE!"}},{"$f":"MIN((V184+AQ31*D19)/AK45,(V185+AQ31*D19)/AL45,(V186+AQ31*D19)/AM45,(V187+AQ31*D19)/AN45,(V188+AQ31*D19)/AO45)*AP45","v":{"$error":"#VALUE!"}},{"$f":"MIN((W184+AQ31*D19)/AK45,(W185+AQ31*D19)/AL45,(W186+AQ31*D19)/AM45,(W187+AQ31*D19)/AN45,(W188+AQ31*D19)/AO45)*AP45","v":{"$error":"#VALUE!"}},{"$f":"MIN((X184+AQ31*D19)/AK45,(X185+AQ31*D19)/AL45,(X186+AQ31*D19)/AM45,(X187+AQ31*D19)/AN45,(X188+AQ31*D19)/AO45)*AP45","v":{"$error":"#VALUE!"}},{"$f":"MIN((Y184+AQ31*D19)/AK45,(Y185+AQ31*D19)/AL45,(Y186+AQ31*D19)/AM45,(Y187+AQ31*D19)/AN45,(Y188+AQ31*D19)/AO45)*AP45","v":{"$error":"#VALUE!"}},{"$f":"MIN((Z184+AQ31*D19)/AK45,(Z185+AQ31*D19)/AL45,(Z186+AQ31*D19)/AM45,(Z187+AQ31*D19)/AN45,(Z88+AQ31*D19)/AO45)*AP45","v":{"$error":"#VALUE!"}},{"$f":"MIN((AA184+AQ31*D19)/AK45,(AA185+AQ31*D19)/AL45,(AA186+AQ31*D19)/AM45,(AA187+AQ31*D19)/AN45,(AA188+AQ31*D19)/AO45)*AP45","v":{"$error":"#VALUE!"}},{"$f":"MIN((AB184+AQ31*D19)/AK45,(AB185+AQ31*D19)/AL45,(AB186+AQ31*D19)/AM45,(AB187+AQ31*D19)/AN45,(AB188+AQ31*D19)/AO45)*AP45","v":{"$error":"#VALUE!"}},{"$f":"MIN((AC184+AQ31*D19)/AK45,(AC185+AQ31*D19)/AL45,(AC186+AQ31*D19)/AM45,(AC187+AQ31*D19)/AN45,(AC188+AQ31*D19)/AO45)*AP45","v":{"$error":"#VALUE!"}},{"$f":"MIN((AD184+AQ31*D19)/AK45,(AD185+AQ31*D19)/AL45,(AD186+AQ31*D19)/AM45,(AD187+AQ31*D19)/AN45,(AD188+AQ31*D19)/AO45)*AP45","v":{"$error":"#VALUE!"}},{"$f":"MIN((AE184+AQ31*D19)/AK45,(AE185+AQ31*D19)/AL45,(AE186+AQ31*D19)/AM45,(AE187+AQ31*D19)/AN45,(AE188+AQ31*D19)/AO45)*AP45","v":{"$error":"#VALUE!"}},{"$f":"MIN((AF184+AQ31*D19)/AK45,(AF185+AQ31*D19)/AL45,(AF186+AQ31*D19)/AM45,(AF187+AQ31*D19)/AN45,(AF188+AQ31*D19)/AO45)*AP45","v":{"$error":"#VALUE!"}},{"$error":"#VALUE!"}]
[null,null,null,null,null,null,null,null,null,null,null,null,null,null,null,null,null,null,null,null,null,null,null,null,null,null,null,null,null,null,null,null,null,null,null,0,null,null,null,null,null,null,null,null,null,null,null,null,null,null,0,null,0,null,null,null,null,null,null,null,null,null,null,null,null,null,null,0]
[null,null,null,null,null,null,null,null,null,null,null,null,null,null,null,null,null,{"$f":"G23","v":""},{"$f":"S134","v":"kit 1"},{"$f":"T134","v":"kit 2A"},"kit 2B","kit 4A","kit 4B","kit 5","kit 6A","kit 6B","kit 7","kit 8","kit 9A","kit 9B",{"$f":"AE134","v":"kit 10"},{"$f":"AF134","v":"kit 11"},null,null,null,0,null,null,null,null,null,null,null,null,null,null,null,null,null,null,0,null,0,null,null,null,null,null,null,null,null,null,null,null,null,null,null,0]
[null,null,null,null,null,null,null,null,null,null,null,null,null,null,null,null,null,{"$f":"H23+AH39+D16+D17+D21+D19*AG20","v":{"$error":"#VALUE!"}},{"$f":"R142+Q10","v":{"$error":"#VALUE!"}},{"$f":"R142+R10","v":{"$error":"#VALUE!"}},{"$f":"R142+S10","v":{"$error":"#VALUE!"}},{"$f":"R142+T10","v":{"$error":"#VALUE!"}},{"$f":"R142+U10","v":{"$error":"#VALUE!"}},{"$f":"R142+V10","v":{"$error":"#VALUE!"}},{"$f":"R142+W10","v":{"$error":"#VALUE!"}},{"$f":"R142+X10","v":{"$error":"#VALUE!"}},{"$f":"R142+Y10","v":{"$error":"#VALUE!"}},{"$f":"R142+Z10","v":{"$error":"#VALUE!"}},{"$f":"R142+AA10","v":{"$error":"#VALUE!"}},{"$f":"R142+AB10","v":{"$error":"#VALUE!"}},{"$f":"R142+AC10","v":{"$error":"#VALUE!"}},{"$f":"R142+AD10","v":{"$error":"#VALUE!"}}]
[null,null,null,null,null,null,null,null,null,null,null,null,null,null,null,null,null,{"$f":"I23+AH40+D15+D17+D21+D19*AG20","v":{"$error":"#VALUE!"}},{"$f":"R143+Q11","v":{"$error":"#VALUE!"}},{"$f":"R143+R11","v":{"$error":"#VALUE!"}},{"$f":"R143+S11","v":{"$error":"#VALUE!"}},{"$f":"R143+T11","v":{"$error":"#VALUE!"}},{"$f":"R143+U11","v":{"$error":"#VALUE!"}},{"$f":"R143+V11","v":{"$error":"#VALUE!"}},{"$f":"R143+W11","v":{"$error":"#VALUE!"}},{"$f":"R143+X11","v":{"$error":"#VALUE!"}},{"$f":"R143+Y11","v":{"$error":"#VALUE!"}},{"$f":"R143+Z11","v":{"$error":"#VALUE!"}},{"$f":"R143+AA11","v":{"$error":"#VALUE!"}},{"$f":"R143+AB11","v":{"$error":"#VALUE!"}},{"$f":"R143+AC11","v":{"$error":"#VALUE!"}},{"$f":"R143+AD11","v":{"$error":"#VALUE!"}},null,null,null,9,{"$f":"Q9","v":"kit 1"},"kit 2A","kit 2B","kit 4A","kit 4B","kit 5","kit 6A","kit 6B","kit 7","kit 8","kit 9A","kit 9B","kit 10","kit 11","MAX",null,10,{"$f":"Q9","v":"kit 1"},"kit 2A","kit 2B","kit 4A","kit 4B","kit 5","kit 6A","kit 6B","kit 7","kit 8","kit 9A","kit 9B","kit 10","kit 11","MAX"]
[null,null,null,null,null,null,null,null,null,null,null,null,null,null,null,null,null,{"$f":"J23+AH41+D15+D17+D21+D19*AG20","v":{"$error":"#VALUE!"}},{"$f":"R144+Q12","v":{"$error":"#VALUE!"}},{"$f":"R144+R12","v":{"$error":"#VALUE!"}},{"$f":"R144+S12","v":{"$error":"#VALUE!"}},{"$f":"R144+T12","v":{"$error":"#VALUE!"}},{"$f":"R144+U12","v":{"$error":"#VALUE!"}},{"$f":"R144+V12","v":{"$error":"#VALUE!"}},{"$f":"R144+W12","v":{"$error":"#VALUE!"}},{"$f":"R144+X12","v":{"$error":"#VALUE!"}},{"$f":"R144+Y12","v":{"$error":"#VALUE!"}},{"$f":"R144+Z12","v":{"$error":"#VALUE!"}},{"$f":"R144+AA12","v":{"$error":"#VALUE!"}},{"$f":"R144+AB12","v":{"$error":"#VALUE!"}},{"$f":"R144+AC12","v":{"$error":"#VALUE!"}},{"$f":"R144+AD12","v":{"$error":"#VALUE!"}},null,null,null,{"$f":"AJ167","v":""},{"$f":"MIN((S58+AR31*D19)/AK46,(S59+AR31*D19)/AL46,(S60+AR31*D19)/AM46,(S61+AR31*D19)/AN46,(S62+AR31*D19)/AO46)*AP46","v":{"$error":"#VALUE!"}},{"$f":"MIN((T58+AR31*D19)/AK46,(T59+AR31*D19)/AL46,(T60+AR31*D19)/AM46,(T61+AR31*D19)/AN46,(T62+AR31*D19)/AO46)*AP46","v":{"$error":"#VALUE!"}},{"$f":"MIN((U58+AR31*D19)/AK46,(U59+AR31*D19)/AL46,(U60+AR31*D19)/AM46,(U61+AR31*D19)/AN46,(U62+AR31*D19)/AO46)*AP46","v":{"$error":"#VALUE!"}},{"$f":"MIN((V58+AR31*D19)/AK46,(V59+AR31*D19)/AL46,(V60+AR31*D19)/AM46,(V61+AR31*D19)/AN46,(V62+AR31*D19)/AO46)*AP46","v":{"$error":"#VALUE!"}},{"$f":"MIN((W58+AR31*D19)/AK46,(W59+AR31*D19)/AL46,(W60+AR31*D19)/AM46,(W61+AR31*D19)/AN46,(W62+AR31*D19)/AO46)*AP46","v":{"$error":"#VALUE!"}},{"$f":"MIN((X58+AR31*D19)/AK46,(X59+AR31*D19)/AL46,(X60+AR31*D19)/AM46,(X61+AR31*D19)/AN46,(X62+AR31*D19)/AO46)*AP46","v":{"$error":"#VALUE!"}},{"$f":"MIN((Y58+AR31*D19)/AK46,(Y59+AR31*D19)/AL46,(Y60+AR31*D19)/AM46,(Y61+AR31*D19)/AN46,(Y62+AR31*D19)/AO46)*AP46","v":{"$error":"#VALUE!"}},{"$f":"MIN((Z58+AR31*D19)/AK46,(Z59+AR31*D19)/AL46,(Z60+AR31*D19)/AM46,(Z61+AR31*D19)/AN46,(Z62+AR31*D19)/AO46)*AP46","v":{"$error":"#VALUE!"}},{"$f":"MIN((AA58+AR31*D19)/AK46,(AA59+AR31*D19)/AL46,(AA60+AR31*D19)/AM46,(AA61+AR31*D19)/AN46,(AA62+AR31*D19)/AO46)*AP46","v":{"$error":"#VALUE!"}},{"$f":"MIN((AB58+AR31*D19)/AK46,(AB59+AR31*D19)/AL46,(AB60+AR31*D19)/AM46,(AB61+AR31*D19)/AN46,(AB62+AR31*D19)/AO46)*AP46","v":{"$error":"#VALUE!"}},{"$f":"MIN((AC58+AR31*D19)/AK46,(AC59+AR31*D19)/AL46,(AC60+AR31*D19)/AM46,(AC61+AR31*D19)/AN46,(AC62+AR31*D19)/AO46)*AP46","v":{"$error":"#VALUE!"}},{"$f":"MIN((AD58+AR31*D19)/AK46,(AD59+AR31*D19)/AL46,(AD60+AR31*D19)/AM46,(AD61+AR31*D19)/AN46,(AD62+AR31*D19)/AO46)*AP46","v":{"$error":"#VALUE!"}},{"$f":"MIN((AE58+AR31*D19)/AK46,(AE59+AR31*D19)/AL46,(AE60+AR31*D19)/AM46,(AE61+AR31*D19)/AN46,(AE62+AR31*D19)/AO46)*AP46","v":{"$error":"#VALUE!"}},{"$f":"MIN((AF58+AR31*D19)/AK46,(AF59+AR31*D19)/AL46,(AF60+AR31*D19)/AM46,(AF61+AR31*D19)/AN46,(AF62+AR31*D19)/AO46)*AP46","v":{"$error":"#VALUE!"}},{"$f":"MAX(AK144:AX144)","v":{"$error":"#VALUE!"}},null,{"$f":"AJ167","v":""},{"$f":"MIN((S58+AS31*D19)/AK47,(S59+AS31*D19)/AL47,(S60+AS31*D19)/AM47,(S61+AS31*D19)/AN47,(S62+AS31*D19)/AO47)*AP47","v":{"$error":"#VALUE!"}},{"$f":"MIN((T58+AS31*D19)/AK47,(T59+AS31*D19)/AL47,(T60+AS31*D19)/AM47,(T61+AS31*D19)/AN47,(T62+AS31*D19)/AO47)*AP47","v":{"$error":"#VALUE!"}},{"$f":"MIN((U58+AS31*D19)/AK47,(U59+AS31*D19)/AL47,(U60+AS31*D19)/AM47,(U61+AS31*D19)/AN47,(U62+AS31*D19)/AO47)*AP47","v":{"$error":"#VALUE!"}},{"$f":"MIN((V58+AS31*D19)/AK47,(V59+AS31*D19)/AL47,(V60+AS31*D19)/AM47,(V61+AS31*D19)/AN47,(V62+AS31*D19)/AO47)*AP47","v":{"$error":"#VALUE!"}},{"$f":"MIN((W58+AS31*D19)/AK47,(W59+AS31*D19)/AL47,(W60+AS31*D19)/AM47,(W61+AS31*D19)/AN47,(W62+AS31*D19)/AO47)*AP47","v":{"$error":"#VALUE!"}},{"$f":"MIN((X58+AS31*D19)/AK47,(X59+AS31*D19)/AL47,(X60+AS31*D19)/AM47,(X61+AS31*D19)/AN47,(X62+AS31*D19)/AO47)*AP47","v":{"$error":"#VALUE!"}},{"$f":"MIN((Y58+AS31*D19)/AK47,(Y59+AS31*D19)/AL47,(Y60+AS31*D19)/AM47,(Y61+AS31*D19)/AN47,(Y62+AS31*D19)/AO47)*AP47","v":{"$error":"#VALUE!"}},{"$f":"MIN((Z58+AS31*D19)/AK47,(Z59+AS31*D19)/AL47,(Z60+AS31*D19)/AM47,(Z61+AS31*D19)/AN47,(Z62+AS31*D19)/AO47)*AP47","v":{"$error":"#VALUE!"}},{"$f":"MIN((AA58+AS31*D19)/AK47,(AA59+AS31*D19)/AL47,(AA60+AS31*D19)/AM47,(AA61+AS31*D19)/AN47,(AA62+AS31*D19)/AO47)*AP47","v":{"$error":"#VALUE!"}},{"$f":"MIN((AB58+AS31*D19)/AK47,(AB59+AS31*D19)/AL47,(AB60+AS31*D19)/AM47,(AB61+AS31*D19)/AN47,(AB62+AS31*D19)/AO47)*AP47","v":{"$error":"#VALUE!"}},{"$f":"MIN((AC58+AS31*D19)/AK47,(AC59+AS31*D19)/AL47,(AC60+AS31*D19)/AM47,(AC61+AS31*D19)/AN47,(AC62+AS31*D19)/AO47)*AP47","v":{"$error":"#VALUE!"}},{"$f":"MIN((AD58+AS31*D19)/AK47,(AD59+AS31*D19)/AL47,(AD60+AS31*D19)/AM47,(AD61+AS31*D19)/AN47,(AD62+AS31*D19)/AO47)*AP47","v":{"$error":"#VALUE!"}},{"$f":"MIN((AE58+AS31*D19)/AK47,(AE59+AS31*D19)/AL47,(AE60+AS31*D19)/AM47,(AE61+AS31*D19)/AN47,(AE62+AS31*D19)/AO47)*AP47","v":{"$error":"#VALUE!"}},{"$f":"MIN((AF58+AS31*D19)/AK47,(AF59+AS31*D19)/AL47,(AF60+AS31*D19)/AM47,(AF61+AS31*D19)/AN47,(AF62+AS31*D19)/AO47)*AP47","v":{"$error":"#VALUE!"}},{"$f":"MAX(BB144:BO144)","v":{"$error":"#VALUE!"}}]
[null,null,null,null,null,null,null,null,null,null,null,null,null,null,null,null,null,{"$f":"K23+AH42+D16+D17+D21+D19*AG20","v":{"$error":"#VALUE!"}},{"$f":"R145+Q13","v":{"$error":"#VALUE!"}},{"$f":"R145+R13","v":{"$error":"#VALUE!"}},{"$f":"R145+S13","v":{"$error":"#VALUE!"}},{"$f":"R145+T13","v":{"$error":"#VALUE!"}},{"$f":"R145+U13","v":{"$error":"#VALUE!"}},{"$f":"R145+V13","v":{"$error":"#VALUE!"}},{"$f":"R145+W13","v":{"$error":"#VALUE!"}},{"$f":"R145+X13","v":{"$error":"#VALUE!"}},{"$f":"R145+Y13","v":{"$error":"#VALUE!"}},{"$f":"R145+Z13","v":{"$error":"#VALUE!"}},{"$f":"R145+AA13","v":{"$error":"#VALUE!"}},{"$f":"R145+AB13","v":{"$error":"#VALUE!"}},{"$f":"R145+AC13","v":{"$error":"#VALUE!"}},{"$f":"R145+AD13","v":{"$error":"#VALUE!"}},null,null,null,"",{"$f":"MIN((S65+AR31*D19)/AK46,(S66+AR31*D19)/AL46,(S67+AR31*D19)/AM46,(S68+AR31*D19)/AN46,(S69+AR31*D19)/AO46)*AP46","v":{"$error":"#VALUE!"}},{"$f":"MIN((T65+AR31*D19)/AK46,(T66+AR31*D19)/AL46,(T67+AR31*D19)/AM46,(T68+AR31*D19)/AN46,(T69+AR31*D19)/AO46)*AP46","v":{"$error":"#VALUE!"}},{"$f":"MIN((U65+AR31*D19)/AK46,(U66+AR31*D19)/AL46,(U67+AR31*D19)/AM46,(U68+AR31*D19)/AN46,(U69+AR31*D19)/AO46)*AP46","v":{"$error":"#VALUE!"}},{"$f":"MIN((V65+AR31*D19)/AK46,(V66+AR31*D19)/AL46,(V67+AR31*D19)/AM46,(V68+AR31*D19)/AN46,(V69+AR31*D19)/AO46)*AP46","v":{"$error":"#VALUE!"}},{"$f":"MIN((W65+AR31*D19)/AK46,(W66+AR31*D19)/AL46,(W67+AR31*D19)/AM46,(W68+AR31*D19)/AN46,(W69+AR31*D19)/AO46)*AP46","v":{"$error":"#VALUE!"}},{"$f":"MIN((X65+AR31*D19)/AK46,(X66+AR31*D19)/AL46,(X67+AR31*D19)/AM46,(X68+AR31*D19)/AN46,(X69+AR31*D19)/AO46)*AP46","v":{"$error":"#VALUE!"}},{"$f":"MIN((Y65+AR31*D19)/AK46,(Y66+AR31*D19)/AL46,(Y67+AR31*D19)/AM46,(Y68+AR31*D19)/AN46,(Y69+AR31*D19)/AO46)*AP46","v":{"$error":"#VALUE!"}},{"$f":"MIN((Z65+AR31*D19)/AK46,(Z66+AR31*D19)/AL46,(Z67+AR31*D19)/AM46,(Z68+AR31*D19)/AN46,(Z69+AR31*D19)/AO46)*AP46","v":{"$error":"#VALUE!"}},{"$f":"MIN((AA65+AR31*D19)/AK46,(AA66+AR31*D19)/AL46,(AA67+AR31*D19)/AM46,(AA68+AR31*D19)/AN46,(AA69+AR31*D19)/AO46)*AP46","v":{"$error":"#VALUE!"}},{"$f":"MIN((AB65+AR31*D19)/AK46,(AB66+AR31*D19)/AL46,(AB67+AR31*D19)/AM46,(AB68+AR31*D19)/AN46,(AB69+AR31*D19)/AO46)*AP46","v":{"$error":"#VALUE!"}},{"$f":"MIN((AC65+AR31*D19)/AK46,(AC66+AR31*D19)/AL46,(AC67+AR31*D19)/AM46,(AC68+AR31*D19)/AN46,(AC69+AR31*D19)/AO46)*AP46","v":{"$error":"#VALUE!"}},{"$f":"MIN((AD65+AR31*D19)/AK46,(AD66+AR31*D19)/AL46,(AD67+AR31*D19)/AM46,(AD68+AR31*D19)/AN46,(AD69+AR31*D19)/AO46)*AP46","v":{"$error":"#VALUE!"}},{"$f":"MIN((AE65+AR31*D19)/AK46,(AE66+AR31*D19)/AL46,(AE67+AR31*D19)/AM46,(AE68+AR31*D19)/AN46,(AE69+AR31*D19)/AO46)*AP46","v":{"$error":"#VALUE!"}},{"$f":"MIN((AF65+AR31*D19)/AK46,(AF66+AR31*D19)/AL46,(AF67+AR31*D19)/AM46,(AF68+AR31*D19)/AN46,(AF69+AR31*D19)/AO46)*AP46","v":{"$error":"#VALUE!"}},{"$f":"MAX(AK145:AX145)","v":{"$error":"#VALUE!"}},null,"",{"$f":"MIN((S65+AS31*D19)/AK47,(S66+AS31*D19)/AL47,(S67+AS31*D19)/AM47,(S68+AS31*D19)/AN47,(S69+AS31*D19)/AO47)*AP47","v":{"$error":"#VALUE!"}},{"$f":"MIN((T65+AS31*D19)/AK47,(T66+AS31*D19)/AL47,(T67+AS31*D19)/AM47,(T68+AS31*D19)/AN47,(T69+AS31*D19)/AO47)*AP47","v":{"$error":"#VALUE!"}},{"$f":"MIN((U65+AS31*D19)/AK47,(U66+AS31*D19)/AL47,(U67+AS31*D19)/AM47,(U68+AS31*D19)/AN47,(U69+AS31*D19)/AO47)*AP47","v":{"$error":"#VALUE!"}},{"$f":"MIN((V65+AS31*D19)/AK47,(V66+AS31*D19)/AL47,(V67+AS31*D19)/AM47,(V68+AS31*D19)/AN47,(V69+AS31*D19)/AO47)*AP47","v":{"$error":"#VALUE!"}},{"$f":"MIN((W65+AS31*D19)/AK47,(W66+AS31*D19)/AL47,(W67+AS31*D19)/AM47,(W68+AS31*D19)/AN47,(W69+AS31*D19)/AO47)*AP47","v":{"$error":"#VALUE!"}},{"$f":"MIN((X65+AS31*D19)/AK47,(X66+AS31*D19)/AL47,(X67+AS31*D19)/AM47,(X68+AS31*D19)/AN47,(X69+AS31*D19)/AO47)*AP47","v":{"$error":"#VALUE!"}},{"$f":"MIN((Y65+AS31*D19)/AK47,(Y66+AS31*D19)/AL47,(Y67+AS31*D19)/AM47,(Y68+AS31*D19)/AN47,(Y69+AS31*D19)/AO47)*AP47","v":{"$error":"#VALUE!"}},{"$f":"MIN((Z65+AS31*D19)/AK47,(Z66+AS31*D19)/AL47,(Z67+AS31*D19)/AM47,(Z68+AS31*D19)/AN47,(Z69+AS31*D19)/AO47)*AP47","v":{"$error":"#VALUE!"}},{"$f":"MIN((AA65+AS31*D19)/AK47,(AA66+AS31*D19)/AL47,(AA67+AS31*D19)/AM47,(AA68+AS31*D19)/AN47,(AA69+AS31*D19)/AO47)*AP47","v":{"$error":"#VALUE!"}},{"$f":"MIN((AB65+AS31*D19)/AK47,(AB66+AS31*D19)/AL47,(AB67+AS31*D19)/AM47,(AB68+AS31*D19)/AN47,(AB69+AS31*D19)/AO47)*AP47","v":{"$error":"#VALUE!"}},{"$f":"MIN((AC65+AS31*D19)/AK47,(AC66+AS31*D19)/AL47,(AC67+AS31*D19)/AM47,(AC68+AS31*D19)/AN47,(AC69+AS31*D19)/AO47)*AP47","v":{"$error":"#VALUE!"}},{"$f":"MIN((AD65+AS31*D19)/AK47,(AD66+AS31*D19)/AL47,(AD67+AS31*D19)/AM47,(AD68+AS31*D19)/AN47,(AD69+AS31*D19)/AO47)*AP47","v":{"$error":"#VALUE!"}},{"$f":"MIN((AE65+AS31*D19)/AK47,(AE66+AS31*D19)/AL47,(AE67+AS31*D19)/AM47,(AE68+AS31*D19)/AN47,(AE69+AS31*D19)/AO47)*AP47","v":{"$error":"#VALUE!"}},{"$f":"MIN((AF65+AS31*D19)/AK47,(AF66+AS31*D19)/AL47,(AF67+AS31*D19)/AM47,(AF68+AS31*D19)/AN47,(AF69+AS31*D19)/AO47)*AP47","v":{"$error":"#VALUE!"}},{"$error":"#VALUE!"}]
[null,null,null,null,null,null,null,null,null,null,null,null,null,null,null,null,null,{"$f":"L23+AH43+D15+D17+D21+D19*AG20","v":{"$error":"#VALUE!"}},{"$f":"R146+Q14","v":{"$error":"#VALUE!"}},{"$f":"R146+R14","v":{"$error":"#VALUE!"}},{"$f":"R146+S14","v":{"$error":"#VALUE!"}},{"$f":"R146+T14","v":{"$error":"#VALUE!"}},{"$f":"R146+U14","v":{"$error":"#VALUE!"}},{"$f":"R146+V14","v":{"$error":"#VALUE!"}},{"$f":"R146+W14","v":{"$error":"#VALUE!"}},{"$f":"R146+X14","v":{"$error":"#VALUE!"}},{"$f":"R146+Y14","v":{"$error":"#VALUE!"}},{"$f":"R146+Z14","v":{"$error":"#VALUE!"}},{"$f":"R146+AA14","v":{"$error":"#VALUE!"}},{"$f":"R146+AB14","v":{"$error":"#VALUE!"}},{"$f":"R146+AC14","v":{"$error":"#VALUE!"}},{"$f":"R146+AD14","v":{"$error":"#VALUE!"}},null,null,null,"",{"$f":"MIN((S72+AR31*D19)/AK46,(S73+AR31*D19)/AL46,(S74+AR31*D19)/AM46,(S75+AR31*D19)/AN46,(S76+AR31*D19)/AO46)*AP46","v":{"$error":"#VALUE!"}},{"$f":"MIN((T72+AR31*D19)/AK46,(T73+AR31*D19)/AL46,(T74+AR31*D19)/AM46,(T75+AR31*D19)/AN46,(T76+AR31*D19)/AO46)*AP46","v":{"$error":"#VALUE!"}},{"$f":"MIN((U72+AR31*D19)/AK46,(U73+AR31*D19)/AL46,(U74+AR31*D19)/AM46,(U75+AR31*D19)/AN46,(U76+AR31*D19)/AO46)*AP46","v":{"$error":"#VALUE!"}},{"$f":"MIN((V72+AR31*D19)/AK46,(V73+AR31*D19)/AL46,(V74+AR31*D19)/AM46,(V75+AR31*D19)/AN46,(V76+AR31*D19)/AO46)*AP46","v":{"$error":"#VALUE!"}},{"$f":"MIN((W72+AR31*D19)/AK46,(W73+AR31*D19)/AL46,(W74+AR31*D19)/AM46,(W75+AR31*D19)/AN46,(W76+AR31*D19)/AO46)*AP46","v":{"$error":"#VALUE!"}},{"$f":"MIN((X72+AR31*D19)/AK46,(X73+AR31*D19)/AL46,(X74+AR31*D19)/AM46,(X75+AR31*D19)/AN46,(X76+AR31*D19)/AO46)*AP46","v":{"$error":"#VALUE!"}},{"$f":"MIN((Y72+AR31*D19)/AK46,(Y73+AR31*D19)/AL46,(Y74+AR31*D19)/AM46,(Y75+AR31*D19)/AN46,(Y76+AR31*D19)/AO46)*AP46","v":{"$error":"#VALUE!"}},{"$f":"MIN((Z72+AR31*D19)/AK46,(Z73+AR31*D19)/AL46,(Z74+AR31*D19)/AM46,(Z75+AR31*D19)/AN46,(Z76+AR31*D19)/AO46)*AP46","v":{"$error":"#VALUE!"}},{"$f":"MIN((AA72+AR31*D19)/AK46,(AA73+AR31*D19)/AL46,(AA74+AR31*D19)/AM46,(AA75+AR31*D19)/AN46,(AA76+AR31*D19)/AO46)*AP46","v":{"$error":"#VALUE!"}},{"$f":"MIN((AB72+AR31*D19)/AK46,(AB73+AR31*D19)/AL46,(AB74+AR31*D19)/AM46,(AB75+AR31*D19)/AN46,(AB76+AR31*D19)/AO46)*AP46","v":{"$error":"#VALUE!"}},{"$f":"MIN((AC72+AR31*D19)/AK46,(AC73+AR31*D19)/AL46,(AC74+AR31*D19)/AM46,(AC75+AR31*D19)/AN46,(AC76+AR31*D19)/AO46)*AP46","v":{"$error":"#VALUE!"}},{"$f":"MIN((AD72+AR31*D19)/AK46,(AD73+AR31*D19)/AL46,(AD74+AR31*D19)/AM46,(AD75+AR31*D19)/AN46,(AD76+AR31*D19)/AO46)*AP46","v":{"$error":"#VALUE!"}},{"$f":"MIN((AE72+AR31*D19)/AK46,(AE73+AR31*D19)/AL46,(AE74+AR31*D19)/AM46,(AE75+AR31*D19)/AN46,(AE76+AR31*D19)/AO46)*AP46","v":{"$error":"#VALUE!"}},{"$f":"MIN((AF72+AR31*D19)/AK46,(AF73+AR31*D19)/AL46,(AF74+AR31*D19)/AM46,(AF75+AR31*D19)/AN46,(AF76+AR31*D19)/AO46)*AP46","v":{"$error":"#VALUE!"}},{"$error":"#VALUE!"},null,"",{"$f":"MIN((S72+AS31*D19)/AK47,(S73+AS31*D19)/AL47,(S74+AS31*D19)/AM47,(S75+AS31*D19)/AN47,(S76+AS31*D19)/AO47)*AP47","v":{"$error":"#VALUE!"}},{"$f":"MIN((T72+AS31*D19)/AK47,(T73+AS31*D19)/AL47,(T74+AS31*D19)/AM47,(T75+AS31*D19)/AN47,(T76+AS31*D19)/AO47)*AP47","v":{"$error":"#VALUE!"}},{"$f":"MIN((U72+AS31*D19)/AK47,(U73+AS31*D19)/AL47,(U74+AS31*D19)/AM47,(U75+AS31*D19)/AN47,(U76+AS31*D19)/AO47)*AP47","v":{"$error":"#VALUE!"}},{"$f":"MIN((V72+AS31*D19)/AK47,(V73+AS31*D19)/AL47,(V74+AS31*D19)/AM47,(V75+AS31*D19)/AN47,(V76+AS31*D19)/AO47)*AP47","v":{"$error":"#VALUE!"}},{"$f":"MIN((W72+AS31*D19)/AK47,(W73+AS31*D19)/AL47,(W74+AS31*D19)/AM47,(W75+AS31*D19)/AN47,(W76+AS31*D19)/AO47)*AP47","v":{"$error":"#VALUE!"}},{"$f":"MIN((X72+AS31*D19)/AK47,(X73+AS31*D19)/AL47,(X74+AS31*D19)/AM47,(X75+AS31*D19)/AN47,(X76+AS31*D19)/AO47)*AP47","v":{"$error":"#VALUE!"}},{"$f":"MIN((Y72+AS31*D19)/AK47,(Y73+AS31*D19)/AL47,(Y74+AS31*D19)/AM47,(Y75+AS31*D19)/AN47,(Y76+AS31*D19)/AO47)*AP47","v":{"$error":"#VALUE!"}},{"$f":"MIN((Z72+AS31*D19)/AK47,(Z73+AS31*D19)/AL47,(Z74+AS31*D19)/AM47,(Z75+AS31*D19)/AN47,(Z76+AS31*D19)/AO47)*AP47","v":{"$error":"#VALUE!"}},{"$f":"MIN((AA72+AS31*D19)/AK47,(AA73+AS31*D19)/AL47,(AA74+AS31*D19)/AM47,(AA75+AS31*D19)/AN47,(AA76+AS31*D19)/AO47)*AP47","v":{"$error":"#VALUE!"}},{"$f":"MIN((AB72+AS31*D19)/AK47,(AB73+AS31*D19)/AL47,(AB74+AS31*D19)/AM47,(AB75+AS31*D19)/AN47,(AB76+AS31*D19)/AO47)*AP47","v":{"$error":"#VALUE!"}},{"$f":"MIN((AC72+AS31*D19)/AK47,(AC73+AS31*D19)/AL47,(AC74+AS31*D19)/AM47,(AC75+AS31*D19)/AN47,(AC76+AS31*D19)/AO47)*AP47","v":{"$error":"#VALUE!"}},{"$f":"MIN((AD72+AS31*D19)/AK47,(AD73+AS31*D19)/AL47,(AD74+AS31*D19)/AM47,(AD75+AS31*D19)/AN47,(AD76+AS31*D19)/AO47)*AP47","v":{"$error":"#VALUE!"}},{"$f":"MIN((AE72+AS31*D19)/AK47,(AE73+AS31*D19)/AL47,(AE74+AS31*D19)/AM47,(AE75+AS31*D19)/AN47,(AE76+AS31*D19)/AO47)*AP47","v":{"$error":"#VALUE!"}},{"$f":"MIN((AF72+AS31*D19)/AK47,(AF73+AS31*D19)/AL47,(AF74+AS31*D19)/AM47,(AF75+AS31*D19)/AN47,(AF76+AS31*D19)/AO47)*AP47","v":{"$error":"#VALUE!"}},{"$error":"#VALUE!"}]
[null,null,null,null,null,null,null,null,null,null,null,null,null,null,null,null,null,null,null,null,null,null,null,null,null,null,null,null,null,null,null,null,null,null,null,"",{"$f":"MIN((S79+AR31*D19)/AK46,(S80+AR31*D19)/AL46,(S81+AR31*D19)/AM46,(S82+AR31*D19)/AN46,(S83+AR31*D19)/AO46)*AP46","v":{"$error":"#VALUE!"}},{"$f":"MIN((T79+AR31*D19)/AK46,(T80+AR31*D19)/AL46,(T81+AR31*D19)/AM46,(T82+AR31*D19)/AN46,(T83+AR31*D19)/AO46)*AP46","v":{"$error":"#VALUE!"}},{"$f":"MIN((U79+AR31*D19)/AK46,(U80+AR31*D19)/AL46,(U81+AR31*D19)/AM46,(U82+AR31*D19)/AN46,(U83+AR31*D19)/AO46)*AP46","v":{"$error":"#VALUE!"}},{"$f":"MIN((V79+AR31*D19)/AK46,(V80+AR31*D19)/AL46,(V81+AR31*D19)/AM46,(V82+AR31*D19)/AN46,(V83+AR31*D19)/AO46)*AP46","v":{"$error":"#VALUE!"}},{"$f":"MIN((W79+AR31*D19)/AK46,(W80+AR31*D19)/AL46,(W81+AR31*D19)/AM46,(W82+AR31*D19)/AN46,(W83+AR31*D19)/AO46)*AP46","v":{"$error":"#VALUE!"}},{"$f":"MIN((X79+AR31*D19)/AK46,(X80+AR31*D19)/AL46,(X81+AR31*D19)/AM46,(X82+AR31*D19)/AN46,(X83+AR31*D19)/AO46)*AP46","v":{"$error":"#VALUE!"}},{"$f":"MIN((Y79+AR31*D19)/AK46,(Y80+AR31*D19)/AL46,(Y81+AR31*D19)/AM46,(Y82+AR31*D19)/AN46,(Y83+AR31*D19)/AO46)*AP46","v":{"$error":"#VALUE!"}},{"$f":"MIN((Z79+AR31*D19)/AK46,(Z80+AR31*D19)/AL46,(Z81+AR31*D19)/AM46,(Z82+AR31*D19)/AN46,(Z83+AR31*D19)/AO46)*AP46","v":{"$error":"#VALUE!"}},{"$f":"MIN((AA79+AR31*D19)/AK46,(AA80+AR31*D19)/AL46,(AA81+AR31*D19)/AM46,(AA82+AR31*D19)/AN46,(AA83+AR31*D19)/AO46)*AP46","v":{"$error":"#VALUE!"}},{"$f":"MIN((AB79+AR31*D19)/AK46,(AB80+AR31*D19)/AL46,(AB81+AR31*D19)/AM46,(AB82+AR31*D19)/AN46,(AB83+AR31*D19)/AO46)*AP46","v":{"$error":"#VALUE!"}},{"$f":"MIN((AC79+AR31*D19)/AK46,(AC80+AR31*D19)/AL46,(AC81+AR31*D19)/AM46,(AC82+AR31*D19)/AN46,(AC83+AR31*D19)/AO46)*AP46","v":{"$error":"#VALUE!"}},{"$f":"MIN((AD79+AR31*D19)/AK46,(AD80+AR31*D19)/AL46,(AD81+AR31*D19)/AM46,(AD82+AR31*D19)/AN46,(AD83+AR31*D19)/AO46)*AP46","v":{"$error":"#VALUE!"}},{"$f":"MIN((AE79+AR31*D19)/AK46,(AE80+AR31*D19)/AL46,(AE81+AR31*D19)/AM46,(AE82+AR31*D19)/AN46,(AE83+AR31*D19)/AO46)*AP46","v":{"$error":"#VALUE!"}},{"$f":"MIN((AF79+AR31*D19)/AK46,(AF80+AR31*D19)/AL46,(AF81+AR31*D19)/AM46,(AF82+AR31*D19)/AN46,(AF83+AR31*D19)/AO46)*AP46","v":{"$error":"#VALUE!"}},{"$error":"#VALUE!"},null,"",{"$f":"MIN((S79+AS31*D19)/AK47,(S80+AS31*D19)/AL47,(S81+AS31*D19)/AM47,(S82+AS31*D19)/AN47,(S83+AS31*D19)/AO47)*AP47","v":{"$error":"#VALUE!"}},{"$f":"MIN((T79+AS31*D19)/AK47,(T80+AS31*D19)/AL47,(T81+AS31*D19)/AM47,(T82+AS31*D19)/AN47,(T83+AS31*D19)/AO47)*AP47","v":{"$error":"#VALUE!"}},{"$f":"MIN((U79+AS31*D19)/AK47,(U80+AS31*D19)/AL47,(U81+AS31*D19)/AM47,(U82+AS31*D19)/AN47,(U83+AS31*D19)/AO47)*AP47","v":{"$error":"#VALUE!"}},{"$f":"MIN((V79+AS31*D19)/AK47,(V80+AS31*D19)/AL47,(V81+AS31*D19)/AM47,(V82+AS31*D19)/AN47,(V83+AS31*D19)/AO47)*AP47","v":{"$error":"#VALUE!"}},{"$f":"MIN((W79+AS31*D19)/AK47,(W80+AS31*D19)/AL47,(W81+AS31*D19)/AM47,(W82+AS31*D19)/AN47,(W83+AS31*D19)/AO47)*AP47","v":{"$error":"#VALUE!"}},{"$f":"MIN((X79+AS31*D19)/AK47,(X80+AS31*D19)/AL47,(X81+AS31*D19)/AM47,(X82+AS31*D19)/AN47,(X83+AS31*D19)/AO47)*AP47","v":{"$error":"#VALUE!"}},{"$f":"MIN((Y79+AS31*D19)/AK47,(Y80+AS31*D19)/AL47,(Y81+AS31*D19)/AM47,(Y82+AS31*D19)/AN47,(Y83+AS31*D19)/AO47)*AP47","v":{"$error":"#VALUE!"}},{"$f":"MIN((Z79+AS31*D19)/AK47,(Z80+AS31*D19)/AL47,(Z81+AS31*D19)/AM47,(Z82+AS31*D19)/AN47,(Z83+AS31*D19)/AO47)*AP47","v":{"$error":"#VALUE!"}},{"$f":"MIN((AA79+AS31*D19)/AK47,(AA80+AS31*D19)/AL47,(AA81+AS31*D19)/AM47,(AA82+AS31*D19)/AN47,(AA83+AS31*D19)/AO47)*AP47","v":{"$error":"#VALUE!"}},{"$f":"MIN((AB79+AS31*D19)/AK47,(AB80+AS31*D19)/AL47,(AB81+AS31*D19)/AM47,(AB82+AS31*D19)/AN47,(AB83+AS31*D19)/AO47)*AP47","v":{"$error":"#VALUE!"}},{"$f":"MIN((AC79+AS31*D19)/AK47,(AC80+AS31*D19)/AL47,(AC81+AS31*D19)/AM47,(AC82+AS31*D19)/AN47,(AC83+AS31*D19)/AO47)*AP47","v":{"$error":"#VALUE!"}},{"$f":"MIN((AD79+AS31*D19)/AK47,(AD80+AS31*D19)/AL47,(AD81+AS31*D19)/AM47,(AD82+AS31*D19)/AN47,(AD83+AS31*D19)/AO47)*AP47","v":{"$error":"#VALUE!"}},{"$f":"MIN((AE79+AS31*D19)/AK47,(AE80+AS31*D19)/AL47,(AE81+AS31*D19)/AM47,(AE82+AS31*D19)/AN47,(AE83+AS31*D19)/AO47)*AP47","v":{"$error":"#VALUE!"}},{"$f":"MIN((AF79+AS31*D19)/AK47,(AF80+AS31*D19)/AL47,(AF81+AS31*D19)/AM47,(AF82+AS31*D19)/AN47,(AF83+AS31*D19)/AO47)*AP47","v":{"$error":"#VALUE!"}},{"$error":"#VALUE!"}]
[null,null,null,null,null,null,null,null,null,null,null,null,null,null,null,null,null,{"$f":"G24","v":""},{"$f":"S141","v":"kit 1"},{"$f":"T141","v":"kit 2A"},"kit 2B","kit 4A","kit 4B","kit 5","kit 6A","kit 6B","kit 7","kit 8","kit 9A","kit 9B",{"$f":"AE141","v":"kit 10"},{"$f":"AF141","v":"kit 11"},null,null,null,"",{"$f":"MIN((S86+AR31*D19)/AK46,(S87+AR31*D19)/AL46,(S88+AR31*D19)/AM46,(S89+AR31*D19)/AN46,(S90+AR31*D19)/AO46)*AP46","v":{"$error":"#VALUE!"}},{"$f":"MIN((T86+AR31*D19)/AK46,(T87+AR31*D19)/AL46,(T88+AR31*D19)/AM46,(T89+AR31*D19)/AN46,(T90+AR31*D19)/AO46)*AP46","v":{"$error":"#VALUE!"}},{"$f":"MIN((U86+AR31*D19)/AK46,(U87+AR31*D19)/AL46,(U88+AR31*D19)/AM46,(U89+AR31*D19)/AN46,(U90+AR31*D19)/AO46)*AP46","v":{"$error":"#VALUE!"}},{"$f":"MIN((V86+AR31*D19)/AK46,(V87+AR31*D19)/AL46,(V88+AR31*D19)/AM46,(V89+AR31*D19)/AN46,(V90+AR31*D19)/AO46)*AP46","v":{"$error":"#VALUE!"}},{"$f":"MIN((W86+AR31*D19)/AK46,(W87+AR31*D19)/AL46,(W88+AR31*D19)/AM46,(W89+AR31*D19)/AN46,(W90+AR31*D19)/AO46)*AP46","v":{"$error":"#VALUE!"}},{"$f":"MIN((X86+AR31*D19)/AK46,(X87+AR31*D19)/AL46,(X88+AR31*D19)/AM46,(X89+AR31*D19)/AN46,(X90+AR31*D19)/AO46)*AP46","v":{"$error":"#VALUE!"}},{"$f":"MIN((Y86+AR31*D19)/AK46,(Y87+AR31*D19)/AL46,(Y88+AR31*D19)/AM46,(Y89+AR31*D19)/AN46,(Y90+AR31*D19)/AO46)*AP46","v":{"$error":"#VALUE!"}},{"$f":"MIN((Z86+AR31*D19)/AK46,(Z87+AR31*D19)/AL46,(Z88+AR31*D19)/AM46,(Z89+AR31*D19)/AN46,(Z90+AR31*D19)/AO46)*AP46","v":{"$error":"#VALUE!"}},{"$f":"MIN((AA86+AR31*D19)/AK46,(AA87+AR31*D19)/AL46,(AA88+AR31*D19)/AM46,(AA89+AR31*D19)/AN46,(AA90+AR31*D19)/AO46)*AP46","v":{"$error":"#VALUE!"}},{"$f":"MIN((AB86+AR31*D19)/AK46,(AB87+AR31*D19)/AL46,(AB88+AR31*D19)/AM46,(AB89+AR31*D19)/AN46,(AB90+AR31*D19)/AO46)*AP46","v":{"$error":"#VALUE!"}},{"$f":"MIN((AC86+AR31*D19)/AK46,(AC87+AR31*D19)/AL46,(AC88+AR31*D19)/AM46,(AC89+AR31*D19)/AN46,(AC90+AR31*D19)/AO46)*AP46","v":{"$error":"#VALUE!"}},{"$f":"MIN((AD86+AR31*D19)/AK46,(AD87+AR31*D19)/AL46,(AD88+AR31*D19)/AM46,(AD89+AR31*D19)/AN46,(AD90+AR31*D19)/AO46)*AP46","v":{"$error":"#VALUE!"}},{"$f":"MIN((AE86+AR31*D19)/AK46,(AE87+AR31*D19)/AL46,(AE88+AR31*D19)/AM46,(AE89+AR31*D19)/AN46,(AE90+AR31*D19)/AO46)*AP46","v":{"$error":"#VALUE!"}},{"$f":"MIN((AF86+AR31*D19)/AK46,(AF87+AR31*D19)/AL46,(AF88+AR31*D19)/AM46,(AF89+AR31*D19)/AN46,(AF90+AR31*D19)/AO46)*AP46","v":{"$error":"#VALUE!"}},{"$error":"#VALUE!"},null,"",{"$f":"MIN((S86+AS31*D19)/AK47,(S87+AS31*D19)/AL47,(S88+AS31*D19)/AM47,(S89+AS31*D19)/AN47,(S90+AS31*D19)/AO47)*AP47","v":{"$error":"#VALUE!"}},{"$f":"MIN((T86+AS31*D19)/AK47,(T87+AS31*D19)/AL47,(T88+AS31*D19)/AM47,(T89+AS31*D19)/AN47,(T90+AS31*D19)/AO47)*AP47","v":{"$error":"#VALUE!"}},{"$f":"MIN((U86+AS31*D19)/AK47,(U87+AS31*D19)/AL47,(U88+AS31*D19)/AM47,(U89+AS31*D19)/AN47,(U90+AS31*D19)/AO47)*AP47","v":{"$error":"#VALUE!"}},{"$f":"MIN((V86+AS31*D19)/AK47,(V87+AS31*D19)/AL47,(V88+AS31*D19)/AM47,(V89+AS31*D19)/AN47,(V90+AS31*D19)/AO47)*AP47","v":{"$error":"#VALUE!"}},{"$f":"MIN((W86+AS31*D19)/AK47,(W87+AS31*D19)/AL47,(W88+AS31*D19)/AM47,(W89+AS31*D19)/AN47,(W90+AS31*D19)/AO47)*AP47","v":{"$error":"#VALUE!"}},{"$f":"MIN((X86+AS31*D19)/AK47,(X87+AS31*D19)/AL47,(X88+AS31*D19)/AM47,(X89+AS31*D19)/AN47,(X90+AS31*D19)/AO47)*AP47","v":{"$error":"#VALUE!"}},{"$f":"MIN((Y86+AS31*D19)/AK47,(Y87+AS31*D19)/AL47,(Y88+AS31*D19)/AM47,(Y89+AS31*D19)/AN47,(Y90+AS31*D19)/AO47)*AP47","v":{"$error":"#VALUE!"}},{"$f":"MIN((Z86+AS31*D19)/AK47,(Z87+AS31*D19)/AL47,(Z88+AS31*D19)/AM47,(Z89+AS31*D19)/AN47,(Z90+AS31*D19)/AO47)*AP47","v":{"$error":"#VALUE!"}},{"$f":"MIN((AA86+AS31*D19)/AK47,(AA87+AS31*D19)/AL47,(AA88+AS31*D19)/AM47,(AA89+AS31*D19)/AN47,(AA90+AS31*D19)/AO47)*AP47","v":{"$error":"#VALUE!"}},{"$f":"MIN((AB86+AS31*D19)/AK47,(AB87+AS31*D19)/AL47,(AB88+AS31*D19)/AM47,(AB89+AS31*D19)/AN47,(AB90+AS31*D19)/AO47)*AP47","v":{"$error":"#VALUE!"}},{"$f":"MIN((AC86+AS31*D19)/AK47,(AC87+AS31*D19)/AL47,(AC88+AS31*D19)/AM47,(AC89+AS31*D19)/AN47,(AC90+AS31*D19)/AO47)*AP47","v":{"$error":"#VALUE!"}},{"$f":"MIN((AD86+AS31*D19)/AK47,(AD87+AS31*D19)/AL47,(AD88+AS31*D19)/AM47,(AD89+AS31*D19)/AN47,(AD90+AS31*D19)/AO47)*AP47","v":{"$error":"#VALUE!"}},{"$f":"MIN((AE86+AS31*D19)/AK47,(AE87+AS31*D19)/AL47,(AE88+AS31*D19)/AM47,(AE89+AS31*D19)/AN47,(AE90+AS31*D19)/AO47)*AP47","v":{"$error":"#VALUE!"}},{"$f":"MIN((AF86+AS31*D19)/AK47,(AF87+AS31*D19)/AL47,(AF88+AS31*D19)/AM47,(AF89+AS31*D19)/AN47,(AF90+AS31*D19)/AO47)*AP47","v":{"$error":"#VALUE!"}},{"$error":"#VALUE!"}]
[null,null,null,null,null,null,null,null,null,null,null,null,null,null,null,null,null,{"$f":"H24+AH39+D16+D17+D21+D19*AG21","v":{"$error":"#VALUE!"}},{"$f":"R149+Q10","v":{"$error":"#VALUE!"}},{"$f":"R149+R10","v":{"$error":"#VALUE!"}},{"$f":"R149+S10","v":{"$error":"#VALUE!"}},{"$f":"R149+T10","v":{"$error":"#VALUE!"}},{"$f":"R149+U10","v":{"$error":"#VALUE!"}},{"$f":"R149+V10","v":{"$error":"#VALUE!"}},{"$f":"R149+W10","v":{"$error":"#VALUE!"}},{"$f":"R149+X10","v":{"$error":"#VALUE!"}},{"$f":"R149+Y10","v":{"$error":"#VALUE!"}},{"$f":"R149+Z10","v":{"$error":"#VALUE!"}},{"$f":"R149+AA10","v":{"$error":"#VALUE!"}},{"$f":"R149+AB10","v":{"$error":"#VALUE!"}},{"$f":"R149+AC10","v":{"$error":"#VALUE!"}},{"$f":"R149+AD10","v":{"$error":"#VALUE!"}},null,null,null,"",{"$f":"MIN((S93+AR31*D19)/AK46,(S94+AR31*D19)/AL46,(S95+AR31*D19)/AM46,(S96+AR31*D19)/AN46,(S97+AR31*D19)/AO46)*AP46","v":{"$error":"#VALUE!"}},{"$f":"MIN((T93+AR31*D19)/AK46,(T94+AR31*D19)/AL46,(T95+AR31*D19)/AM46,(T96+AR31*D19)/AN46,(T97+AR31*D19)/AO46)*AP46","v":{"$error":"#VALUE!"}},{"$f":"MIN((U93+AR31*D19)/AK46,(U94+AR31*D19)/AL46,(U95+AR31*D19)/AM46,(U96+AR31*D19)/AN46,(U97+AR31*D19)/AO46)*AP46","v":{"$error":"#VALUE!"}},{"$f":"MIN((V93+AR31*D19)/AK46,(V94+AR31*D19)/AL46,(V95+AR31*D19)/AM46,(V96+AR31*D19)/AN46,(V97+AR31*D19)/AO46)*AP46","v":{"$error":"#VALUE!"}},{"$f":"MIN((W93+AR31*D19)/AK46,(W94+AR31*D19)/AL46,(W95+AR31*D19)/AM46,(W96+AR31*D19)/AN46,(W97+AR31*D19)/AO46)*AP46","v":{"$error":"#VALUE!"}},{"$f":"MIN((X93+AR31*D19)/AK46,(X94+AR31*D19)/AL46,(X95+AR31*D19)/AM46,(X96+AR31*D19)/AN46,(X97+AR31*D19)/AO46)*AP46","v":{"$error":"#VALUE!"}},{"$f":"MIN((Y93+AR31*D19)/AK46,(Y94+AR31*D19)/AL46,(Y95+AR31*D19)/AM46,(Y96+AR31*D19)/AN46,(Y97+AR31*D19)/AO46)*AP46","v":{"$error":"#VALUE!"}},{"$f":"MIN((Z93+AR31*D19)/AK46,(Z94+AR31*D19)/AL46,(Z95+AR31*D19)/AM46,(Z96+AR31*D19)/AN46,(Z97+AR31*D19)/AO46)*AP46","v":{"$error":"#VALUE!"}},{"$f":"MIN((AA93+AR31*D19)/AK46,(AA94+AR31*D19)/AL46,(AA95+AR31*D19)/AM46,(AA96+AR31*D19)/AN46,(AA97+AR31*D19)/AO46)*AP46","v":{"$error":"#VALUE!"}},{"$f":"MIN((AB93+AR31*D19)/AK46,(AB94+AR31*D19)/AL46,(AB95+AR31*D19)/AM46,(AB96+AR31*D19)/AN46,(AB97+AR31*D19)/AO46)*AP46","v":{"$error":"#VALUE!"}},{"$f":"MIN((AC93+AR31*D19)/AK46,(AC94+AR31*D19)/AL46,(AC95+AR31*D19)/AM46,(AC96+AR31*D19)/AN46,(AC97+AR31*D19)/AO46)*AP46","v":{"$error":"#VALUE!"}},{"$f":"MIN((AD93+AR31*D19)/AK46,(AD94+AR31*D19)/AL46,(AD95+AR31*D19)/AM46,(AD96+AR31*D19)/AN46,(AD97+AR31*D19)/AO46)*AP46","v":{"$error":"#VALUE!"}},{"$f":"MIN((AE93+AR31*D19)/AK46,(AE94+AR31*D19)/AL46,(AE95+AR31*D19)/AM46,(AE96+AR31*D19)/AN46,(AE97+AR31*D19)/AO46)*AP46","v":{"$error":"#VALUE!"}},{"$f":"MIN((AF93+AR31*D19)/AK46,(AF94+AR31*D19)/AL46,(AF95+AR31*D19)/AM46,(AF96+AR31*D19)/AN46,(AF97+AR31*D19)/AO46)*AP46","v":{"$error":"#VALUE!"}},{"$error":"#VALUE!"},null,"",{"$f":"MIN((S93+AS31*D19)/AK47,(S94+AS31*D19)/AL47,(S95+AS31*D19)/AM47,(S96+AS31*D19)/AN47,(S97+AS31*D19)/AO47)*AP47","v":{"$error":"#VALUE!"}},{"$f":"MIN((T93+AS31*D19)/AK47,(T94+AS31*D19)/AL47,(T95+AS31*D19)/AM47,(T96+AS31*D19)/AN47,(T97+AS31*D19)/AO47)*AP47","v":{"$error":"#VALUE!"}},{"$f":"MIN((U93+AS31*D19)/AK47,(U94+AS31*D19)/AL47,(U95+AS31*D19)/AM47,(U96+AS31*D19)/AN47,(U97+AS31*D19)/AO47)*AP47","v":{"$error":"#VALUE!"}},{"$f":"MIN((V93+AS31*D19)/AK47,(V94+AS31*D19)/AL47,(V95+AS31*D19)/AM47,(V96+AS31*D19)/AN47,(V97+AS31*D19)/AO47)*AP47","v":{"$error":"#VALUE!"}},{"$f":"MIN((W93+AS31*D19)/AK47,(W94+AS31*D19)/AL47,(W95+AS31*D19)/AM47,(W96+AS31*D19)/AN47,(W97+AS31*D19)/AO47)*AP47","v":{"$error":"#VALUE!"}},{"$f":"MIN((X93+AS31*D19)/AK47,(X94+AS31*D19)/AL47,(X95+AS31*D19)/AM47,(X96+AS31*D19)/AN47,(X97+AS31*D19)/AO47)*AP47","v":{"$error":"#VALUE!"}},{"$f":"MIN((Y93+AS31*D19)/AK47,(Y94+AS31*D19)/AL47,(Y95+AS31*D19)/AM47,(Y96+AS31*D19)/AN47,(Y97+AS31*D19)/AO47)*AP47","v":{"$error":"#VALUE!"}},{"$f":"MIN((Z93+AS31*D19)/AK47,(Z94+AS31*D19)/AL47,(Z95+AS31*D19)/AM47,(Z96+AS31*D19)/AN47,(Z97+AS31*D19)/AO47)*AP47","v":{"$error":"#VALUE!"}},{"$f":"MIN((AA93+AS31*D19)/AK47,(AA94+AS31*D19)/AL47,(AA95+AS31*D19)/AM47,(AA96+AS31*D19)/AN47,(AA97+AS31*D19)/AO47)*AP47","v":{"$error":"#VALUE!"}},{"$f":"MIN((AB93+AS31*D19)/AK47,(AB94+AS31*D19)/AL47,(AB95+AS31*D19)/AM47,(AB96+AS31*D19)/AN47,(AB97+AS31*D19)/AO47)*AP47","v":{"$error":"#VALUE!"}},{"$f":"MIN((AC93+AS31*D19)/AK47,(AC94+AS31*D19)/AL47,(AC95+AS31*D19)/AM47,(AC96+AS31*D19)/AN47,(AC97+AS31*D19)/AO47)*AP47","v":{"$error":"#VALUE!"}},{"$f":"MIN((AD93+AS31*D19)/AK47,(AD94+AS31*D19)/AL47,(AD95+AS31*D19)/AM47,(AD96+AS31*D19)/AN47,(AD97+AS31*D19)/AO47)*AP47","v":{"$error":"#VALUE!"}},{"$f":"MIN((AE93+AS31*D19)/AK47,(AE94+AS31*D19)/AL47,(AE95+AS31*D19)/AM47,(AE96+AS31*D19)/AN47,(AE97+AS31*D19)/AO47)*AP47","v":{"$error":"#VALUE!"}},{"$f":"MIN((AF93+AS31*D19)/AK47,(AF94+AS31*D19)/AL47,(AF95+AS31*D19)/AM47,(AF96+AS31*D19)/AN47,(AF97+AS31*D19)/AO47)*AP47","v":{"$error":"#VALUE!"}},{"$error":"#VALUE!"}]
[null,null,null,null,null,null,null,null,null,null,null,null,null,null,null,null,null,{"$f":"I24+AH40+D15+D17+D21+D19*AG21","v":{"$error":"#VALUE!"}},{"$f":"R150+Q11","v":{"$error":"#VALUE!"}},{"$f":"R150+R11","v":{"$error":"#VALUE!"}},{"$f":"R150+S11","v":{"$error":"#VALUE!"}},{"$f":"R150+T11","v":{"$error":"#VALUE!"}},{"$f":"R150+U11","v":{"$error":"#VALUE!"}},{"$f":"R150+V11","v":{"$error":"#VALUE!"}},{"$f":"R150+W11","v":{"$error":"#VALUE!"}},{"$f":"R150+X11","v":{"$error":"#VALUE!"}},{"$f":"R150+Y11","v":{"$error":"#VALUE!"}},{"$f":"R150+Z11","v":{"$error":"#VALUE!"}},{"$f":"R150+AA11","v":{"$error":"#VALUE!"}},{"$f":"R150+AB11","v":{"$error":"#VALUE!"}},{"$f":"R150+AC11","v":{"$error":"#VALUE!"}},{"$f":"R150+AD11","v":{"$error":"#VALUE!"}},null,null,null,"",{"$f":"MIN((S100+AR31*D19)/AK46,(S101+AR31*D19)/AL46,(S102+AR31*D19)/AM46,(S103+AR31*D19)/AN46,(S104+AR31*D19)/AO46)*AP46","v":{"$error":"#VALUE!"}},{"$f":"MIN((T100+AR31*D19)/AK46,(T101+AR31*D19)/AL46,(T102+AR31*D19)/AM46,(T103+AR31*D19)/AN46,(T104+AR31*D19)/AO46)*AP46","v":{"$error":"#VALUE!"}},{"$f":"MIN((U100+AR31*D19)/AK46,(U101+AR31*D19)/AL46,(U102+AR31*D19)/AM46,(U103+AR31*D19)/AN46,(U104+AR31*D19)/AO46)*AP46","v":{"$error":"#VALUE!"}},{"$f":"MIN((V100+AR31*D19)/AK46,(V101+AR31*D19)/AL46,(V102+AR31*D19)/AM46,(V103+AR31*D19)/AN46,(V104+AR31*D19)/AO46)*AP46","v":{"$error":"#VALUE!"}},{"$f":"MIN((W100+AR31*D19)/AK46,(W101+AR31*D19)/AL46,(W102+AR31*D19)/AM46,(W103+AR31*D19)/AN46,(W104+AR31*D19)/AO46)*AP46","v":{"$error":"#VALUE!"}},{"$f":"MIN((X100+AR31*D19)/AK46,(X101+AR31*D19)/AL46,(X102+AR31*D19)/AM46,(X103+AR31*D19)/AN46,(X104+AR31*D19)/AO46)*AP46","v":{"$error":"#VALUE!"}},{"$f":"MIN((Y100+AR31*D19)/AK46,(Y101+AR31*D19)/AL46,(Y102+AR31*D19)/AM46,(Y103+AR31*D19)/AN46,(Y104+AR31*D19)/AO46)*AP46","v":{"$error":"#VALUE!"}},{"$f":"MIN((Z100+AR31*D19)/AK46,(Z101+AR31*D19)/AL46,(Z102+AR31*D19)/AM46,(Z103+AR31*D19)/AN46,(Z104+AR31*D19)/AO46)*AP46","v":{"$error":"#VALUE!"}},{"$f":"MIN((AA100+AR31*D19)/AK46,(AA101+AR31*D19)/AL46,(AA102+AR31*D19)/AM46,(AA103+AR31*D19)/AN46,(AA104+AR31*D19)/AO46)*AP46","v":{"$error":"#VALUE!"}},{"$f":"MIN((AB100+AR31*D19)/AK46,(AB101+AR31*D19)/AL46,(AB102+AR31*D19)/AM46,(AB103+AR31*D19)/AN46,(AB104+AR31*D19)/AO46)*AP46","v":{"$error":"#VALUE!"}},{"$f":"MIN((AC100+AR31*D19)/AK46,(AC101+AR31*D19)/AL46,(AC102+AR31*D19)/AM46,(AC103+AR31*D19)/AN46,(AC104+AR31*D19)/AO46)*AP46","v":{"$error":"#VALUE!"}},{"$f":"MIN((AD100+AR31*D19)/AK46,(AD101+AR31*D19)/AL46,(AD102+AR31*D19)/AM46,(AD103+AR31*D19)/AN46,(AD104+AR31*D19)/AO46)*AP46","v":{"$error":"#VALUE!"}},{"$f":"MIN((AE100+AR31*D19)/AK46,(AE101+AR31*D19)/AL46,(AE102+AR31*D19)/AM46,(AE103+AR31*D19)/AN46,(AE104+AR31*D19)/AO46)*AP46","v":{"$error":"#VALUE!"}},{"$f":"MIN((AF100+AR31*D19)/AK46,(AF101+AR31*D19)/AL46,(AF102+AR31*D19)/AM46,(AF103+AR31*D19)/AN46,(AF104+AR31*D19)/AO46)*AP46","v":{"$error":"#VALUE!"}},{"$error":"#VALUE!"},null,"",{"$f":"MIN((S100+AS31*D19)/AK47,(S101+AS31*D19)/AL47,(S102+AS31*D19)/AM47,(S103+AS31*D19)/AN47,(S104+AS31*D19)/AO47)*AP47","v":{"$error":"#VALUE!"}},{"$f":"MIN((T100+AS31*D19)/AK47,(T101+AS31*D19)/AL47,(T102+AS31*D19)/AM47,(T103+AS31*D19)/AN47,(T104+AS31*D19)/AO47)*AP47","v":{"$error":"#VALUE!"}},{"$f":"MIN((U100+AS31*D19)/AK47,(U101+AS31*D19)/AL47,(U102+AS31*D19)/AM47,(U103+AS31*D19)/AN47,(U104+AS31*D19)/AO47)*AP47","v":{"$error":"#VALUE!"}},{"$f":"MIN((V100+AS31*D19)/AK47,(V101+AS31*D19)/AL47,(V102+AS31*D19)/AM47,(V103+AS31*D19)/AN47,(V104+AS31*D19)/AO47)*AP47","v":{"$error":"#VALUE!"}},{"$f":"MIN((W100+AS31*D19)/AK47,(W101+AS31*D19)/AL47,(W102+AS31*D19)/AM47,(W103+AS31*D19)/AN47,(W104+AS31*D19)/AO47)*AP47","v":{"$error":"#VALUE!"}},{"$f":"MIN((X100+AS31*D19)/AK47,(X101+AS31*D19)/AL47,(X102+AS31*D19)/AM47,(X103+AS31*D19)/AN47,(X104+AS31*D19)/AO47)*AP47","v":{"$error":"#VALUE!"}},{"$f":"MIN((Y100+AS31*D19)/AK47,(Y101+AS31*D19)/AL47,(Y102+AS31*D19)/AM47,(Y103+AS31*D19)/AN47,(Y104+AS31*D19)/AO47)*AP47","v":{"$error":"#VALUE!"}},{"$f":"MIN((Z100+AS31*D19)/AK47,(Z101+AS31*D19)/AL47,(Z102+AS31*D19)/AM47,(Z103+AS31*D19)/AN47,(Z104+AS31*D19)/AO47)*AP47","v":{"$error":"#VALUE!"}},{"$f":"MIN((AA100+AS31*D19)/AK47,(AA101+AS31*D19)/AL47,(AA102+AS31*D19)/AM47,(AA103+AS31*D19)/AN47,(AA104+AS31*D19)/AO47)*AP47","v":{"$error":"#VALUE!"}},{"$f":"MIN((AB100+AS31*D19)/AK47,(AB101+AS31*D19)/AL47,(AB102+AS31*D19)/AM47,(AB103+AS31*D19)/AN47,(AB104+AS31*D19)/AO47)*AP47","v":{"$error":"#VALUE!"}},{"$f":"MIN((AC100+AS31*D19)/AK47,(AC101+AS31*D19)/AL47,(AC102+AS31*D19)/AM47,(AC103+AS31*D19)/AN47,(AC104+AS31*D19)/AO47)*AP47","v":{"$error":"#VALUE!"}},{"$f":"MIN((AD100+AS31*D19)/AK47,(AD101+AS31*D19)/AL47,(AD102+AS31*D19)/AM47,(AD103+AS31*D19)/AN47,(AD104+AS31*D19)/AO47)*AP47","v":{"$error":"#VALUE!"}},{"$f":"MIN((AE100+AS31*D19)/AK47,(AE101+AS31*D19)/AL47,(AE102+AS31*D19)/AM47,(AE103+AS31*D19)/AN47,(AE104+AS31*D19)/AO47)*AP47","v":{"$error":"#VALUE!"}},{"$f":"MIN((AF100+AS31*D19)/AK47,(AF101+AS31*D19)/AL47,(AF102+AS31*D19)/AM47,(AF103+AS31*D19)/AN47,(AF104+AS31*D19)/AO47)*AP47","v":{"$error":"#VALUE!"}},{"$error":"#VALUE!"}]
[null,null,null,null,null,null,null,null,null,null,null,null,null,null,null,null,null,{"$f":"J24+AH41+D15+D17+D21+D19*AG21","v":{"$error":"#VALUE!"}},{"$f":"R151+Q12","v":{"$error":"#VALUE!"}},{"$f":"R151+R12","v":{"$error":"#VALUE!"}},{"$f":"R151+S12","v":{"$error":"#VALUE!"}},{"$f":"R151+T12","v":{"$error":"#VALUE!"}},{"$f":"R151+U12","v":{"$error":"#VALUE!"}},{"$f":"R151+V12","v":{"$error":"#VALUE!"}},{"$f":"R151+W12","v":{"$error":"#VALUE!"}},{"$f":"R151+X12","v":{"$error":"#VALUE!"}},{"$f":"R151+Y12","v":{"$error":"#VALUE!"}},{"$f":"R151+Z12","v":{"$error":"#VALUE!"}},{"$f":"R151+AA12","v":{"$error":"#VALUE!"}},{"$f":"R151+AB12","v":{"$error":"#VALUE!"}},{"$f":"R151+AC12","v":{"$error":"#VALUE!"}},{"$f":"R151+AD12","v":{"$error":"#VALUE!"}},null,null,null,"",{"$f":"MIN((S107+AR31*D19)/AK46,(S108+AR31*D19)/AL46,(S109+AR31*D19)/AM46,(S110+AR31*D19)/AN46,(S111+AR31*D19)/AO46)*AP46","v":{"$error":"#VALUE!"}},{"$f":"MIN((T107+AR31*D19)/AK46,(T108+AR31*D19)/AL46,(T109+AR31*D19)/AM46,(T110+AR31*D19)/AN46,(T111+AR31*D19)/AO46)*AP46","v":{"$error":"#VALUE!"}},{"$f":"MIN((U107+AR31*D19)/AK46,(U108+AR31*D19)/AL46,(U109+AR31*D19)/AM46,(U110+AR31*D19)/AN46,(U111+AR31*D19)/AO46)*AP46","v":{"$error":"#VALUE!"}},{"$f":"MIN((V107+AR31*D19)/AK46,(V108+AR31*D19)/AL46,(V109+AR31*D19)/AM46,(V110+AR31*D19)/AN46,(V111+AR31*D19)/AO46)*AP46","v":{"$error":"#VALUE!"}},{"$f":"MIN((W107+AR31*D19)/AK46,(W108+AR31*D19)/AL46,(W109+AR31*D19)/AM46,(W110+AR31*D19)/AN46,(W111+AR31*D19)/AO46)*AP46","v":{"$error":"#VALUE!"}},{"$f":"MIN((X107+AR31*D19)/AK46,(X108+AR31*D19)/AL46,(X109+AR31*D19)/AM46,(X110+AR31*D19)/AN46,(X111+AR31*D19)/AO46)*AP46","v":{"$error":"#VALUE!"}},{"$f":"MIN((Y107+AR31*D19)/AK46,(Y108+AR31*D19)/AL46,(Y109+AR31*D19)/AM46,(Y110+AR31*D19)/AN46,(Y111+AR31*D19)/AO46)*AP46","v":{"$error":"#VALUE!"}},{"$f":"MIN((Z107+AR31*D19)/AK46,(Z108+AR31*D19)/AL46,(Z109+AR31*D19)/AM46,(Z110+AR31*D19)/AN46,(Z111+AR31*D19)/AO46)*AP46","v":{"$error":"#VALUE!"}},{"$f":"MIN((AA107+AR31*D19)/AK46,(AA108+AR31*D19)/AL46,(AA109+AR31*D19)/AM46,(AA110+AR31*D19)/AN46,(AA111+AR31*D19)/AO46)*AP46","v":{"$error":"#VALUE!"}},{"$f":"MIN((AB107+AR31*D19)/AK46,(AB108+AR31*D19)/AL46,(AB109+AR31*D19)/AM46,(AB110+AR31*D19)/AN46,(AB111+AR31*D19)/AO46)*AP46","v":{"$error":"#VALUE!"}},{"$f":"MIN((AC107+AR31*D19)/AK46,(AC108+AR31*D19)/AL46,(AC109+AR31*D19)/AM46,(AC110+AR31*D19)/AN46,(AC111+AR31*D19)/AO46)*AP46","v":{"$error":"#VALUE!"}},{"$f":"MIN((AD107+AR31*D19)/AK46,(AD108+AR31*D19)/AL46,(AD109+AR31*D19)/AM46,(AD110+AR31*D19)/AN46,(AD111+AR31*D19)/AO46)*AP46","v":{"$error":"#VALUE!"}},{"$f":"MIN((AE107+AR31*D19)/AK46,(AE108+AR31*D19)/AL46,(AE109+AR31*D19)/AM46,(AG4+AR31*D19)/AN46,(AE111+AR31*D19)/AO46)*AP46","v":{"$error":"#VALUE!"}},{"$f":"MIN((AF107+AR31*D19)/AK46,(AF108+AR31*D19)/AL46,(AF109+AR31*D19)/AM46,(AF110+AR31*D19)/AN46,(AF111+AR31*D19)/AO46)*AP46","v":{"$error":"#VALUE!"}},{"$error":"#VALUE!"},null,"",{"$f":"MIN((S107+AS31*D19)/AK47,(S108+AS31*D19)/AL47,(S109+AS31*D19)/AM47,(S110+AS31*D19)/AN47,(S111+AS31*D19)/AO47)*AP47","v":{"$error":"#VALUE!"}},{"$f":"MIN((T107+AS31*D19)/AK47,(T108+AS31*D19)/AL47,(T109+AS31*D19)/AM47,(T110+AS31*D19)/AN47,(T111+AS31*D19)/AO47)*AP47","v":{"$error":"#VALUE!"}},{"$f":"MIN((U107+AS31*D19)/AK47,(U108+AS31*D19)/AL47,(U109+AS31*D19)/AM47,(U110+AS31*D19)/AN47,(U111+AS31*D19)/AO47)*AP47","v":{"$error":"#VALUE!"}},{"$f":"MIN((V107+AS31*D19)/AK47,(V108+AS31*D19)/AL47,(V109+AS31*D19)/AM47,(V110+AS31*D19)/AN47,(V111+AS31*D19)/AO47)*AP47","v":{"$error":"#VALUE!"}},{"$f":"MIN((W107+AS31*D19)/AK47,(W108+AS31*D19)/AL47,(W109+AS31*D19)/AM47,(W110+AS31*D19)/AN47,(W111+AS31*D19)/AO47)*AP47","v":{"$error":"#VALUE!"}},{"$f":"MIN((X107+AS31*D19)/AK47,(X108+AS31*D19)/AL47,(X109+AS31*D19)/AM47,(X110+AS31*D19)/AN47,(X111+AS31*D19)/AO47)*AP47","v":{"$error":"#VALUE!"}},{"$f":"MIN((Y107+AS31*D19)/AK47,(Y108+AS31*D19)/AL47,(Y109+AS31*D19)/AM47,(Y110+AS31*D19)/AN47,(Y111+AS31*D19)/AO47)*AP47","v":{"$error":"#VALUE!"}},{"$f":"MIN((Z107+AS31*D19)/AK47,(Z108+AS31*D19)/AL47,(Z109+AS31*D19)/AM47,(Z110+AS31*D19)/AN47,(Z111+AS31*D19)/AO47)*AP47","v":{"$error":"#VALUE!"}},{"$f":"MIN((AA107+AS31*D19)/AK47,(AA108+AS31*D19)/AL47,(AA109+AS31*D19)/AM47,(AA110+AS31*D19)/AN47,(AA111+AS31*D19)/AO47)*AP47","v":{"$error":"#VALUE!"}},{"$f":"MIN((AB107+AS31*D19)/AK47,(AB108+AS31*D19)/AL47,(AB109+AS31*D19)/AM47,(AB110+AS31*D19)/AN47,(AB111+AS31*D19)/AO47)*AP47","v":{"$error":"#VALUE!"}},{"$f":"MIN((AC107+AS31*D19)/AK47,(AC108+AS31*D19)/AL47,(AC109+AS31*D19)/AM47,(AC110+AS31*D19)/AN47,(AC111+AS31*D19)/AO47)*AP47","v":{"$error":"#VALUE!"}},{"$f":"MIN((AD107+AS31*D19)/AK47,(AD108+AS31*D19)/AL47,(AD109+AS31*D19)/AM47,(AD110+AS31*D19)/AN47,(AD111+AS31*D19)/AO47)*AP47","v":{"$error":"#VALUE!"}},{"$f":"MIN((AE107+AS31*D19)/AK47,(AE108+AS31*D19)/AL47,(AE109+AS31*D19)/AM47,(AE110+AS31*D19)/AN47,(AE111+AS31*D19)/AO47)*AP47","v":{"$error":"#VALUE!"}},{"$f":"MIN((AF107+AS31*D19)/AK47,(AF108+AS31*D19)/AL47,(AF109+AS31*D19)/AM47,(AF110+AS31*D19)/AN47,(AF111+AS31*D19)/AO47)*AP47","v":{"$error":"#VALUE!"}},{"$error":"#VALUE!"}]
[null,null,null,null,null,null,null,null,null,null,null,null,null,null,null,null,null,{"$f":"K24+AH42+D16+D17+D21+D19*AG21","v":{"$error":"#VALUE!"}},{"$f":"R152+Q13","v":{"$error":"#VALUE!"}},{"$f":"R152+R13","v":{"$error":"#VALUE!"}},{"$f":"R152+S13","v":{"$error":"#VALUE!"}},{"$f":"R152+T13","v":{"$error":"#VALUE!"}},{"$f":"R152+U13","v":{"$error":"#VALUE!"}},{"$f":"R152+V13","v":{"$error":"#VALUE!"}},{"$f":"R152+W13","v":{"$error":"#VALUE!"}},{"$f":"R152+X13","v":{"$error":"#VALUE!"}},{"$f":"R152+Y13","v":{"$error":"#VALUE!"}},{"$f":"R152+Z13","v":{"$error":"#VALUE!"}},{"$f":"R152+AA13","v":{"$error":"#VALUE!"}},{"$f":"R152+AB13","v":{"$error":"#VALUE!"}},{"$f":"R152+AC13","v":{"$error":"#VALUE!"}},{"$f":"R152+AD13","v":{"$error":"#VALUE!"}},null,null,null,"",{"$f":"MIN((S114+AR31*D19)/AK46,(S115+AR31*D19)/AL46,(S116+AR31*D19)/AM46,(S117+AR31*D19)/AN46,(S118+AR31*D19)/AO46)*AP46","v":{"$error":"#VALUE!"}},{"$f":"MIN((T114+AR31*D19)/AK46,(T115+AR31*D19)/AL46,(T116+AR31*D19)/AM46,(T117+AR31*D19)/AN46,(T118+AR31*D19)/AO46)*AP46","v":{"$error":"#VALUE!"}},{"$f":"MIN((U114+AR31*D19)/AK46,(U115+AR31*D19)/AL46,(U116+AR31*D19)/AM46,(U117+AR31*D19)/AN46,(U118+AR31*D19)/AO46)*AP46","v":{"$error":"#VALUE!"}},{"$f":"MIN((V114+AR31*D19)/AK46,(V115+AR31*D19)/AL46,(V116+AR31*D19)/AM46,(V117+AR31*D19)/AN46,(V118+AR31*D19)/AO46)*AP46","v":{"$error":"#VALUE!"}},{"$f":"MIN((W114+AR31*D19)/AK46,(W115+AR31*D19)/AL46,(W116+AR31*D19)/AM46,(W117+AR31*D19)/AN46,(W118+AR31*D19)/AO46)*AP46","v":{"$error":"#VALUE!"}},{"$f":"MIN((X114+AR31*D19)/AK46,(X115+AR31*D19)/AL46,(X116+AR31*D19)/AM46,(X117+AR31*D19)/AN46,(X118+AR31*D19)/AO46)*AP46","v":{"$error":"#VALUE!"}},{"$f":"MIN((Y114+AR31*D19)/AK46,(Y115+AR31*D19)/AL46,(Y116+AR31*D19)/AM46,(Y117+AR31*D19)/AN46,(Y118+AR31*D19)/AO46)*AP46","v":{"$error":"#VALUE!"}},{"$f":"MIN((Z114+AR31*D19)/AK46,(Z115+AR31*D19)/AL46,(Z116+AR31*D19)/AM46,(Z117+AR31*D19)/AN46,(Z118+AR31*D19)/AO46)*AP46","v":{"$error":"#VALUE!"}},{"$f":"MIN((AA114+AR31*D19)/AK46,(AA115+AR31*D19)/AL46,(AA116+AR31*D19)/AM46,(AA117+AR31*D19)/AN46,(AA118+AR31*D19)/AO46)*AP46","v":{"$error":"#VALUE!"}},{"$f":"MIN((AB114+AR31*D19)/AK46,(AB115+AR31*D19)/AL46,(AB116+AR31*D19)/AM46,(AB117+AR31*D19)/AN46,(AB118+AR31*D19)/AO46)*AP46","v":{"$error":"#VALUE!"}},{"$f":"MIN((AC114+AR31*D19)/AK46,(AC115+AR31*D19)/AL46,(AC116+AR31*D19)/AM46,(AC117+AR31*D19)/AN46,(AC118+AR31*D19)/AO46)*AP46","v":{"$error":"#VALUE!"}},{"$f":"MIN((AD114+AR31*D19)/AK46,(AD115+AR31*D19)/AL46,(AD116+AR31*D19)/AM46,(AD117+AR31*D19)/AN46,(AD118+AR31*D19)/AO46)*AP46","v":{"$error":"#VALUE!"}},{"$f":"MIN((AE114+AR31*D19)/AK46,(AE115+AR31*D19)/AL46,(AE116+AR31*D19)/AM46,(AE117+AR31*D19)/AN46,(AE118+AR31*D19)/AO46)*AP46","v":{"$error":"#VALUE!"}},{"$f":"MIN((AF114+AR31*D19)/AK46,(AF115+AR31*D19)/AL46,(AF116+AR31*D19)/AM46,(AF117+AR31*D19)/AN46,(AF118+AR31*D19)/AO46)*AP46","v":{"$error":"#VALUE!"}},{"$error":"#VALUE!"},null,"",{"$f":"MIN((S114+AS31*D19)/AK47,(S115+AS31*D19)/AL47,(S116+AS31*D19)/AM47,(S117+AS31*D19)/AN47,(S118+AS31*D19)/AO47)*AP47","v":{"$error":"#VALUE!"}},{"$f":"MIN((T114+AS31*D19)/AK47,(T115+AS31*D19)/AL47,(T116+AS31*D19)/AM47,(T117+AS31*D19)/AN47,(T118+AS31*D19)/AO47)*AP47","v":{"$error":"#VALUE!"}},{"$f":"MIN((U114+AS31*D19)/AK47,(U115+AS31*D19)/AL47,(U116+AS31*D19)/AM47,(U117+AS31*D19)/AN47,(U118+AS31*D19)/AO47)*AP47","v":{"$error":"#VALUE!"}},{"$f":"MIN((V114+AS31*D19)/AK47,(V115+AS31*D19)/AL47,(V116+AS31*D19)/AM47,(V117+AS31*D19)/AN47,(V118+AS31*D19)/AO47)*AP47","v":{"$error":"#VALUE!"}},{"$f":"MIN((W114+AS31*D19)/AK47,(W115+AS31*D19)/AL47,(W116+AS31*D19)/AM47,(W117+AS31*D19)/AN47,(W118+AS31*D19)/AO47)*AP47","v":{"$error":"#VALUE!"}},{"$f":"MIN((X114+AS31*D19)/AK47,(X115+AS31*D19)/AL47,(X116+AS31*D19)/AM47,(X117+AS31*D19)/AN47,(X118+AS31*D19)/AO47)*AP47","v":{"$error":"#VALUE!"}},{"$f":"MIN((Y114+AS31*D19)/AK47,(Y115+AS31*D19)/AL47,(Y116+AS31*D19)/AM47,(Y117+AS31*D19)/AN47,(Y118+AS31*D19)/AO47)*AP47","v":{"$error":"#VALUE!"}},{"$f":"MIN((Z114+AS31*D19)/AK47,(Z115+AS31*D19)/AL47,(Z116+AS31*D19)/AM47,(Z117+AS31*D19)/AN47,(Z118+AS31*D19)/AO47)*AP47","v":{"$error":"#VALUE!"}},{"$f":"MIN((AA114+AS31*D19)/AK47,(AA115+AS31*D19)/AL47,(AA116+AS31*D19)/AM47,(AA117+AS31*D19)/AN47,(AA118+AS31*D19)/AO47)*AP47","v":{"$error":"#VALUE!"}},{"$f":"MIN((AB114+AS31*D19)/AK47,(AB115+AS31*D19)/AL47,(AB116+AS31*D19)/AM47,(AB117+AS31*D19)/AN47,(AB118+AS31*D19)/AO47)*AP47","v":{"$error":"#VALUE!"}},{"$f":"MIN((AC114+AS31*D19)/AK47,(AC115+AS31*D19)/AL47,(AC116+AS31*D19)/AM47,(AC117+AS31*D19)/AN47,(AC118+AS31*D19)/AO47)*AP47","v":{"$error":"#VALUE!"}},{"$f":"MIN((AD114+AS31*D19)/AK47,(AD115+AS31*D19)/AL47,(AD116+AS31*D19)/AM47,(AD117+AS31*D19)/AN47,(AD118+AS31*D19)/AO47)*AP47","v":{"$error":"#VALUE!"}},{"$f":"MIN((AE114+AS31*D19)/AK47,(AE115+AS31*D19)/AL47,(AE116+AS31*D19)/AM47,(AE117+AS31*D19)/AN47,(AE118+AS31*D19)/AO47)*AP47","v":{"$error":"#VALUE!"}},{"$f":"MIN((AF114+AS31*D19)/AK47,(AF115+AS31*D19)/AL47,(AF116+AS31*D19)/AM47,(AF117+AS31*D19)/AN47,(AF118+AS31*D19)/AO47)*AP47","v":{"$error":"#VALUE!"}},{"$error":"#VALUE!"}]
[null,null,null,null,null,null,null,null,null,null,null,null,null,null,null,null,null,{"$f":"L24+AH43+D15+D17+D21+D19*AG21","v":{"$error":"#VALUE!"}},{"$f":"R153+Q14","v":{"$error":"#VALUE!"}},{"$f":"R153+R14","v":{"$error":"#VALUE!"}},{"$f":"R153+S14","v":{"$error":"#VALUE!"}},{"$f":"R153+T14","v":{"$error":"#VALUE!"}},{"$f":"R153+U14","v":{"$error":"#VALUE!"}},{"$f":"R153+V14","v":{"$error":"#VALUE!"}},{"$f":"R153+W14","v":{"$error":"#VALUE!"}},{"$f":"R153+X14","v":{"$error":"#VALUE!"}},{"$f":"R153+Y14","v":{"$error":"#VALUE!"}},{"$f":"R153+Z14","v":{"$error":"#VALUE!"}},{"$f":"R153+AA14","v":{"$error":"#VALUE!"}},{"$f":"R153+AB14","v":{"$error":"#VALUE!"}},{"$f":"R153+AC14","v":{"$error":"#VALUE!"}},{"$f":"R153+AD14","v":{"$error":"#VALUE!"}},null,null,null,"",{"$f":"MIN((S121+AR31*D19)/AK46,(S122+AR31*D19)/AL46,(S123+AR31*D19)/AM46,(S124+AR31*D19)/AN46,(S125+AR31*D19)/AO46)*AP46","v":{"$error":"#VALUE!"}},{"$f":"MIN((T121+AR31*D19)/AK46,(T122+AR31*D19)/AL46,(T123+AR31*D19)/AM46,(T124+AR31*D19)/AN46,(T125+AR31*D19)/AO46)*AP46","v":{"$error":"#VALUE!"}},{"$f":"MIN((U121+AR31*D19)/AK46,(U122+AR31*D19)/AL46,(U123+AR31*D19)/AM46,(U124+AR31*D19)/AN46,(U125+AR31*D19)/AO46)*AP46","v":{"$error":"#VALUE!"}},{"$f":"MIN((V121+AR31*D19)/AK46,(V122+AR31*D19)/AL46,(V123+AR31*D19)/AM46,(V124+AR31*D19)/AN46,(V125+AR31*D19)/AO46)*AP46","v":{"$error":"#VALUE!"}},{"$f":"MIN((W121+AR31*D19)/AK46,(W122+AR31*D19)/AL46,(W123+AR31*D19)/AM46,(W124+AR31*D19)/AN46,(W125+AR31*D19)/AO46)*AP46","v":{"$error":"#VALUE!"}},{"$f":"MIN((X121+AR31*D19)/AK46,(X122+AR31*D19)/AL46,(X123+AR31*D19)/AM46,(X124+AR31*D19)/AN46,(X125+AR31*D19)/AO46)*AP46","v":{"$error":"#VALUE!"}},{"$f":"MIN((Y121+AR31*D19)/AK46,(Y122+AR31*D19)/AL46,(Y123+AR31*D19)/AM46,(Y124+AR31*D19)/AN46,(Y125+AR31*D19)/AO46)*AP46","v":{"$error":"#VALUE!"}},{"$f":"MIN((Z121+AR31*D19)/AK46,(Z122+AR31*D19)/AL46,(Z123+AR31*D19)/AM46,(Z124+AR31*D19)/AN46,(Z125+AR31*D19)/AO46)*AP46","v":{"$error":"#VALUE!"}},{"$f":"MIN((AA121+AR31*D19)/AK46,(AA122+AR31*D19)/AL46,(AA123+AR31*D19)/AM46,(AA124+AR31*D19)/AN46,(AA125+AR31*D19)/AO46)*AP46","v":{"$error":"#VALUE!"}},{"$f":"MIN((AB121+AR31*D19)/AK46,(AB122+AR31*D19)/AL46,(AB123+AR31*D19)/AM46,(AB124+AR31*D19)/AN46,(AB125+AR31*D19)/AO46)*AP46","v":{"$error":"#VALUE!"}},{"$f":"MIN((AC121+AR31*D19)/AK46,(AC122+AR31*D19)/AL46,(AC123+AR31*D19)/AM46,(AC124+AR31*D19)/AN46,(AC125+AR31*D19)/AO46)*AP46","v":{"$error":"#VALUE!"}},{"$f":"MIN((AD121+AR31*D19)/AK46,(AD122+AR31*D19)/AL46,(AD123+AR31*D19)/AM46,(AD124+AR31*D19)/AN46,(AD125+AR31*D19)/AO46)*AP46","v":{"$error":"#VALUE!"}},{"$f":"MIN((AE121+AR31*D19)/AK46,(AE122+AR31*D19)/AL46,(AE123+AR31*D19)/AM46,(AE124+AR31*D19)/AN46,(AE125+AR31*D19)/AO46)*AP46","v":{"$error":"#VALUE!"}},{"$f":"MIN((AF121+AR31*D19)/AK46,(AF122+AR31*D19)/AL46,(AF123+AR31*D19)/AM46,(AF124+AR31*D19)/AN46,(AF125+AR31*D19)/AO46)*AP46","v":{"$error":"#VALUE!"}},{"$error":"#VALUE!"},null,"",{"$f":"MIN((S121+AS31*D19)/AK47,(S122+AS31*D19)/AL47,(S123+AS31*D19)/AM47,(S124+AS31*D19)/AN47,(S125+AS31*D19)/AO47)*AP47","v":{"$error":"#VALUE!"}},{"$f":"MIN((T121+AS31*D19)/AK47,(T122+AS31*D19)/AL47,(T123+AS31*D19)/AM47,(T124+AS31*D19)/AN47,(T125+AS31*D19)/AO47)*AP47","v":{"$error":"#VALUE!"}},{"$f":"MIN((U121+AS31*D19)/AK47,(U122+AS31*D19)/AL47,(U123+AS31*D19)/AM47,(U124+AS31*D19)/AN47,(U125+AS31*D19)/AO47)*AP47","v":{"$error":"#VALUE!"}},{"$f":"MIN((V121+AS31*D19)/AK47,(V122+AS31*D19)/AL47,(V123+AS31*D19)/AM47,(V124+AS31*D19)/AN47,(V125+AS31*D19)/AO47)*AP47","v":{"$error":"#VALUE!"}},{"$f":"MIN((W121+AS31*D19)/AK47,(W122+AS31*D19)/AL47,(W123+AS31*D19)/AM47,(W124+AS31*D19)/AN47,(W125+AS31*D19)/AO47)*AP47","v":{"$error":"#VALUE!"}},{"$f":"MIN((X121+AS31*D19)/AK47,(X122+AS31*D19)/AL47,(X123+AS31*D19)/AM47,(X124+AS31*D19)/AN47,(X125+AS31*D19)/AO47)*AP47","v":{"$error":"#VALUE!"}},{"$f":"MIN((Y121+AS31*D19)/AK47,(Y122+AS31*D19)/AL47,(Y123+AS31*D19)/AM47,(Y124+AS31*D19)/AN47,(Y125+AS31*D19)/AO47)*AP47","v":{"$error":"#VALUE!"}},{"$f":"MIN((Z121+AS31*D19)/AK47,(Z122+AS31*D19)/AL47,(Z123+AS31*D19)/AM47,(Z124+AS31*D19)/AN47,(Z125+AS31*D19)/AO47)*AP47","v":{"$error":"#VALUE!"}},{"$f":"MIN((AA121+AS31*D19)/AK47,(AA122+AS31*D19)/AL47,(AA123+AS31*D19)/AM47,(AA124+AS31*D19)/AN47,(AA125+AS31*D19)/AO47)*AP47","v":{"$error":"#VALUE!"}},{"$f":"MIN((AB121+AS31*D19)/AK47,(AB122+AS31*D19)/AL47,(AB123+AS31*D19)/AM47,(AB124+AS31*D19)/AN47,(AB125+AS31*D19)/AO47)*AP47","v":{"$error":"#VALUE!"}},{"$f":"MIN((AC121+AS31*D19)/AK47,(AC122+AS31*D19)/AL47,(AC123+AS31*D19)/AM47,(AC124+AS31*D19)/AN47,(AC125+AS31*D19)/AO47)*AP47","v":{"$error":"#VALUE!"}},{"$f":"MIN((AD121+AS31*D19)/AK47,(AD122+AS31*D19)/AL47,(AD123+AS31*D19)/AM47,(AD124+AS31*D19)/AN47,(AD125+AS31*D19)/AO47)*AP47","v":{"$error":"#VALUE!"}},{"$f":"MIN((AE121+AS31*D19)/AK47,(AE122+AS31*D19)/AL47,(AE123+AS31*D19)/AM47,(AE124+AS31*D19)/AN47,(AE125+AS31*D19)/AO47)*AP47","v":{"$error":"#VALUE!"}},{"$f":"MIN((AF121+AS31*D19)/AK47,(AF122+AS31*D19)/AL47,(AF123+AS31*D19)/AM47,(AF124+AS31*D19)/AN47,(AF125+AS31*D19)/AO47)*AP47","v":{"$error":"#VALUE!"}},{"$error":"#VALUE!"}]
[null,null,null,null,null,null,null,null,null,null,null,null,null,null,null,null,null,null,null,null,null,null,null,null,null,null,null,null,null,null,null,null,null,null,null,"",{"$f":"MIN((S128+AR31*D19)/AK46,(S129+AR31*D19)/AL46,(S130+AR31*D19)/AM46,(S131+AR31*D19)/AN46,(S132+AR31*D19)/AO46)*AP46","v":{"$error":"#VALUE!"}},{"$f":"MIN((T128+AR31*D19)/AK46,(T129+AR31*D19)/AL46,(T130+AR31*D19)/AM46,(T131+AR31*D19)/AN46,(T132+AR31*D19)/AO46)*AP46","v":{"$error":"#VALUE!"}},{"$f":"MIN((U128+AR31*D19)/AK46,(U129+AR31*D19)/AL46,(U130+AR31*D19)/AM46,(U131+AR31*D19)/AN46,(U132+AR31*D19)/AO46)*AP46","v":{"$error":"#VALUE!"}},{"$f":"MIN((V128+AR31*D19)/AK46,(V129+AR31*D19)/AL46,(V130+AR31*D19)/AM46,(V131+AR31*D19)/AN46,(V132+AR31*D19)/AO46)*AP46","v":{"$error":"#VALUE!"}},{"$f":"MIN((W128+AR31*D19)/AK46,(W129+AR31*D19)/AL46,(W130+AR31*D19)/AM46,(W131+AR31*D19)/AN46,(W132+AR31*D19)/AO46)*AP46","v":{"$error":"#VALUE!"}},{"$f":"MIN((X128+AR31*D19)/AK46,(X129+AR31*D19)/AL46,(X130+AR31*D19)/AM46,(X131+AR31*D19)/AN46,(X132+AR31*D19)/AO46)*AP46","v":{"$error":"#VALUE!"}},{"$f":"MIN((Y128+AR31*D19)/AK46,(Y129+AR31*D19)/AL46,(Y130+AR31*D19)/AM46,(Y131+AR31*D19)/AN46,(Y132+AR31*D19)/AO46)*AP46","v":{"$error":"#VALUE!"}},{"$f":"MIN((Z128+AR31*D19)/AK46,(Z129+AR31*D19)/AL46,(Z130+AR31*D19)/AM46,(Z131+AR31*D19)/AN46,(Z132+AR31*D19)/AO46)*AP46","v":{"$error":"#VALUE!"}},{"$f":"MIN((AA128+AR31*D19)/AK46,(AA129+AR31*D19)/AL46,(AA130+AR31*D19)/AM46,(AA131+AR31*D19)/AN46,(AA132+AR31*D19)/AO46)*AP46","v":{"$error":"#VALUE!"}},{"$f":"MIN((AB128+AR31*D19)/AK46,(AB129+AR31*D19)/AL46,(AB130+AR31*D19)/AM46,(AB131+AR31*D19)/AN46,(AB132+AR31*D19)/AO46)*AP46","v":{"$error":"#VALUE!"}},{"$f":"MIN((AC128+AR31*D19)/AK46,(AC129+AR31*D19)/AL46,(AC130+AR31*D19)/AM46,(AC131+AR31*D19)/AN46,(AC132+AR31*D19)/AO46)*AP46","v":{"$error":"#VALUE!"}},{"$f":"MIN((AD128+AR31*D19)/AK46,(AD129+AR31*D19)/AL46,(AD130+AR31*D19)/AM46,(AD131+AR31*D19)/AN46,(AD132+AR31*D19)/AO46)*AP46","v":{"$error":"#VALUE!"}},{"$f":"MIN((AE128+AR31*D19)/AK46,(AE129+AR31*D19)/AL46,(AE130+AR31*D19)/AM46,(AE131+AR31*D19)/AN46,(AE132+AR31*D19)/AO46)*AP46","v":{"$error":"#VALUE!"}},{"$f":"MIN((AF128+AR31*D19)/AK46,(AF129+AR31*D19)/AL46,(AF130+AR31*D19)/AM46,(AF131+AR31*D19)/AN46,(AF132+AR31*D19)/AO46)*AP46","v":{"$error":"#VALUE!"}},{"$error":"#VALUE!"},null,"",{"$f":"MIN((S128+AS31*D19)/AK47,(S129+AS31*D19)/AL47,(S130+AS31*D19)/AM47,(S131+AS31*D19)/AN47,(S132+AS31*D19)/AO47)*AP47","v":{"$error":"#VALUE!"}},{"$f":"MIN((T128+AS31*D19)/AK47,(T129+AS31*D19)/AL47,(T130+AS31*D19)/AM47,(T131+AS31*D19)/AN47,(T132+AS31*D19)/AO47)*AP47","v":{"$error":"#VALUE!"}},{"$f":"MIN((U128+AS31*D19)/AK47,(U129+AS31*D19)/AL47,(U130+AS31*D19)/AM47,(U131+AS31*D19)/AN47,(U132+AS31*D19)/AO47)*AP47","v":{"$error":"#VALUE!"}},{"$f":"MIN((V128+AS31*D19)/AK47,(V129+AS31*D19)/AL47,(V130+AS31*D19)/AM47,(V131+AS31*D19)/AN47,(V132+AS31*D19)/AO47)*AP47","v":{"$error":"#VALUE!"}},{"$f":"MIN((W128+AS31*D19)/AK47,(W129+AS31*D19)/AL47,(W130+AS31*D19)/AM47,(W131+AS31*D19)/AN47,(W132+AS31*D19)/AO47)*AP47","v":{"$error":"#VALUE!"}},{"$f":"MIN((X128+AS31*D19)/AK47,(X129+AS31*D19)/AL47,(X130+AS31*D19)/AM47,(X131+AS31*D19)/AN47,(X132+AS31*D19)/AO47)*AP47","v":{"$error":"#VALUE!"}},{"$f":"MIN((Y128+AS31*D19)/AK47,(Y129+AS31*D19)/AL47,(Y130+AS31*D19)/AM47,(Y131+AS31*D19)/AN47,(Y132+AS31*D19)/AO47)*AP47","v":{"$error":"#VALUE!"}},{"$f":"MIN((Z128+AS31*D19)/AK47,(Z129+AS31*D19)/AL47,(Z130+AS31*D19)/AM47,(Z131+AS31*D19)/AN47,(Z132+AS31*D19)/AO47)*AP47","v":{"$error":"#VALUE!"}},{"$f":"MIN((AA128+AS31*D19)/AK47,(AA129+AS31*D19)/AL47,(AA130+AS31*D19)/AM47,(AA131+AS31*D19)/AN47,(AA132+AS31*D19)/AO47)*AP47","v":{"$error":"#VALUE!"}},{"$f":"MIN((AB128+AS31*D19)/AK47,(AB129+AS31*D19)/AL47,(AB130+AS31*D19)/AM47,(AB131+AS31*D19)/AN47,(AB132+AS31*D19)/AO47)*AP47","v":{"$error":"#VALUE!"}},{"$f":"MIN((AC128+AS31*D19)/AK47,(AC129+AS31*D19)/AL47,(AC130+AS31*D19)/AM47,(AC131+AS31*D19)/AN47,(AC132+AS31*D19)/AO47)*AP47","v":{"$error":"#VALUE!"}},{"$f":"MIN((AD128+AS31*D19)/AK47,(AD129+AS31*D19)/AL47,(AD130+AS31*D19)/AM47,(AD131+AS31*D19)/AN47,(AD132+AS31*D19)/AO47)*AP47","v":{"$error":"#VALUE!"}},{"$f":"MIN((AE128+AS31*D19)/AK47,(AE129+AS31*D19)/AL47,(AE130+AS31*D19)/AM47,(AE131+AS31*D19)/AN47,(AE132+AS31*D19)/AO47)*AP47","v":{"$error":"#VALUE!"}},{"$f":"MIN((AF128+AS31*D19)/AK47,(AF129+AS31*D19)/AL47,(AF130+AS31*D19)/AM47,(AF131+AS31*D19)/AN47,(AF132+AS31*D19)/AO47)*AP47","v":{"$error":"#VALUE!"}},{"$error":"#VALUE!"}]
[null,null,null,null,null,null,null,null,null,null,null,null,null,null,null,null,null,{"$f":"G25","v":""},{"$f":"S148","v":"kit 1"},{"$f":"T148","v":"kit 2A"},"kit 2B","kit 4A","kit 4B","kit 5","kit 6A","kit 6B","kit 7","kit 8","kit 9A","kit 9B",{"$f":"AE148","v":"kit 10"},{"$f":"AF148","v":"kit 11"},null,null,null,"",{"$f":"MIN((S135+AR31*D19)/AK46,(S136+AR31*D19)/AL46,(S137+AR31*D19)/AM46,(S138+AR31*D19)/AN46,(S139+AR31*D19)/AO46)*AP46","v":{"$error":"#VALUE!"}},{"$f":"MIN((T135+AR31*D19)/AK46,(T136+AR31*D19)/AL46,(T137+AR31*D19)/AM46,(T138+AR31*D19)/AN46,(T139+AR31*D19)/AO46)*AP46","v":{"$error":"#VALUE!"}},{"$f":"MIN((U135+AR31*D19)/AK46,(U136+AR31*D19)/AL46,(U137+AR31*D19)/AM46,(U138+AR31*D19)/AN46,(U139+AR31*D19)/AO46)*AP46","v":{"$error":"#VALUE!"}},{"$f":"MIN((V135+AR31*D19)/AK46,(V136+AR31*D19)/AL46,(V137+AR31*D19)/AM46,(V138+AR31*D19)/AN46,(V139+AR31*D19)/AO46)*AP46","v":{"$error":"#VALUE!"}},{"$f":"MIN((W135+AR31*D19)/AK46,(W136+AR31*D19)/AL46,(W137+AR31*D19)/AM46,(W138+AR31*D19)/AN46,(W139+AR31*D19)/AO46)*AP46","v":{"$error":"#VALUE!"}},{"$f":"MIN((X135+AR31*D19)/AK46,(X136+AR31*D19)/AL46,(X137+AR31*D19)/AM46,(X138+AR31*D19)/AN46,(X139+AR31*D19)/AO46)*AP46","v":{"$error":"#VALUE!"}},{"$f":"MIN((Y135+AR31*D19)/AK46,(Y136+AR31*D19)/AL46,(Y137+AR31*D19)/AM46,(Y138+AR31*D19)/AN46,(Y139+AR31*D19)/AO46)*AP46","v":{"$error":"#VALUE!"}},{"$f":"MIN((Z135+AR31*D19)/AK46,(Z136+AR31*D19)/AL46,(Z137+AR31*D19)/AM46,(Z138+AR31*D19)/AN46,(Z139+AR31*D19)/AO46)*AP46","v":{"$error":"#VALUE!"}},{"$f":"MIN((AA135+AR31*D19)/AK46,(AA136+AR31*D19)/AL46,(AA137+AR31*D19)/AM46,(AA138+AR31*D19)/AN46,(AA139+AR31*D19)/AO46)*AP46","v":{"$error":"#VALUE!"}},{"$f":"MIN((AB135+AR31*D19)/AK46,(AB136+AR31*D19)/AL46,(AB137+AR31*D19)/AM46,(AB138+AR31*D19)/AN46,(AB139+AR31*D19)/AO46)*AP46","v":{"$error":"#VALUE!"}},{"$f":"MIN((AC135+AR31*D19)/AK46,(AC136+AR31*D19)/AL46,(AC137+AR31*D19)/AM46,(AC138+AR31*D19)/AN46,(AC139+AR31*D19)/AO46)*AP46","v":{"$error":"#VALUE!"}},{"$f":"MIN((AD135+AR31*D19)/AK46,(AD136+AR31*D19)/AL46,(AD137+AR31*D19)/AM46,(AD138+AR31*D19)/AN46,(AD139+AR31*D19)/AO46)*AP46","v":{"$error":"#VALUE!"}},{"$f":"MIN((AE135+AR31*D19)/AK46,(AE136+AR31*D19)/AL46,(AE137+AR31*D19)/AM46,(AE138+AR31*D19)/AN46,(AE139+AR31*D19)/AO46)*AP46","v":{"$error":"#VALUE!"}},{"$f":"MIN((AF135+AR31*D19)/AK46,(AF136+AR31*D19)/AL46,(AF137+AR31*D19)/AM46,(AF138+AR31*D19)/AN46,(AF139+AR31*D19)/AO46)*AP46","v":{"$error":"#VALUE!"}},{"$error":"#VALUE!"},null,"",{"$f":"MIN((S135+AS31*D19)/AK47,(S136+AS31*D19)/AL47,(S137+AS31*D19)/AM47,(S138+AS31*D19)/AN47,(S139+AS31*D19)/AO47)*AP47","v":{"$error":"#VALUE!"}},{"$f":"MIN((T135+AS31*D19)/AK47,(T136+AS31*D19)/AL47,(T137+AS31*D19)/AM47,(T138+AS31*D19)/AN47,(T139+AS31*D19)/AO47)*AP47","v":{"$error":"#VALUE!"}},{"$f":"MIN((U135+AS31*D19)/AK47,(U136+AS31*D19)/AL47,(U137+AS31*D19)/AM47,(U138+AS31*D19)/AN47,(U139+AS31*D19)/AO47)*AP47","v":{"$error":"#VALUE!"}},{"$f":"MIN((V135+AS31*D19)/AK47,(V136+AS31*D19)/AL47,(V137+AS31*D19)/AM47,(V138+AS31*D19)/AN47,(V139+AS31*D19)/AO47)*AP47","v":{"$error":"#VALUE!"}},{"$f":"MIN((W135+AS31*D19)/AK47,(W136+AS31*D19)/AL47,(W137+AS31*D19)/AM47,(W138+AS31*D19)/AN47,(W139+AS31*D19)/AO47)*AP47","v":{"$error":"#VALUE!"}},{"$f":"MIN((X135+AS31*D19)/AK47,(X136+AS31*D19)/AL47,(X137+AS31*D19)/AM47,(X138+AS31*D19)/AN47,(X139+AS31*D19)/AO47)*AP47","v":{"$error":"#VALUE!"}},{"$f":"MIN((Y135+AS31*D19)/AK47,(Y136+AS31*D19)/AL47,(Y137+AS31*D19)/AM47,(Y138+AS31*D19)/AN47,(Y139+AS31*D19)/AO47)*AP47","v":{"$error":"#VALUE!"}},{"$f":"MIN((Z135+AS31*D19)/AK47,(Z136+AS31*D19)/AL47,(Z137+AS31*D19)/AM47,(Z138+AS31*D19)/AN47,(Z139+AS31*D19)/AO47)*AP47","v":{"$error":"#VALUE!"}},{"$f":"MIN((AA135+AS31*D19)/AK47,(AA136+AS31*D19)/AL47,(AA137+AS31*D19)/AM47,(AA138+AS31*D19)/AN47,(AA139+AS31*D19)/AO47)*AP47","v":{"$error":"#VALUE!"}},{"$f":"MIN((AB135+AS31*D19)/AK47,(AB136+AS31*D19)/AL47,(AB137+AS31*D19)/AM47,(AB138+AS31*D19)/AN47,(AB139+AS31*D19)/AO47)*AP47","v":{"$error":"#VALUE!"}},{"$f":"MIN((AC135+AS31*D19)/AK47,(AC136+AS31*D19)/AL47,(AC137+AS31*D19)/AM47,(AC138+AS31*D19)/AN47,(AC139+AS31*D19)/AO47)*AP47","v":{"$error":"#VALUE!"}},{"$f":"MIN((AD135+AS31*D19)/AK47,(AD136+AS31*D19)/AL47,(AD137+AS31*D19)/AM47,(AD138+AS31*D19)/AN47,(AD139+AS31*D19)/AO47)*AP47","v":{"$error":"#VALUE!"}},{"$f":"MIN((AE135+AS31*D19)/AK47,(AE136+AS31*D19)/AL47,(AE137+AS31*D19)/AM47,(AE138+AS31*D19)/AN47,(AE139+AS31*D19)/AO47)*AP47","v":{"$error":"#VALUE!"}},{"$f":"MIN((AF135+AS31*D19)/AK47,(AF136+AS31*D19)/AL47,(AF137+AS31*D19)/AM47,(AF138+AS31*D19)/AN47,(AF139+AS31*D19)/AO47)*AP47","v":{"$error":"#VALUE!"}},{"$error":"#VALUE!"}]
[null,null,null,null,null,null,null,null,null,null,null,null,null,null,null,null,null,{"$f":"H25+AH39+D16+D17+D21+D19*AG22","v":{"$error":"#VALUE!"}},{"$f":"R156+Q10","v":{"$error":"#VALUE!"}},{"$f":"R156+R10","v":{"$error":"#VALUE!"}},{"$f":"R156+S10","v":{"$error":"#VALUE!"}},{"$f":"R156+T10","v":{"$error":"#VALUE!"}},{"$f":"R156+U10","v":{"$error":"#VALUE!"}},{"$f":"R156+V10","v":{"$error":"#VALUE!"}},{"$f":"R156+W10","v":{"$error":"#VALUE!"}},{"$f":"R156+X10","v":{"$error":"#VALUE!"}},{"$f":"R156+Y10","v":{"$error":"#VALUE!"}},{"$f":"R156+Z10","v":{"$error":"#VALUE!"}},{"$f":"R156+AA10","v":{"$error":"#VALUE!"}},{"$f":"R156+AB10","v":{"$error":"#VALUE!"}},{"$f":"R156+AC10","v":{"$error":"#VALUE!"}},{"$f":"R156+AD10","v":{"$error":"#VALUE!"}},null,null,null,"",{"$f":"MIN((S142+AR31*D19)/AK46,(S143+AR31*D19)/AL46,(S144+AR31*D19)/AM46,(S145+AR31*D19)/AN46,(S146+AR31*D19)/AO46)*AP46","v":{"$error":"#VALUE!"}},{"$f":"MIN((T142+AR31*D19)/AK46,(T143+AR31*D19)/AL46,(T144+AR31*D19)/AM46,(T145+AR31*D19)/AN46,(T146+AR31*D19)/AO46)*AP46","v":{"$error":"#VALUE!"}},{"$f":"MIN((U142+AR31*D19)/AK46,(U143+AR31*D19)/AL46,(U144+AR31*D19)/AM46,(U145+AR31*D19)/AN46,(U146+AR31*D19)/AO46)*AP46","v":{"$error":"#VALUE!"}},{"$f":"MIN((V142+AR31*D19)/AK46,(V143+AR31*D19)/AL46,(V144+AR31*D19)/AM46,(V145+AR31*D19)/AN46,(V146+AR31*D19)/AO46)*AP46","v":{"$error":"#VALUE!"}},{"$f":"MIN((W142+AR31*D19)/AK46,(W143+AR31*D19)/AL46,(W144+AR31*D19)/AM46,(W145+AR31*D19)/AN46,(W146+AR31*D19)/AO46)*AP46","v":{"$error":"#VALUE!"}},{"$f":"MIN((X142+AR31*D19)/AK46,(X143+AR31*D19)/AL46,(X144+AR31*D19)/AM46,(X145+AR31*D19)/AN46,(X146+AR31*D19)/AO46)*AP46","v":{"$error":"#VALUE!"}},{"$f":"MIN((Y142+AR31*D19)/AK46,(Y143+AR31*D19)/AL46,(Y144+AR31*D19)/AM46,(Y145+AR31*D19)/AN46,(Y146+AR31*D19)/AO46)*AP46","v":{"$error":"#VALUE!"}},{"$f":"MIN((Z142+AR31*D19)/AK46,(Z143+AR31*D19)/AL46,(Z144+AR31*D19)/AM46,(Z145+AR31*D19)/AN46,(Z146+AR31*D19)/AO46)*AP46","v":{"$error":"#VALUE!"}},{"$f":"MIN((AA142+AR31*D19)/AK46,(AA143+AR31*D19)/AL46,(AA144+AR31*D19)/AM46,(AA145+AR31*D19)/AN46,(AA146+AR31*D19)/AO46)*AP46","v":{"$error":"#VALUE!"}},{"$f":"MIN((AB142+AR31*D19)/AK46,(AB143+AR31*D19)/AL46,(AB144+AR31*D19)/AM46,(AB145+AR31*D19)/AN46,(AB146+AR31*D19)/AO46)*AP46","v":{"$error":"#VALUE!"}},{"$f":"MIN((AC142+AR31*D19)/AK46,(AC143+AR31*D19)/AL46,(AC144+AR31*D19)/AM46,(AC145+AR31*D19)/AN46,(AC146+AR31*D19)/AO46)*AP46","v":{"$error":"#VALUE!"}},{"$f":"MIN((AD142+AR31*D19)/AK46,(AD143+AR31*D19)/AL46,(AD144+AR31*D19)/AM46,(AD145+AR31*D19)/AN46,(AD146+AR31*D19)/AO46)*AP46","v":{"$error":"#VALUE!"}},{"$f":"MIN((AE142+AR31*D19)/AK46,(AE143+AR31*D19)/AL46,(AE144+AR31*D19)/AM46,(AE145+AR31*D19)/AN46,(AE146+AR31*D19)/AO46)*AP46","v":{"$error":"#VALUE!"}},{"$f":"MIN((AF142+AR31*D19)/AK46,(AF143+AR31*D19)/AL46,(AF144+AR31*D19)/AM46,(AF145+AR31*D19)/AN46,(AF146+AR31*D19)/AO46)*AP46","v":{"$error":"#VALUE!"}},{"$error":"#VALUE!"},null,"",{"$f":"MIN((S142+AS31*D19)/AK47,(S143+AS31*D19)/AL47,(S144+AS31*D19)/AM47,(S145+AS31*D19)/AN47,(S146+AS31*D19)/AO47)*AP47","v":{"$error":"#VALUE!"}},{"$f":"MIN((T142+AS31*D19)/AK47,(T143+AS31*D19)/AL47,(T144+AS31*D19)/AM47,(T145+AS31*D19)/AN47,(T146+AS31*D19)/AO47)*AP47","v":{"$error":"#VALUE!"}},{"$f":"MIN((U142+AS31*D19)/AK47,(U143+AS31*D19)/AL47,(U144+AS31*D19)/AM47,(U145+AS31*D19)/AN47,(U146+AS31*D19)/AO47)*AP47","v":{"$error":"#VALUE!"}},{"$f":"MIN((V142+AS31*D19)/AK47,(V143+AS31*D19)/AL47,(V144+AS31*D19)/AM47,(V145+AS31*D19)/AN47,(V146+AS31*D19)/AO47)*AP47","v":{"$error":"#VALUE!"}},{"$f":"MIN((W142+AS31*D19)/AK47,(W143+AS31*D19)/AL47,(W144+AS31*D19)/AM47,(W145+AS31*D19)/AN47,(W146+AS31*D19)/AO47)*AP47","v":{"$error":"#VALUE!"}},{"$f":"MIN((X142+AS31*D19)/AK47,(X143+AS31*D19)/AL47,(X144+AS31*D19)/AM47,(X145+AS31*D19)/AN47,(X146+AS31*D19)/AO47)*AP47","v":{"$error":"#VALUE!"}},{"$f":"MIN((Y142+AS31*D19)/AK47,(Y143+AS31*D19)/AL47,(Y144+AS31*D19)/AM47,(Y145+AS31*D19)/AN47,(Y146+AS31*D19)/AO47)*AP47","v":{"$error":"#VALUE!"}},{"$f":"MIN((Z142+AS31*D19)/AK47,(Z143+AS31*D19)/AL47,(Z144+AS31*D19)/AM47,(Z145+AS31*D19)/AN47,(Z146+AS31*D19)/AO47)*AP47","v":{"$error":"#VALUE!"}},{"$f":"MIN((AA142+AS31*D19)/AK47,(AA143+AS31*D19)/AL47,(AA144+AS31*D19)/AM47,(AA145+AS31*D19)/AN47,(AA146+AS31*D19)/AO47)*AP47","v":{"$error":"#VALUE!"}},{"$f":"MIN((AB142+AS31*D19)/AK47,(AB143+AS31*D19)/AL47,(AB144+AS31*D19)/AM47,(AB145+AS31*D19)/AN47,(AB146+AS31*D19)/AO47)*AP47","v":{"$error":"#VALUE!"}},{"$f":"MIN((AC142+AS31*D19)/AK47,(AC143+AS31*D19)/AL47,(AC144+AS31*D19)/AM47,(AC145+AS31*D19)/AN47,(AC146+AS31*D19)/AO47)*AP47","v":{"$error":"#VALUE!"}},{"$f":"MIN((AD142+AS31*D19)/AK47,(AD143+AS31*D19)/AL47,(AD144+AS31*D19)/AM47,(AD145+AS31*D19)/AN47,(AD146+AS31*D19)/AO47)*AP47","v":{"$error":"#VALUE!"}},{"$f":"MIN((AE142+AS31*D19)/AK47,(AE143+AS31*D19)/AL47,(AE144+AS31*D19)/AM47,(AE145+AS31*D19)/AN47,(AE146+AS31*D19)/AO47)*AP47","v":{"$error":"#VALUE!"}},{"$f":"MIN((AF142+AS31*D19)/AK47,(AF143+AS31*D19)/AL47,(AF144+AS31*D19)/AM47,(AF145+AS31*D19)/AN47,(AF146+AS31*D19)/AO47)*AP47","v":{"$error":"#VALUE!"}},{"$error":"#VALUE!"}]
[null,null,null,null,null,null,null,null,null,null,null,null,null,null,null,null,null,{"$f":"I25+AH40+D15+D17+D21+D19*AG22","v":{"$error":"#VALUE!"}},{"$f":"R157+Q11","v":{"$error":"#VALUE!"}},{"$f":"R157+R11","v":{"$error":"#VALUE!"}},{"$f":"R157+S11","v":{"$error":"#VALUE!"}},{"$f":"R157+T11","v":{"$error":"#VALUE!"}},{"$f":"R157+U11","v":{"$error":"#VALUE!"}},{"$f":"R157+V11","v":{"$error":"#VALUE!"}},{"$f":"R157+W11","v":{"$error":"#VALUE!"}},{"$f":"R157+X11","v":{"$error":"#VALUE!"}},{"$f":"R157+Y11","v":{"$error":"#VALUE!"}},{"$f":"R157+Z11","v":{"$error":"#VALUE!"}},{"$f":"R157+AA11","v":{"$error":"#VALUE!"}},{"$f":"R157+AB11","v":{"$error":"#VALUE!"}},{"$f":"R157+AC11","v":{"$error":"#VALUE!"}},{"$f":"R157+AD11","v":{"$error":"#VALUE!"}},null,null,null,"",{"$f":"MIN((S149+AR31*D19)/AK46,(S150+AR31*D19)/AL46,(S151+AR31*D19)/AM46,(S152+AR31*D19)/AN46,(S153+AR31*D19)/AO46)*AP46","v":{"$error":"#VALUE!"}},{"$f":"MIN((T149+AR31*D19)/AK46,(T150+AR31*D19)/AL46,(T151+AR31*D19)/AM46,(T152+AR31*D19)/AN46,(T153+AR31*D19)/AO46)*AP46","v":{"$error":"#VALUE!"}},{"$f":"MIN((U149+AR31*D19)/AK46,(U150+AR31*D19)/AL46,(U151+AR31*D19)/AM46,(U152+AR31*D19)/AN46,(U153+AR31*D19)/AO46)*AP46","v":{"$error":"#VALUE!"}},{"$f":"MIN((V149+AR31*D19)/AK46,(V150+AR31*D19)/AL46,(V151+AR31*D19)/AM46,(V152+AR31*D19)/AN46,(V153+AR31*D19)/AO46)*AP46","v":{"$error":"#VALUE!"}},{"$f":"MIN((W149+AR31*D19)/AK46,(W150+AR31*D19)/AL46,(W151+AR31*D19)/AM46,(W152+AR31*D19)/AN46,(W153+AR31*D19)/AO46)*AP46","v":{"$error":"#VALUE!"}},{"$f":"MIN((X149+AR31*D19)/AK46,(X150+AR31*D19)/AL46,(X151+AR31*D19)/AM46,(X152+AR31*D19)/AN46,(X153+AR31*D19)/AO46)*AP46","v":{"$error":"#VALUE!"}},{"$f":"MIN((Y149+AR31*D19)/AK46,(Y150+AR31*D19)/AL46,(Y151+AR31*D19)/AM46,(Y152+AR31*D19)/AN46,(Y153+AR31*D19)/AO46)*AP46","v":{"$error":"#VALUE!"}},{"$f":"MIN((Z149+AR31*D19)/AK46,(Z150+AR31*D19)/AL46,(Z151+AR31*D19)/AM46,(Z152+AR31*D19)/AN46,(Z153+AR31*D19)/AO46)*AP46","v":{"$error":"#VALUE!"}},{"$f":"MIN((AA149+AR31*D19)/AK46,(AA150+AR31*D19)/AL46,(AA151+AR31*D19)/AM46,(AA152+AR31*D19)/AN46,(AA153+AR31*D19)/AO46)*AP46","v":{"$error":"#VALUE!"}},{"$f":"MIN((AB149+AR31*D19)/AK46,(AB150+AR31*D19)/AL46,(AB151+AR31*D19)/AM46,(AB152+AR31*D19)/AN46,(AB153+AR31*D19)/AO46)*AP46","v":{"$error":"#VALUE!"}},{"$f":"MIN((AC149+AR31*D19)/AK46,(AC150+AR31*D19)/AL46,(AC151+AR31*D19)/AM46,(AC152+AR31*D19)/AN46,(AC153+AR31*D19)/AO46)*AP46","v":{"$error":"#VALUE!"}},{"$f":"MIN((AD149+AR31*D19)/AK46,(AD150+AR31*D19)/AL46,(AD151+AR31*D19)/AM46,(AD152+AR31*D19)/AN46,(AD153+AR31*D19)/AO46)*AP46","v":{"$error":"#VALUE!"}},{"$f":"MIN((AE149+AR31*D19)/AK46,(AE150+AR31*D19)/AL46,(AE151+AR31*D19)/AM46,(AE152+AR31*D19)/AN46,(AE153+AR31*D19)/AO46)*AP46","v":{"$error":"#VALUE!"}},{"$f":"MIN((AF149+AR31*D19)/AK46,(AF150+AR31*D19)/AL46,(AF151+AR31*D19)/AM46,(AF152+AR31*D19)/AN46,(AF153+AR31*D19)/AO46)*AP46","v":{"$error":"#VALUE!"}},{"$error":"#VALUE!"},null,"",{"$f":"MIN((S149+AS31*D19)/AK47,(S150+AS31*D19)/AL47,(S151+AS31*D19)/AM47,(S152+AS31*D19)/AN47,(S153+AS31*D19)/AO47)*AP47","v":{"$error":"#VALUE!"}},{"$f":"MIN((T149+AS31*D19)/AK47,(T150+AS31*D19)/AL47,(T151+AS31*D19)/AM47,(T152+AS31*D19)/AN47,(T153+AS31*D19)/AO47)*AP47","v":{"$error":"#VALUE!"}},{"$f":"MIN((U149+AS31*D19)/AK47,(U150+AS31*D19)/AL47,(U151+AS31*D19)/AM47,(U152+AS31*D19)/AN47,(U153+AS31*D19)/AO47)*AP47","v":{"$error":"#VALUE!"}},{"$f":"MIN((V149+AS31*D19)/AK47,(V150+AS31*D19)/AL47,(V151+AS31*D19)/AM47,(V152+AS31*D19)/AN47,(V153+AS31*D19)/AO47)*AP47","v":{"$error":"#VALUE!"}},{"$f":"MIN((W149+AS31*D19)/AK47,(W150+AS31*D19)/AL47,(W151+AS31*D19)/AM47,(W152+AS31*D19)/AN47,(W153+AS31*D19)/AO47)*AP47","v":{"$error":"#VALUE!"}},{"$f":"MIN((X149+AS31*D19)/AK47,(X150+AS31*D19)/AL47,(X151+AS31*D19)/AM47,(X152+AS31*D19)/AN47,(X153+AS31*D19)/AO47)*AP47","v":{"$error":"#VALUE!"}},{"$f":"MIN((Y149+AS31*D19)/AK47,(Y150+AS31*D19)/AL47,(Y151+AS31*D19)/AM47,(Y152+AS31*D19)/AN47,(Y153+AS31*D19)/AO47)*AP47","v":{"$error":"#VALUE!"}},{"$f":"MIN((Z149+AS31*D19)/AK47,(Z150+AS31*D19)/AL47,(Z151+AS31*D19)/AM47,(Z152+AS31*D19)/AN47,(Z153+AS31*D19)/AO47)*AP47","v":{"$error":"#VALUE!"}},{"$f":"MIN((AA149+AS31*D19)/AK47,(AA150+AS31*D19)/AL47,(AA151+AS31*D19)/AM47,(AA152+AS31*D19)/AN47,(AA153+AS31*D19)/AO47)*AP47","v":{"$error":"#VALUE!"}},{"$f":"MIN((AB149+AS31*D19)/AK47,(AB150+AS31*D19)/AL47,(AB151+AS31*D19)/AM47,(AB152+AS31*D19)/AN47,(AB153+AS31*D19)/AO47)*AP47","v":{"$error":"#VALUE!"}},{"$f":"MIN((AC149+AS31*D19)/AK47,(AC150+AS31*D19)/AL47,(AC151+AS31*D19)/AM47,(AC152+AS31*D19)/AN47,(AC153+AS31*D19)/AO47)*AP47","v":{"$error":"#VALUE!"}},{"$f":"MIN((AD149+AS31*D19)/AK47,(AD150+AS31*D19)/AL47,(AD151+AS31*D19)/AM47,(AD152+AS31*D19)/AN47,(AD153+AS31*D19)/AO47)*AP47","v":{"$error":"#VALUE!"}},{"$f":"MIN((AE149+AS31*D19)/AK47,(AE150+AS31*D19)/AL47,(AE151+AS31*D19)/AM47,(AE152+AS31*D19)/AN47,(AE153+AS31*D19)/AO47)*AP47","v":{"$error":"#VALUE!"}},{"$f":"MIN((AF149+AS31*D19)/AK47,(AF150+AS31*D19)/AL47,(AF151+AS31*D19)/AM47,(AF152+AS31*D19)/AN47,(AF153+AS31*D19)/AO47)*AP47","v":{"$error":"#VALUE!"}},{"$error":"#VALUE!"}]
[null,null,null,null,null,null,null,null,null,null,null,null,null,null,null,null,null,{"$f":"J25+AH41+D15+D17+D21+D19*AG22","v":{"$error":"#VALUE!"}},{"$f":"R158+Q12","v":{"$error":"#VALUE!"}},{"$f":"R158+R12","v":{"$error":"#VALUE!"}},{"$f":"R158+S12","v":{"$error":"#VALUE!"}},{"$f":"R158+T12","v":{"$error":"#VALUE!"}},{"$f":"R158+U12","v":{"$error":"#VALUE!"}},{"$f":"R158+V12","v":{"$error":"#VALUE!"}},{"$f":"R158+W12","v":{"$error":"#VALUE!"}},{"$f":"R158+X12","v":{"$error":"#VALUE!"}},{"$f":"R158+Y12","v":{"$error":"#VALUE!"}},{"$f":"R158+Z12","v":{"$error":"#VALUE!"}},{"$f":"R158+AA12","v":{"$error":"#VALUE!"}},{"$f":"R158+AB12","v":{"$error":"#VALUE!"}},{"$f":"R158+AC12","v":{"$error":"#VALUE!"}},{"$f":"R158+AD12","v":{"$error":"#VALUE!"}},null,null,null,"",{"$f":"MIN((S156+AR31*D19)/AK46,(S157+AR31*D19)/AL46,(S158+AR31*D19)/AM46,(S159+AR31*D19)/AN46,(S160+AR31*D19)/AO46)*AP46","v":{"$error":"#VALUE!"}},{"$f":"MIN((T156+AR31*D19)/AK46,(T157+AR31*D19)/AL46,(T158+AR31*D19)/AM46,(T159+AR31*D19)/AN46,(T160+AR31*D19)/AO46)*AP46","v":{"$error":"#VALUE!"}},{"$f":"MIN((U156+AR31*D19)/AK46,(U157+AR31*D19)/AL46,(U158+AR31*D19)/AM46,(U159+AR31*D19)/AN46,(U160+AR31*D19)/AO46)*AP46","v":{"$error":"#VALUE!"}},{"$f":"MIN((V156+AR31*D19)/AK46,(V157+AR31*D19)/AL46,(V158+AR31*D19)/AM46,(V159+AR31*D19)/AN46,(V160+AR31*D19)/AO46)*AP46","v":{"$error":"#VALUE!"}},{"$f":"MIN((W156+AR31*D19)/AK46,(W157+AR31*D19)/AL46,(W158+AR31*D19)/AM46,(W159+AR31*D19)/AN46,(W160+AR31*D19)/AO46)*AP46","v":{"$error":"#VALUE!"}},{"$f":"MIN((X156+AR31*D19)/AK46,(X157+AR31*D19)/AL46,(X158+AR31*D19)/AM46,(X159+AR31*D19)/AN46,(X160+AR31*D19)/AO46)*AP46","v":{"$error":"#VALUE!"}},{"$f":"MIN((Y156+AR31*D19)/AK46,(Y157+AR31*D19)/AL46,(Y158+AR31*D19)/AM46,(Y159+AR31*D19)/AN46,(Y160+AR31*D19)/AO46)*AP46","v":{"$error":"#VALUE!"}},{"$f":"MIN((Z156+AR31*D19)/AK46,(Z157+AR31*D19)/AL46,(Z158+AR31*D19)/AM46,(Z159+AR31*D19)/AN46,(Z160+AR31*D19)/AO46)*AP46","v":{"$error":"#VALUE!"}},{"$f":"MIN((AA156+AR31*D19)/AK46,(AA157+AR31*D19)/AL46,(AA158+AR31*D19)/AM46,(AA159+AR31*D19)/AN46,(AA160+AR31*D19)/AO46)*AP46","v":{"$error":"#VALUE!"}},{"$f":"MIN((AB156+AR31*D19)/AK46,(AB157+AR31*D19)/AL46,(AB158+AR31*D19)/AM46,(AB159+AR31*D19)/AN46,(AB160+AR31*D19)/AO46)*AP46","v":{"$error":"#VALUE!"}},{"$f":"MIN((AC156+AR31*D19)/AK46,(AC157+AR31*D19)/AL46,(AC158+AR31*D19)/AM46,(AC159+AR31*D19)/AN46,(AC160+AR31*D19)/AO46)*AP46","v":{"$error":"#VALUE!"}},{"$f":"MIN((AD156+AR31*D19)/AK46,(AD157+AR31*D19)/AL46,(AD158+AR31*D19)/AM46,(AD159+AR31*D19)/AN46,(AD160+AR31*D19)/AO46)*AP46","v":{"$error":"#VALUE!"}},{"$f":"MIN((AE156+AR31*D19)/AK46,(AE157+AR31*D19)/AL46,(AE158+AR31*D19)/AM46,(AE159+AR31*D19)/AN46,(AE160+AR31*D19)/AO46)*AP46","v":{"$error":"#VALUE!"}},{"$f":"MIN((AF156+AR31*D19)/AK46,(AF157+AR31*D19)/AL46,(AF158+AR31*D19)/AM46,(AF159+AR31*D19)/AN46,(AF160+AR31*D19)/AO46)*AP46","v":{"$error":"#VALUE!"}},{"$error":"#VALUE!"},null,"",{"$f":"MIN((S156+AS31*D19)/AK47,(S157+AS31*D19)/AL47,(S158+AS31*D19)/AM47,(S159+AS31*D19)/AN47,(S160+AS31*D19)/AO47)*AP47","v":{"$error":"#VALUE!"}},{"$f":"MIN((T156+AS31*D19)/AK47,(T157+AS31*D19)/AL47,(T158+AS31*D19)/AM47,(T159+AS31*D19)/AN47,(T160+AS31*D19)/AO47)*AP47","v":{"$error":"#VALUE!"}},{"$f":"MIN((U156+AS31*D19)/AK47,(U157+AS31*D19)/AL47,(U158+AS31*D19)/AM47,(U159+AS31*D19)/AN47,(U160+AS31*D19)/AO47)*AP47","v":{"$error":"#VALUE!"}},{"$f":"MIN((V156+AS31*D19)/AK47,(V157+AS31*D19)/AL47,(V158+AS31*D19)/AM47,(V159+AS31*D19)/AN47,(V160+AS31*D19)/AO47)*AP47","v":{"$error":"#VALUE!"}},{"$f":"MIN((W156+AS31*D19)/AK47,(W157+AS31*D19)/AL47,(W158+AS31*D19)/AM47,(W159+AS31*D19)/AN47,(W160+AS31*D19)/AO47)*AP47","v":{"$error":"#VALUE!"}},{"$f":"MIN((X156+AS31*D19)/AK47,(X157+AS31*D19)/AL47,(X158+AS31*D19)/AM47,(X159+AS31*D19)/AN47,(X160+AS31*D19)/AO47)*AP47","v":{"$error":"#VALUE!"}},{"$f":"MIN((Y156+AS31*D19)/AK47,(Y157+AS31*D19)/AL47,(Y158+AS31*D19)/AM47,(Y159+AS31*D19)/AN47,(Y160+AS31*D19)/AO47)*AP47","v":{"$error":"#VALUE!"}},{"$f":"MIN((Z156+AS31*D19)/AK47,(Z157+AS31*D19)/AL47,(Z158+AS31*D19)/AM47,(Z159+AS31*D19)/AN47,(Z160+AS31*D19)/AO47)*AP47","v":{"$error":"#VALUE!"}},{"$f":"MIN((AA156+AS31*D19)/AK47,(AA157+AS31*D19)/AL47,(AA158+AS31*D19)/AM47,(AA159+AS31*D19)/AN47,(AA160+AS31*D19)/AO47)*AP47","v":{"$error":"#VALUE!"}},{"$f":"MIN((AB156+AS31*D19)/AK47,(AB157+AS31*D19)/AL47,(AB158+AS31*D19)/AM47,(AB159+AS31*D19)/AN47,(AB160+AS31*D19)/AO47)*AP47","v":{"$error":"#VALUE!"}},{"$f":"MIN((AC156+AS31*D19)/AK47,(AC157+AS31*D19)/AL47,(AC158+AS31*D19)/AM47,(AC159+AS31*D19)/AN47,(AC160+AS31*D19)/AO47)*AP47","v":{"$error":"#VALUE!"}},{"$f":"MIN((AD156+AS31*D19)/AK47,(AD157+AS31*D19)/AL47,(AD158+AS31*D19)/AM47,(AD159+AS31*D19)/AN47,(AD160+AS31*D19)/AO47)*AP47","v":{"$error":"#VALUE!"}},{"$f":"MIN((AE156+AS31*D19)/AK47,(AE157+AS31*D19)/AL47,(AE158+AS31*D19)/AM47,(AE159+AS31*D19)/AN47,(AE160+AS31*D19)/AO47)*AP47","v":{"$error":"#VALUE!"}},{"$f":"MIN((AF156+AS31*D19)/AK47,(AF157+AS31*D19)/AL47,(AF158+AS31*D19)/AM47,(AF159+AS31*D19)/AN47,(AF160+AS31*D19)/AO47)*AP47","v":{"$error":"#VALUE!"}},{"$error":"#VALUE!"}]
[null,null,null,null,null,null,null,null,null,null,null,null,null,null,null,null,null,{"$f":"K25+AH42+D16+D17+D21+D19*AG22","v":{"$error":"#VALUE!"}},{"$f":"R159+Q13","v":{"$error":"#VALUE!"}},{"$f":"R159+R13","v":{"$error":"#VALUE!"}},{"$f":"R159+S13","v":{"$error":"#VALUE!"}},{"$f":"R159+T13","v":{"$error":"#VALUE!"}},{"$f":"R159+U13","v":{"$error":"#VALUE!"}},{"$f":"R159+V13","v":{"$error":"#VALUE!"}},{"$f":"R159+W13","v":{"$error":"#VALUE!"}},{"$f":"R159+X13","v":{"$error":"#VALUE!"}},{"$f":"R159+Y13","v":{"$error":"#VALUE!"}},{"$f":"R159+Z13","v":{"$error":"#VALUE!"}},{"$f":"R159+AA13","v":{"$error":"#VALUE!"}},{"$f":"R159+AB13","v":{"$error":"#VALUE!"}},{"$f":"R159+AC13","v":{"$error":"#VALUE!"}},{"$f":"R159+AD13","v":{"$error":"#VALUE!"}},null,null,null,"",{"$f":"MIN((S163+AR31*D19)/AK46,(S164+AR31*D19)/AL46,(S165+AR31*D19)/AM46,(S166+AR31*D19)/AN46,(S167+AR31*D19)/AO46)*AP46","v":{"$error":"#VALUE!"}},{"$f":"MIN((T163+AR31*D19)/AK46,(T164+AR31*D19)/AL46,(T165+AR31*D19)/AM46,(T166+AR31*D19)/AN46,(T167+AR31*D19)/AO46)*AP46","v":{"$error":"#VALUE!"}},{"$f":"MIN((U163+AR31*D19)/AK46,(U164+AR31*D19)/AL46,(U165+AR31*D19)/AM46,(U166+AR31*D19)/AN46,(U167+AR31*D19)/AO46)*AP46","v":{"$error":"#VALUE!"}},{"$f":"MIN((V163+AR31*D19)/AK46,(V164+AR31*D19)/AL46,(V165+AR31*D19)/AM46,(V166+AR31*D19)/AN46,(V167+AR31*D19)/AO46)*AP46","v":{"$error":"#VALUE!"}},{"$f":"MIN((W163+AR31*D19)/AK46,(W164+AR31*D19)/AL46,(W165+AR31*D19)/AM46,(W166+AR31*D19)/AN46,(W167+AR31*D19)/AO46)*AP46","v":{"$error":"#VALUE!"}},{"$f":"MIN((X163+AR31*D19)/AK46,(X164+AR31*D19)/AL46,(X165+AR31*D19)/AM46,(X166+AR31*D19)/AN46,(X167+AR31*D19)/AO46)*AP46","v":{"$error":"#VALUE!"}},{"$f":"MIN((Y163+AR31*D19)/AK46,(Y164+AR31*D19)/AL46,(Y165+AR31*D19)/AM46,(Y166+AR31*D19)/AN46,(Y167+AR31*D19)/AO46)*AP46","v":{"$error":"#VALUE!"}},{"$f":"MIN((Z163+AR31*D19)/AK46,(Z164+AR31*D19)/AL46,(Z165+AR31*D19)/AM46,(Z166+AR31*D19)/AN46,(Z167+AR31*D19)/AO46)*AP46","v":{"$error":"#VALUE!"}},{"$f":"MIN((AA163+AR31*D19)/AK46,(AA164+AR31*D19)/AL46,(AA165+AR31*D19)/AM46,(AA166+AR31*D19)/AN46,(AA167+AR31*D19)/AO46)*AP46","v":{"$error":"#VALUE!"}},{"$f":"MIN((AB163+AR31*D19)/AK46,(AB164+AR31*D19)/AL46,(AB165+AR31*D19)/AM46,(AB166+AR31*D19)/AN46,(AB167+AR31*D19)/AO46)*AP46","v":{"$error":"#VALUE!"}},{"$f":"MIN((AC163+AR31*D19)/AK46,(AC164+AR31*D19)/AL46,(AC165+AR31*D19)/AM46,(AC166+AR31*D19)/AN46,(AC167+AR31*D19)/AO46)*AP46","v":{"$error":"#VALUE!"}},{"$f":"MIN((AD163+AR31*D19)/AK46,(AD164+AR31*D19)/AL46,(AD165+AR31*D19)/AM46,(AD166+AR31*D19)/AN46,(AD167+AR31*D19)/AO46)*AP46","v":{"$error":"#VALUE!"}},{"$f":"MIN((AE163+AR31*D19)/AK46,(AE164+AR31*D19)/AL46,(AE165+AR31*D19)/AM46,(AE166+AR31*D19)/AN46,(AE167+AR31*D19)/AO46)*AP46","v":{"$error":"#VALUE!"}},{"$f":"MIN((AF163+AR31*D19)/AK46,(AF164+AR31*D19)/AL46,(AF165+AR31*D19)/AM46,(AF166+AR31*D19)/AN46,(AF167+AR31*D19)/AO46)*AP46","v":{"$error":"#VALUE!"}},{"$error":"#VALUE!"},null,"",{"$f":"MIN((S163+AS31*D19)/AK47,(S164+AS31*D19)/AL47,(S165+AS31*D19)/AM47,(S166+AS31*D19)/AN47,(S167+AS31*D19)/AO47)*AP47","v":{"$error":"#VALUE!"}},{"$f":"MIN((T163+AS31*D19)/AK47,(T164+AS31*D19)/AL47,(T165+AS31*D19)/AM47,(T166+AS31*D19)/AN47,(T167+AS31*D19)/AO47)*AP47","v":{"$error":"#VALUE!"}},{"$f":"MIN((U163+AS31*D19)/AK47,(U164+AS31*D19)/AL47,(U165+AS31*D19)/AM47,(U166+AS31*D19)/AN47,(U167+AS31*D19)/AO47)*AP47","v":{"$error":"#VALUE!"}},{"$f":"MIN((V163+AS31*D19)/AK47,(V164+AS31*D19)/AL47,(V165+AS31*D19)/AM47,(V166+AS31*D19)/AN47,(V167+AS31*D19)/AO47)*AP47","v":{"$error":"#VALUE!"}},{"$f":"MIN((W163+AS31*D19)/AK47,(W164+AS31*D19)/AL47,(W165+AS31*D19)/AM47,(W166+AS31*D19)/AN47,(W167+AS31*D19)/AO47)*AP47","v":{"$error":"#VALUE!"}},{"$f":"MIN((X163+AS31*D19)/AK47,(X164+AS31*D19)/AL47,(X165+AS31*D19)/AM47,(X166+AS31*D19)/AN47,(X167+AS31*D19)/AO47)*AP47","v":{"$error":"#VALUE!"}},{"$f":"MIN((Y163+AS31*D19)/AK47,(Y164+AS31*D19)/AL47,(Y165+AS31*D19)/AM47,(Y166+AS31*D19)/AN47,(Y167+AS31*D19)/AO47)*AP47","v":{"$error":"#VALUE!"}},{"$f":"MIN((Z163+AS31*D19)/AK47,(Z164+AS31*D19)/AL47,(Z165+AS31*D19)/AM47,(Z166+AS31*D19)/AN47,(Z167+AS31*D19)/AO47)*AP47","v":{"$error":"#VALUE!"}},{"$f":"MIN((AA163+AS31*D19)/AK47,(AA164+AS31*D19)/AL47,(AA165+AS31*D19)/AM47,(AA166+AS31*D19)/AN47,(AA167+AS31*D19)/AO47)*AP47","v":{"$error":"#VALUE!"}},{"$f":"MIN((AB163+AS31*D19)/AK47,(AB164+AS31*D19)/AL47,(AB165+AS31*D19)/AM47,(AB166+AS31*D19)/AN47,(AB167+AS31*D19)/AO47)*AP47","v":{"$error":"#VALUE!"}},{"$f":"MIN((AC163+AS31*D19)/AK47,(AC164+AS31*D19)/AL47,(AC165+AS31*D19)/AM47,(AC166+AS31*D19)/AN47,(AC167+AS31*D19)/AO47)*AP47","v":{"$error":"#VALUE!"}},{"$f":"MIN((AD163+AS31*D19)/AK47,(AD164+AS31*D19)/AL47,(AD165+AS31*D19)/AM47,(AD166+AS31*D19)/AN47,(AD167+AS31*D19)/AO47)*AP47","v":{"$error":"#VALUE!"}},{"$f":"MIN((AE163+AS31*D19)/AK47,(AE164+AS31*D19)/AL47,(AE165+AS31*D19)/AM47,(AE166+AS31*D19)/AN47,(AE167+AS31*D19)/AO47)*AP47","v":{"$error":"#VALUE!"}},{"$f":"MIN((AF163+AS31*D19)/AK47,(AF164+AS31*D19)/AL47,(AF165+AS31*D19)/AM47,(AF166+AS31*D19)/AN47,(AF167+AS31*D19)/AO47)*AP47","v":{"$error":"#VALUE!"}},{"$error":"#VALUE!"}]
[null,null,null,null,null,null,null,null,null,null,null,null,null,null,null,null,null,{"$f":"L25+AH43+D15+D17+D21+D19*AG22","v":{"$error":"#VALUE!"}},{"$f":"R160+Q14","v":{"$error":"#VALUE!"}},{"$f":"R160+R14","v":{"$error":"#VALUE!"}},{"$f":"R160+S14","v":{"$error":"#VALUE!"}},{"$f":"R160+T14","v":{"$error":"#VALUE!"}},{"$f":"R160+U14","v":{"$error":"#VALUE!"}},{"$f":"R160+V14","v":{"$error":"#VALUE!"}},{"$f":"R160+W14","v":{"$error":"#VALUE!"}},{"$f":"R160+X14","v":{"$error":"#VALUE!"}},{"$f":"R160+Y14","v":{"$error":"#VALUE!"}},{"$f":"R160+Z14","v":{"$error":"#VALUE!"}},{"$f":"R160+AA14","v":{"$error":"#VALUE!"}},{"$f":"R160+AB14","v":{"$error":"#VALUE!"}},{"$f":"R160+AC14","v":{"$error":"#VALUE!"}},{"$f":"R160+AD14","v":{"$error":"#VALUE!"}},null,null,null,"",{"$f":"MIN((S170+AR31*D19)/AK46,(S171+AR31*D19)/AL46,(S172+AR31*D19)/AM46,(S173+AR31*D19)/AN46,(S174+AR31*D19)/AO46)*AP46","v":{"$error":"#VALUE!"}},{"$f":"MIN((T170+AR31*D19)/AK46,(T171+AR31*D19)/AL46,(T172+AR31*D19)/AM46,(T173+AR31*D19)/AN46,(T174+AR31*D19)/AO46)*AP46","v":{"$error":"#VALUE!"}},{"$f":"MIN((U170+AR31*D19)/AK46,(U171+AR31*D19)/AL46,(U172+AR31*D19)/AM46,(U173+AR31*D19)/AN46,(U174+AR31*D19)/AO46)*AP46","v":{"$error":"#VALUE!"}},{"$f":"MIN((V170+AR31*D19)/AK46,(V171+AR31*D19)/AL46,(V172+AR31*D19)/AM46,(V173+AR31*D19)/AN46,(V174+AR31*D19)/AO46)*AP46","v":{"$error":"#VALUE!"}},{"$f":"MIN((W170+AR31*D19)/AK46,(W171+AR31*D19)/AL46,(W172+AR31*D19)/AM46,(W173+AR31*D19)/AN46,(W174+AR31*D19)/AO46)*AP46","v":{"$error":"#VALUE!"}},{"$f":"MIN((X170+AR31*D19)/AK46,(X171+AR31*D19)/AL46,(X172+AR31*D19)/AM46,(X173+AR31*D19)/AN46,(X174+AR31*D19)/AO46)*AP46","v":{"$error":"#VALUE!"}},{"$f":"MIN((Y170+AR31*D19)/AK46,(Y171+AR31*D19)/AL46,(Y172+AR31*D19)/AM46,(Y173+AR31*D19)/AN46,(Y174+AR31*D19)/AO46)*AP46","v":{"$error":"#VALUE!"}},{"$f":"MIN((Z170+AR31*D19)/AK46,(Z171+AR31*D19)/AL46,(Z172+AR31*D19)/AM46,(Z173+AR31*D19)/AN46,(Z174+AR31*D19)/AO46)*AP46","v":{"$error":"#VALUE!"}},{"$f":"MIN((AA170+AR31*D19)/AK46,(AA171+AR31*D19)/AL46,(AA172+AR31*D19)/AM46,(AA173+AR31*D19)/AN46,(AA174+AR31*D19)/AO46)*AP46","v":{"$error":"#VALUE!"}},{"$f":"MIN((AB170+AR31*D19)/AK46,(AB171+AR31*D19)/AL46,(AB172+AR31*D19)/AM46,(AB173+AR31*D19)/AN46,(AB174+AR31*D19)/AO46)*AP46","v":{"$error":"#VALUE!"}},{"$f":"MIN((AC170+AR31*D19)/AK46,(AC171+AR31*D19)/AL46,(AC172+AR31*D19)/AM46,(AC173+AR31*D19)/AN46,(AC174+AR31*D19)/AO46)*AP46","v":{"$error":"#VALUE!"}},{"$f":"MIN((AD170+AR31*D19)/AK46,(AD171+AR31*D19)/AL46,(AD172+AR31*D19)/AM46,(AD173+AR31*D19)/AN46,(AD174+AR31*D19)/AO46)*AP46","v":{"$error":"#VALUE!"}},{"$f":"MIN((AE170+AR31*D19)/AK46,(AE171+AR31*D19)/AL46,(AE172+AR31*D19)/AM46,(AE173+AR31*D19)/AN46,(AE174+AR31*D19)/AO46)*AP46","v":{"$error":"#VALUE!"}},{"$f":"MIN((AF170+AR31*D19)/AK46,(AF171+AR31*D19)/AL46,(AF172+AR31*D19)/AM46,(AF173+AR31*D19)/AN46,(AF174+AR31*D19)/AO46)*AP46","v":{"$error":"#VALUE!"}},{"$error":"#VALUE!"},null,"",{"$f":"MIN((S170+AS31*D19)/AK47,(S171+AS31*D19)/AL47,(S172+AS31*D19)/AM47,(S173+AS31*D19)/AN47,(S174+AS31*D19)/AO47)*AP47","v":{"$error":"#VALUE!"}},{"$f":"MIN((T170+AS31*D19)/AK47,(T171+AS31*D19)/AL47,(T172+AS31*D19)/AM47,(T173+AS31*D19)/AN47,(T174+AS31*D19)/AO47)*AP47","v":{"$error":"#VALUE!"}},{"$f":"MIN((U170+AS31*D19)/AK47,(U171+AS31*D19)/AL47,(U172+AS31*D19)/AM47,(U173+AS31*D19)/AN47,(U174+AS31*D19)/AO47)*AP47","v":{"$error":"#VALUE!"}},{"$f":"MIN((V170+AS31*D19)/AK47,(V171+AS31*D19)/AL47,(V172+AS31*D19)/AM47,(V173+AS31*D19)/AN47,(V174+AS31*D19)/AO47)*AP47","v":{"$error":"#VALUE!"}},{"$f":"MIN((W170+AS31*D19)/AK47,(W171+AS31*D19)/AL47,(W172+AS31*D19)/AM47,(W173+AS31*D19)/AN47,(W174+AS31*D19)/AO47)*AP47","v":{"$error":"#VALUE!"}},{"$f":"MIN((X170+AS31*D19)/AK47,(X171+AS31*D19)/AL47,(X172+AS31*D19)/AM47,(X173+AS31*D19)/AN47,(X174+AS31*D19)/AO47)*AP47","v":{"$error":"#VALUE!"}},{"$f":"MIN((Y170+AS31*D19)/AK47,(Y171+AS31*D19)/AL47,(Y172+AS31*D19)/AM47,(Y173+AS31*D19)/AN47,(Y174+AS31*D19)/AO47)*AP47","v":{"$error":"#VALUE!"}},{"$f":"MIN((Z170+AS31*D19)/AK47,(Z171+AS31*D19)/AL47,(Z172+AS31*D19)/AM47,(Z173+AS31*D19)/AN47,(Z174+AS31*D19)/AO47)*AP47","v":{"$error":"#VALUE!"}},{"$f":"MIN((AA170+AS31*D19)/AK47,(AA171+AS31*D19)/AL47,(AA172+AS31*D19)/AM47,(AA173+AS31*D19)/AN47,(AA174+AS31*D19)/AO47)*AP47","v":{"$error":"#VALUE!"}},{"$f":"MIN((AB170+AS31*D19)/AK47,(AB171+AS31*D19)/AL47,(AB172+AS31*D19)/AM47,(AB173+AS31*D19)/AN47,(AB174+AS31*D19)/AO47)*AP47","v":{"$error":"#VALUE!"}},{"$f":"MIN((AC170+AS31*D19)/AK47,(AC171+AS31*D19)/AL47,(AC172+AS31*D19)/AM47,(AC173+AS31*D19)/AN47,(AC174+AS31*D19)/AO47)*AP47","v":{"$error":"#VALUE!"}},{"$f":"MIN((AD170+AS31*D19)/AK47,(AD171+AS31*D19)/AL47,(AD172+AS31*D19)/AM47,(AD173+AS31*D19)/AN47,(AD174+AS31*D19)/AO47)*AP47","v":{"$error":"#VALUE!"}},{"$f":"MIN((AE170+AS31*D19)/AK47,(AE171+AS31*D19)/AL47,(AE172+AS31*D19)/AM47,(AE173+AS31*D19)/AN47,(AE174+AS31*D19)/AO47)*AP47","v":{"$error":"#VALUE!"}},{"$f":"MIN((AF170+AS31*D19)/AK47,(AF171+AS31*D19)/AL47,(AF172+AS31*D19)/AM47,(AF173+AS31*D19)/AN47,(AF174+AS31*D19)/AO47)*AP47","v":{"$error":"#VALUE!"}},{"$error":"#VALUE!"}]
[null,null,null,null,null,null,null,null,null,null,null,null,null,null,null,null,null,null,null,null,null,null,null,null,null,null,null,null,null,null,null,null,null,null,null,"",{"$f":"MIN((S177+AR31*D19)/AK46,(S178+AR31*D19)/AL46,(S179+AR31*D19)/AM46,(S180+AR31*D19)/AN46,(S181+AR31*D19)/AO46)*AP46","v":{"$error":"#VALUE!"}},{"$f":"MIN((T177+AR31*D19)/AK46,(T178+AR31*D19)/AL46,(T179+AR31*D19)/AM46,(T180+AR31*D19)/AN46,(T181+AR31*D19)/AO46)*AP46","v":{"$error":"#VALUE!"}},{"$f":"MIN((U177+AR31*D19)/AK46,(U178+AR31*D19)/AL46,(U179+AR31*D19)/AM46,(U180+AR31*D19)/AN46,(U181+AR31*D19)/AO46)*AP46","v":{"$error":"#VALUE!"}},{"$f":"MIN((V177+AR31*D19)/AK46,(V178+AR31*D19)/AL46,(V179+AR31*D19)/AM46,(V180+AR31*D19)/AN46,(V181+AR31*D19)/AO46)*AP46","v":{"$error":"#VALUE!"}},{"$f":"MIN((W177+AR31*D19)/AK46,(W178+AR31*D19)/AL46,(W179+AR31*D19)/AM46,(W180+AR31*D19)/AN46,(W181+AR31*D19)/AO46)*AP46","v":{"$error":"#VALUE!"}},{"$f":"MIN((X177+AR31*D19)/AK46,(X178+AR31*D19)/AL46,(X179+AR31*D19)/AM46,(X180+AR31*D19)/AN46,(X181+AR31*D19)/AO46)*AP46","v":{"$error":"#VALUE!"}},{"$f":"MIN((Y177+AR31*D19)/AK46,(Y178+AR31*D19)/AL46,(Y179+AR31*D19)/AM46,(Y180+AR31*D19)/AN46,(Y181+AR31*D19)/AO46)*AP46","v":{"$error":"#VALUE!"}},{"$f":"MIN((Z177+AR31*D19)/AK46,(Z178+AR31*D19)/AL46,(Z179+AR31*D19)/AM46,(Z180+AR31*D19)/AN46,(Z181+AR31*D19)/AO46)*AP46","v":{"$error":"#VALUE!"}},{"$f":"MIN((AA177+AR31*D19)/AK46,(AA178+AR31*D19)/AL46,(AA179+AR31*D19)/AM46,(AA180+AR31*D19)/AN46,(AA181+AR31*D19)/AO46)*AP46","v":{"$error":"#VALUE!"}},{"$f":"MIN((AB177+AR31*D19)/AK46,(AB178+AR31*D19)/AL46,(AB179+AR31*D19)/AM46,(AB180+AR31*D19)/AN46,(AB181+AR31*D19)/AO46)*AP46","v":{"$error":"#VALUE!"}},{"$f":"MIN((AC177+AR31*D19)/AK46,(AC178+AR31*D19)/AL46,(AC179+AR31*D19)/AM46,(AC180+AR31*D19)/AN46,(AC181+AR31*D19)/AO46)*AP46","v":{"$error":"#VALUE!"}},{"$f":"MIN((AD177+AR31*D19)/AK46,(AD178+AR31*D19)/AL46,(AD179+AR31*D19)/AM46,(AD180+AR31*D19)/AN46,(AD181+AR31*D19)/AO46)*AP46","v":{"$error":"#VALUE!"}},{"$f":"MIN((AE177+AR31*D19)/AK46,(AE178+AR31*D19)/AL46,(AE179+AR31*D19)/AM46,(AE180+AR31*D19)/AN46,(AE181+AR31*D19)/AO46)*AP46","v":{"$error":"#VALUE!"}},{"$f":"MIN((AF177+AR31*D19)/AK46,(AF178+AR31*D19)/AL46,(AF179+AR31*D19)/AM46,(AF180+AR31*D19)/AN46,(AF181+AR31*D19)/AO46)*AP46","v":{"$error":"#VALUE!"}},{"$error":"#VALUE!"},null,"",{"$f":"MIN((S177+AS31*D19)/AK47,(S178+AS31*D19)/AL47,(S179+AS31*D19)/AM47,(S180+AS31*D19)/AN47,(S181+AS31*D19)/AO47)*AP47","v":{"$error":"#VALUE!"}},{"$f":"MIN((T177+AS31*D19)/AK47,(T178+AS31*D19)/AL47,(T179+AS31*D19)/AM47,(T180+AS31*D19)/AN47,(T181+AS31*D19)/AO47)*AP47","v":{"$error":"#VALUE!"}},{"$f":"MIN((U177+AS31*D19)/AK47,(U178+AS31*D19)/AL47,(U179+AS31*D19)/AM47,(U180+AS31*D19)/AN47,(U181+AS31*D19)/AO47)*AP47","v":{"$error":"#VALUE!"}},{"$f":"MIN((V177+AS31*D19)/AK47,(V178+AS31*D19)/AL47,(V179+AS31*D19)/AM47,(V180+AS31*D19)/AN47,(V181+AS31*D19)/AO47)*AP47","v":{"$error":"#VALUE!"}},{"$f":"MIN((W177+AS31*D19)/AK47,(W178+AS31*D19)/AL47,(W179+AS31*D19)/AM47,(W180+AS31*D19)/AN47,(W181+AS31*D19)/AO47)*AP47","v":{"$error":"#VALUE!"}},{"$f":"MIN((X177+AS31*D19)/AK47,(X178+AS31*D19)/AL47,(X179+AS31*D19)/AM47,(X180+AS31*D19)/AN47,(X181+AS31*D19)/AO47)*AP47","v":{"$error":"#VALUE!"}},{"$f":"MIN((Y177+AS31*D19)/AK47,(Y178+AS31*D19)/AL47,(Y179+AS31*D19)/AM47,(Y180+AS31*D19)/AN47,(Y181+AS31*D19)/AO47)*AP47","v":{"$error":"#VALUE!"}},{"$f":"MIN((Z177+AS31*D19)/AK47,(Z178+AS31*D19)/AL47,(Z179+AS31*D19)/AM47,(Z180+AS31*D19)/AN47,(Z181+AS31*D19)/AO47)*AP47","v":{"$error":"#VALUE!"}},{"$f":"MIN((AA177+AS31*D19)/AK47,(AA178+AS31*D19)/AL47,(AA179+AS31*D19)/AM47,(AA180+AS31*D19)/AN47,(AA181+AS31*D19)/AO47)*AP47","v":{"$error":"#VALUE!"}},{"$f":"MIN((AB177+AS31*D19)/AK47,(AB178+AS31*D19)/AL47,(AB179+AS31*D19)/AM47,(AB180+AS31*D19)/AN47,(AB181+AS31*D19)/AO47)*AP47","v":{"$error":"#VALUE!"}},{"$f":"MIN((AC177+AS31*D19)/AK47,(AC178+AS31*D19)/AL47,(AC179+AS31*D19)/AM47,(AC180+AS31*D19)/AN47,(AC181+AS31*D19)/AO47)*AP47","v":{"$error":"#VALUE!"}},{"$f":"MIN((AD177+AS31*D19)/AK47,(AD178+AS31*D19)/AL47,(AD179+AS31*D19)/AM47,(AD180+AS31*D19)/AN47,(AD181+AS31*D19)/AO47)*AP47","v":{"$error":"#VALUE!"}},{"$f":"MIN((AE177+AS31*D19)/AK47,(AE178+AS31*D19)/AL47,(AE179+AS31*D19)/AM47,(AE180+AS31*D19)/AN47,(AE181+AS31*D19)/AO47)*AP47","v":{"$error":"#VALUE!"}},{"$f":"MIN((AF177+AS31*D19)/AK47,(AF178+AS31*D19)/AL47,(AF179+AS31*D19)/AM47,(AF180+AS31*D19)/AN47,(AF181+AS31*D19)/AO47)*AP47","v":{"$error":"#VALUE!"}},{"$error":"#VALUE!"}]
[null,null,null,null,null,null,null,null,null,null,null,null,null,null,null,null,null,{"$f":"G26","v":""},{"$f":"S155","v":"kit 1"},{"$f":"T155","v":"kit 2A"},"kit 2B","kit 4A","kit 4B","kit 5","kit 6A","kit 6B","kit 7","kit 8","kit 9A","kit 9B",{"$f":"AE155","v":"kit 10"},{"$f":"AF155","v":"kit 11"},null,null,null,0,{"$f":"MIN((S184+AR31*D19)/AK46,(S185+AR31*D19)/AL46,(S186+AR31*D19)/AM46,(S187+AR31*D19)/AN46,(S188+AR31*D19)/AO46)*AP46","v":{"$error":"#VALUE!"}},{"$f":"MIN((T184+AR31*D19)/AK46,(T185+AR31*D19)/AL46,(T186+AR31*D19)/AM46,(T187+AR31*D19)/AN46,(T188+AR31*D19)/AO46)*AP46","v":{"$error":"#VALUE!"}},{"$f":"MIN((U184+AR31*D19)/AK46,(U185+AR31*D19)/AL46,(U186+AR31*D19)/AM46,(U187+AR31*D19)/AN46,(U188+AR31*D19)/AO46)*AP46","v":{"$error":"#VALUE!"}},{"$f":"MIN((V184+AR31*D19)/AK46,(V185+AR31*D19)/AL46,(V186+AR31*D19)/AM46,(V187+AR31*D19)/AN46,(V188+AR31*D19)/AO46)*AP46","v":{"$error":"#VALUE!"}},{"$f":"MIN((W184+AR31*D19)/AK46,(W185+AR31*D19)/AL46,(W186+AR31*D19)/AM46,(W187+AR31*D19)/AN46,(W188+AR31*D19)/AO46)*AP46","v":{"$error":"#VALUE!"}},{"$f":"MIN((X184+AR31*D19)/AK46,(X185+AR31*D19)/AL46,(X186+AR31*D19)/AM46,(X187+AR31*D19)/AN46,(X188+AR31*D19)/AO46)*AP46","v":{"$error":"#VALUE!"}},{"$f":"MIN((Y184+AR31*D19)/AK46,(Y185+AR31*D19)/AL46,(Y186+AR31*D19)/AM46,(Y187+AR31*D19)/AN46,(Y188+AR31*D19)/AO46)*AP46","v":{"$error":"#VALUE!"}},{"$f":"MIN((Z184+AR31*D19)/AK46,(Z185+AR31*D19)/AL46,(Z186+AR31*D19)/AM46,(Z187+AR31*D19)/AN46,(Z188+AR31*D19)/AO46)*AP46","v":{"$error":"#VALUE!"}},{"$f":"MIN((AA184+AR31*D19)/AK46,(AA185+AR31*D19)/AL46,(AA186+AR31*D19)/AM46,(AA187+AR31*D19)/AN46,(AA188+AR31*D19)/AO46)*AP46","v":{"$error":"#VALUE!"}},{"$f":"MIN((AB184+AR31*D19)/AK46,(AB185+AR31*D19)/AL46,(AB186+AR31*D19)/AM46,(AB187+AR31*D19)/AN46,(AB188+AR31*D19)/AO46)*AP46","v":{"$error":"#VALUE!"}},{"$f":"MIN((AC184+AR31*D19)/AK46,(AC185+AR31*D19)/AL46,(AC186+AR31*D19)/AM46,(AC187+AR31*D19)/AN46,(AC188+AR31*D19)/AO46)*AP46","v":{"$error":"#VALUE!"}},{"$f":"MIN((AD184+AR31*D19)/AK46,(AD185+AR31*D19)/AL46,(AD186+AR31*D19)/AM46,(AD187+AR31*D19)/AN46,(AD188+AR31*D19)/AO46)*AP46","v":{"$error":"#VALUE!"}},{"$f":"MIN((AE184+AR31*D19)/AK46,(AE185+AR31*D19)/AL46,(AE186+AR31*D19)/AM46,(AE187+AR31*D19)/AN46,(AE188+AR31*D19)/AO46)*AP46","v":{"$error":"#VALUE!"}},{"$f":"MIN((AF184+AR31*D19)/AK46,(AF185+AR31*D19)/AL46,(AF186+AR31*D19)/AM46,(AF187+AR31*D19)/AN46,(AF188+AR31*D19)/AO46)*AP46","v":{"$error":"#VALUE!"}},{"$error":"#VALUE!"},null,0,{"$f":"MIN((S184+AS31*D19)/AK47,(S185+AS31*D19)/AL47,(S186+AS31*D19)/AM47,(S187+AS31*D19)/AN47,(S188+AS31*D19)/AO47)*AP47","v":{"$error":"#VALUE!"}},{"$f":"MIN((T184+AS31*D19)/AK47,(T185+AS31*D19)/AL47,(T186+AS31*D19)/AM47,(T187+AS31*D19)/AN47,(T188+AS31*D19)/AO47)*AP47","v":{"$error":"#VALUE!"}},{"$f":"MIN((U184+AS31*D19)/AK47,(U185+AS31*D19)/AL47,(U186+AS31*D19)/AM47,(U187+AS31*D19)/AN47,(U188+AS31*D19)/AO47)*AP47","v":{"$error":"#VALUE!"}},{"$f":"MIN((V184+AS31*D19)/AK47,(V185+AS31*D19)/AL47,(V186+AS31*D19)/AM47,(V187+AS31*D19)/AN47,(V188+AS31*D19)/AO47)*AP47","v":{"$error":"#VALUE!"}},{"$f":"MIN((W184+AS31*D19)/AK47,(W185+AS31*D19)/AL47,(W186+AS31*D19)/AM47,(W187+AS31*D19)/AN47,(W188+AS31*D19)/AO47)*AP47","v":{"$error":"#VALUE!"}},{"$f":"MIN((X184+AS31*D19)/AK47,(X185+AS31*D19)/AL47,(X186+AS31*D19)/AM47,(X187+AS31*D19)/AN47,(X188+AS31*D19)/AO47)*AP47","v":{"$error":"#VALUE!"}},{"$f":"MIN((Y184+AS31*D19)/AK47,(Y185+AS31*D19)/AL47,(Y186+AS31*D19)/AM47,(Y187+AS31*D19)/AN47,(Y188+AS31*D19)/AO47)*AP47","v":{"$error":"#VALUE!"}},{"$f":"MIN((Z184+AS31*D19)/AK47,(Z185+AS31*D19)/AL47,(Z186+AS31*D19)/AM47,(Z187+AS31*D19)/AN47,(Z188+AS31*D19)/AO47)*AP47","v":{"$error":"#VALUE!"}},{"$f":"MIN((AA184+AS31*D19)/AK47,(AA185+AS31*D19)/AL47,(AA186+AS31*D19)/AM47,(AA187+AS31*D19)/AN47,(AA188+AS31*D19)/AO47)*AP47","v":{"$error":"#VALUE!"}},{"$f":"MIN((AB184+AS31*D19)/AK47,(AB185+AS31*D19)/AL47,(AB186+AS31*D19)/AM47,(AB187+AS31*D19)/AN47,(AB188+AS31*D19)/AO47)*AP47","v":{"$error":"#VALUE!"}},{"$f":"MIN((AC184+AS31*D19)/AK47,(AC185+AS31*D19)/AL47,(AC186+AS31*D19)/AM47,(AC187+AS31*D19)/AN47,(AC188+AS31*D19)/AO47)*AP47","v":{"$error":"#VALUE!"}},{"$f":"MIN((AD184+AS31*D19)/AK47,(AD185+AS31*D19)/AL47,(AD186+AS31*D19)/AM47,(AD187+AS31*D19)/AN47,(AD188+AS31*D19)/AO47)*AP47","v":{"$error":"#VALUE!"}},{"$f":"MIN((AE184+AS31*D19)/AK47,(AE185+AS31*D19)/AL47,(AE186+AS31*D19)/AM47,(AE187+AS31*D19)/AN47,(AE188+AS31*D19)/AO47)*AP47","v":{"$error":"#VALUE!"}},{"$f":"MIN((AF184+AS31*D19)/AK47,(AF185+AS31*D19)/AL47,(AF186+AS31*D19)/AM47,(AF187+AS31*D19)/AN47,(AF188+AS31*D19)/AO47)*AP47","v":{"$error":"#VALUE!"}},{"$error":"#VALUE!"}]
[null,null,null,null,null,null,null,null,null,null,null,null,null,null,null,null,null,{"$f":"H26+AH39+D16+D17+D21+D19*AG23","v":{"$error":"#VALUE!"}},{"$f":"R163+Q10","v":{"$error":"#VALUE!"}},{"$f":"R163+R10","v":{"$error":"#VALUE!"}},{"$f":"R163+S10","v":{"$error":"#VALUE!"}},{"$f":"R163+T10","v":{"$error":"#VALUE!"}},{"$f":"R163+U10","v":{"$error":"#VALUE!"}},{"$f":"R163+V10","v":{"$error":"#VALUE!"}},{"$f":"R163+W10","v":{"$error":"#VALUE!"}},{"$f":"R163+X10","v":{"$error":"#VALUE!"}},{"$f":"R163+Y10","v":{"$error":"#VALUE!"}},{"$f":"R163+Z10","v":{"$error":"#VALUE!"}},{"$f":"R163+AA10","v":{"$error":"#VALUE!"}},{"$f":"R163+AB10","v":{"$error":"#VALUE!"}},{"$f":"R163+AC10","v":{"$error":"#VALUE!"}},{"$f":"R163+AD10","v":{"$error":"#VALUE!"}},null,null,null,0,null,null,null,null,null,null,null,null,null,null,null,null,null,null,0,null,0,null,null,null,null,null,null,null,null,null,null,null,null,null,null,0]
[null,null,null,null,null,null,null,null,null,null,null,null,null,null,null,null,null,{"$f":"I26+AH40+D15+D17+D21+D19*AG23","v":{"$error":"#VALUE!"}},{"$f":"R164+Q11","v":{"$error":"#VALUE!"}},{"$f":"R164+R11","v":{"$error":"#VALUE!"}},{"$f":"R164+S11","v":{"$error":"#VALUE!"}},{"$f":"R164+T11","v":{"$error":"#VALUE!"}},{"$f":"R164+U11","v":{"$error":"#VALUE!"}},{"$f":"R164+V11","v":{"$error":"#VALUE!"}},{"$f":"R164+W11","v":{"$error":"#VALUE!"}},{"$f":"R164+X11","v":{"$error":"#VALUE!"}},{"$f":"R164+Y11","v":{"$error":"#VALUE!"}},{"$f":"R164+Z11","v":{"$error":"#VALUE!"}},{"$f":"R164+AA11","v":{"$error":"#VALUE!"}},{"$f":"R164+AB11","v":{"$error":"#VALUE!"}},{"$f":"R164+AC11","v":{"$error":"#VALUE!"}},{"$f":"R164+AD11","v":{"$error":"#VALUE!"}},null,null,null,0,null,null,null,null,null,null,null,null,null,null,null,null,null,null,0,null,0,null,null,null,null,null,null,null,null,null,null,null,null,null,null,0]
[null,null,null,null,null,null,null,null,null,null,null,null,null,null,null,null,null,{"$f":"J26+AH41+D15+D17+D21+D19*AG23","v":{"$error":"#VALUE!"}},{"$f":"R165+Q12","v":{"$error":"#VALUE!"}},{"$f":"R165+R12","v":{"$error":"#VALUE!"}},{"$f":"R165+S12","v":{"$error":"#VALUE!"}},{"$f":"R165+T12","v":{"$error":"#VALUE!"}},{"$f":"R165+U12","v":{"$error":"#VALUE!"}},{"$f":"R165+V12","v":{"$error":"#VALUE!"}},{"$f":"R165+W12","v":{"$error":"#VALUE!"}},{"$f":"R165+X12","v":{"$error":"#VALUE!"}},{"$f":"R165+Y12","v":{"$error":"#VALUE!"}},{"$f":"R165+Z12","v":{"$error":"#VALUE!"}},{"$f":"R165+AA12","v":{"$error":"#VALUE!"}},{"$f":"R165+AB12","v":{"$error":"#VALUE!"}},{"$f":"R165+AC12","v":{"$error":"#VALUE!"}},{"$f":"R165+AD12","v":{"$error":"#VALUE!"}},null,null,null,null,null,null,null,null,null,null,null,null,null,null,null,null,null,null,null,"gain minimum pour une pilule par position"]
[null,null,null,null,null,null,null,null,null,null,null,null,null,null,null,null,null,{"$f":"K26+AH42+D16+D17+D21+D19*AG23","v":{"$error":"#VALUE!"}},{"$f":"R166+Q13","v":{"$error":"#VALUE!"}},{"$f":"R166+R13","v":{"$error":"#VALUE!"}},{"$f":"R166+S13","v":{"$error":"#VALUE!"}},{"$f":"R166+T13","v":{"$error":"#VALUE!"}},{"$f":"R166+U13","v":{"$error":"#VALUE!"}},{"$f":"R166+V13","v":{"$error":"#VALUE!"}},{"$f":"R166+W13","v":{"$error":"#VALUE!"}},{"$f":"R166+X13","v":{"$error":"#VALUE!"}},{"$f":"R166+Y13","v":{"$error":"#VALUE!"}},{"$f":"R166+Z13","v":{"$error":"#VALUE!"}},{"$f":"R166+AA13","v":{"$error":"#VALUE!"}},{"$f":"R166+AB13","v":{"$error":"#VALUE!"}},{"$f":"R166+AC13","v":{"$error":"#VALUE!"}},{"$f":"R166+AD13","v":{"$error":"#VALUE!"}},null,null,null,11,{"$f":"Q9","v":"kit 1"},"kit 2A","kit 2B","kit 4A","kit 4B","kit 5","kit 6A","kit 6B","kit 7","kit 8","kit 9A","kit 9B","kit 10","kit 11","MAX",null,"position",1,2,3,4,5,6,7,8,9,10,11]
[null,null,null,null,null,null,null,null,null,null,null,null,null,null,null,null,null,{"$f":"L26+AH43+D15+D17+D21+D19*AG23","v":{"$error":"#VALUE!"}},{"$f":"R167+Q14","v":{"$error":"#VALUE!"}},{"$f":"R167+R14","v":{"$error":"#VALUE!"}},{"$f":"R167+S14","v":{"$error":"#VALUE!"}},{"$f":"R167+T14","v":{"$error":"#VALUE!"}},{"$f":"R167+U14","v":{"$error":"#VALUE!"}},{"$f":"R167+V14","v":{"$error":"#VALUE!"}},{"$f":"R167+W14","v":{"$error":"#VALUE!"}},{"$f":"R167+X14","v":{"$error":"#VALUE!"}},{"$f":"R167+Y14","v":{"$error":"#VALUE!"}},{"$f":"R167+Z14","v":{"$error":"#VALUE!"}},{"$f":"R167+AA14","v":{"$error":"#VALUE!"}},{"$f":"R167+AB14","v":{"$error":"#VALUE!"}},{"$f":"R167+AC14","v":{"$error":"#VALUE!"}},{"$f":"R167+AD14","v":{"$error":"#VALUE!"}},null,null,null,{"$f":"R57","v":""},{"$f":"MIN((S58+AT31*D19)/AK48,(S59+AT31*D19)/AL48,(S60+AT31*D19)/AM48,(S61+AT31*D19)/AN48,(S62+AT31*D19)/AO48)*AP48","v":{"$error":"#VALUE!"}},{"$f":"MIN((T58+AT31*D19)/AK48,(T59+AT31*D19)/AL48,(T60+AT31*D19)/AM48,(T61+AT31*D19)/AN48,(T62+AT31*D19)/AO48)*AP48","v":{"$error":"#VALUE!"}},{"$f":"MIN((U58+AT31*D19)/AK48,(U59+AT31*D19)/AL48,(U60+AT31*D19)/AM48,(U61+AT31*D19)/AN48,(U62+AT31*D19)/AO48)*AP48","v":{"$error":"#VALUE!"}},{"$f":"MIN((V58+AT31*D19)/AK48,(V59+AT31*D19)/AL48,(V60+AT31*D19)/AM48,(V61+AT31*D19)/AN48,(V62+AT31*D19)/AO48)*AP48","v":{"$error":"#VALUE!"}},{"$f":"MIN((W58+AT31*D19)/AK48,(W59+AT31*D19)/AL48,(W60+AT31*D19)/AM48,(W61+AT31*D19)/AN48,(W62+AT31*D19)/AO48)*AP48","v":{"$error":"#VALUE!"}},{"$f":"MIN((X58+AT31*D19)/AK48,(X59+AT31*D19)/AL48,(X60+AT31*D19)/AM48,(X61+AT31*D19)/AN48,(X62+AT31*D19)/AO48)*AP48","v":{"$error":"#VALUE!"}},{"$f":"MIN((Y58+AT31*D19)/AK48,(Y59+AT31*D19)/AL48,(Y60+AT31*D19)/AM48,(Y61+AT31*D19)/AN48,(Y62+AT31*D19)/AO48)*AP48","v":{"$error":"#VALUE!"}},{"$f":"MIN((Z58+AT31*D19)/AK48,(Z59+AT31*D19)/AL48,(Z60+AT31*D19)/AM48,(Z61+AT31*D19)/AN48,(Z62+AT31*D19)/AO48)*AP48","v":{"$error":"#VALUE!"}},{"$f":"MIN((AA58+AT31*D19)/AK48,(AA59+AT31*D19)/AL48,(AA60+AT31*D19)/AM48,(AA61+AT31*D19)/AN48,(AA62+AT31*D19)/AO48)*AP48","v":{"$error":"#VALUE!"}},{"$f":"MIN((AB58+AT31*D19)/AK48,(AB59+AT31*D19)/AL48,(AB60+AT31*D19)/AM48,(AB61+AT31*D19)/AN48,(AB62+AT31*D19)/AO48)*AP48","v":{"$error":"#VALUE!"}},{"$f":"MIN((AC58+AT31*D19)/AK48,(AC59+AT31*D19)/AL48,(AC60+AT31*D19)/AM48,(AC61+AT31*D19)/AN48,(AC62+AT31*D19)/AO48)*AP48","v":{"$error":"#VALUE!"}},{"$f":"MIN((AD58+AT31*D19)/AK48,(AD59+AT31*D19)/AL48,(AD60+AT31*D19)/AM48,(AD61+AT31*D19)/AN48,(AD62+AT31*D19)/AO48)*AP48","v":{"$error":"#VALUE!"}},{"$f":"MIN((AE58+AT31*D19)/AK48,(AE59+AT31*D19)/AL48,(AE60+AT31*D19)/AM48,(AE61+AT31*D19)/AN48,(AE62+AT31*D19)/AO48)*AP48","v":{"$error":"#VALUE!"}},{"$f":"MIN((AF58+AT31*D19)/AK48,(AF59+AT31*D19)/AL48,(AF60+AT31*D19)/AM48,(AF61+AT31*D19)/AN48,(AF62+AT31*D19)/AO48)*AP48","v":{"$error":"#VALUE!"}},{"$f":"MAX(AK167:AX167)","v":{"$error":"#VALUE!"}},null,"gain pilule",{"$f":"MIN((D19)/AK38,(D19)/AL38,(D19)/AM38,(D19)/AN38,(D19)/AO38)*AP38*BW55","v":0},{"$f":"MIN((D19)/AK39,(D19)/AL39,(D19)/AM39,(D19)/AN39,(D19)/AO39)*AP39*BW56","v":0},{"$f":"MIN((D19)/AK40,(D19)/AL40,(D19)/AM40,(D19)/AN40,(D19)/AO40)*AP40*BW57","v":0},{"$f":"MIN((D19)/AK41,(D19)/AL41,(D19)/AM41,(D19)/AN41,(D19)/AO41)*AP41*BW58","v":0},{"$f":"MIN((D19)/AK42,(D19)/AL42,(D19)/AM42,(D19)/AN42,(D19)/AO42)*AP42*BW59","v":0},{"$f":"MIN((D19)/AK43,(D19)/AL43,(D19)/AM43,(D19)/AN43,(D19)/AO43)*AP43*BW60","v":0},{"$f":"MIN((D19)/AK44,(D19)/AL44,(D19)/AM44,(D19)/AN44,(D19)/AO44)*AP44*BW61","v":0},{"$f":"MIN((D19)/AK45,(D19)/AL45,(D19)/AM45,(D19)/AN45,(D19)/AO45)*AP45*BW62","v":0},{"$f":"MIN((D19)/AK46,(D19)/AL46,(D19)/AM46,(D19)/AN46,(D19)/AO46)*AP46*BW63","v":0},{"$f":"MIN((D19)/AK47,(D19)/AL47,(D19)/AM47,(D19)/AN47,(D19)/AO47)*AP47*BW64","v":0},{"$f":"MIN((D19)/AK48,(D19)/AL48,(D19)/AM48,(D19)/AN48,(D19)/AO48)*AP48*BW65","v":0}]
[null,null,null,null,null,null,null,null,null,null,null,null,null,null,null,null,null,null,null,null,null,null,null,null,null,null,null,null,null,null,null,null,null,null,null,{"$f":"R64","v":""},{"$f":"MIN((S65+AT31*D19)/AK48,(S66+AT31*D19)/AL48,(S67+AT31*D19)/AM48,(S68+AT31*D19)/AN48,(S69+AT31*D19)/AO48)*AP48","v":{"$error":"#VALUE!"}},{"$f":"MIN((T65+AT31*D19)/AK48,(T66+AT31*D19)/AL48,(T67+AT31*D19)/AM48,(T68+AT31*D19)/AN48,(T69+AT31*D19)/AO48)*AP48","v":{"$error":"#VALUE!"}},{"$f":"MIN((U65+AT31*D19)/AK48,(U66+AT31*D19)/AL48,(U67+AT31*D19)/AM48,(U68+AT31*D19)/AN48,(U69+AT31*D19)/AO48)*AP48","v":{"$error":"#VALUE!"}},{"$f":"MIN((V65+AT31*D19)/AK48,(V66+AT31*D19)/AL48,(V67+AT31*D19)/AM48,(V68+AT31*D19)/AN48,(V69+AT31*D19)/AO48)*AP48","v":{"$error":"#VALUE!"}},{"$f":"MIN((W65+AT31*D19)/AK48,(W66+AT31*D19)/AL48,(W67+AT31*D19)/AM48,(W68+AT31*D19)/AN48,(W69+AT31*D19)/AO48)*AP48","v":{"$error":"#VALUE!"}},{"$f":"MIN((X65+AT31*D19)/AK48,(X66+AT31*D19)/AL48,(X67+AT31*D19)/AM48,(X68+AT31*D19)/AN48,(X69+AT31*D19)/AO48)*AP48","v":{"$error":"#VALUE!"}},{"$f":"MIN((Y65+AT31*D19)/AK48,(Y66+AT31*D19)/AL48,(Y67+AT31*D19)/AM48,(Y68+AT31*D19)/AN48,(Y69+AT31*D19)/AO48)*AP48","v":{"$error":"#VALUE!"}},{"$f":"MIN((Z65+AT31*D19)/AK48,(Z66+AT31*D19)/AL48,(Z67+AT31*D19)/AM48,(Z68+AT31*D19)/AN48,(Z69+AT31*D19)/AO48)*AP48","v":{"$error":"#VALUE!"}},{"$f":"MIN((AA65+AT31*D19)/AK48,(AA66+AT31*D19)/AL48,(AA67+AT31*D19)/AM48,(AA68+AT31*D19)/AN48,(AA69+AT31*D19)/AO48)*AP48","v":{"$error":"#VALUE!"}},{"$f":"MIN((AB65+AT31*D19)/AK48,(AB66+AT31*D19)/AL48,(AB67+AT31*D19)/AM48,(AB68+AT31*D19)/AN48,(AB69+AT31*D19)/AO48)*AP48","v":{"$error":"#VALUE!"}},{"$f":"MIN((AC65+AT31*D19)/AK48,(AC66+AT31*D19)/AL48,(AC67+AT31*D19)/AM48,(AC68+AT31*D19)/AN48,(AC69+AT31*D19)/AO48)*AP48","v":{"$error":"#VALUE!"}},{"$f":"MIN((AD65+AT31*D19)/AK48,(AD66+AT31*D19)/AL48,(AD67+AT31*D19)/AM48,(AD68+AT31*D19)/AN48,(AD69+AT31*D19)/AO48)*AP48","v":{"$error":"#VALUE!"}},{"$f":"MIN((AE65+AT31*D19)/AK48,(AE66+AT31*D19)/AL48,(AE67+AT31*D19)/AM48,(AE68+AT31*D19)/AN48,(AE69+AT31*D19)/AO48)*AP48","v":{"$error":"#VALUE!"}},{"$f":"MIN((AF65+AT31*D19)/AK48,(AF66+AT31*D19)/AL48,(AF67+AT31*D19)/AM48,(AF68+AT31*D19)/AN48,(AF69+AT31*D19)/AO48)*AP48","v":{"$error":"#VALUE!"}},{"$error":"#VALUE!"}]
[null,null,null,null,null,null,null,null,null,null,null,null,null,null,null,null,null,{"$f":"G27","v":""},{"$f":"S162","v":"kit 1"},{"$f":"T162","v":"kit 2A"},"kit 2B","kit 4A","kit 4B","kit 5","kit 6A","kit 6B","kit 7","kit 8","kit 9A","kit 9B",{"$f":"AE162","v":"kit 10"},{"$f":"AF162","v":"kit 11"},null,null,null,{"$f":"R71","v":""},{"$f":"MIN((S72+AT31*D19)/AK48,(S73+AT31*D19)/AL48,(S74+AT31*D19)/AM48,(S75+AT31*D19)/AN48,(S76+AT31*D19)/AO48)*AP48","v":{"$error":"#VALUE!"}},{"$f":"MIN((T72+AT31*D19)/AK48,(T73+AT31*D19)/AL48,(T74+AT31*D19)/AM48,(T75+AT31*D19)/AN48,(T76+AT31*D19)/AO48)*AP48","v":{"$error":"#VALUE!"}},{"$f":"MIN((U72+AT31*D19)/AK48,(U73+AT31*D19)/AL48,(U74+AT31*D19)/AM48,(U75+AT31*D19)/AN48,(U76+AT31*D19)/AO48)*AP48","v":{"$error":"#VALUE!"}},{"$f":"MIN((V72+AT31*D19)/AK48,(V73+AT31*D19)/AL48,(V74+AT31*D19)/AM48,(V75+AT31*D19)/AN48,(V76+AT31*D19)/AO48)*AP48","v":{"$error":"#VALUE!"}},{"$f":"MIN((W72+AT31*D19)/AK48,(W73+AT31*D19)/AL48,(W74+AT31*D19)/AM48,(W75+AT31*D19)/AN48,(W76+AT31*D19)/AO48)*AP48","v":{"$error":"#VALUE!"}},{"$f":"MIN((X72+AT31*D19)/AK48,(X73+AT31*D19)/AL48,(X74+AT31*D19)/AM48,(X75+AT31*D19)/AN48,(X76+AT31*D19)/AO48)*AP48","v":{"$error":"#VALUE!"}},{"$f":"MIN((Y72+AT31*D19)/AK48,(Y73+AT31*D19)/AL48,(Y74+AT31*D19)/AM48,(Y75+AT31*D19)/AN48,(Y76+AT31*D19)/AO48)*AP48","v":{"$error":"#VALUE!"}},{"$f":"MIN((Z72+AT31*D19)/AK48,(Z73+AT31*D19)/AL48,(Z74+AT31*D19)/AM48,(Z75+AT31*D19)/AN48,(Z76+AT31*D19)/AO48)*AP48","v":{"$error":"#VALUE!"}},{"$f":"MIN((AA72+AT31*D19)/AK48,(AA73+AT31*D19)/AL48,(AA74+AT31*D19)/AM48,(AA75+AT31*D19)/AN48,(AA76+AT31*D19)/AO48)*AP48","v":{"$error":"#VALUE!"}},{"$f":"MIN((AB72+AT31*D19)/AK48,(AB73+AT31*D19)/AL48,(AB74+AT31*D19)/AM48,(AB75+AT31*D19)/AN48,(AB76+AT31*D19)/AO48)*AP48","v":{"$error":"#VALUE!"}},{"$f":"MIN((AC72+AT31*D19)/AK48,(AC73+AT31*D19)/AL48,(AC74+AT31*D19)/AM48,(AC75+AT31*D19)/AN48,(AC76+AT31*D19)/AO48)*AP48","v":{"$error":"#VALUE!"}},{"$f":"MIN((AD72+AT31*D19)/AK48,(AD73+AT31*D19)/AL48,(AD74+AT31*D19)/AM48,(AD75+AT31*D19)/AN48,(AD76+AT31*D19)/AO48)*AP48","v":{"$error":"#VALUE!"}},{"$f":"MIN((AE72+AT31*D19)/AK48,(AE73+AT31*D19)/AL48,(AE74+AT31*D19)/AM48,(AE75+AT31*D19)/AN48,(AE76+AT31*D19)/AO48)*AP48","v":{"$error":"#VALUE!"}},{"$f":"MIN((AF72+AT31*D19)/AK48,(AF73+AT31*D19)/AL48,(AF74+AT31*D19)/AM48,(AF75+AT31*D19)/AN48,(AF76+AT31*D19)/AO48)*AP48","v":{"$error":"#VALUE!"}},{"$error":"#VALUE!"}]
[null,null,null,null,null,null,null,null,null,null,null,null,null,null,null,null,null,{"$f":"H27+AH39+D16+D17+D21+D19*AG24","v":{"$error":"#VALUE!"}},{"$f":"R170+Q10","v":{"$error":"#VALUE!"}},{"$f":"R170+R10","v":{"$error":"#VALUE!"}},{"$f":"R170+S10","v":{"$error":"#VALUE!"}},{"$f":"R170+T10","v":{"$error":"#VALUE!"}},{"$f":"R170+U10","v":{"$error":"#VALUE!"}},{"$f":"R170+V10","v":{"$error":"#VALUE!"}},{"$f":"R170+W10","v":{"$error":"#VALUE!"}},{"$f":"R170+X10","v":{"$error":"#VALUE!"}},{"$f":"R170+Y10","v":{"$error":"#VALUE!"}},{"$f":"R170+Z10","v":{"$error":"#VALUE!"}},{"$f":"R170+AA10","v":{"$error":"#VALUE!"}},{"$f":"R170+AB10","v":{"$error":"#VALUE!"}},{"$f":"R170+AC10","v":{"$error":"#VALUE!"}},{"$f":"R170+AD10","v":{"$error":"#VALUE!"}},null,null,null,{"$f":"R78","v":""},{"$f":"MIN((S79+AT31*D19)/AK48,(S80+AT31*D19)/AL48,(S81+AT31*D19)/AM48,(S82+AT31*D19)/AN48,(S83+AT31*D19)/AO48)*AP48","v":{"$error":"#VALUE!"}},{"$f":"MIN((T79+AT31*D19)/AK48,(T80+AT31*D19)/AL48,(T81+AT31*D19)/AM48,(T82+AT31*D19)/AN48,(T83+AT31*D19)/AO48)*AP48","v":{"$error":"#VALUE!"}},{"$f":"MIN((U79+AT31*D19)/AK48,(U80+AT31*D19)/AL48,(U81+AT31*D19)/AM48,(U82+AT31*D19)/AN48,(U83+AT31*D19)/AO48)*AP48","v":{"$error":"#VALUE!"}},{"$f":"MIN((V79+AT31*D19)/AK48,(V80+AT31*D19)/AL48,(V81+AT31*D19)/AM48,(V82+AT31*D19)/AN48,(V83+AT31*D19)/AO48)*AP48","v":{"$error":"#VALUE!"}},{"$f":"MIN((W79+AT31*D19)/AK48,(W80+AT31*D19)/AL48,(W81+AT31*D19)/AM48,(W82+AT31*D19)/AN48,(W83+AT31*D19)/AO48)*AP48","v":{"$error":"#VALUE!"}},{"$f":"MIN((X79+AT31*D19)/AK48,(X80+AT31*D19)/AL48,(X81+AT31*D19)/AM48,(X82+AT31*D19)/AN48,(X83+AT31*D19)/AO48)*AP48","v":{"$error":"#VALUE!"}},{"$f":"MIN((Y79+AT31*D19)/AK48,(Y80+AT31*D19)/AL48,(Y81+AT31*D19)/AM48,(Y82+AT31*D19)/AN48,(Y83+AT31*D19)/AO48)*AP48","v":{"$error":"#VALUE!"}},{"$f":"MIN((Z79+AT31*D19)/AK48,(Z80+AT31*D19)/AL48,(Z81+AT31*D19)/AM48,(Z82+AT31*D19)/AN48,(Z83+AT31*D19)/AO48)*AP48","v":{"$error":"#VALUE!"}},{"$f":"MIN((AA79+AT31*D19)/AK48,(AA80+AT31*D19)/AL48,(AA81+AT31*D19)/AM48,(AA82+AT31*D19)/AN48,(AA83+AT31*D19)/AO48)*AP48","v":{"$error":"#VALUE!"}},{"$f":"MIN((AB79+AT31*D19)/AK48,(AB80+AT31*D19)/AL48,(AB81+AT31*D19)/AM48,(AB82+AT31*D19)/AN48,(AB83+AT31*D19)/AO48)*AP48","v":{"$error":"#VALUE!"}},{"$f":"MIN((AC79+AT31*D19)/AK48,(AC80+AT31*D19)/AL48,(AC81+AT31*D19)/AM48,(AC82+AT31*D19)/AN48,(AC83+AT31*D19)/AO48)*AP48","v":{"$error":"#VALUE!"}},{"$f":"MIN((AD79+AT31*D19)/AK48,(AD80+AT31*D19)/AL48,(AD81+AT31*D19)/AM48,(AD82+AT31*D19)/AN48,(AD83+AT31*D19)/AO48)*AP48","v":{"$error":"#VALUE!"}},{"$f":"MIN((AE79+AT31*D19)/AK48,(AE80+AT31*D19)/AL48,(AE81+AT31*D19)/AM48,(AE82+AT31*D19)/AN48,(AE83+AT31*D19)/AO48)*AP48","v":{"$error":"#VALUE!"}},{"$f":"MIN((AF79+AT31*D19)/AK48,(AF80+AT31*D19)/AL48,(AF81+AT31*D19)/AM48,(AF82+AT31*D19)/AN48,(AF83+AT31*D19)/AO48)*AP48","v":{"$error":"#VALUE!"}},{"$error":"#VALUE!"}]
[null,null,null,null,null,null,null,null,null,null,null,null,null,null,null,null,null,{"$f":"I27+AH40+D15+D17+D21+D19*AG24","v":{"$error":"#VALUE!"}},{"$f":"R171+Q11","v":{"$error":"#VALUE!"}},{"$f":"R171+R11","v":{"$error":"#VALUE!"}},{"$f":"R171+S11","v":{"$error":"#VALUE!"}},{"$f":"R171+T11","v":{"$error":"#VALUE!"}},{"$f":"R171+U11","v":{"$error":"#VALUE!"}},{"$f":"R171+V11","v":{"$error":"#VALUE!"}},{"$f":"R171+W11","v":{"$error":"#VALUE!"}},{"$f":"R171+X11","v":{"$error":"#VALUE!"}},{"$f":"R171+Y11","v":{"$error":"#VALUE!"}},{"$f":"R171+Z11","v":{"$error":"#VALUE!"}},{"$f":"R171+AA11","v":{"$error":"#VALUE!"}},{"$f":"R171+AB11","v":{"$error":"#VALUE!"}},{"$f":"R171+AC11","v":{"$error":"#VALUE!"}},{"$f":"R171+AD11","v":{"$error":"#VALUE!"}},null,null,null,{"$f":"R85","v":""},{"$f":"MIN((S86+AT31*D19)/AK48,(S87+AT31*D19)/AL48,(S88+AT31*D19)/AM48,(S89+AT31*D19)/AN48,(S90+AT31*D19)/AO48)*AP48","v":{"$error":"#VALUE!"}},{"$f":"MIN((T86+AT31*D19)/AK48,(T87+AT31*D19)/AL48,(T88+AT31*D19)/AM48,(T89+AT31*D19)/AN48,(T90+AT31*D19)/AO48)*AP48","v":{"$error":"#VALUE!"}},{"$f":"MIN((U86+AT31*D19)/AK48,(U87+AT31*D19)/AL48,(U88+AT31*D19)/AM48,(U89+AT31*D19)/AN48,(U90+AT31*D19)/AO48)*AP48","v":{"$error":"#VALUE!"}},{"$f":"MIN((V86+AT31*D19)/AK48,(V87+AT31*D19)/AL48,(V88+AT31*D19)/AM48,(V89+AT31*D19)/AN48,(V90+AT31*D19)/AO48)*AP48","v":{"$error":"#VALUE!"}},{"$f":"MIN((W86+AT31*D19)/AK48,(W87+AT31*D19)/AL48,(W88+AT31*D19)/AM48,(W89+AT31*D19)/AN48,(W90+AT31*D19)/AO48)*AP48","v":{"$error":"#VALUE!"}},{"$f":"MIN((X86+AT31*D19)/AK48,(X87+AT31*D19)/AL48,(X88+AT31*D19)/AM48,(X89+AT31*D19)/AN48,(X90+AT31*D19)/AO48)*AP48","v":{"$error":"#VALUE!"}},{"$f":"MIN((Y86+AT31*D19)/AK48,(Y87+AT31*D19)/AL48,(Y88+AT31*D19)/AM48,(Y89+AT31*D19)/AN48,(Y90+AT31*D19)/AO48)*AP48","v":{"$error":"#VALUE!"}},{"$f":"MIN((Z86+AT31*D19)/AK48,(Z87+AT31*D19)/AL48,(Z88+AT31*D19)/AM48,(Z89+AT31*D19)/AN48,(Z90+AT31*D19)/AO48)*AP48","v":{"$error":"#VALUE!"}},{"$f":"MIN((AA86+AT31*D19)/AK48,(AA87+AT31*D19)/AL48,(AA88+AT31*D19)/AM48,(AA89+AT31*D19)/AN48,(AA90+AT31*D19)/AO48)*AP48","v":{"$error":"#VALUE!"}},{"$f":"MIN((AB86+AT31*D19)/AK48,(AB87+AT31*D19)/AL48,(AB88+AT31*D19)/AM48,(AB89+AT31*D19)/AN48,(AB90+AT31*D19)/AO48)*AP48","v":{"$error":"#VALUE!"}},{"$f":"MIN((AC86+AT31*D19)/AK48,(AC87+AT31*D19)/AL48,(AC88+AT31*D19)/AM48,(AC89+AT31*D19)/AN48,(AC90+AT31*D19)/AO48)*AP48","v":{"$error":"#VALUE!"}},{"$f":"MIN((AD86+AT31*D19)/AK48,(AD87+AT31*D19)/AL48,(AD88+AT31*D19)/AM48,(AD89+AT31*D19)/AN48,(AD90+AT31*D19)/AO48)*AP48","v":{"$error":"#VALUE!"}},{"$f":"MIN((AE86+AT31*D19)/AK48,(AE87+AT31*D19)/AL48,(AE88+AT31*D19)/AM48,(AE89+AT31*D19)/AN48,(AE90+AT31*D19)/AO48)*AP48","v":{"$error":"#VALUE!"}},{"$f":"MIN((AF86+AT31*D19)/AK48,(AF87+AT31*D19)/AL48,(AF88+AT31*D19)/AM48,(AF89+AT31*D19)/AN48,(AF90+AT31*D19)/AO48)*AP48","v":{"$error":"#VALUE!"}},{"$error":"#VALUE!"}]
[null,null,null,null,null,null,null,null,null,null,null,null,null,null,null,null,null,{"$f":"J27+AH41+D15+D17+D21+D19*AG24","v":{"$error":"#VALUE!"}},{"$f":"R172+Q12","v":{"$error":"#VALUE!"}},{"$f":"R172+R12","v":{"$error":"#VALUE!"}},{"$f":"R172+S12","v":{"$error":"#VALUE!"}},{"$f":"R172+T12","v":{"$error":"#VALUE!"}},{"$f":"R172+U12","v":{"$error":"#VALUE!"}},{"$f":"R172+V12","v":{"$error":"#VALUE!"}},{"$f":"R172+W12","v":{"$error":"#VALUE!"}},{"$f":"R172+X12","v":{"$error":"#VALUE!"}},{"$f":"R172+Y12","v":{"$error":"#VALUE!"}},{"$f":"R172+Z12","v":{"$error":"#VALUE!"}},{"$f":"R172+AA12","v":{"$error":"#VALUE!"}},{"$f":"R172+AB12","v":{"$error":"#VALUE!"}},{"$f":"R172+AC12","v":{"$error":"#VALUE!"}},{"$f":"R172+AD12","v":{"$error":"#VALUE!"}},null,null,null,{"$f":"R92","v":""},{"$f":"MIN((S93+AT31*D19)/AK48,(S94+AT31*D19)/AL48,(S95+AT31*D19)/AM48,(S96+AT31*D19)/AN48,(S97++AT31*D19)/AO48)*AP48","v":{"$error":"#VALUE!"}},{"$f":"MIN((T93+AT31*D19)/AK48,(T94+AT31*D19)/AL48,(T95+AT31*D19)/AM48,(T96+AT31*D19)/AN48,(T97+AT31*D19)/AO48)*AP48","v":{"$error":"#VALUE!"}},{"$f":"MIN((U93+AT31*D19)/AK48,(U94+AT31*D19)/AL48,(U95+AT31*D19)/AM48,(U96+AT31*D19)/AN48,(U97+AT31*D19)/AO48)*AP48","v":{"$error":"#VALUE!"}},{"$f":"MIN((V93+AT31*D19)/AK48,(V94+AT31*D19)/AL48,(V95+AT31*D19)/AM48,(V96+AT31*D19)/AN48,(V97+AT31*D19)/AO48)*AP48","v":{"$error":"#VALUE!"}},{"$f":"MIN((W93+AT31*D19)/AK48,(W94+AT31*D19)/AL48,(W95+AT31*D19)/AM48,(W96+AT31*D19)/AN48,(W97+AT31*D19)/AO48)*AP48","v":{"$error":"#VALUE!"}},{"$f":"MIN((X93+AT31*D19)/AK48,(X94+AT31*D19)/AL48,(X95+AT31*D19)/AM48,(X96+AT31*D19)/AN48,(X97+AT31*D19)/AO48)*AP48","v":{"$error":"#VALUE!"}},{"$f":"MIN((Y93+AT31*D19)/AK48,(Y94+AT31*D19)/AL48,(Y95+AT31*D19)/AM48,(Y96+AT31*D19)/AN48,(Y97+AT31*D19)/AO48)*AP48","v":{"$error":"#VALUE!"}},{"$f":"MIN((Z93+AT31*D19)/AK48,(Z94+AT31*D19)/AL48,(Z95+AT31*D19)/AM48,(Z96+AT31*D19)/AN48,(Z97+AT31*D19)/AO48)*AP48","v":{"$error":"#VALUE!"}},{"$f":"MIN((AA93+AT31*D19)/AK48,(AA94+AT31*D19)/AL48,(AA95+AT31*D19)/AM48,(AA96+AT31*D19)/AN48,(AA97+AT31*D19)/AO48)*AP48","v":{"$error":"#VALUE!"}},{"$f":"MIN((AB93+AT31*D19)/AK48,(AB94+AT31*D19)/AL48,(AB95+AT31*D19)/AM48,(AB96+AT31*D19)/AN48,(AB97+AT31*D19)/AO48)*AP48","v":{"$error":"#VALUE!"}},{"$f":"MIN((AC93+AT31*D19)/AK48,(AC94+AT31*D19)/AL48,(AC95+AT31*D19)/AM48,(AC96+AT31*D19)/AN48,(AC97+AT31*D19)/AO48)*AP48","v":{"$error":"#VALUE!"}},{"$f":"MIN((AD93+AT31*D19)/AK48,(AD94+AT31*D19)/AL48,(AD95+AT31*D19)/AM48,(AD96+AT31*D19)/AN48,(AD97+AT31*D19)/AO48)*AP48","v":{"$error":"#VALUE!"}},{"$f":"MIN((AE93+AT31*D19)/AK48,(AE94+AT31*D19)/AL48,(AE95+AT31*D19)/AM48,(AE96+AT31*D19)/AN48,(AE97+AT31*D19)/AO48)*AP48","v":{"$error":"#VALUE!"}},{"$f":"MIN((AF93+AT31*D19)/AK48,(AF94+AT31*D19)/AL48,(AF95+AT31*D19)/AM48,(AF96+AT31*D19)/AN48,(AF97+AT31*D19)/AO48)*AP48","v":{"$error":"#VALUE!"}},{"$error":"#VALUE!"}]
[null,null,null,null,null,null,null,null,null,null,null,null,null,null,null,null,null,{"$f":"K27+AH42+D16+D17+D21+D19*AG24","v":{"$error":"#VALUE!"}},{"$f":"R173+Q13","v":{"$error":"#VALUE!"}},{"$f":"R173+R13","v":{"$error":"#VALUE!"}},{"$f":"R173+S13","v":{"$error":"#VALUE!"}},{"$f":"R173+T13","v":{"$error":"#VALUE!"}},{"$f":"R173+U13","v":{"$error":"#VALUE!"}},{"$f":"R173+V13","v":{"$error":"#VALUE!"}},{"$f":"R173+W13","v":{"$error":"#VALUE!"}},{"$f":"R173+X13","v":{"$error":"#VALUE!"}},{"$f":"R173+Y13","v":{"$error":"#VALUE!"}},{"$f":"R173+Z13","v":{"$error":"#VALUE!"}},{"$f":"R173+AA13","v":{"$error":"#VALUE!"}},{"$f":"R173+AB13","v":{"$error":"#VALUE!"}},{"$f":"R173+AC13","v":{"$error":"#VALUE!"}},{"$f":"R173+AD13","v":{"$error":"#VALUE!"}},null,null,null,{"$f":"R99","v":""},{"$f":"MIN((S100+AT31*D19)/AK48,(S101+AT31*D19)/AL48,(S102+AT31*D19)/AM48,(S103+AT31*D19)/AN48,(S104+AT31*D19)/AO48)*AP48","v":{"$error":"#VALUE!"}},{"$f":"MIN((T100+AT31*D19)/AK48,(T101+AT31*D19)/AL48,(T102+AT31*D19)/AM48,(T103+AT31*D19)/AN48,(T104+AT31*D19)/AO48)*AP48","v":{"$error":"#VALUE!"}},{"$f":"MIN((U100+AT31*D19)/AK48,(U101+AT31*D19)/AL48,(U102+AT31*D19)/AM48,(U103+AT31*D19)/AN48,(U104+AT31*D19)/AO48)*AP48","v":{"$error":"#VALUE!"}},{"$f":"MIN((V100+AT31*D19)/AK48,(V101+AT31*D19)/AL48,(V102+AT31*D19)/AM48,(V103+AT31*D19)/AN48,(V104+AT31*D19)/AO48)*AP48","v":{"$error":"#VALUE!"}},{"$f":"MIN((W100+AT31*D19)/AK48,(W101+AT31*D19)/AL48,(W102+AT31*D19)/AM48,(W103+AT31*D19)/AN48,(W104+AT31*D19)/AO48)*AP48","v":{"$error":"#VALUE!"}},{"$f":"MIN((X100+AT31*D19)/AK48,(X101+AT31*D19)/AL48,(X102+AT31*D19)/AM48,(X103+AT31*D19)/AN48,(X104+AT31*D19)/AO48)*AP48","v":{"$error":"#VALUE!"}},{"$f":"MIN((Y100+AT31*D19)/AK48,(Y101+AT31*D19)/AL48,(Y102+AT31*D19)/AM48,(Y103+AT31*D19)/AN48,(Y104+AT31*D19)/AO48)*AP48","v":{"$error":"#VALUE!"}},{"$f":"MIN((Z100+AT31*D19)/AK48,(Z101+AT31*D19)/AL48,(Z102+AT31*D19)/AM48,(Z103+AT31*D19)/AN48,(Z104+AT31*D19)/AO48)*AP48","v":{"$error":"#VALUE!"}},{"$f":"MIN((AA100+AT31*D19)/AK48,(AA101+AT31*D19)/AL48,(AA102+AT31*D19)/AM48,(AA103+AT31*D19)/AN48,(AA104+AT31*D19)/AO48)*AP48","v":{"$error":"#VALUE!"}},{"$f":"MIN((AB100+AT31*D19)/AK48,(AB101+AT31*D19)/AL48,(AB102+AT31*D19)/AM48,(AB103+AT31*D19)/AN48,(AB104+AT31*D19)/AO48)*AP48","v":{"$error":"#VALUE!"}},{"$f":"MIN((AC100+AT31*D19)/AK48,(AC101+AT31*D19)/AL48,(AC102+AT31*D19)/AM48,(AC103+AT31*D19)/AN48,(AC104+AT31*D19)/AO48)*AP48","v":{"$error":"#VALUE!"}},{"$f":"MIN((AD100+AT31*D19)/AK48,(AD101+AT31*D19)/AL48,(AD102+AT31*D19)/AM48,(AD103+AT31*D19)/AN48,(AD104+AT31*D19)/AO48)*AP48","v":{"$error":"#VALUE!"}},{"$f":"MIN((AE100+AT31*D19)/AK48,(AE101+AT31*D19)/AL48,(AE102+AT31*D19)/AM48,(AE103+AT31*D19)/AN48,(AE104+AT31*D19)/AO48)*AP48","v":{"$error":"#VALUE!"}},{"$f":"MIN((AF100+AT31*D19)/AK48,(AF101+AT31*D19)/AL48,(AF102+AT31*D19)/AM48,(AF103+AT31*D19)/AN48,(AF104+AT31*D19)/AO48)*AP48","v":{"$error":"#VALUE!"}},{"$error":"#VALUE!"}]
[null,null,null,null,null,null,null,null,null,null,null,null,null,null,null,null,null,{"$f":"L27+AH43+D15+D17+D21+D19*AG24","v":{"$error":"#VALUE!"}},{"$f":"R174+Q14","v":{"$error":"#VALUE!"}},{"$f":"R174+R14","v":{"$error":"#VALUE!"}},{"$f":"R174+S14","v":{"$error":"#VALUE!"}},{"$f":"R174+T14","v":{"$error":"#VALUE!"}},{"$f":"R174+U14","v":{"$error":"#VALUE!"}},{"$f":"R174+V14","v":{"$error":"#VALUE!"}},{"$f":"R174+W14","v":{"$error":"#VALUE!"}},{"$f":"R174+X14","v":{"$error":"#VALUE!"}},{"$f":"R174+Y14","v":{"$error":"#VALUE!"}},{"$f":"R174+Z14","v":{"$error":"#VALUE!"}},{"$f":"R174+AA14","v":{"$error":"#VALUE!"}},{"$f":"R174+AB14","v":{"$error":"#VALUE!"}},{"$f":"R174+AC14","v":{"$error":"#VALUE!"}},{"$f":"R174+AD14","v":{"$error":"#VALUE!"}},null,null,null,{"$f":"R106","v":""},{"$f":"MIN((S107+AT31*D19)/AK48,(S108+AT31*D19)/AL48,(S109+AT31*D19)/AM48,(S110+AT31*D19)/AN48,(S111+AT31*D19)/AO48)*AP48","v":{"$error":"#VALUE!"}},{"$f":"MIN((T107+AT31*D19)/AK48,(T108+AT31*D19)/AL48,(T109+AT31*D19)/AM48,(T110+AT31*D19)/AN48,(T111+AT31*D19)/AO48)*AP48","v":{"$error":"#VALUE!"}},{"$f":"MIN((U107+AT31*D19)/AK48,(U108+AT31*D19)/AL48,(U109+AT31*D19)/AM48,(U110+AT31*D19)/AN48,(U111+AT31*D19)/AO48)*AP48","v":{"$error":"#VALUE!"}},{"$f":"MIN((V107+AT31*D19)/AK48,(V108+AT31*D19)/AL48,(V109+AT31*D19)/AM48,(V110+AT31*D19)/AN48,(V111+AT31*D19)/AO48)*AP48","v":{"$error":"#VALUE!"}},{"$f":"MIN((W107+AT31*D19)/AK48,(W108+AT31*D19)/AL48,(W109+AT31*D19)/AM48,(W110+AT31*D19)/AN48,(W111+AT31*D19)/AO48)*AP48","v":{"$error":"#VALUE!"}},{"$f":"MIN((X107+AT31*D19)/AK48,(X108+AT31*D19)/AL48,(X109+AT31*D19)/AM48,(X110+AT31*D19)/AN48,(X111+AT31*D19)/AO48)*AP48","v":{"$error":"#VALUE!"}},{"$f":"MIN((Y107+AT31*D19)/AK48,(Y108+AT31*D19)/AL48,(Y109+AT31*D19)/AM48,(Y110+AT31*D19)/AN48,(Y111+AT31*D19)/AO48)*AP48","v":{"$error":"#VALUE!"}},{"$f":"MIN((Z107+AT31*D19)/AK48,(Z108+AT31*D19)/AL48,(Z109+AT31*D19)/AM48,(Z110+AT31*D19)/AN48,(Z111+AT31*D19)/AO48)*AP48","v":{"$error":"#VALUE!"}},{"$f":"MIN((AA107+AT31*D19)/AK48,(AA108+AT31*D19)/AL48,(AA109+AT31*D19)/AM48,(AA110+AT31*D19)/AN48,(AA111+AT31*D19)/AO48)*AP48","v":{"$error":"#VALUE!"}},{"$f":"MIN((AB107+AT31*D19)/AK48,(AB108+AT31*D19)/AL48,(AB109+AT31*D19)/AM48,(AB110+AT31*D19)/AN48,(AB111+AT31*D19)/AO48)*AP48","v":{"$error":"#VALUE!"}},{"$f":"MIN((AC107+AT31*D19)/AK48,(AC108+AT31*D19)/AL48,(AC109+AT31*D19)/AM48,(AC110+AT31*D19)/AN48,(AC111+AT31*D19)/AO48)*AP48","v":{"$error":"#VALUE!"}},{"$f":"MIN((AD107+AT31*D19)/AK48,(AD108+AT31*D19)/AL48,(AD109+AT31*D19)/AM48,(AD110+AT31*D19)/AN48,(AD111+AT31*D19)/AO48)*AP48","v":{"$error":"#VALUE!"}},{"$f":"MIN((AE107+AT31*D19)/AK48,(AE108+AT31*D19)/AL48,(AE109+AT31*D19)/AM48,(AE110+AT31*D19)/AN48,(AE111+AT31*D19)/AO48)*AP48","v":{"$error":"#VALUE!"}},{"$f":"MIN((AF107+AT31*D19)/AK48,(AF108+AT31*D19)/AL48,(AF109+AT31*D19)/AM48,(AF110+AT31*D19)/AN48,(AF111+AT31*D19)/AO48)*AP48","v":{"$error":"#VALUE!"}},{"$error":"#VALUE!"}]
[null,null,null,null,null,null,null,null,null,null,null,null,null,null,null,null,null,null,null,null,null,null,null,null,null,null,null,null,null,null,null,null,null,null,null,{"$f":"R113","v":""},{"$f":"MIN((S114+AT31*D19)/AK48,(S115+AT31*D19)/AL48,(S116+AT31*D19)/AM48,(S117+AT31*D19)/AN48,(S118+AT31*D19)/AO48)*AP48","v":{"$error":"#VALUE!"}},{"$f":"MIN((T114+AT31*D19)/AK48,(T115+AT31*D19)/AL48,(T116+AT31*D19)/AM48,(T117+AT31*D19)/AN48,(T118+AT31*D19)/AO48)*AP48","v":{"$error":"#VALUE!"}},{"$f":"MIN((U114+AT31*D19)/AK48,(U115+AT31*D19)/AL48,(U116+AT31*D19)/AM48,(U117+AT31*D19)/AN48,(U118+AT31*D19)/AO48)*AP48","v":{"$error":"#VALUE!"}},{"$f":"MIN((V114+AT31*D19)/AK48,(V115+AT31*D19)/AL48,(V116+AT31*D19)/AM48,(V117+AT31*D19)/AN48,(V118+AT31*D19)/AO48)*AP48","v":{"$error":"#VALUE!"}},{"$f":"MIN((W114+AT31*D19)/AK48,(W115+AT31*D19)/AL48,(W116+AT31*D19)/AM48,(W117+AT31*D19)/AN48,(W118+AT31*D19)/AO48)*AP48","v":{"$error":"#VALUE!"}},{"$f":"MIN((X114+AT31*D19)/AK48,(X115+AT31*D19)/AL48,(X116+AT31*D19)/AM48,(X117+AT31*D19)/AN48,(X118+AT31*D19)/AO48)*AP48","v":{"$error":"#VALUE!"}},{"$f":"MIN((Y114+AT31*D19)/AK48,(Y115+AT31*D19)/AL48,(Y116+AT31*D19)/AM48,(Y117+AT31*D19)/AN48,(Y118+AT31*D19)/AO48)*AP48","v":{"$error":"#VALUE!"}},{"$f":"MIN((Z114+AT31*D19)/AK48,(Z115+AT31*D19)/AL48,(Z116+AT31*D19)/AM48,(Z117+AT31*D19)/AN48,(Z118+AT31*D19)/AO48)*AP48","v":{"$error":"#VALUE!"}},{"$f":"MIN((AA114+AT31*D19)/AK48,(AA115+AT31*D19)/AL48,(AA116+AT31*D19)/AM48,(AA117+AT31*D19)/AN48,(AA118+AT31*D19)/AO48)*AP48","v":{"$error":"#VALUE!"}},{"$f":"MIN((AB114+AT31*D19)/AK48,(AB115+AT31*D19)/AL48,(AB116+AT31*D19)/AM48,(AB117+AT31*D19)/AN48,(AB118+AT31*D19)/AO48)*AP48","v":{"$error":"#VALUE!"}},{"$f":"MIN((AC114+AT31*D19)/AK48,(AC115+AT31*D19)/AL48,(AC116+AT31*D19)/AM48,(AC117+AT31*D19)/AN48,(AC118+AT31*D19)/AO48)*AP48","v":{"$error":"#VALUE!"}},{"$f":"MIN((AD114+AT31*D19)/AK48,(AD115+AT31*D19)/AL48,(AD116+AT31*D19)/AM48,(AD117+AT31*D19)/AN48,(AD118+AT31*D19)/AO48)*AP48","v":{"$error":"#VALUE!"}},{"$f":"MIN((AE114+AT31*D19)/AK48,(AE115+AT31*D19)/AL48,(AE116+AT31*D19)/AM48,(AE117+AT31*D19)/AN48,(AE118+AT31*D19)/AO48)*AP48","v":{"$error":"#VALUE!"}},{"$f":"MIN((AF114+AT31*D19)/AK48,(AF115+AT31*D19)/AL48,(AF116+AT31*D19)/AM48,(AF117+AT31*D19)/AN48,(AF118+AT31*D19)/AO48)*AP48","v":{"$error":"#VALUE!"}},{"$error":"#VALUE!"}]
[null,null,null,null,null,null,null,null,null,null,null,null,null,null,null,null,null,{"$f":"G28","v":""},{"$f":"S169","v":"kit 1"},{"$f":"T169","v":"kit 2A"},"kit 2B","kit 4A","kit 4B","kit 5","kit 6A","kit 6B","kit 7","kit 8","kit 9A","kit 9B",{"$f":"AE169","v":"kit 10"},{"$f":"AF169","v":"kit 11"},null,null,null,{"$f":"R120","v":""},{"$f":"MIN((S121+AT31*D19)/AK48,(S122+AT31*D19)/AL48,(S123+AT31*D19)/AM48,(S124+AT31*D19)/AN48,(S125+AT31*D19)/AO48)*AP48","v":{"$error":"#VALUE!"}},{"$f":"MIN((T121+AT31*D19)/AK48,(T122+AT31*D19)/AL48,(T123+AT31*D19)/AM48,(T124+AT31*D19)/AN48,(T125+AT31*D19)/AO48)*AP48","v":{"$error":"#VALUE!"}},{"$f":"MIN((U121+AT31*D19)/AK48,(U122+AT31*D19)/AL48,(U123+AT31*D19)/AM48,(U124+AT31*D19)/AN48,(U125+AT31*D19)/AO48)*AP48","v":{"$error":"#VALUE!"}},{"$f":"MIN((V121+AT31*D19)/AK48,(V122+AT31*D19)/AL48,(V123+AT31*D19)/AM48,(V124+AT31*D19)/AN48,(V125+AT31*D19)/AO48)*AP48","v":{"$error":"#VALUE!"}},{"$f":"MIN((W121+AT31*D19)/AK48,(W122+AT31*D19)/AL48,(W123+AT31*D19)/AM48,(W124+AT31*D19)/AN48,(W125+AT31*D19)/AO48)*AP48","v":{"$error":"#VALUE!"}},{"$f":"MIN((X121+AT31*D19)/AK48,(X122+AT31*D19)/AL48,(X123+AT31*D19)/AM48,(X124+AT31*D19)/AN48,(X125+AT31*D19)/AO48)*AP48","v":{"$error":"#VALUE!"}},{"$f":"MIN((Y121+AT31*D19)/AK48,(Y122+AT31*D19)/AL48,(Y123+AT31*D19)/AM48,(Y124+AT31*D19)/AN48,(Y125+AT31*D19)/AO48)*AP48","v":{"$error":"#VALUE!"}},{"$f":"MIN((Z121+AT31*D19)/AK48,(Z122+AT31*D19)/AL48,(Z123+AT31*D19)/AM48,(Z124+AT31*D19)/AN48,(Z125+AT31*D19)/AO48)*AP48","v":{"$error":"#VALUE!"}},{"$f":"MIN((AA121+AT31*D19)/AK48,(AA122+AT31*D19)/AL48,(AA123+AT31*D19)/AM48,(AA124+AT31*D19)/AN48,(AA125+AT31*D19)/AO48)*AP48","v":{"$error":"#VALUE!"}},{"$f":"MIN((AB121+AT31*D19)/AK48,(AB122+AT31*D19)/AL48,(AB123+AT31*D19)/AM48,(AB124+AT31*D19)/AN48,(AB125+AT31*D19)/AO48)*AP48","v":{"$error":"#VALUE!"}},{"$f":"MIN((AC121+AT31*D19)/AK48,(AC122+AT31*D19)/AL48,(AC123+AT31*D19)/AM48,(AC124+AT31*D19)/AN48,(AC125+AT31*D19)/AO48)*AP48","v":{"$error":"#VALUE!"}},{"$f":"MIN((AD121+AT31*D19)/AK48,(AD122+AT31*D19)/AL48,(AD123+AT31*D19)/AM48,(AD124+AT31*D19)/AN48,(AD125+AT31*D19)/AO48)*AP48","v":{"$error":"#VALUE!"}},{"$f":"MIN((AE121+AT31*D19)/AK48,(AE122+AT31*D19)/AL48,(AE123+AT31*D19)/AM48,(AE124+AT31*D19)/AN48,(AE125+AT31*D19)/AO48)*AP48","v":{"$error":"#VALUE!"}},{"$f":"MIN((AF121+AT31*D19)/AK48,(AF122+AT31*D19)/AL48,(AF123+AT31*D19)/AM48,(AF124+AT31*D19)/AN48,(AF125+AT31*D19)/AO48)*AP48","v":{"$error":"#VALUE!"}},{"$error":"#VALUE!"}]
[null,null,null,null,null,null,null,null,null,null,null,null,null,null,null,null,null,{"$f":"H28+AH39+D16+D17+D21+D19*AG25","v":{"$error":"#VALUE!"}},{"$f":"R177+Q10","v":{"$error":"#VALUE!"}},{"$f":"R177+R10","v":{"$error":"#VALUE!"}},{"$f":"R177+S10","v":{"$error":"#VALUE!"}},{"$f":"R177+T10","v":{"$error":"#VALUE!"}},{"$f":"R177+U10","v":{"$error":"#VALUE!"}},{"$f":"R177+V10","v":{"$error":"#VALUE!"}},{"$f":"R177+W10","v":{"$error":"#VALUE!"}},{"$f":"R177+X10","v":{"$error":"#VALUE!"}},{"$f":"R177+Y10","v":{"$error":"#VALUE!"}},{"$f":"R177+Z10","v":{"$error":"#VALUE!"}},{"$f":"R177+AA10","v":{"$error":"#VALUE!"}},{"$f":"R177+AB10","v":{"$error":"#VALUE!"}},{"$f":"R177+AC10","v":{"$error":"#VALUE!"}},{"$f":"R177+AD10","v":{"$error":"#VALUE!"}},null,null,null,{"$f":"R127","v":""},{"$f":"MIN((S128+AT31*D19)/AK48,(S129+AT31*D19)/AL48,(S130+AT31*D19)/AM48,(S131+AT31*D19)/AN48,(S132+AT31*D19)/AO48)*AP48","v":{"$error":"#VALUE!"}},{"$f":"MIN((T128+AT31*D19)/AK48,(T129+AT31*D19)/AL48,(T130+AT31*D19)/AM48,(T131+AT31*D19)/AN48,(T132+AT31*D19)/AO48)*AP48","v":{"$error":"#VALUE!"}},{"$f":"MIN((U128+AT31*D19)/AK48,(U129+AT31*D19)/AL48,(U130+AT31*D19)/AM48,(U131+AT31*D19)/AN48,(U132+AT31*D19)/AO48)*AP48","v":{"$error":"#VALUE!"}},{"$f":"MIN((V128+AT31*D19)/AK48,(V129+AT31*D19)/AL48,(V130+AT31*D19)/AM48,(V131+AT31*D19)/AN48,(V132+AT31*D19)/AO48)*AP48","v":{"$error":"#VALUE!"}},{"$f":"MIN((W128+AT31*D19)/AK48,(W129+AT31*D19)/AL48,(W130+AT31*D19)/AM48,(W131+AT31*D19)/AN48,(W132+AT31*D19)/AO48)*AP48","v":{"$error":"#VALUE!"}},{"$f":"MIN((X128+AT31*D19)/AK48,(X129+AT31*D19)/AL48,(X130+AT31*D19)/AM48,(X131+AT31*D19)/AN48,(X132+AT31*D19)/AO48)*AP48","v":{"$error":"#VALUE!"}},{"$f":"MIN((Y128+AT31*D19)/AK48,(Y129+AT31*D19)/AL48,(Y130+AT31*D19)/AM48,(Y131+AT31*D19)/AN48,(Y132+AT31*D19)/AO48)*AP48","v":{"$error":"#VALUE!"}},{"$f":"MIN((Z128+AT31*D19)/AK48,(Z129+AT31*D19)/AL48,(Z130+AT31*D19)/AM48,(Z131+AT31*D19)/AN48,(Z132+AT31*D19)/AO48)*AP48","v":{"$error":"#VALUE!"}},{"$f":"MIN((AA128+AT31*D19)/AK48,(AA129+AT31*D19)/AL48,(AA130+AT31*D19)/AM48,(AA131+AT31*D19)/AN48,(AA132+AT31*D19)/AO48)*AP48","v":{"$error":"#VALUE!"}},{"$f":"MIN((AB128+AT31*D19)/AK48,(AB129+AT31*D19)/AL48,(AB130+AT31*D19)/AM48,(AB131+AT31*D19)/AN48,(AB132+AT31*D19)/AO48)*AP48","v":{"$error":"#VALUE!"}},{"$f":"MIN((AC128+AT31*D19)/AK48,(AC129+AT31*D19)/AL48,(AC130+AT31*D19)/AM48,(AC131+AT31*D19)/AN48,(AC132+AT31*D19)/AO48)*AP48","v":{"$error":"#VALUE!"}},{"$f":"MIN((AD128+AT31*D19)/AK48,(AD129+AT31*D19)/AL48,(AD130+AT31*D19)/AM48,(AD131+AT31*D19)/AN48,(AD132+AT31*D19)/AO48)*AP48","v":{"$error":"#VALUE!"}},{"$f":"MIN((AE128+AT31*D19)/AK48,(AE129+AT31*D19)/AL48,(AE130+AT31*D19)/AM48,(AE131+AT31*D19)/AN48,(AE132+AT31*D19)/AO48)*AP48","v":{"$error":"#VALUE!"}},{"$f":"MIN((AF128+AT31*D19)/AK48,(AF129+AT31*D19)/AL48,(AF130+AT31*D19)/AM48,(AF131+AT31*D19)/AN48,(AF132+AT31*D19)/AO48)*AP48","v":{"$error":"#VALUE!"}},{"$error":"#VALUE!"}]
[null,null,null,null,null,null,null,null,null,null,null,null,null,null,null,null,null,{"$f":"I28+AH40+D15+D17+D21+D19*AG25","v":{"$error":"#VALUE!"}},{"$f":"R178+Q11","v":{"$error":"#VALUE!"}},{"$f":"R178+R11","v":{"$error":"#VALUE!"}},{"$f":"R178+S11","v":{"$error":"#VALUE!"}},{"$f":"R178+T11","v":{"$error":"#VALUE!"}},{"$f":"R178+U11","v":{"$error":"#VALUE!"}},{"$f":"R178+V11","v":{"$error":"#VALUE!"}},{"$f":"R178+W11","v":{"$error":"#VALUE!"}},{"$f":"R178+X11","v":{"$error":"#VALUE!"}},{"$f":"R178+Y11","v":{"$error":"#VALUE!"}},{"$f":"R178+Z11","v":{"$error":"#VALUE!"}},{"$f":"R178+AA11","v":{"$error":"#VALUE!"}},{"$f":"R178+AB11","v":{"$error":"#VALUE!"}},{"$f":"R178+AC11","v":{"$error":"#VALUE!"}},{"$f":"R178+AD11","v":{"$error":"#VALUE!"}},null,null,null,{"$f":"R134","v":""},{"$f":"MIN((S135+AT31*D19)/AK48,(S136+AT31*D19)/AL48,(S137+AT31*D19)/AM48,(S138+AT31*D19)/AN48,(S139+AT31*D19)/AO48)*AP48","v":{"$error":"#VALUE!"}},{"$f":"MIN((T135+AT31*D19)/AK48,(T136+AT31*D19)/AL48,(T137+AT31*D19)/AM48,(T138+AT31*D19)/AN48,(T139+AT31*D19)/AO48)*AP48","v":{"$error":"#VALUE!"}},{"$f":"MIN((U135+AT31*D19)/AK48,(U136+AT31*D19)/AL48,(U137+AT31*D19)/AM48,(U138+AT31*D19)/AN48,(U139+AT31*D19)/AO48)*AP48","v":{"$error":"#VALUE!"}},{"$f":"MIN((V135+AT31*D19)/AK48,(V136+AT31*D19)/AL48,(V137+AT31*D19)/AM48,(V138+AT31*D19)/AN48,(V139+AT31*D19)/AO48)*AP48","v":{"$error":"#VALUE!"}},{"$f":"MIN((W135+AT31*D19)/AK48,(W136+AT31*D19)/AL48,(W137+AT31*D19)/AM48,(W138+AT31*D19)/AN48,(W139+AT31*D19)/AO48)*AP48","v":{"$error":"#VALUE!"}},{"$f":"MIN((X135+AT31*D19)/AK48,(X136+AT31*D19)/AL48,(X137+AT31*D19)/AM48,(X138+AT31*D19)/AN48,(X139+AT31*D19)/AO48)*AP48","v":{"$error":"#VALUE!"}},{"$f":"MIN((Y135+AT31*D19)/AK48,(Y136+AT31*D19)/AL48,(Y137+AT31*D19)/AM48,(Y138+AT31*D19)/AN48,(Y139+AT31*D19)/AO48)*AP48","v":{"$error":"#VALUE!"}},{"$f":"MIN((Z135+AT31*D19)/AK48,(Z136+AT31*D19)/AL48,(Z137+AT31*D19)/AM48,(Z138+AT31*D19)/AN48,(Z139+AT31*D19)/AO48)*AP48","v":{"$error":"#VALUE!"}},{"$f":"MIN((AA135+AT31*D19)/AK48,(AA136+AT31*D19)/AL48,(AA137+AT31*D19)/AM48,(AA138+AT31*D19)/AN48,(AA139+AT31*D19)/AO48)*AP48","v":{"$error":"#VALUE!"}},{"$f":"MIN((AB135+AT31*D19)/AK48,(AB136+AT31*D19)/AL48,(AB137+AT31*D19)/AM48,(AB138+AT31*D19)/AN48,(AB139+AT31*D19)/AO48)*AP48","v":{"$error":"#VALUE!"}},{"$f":"MIN((AC135+AT31*D19)/AK48,(AC136+AT31*D19)/AL48,(AC137+AT31*D19)/AM48,(AC138+AT31*D19)/AN48,(AC139+AT31*D19)/AO48)*AP48","v":{"$error":"#VALUE!"}},{"$f":"MIN((AD135+AT31*D19)/AK48,(AD136+AT31*D19)/AL48,(AD137+AT31*D19)/AM48,(AD138+AT31*D19)/AN48,(AD139+AT31*D19)/AO48)*AP48","v":{"$error":"#VALUE!"}},{"$f":"MIN((AE135+AT31*D19)/AK48,(AE136+AT31*D19)/AL48,(AE137+AT31*D19)/AM48,(AE138+AT31*D19)/AN48,(AE139+AT31*D19)/AO48)*AP48","v":{"$error":"#VALUE!"}},{"$f":"MIN((AF135+AT31*D19)/AK48,(AF136+AT31*D19)/AL48,(AF137+AT31*D19)/AM48,(AF138+AT31*D19)/AN48,(AF139+AT31*D19)/AO48)*AP48","v":{"$error":"#VALUE!"}},{"$error":"#VALUE!"}]
[null,null,null,null,null,null,null,null,null,null,null,null,null,null,null,null,null,{"$f":"J28+AH41+D15+D17+D21+D19*AG25","v":{"$error":"#VALUE!"}},{"$f":"R179+Q12","v":{"$error":"#VALUE!"}},{"$f":"R179+R12","v":{"$error":"#VALUE!"}},{"$f":"R179+S12","v":{"$error":"#VALUE!"}},{"$f":"R179+T12","v":{"$error":"#VALUE!"}},{"$f":"R179+U12","v":{"$error":"#VALUE!"}},{"$f":"R179+V12","v":{"$error":"#VALUE!"}},{"$f":"R179+W12","v":{"$error":"#VALUE!"}},{"$f":"R179+X12","v":{"$error":"#VALUE!"}},{"$f":"R179+Y12","v":{"$error":"#VALUE!"}},{"$f":"R179+Z12","v":{"$error":"#VALUE!"}},{"$f":"R179+AA12","v":{"$error":"#VALUE!"}},{"$f":"R179+AB12","v":{"$error":"#VALUE!"}},{"$f":"R179+AC12","v":{"$error":"#VALUE!"}},{"$f":"R179+AD12","v":{"$error":"#VALUE!"}},null,null,null,{"$f":"R141","v":""},{"$f":"MIN((S142+AT31*D19)/AK48,(S143+AT31*D19)/AL48,(S144+AT31*D19)/AM48,(S145+AT31*D19)/AN48,(S146+AT31*D19)/AO48)*AP48","v":{"$error":"#VALUE!"}},{"$f":"MIN((T142+AT31*D19)/AK48,(T143+AT31*D19)/AL48,(T144+AT31*D19)/AM48,(T145+AT31*D19)/AN48,(T146+AT31*D19)/AO48)*AP48","v":{"$error":"#VALUE!"}},{"$f":"MIN((U142+AT31*D19)/AK48,(U143+AT31*D19)/AL48,(U144+AT31*D19)/AM48,(U145+AT31*D19)/AN48,(U146+AT31*D19)/AO48)*AP48","v":{"$error":"#VALUE!"}},{"$f":"MIN((V142+AT31*D19)/AK48,(V143+AT31*D19)/AL48,(V144+AT31*D19)/AM48,(V145+AT31*D19)/AN48,(V146+AT31*D19)/AO48)*AP48","v":{"$error":"#VALUE!"}},{"$f":"MIN((W142+AT31*D19)/AK48,(W143+AT31*D19)/AL48,(W144+AT31*D19)/AM48,(W145+AT31*D19)/AN48,(W146+AT31*D19)/AO48)*AP48","v":{"$error":"#VALUE!"}},{"$f":"MIN((X142+AT31*D19)/AK48,(X143+AT31*D19)/AL48,(X144+AT31*D19)/AM48,(X145+AT31*D19)/AN48,(X146+AT31*D19)/AO48)*AP48","v":{"$error":"#VALUE!"}},{"$f":"MIN((Y142+AT31*D19)/AK48,(Y143+AT31*D19)/AL48,(Y144+AT31*D19)/AM48,(Y145+AT31*D19)/AN48,(Y146+AT31*D19)/AO48)*AP48","v":{"$error":"#VALUE!"}},{"$f":"MIN((Z142+AT31*D19)/AK48,(Z143+AT31*D19)/AL48,(Z144+AT31*D19)/AM48,(Z145+AT31*D19)/AN48,(Z146+AT31*D19)/AO48)*AP48","v":{"$error":"#VALUE!"}},{"$f":"MIN((AA142+AT31*D19)/AK48,(AA143+AT31*D19)/AL48,(AA144+AT31*D19)/AM48,(AA145+AT31*D19)/AN48,(AA146+AT31*D19)/AO48)*AP48","v":{"$error":"#VALUE!"}},{"$f":"MIN((AB142+AT31*D19)/AK48,(AB143+AT31*D19)/AL48,(AB144+AT31*D19)/AM48,(AB145+AT31*D19)/AN48,(AB146+AT31*D19)/AO48)*AP48","v":{"$error":"#VALUE!"}},{"$f":"MIN((AC142+AT31*D19)/AK48,(AC143+AT31*D19)/AL48,(AC144+AT31*D19)/AM48,(AC145+AT31*D19)/AN48,(AC146+AT31*D19)/AO48)*AP48","v":{"$error":"#VALUE!"}},{"$f":"MIN((AD142+AT31*D19)/AK48,(AD143+AT31*D19)/AL48,(AD144+AT31*D19)/AM48,(AD145+AT31*D19)/AN48,(AD146+AT31*D19)/AO48)*AP48","v":{"$error":"#VALUE!"}},{"$f":"MIN((AE142+AT31*D19)/AK48,(AE143+AT31*D19)/AL48,(AE144+AT31*D19)/AM48,(AE145+AT31*D19)/AN48,(AE146+AT31*D19)/AO48)*AP48","v":{"$error":"#VALUE!"}},{"$f":"MIN((AF142+AT31*D19)/AK48,(AF143+AT31*D19)/AL48,(AF144+AT31*D19)/AM48,(AF145+AT31*D19)/AN48,(AF146+AT31*D19)/AO48)*AP48","v":{"$error":"#VALUE!"}},{"$error":"#VALUE!"}]
[null,null,null,null,null,null,null,null,null,null,null,null,null,null,null,null,null,{"$f":"K28+AH42+D16+D17+D21+D19*AG25","v":{"$error":"#VALUE!"}},{"$f":"R180+Q13","v":{"$error":"#VALUE!"}},{"$f":"R180+R13","v":{"$error":"#VALUE!"}},{"$f":"R180+S13","v":{"$error":"#VALUE!"}},{"$f":"R180+T13","v":{"$error":"#VALUE!"}},{"$f":"R180+U13","v":{"$error":"#VALUE!"}},{"$f":"R180+V13","v":{"$error":"#VALUE!"}},{"$f":"R180+W13","v":{"$error":"#VALUE!"}},{"$f":"R180+X13","v":{"$error":"#VALUE!"}},{"$f":"R180+Y13","v":{"$error":"#VALUE!"}},{"$f":"R180+Z13","v":{"$error":"#VALUE!"}},{"$f":"R180+AA13","v":{"$error":"#VALUE!"}},{"$f":"R180+AB13","v":{"$error":"#VALUE!"}},{"$f":"R180+AC13","v":{"$error":"#VALUE!"}},{"$f":"R180+AD13","v":{"$error":"#VALUE!"}},null,null,null,{"$f":"R148","v":""},{"$f":"MIN((S149+AT31*D19)/AK48,(S150+AT31*D19)/AL48,(S151+AT31*D19)/AM48,(S152+AT31*D19)/AN48,(S153+AT31*D19)/AO48)*AP48","v":{"$error":"#VALUE!"}},{"$f":"MIN((T149+AT31*D19)/AK48,(T150+AT31*D19)/AL48,(T151+AT31*D19)/AM48,(T152+AT31*D19)/AN48,(T153+AT31*D19)/AO48)*AP48","v":{"$error":"#VALUE!"}},{"$f":"MIN((U149+AT31*D19)/AK48,(U150+AT31*D19)/AL48,(U151+AT31*D19)/AM48,(U152+AT31*D19)/AN48,(U153+AT31*D19)/AO48)*AP48","v":{"$error":"#VALUE!"}},{"$f":"MIN((V149+AT31*D19)/AK48,(V150+AT31*D19)/AL48,(V151+AT31*D19)/AM48,(V152+AT31*D19)/AN48,(V153+AT31*D19)/AO48)*AP48","v":{"$error":"#VALUE!"}},{"$f":"MIN((W149+AT31*D19)/AK48,(W150+AT31*D19)/AL48,(W151+AT31*D19)/AM48,(W152+AT31*D19)/AN48,(W153+AT31*D19)/AO48)*AP48","v":{"$error":"#VALUE!"}},{"$f":"MIN((X149+AT31*D19)/AK48,(X150+AT31*D19)/AL48,(X151+AT31*D19)/AM48,(X152+AT31*D19)/AN48,(X153+AT31*D19)/AO48)*AP48","v":{"$error":"#VALUE!"}},{"$f":"MIN((Y149+AT31*D19)/AK48,(Y150+AT31*D19)/AL48,(Y151+AT31*D19)/AM48,(Y152+AT31*D19)/AN48,(Y153+AT31*D19)/AO48)*AP48","v":{"$error":"#VALUE!"}},{"$f":"MIN((Z149+AT31*D19)/AK48,(Z150+AT31*D19)/AL48,(Z151+AT31*D19)/AM48,(Z152+AT31*D19)/AN48,(Z153+AT31*D19)/AO48)*AP48","v":{"$error":"#VALUE!"}},{"$f":"MIN((AA149+AT31*D19)/AK48,(AA150+AT31*D19)/AL48,(AA151+AT31*D19)/AM48,(AA152+AT31*D19)/AN48,(AA153+AT31*D19)/AO48)*AP48","v":{"$error":"#VALUE!"}},{"$f":"MIN((AB149+AT31*D19)/AK48,(AB150+AT31*D19)/AL48,(AB151+AT31*D19)/AM48,(AB152+AT31*D19)/AN48,(AB153+AT31*D19)/AO48)*AP48","v":{"$error":"#VALUE!"}},{"$f":"MIN((AC149+AT31*D19)/AK48,(AC150+AT31*D19)/AL48,(AC151+AT31*D19)/AM48,(AC152+AT31*D19)/AN48,(AC153+AT31*D19)/AO48)*AP48","v":{"$error":"#VALUE!"}},{"$f":"MIN((AD149+AT31*D19)/AK48,(AD150+AT31*D19)/AL48,(AD151+AT31*D19)/AM48,(AD152+AT31*D19)/AN48,(AD153+AT31*D19)/AO48)*AP48","v":{"$error":"#VALUE!"}},{"$f":"MIN((AE149+AT31*D19)/AK48,(AE150+AT31*D19)/AL48,(AE151+AT31*D19)/AM48,(AE152+AT31*D19)/AN48,(AE153+AT31*D19)/AO48)*AP48","v":{"$error":"#VALUE!"}},{"$f":"MIN((AF149+AT31*D19)/AK48,(AF150+AT31*D19)/AL48,(AF151+AT31*D19)/AM48,(AF152+AT31*D19)/AN48,(AF153+AT31*D19)/AO48)*AP48","v":{"$error":"#VALUE!"}},{"$error":"#VALUE!"}]
[null,null,null,null,null,null,null,null,null,null,null,null,null,null,null,null,null,{"$f":"L28+AH43+D15+D17+D21+D19*AG25","v":{"$error":"#VALUE!"}},{"$f":"R181+Q14","v":{"$error":"#VALUE!"}},{"$f":"R181+R14","v":{"$error":"#VALUE!"}},{"$f":"R181+S14","v":{"$error":"#VALUE!"}},{"$f":"R181+T14","v":{"$error":"#VALUE!"}},{"$f":"R181+U14","v":{"$error":"#VALUE!"}},{"$f":"R181+V14","v":{"$error":"#VALUE!"}},{"$f":"R181+W14","v":{"$error":"#VALUE!"}},{"$f":"R181+X14","v":{"$error":"#VALUE!"}},{"$f":"R181+Y14","v":{"$error":"#VALUE!"}},{"$f":"R181+Z14","v":{"$error":"#VALUE!"}},{"$f":"R181+AA14","v":{"$error":"#VALUE!"}},{"$f":"R181+AB14","v":{"$error":"#VALUE!"}},{"$f":"R181+AC14","v":{"$error":"#VALUE!"}},{"$f":"R181+AD14","v":{"$error":"#VALUE!"}},null,null,null,{"$f":"R155","v":""},{"$f":"MIN((S156+AT31*D19)/AK48,(S157+AT31*D19)/AL48,(S158+AT31*D19)/AM48,(S159+AT31*D19)/AN48,(S160+AT31*D19)/AO48)*AP48","v":{"$error":"#VALUE!"}},{"$f":"MIN((T156+AT31*D19)/AK48,(T157+AT31*D19)/AL48,(T158+AT31*D19)/AM48,(T159+AT31*D19)/AN48,(T160+AT31*D19)/AO48)*AP48","v":{"$error":"#VALUE!"}},{"$f":"MIN((U156+AT31*D19)/AK48,(U157+AT31*D19)/AL48,(U158+AT31*D19)/AM48,(U159+AT31*D19)/AN48,(U160+AT31*D19)/AO48)*AP48","v":{"$error":"#VALUE!"}},{"$f":"MIN((V156+AT31*D19)/AK48,(V157+AT31*D19)/AL48,(V158+AT31*D19)/AM48,(V159+AT31*D19)/AN48,(V160+AT31*D19)/AO48)*AP48","v":{"$error":"#VALUE!"}},{"$f":"MIN((W156+AT31*D19)/AK48,(W157+AT31*D19)/AL48,(W158+AT31*D19)/AM48,(W159+AT31*D19)/AN48,(W160+AT31*D19)/AO48)*AP48","v":{"$error":"#VALUE!"}},{"$f":"MIN((X156+AT31*D19)/AK48,(X157+AT31*D19)/AL48,(X158+AT31*D19)/AM48,(X159+AT31*D19)/AN48,(X160+AT31*D19)/AO48)*AP48","v":{"$error":"#VALUE!"}},{"$f":"MIN((Y156+AT31*D19)/AK48,(Y157+AT31*D19)/AL48,(Y158+AT31*D19)/AM48,(Y159+AT31*D19)/AN48,(Y160+AT31*D19)/AO48)*AP48","v":{"$error":"#VALUE!"}},{"$f":"MIN((Z156+AT31*D19)/AK48,(Z157+AT31*D19)/AL48,(Z158+AT31*D19)/AM48,(Z159+AT31*D19)/AN48,(Z160+AT31*D19)/AO48)*AP48","v":{"$error":"#VALUE!"}},{"$f":"MIN((AA156+AT31*D19)/AK48,(AA157+AT31*D19)/AL48,(AA158+AT31*D19)/AM48,(AA159+AT31*D19)/AN48,(AA160+AT31*D19)/AO48)*AP48","v":{"$error":"#VALUE!"}},{"$f":"MIN((AB156+AT31*D19)/AK48,(AB157+AT31*D19)/AL48,(AB158+AT31*D19)/AM48,(AB159+AT31*D19)/AN48,(AB160+AT31*D19)/AO48)*AP48","v":{"$error":"#VALUE!"}},{"$f":"MIN((AC156+AT31*D19)/AK48,(AC157+AT31*D19)/AL48,(AC158+AT31*D19)/AM48,(AC159+AT31*D19)/AN48,(AC160+AT31*D19)/AO48)*AP48","v":{"$error":"#VALUE!"}},{"$f":"MIN((AD156+AT31*D19)/AK48,(AD157+AT31*D19)/AL48,(AD158+AT31*D19)/AM48,(AD159+AT31*D19)/AN48,(AD160+AT31*D19)/AO48)*AP48","v":{"$error":"#VALUE!"}},{"$f":"MIN((AE156+AT31*D19)/AK48,(AE157+AT31*D19)/AL48,(AE158+AT31*D19)/AM48,(AE159+AT31*D19)/AN48,(AE160+AT31*D19)/AO48)*AP48","v":{"$error":"#VALUE!"}},{"$f":"MIN((AF156+AT31*D19)/AK48,(AF157+AT31*D19)/AL48,(AF158+AT31*D19)/AM48,(AF159+AT31*D19)/AN48,(AF160+AT31*D19)/AO48)*AP48","v":{"$error":"#VALUE!"}},{"$error":"#VALUE!"}]
[null,null,null,null,null,null,null,null,null,null,null,null,null,null,null,null,null,null,null,null,null,null,null,null,null,null,null,null,null,null,null,null,null,null,null,{"$f":"R162","v":""},{"$f":"MIN((S163+AT31*D19)/AK48,(S164+AT31*D19)/AL48,(S165+AT31*D19)/AM48,(S166+AT31*D19)/AN48,(S167+AT31*D19)/AO48)*AP48","v":{"$error":"#VALUE!"}},{"$f":"MIN((T163+AT31*D19)/AK48,(T164+AT31*D19)/AL48,(T165+AT31*D19)/AM48,(T166+AT31*D19)/AN48,(T167+AT31*D19)/AO48)*AP48","v":{"$error":"#VALUE!"}},{"$f":"MIN((U163+AT31*D19)/AK48,(U164+AT31*D19)/AL48,(U165+AT31*D19)/AM48,(U166+AT31*D19)/AN48,(U167+AT31*D19)/AO48)*AP48","v":{"$error":"#VALUE!"}},{"$f":"MIN((V163+AT31*D19)/AK48,(V164+AT31*D19)/AL48,(V165+AT31*D19)/AM48,(V166+AT31*D19)/AN48,(V167+AT31*D19)/AO48)*AP48","v":{"$error":"#VALUE!"}},{"$f":"MIN((W163+AT31*D19)/AK48,(W164+AT31*D19)/AL48,(W165+AT31*D19)/AM48,(W166+AT31*D19)/AN48,(W167+AT31*D19)/AO48)*AP48","v":{"$error":"#VALUE!"}},{"$f":"MIN((X163+AT31*D19)/AK48,(X164+AT31*D19)/AL48,(X165+AT31*D19)/AM48,(X166+AT31*D19)/AN48,(X167+AT31*D19)/AO48)*AP48","v":{"$error":"#VALUE!"}},{"$f":"MIN((Y163+AT31*D19)/AK48,(Y164+AT31*D19)/AL48,(Y165+AT31*D19)/AM48,(Y166+AT31*D19)/AN48,(Y167+AT31*D19)/AO48)*AP48","v":{"$error":"#VALUE!"}},{"$f":"MIN((Z163+AT31*D19)/AK48,(Z164+AT31*D19)/AL48,(Z165+AT31*D19)/AM48,(Z166+AT31*D19)/AN48,(Z167+AT31*D19)/AO48)*AP48","v":{"$error":"#VALUE!"}},{"$f":"MIN((AA163+AT31*D19)/AK48,(AA164+AT31*D19)/AL48,(AA165+AT31*D19)/AM48,(AA166+AT31*D19)/AN48,(AA167+AT31*D19)/AO48)*AP48","v":{"$error":"#VALUE!"}},{"$f":"MIN((AB163+AT31*D19)/AK48,(AB164+AT31*D19)/AL48,(AB165+AT31*D19)/AM48,(AB166+AT31*D19)/AN48,(AB167+AT31*D19)/AO48)*AP48","v":{"$error":"#VALUE!"}},{"$f":"MIN((AC163+AT31*D19)/AK48,(AC164+AT31*D19)/AL48,(AC165+AT31*D19)/AM48,(AC166+AT31*D19)/AN48,(AC167+AT31*D19)/AO48)*AP48","v":{"$error":"#VALUE!"}},{"$f":"MIN((AD163+AT31*D19)/AK48,(AD164+AT31*D19)/AL48,(AD165+AT31*D19)/AM48,(AD166+AT31*D19)/AN48,(AD167+AT31*D19)/AO48)*AP48","v":{"$error":"#VALUE!"}},{"$f":"MIN((AE163+AT31*D19)/AK48,(AE164+AT31*D19)/AL48,(AE165+AT31*D19)/AM48,(AE166+AT31*D19)/AN48,(AE167+AT31*D19)/AO48)*AP48","v":{"$error":"#VALUE!"}},{"$f":"MIN((AF163+AT31*D19)/AK48,(AF164+AT31*D19)/AL48,(AF165+AT31*D19)/AM48,(AF166+AT31*D19)/AN48,(AF167+AT31*D19)/AO48)*AP48","v":{"$error":"#VALUE!"}},{"$error":"#VALUE!"}]
[null,null,null,null,null,null,null,null,null,null,null,null,null,null,null,null,null,{"$f":"G30","v":0},{"$f":"S169","v":"kit 1"},{"$f":"T169","v":"kit 2A"},"kit 2B","kit 4A","kit 4B","kit 5","kit 6A","kit 6B","kit 7","kit 8","kit 9A","kit 9B",{"$f":"AE169","v":"kit 10"},{"$f":"AF169","v":"kit 11"},null,null,null,{"$f":"R169","v":""},{"$f":"MIN((S170+AT31*D19)/AK48,(S171+AT31*D19)/AL48,(S172+AT31*D19)/AM48,(S173+AT31*D19)/AN48,(S174+AT31*D19)/AO48)*AP48","v":{"$error":"#VALUE!"}},{"$f":"MIN((T170+AT31*D19)/AK48,(T171+AT31*D19)/AL48,(T172+AT31*D19)/AM48,(T173+AT31*D19)/AN48,(T174+AT31*D19)/AO48)*AP48","v":{"$error":"#VALUE!"}},{"$f":"MIN((U170+AT31*D19)/AK48,(U171+AT31*D19)/AL48,(U172+AT31*D19)/AM48,(U173+AT31*D19)/AN48,(U174+AT31*D19)/AO48)*AP48","v":{"$error":"#VALUE!"}},{"$f":"MIN((V170+AT31*D19)/AK48,(V171+AT31*D19)/AL48,(V172+AT31*D19)/AM48,(V173+AT31*D19)/AN48,(V174+AT31*D19)/AO48)*AP48","v":{"$error":"#VALUE!"}},{"$f":"MIN((W170+AT31*D19)/AK48,(W171+AT31*D19)/AL48,(W172+AT31*D19)/AM48,(W173+AT31*D19)/AN48,(W174+AT31*D19)/AO48)*AP48","v":{"$error":"#VALUE!"}},{"$f":"MIN((X170+AT31*D19)/AK48,(X171+AT31*D19)/AL48,(X172+AT31*D19)/AM48,(X173+AT31*D19)/AN48,(X174+AT31*D19)/AO48)*AP48","v":{"$error":"#VALUE!"}},{"$f":"MIN((Y170+AT31*D19)/AK48,(Y171+AT31*D19)/AL48,(Y172+AT31*D19)/AM48,(Y173+AT31*D19)/AN48,(Y174+AT31*D19)/AO48)*AP48","v":{"$error":"#VALUE!"}},{"$f":"MIN((Z170+AT31*D19)/AK48,(Z171+AT31*D19)/AL48,(Z172+AT31*D19)/AM48,(Z173+AT31*D19)/AN48,(Z174+AT31*D19)/AO48)*AP48","v":{"$error":"#VALUE!"}},{"$f":"MIN((AA170+AT31*D19)/AK48,(AA171+AT31*D19)/AL48,(AA172+AT31*D19)/AM48,(AA173+AT31*D19)/AN48,(AA174+AT31*D19)/AO48)*AP48","v":{"$error":"#VALUE!"}},{"$f":"MIN((AB170+AT31*D19)/AK48,(AB171+AT31*D19)/AL48,(AB172+AT31*D19)/AM48,(AB173+AT31*D19)/AN48,(AB174+AT31*D19)/AO48)*AP48","v":{"$error":"#VALUE!"}},{"$f":"MIN((AC170+AT31*D19)/AK48,(AC171+AT31*D19)/AL48,(AC172+AT31*D19)/AM48,(AC173+AT31*D19)/AN48,(AC174+AT31*D19)/AO48)*AP48","v":{"$error":"#VALUE!"}},{"$f":"MIN((AD170+AT31*D19)/AK48,(AD171+AT31*D19)/AL48,(AD172+AT31*D19)/AM48,(AD173+AT31*D19)/AN48,(AD174+AT31*D19)/AO48)*AP48","v":{"$error":"#VALUE!"}},{"$f":"MIN((AE170+AT31*D19)/AK48,(AE171+AT31*D19)/AL48,(AE172+AT31*D19)/AM48,(AE173+AT31*D19)/AN48,(AE174+AT31*D19)/AO48)*AP48","v":{"$error":"#VALUE!"}},{"$f":"MIN((AF170+AT31*D19)/AK48,(AF171+AT31*D19)/AL48,(AF172+AT31*D19)/AM48,(AF173+AT31*D19)/AN48,(AF174+AT31*D19)/AO48)*AP48","v":{"$error":"#VALUE!"}},{"$error":"#VALUE!"}]
[null,null,null,null,null,null,null,null,null,null,null,null,null,null,null,null,null,{"$f":"H30+AH39+D16+D17+D21","v":{"$error":"#VALUE!"}},{"$f":"R184+Q10","v":{"$error":"#VALUE!"}},{"$f":"R184+R10","v":{"$error":"#VALUE!"}},{"$f":"R184+S10","v":{"$error":"#VALUE!"}},{"$f":"R184+T10","v":{"$error":"#VALUE!"}},{"$f":"R184+U10","v":{"$error":"#VALUE!"}},{"$f":"R184+V10","v":{"$error":"#VALUE!"}},{"$f":"R184+W10","v":{"$error":"#VALUE!"}},{"$f":"R184+X10","v":{"$error":"#VALUE!"}},{"$f":"R184+Y10","v":{"$error":"#VALUE!"}},{"$f":"R184+Z10","v":{"$error":"#VALUE!"}},{"$f":"R184+AA10","v":{"$error":"#VALUE!"}},{"$f":"R184+AB10","v":{"$error":"#VALUE!"}},{"$f":"R184+AC10","v":{"$error":"#VALUE!"}},{"$f":"R184+AD10","v":{"$error":"#VALUE!"}},null,null,null,{"$f":"R176","v":""},{"$f":"MIN((S177+AT31*D19)/AK48,(S178+AT31*D19)/AL48,(S179+AT31*D19)/AM48,(S180+AT31*D19)/AN48,(S181+AT31*D19)/AO48)*AP48","v":{"$error":"#VALUE!"}},{"$f":"MIN((T177+AT31*D19)/AK48,(T178+AT31*D19)/AL48,(T179+AT31*D19)/AM48,(T180+AT31*D19)/AN48,(T181+AT31*D19)/AO48)*AP48","v":{"$error":"#VALUE!"}},{"$f":"MIN((U177+AT31*D19)/AK48,(U178+AT31*D19)/AL48,(U179+AT31*D19)/AM48,(U180+AT31*D19)/AN48,(U181+AT31*D19)/AO48)*AP48","v":{"$error":"#VALUE!"}},{"$f":"MIN((V177+AT31*D19)/AK48,(V178+AT31*D19)/AL48,(V179+AT31*D19)/AM48,(V180+AT31*D19)/AN48,(V181+AT31*D19)/AO48)*AP48","v":{"$error":"#VALUE!"}},{"$f":"MIN((W177+AT31*D19)/AK48,(W178+AT31*D19)/AL48,(W179+AT31*D19)/AM48,(W180+AT31*D19)/AN48,(W181+AT31*D19)/AO48)*AP48","v":{"$error":"#VALUE!"}},{"$f":"MIN((X177+AT31*D19)/AK48,(X178+AT31*D19)/AL48,(X179+AT31*D19)/AM48,(X180+AT31*D19)/AN48,(X181+AT31*D19)/AO48)*AP48","v":{"$error":"#VALUE!"}},{"$f":"MIN((Y177+AT31*D19)/AK48,(Y178+AT31*D19)/AL48,(Y179+AT31*D19)/AM48,(Y180+AT31*D19)/AN48,(Y181+AT31*D19)/AO48)*AP48","v":{"$error":"#VALUE!"}},{"$f":"MIN((Z177+AT31*D19)/AK48,(Z178+AT31*D19)/AL48,(Z179+AT31*D19)/AM48,(Z180+AT31*D19)/AN48,(Z181+AT31*D19)/AO48)*AP48","v":{"$error":"#VALUE!"}},{"$f":"MIN((AA177+AT31*D19)/AK48,(AA178+AT31*D19)/AL48,(AA179+AT31*D19)/AM48,(AA180+AT31*D19)/AN48,(AA181+AT31*D19)/AO48)*AP48","v":{"$error":"#VALUE!"}},{"$f":"MIN((AB177+AT31*D19)/AK48,(AB178+AT31*D19)/AL48,(AB179+AT31*D19)/AM48,(AB180+AT31*D19)/AN48,(AB181+AT31*D19)/AO48)*AP48","v":{"$error":"#VALUE!"}},{"$f":"MIN((AC177+AT31*D19)/AK48,(AC178+AT31*D19)/AL48,(AC179+AT31*D19)/AM48,(AC180+AT31*D19)/AN48,(AC181+AT31*D19)/AO48)*AP48","v":{"$error":"#VALUE!"}},{"$f":"MIN((AD177+AT31*D19)/AK48,(AD178+AT31*D19)/AL48,(AD179+AT31*D19)/AM48,(AD180+AT31*D19)/AN48,(AD181+AT31*D19)/AO48)*AP48","v":{"$error":"#VALUE!"}},{"$f":"MIN((AE177+AT31*D19)/AK48,(AE178+AT31*D19)/AL48,(AE179+AT31*D19)/AM48,(AE180+AT31*D19)/AN48,(AE181+AT31*D19)/AO48)*AP48","v":{"$error":"#VALUE!"}},{"$f":"MIN((AF177+AT31*D19)/AK48,(AF178+AT31*D19)/AL48,(AF179+AT31*D19)/AM48,(AF180+AT31*D19)/AN48,(AF181+AT31*D19)/AO48)*AP48","v":{"$error":"#VALUE!"}},{"$error":"#VALUE!"}]
[null,null,null,null,null,null,null,null,null,null,null,null,null,null,null,null,null,{"$f":"I30+AH40+D15+D17+D21","v":{"$error":"#VALUE!"}},{"$f":"R185+Q11","v":{"$error":"#VALUE!"}},{"$f":"R185+R11","v":{"$error":"#VALUE!"}},{"$f":"R185+S11","v":{"$error":"#VALUE!"}},{"$f":"R185+T11","v":{"$error":"#VALUE!"}},{"$f":"R185+U11","v":{"$error":"#VALUE!"}},{"$f":"R185+V11","v":{"$error":"#VALUE!"}},{"$f":"R185+W11","v":{"$error":"#VALUE!"}},{"$f":"R185+X11","v":{"$error":"#VALUE!"}},{"$f":"R185+Y11","v":{"$error":"#VALUE!"}},{"$f":"R185+Z11","v":{"$error":"#VALUE!"}},{"$f":"R185+AA11","v":{"$error":"#VALUE!"}},{"$f":"R185+AB11","v":{"$error":"#VALUE!"}},{"$f":"R185+AC11","v":{"$error":"#VALUE!"}},{"$f":"R185+AD11","v":{"$error":"#VALUE!"}},null,null,null,{"$f":"R183","v":0},{"$f":"MIN((S184+AT31*D19)/AK48,(S185+AT31*D19)/AL48,(S186+AT31*D19)/AM48,(S187+AT31*D19)/AN48,(S188+AT31*D19)/AO48)*AP48","v":{"$error":"#VALUE!"}},{"$f":"MIN((T184+AT31*D19)/AK48,(T185+AT31*D19)/AL48,(T186+AT31*D19)/AM48,(T187+AT31*D19)/AN48,(T188+AT31*D19)/AO48)*AP48","v":{"$error":"#VALUE!"}},{"$f":"MIN((U184+AT31*D19)/AK48,(U185+AT31*D19)/AL48,(U186+AT31*D19)/AM48,(U187+AT31*D19)/AN48,(U188+AT31*D19)/AO48)*AP48","v":{"$error":"#VALUE!"}},{"$f":"MIN((V184+AT31*D19)/AK48,(V185+AT31*D19)/AL48,(V186+AT31*D19)/AM48,(V187+AT31*D19)/AN48,(V188+AT31*D19)/AO48)*AP48","v":{"$error":"#VALUE!"}},{"$f":"MIN((W184+AT31*D19)/AK48,(W185+AT31*D19)/AL48,(W186+AT31*D19)/AM48,(W187+AT31*D19)/AN48,(W188+AT31*D19)/AO48)*AP48","v":{"$error":"#VALUE!"}},{"$f":"MIN((X184+AT31*D19)/AK48,(X185+AT31*D19)/AL48,(X186+AT31*D19)/AM48,(X187+AT31*D19)/AN48,(X188+AT31*D19)/AO48)*AP48","v":{"$error":"#VALUE!"}},{"$f":"MIN((Y184+AT31*D19)/AK48,(Y185+AT31*D19)/AL48,(Y186+AT31*D19)/AM48,(Y187+AT31*D19)/AN48,(Y188+AT31*D19)/AO48)*AP48","v":{"$error":"#VALUE!"}},{"$f":"MIN((Z184+AT31*D19)/AK48,(Z185+AT31*D19)/AL48,(Z186+AT31*D19)/AM48,(Z187+AT31*D19)/AN48,(Z188+AT31*D19)/AO48)*AP48","v":{"$error":"#VALUE!"}},{"$f":"MIN((AA184+AT31*D19)/AK48,(AA185+AT31*D19)/AL48,(AA186+AT31*D19)/AM48,(AA187+AT31*D19)/AN48,(AA188+AT31*D19)/AO48)*AP48","v":{"$error":"#VALUE!"}},{"$f":"MIN((AB184+AT31*D19)/AK48,(AB185+AT31*D19)/AL48,(AB186+AT31*D19)/AM48,(AB187+AT31*D19)/AN48,(AB188+AT31*D19)/AO48)*AP48","v":{"$error":"#VALUE!"}},{"$f":"MIN((AC184+AT31*D19)/AK48,(AC185+AT31*D19)/AL48,(AC186+AT31*D19)/AM48,(AC187+AT31*D19)/AN48,(AC188+AT31*D19)/AO48)*AP48","v":{"$error":"#VALUE!"}},{"$f":"MIN((AD184+AT31*D19)/AK48,(AD185+AT31*D19)/AL48,(AD186+AT31*D19)/AM48,(AD187+AT31*D19)/AN48,(AD188+AT31*D19)/AO48)*AP48","v":{"$error":"#VALUE!"}},{"$f":"MIN((AE184+AT31*D19)/AK48,(AE185+AT31*D19)/AL48,(AE186+AT31*D19)/AM48,(AE187+AT31*D19)/AN48,(AE188+AT31*D19)/AO48)*AP48","v":{"$error":"#VALUE!"}},{"$f":"MIN((AF184+AT31*D19)/AK48,(AF185+AT31*D19)/AL48,(AF186+AT31*D19)/AM48,(AF187+AT31*D19)/AN48,(AF188+AT31*D19)/AO48)*AP48","v":{"$error":"#VALUE!"}},{"$error":"#VALUE!"}]
[null,null,null,null,null,null,null,null,null,null,null,null,null,null,null,null,null,{"$f":"J30+AH41+D15+D17+D21","v":{"$error":"#VALUE!"}},{"$error":"#VALUE!"},{"$error":"#VALUE!"},{"$error":"#VALUE!"},{"$error":"#VALUE!"},{"$error":"#VALUE!"},{"$error":"#VALUE!"},{"$error":"#VALUE!"},{"$error":"#VALUE!"},{"$error":"#VALUE!"},{"$error":"#VALUE!"},{"$error":"#VALUE!"},{"$error":"#VALUE!"},{"$f":"R186+AC12","v":{"$error":"#VALUE!"}},{"$f":"R186+AD12","v":{"$error":"#VALUE!"}},null,null,null,{"$f":"R190","v":0},null,null,null,null,null,null,null,null,null,null,null,null,null,null,0]
[null,null,null,null,null,null,null,null,null,null,null,null,null,null,null,null,null,{"$f":"K30+AH42+D16+D17+D21","v":{"$error":"#VALUE!"}},{"$error":"#VALUE!"},{"$error":"#VALUE!"},{"$error":"#VALUE!"},{"$error":"#VALUE!"},{"$error":"#VALUE!"},{"$error":"#VALUE!"},{"$error":"#VALUE!"},{"$error":"#VALUE!"},{"$error":"#VALUE!"},{"$error":"#VALUE!"},{"$error":"#VALUE!"},{"$error":"#VALUE!"},{"$f":"R187+AC13","v":{"$error":"#VALUE!"}},{"$f":"R187+AD13","v":{"$error":"#VALUE!"}},null,null,null,{"$f":"R197","v":0},null,null,null,null,null,null,null,null,null,null,null,null,null,null,0]
[null,null,null,null,null,null,null,null,null,null,null,null,null,null,null,null,null,{"$f":"L30+AH43+D15+D17+D21","v":{"$error":"#VALUE!"}},{"$error":"#VALUE!"},{"$error":"#VALUE!"},{"$error":"#VALUE!"},{"$error":"#VALUE!"},{"$error":"#VALUE!"},{"$error":"#VALUE!"},{"$error":"#VALUE!"},{"$error":"#VALUE!"},{"$error":"#VALUE!"},{"$error":"#VALUE!"},{"$error":"#VALUE!"},{"$error":"#VALUE!"},{"$f":"R188+AC14","v":{"$error":"#VALUE!"}},{"$f":"R188+AD14","v":{"$error":"#VALUE!"}}]
[]
[null,null,null,null,null,null,null,null,null,null,null,null,null,null,null,null,null,{"$f":"G31","v":0},{"$f":"S169","v":"kit 1"},{"$f":"T169","v":"kit 2A"},"kit 2B","kit 4A","kit 4B","kit 5","kit 6A","kit 6B","kit 7","kit 8","kit 9A","kit 9B",{"$f":"AE169","v":"kit 10"},{"$f":"AF169","v":"kit 11"}]
[null,null,null,null,null,null,null,null,null,null,null,null,null,null,null,null,null,{"$f":"H31+AH39+D16+D17+D21","v":{"$error":"#VALUE!"}},{"$f":"R191+Q10","v":{"$error":"#VALUE!"}},{"$f":"R191+R10","v":{"$error":"#VALUE!"}},{"$f":"R191+S10","v":{"$error":"#VALUE!"}},{"$f":"R191+T10","v":{"$error":"#VALUE!"}},{"$f":"R191+U10","v":{"$error":"#VALUE!"}},{"$f":"R191+V10","v":{"$error":"#VALUE!"}},{"$f":"R191+W10","v":{"$error":"#VALUE!"}},{"$f":"R191+X10","v":{"$error":"#VALUE!"}},{"$f":"R191+Y10","v":{"$error":"#VALUE!"}},{"$f":"R191+Z10","v":{"$error":"#VALUE!"}},{"$f":"R191+AA10","v":{"$error":"#VALUE!"}},{"$f":"R191+AB10","v":{"$error":"#VALUE!"}},{"$f":"R191+AC10","v":{"$error":"#VALUE!"}},{"$f":"R191+AD10","v":{"$error":"#VALUE!"}}]
[null,null,null,null,null,null,null,null,null,null,null,null,null,null,null,null,null,{"$f":"I31+AH40+D15+D17+D21","v":{"$error":"#VALUE!"}},{"$f":"R192+Q11","v":{"$error":"#VALUE!"}},{"$f":"R192+R11","v":{"$error":"#VALUE!"}},{"$f":"R192+S11","v":{"$error":"#VALUE!"}},{"$f":"R192+T11","v":{"$error":"#VALUE!"}},{"$f":"R192+U11","v":{"$error":"#VALUE!"}},{"$f":"R192+V11","v":{"$error":"#VALUE!"}},{"$f":"R192+W11","v":{"$error":"#VALUE!"}},{"$f":"R192+X11","v":{"$error":"#VALUE!"}},{"$f":"R192+Y11","v":{"$error":"#VALUE!"}},{"$f":"R192+Z11","v":{"$error":"#VALUE!"}},{"$f":"R192+AA11","v":{"$error":"#VALUE!"}},{"$f":"R192+AB11","v":{"$error":"#VALUE!"}},{"$f":"R192+AC11","v":{"$error":"#VALUE!"}},{"$f":"R192+AD11","v":{"$error":"#VALUE!"}}]
[null,null,null,null,null,null,null,null,null,null,null,null,null,null,null,null,null,{"$f":"J31+AH41+D15+D17+D21","v":{"$error":"#VALUE!"}},{"$error":"#VALUE!"},{"$error":"#VALUE!"},{"$error":"#VALUE!"},{"$error":"#VALUE!"},{"$error":"#VALUE!"},{"$error":"#VALUE!"},{"$error":"#VALUE!"},{"$error":"#VALUE!"},{"$error":"#VALUE!"},{"$error":"#VALUE!"},{"$error":"#VALUE!"},{"$error":"#VALUE!"},{"$f":"R193+AC12","v":{"$error":"#VALUE!"}},{"$f":"R193+AD12","v":{"$error":"#VALUE!"}}]
[null,null,null,null,null,null,null,null,null,null,null,null,null,null,null,null,null,{"$f":"K31+AH42+D16+D17+D21","v":{"$error":"#VALUE!"}},{"$error":"#VALUE!"},{"$error":"#VALUE!"},{"$error":"#VALUE!"},{"$error":"#VALUE!"},{"$error":"#VALUE!"},{"$error":"#VALUE!"},{"$error":"#VALUE!"},{"$error":"#VALUE!"},{"$error":"#VALUE!"},{"$error":"#VALUE!"},{"$error":"#VALUE!"},{"$error":"#VALUE!"},{"$f":"R194+AC13","v":{"$error":"#VALUE!"}},{"$f":"R194+AD13","v":{"$error":"#VALUE!"}}]
[null,null,null,null,null,null,null,null,null,null,null,null,null,null,null,null,null,{"$f":"L31+AH43+D15+D17+D21","v":{"$error":"#VALUE!"}},{"$error":"#VALUE!"},{"$error":"#VALUE!"},{"$error":"#VALUE!"},{"$error":"#VALUE!"},{"$error":"#VALUE!"},{"$error":"#VALUE!"},{"$error":"#VALUE!"},{"$error":"#VALUE!"},{"$error":"#VALUE!"},{"$error":"#VALUE!"},{"$error":"#VALUE!"},{"$error":"#VALUE!"},{"$f":"R195+AC14","v":{"$error":"#VALUE!"}},{"$f":"R195+AD14","v":{"$error":"#VALUE!"}}]
[]
[null,null,null,null,null,null,null,null,null,null,null,null,null,null,null,null,null,{"$f":"G32","v":0},{"$f":"S169","v":"kit 1"},{"$f":"T169","v":"kit 2A"},"kit 2B","kit 4A","kit 4B","kit 5","kit 6A","kit 6B","kit 7","kit 8","kit 9A","kit 9B",{"$f":"AE169","v":"kit 10"},{"$f":"AF169","v":"kit 11"}]
[null,null,null,null,null,null,null,null,null,null,null,null,null,null,null,null,null,{"$f":"H32+AH39+D16+D17+D21","v":{"$error":"#VALUE!"}},{"$f":"R198+Q10","v":{"$error":"#VALUE!"}},{"$f":"R198+R10","v":{"$error":"#VALUE!"}},{"$f":"R198+S10","v":{"$error":"#VALUE!"}},{"$f":"R198+T10","v":{"$error":"#VALUE!"}},{"$f":"R198+U10","v":{"$error":"#VALUE!"}},{"$f":"R198+V10","v":{"$error":"#VALUE!"}},{"$f":"R198+W10","v":{"$error":"#VALUE!"}},{"$f":"R198+X10","v":{"$error":"#VALUE!"}},{"$f":"R198+Y10","v":{"$error":"#VALUE!"}},{"$f":"R198+Z10","v":{"$error":"#VALUE!"}},{"$f":"R198+AA10","v":{"$error":"#VALUE!"}},{"$f":"R198+AB10","v":{"$error":"#VALUE!"}},{"$f":"R198+AC10","v":{"$error":"#VALUE!"}},{"$f":"R198+AD10","v":{"$error":"#VALUE!"}}]
[null,null,null,null,null,null,null,null,null,null,null,null,null,null,null,null,null,{"$f":"I32+AH40+D15+D17+D21","v":{"$error":"#VALUE!"}},{"$f":"R199+Q11","v":{"$error":"#VALUE!"}},{"$f":"R199+R11","v":{"$error":"#VALUE!"}},{"$f":"R199+S11","v":{"$error":"#VALUE!"}},{"$f":"R199+T11","v":{"$error":"#VALUE!"}},{"$f":"R199+U11","v":{"$error":"#VALUE!"}},{"$f":"R199+V11","v":{"$error":"#VALUE!"}},{"$f":"R199+W11","v":{"$error":"#VALUE!"}},{"$f":"R199+X11","v":{"$error":"#VALUE!"}},{"$f":"R199+Y11","v":{"$error":"#VALUE!"}},{"$f":"R199+Z11","v":{"$error":"#VALUE!"}},{"$f":"R199+AA11","v":{"$error":"#VALUE!"}},{"$f":"R199+AB11","v":{"$error":"#VALUE!"}},{"$f":"R199+AC11","v":{"$error":"#VALUE!"}},{"$f":"R199+AD11","v":{"$error":"#VALUE!"}}]
[null,null,null,null,null,null,null,null,null,null,null,null,null,null,null,null,null,{"$f":"J32+AH41+D15+D17+D21","v":{"$error":"#VALUE!"}},{"$error":"#VALUE!"},{"$error":"#VALUE!"},{"$error":"#VALUE!"},{"$error":"#VALUE!"},{"$error":"#VALUE!"},{"$error":"#VALUE!"},{"$error":"#VALUE!"},{"$error":"#VALUE!"},{"$error":"#VALUE!"},{"$error":"#VALUE!"},{"$error":"#VALUE!"},{"$error":"#VALUE!"},{"$f":"R200+AC12","v":{"$error":"#VALUE!"}},{"$f":"R200+AD12","v":{"$error":"#VALUE!"}}]
[null,null,null,null,null,null,null,null,null,null,null,null,null,null,null,null,null,{"$f":"K32+AH42+D16+D17+D21","v":{"$error":"#VALUE!"}},{"$error":"#VALUE!"},{"$error":"#VALUE!"},{"$error":"#VALUE!"},{"$error":"#VALUE!"},{"$error":"#VALUE!"},{"$error":"#VALUE!"},{"$error":"#VALUE!"},{"$error":"#VALUE!"},{"$error":"#VALUE!"},{"$error":"#VALUE!"},{"$error":"#VALUE!"},{"$error":"#VALUE!"},{"$f":"R201+AC13","v":{"$error":"#VALUE!"}},{"$f":"R201+AD13","v":{"$error":"#VALUE!"}}]
[null,null,null,null,null,null,null,null,null,null,null,null,null,null,null,null,null,{"$f":"L32+AH43+D15+D17+D21","v":{"$error":"#VALUE!"}},{"$error":"#VALUE!"},{"$error":"#VALUE!"},{"$error":"#VALUE!"},{"$error":"#VALUE!"},{"$error":"#VALUE!"},{"$error":"#VALUE!"},{"$error":"#VALUE!"},{"$error":"#VALUE!"},{"$error":"#VALUE!"},{"$error":"#VALUE!"},{"$error":"#VALUE!"},{"$error":"#VALUE!"},{"$f":"R202+AC14","v":{"$error":"#VALUE!"}},{"$f":"R202+AD14","v":{"$error":"#VALUE!"}}]

{"sheet":"Team","index":1,"n_rows":539,"n_cols":31,"rows_kept":539,"cut":false,"hidden":true,"merged":[[14,20,15,20],[37,1,37,2],[8,5,8,15],[11,7,13,8],[14,1,14,3],[14,4,14,8],[14,9,14,13],[14,14,14,18]]}
[]
[]
[]
[]
[]
[]
[]
[]
[]
[{"$f":"SEARCH(\"actuel\",Feuil2!A30,1)","v":{"$error":"#VALUE!"}},{"$f":"SEARCH(\"actuel\",Feuil2!B30,1)","v":{"$error":"#VALUE!"}},{"$f":"SEARCH(\"actuel\",Feuil2!C30,1)","v":{"$error":"#VALUE!"}},{"$f":"SEARCH(\"actuel\",Feuil2!D30,1)","v":{"$error":"#VALUE!"}},{"$f":"SEARCH(\"actuel\",Feuil2!E30,1)","v":{"$error":"#VALUE!"}},{"$f":"SEARCH(\"actuel\",Feuil2!F30,1)","v":{"$error":"#VALUE!"}}]
[{"$f":"REPLACE(Feuil2!A30,1,A10+6,\"\")","v":{"$error":"#VALUE!"}},{"$f":"REPLACE(Feuil2!B30,1,B10+6,\"\")","v":{"$error":"#VALUE!"}},{"$f":"REPLACE(Feuil2!C30,1,C10+6,\"\")","v":{"$error":"#VALUE!"}},{"$f":"REPLACE(Feuil2!D30,1,D10+6,\"\")","v":{"$error":"#VALUE!"}},{"$f":"REPLACE(Feuil2!E30,1,E10+6,\"\")","v":{"$error":"#VALUE!"}},{"$f":"REPLACE(Feuil2!F30,1,F10+6,\"\")","v":{"$error":"#VALUE!"}}]
[]
[]
[null,null,null,null,null,null,null,null,null,null,null,null,null,null,null,null,null,null,null,null,null,null,null,null,0,null,null,null,null,null,1]
[]
[]
[null,null,null,null,null,null,null,null,null,null,null,null,null,null,null,null,null,null,null,null,null,null,null,1,2,3,4,5]
[null,null,null,null,null,null,null,null,null,null,null,null,null,null,null,null,null,null,null,null,null,null,null,6,7,8,9,10]
[null,null,null,null,null,null,null,null,null,null,null,null,null,null,null,null,null,null,null,null,null,null,null,11,12,13,14,15]
[null,null,null,null,null,null,null,null,null,null,null,null,null,null,null,null,null,null,null,null,null,null,null,16,17,18,19,20]
[null,null,null,null,null,null,null,null,null,null,null,null,null,null,null,null,null,null,null,null,null,null,null,21,22,23,24,25]
[null,null,null,null,null,null,null,null,null,null,null,null,null,null,null,null,null,null,null,null,null,null,null,26,27,28,29,30]
[null,null,null,null,null,null,null,null,null,null,null,null,null,null,null,null,null,null,null,null,null,null,null,31,32,33,34,35]
[null,null,null,null,null,null,null,null,null,null,null,null,null,null,null,null,null,null,null,null,null,null,null,36,37,38,39,40]
[null,null,null,null,null,null,null,null,null,null,null,null,null,null,null,null,null,null,null,null,null,null,null,41,42,43,44,45]
[null,null,null,null,null,null,null,null,null,null,null,null,null,null,null,null,null,null,null,null,null,null,null,46,47,48,49,50]
[null,null,null,null,null,null,null,null,null,null,null,null,null,null,null,null,null,null,null,null,null,null,null,51,52,53,54,55]
[null,null,null,null,null,null,null,null,null,null,null,null,null,null,null,null,null,null,null,null,null,null,null,56,57,58,59,60]
[null,null,null,null,null,null,null,null,null,null,null,null,null,null,null,null,null,null,null,null,null,null,null,61,62,63,64,65]
[null,null,null,null,null,null,null,null,null,null,null,null,null,null,null,null,null,null,null,null,null,null,null,66,67,68,69,70]
[null,null,null,null,null,null,null,null,null,null,null,null,null,null,null,null,null,null,null,null,null,null,null,71,72,73,74,75]
[null,null,null,null,null,null,null,null,null,null,null,null,null,null,null,null,null,null,null,null,null,null,null,76,77,78,79,80]
[null,null,null,null,null,null,null,null,null,null,null,null,null,null,null,null,null,null,null,null,null,null,null,81,82,83,84,85]
[null,null,null,null,null,null,null,null,null,null,null,null,null,null,null,null,null,null,null,null,null,null,null,86,87,88,89,90]
[]
[]
[]
[]
[]
[]
[]
[]
[{"$f":"Feuil2!$A$3","v":0}]
[{"$f":"Feuil2!$A$7","v":0},null,{"$f":"A43","v":0}]
[{"$f":"Feuil2!$A$9","v":0},null,null,{"$f":"P45","v":{"$error":"#VALUE!"}},null,{"$f":"VALUE(D45)","v":{"$error":"#VALUE!"}},{"$f":"TYPE(F45)","v":16},{"$f":"IF(G45=1,1,0)","v":0},{"$f":"SEARCH(\"Potentiel\",A45,1)","v":{"$error":"#VALUE!"}},{"$f":"SEARCH(\",\",A45,1)","v":{"$error":"#VALUE!"}},{"$f":"IF(TYPE(SEARCH(\",\",A45,J45+1))=1,SEARCH(\",\",A45,J45+1),J45)","v":{"$error":"#VALUE!"}},null,{"$f":"IF(TYPE(SEARCH(\",\",A45,K45+1))=1,SEARCH(\",\",A45,K45+1),K45)+IF(Q45=1,1,0)","v":{"$error":"#VALUE!"}},{"$f":"IF(TYPE(SEARCH(\",\",A45,M45+1))=1,SEARCH(\",\",A45,M45+1),M45)","v":{"$error":"#VALUE!"}},{"$f":"IF(I45-2-(N45+4)<0,0,I45-2-(N45+4))","v":{"$error":"#VALUE!"}},{"$f":"IF(MID(A45,N45+4,O45)=\"\",0,MID(A45,N45+4,O45))","v":{"$error":"#VALUE!"}},{"$f":"TYPE(SEARCH(\"K\",A45,1))","v":16}]
[{"$f":"Feuil2!$A$13","v":0},null,{"$f":"IF(TYPE(SEARCH(\"(\",A46,1))=16,SEARCH(\"F\",A46,1)+1,SEARCH(\"(\",A46,1))","v":{"$error":"#VALUE!"}},{"$f":"REPLACE(MID(A46,1,C46-2),1,1,\"\")","v":{"$error":"#VALUE!"}},{"$f":"E39+H46","v":0},{"$f":"VALUE(D46)-J46","v":{"$error":"#VALUE!"}},16,0,{"$f":"IF(TYPE(SEARCH(\")\",A46,1))=16,K46,SEARCH(\")\",A46,1))","v":{"$error":"#VALUE!"}},{"$f":"IF(TYPE(SEARCH(\")\",A46,1))=16,0,MID(A46,K46,L46))","v":0},{"$f":"C46+2","v":{"$error":"#VALUE!"}},{"$f":"I46-K46","v":{"$error":"#VALUE!"}},null,null,null,{"$f":"P45","v":{"$error":"#VALUE!"}}]
[{"$f":"Feuil2!$A$15","v":0},null,{"$f":"IF(TYPE(SEARCH(\"(\",A47,1))=16,SEARCH(\"H\",A47,1)+1,SEARCH(\"(\",A47,1))","v":{"$error":"#VALUE!"}},{"$f":"REPLACE(MID(A47,1,C47-2),1,1,\"\")","v":{"$error":"#VALUE!"}},{"$f":"E46+H47","v":0},{"$f":"VALUE(D47)-J47","v":{"$error":"#VALUE!"}},16,0,{"$f":"IF(TYPE(SEARCH(\")\",A47,1))=16,K47,SEARCH(\")\",A47,1))","v":{"$error":"#VALUE!"}},{"$f":"IF(TYPE(SEARCH(\"(\",A47,1))=16,0,MID(A47,K47,L47))","v":0},{"$f":"C47+2","v":{"$error":"#VALUE!"}},{"$f":"I47-K47","v":{"$error":"#VALUE!"}}]
[{"$f":"Feuil2!$A$17","v":0},null,{"$f":"IF(TYPE(SEARCH(\"(\",A48,1))=16,SEARCH(\"V\",A48,1)+1,SEARCH(\"(\",A48,1))","v":{"$error":"#VALUE!"}},{"$f":"REPLACE(MID(A48,1,C48-2),1,1,\"\")","v":{"$error":"#VALUE!"}},{"$f":"E47+H48","v":0},{"$f":"VALUE(D48)-J48","v":{"$error":"#VALUE!"}},16,0,{"$f":"IF(TYPE(SEARCH(\")\",A48,1))=16,K48,SEARCH(\")\",A48,1))","v":{"$error":"#VALUE!"}},{"$f":"IF(TYPE(SEARCH(\"(\",A48,1))=16,0,MID(A48,K48,L48))","v":0},{"$f":"C48+2","v":{"$error":"#VALUE!"}},{"$f":"I48-K48","v":{"$error":"#VALUE!"}}]
[{"$f":"Feuil2!$A$19","v":0},null,{"$f":"IF(TYPE(SEARCH(\"(\",A49,1))=16,SEARCH(\"E\",A49,1)+1,SEARCH(\"(\",A49,1))","v":{"$error":"#VALUE!"}},{"$f":"REPLACE(MID(A49,1,C49-2),1,1,\"\")","v":{"$error":"#VALUE!"}},{"$f":"E48+H49","v":0},{"$f":"VALUE(D49)-J49","v":{"$error":"#VALUE!"}},16,0,{"$f":"IF(TYPE(SEARCH(\")\",A49,1))=16,K49,SEARCH(\")\",A49,1))","v":{"$error":"#VALUE!"}},{"$f":"IF(TYPE(SEARCH(\"(\",A49,1))=16,0,MID(A49,K49,L49))","v":0},{"$f":"C49+2","v":{"$error":"#VALUE!"}},{"$f":"I49-K49","v":{"$error":"#VALUE!"}}]
[{"$f":"Feuil2!$A$21","v":0},null,{"$f":"IF(TYPE(SEARCH(\"(\",A50,1))=16,SEARCH(\"I\",A50,1)+1,SEARCH(\"(\",A50,1))","v":{"$error":"#VALUE!"}},{"$f":"REPLACE(MID(A50,1,C50-2),1,1,\"\")","v":{"$error":"#VALUE!"}},{"$f":"E49+H50","v":0},{"$f":"VALUE(D50)-J50","v":{"$error":"#VALUE!"}},16,0,{"$f":"IF(TYPE(SEARCH(\")\",A50,1))=16,K50,SEARCH(\")\",A50,1))","v":{"$error":"#VALUE!"}},{"$f":"IF(TYPE(SEARCH(\"(\",A50,1))=16,0,MID(A50,K50,L50))","v":0},{"$f":"C50+2","v":{"$error":"#VALUE!"}},{"$f":"I50-K50","v":{"$error":"#VALUE!"}}]
[{"$f":"Feuil2!$A$24","v":0},null,{"$f":"SEARCH(\"E\",A51,1)","v":{"$error":"#VALUE!"}},{"$f":"REPLACE(MID(A51,1,C51-1),1,1,\"\")","v":{"$error":"#VALUE!"}}]
[{"$f":"Feuil2!$A$26","v":0},null,{"$f":"SEARCH(\"M\",A52,1)","v":{"$error":"#VALUE!"}},{"$f":"REPLACE(MID(A52,1,C52-1),1,1,\"\")","v":{"$error":"#VALUE!"}}]
[]
[{"$f":"Feuil2!$B$3","v":0}]
[{"$f":"Feuil2!$B$7","v":0},null,{"$f":"A54","v":0}]
[{"$f":"Feuil2!$B$9","v":0},null,null,{"$f":"P56","v":{"$error":"#VALUE!"}},null,{"$f":"VALUE(D56)","v":{"$error":"#VALUE!"}},{"$f":"TYPE(F56)","v":16},{"$f":"IF(G56=1,1,0)","v":0},{"$f":"SEARCH(\"Potentiel\",A56,1)","v":{"$error":"#VALUE!"}},{"$f":"SEARCH(\",\",A56,1)","v":{"$error":"#VALUE!"}},{"$f":"IF(TYPE(SEARCH(\",\",A56,J56+1))=1,SEARCH(\",\",A56,J56+1),J56)","v":{"$error":"#VALUE!"}},null,{"$f":"IF(TYPE(SEARCH(\",\",A56,K56+1))=1,SEARCH(\",\",A56,K56+1),K56)+IF(Q56=1,1,0)","v":{"$error":"#VALUE!"}},{"$f":"IF(TYPE(SEARCH(\",\",A56,M56+1))=1,SEARCH(\",\",A56,M56+1),M56)","v":{"$error":"#VALUE!"}},{"$f":"IF(I56-2-(N56+4)<0,0,I56-2-(N56+4))","v":{"$error":"#VALUE!"}},{"$f":"IF(MID(A56,N56+4,O56)=\"\",0,MID(A56,N56+4,O56))","v":{"$error":"#VALUE!"}},{"$f":"TYPE(SEARCH(\"K\",A56,1))","v":16}]
[{"$f":"Feuil2!$B$13","v":0},null,{"$f":"IF(TYPE(SEARCH(\"(\",A57,1))=16,SEARCH(\"F\",A57,1)+1,SEARCH(\"(\",A57,1))","v":{"$error":"#VALUE!"}},{"$f":"REPLACE(MID(A57,1,C57-2),1,1,\"\")","v":{"$error":"#VALUE!"}},{"$f":"E50+H57","v":0},{"$f":"VALUE(D57)-J57","v":{"$error":"#VALUE!"}},16,0,{"$f":"IF(TYPE(SEARCH(\")\",A57,1))=16,K57,SEARCH(\")\",A57,1))","v":{"$error":"#VALUE!"}},{"$f":"IF(TYPE(SEARCH(\")\",A57,1))=16,0,MID(A57,K57,L57))","v":0},{"$f":"C57+2","v":{"$error":"#VALUE!"}},{"$f":"I57-K57","v":{"$error":"#VALUE!"}},null,null,null,{"$f":"P56","v":{"$error":"#VALUE!"}}]
[{"$f":"Feuil2!$B$15","v":0},null,{"$f":"IF(TYPE(SEARCH(\"(\",A58,1))=16,SEARCH(\"H\",A58,1)+1,SEARCH(\"(\",A58,1))","v":{"$error":"#VALUE!"}},{"$f":"REPLACE(MID(A58,1,C58-2),1,1,\"\")","v":{"$error":"#VALUE!"}},{"$f":"E57+H58","v":0},{"$f":"VALUE(D58)-J58","v":{"$error":"#VALUE!"}},16,0,{"$f":"IF(TYPE(SEARCH(\")\",A58,1))=16,K58,SEARCH(\")\",A58,1))","v":{"$error":"#VALUE!"}},{"$f":"IF(TYPE(SEARCH(\"(\",A58,1))=16,0,MID(A58,K58,L58))","v":0},{"$f":"C58+2","v":{"$error":"#VALUE!"}},{"$f":"I58-K58","v":{"$error":"#VALUE!"}}]
[{"$f":"Feuil2!$B$17","v":0},null,{"$f":"IF(TYPE(SEARCH(\"(\",A59,1))=16,SEARCH(\"V\",A59,1)+1,SEARCH(\"(\",A59,1))","v":{"$error":"#VALUE!"}},{"$f":"REPLACE(MID(A59,1,C59-2),1,1,\"\")","v":{"$error":"#VALUE!"}},{"$f":"E58+H59","v":0},{"$f":"VALUE(D59)-J59","v":{"$error":"#VALUE!"}},16,0,{"$f":"IF(TYPE(SEARCH(\")\",A59,1))=16,K59,SEARCH(\")\",A59,1))","v":{"$error":"#VALUE!"}},{"$f":"IF(TYPE(SEARCH(\"(\",A59,1))=16,0,MID(A59,K59,L59))","v":0},{"$f":"C59+2","v":{"$error":"#VALUE!"}},{"$f":"I59-K59","v":{"$error":"#VALUE!"}}]
[{"$f":"Feuil2!$B$19","v":0},null,{"$f":"IF(TYPE(SEARCH(\"(\",A60,1))=16,SEARCH(\"E\",A60,1)+1,SEARCH(\"(\",A60,1))","v":{"$error":"#VALUE!"}},{"$f":"REPLACE(MID(A60,1,C60-2),1,1,\"\")","v":{"$error":"#VALUE!"}},{"$f":"E59+H60","v":0},{"$f":"VALUE(D60)-J60","v":{"$error":"#VALUE!"}},16,0,{"$f":"IF(TYPE(SEARCH(\")\",A60,1))=16,K60,SEARCH(\")\",A60,1))","v":{"$error":"#VALUE!"}},{"$f":"IF(TYPE(SEARCH(\"(\",A60,1))=16,0,MID(A60,K60,L60))","v":0},{"$f":"C60+2","v":{"$error":"#VALUE!"}},{"$f":"I60-K60","v":{"$error":"#VALUE!"}}]
[{"$f":"Feuil2!$B$21","v":0},null,{"$f":"IF(TYPE(SEARCH(\"(\",A61,1))=16,SEARCH(\"I\",A61,1)+1,SEARCH(\"(\",A61,1))","v":{"$error":"#VALUE!"}},{"$f":"REPLACE(MID(A61,1,C61-2),1,1,\"\")","v":{"$error":"#VALUE!"}},{"$f":"E60+H61","v":0},{"$f":"VALUE(D61)-J61","v":{"$error":"#VALUE!"}},16,0,{"$f":"IF(TYPE(SEARCH(\")\",A61,1))=16,K61,SEARCH(\")\",A61,1))","v":{"$error":"#VALUE!"}},{"$f":"IF(TYPE(SEARCH(\"(\",A61,1))=16,0,MID(A61,K61,L61))","v":0},{"$f":"C61+2","v":{"$error":"#VALUE!"}},{"$f":"I61-K61","v":{"$error":"#VALUE!"}}]
[{"$f":"Feuil2!$B$24","v":0},null,{"$f":"SEARCH(\"E\",A62,1)","v":{"$error":"#VALUE!"}},{"$f":"REPLACE(MID(A62,1,C62-1),1,1,\"\")","v":{"$error":"#VALUE!"}}]
[{"$f":"Feuil2!$B$26","v":0},null,{"$f":"SEARCH(\"M\",A63,1)","v":{"$error":"#VALUE!"}},{"$f":"REPLACE(MID(A63,1,C63-1),1,1,\"\")","v":{"$error":"#VALUE!"}}]
[]
[{"$f":"Feuil2!$C$3","v":0}]
[{"$f":"Feuil2!$C$7","v":0},null,{"$f":"A65","v":0}]
[{"$f":"Feuil2!$C$9","v":0},null,null,{"$f":"P67","v":{"$error":"#VALUE!"}},null,{"$f":"VALUE(D67)","v":{"$error":"#VALUE!"}},{"$f":"TYPE(F67)","v":16},{"$f":"IF(G67=1,1,0)","v":0},{"$f":"SEARCH(\"Potentiel\",A67,1)","v":{"$error":"#VALUE!"}},{"$f":"SEARCH(\",\",A67,1)","v":{"$error":"#VALUE!"}},{"$f":"IF(TYPE(SEARCH(\",\",A67,J67+1))=1,SEARCH(\",\",A67,J67+1),J67)","v":{"$error":"#VALUE!"}},null,{"$f":"IF(TYPE(SEARCH(\",\",A67,K67+1))=1,SEARCH(\",\",A67,K67+1),K67)+IF(Q67=1,1,0)","v":{"$error":"#VALUE!"}},{"$f":"IF(TYPE(SEARCH(\",\",A67,M67+1))=1,SEARCH(\",\",A67,M67+1),M67)","v":{"$error":"#VALUE!"}},{"$f":"IF(I67-2-(N67+4)<0,0,I67-2-(N67+4))","v":{"$error":"#VALUE!"}},{"$f":"IF(MID(A67,N67+4,O67)=\"\",0,MID(A67,N67+4,O67))","v":{"$error":"#VALUE!"}},{"$f":"TYPE(SEARCH(\"K\",A67,1))","v":16}]
[{"$f":"Feuil2!$C$13","v":0},null,{"$f":"IF(TYPE(SEARCH(\"(\",A68,1))=16,SEARCH(\"F\",A68,1)+1,SEARCH(\"(\",A68,1))","v":{"$error":"#VALUE!"}},{"$f":"REPLACE(MID(A68,1,C68-2),1,1,\"\")","v":{"$error":"#VALUE!"}},{"$f":"E61+H68","v":0},{"$f":"VALUE(D68)-J68","v":{"$error":"#VALUE!"}},16,0,{"$f":"IF(TYPE(SEARCH(\")\",A68,1))=16,K68,SEARCH(\")\",A68,1))","v":{"$error":"#VALUE!"}},{"$f":"IF(TYPE(SEARCH(\")\",A68,1))=16,0,MID(A68,K68,L68))","v":0},{"$f":"C68+2","v":{"$error":"#VALUE!"}},{"$f":"I68-K68","v":{"$error":"#VALUE!"}},null,null,null,{"$f":"P67","v":{"$error":"#VALUE!"}}]
[{"$f":"Feuil2!$C$15","v":0},null,{"$f":"IF(TYPE(SEARCH(\"(\",A69,1))=16,SEARCH(\"H\",A69,1)+1,SEARCH(\"(\",A69,1))","v":{"$error":"#VALUE!"}},{"$f":"REPLACE(MID(A69,1,C69-2),1,1,\"\")","v":{"$error":"#VALUE!"}},{"$f":"E68+H69","v":0},{"$f":"VALUE(D69)-J69","v":{"$error":"#VALUE!"}},16,0,{"$f":"IF(TYPE(SEARCH(\")\",A69,1))=16,K69,SEARCH(\")\",A69,1))","v":{"$error":"#VALUE!"}},{"$f":"IF(TYPE(SEARCH(\"(\",A69,1))=16,0,MID(A69,K69,L69))","v":0},{"$f":"C69+2","v":{"$error":"#VALUE!"}},{"$f":"I69-K69","v":{"$error":"#VALUE!"}}]
[{"$f":"Feuil2!$C$17","v":0},null,{"$f":"IF(TYPE(SEARCH(\"(\",A70,1))=16,SEARCH(\"V\",A70,1)+1,SEARCH(\"(\",A70,1))","v":{"$error":"#VALUE!"}},{"$f":"REPLACE(MID(A70,1,C70-2),1,1,\"\")","v":{"$error":"#VALUE!"}},{"$f":"E69+H70","v":0},{"$f":"VALUE(D70)-J70","v":{"$error":"#VALUE!"}},16,0,{"$f":"IF(TYPE(SEARCH(\")\",A70,1))=16,K70,SEARCH(\")\",A70,1))","v":{"$error":"#VALUE!"}},{"$f":"IF(TYPE(SEARCH(\"(\",A70,1))=16,0,MID(A70,K70,L70))","v":0},{"$f":"C70+2","v":{"$error":"#VALUE!"}},{"$f":"I70-K70","v":{"$error":"#VALUE!"}}]
[{"$f":"Feuil2!$C$19","v":0},null,{"$f":"IF(TYPE(SEARCH(\"(\",A71,1))=16,SEARCH(\"E\",A71,1)+1,SEARCH(\"(\",A71,1))","v":{"$error":"#VALUE!"}},{"$f":"REPLACE(MID(A71,1,C71-2),1,1,\"\")","v":{"$error":"#VALUE!"}},{"$f":"E70+H71","v":0},{"$f":"VALUE(D71)-J71","v":{"$error":"#VALUE!"}},16,0,{"$f":"IF(TYPE(SEARCH(\")\",A71,1))=16,K71,SEARCH(\")\",A71,1))","v":{"$error":"#VALUE!"}},{"$f":"IF(TYPE(SEARCH(\"(\",A71,1))=16,0,MID(A71,K71,L71))","v":0},{"$f":"C71+2","v":{"$error":"#VALUE!"}},{"$f":"I71-K71","v":{"$error":"#VALUE!"}}]
[{"$f":"Feuil2!$C$21","v":0},null,{"$f":"IF(TYPE(SEARCH(\"(\",A72,1))=16,SEARCH(\"I\",A72,1)+1,SEARCH(\"(\",A72,1))","v":{"$error":"#VALUE!"}},{"$f":"REPLACE(MID(A72,1,C72-2),1,1,\"\")","v":{"$error":"#VALUE!"}},{"$f":"E71+H72","v":0},{"$f":"VALUE(D72)-J72","v":{"$error":"#VALUE!"}},16,0,{"$f":"IF(TYPE(SEARCH(\")\",A72,1))=16,K72,SEARCH(\")\",A72,1))","v":{"$error":"#VALUE!"}},{"$f":"IF(TYPE(SEARCH(\"(\",A72,1))=16,0,MID(A72,K72,L72))","v":0},{"$f":"C72+2","v":{"$error":"#VALUE!"}},{"$f":"I72-K72","v":{"$error":"#VALUE!"}}]
[{"$f":"Feuil2!$C$24","v":0},null,{"$f":"SEARCH(\"E\",A73,1)","v":{"$error":"#VALUE!"}},{"$f":"REPLACE(MID(A73,1,C73-1),1,1,\"\")","v":{"$error":"#VALUE!"}}]
[{"$f":"Feuil2!$C$26","v":0},null,{"$f":"SEARCH(\"M\",A74,1)","v":{"$error":"#VALUE!"}},{"$f":"REPLACE(MID(A74,1,C74-1),1,1,\"\")","v":{"$error":"#VALUE!"}}]
[]
[{"$f":"Feuil2!$D$3","v":0}]
[{"$f":"Feuil2!$D$7","v":0},null,{"$f":"A76","v":0}]
[{"$f":"Feuil2!$D$9","v":0},null,null,{"$f":"P78","v":{"$error":"#VALUE!"}},null,{"$f":"VALUE(D78)","v":{"$error":"#VALUE!"}},{"$f":"TYPE(F78)","v":16},{"$f":"IF(G78=1,1,0)","v":0},{"$f":"SEARCH(\"Potentiel\",A78,1)","v":{"$error":"#VALUE!"}},{"$f":"SEARCH(\",\",A78,1)","v":{"$error":"#VALUE!"}},{"$f":"IF(TYPE(SEARCH(\",\",A78,J78+1))=1,SEARCH(\",\",A78,J78+1),J78)","v":{"$error":"#VALUE!"}},null,{"$f":"IF(TYPE(SEARCH(\",\",A78,K78+1))=1,SEARCH(\",\",A78,K78+1),K78)+IF(Q78=1,1,0)","v":{"$error":"#VALUE!"}},{"$f":"IF(TYPE(SEARCH(\",\",A78,M78+1))=1,SEARCH(\",\",A78,M78+1),M78)","v":{"$error":"#VALUE!"}},{"$f":"IF(I78-2-(N78+4)<0,0,I78-2-(N78+4))","v":{"$error":"#VALUE!"}},{"$f":"IF(MID(A78,N78+4,O78)=\"\",0,MID(A78,N78+4,O78))","v":{"$error":"#VALUE!"}},{"$f":"TYPE(SEARCH(\"K\",A78,1))","v":16}]
[{"$f":"Feuil2!$D$13","v":0},null,{"$f":"IF(TYPE(SEARCH(\"(\",A79,1))=16,SEARCH(\"F\",A79,1)+1,SEARCH(\"(\",A79,1))","v":{"$error":"#VALUE!"}},{"$f":"REPLACE(MID(A79,1,C79-2),1,1,\"\")","v":{"$error":"#VALUE!"}},{"$f":"E72+H79","v":0},{"$f":"VALUE(D79)-J79","v":{"$error":"#VALUE!"}},16,0,{"$f":"IF(TYPE(SEARCH(\")\",A79,1))=16,K79,SEARCH(\")\",A79,1))","v":{"$error":"#VALUE!"}},{"$f":"IF(TYPE(SEARCH(\")\",A79,1))=16,0,MID(A79,K79,L79))","v":0},{"$f":"C79+2","v":{"$error":"#VALUE!"}},{"$f":"I79-K79","v":{"$error":"#VALUE!"}},null,null,null,{"$f":"P78","v":{"$error":"#VALUE!"}}]
[{"$f":"Feuil2!$D$15","v":0},null,{"$f":"IF(TYPE(SEARCH(\"(\",A80,1))=16,SEARCH(\"H\",A80,1)+1,SEARCH(\"(\",A80,1))","v":{"$error":"#VALUE!"}},{"$f":"REPLACE(MID(A80,1,C80-2),1,1,\"\")","v":{"$error":"#VALUE!"}},{"$f":"E79+H80","v":0},{"$f":"VALUE(D80)-J80","v":{"$error":"#VALUE!"}},16,0,{"$f":"IF(TYPE(SEARCH(\")\",A80,1))=16,K80,SEARCH(\")\",A80,1))","v":{"$error":"#VALUE!"}},{"$f":"IF(TYPE(SEARCH(\"(\",A80,1))=16,0,MID(A80,K80,L80))","v":0},{"$f":"C80+2","v":{"$error":"#VALUE!"}},{"$f":"I80-K80","v":{"$error":"#VALUE!"}}]
[{"$f":"Feuil2!$D$17","v":0},null,{"$f":"IF(TYPE(SEARCH(\"(\",A81,1))=16,SEARCH(\"V\",A81,1)+1,SEARCH(\"(\",A81,1))","v":{"$error":"#VALUE!"}},{"$f":"REPLACE(MID(A81,1,C81-2),1,1,\"\")","v":{"$error":"#VALUE!"}},{"$f":"E80+H81","v":0},{"$f":"VALUE(D81)-J81","v":{"$error":"#VALUE!"}},16,0,{"$f":"IF(TYPE(SEARCH(\")\",A81,1))=16,K81,SEARCH(\")\",A81,1))","v":{"$error":"#VALUE!"}},{"$f":"IF(TYPE(SEARCH(\"(\",A81,1))=16,0,MID(A81,K81,L81))","v":0},{"$f":"C81+2","v":{"$error":"#VALUE!"}},{"$f":"I81-K81","v":{"$error":"#VALUE!"}}]
[{"$f":"Feuil2!$D$19","v":0},null,{"$f":"IF(TYPE(SEARCH(\"(\",A82,1))=16,SEARCH(\"E\",A82,1)+1,SEARCH(\"(\",A82,1))","v":{"$error":"#VALUE!"}},{"$f":"REPLACE(MID(A82,1,C82-2),1,1,\"\")","v":{"$error":"#VALUE!"}},{"$f":"E81+H82","v":0},{"$f":"VALUE(D82)-J82","v":{"$error":"#VALUE!"}},16,0,{"$f":"IF(TYPE(SEARCH(\")\",A82,1))=16,K82,SEARCH(\")\",A82,1))","v":{"$error":"#VALUE!"}},{"$f":"IF(TYPE(SEARCH(\"(\",A82,1))=16,0,MID(A82,K82,L82))","v":0},{"$f":"C82+2","v":{"$error":"#VALUE!"}},{"$f":"I82-K82","v":{"$error":"#VALUE!"}}]
[{"$f":"Feuil2!$D$21","v":0},null,{"$f":"IF(TYPE(SEARCH(\"(\",A83,1))=16,SEARCH(\"I\",A83,1)+1,SEARCH(\"(\",A83,1))","v":{"$error":"#VALUE!"}},{"$f":"REPLACE(MID(A83,1,C83-2),1,1,\"\")","v":{"$error":"#VALUE!"}},{"$f":"E82+H83","v":0},{"$f":"VALUE(D83)-J83","v":{"$error":"#VALUE!"}},16,0,{"$f":"IF(TYPE(SEARCH(\")\",A83,1))=16,K83,SEARCH(\")\",A83,1))","v":{"$error":"#VALUE!"}},{"$f":"IF(TYPE(SEARCH(\"(\",A83,1))=16,0,MID(A83,K83,L83))","v":0},{"$f":"C83+2","v":{"$error":"#VALUE!"}},{"$f":"I83-K83","v":{"$error":"#VALUE!"}}]
[{"$f":"Feuil2!$D$24","v":0},null,{"$f":"SEARCH(\"E\",A84,1)","v":{"$error":"#VALUE!"}},{"$f":"REPLACE(MID(A84,1,C84-1),1,1,\"\")","v":{"$error":"#VALUE!"}}]
[{"$f":"Feuil2!$D$26","v":0},null,{"$f":"SEARCH(\"M\",A85,1)","v":{"$error":"#VALUE!"}},{"$f":"REPLACE(MID(A85,1,C85-1),1,1,\"\")","v":{"$error":"#VALUE!"}}]
[]
[{"$f":"Feuil2!$E$3","v":0}]
[{"$f":"Feuil2!$E$7","v":0},null,{"$f":"A87","v":0}]
[{"$f":"Feuil2!$E$9","v":0},null,null,{"$f":"P89","v":{"$error":"#VALUE!"}},null,{"$f":"VALUE(D89)","v":{"$error":"#VALUE!"}},{"$f":"TYPE(F89)","v":16},{"$f":"IF(G89=1,1,0)","v":0},{"$f":"SEARCH(\"Potentiel\",A89,1)","v":{"$error":"#VALUE!"}},{"$f":"SEARCH(\",\",A89,1)","v":{"$error":"#VALUE!"}},{"$f":"IF(TYPE(SEARCH(\",\",A89,J89+1))=1,SEARCH(\",\",A89,J89+1),J89)","v":{"$error":"#VALUE!"}},null,{"$f":"IF(TYPE(SEARCH(\",\",A89,K89+1))=1,SEARCH(\",\",A89,K89+1),K89)+IF(Q89=1,1,0)","v":{"$error":"#VALUE!"}},{"$f":"IF(TYPE(SEARCH(\",\",A89,M89+1))=1,SEARCH(\",\",A89,M89+1),M89)","v":{"$error":"#VALUE!"}},{"$f":"IF(I89-2-(N89+4)<0,0,I89-2-(N89+4))","v":{"$error":"#VALUE!"}},{"$f":"IF(MID(A89,N89+4,O89)=\"\",0,MID(A89,N89+4,O89))","v":{"$error":"#VALUE!"}},{"$f":"TYPE(SEARCH(\"K\",A89,1))","v":16}]
[{"$f":"Feuil2!$E$13","v":0},null,{"$f":"IF(TYPE(SEARCH(\"(\",A90,1))=16,SEARCH(\"F\",A90,1)+1,SEARCH(\"(\",A90,1))","v":{"$error":"#VALUE!"}},{"$f":"REPLACE(MID(A90,1,C90-2),1,1,\"\")","v":{"$error":"#VALUE!"}},{"$f":"E83+H90","v":0},{"$f":"VALUE(D90)-J90","v":{"$error":"#VALUE!"}},16,0,{"$f":"IF(TYPE(SEARCH(\")\",A90,1))=16,K90,SEARCH(\")\",A90,1))","v":{"$error":"#VALUE!"}},{"$f":"IF(TYPE(SEARCH(\")\",A90,1))=16,0,MID(A90,K90,L90))","v":0},{"$f":"C90+2","v":{"$error":"#VALUE!"}},{"$f":"I90-K90","v":{"$error":"#VALUE!"}},null,null,null,{"$f":"P89","v":{"$error":"#VALUE!"}}]
[{"$f":"Feuil2!$E$15","v":0},null,{"$f":"IF(TYPE(SEARCH(\"(\",A91,1))=16,SEARCH(\"H\",A91,1)+1,SEARCH(\"(\",A91,1))","v":{"$error":"#VALUE!"}},{"$f":"REPLACE(MID(A91,1,C91-2),1,1,\"\")","v":{"$error":"#VALUE!"}},{"$f":"E90+H91","v":0},{"$f":"VALUE(D91)-J91","v":{"$error":"#VALUE!"}},16,0,{"$f":"IF(TYPE(SEARCH(\")\",A91,1))=16,K91,SEARCH(\")\",A91,1))","v":{"$error":"#VALUE!"}},{"$f":"IF(TYPE(SEARCH(\"(\",A91,1))=16,0,MID(A91,K91,L91))","v":0},{"$f":"C91+2","v":{"$error":"#VALUE!"}},{"$f":"I91-K91","v":{"$error":"#VALUE!"}}]
[{"$f":"Feuil2!$E$17","v":0},null,{"$f":"IF(TYPE(SEARCH(\"(\",A92,1))=16,SEARCH(\"V\",A92,1)+1,SEARCH(\"(\",A92,1))","v":{"$error":"#VALUE!"}},{"$f":"REPLACE(MID(A92,1,C92-2),1,1,\"\")","v":{"$error":"#VALUE!"}},{"$f":"E91+H92","v":0},{"$f":"VALUE(D92)-J92","v":{"$error":"#VALUE!"}},16,0,{"$f":"IF(TYPE(SEARCH(\")\",A92,1))=16,K92,SEARCH(\")\",A92,1))","v":{"$error":"#VALUE!"}},{"$f":"IF(TYPE(SEARCH(\"(\",A92,1))=16,0,MID(A92,K92,L92))","v":0},{"$f":"C92+2","v":{"$error":"#VALUE!"}},{"$f":"I92-K92","v":{"$error":"#VALUE!"}}]
[{"$f":"Feuil2!$E$19","v":0},null,{"$f":"IF(TYPE(SEARCH(\"(\",A93,1))=16,SEARCH(\"E\",A93,1)+1,SEARCH(\"(\",A93,1))","v":{"$error":"#VALUE!"}},{"$f":"REPLACE(MID(A93,1,C93-2),1,1,\"\")","v":{"$error":"#VALUE!"}},{"$f":"E92+H93","v":0},{"$f":"VALUE(D93)-J93","v":{"$error":"#VALUE!"}},16,0,{"$f":"IF(TYPE(SEARCH(\")\",A93,1))=16,K93,SEARCH(\")\",A93,1))","v":{"$error":"#VALUE!"}},{"$f":"IF(TYPE(SEARCH(\"(\",A93,1))=16,0,MID(A93,K93,L93))","v":0},{"$f":"C93+2","v":{"$error":"#VALUE!"}},{"$f":"I93-K93","v":{"$error":"#VALUE!"}}]
[{"$f":"Feuil2!$E$21","v":0},null,{"$f":"IF(TYPE(SEARCH(\"(\",A94,1))=16,SEARCH(\"I\",A94,1)+1,SEARCH(\"(\",A94,1))","v":{"$error":"#VALUE!"}},{"$f":"REPLACE(MID(A94,1,C94-2),1,1,\"\")","v":{"$error":"#VALUE!"}},{"$f":"E93+H94","v":0},{"$f":"VALUE(D94)-J94","v":{"$error":"#VALUE!"}},16,0,{"$f":"IF(TYPE(SEARCH(\")\",A94,1))=16,K94,SEARCH(\")\",A94,1))","v":{"$error":"#VALUE!"}},{"$f":"IF(TYPE(SEARCH(\"(\",A94,1))=16,0,MID(A94,K94,L94))","v":0},{"$f":"C94+2","v":{"$error":"#VALUE!"}},{"$f":"I94-K94","v":{"$error":"#VALUE!"}}]
[{"$f":"Feuil2!$E$24","v":0},null,{"$f":"SEARCH(\"E\",A95,1)","v":{"$error":"#VALUE!"}},{"$f":"REPLACE(MID(A95,1,C95-1),1,1,\"\")","v":{"$error":"#VALUE!"}}]
[{"$f":"Feuil2!$E$26","v":0},null,{"$f":"SEARCH(\"M\",A96,1)","v":{"$error":"#VALUE!"}},{"$f":"REPLACE(MID(A96,1,C96-1),1,1,\"\")","v":{"$error":"#VALUE!"}}]
[]
[{"$f":"Feuil2!$F$3","v":0}]
[{"$f":"Feuil2!$F$7","v":0},null,{"$f":"A98","v":0}]
[{"$f":"Feuil2!$F$9","v":0},null,null,{"$f":"P100","v":{"$error":"#VALUE!"}},null,{"$f":"VALUE(D100)","v":{"$error":"#VALUE!"}},{"$f":"TYPE(F100)","v":16},{"$f":"IF(G100=1,1,0)","v":0},{"$f":"SEARCH(\"Potentiel\",A100,1)","v":{"$error":"#VALUE!"}},{"$f":"SEARCH(\",\",A100,1)","v":{"$error":"#VALUE!"}},{"$f":"IF(TYPE(SEARCH(\",\",A100,J100+1))=1,SEARCH(\",\",A100,J100+1),J100)","v":{"$error":"#VALUE!"}},null,{"$f":"IF(TYPE(SEARCH(\",\",A100,K100+1))=1,SEARCH(\",\",A100,K100+1),K100)+IF(Q100=1,1,0)","v":{"$error":"#VALUE!"}},{"$f":"IF(TYPE(SEARCH(\",\",A100,M100+1))=1,SEARCH(\",\",A100,M100+1),M100)","v":{"$error":"#VALUE!"}},{"$f":"IF(I100-2-(N100+4)<0,0,I100-2-(N100+4))","v":{"$error":"#VALUE!"}},{"$f":"IF(MID(A100,N100+4,O100)=\"\",0,MID(A100,N100+4,O100))","v":{"$error":"#VALUE!"}},{"$f":"TYPE(SEARCH(\"K\",A100,1))","v":16}]
[{"$f":"Feuil2!$F$13","v":0},null,{"$f":"IF(TYPE(SEARCH(\"(\",A101,1))=16,SEARCH(\"F\",A101,1)+1,SEARCH(\"(\",A101,1))","v":{"$error":"#VALUE!"}},{"$f":"REPLACE(MID(A101,1,C101-2),1,1,\"\")","v":{"$error":"#VALUE!"}},{"$f":"E94+H101","v":0},{"$f":"VALUE(D101)-J101","v":{"$error":"#VALUE!"}},16,0,{"$f":"IF(TYPE(SEARCH(\")\",A101,1))=16,K101,SEARCH(\")\",A101,1))","v":{"$error":"#VALUE!"}},{"$f":"IF(TYPE(SEARCH(\")\",A101,1))=16,0,MID(A101,K101,L101))","v":0},{"$f":"C101+2","v":{"$error":"#VALUE!"}},{"$f":"I101-K101","v":{"$error":"#VALUE!"}},null,null,null,{"$f":"P100","v":{"$error":"#VALUE!"}}]
[{"$f":"Feuil2!$F$15","v":0},null,{"$f":"IF(TYPE(SEARCH(\"(\",A102,1))=16,SEARCH(\"H\",A102,1)+1,SEARCH(\"(\",A102,1))","v":{"$error":"#VALUE!"}},{"$f":"REPLACE(MID(A102,1,C102-2),1,1,\"\")","v":{"$error":"#VALUE!"}},{"$f":"E101+H102","v":0},{"$f":"VALUE(D102)-J102","v":{"$error":"#VALUE!"}},16,0,{"$f":"IF(TYPE(SEARCH(\")\",A102,1))=16,K102,SEARCH(\")\",A102,1))","v":{"$error":"#VALUE!"}},{"$f":"IF(TYPE(SEARCH(\"(\",A102,1))=16,0,MID(A102,K102,L102))","v":0},{"$f":"C102+2","v":{"$error":"#VALUE!"}},{"$f":"I102-K102","v":{"$error":"#VALUE!"}}]
[{"$f":"Feuil2!$F$17","v":0},null,{"$f":"IF(TYPE(SEARCH(\"(\",A103,1))=16,SEARCH(\"V\",A103,1)+1,SEARCH(\"(\",A103,1))","v":{"$error":"#VALUE!"}},{"$f":"REPLACE(MID(A103,1,C103-2),1,1,\"\")","v":{"$error":"#VALUE!"}},{"$f":"E102+H103","v":0},{"$f":"VALUE(D103)-J103","v":{"$error":"#VALUE!"}},16,0,{"$f":"IF(TYPE(SEARCH(\")\",A103,1))=16,K103,SEARCH(\")\",A103,1))","v":{"$error":"#VALUE!"}},{"$f":"IF(TYPE(SEARCH(\"(\",A103,1))=16,0,MID(A103,K103,L103))","v":0},{"$f":"C103+2","v":{"$error":"#VALUE!"}},{"$f":"I103-K103","v":{"$error":"#VALUE!"}}]
[{"$f":"Feuil2!$F$19","v":0},null,{"$f":"IF(TYPE(SEARCH(\"(\",A104,1))=16,SEARCH(\"E\",A104,1)+1,SEARCH(\"(\",A104,1))","v":{"$error":"#VALUE!"}},{"$f":"REPLACE(MID(A104,1,C104-2),1,1,\"\")","v":{"$error":"#VALUE!"}},{"$f":"E103+H104","v":0},{"$f":"VALUE(D104)-J104","v":{"$error":"#VALUE!"}},16,0,{"$f":"IF(TYPE(SEARCH(\")\",A104,1))=16,K104,SEARCH(\")\",A104,1))","v":{"$error":"#VALUE!"}},{"$f":"IF(TYPE(SEARCH(\"(\",A104,1))=16,0,MID(A104,K104,L104))","v":0},{"$f":"C104+2","v":{"$error":"#VALUE!"}},{"$f":"I104-K104","v":{"$error":"#VALUE!"}}]
[{"$f":"Feuil2!$F$21","v":0},null,{"$f":"IF(TYPE(SEARCH(\"(\",A105,1))=16,SEARCH(\"I\",A105,1)+1,SEARCH(\"(\",A105,1))","v":{"$error":"#VALUE!"}},{"$f":"REPLACE(MID(A105,1,C105-2),1,1,\"\")","v":{"$error":"#VALUE!"}},{"$f":"E104+H105","v":0},{"$f":"VALUE(D105)-J105","v":{"$error":"#VALUE!"}},16,0,{"$f":"IF(TYPE(SEARCH(\")\",A105,1))=16,K105,SEARCH(\")\",A105,1))","v":{"$error":"#VALUE!"}},{"$f":"IF(TYPE(SEARCH(\"(\",A105,1))=16,0,MID(A105,K105,L105))","v":0},{"$f":"C105+2","v":{"$error":"#VALUE!"}},{"$f":"I105-K105","v":{"$error":"#VALUE!"}}]
[{"$f":"Feuil2!$F$24","v":0},null,{"$f":"SEARCH(\"E\",A106,1)","v":{"$error":"#VALUE!"}},{"$f":"REPLACE(MID(A106,1,C106-1),1,1,\"\")","v":{"$error":"#VALUE!"}}]
[{"$f":"Feuil2!$F$26","v":0},null,{"$f":"SEARCH(\"M\",A107,1)","v":{"$error":"#VALUE!"}},{"$f":"REPLACE(MID(A107,1,C107-1),1,1,\"\")","v":{"$error":"#VALUE!"}}]
[]
[{"$f":"Feuil2!$G$3","v":0}]
[{"$f":"Feuil2!$G$7","v":0},null,{"$f":"A109","v":0}]
[{"$f":"Feuil2!$G$9","v":0},null,null,{"$f":"P111","v":{"$error":"#VALUE!"}},null,{"$f":"VALUE(D111)","v":{"$error":"#VALUE!"}},{"$f":"TYPE(F111)","v":16},{"$f":"IF(G111=1,1,0)","v":0},{"$f":"SEARCH(\"Potentiel\",A111,1)","v":{"$error":"#VALUE!"}},{"$f":"SEARCH(\",\",A111,1)","v":{"$error":"#VALUE!"}},{"$f":"IF(TYPE(SEARCH(\",\",A111,J111+1))=1,SEARCH(\",\",A111,J111+1),J111)","v":{"$error":"#VALUE!"}},null,{"$f":"IF(TYPE(SEARCH(\",\",A111,K111+1))=1,SEARCH(\",\",A111,K111+1),K111)+IF(Q111=1,1,0)","v":{"$error":"#VALUE!"}},{"$f":"IF(TYPE(SEARCH(\",\",A111,M111+1))=1,SEARCH(\",\",A111,M111+1),M111)","v":{"$error":"#VALUE!"}},{"$f":"IF(I111-2-(N111+4)<0,0,I111-2-(N111+4))","v":{"$error":"#VALUE!"}},{"$f":"IF(MID(A111,N111+4,O111)=\"\",0,MID(A111,N111+4,O111))","v":{"$error":"#VALUE!"}},{"$f":"TYPE(SEARCH(\"K\",A111,1))","v":16}]
[{"$f":"Feuil2!$G$13","v":0},null,{"$f":"IF(TYPE(SEARCH(\"(\",A112,1))=16,SEARCH(\"F\",A112,1)+1,SEARCH(\"(\",A112,1))","v":{"$error":"#VALUE!"}},{"$f":"REPLACE(MID(A112,1,C112-2),1,1,\"\")","v":{"$error":"#VALUE!"}},{"$f":"E105+H112","v":0},{"$f":"VALUE(D112)-J112","v":{"$error":"#VALUE!"}},16,0,{"$f":"IF(TYPE(SEARCH(\")\",A112,1))=16,K112,SEARCH(\")\",A112,1))","v":{"$error":"#VALUE!"}},{"$f":"IF(TYPE(SEARCH(\")\",A112,1))=16,0,MID(A112,K112,L112))","v":0},{"$f":"C112+2","v":{"$error":"#VALUE!"}},{"$f":"I112-K112","v":{"$error":"#VALUE!"}},null,null,null,{"$f":"P111","v":{"$error":"#VALUE!"}}]
[{"$f":"Feuil2!$G$15","v":0},null,{"$f":"IF(TYPE(SEARCH(\"(\",A113,1))=16,SEARCH(\"H\",A113,1)+1,SEARCH(\"(\",A113,1))","v":{"$error":"#VALUE!"}},{"$f":"REPLACE(MID(A113,1,C113-2),1,1,\"\")","v":{"$error":"#VALUE!"}},{"$f":"E112+H113","v":0},{"$f":"VALUE(D113)-J113","v":{"$error":"#VALUE!"}},16,0,{"$f":"IF(TYPE(SEARCH(\")\",A113,1))=16,K113,SEARCH(\")\",A113,1))","v":{"$error":"#VALUE!"}},{"$f":"IF(TYPE(SEARCH(\"(\",A113,1))=16,0,MID(A113,K113,L113))","v":0},{"$f":"C113+2","v":{"$error":"#VALUE!"}},{"$f":"I113-K113","v":{"$error":"#VALUE!"}}]
[{"$f":"Feuil2!$G$17","v":0},null,{"$f":"IF(TYPE(SEARCH(\"(\",A114,1))=16,SEARCH(\"V\",A114,1)+1,SEARCH(\"(\",A114,1))","v":{"$error":"#VALUE!"}},{"$f":"REPLACE(MID(A114,1,C114-2),1,1,\"\")","v":{"$error":"#VALUE!"}},{"$f":"E113+H114","v":0},{"$f":"VALUE(D114)-J114","v":{"$error":"#VALUE!"}},16,0,{"$f":"IF(TYPE(SEARCH(\")\",A114,1))=16,K114,SEARCH(\")\",A114,1))","v":{"$error":"#VALUE!"}},{"$f":"IF(TYPE(SEARCH(\"(\",A114,1))=16,0,MID(A114,K114,L114))","v":0},{"$f":"C114+2","v":{"$error":"#VALUE!"}},{"$f":"I114-K114","v":{"$error":"#VALUE!"}}]
[{"$f":"Feuil2!$G$19","v":0},null,{"$f":"IF(TYPE(SEARCH(\"(\",A115,1))=16,SEARCH(\"E\",A115,1)+1,SEARCH(\"(\",A115,1))","v":{"$error":"#VALUE!"}},{"$f":"REPLACE(MID(A115,1,C115-2),1,1,\"\")","v":{"$error":"#VALUE!"}},{"$f":"E114+H115","v":0},{"$f":"VALUE(D115)-J115","v":{"$error":"#VALUE!"}},16,0,{"$f":"IF(TYPE(SEARCH(\")\",A115,1))=16,K115,SEARCH(\")\",A115,1))","v":{"$error":"#VALUE!"}},{"$f":"IF(TYPE(SEARCH(\"(\",A115,1))=16,0,MID(A115,K115,L115))","v":0},{"$f":"C115+2","v":{"$error":"#VALUE!"}},{"$f":"I115-K115","v":{"$error":"#VALUE!"}}]
[{"$f":"Feuil2!$G$21","v":0},null,{"$f":"IF(TYPE(SEARCH(\"(\",A116,1))=16,SEARCH(\"I\",A116,1)+1,SEARCH(\"(\",A116,1))","v":{"$error":"#VALUE!"}},{"$f":"REPLACE(MID(A116,1,C116-2),1,1,\"\")","v":{"$error":"#VALUE!"}},{"$f":"E115+H116","v":0},{"$f":"VALUE(D116)-J116","v":{"$error":"#VALUE!"}},16,0,{"$f":"IF(TYPE(SEARCH(\")\",A116,1))=16,K116,SEARCH(\")\",A116,1))","v":{"$error":"#VALUE!"}},{"$f":"IF(TYPE(SEARCH(\"(\",A116,1))=16,0,MID(A116,K116,L116))","v":0},{"$f":"C116+2","v":{"$error":"#VALUE!"}},{"$f":"I116-K116","v":{"$error":"#VALUE!"}}]
[{"$f":"Feuil2!$G$24","v":0},null,{"$f":"SEARCH(\"E\",A117,1)","v":{"$error":"#VALUE!"}},{"$f":"REPLACE(MID(A117,1,C117-1),1,1,\"\")","v":{"$error":"#VALUE!"}}]
[{"$f":"Feuil2!$G$26","v":0},null,{"$f":"SEARCH(\"M\",A118,1)","v":{"$error":"#VALUE!"}},{"$f":"REPLACE(MID(A118,1,C118-1),1,1,\"\")","v":{"$error":"#VALUE!"}}]
[]
[{"$f":"Feuil2!$H$3","v":0}]
[{"$f":"Feuil2!$H$7","v":0},null,{"$f":"A120","v":0}]
[{"$f":"Feuil2!$H$9","v":0},null,null,{"$f":"P122","v":{"$error":"#VALUE!"}},null,{"$f":"VALUE(D122)","v":{"$error":"#VALUE!"}},{"$f":"TYPE(F122)","v":16},{"$f":"IF(G122=1,1,0)","v":0},{"$f":"SEARCH(\"Potentiel\",A122,1)","v":{"$error":"#VALUE!"}},{"$f":"SEARCH(\",\",A122,1)","v":{"$error":"#VALUE!"}},{"$f":"IF(TYPE(SEARCH(\",\",A122,J122+1))=1,SEARCH(\",\",A122,J122+1),J122)","v":{"$error":"#VALUE!"}},null,{"$f":"IF(TYPE(SEARCH(\",\",A122,K122+1))=1,SEARCH(\",\",A122,K122+1),K122)+IF(Q122=1,1,0)","v":{"$error":"#VALUE!"}},{"$f":"IF(TYPE(SEARCH(\",\",A122,M122+1))=1,SEARCH(\",\",A122,M122+1),M122)","v":{"$error":"#VALUE!"}},{"$f":"IF(I122-2-(N122+4)<0,0,I122-2-(N122+4))","v":{"$error":"#VALUE!"}},{"$f":"IF(MID(A122,N122+4,O122)=\"\",0,MID(A122,N122+4,O122))","v":{"$error":"#VALUE!"}},{"$f":"TYPE(SEARCH(\"K\",A122,1))","v":16}]
[{"$f":"Feuil2!$H$13","v":0},null,{"$f":"IF(TYPE(SEARCH(\"(\",A123,1))=16,SEARCH(\"F\",A123,1)+1,SEARCH(\"(\",A123,1))","v":{"$error":"#VALUE!"}},{"$f":"REPLACE(MID(A123,1,C123-2),1,1,\"\")","v":{"$error":"#VALUE!"}},{"$f":"E116+H123","v":0},{"$f":"VALUE(D123)-J123","v":{"$error":"#VALUE!"}},16,0,{"$f":"IF(TYPE(SEARCH(\")\",A123,1))=16,K123,SEARCH(\")\",A123,1))","v":{"$error":"#VALUE!"}},{"$f":"IF(TYPE(SEARCH(\")\",A123,1))=16,0,MID(A123,K123,L123))","v":0},{"$f":"C123+2","v":{"$error":"#VALUE!"}},{"$f":"I123-K123","v":{"$error":"#VALUE!"}},null,null,null,{"$f":"P122","v":{"$error":"#VALUE!"}}]
[{"$f":"Feuil2!$H$15","v":0},null,{"$f":"IF(TYPE(SEARCH(\"(\",A124,1))=16,SEARCH(\"H\",A124,1)+1,SEARCH(\"(\",A124,1))","v":{"$error":"#VALUE!"}},{"$f":"REPLACE(MID(A124,1,C124-2),1,1,\"\")","v":{"$error":"#VALUE!"}},{"$f":"E123+H124","v":0},{"$f":"VALUE(D124)-J124","v":{"$error":"#VALUE!"}},16,0,{"$f":"IF(TYPE(SEARCH(\")\",A124,1))=16,K124,SEARCH(\")\",A124,1))","v":{"$error":"#VALUE!"}},{"$f":"IF(TYPE(SEARCH(\"(\",A124,1))=16,0,MID(A124,K124,L124))","v":0},{"$f":"C124+2","v":{"$error":"#VALUE!"}},{"$f":"I124-K124","v":{"$error":"#VALUE!"}}]
[{"$f":"Feuil2!$H$17","v":0},null,{"$f":"IF(TYPE(SEARCH(\"(\",A125,1))=16,SEARCH(\"V\",A125,1)+1,SEARCH(\"(\",A125,1))","v":{"$error":"#VALUE!"}},{"$f":"REPLACE(MID(A125,1,C125-2),1,1,\"\")","v":{"$error":"#VALUE!"}},{"$f":"E124+H125","v":0},{"$f":"VALUE(D125)-J125","v":{"$error":"#VALUE!"}},16,0,{"$f":"IF(TYPE(SEARCH(\")\",A125,1))=16,K125,SEARCH(\")\",A125,1))","v":{"$error":"#VALUE!"}},{"$f":"IF(TYPE(SEARCH(\"(\",A125,1))=16,0,MID(A125,K125,L125))","v":0},{"$f":"C125+2","v":{"$error":"#VALUE!"}},{"$f":"I125-K125","v":{"$error":"#VALUE!"}}]
[{"$f":"Feuil2!$H$19","v":0},null,{"$f":"IF(TYPE(SEARCH(\"(\",A126,1))=16,SEARCH(\"E\",A126,1)+1,SEARCH(\"(\",A126,1))","v":{"$error":"#VALUE!"}},{"$f":"REPLACE(MID(A126,1,C126-2),1,1,\"\")","v":{"$error":"#VALUE!"}},{"$f":"E125+H126","v":0},{"$f":"VALUE(D126)-J126","v":{"$error":"#VALUE!"}},16,0,{"$f":"IF(TYPE(SEARCH(\")\",A126,1))=16,K126,SEARCH(\")\",A126,1))","v":{"$error":"#VALUE!"}},{"$f":"IF(TYPE(SEARCH(\"(\",A126,1))=16,0,MID(A126,K126,L126))","v":0},{"$f":"C126+2","v":{"$error":"#VALUE!"}},{"$f":"I126-K126","v":{"$error":"#VALUE!"}}]
[{"$f":"Feuil2!$H$21","v":0},null,{"$f":"IF(TYPE(SEARCH(\"(\",A127,1))=16,SEARCH(\"I\",A127,1)+1,SEARCH(\"(\",A127,1))","v":{"$error":"#VALUE!"}},{"$f":"REPLACE(MID(A127,1,C127-2),1,1,\"\")","v":{"$error":"#VALUE!"}},{"$f":"E126+H127","v":0},{"$f":"VALUE(D127)-J127","v":{"$error":"#VALUE!"}},16,0,{"$f":"IF(TYPE(SEARCH(\")\",A127,1))=16,K127,SEARCH(\")\",A127,1))","v":{"$error":"#VALUE!"}},{"$f":"IF(TYPE(SEARCH(\"(\",A127,1))=16,0,MID(A127,K127,L127))","v":0},{"$f":"C127+2","v":{"$error":"#VALUE!"}},{"$f":"I127-K127","v":{"$error":"#VALUE!"}}]
[{"$f":"Feuil2!$H$24","v":0},null,{"$f":"SEARCH(\"E\",A128,1)","v":{"$error":"#VALUE!"}},{"$f":"REPLACE(MID(A128,1,C128-1),1,1,\"\")","v":{"$error":"#VALUE!"}}]
[{"$f":"Feuil2!$H$26","v":0},null,{"$f":"SEARCH(\"M\",A129,1)","v":{"$error":"#VALUE!"}},{"$f":"REPLACE(MID(A129,1,C129-1),1,1,\"\")","v":{"$error":"#VALUE!"}}]
[]
[{"$f":"Feuil2!$I$3","v":0}]
[{"$f":"Feuil2!$I$7","v":0},null,{"$f":"A131","v":0}]
[{"$f":"Feuil2!$I$9","v":0},null,null,{"$f":"P133","v":{"$error":"#VALUE!"}},null,{"$f":"VALUE(D133)","v":{"$error":"#VALUE!"}},{"$f":"TYPE(F133)","v":16},{"$f":"IF(G133=1,1,0)","v":0},{"$f":"SEARCH(\"Potentiel\",A133,1)","v":{"$error":"#VALUE!"}},{"$f":"SEARCH(\",\",A133,1)","v":{"$error":"#VALUE!"}},{"$f":"IF(TYPE(SEARCH(\",\",A133,J133+1))=1,SEARCH(\",\",A133,J133+1),J133)","v":{"$error":"#VALUE!"}},null,{"$f":"IF(TYPE(SEARCH(\",\",A133,K133+1))=1,SEARCH(\",\",A133,K133+1),K133)+IF(Q133=1,1,0)","v":{"$error":"#VALUE!"}},{"$f":"IF(TYPE(SEARCH(\",\",A133,M133+1))=1,SEARCH(\",\",A133,M133+1),M133)","v":{"$error":"#VALUE!"}},{"$f":"IF(I133-2-(N133+4)<0,0,I133-2-(N133+4))","v":{"$error":"#VALUE!"}},{"$f":"IF(MID(A133,N133+4,O133)=\"\",0,MID(A133,N133+4,O133))","v":{"$error":"#VALUE!"}},{"$f":"TYPE(SEARCH(\"K\",A133,1))","v":16}]
[{"$f":"Feuil2!$I$13","v":0},null,{"$f":"IF(TYPE(SEARCH(\"(\",A134,1))=16,SEARCH(\"F\",A134,1)+1,SEARCH(\"(\",A134,1))","v":{"$error":"#VALUE!"}},{"$f":"REPLACE(MID(A134,1,C134-2),1,1,\"\")","v":{"$error":"#VALUE!"}},{"$f":"E127+H134","v":0},{"$f":"VALUE(D134)-J134","v":{"$error":"#VALUE!"}},16,0,{"$f":"IF(TYPE(SEARCH(\")\",A134,1))=16,K134,SEARCH(\")\",A134,1))","v":{"$error":"#VALUE!"}},{"$f":"IF(TYPE(SEARCH(\")\",A134,1))=16,0,MID(A134,K134,L134))","v":0},{"$f":"C134+2","v":{"$error":"#VALUE!"}},{"$f":"I134-K134","v":{"$error":"#VALUE!"}},null,null,null,{"$f":"P133","v":{"$error":"#VALUE!"}}]
[{"$f":"Feuil2!$I$15","v":0},null,{"$f":"IF(TYPE(SEARCH(\"(\",A135,1))=16,SEARCH(\"H\",A135,1)+1,SEARCH(\"(\",A135,1))","v":{"$error":"#VALUE!"}},{"$f":"REPLACE(MID(A135,1,C135-2),1,1,\"\")","v":{"$error":"#VALUE!"}},{"$f":"E134+H135","v":0},{"$f":"VALUE(D135)-J135","v":{"$error":"#VALUE!"}},16,0,{"$f":"IF(TYPE(SEARCH(\")\",A135,1))=16,K135,SEARCH(\")\",A135,1))","v":{"$error":"#VALUE!"}},{"$f":"IF(TYPE(SEARCH(\"(\",A135,1))=16,0,MID(A135,K135,L135))","v":0},{"$f":"C135+2","v":{"$error":"#VALUE!"}},{"$f":"I135-K135","v":{"$error":"#VALUE!"}}]
[{"$f":"Feuil2!$I$17","v":0},null,{"$f":"IF(TYPE(SEARCH(\"(\",A136,1))=16,SEARCH(\"V\",A136,1)+1,SEARCH(\"(\",A136,1))","v":{"$error":"#VALUE!"}},{"$f":"REPLACE(MID(A136,1,C136-2),1,1,\"\")","v":{"$error":"#VALUE!"}},{"$f":"E135+H136","v":0},{"$f":"VALUE(D136)-J136","v":{"$error":"#VALUE!"}},16,0,{"$f":"IF(TYPE(SEARCH(\")\",A136,1))=16,K136,SEARCH(\")\",A136,1))","v":{"$error":"#VALUE!"}},{"$f":"IF(TYPE(SEARCH(\"(\",A136,1))=16,0,MID(A136,K136,L136))","v":0},{"$f":"C136+2","v":{"$error":"#VALUE!"}},{"$f":"I136-K136","v":{"$error":"#VALUE!"}}]
[{"$f":"Feuil2!$I$19","v":0},null,{"$f":"IF(TYPE(SEARCH(\"(\",A137,1))=16,SEARCH(\"E\",A137,1)+1,SEARCH(\"(\",A137,1))","v":{"$error":"#VALUE!"}},{"$f":"REPLACE(MID(A137,1,C137-2),1,1,\"\")","v":{"$error":"#VALUE!"}},{"$f":"E136+H137","v":0},{"$f":"VALUE(D137)-J137","v":{"$error":"#VALUE!"}},16,0,{"$f":"IF(TYPE(SEARCH(\")\",A137,1))=16,K137,SEARCH(\")\",A137,1))","v":{"$error":"#VALUE!"}},{"$f":"IF(TYPE(SEARCH(\"(\",A137,1))=16,0,MID(A137,K137,L137))","v":0},{"$f":"C137+2","v":{"$error":"#VALUE!"}},{"$f":"I137-K137","v":{"$error":"#VALUE!"}}]
[{"$f":"Feuil2!$I$21","v":0},null,{"$f":"IF(TYPE(SEARCH(\"(\",A138,1))=16,SEARCH(\"I\",A138,1)+1,SEARCH(\"(\",A138,1))","v":{"$error":"#VALUE!"}},{"$f":"REPLACE(MID(A138,1,C138-2),1,1,\"\")","v":{"$error":"#VALUE!"}},{"$f":"E137+H138","v":0},{"$f":"VALUE(D138)-J138","v":{"$error":"#VALUE!"}},16,0,{"$f":"IF(TYPE(SEARCH(\")\",A138,1))=16,K138,SEARCH(\")\",A138,1))","v":{"$error":"#VALUE!"}},{"$f":"IF(TYPE(SEARCH(\"(\",A138,1))=16,0,MID(A138,K138,L138))","v":0},{"$f":"C138+2","v":{"$error":"#VALUE!"}},{"$f":"I138-K138","v":{"$error":"#VALUE!"}}]
[{"$f":"Feuil2!$I$24","v":0},null,{"$f":"SEARCH(\"E\",A139,1)","v":{"$error":"#VALUE!"}},{"$f":"REPLACE(MID(A139,1,C139-1),1,1,\"\")","v":{"$error":"#VALUE!"}}]
[{"$f":"Feuil2!$I$26","v":0},null,{"$f":"SEARCH(\"M\",A140,1)","v":{"$error":"#VALUE!"}},{"$f":"REPLACE(MID(A140,1,C140-1),1,1,\"\")","v":{"$error":"#VALUE!"}}]
[]
[{"$f":"Feuil2!$J$3","v":0}]
[{"$f":"Feuil2!$J$7","v":0},null,{"$f":"A142","v":0}]
[{"$f":"Feuil2!$J$9","v":0},null,null,{"$f":"P144","v":{"$error":"#VALUE!"}},null,{"$f":"VALUE(D144)","v":{"$error":"#VALUE!"}},{"$f":"TYPE(F144)","v":16},{"$f":"IF(G144=1,1,0)","v":0},{"$f":"SEARCH(\"Potentiel\",A144,1)","v":{"$error":"#VALUE!"}},{"$f":"SEARCH(\",\",A144,1)","v":{"$error":"#VALUE!"}},{"$f":"IF(TYPE(SEARCH(\",\",A144,J144+1))=1,SEARCH(\",\",A144,J144+1),J144)","v":{"$error":"#VALUE!"}},null,{"$f":"IF(TYPE(SEARCH(\",\",A144,K144+1))=1,SEARCH(\",\",A144,K144+1),K144)+IF(Q144=1,1,0)","v":{"$error":"#VALUE!"}},{"$f":"IF(TYPE(SEARCH(\",\",A144,M144+1))=1,SEARCH(\",\",A144,M144+1),M144)","v":{"$error":"#VALUE!"}},{"$f":"IF(I144-2-(N144+4)<0,0,I144-2-(N144+4))","v":{"$error":"#VALUE!"}},{"$f":"IF(MID(A144,N144+4,O144)=\"\",0,MID(A144,N144+4,O144))","v":{"$error":"#VALUE!"}},{"$f":"TYPE(SEARCH(\"K\",A144,1))","v":16}]
[{"$f":"Feuil2!$J$13","v":0},null,{"$f":"IF(TYPE(SEARCH(\"(\",A145,1))=16,SEARCH(\"F\",A145,1)+1,SEARCH(\"(\",A145,1))","v":{"$error":"#VALUE!"}},{"$f":"REPLACE(MID(A145,1,C145-2),1,1,\"\")","v":{"$error":"#VALUE!"}},{"$f":"E138+H145","v":0},{"$f":"VALUE(D145)-J145","v":{"$error":"#VALUE!"}},16,0,{"$f":"IF(TYPE(SEARCH(\")\",A145,1))=16,K145,SEARCH(\")\",A145,1))","v":{"$error":"#VALUE!"}},{"$f":"IF(TYPE(SEARCH(\")\",A145,1))=16,0,MID(A145,K145,L145))","v":0},{"$f":"C145+2","v":{"$error":"#VALUE!"}},{"$f":"I145-K145","v":{"$error":"#VALUE!"}},null,null,null,{"$f":"P144","v":{"$error":"#VALUE!"}}]
[{"$f":"Feuil2!$J$15","v":0},null,{"$f":"IF(TYPE(SEARCH(\"(\",A146,1))=16,SEARCH(\"H\",A146,1)+1,SEARCH(\"(\",A146,1))","v":{"$error":"#VALUE!"}},{"$f":"REPLACE(MID(A146,1,C146-2),1,1,\"\")","v":{"$error":"#VALUE!"}},{"$f":"E145+H146","v":0},{"$f":"VALUE(D146)-J146","v":{"$error":"#VALUE!"}},16,0,{"$f":"IF(TYPE(SEARCH(\")\",A146,1))=16,K146,SEARCH(\")\",A146,1))","v":{"$error":"#VALUE!"}},{"$f":"IF(TYPE(SEARCH(\"(\",A146,1))=16,0,MID(A146,K146,L146))","v":0},{"$f":"C146+2","v":{"$error":"#VALUE!"}},{"$f":"I146-K146","v":{"$error":"#VALUE!"}}]
[{"$f":"Feuil2!$J$17","v":0},null,{"$f":"IF(TYPE(SEARCH(\"(\",A147,1))=16,SEARCH(\"V\",A147,1)+1,SEARCH(\"(\",A147,1))","v":{"$error":"#VALUE!"}},{"$f":"REPLACE(MID(A147,1,C147-2),1,1,\"\")","v":{"$error":"#VALUE!"}},{"$f":"E146+H147","v":0},{"$f":"VALUE(D147)-J147","v":{"$error":"#VALUE!"}},16,0,{"$f":"IF(TYPE(SEARCH(\")\",A147,1))=16,K147,SEARCH(\")\",A147,1))","v":{"$error":"#VALUE!"}},{"$f":"IF(TYPE(SEARCH(\"(\",A147,1))=16,0,MID(A147,K147,L147))","v":0},{"$f":"C147+2","v":{"$error":"#VALUE!"}},{"$f":"I147-K147","v":{"$error":"#VALUE!"}}]
[{"$f":"Feuil2!$J$19","v":0},null,{"$f":"IF(TYPE(SEARCH(\"(\",A148,1))=16,SEARCH(\"E\",A148,1)+1,SEARCH(\"(\",A148,1))","v":{"$error":"#VALUE!"}},{"$f":"REPLACE(MID(A148,1,C148-2),1,1,\"\")","v":{"$error":"#VALUE!"}},{"$f":"E147+H148","v":0},{"$f":"VALUE(D148)-J148","v":{"$error":"#VALUE!"}},16,0,{"$f":"IF(TYPE(SEARCH(\")\",A148,1))=16,K148,SEARCH(\")\",A148,1))","v":{"$error":"#VALUE!"}},{"$f":"IF(TYPE(SEARCH(\"(\",A148,1))=16,0,MID(A148,K148,L148))","v":0},{"$f":"C148+2","v":{"$error":"#VALUE!"}},{"$f":"I148-K148","v":{"$error":"#VALUE!"}}]
[{"$f":"Feuil2!$J$21","v":0},null,{"$f":"IF(TYPE(SEARCH(\"(\",A149,1))=16,SEARCH(\"I\",A149,1)+1,SEARCH(\"(\",A149,1))","v":{"$error":"#VALUE!"}},{"$f":"REPLACE(MID(A149,1,C149-2),1,1,\"\")","v":{"$error":"#VALUE!"}},{"$f":"E148+H149","v":0},{"$f":"VALUE(D149)-J149","v":{"$error":"#VALUE!"}},16,0,{"$f":"IF(TYPE(SEARCH(\")\",A149,1))=16,K149,SEARCH(\")\",A149,1))","v":{"$error":"#VALUE!"}},{"$f":"IF(TYPE(SEARCH(\"(\",A149,1))=16,0,MID(A149,K149,L149))","v":0},{"$f":"C149+2","v":{"$error":"#VALUE!"}},{"$f":"I149-K149","v":{"$error":"#VALUE!"}}]
[{"$f":"Feuil2!$J$24","v":0},null,{"$f":"SEARCH(\"E\",A150,1)","v":{"$error":"#VALUE!"}},{"$f":"REPLACE(MID(A150,1,C150-1),1,1,\"\")","v":{"$error":"#VALUE!"}}]
[{"$f":"Feuil2!$J$26","v":0},null,{"$f":"SEARCH(\"M\",A151,1)","v":{"$error":"#VALUE!"}},{"$f":"REPLACE(MID(A151,1,C151-1),1,1,\"\")","v":{"$error":"#VALUE!"}}]
[]
[{"$f":"Feuil2!$K$3","v":0}]
[{"$f":"Feuil2!$K$7","v":0},null,{"$f":"A153","v":0}]
[{"$f":"Feuil2!$K$9","v":0},null,null,{"$f":"P155","v":{"$error":"#VALUE!"}},null,{"$f":"VALUE(D155)","v":{"$error":"#VALUE!"}},{"$f":"TYPE(F155)","v":16},{"$f":"IF(G155=1,1,0)","v":0},{"$f":"SEARCH(\"Potentiel\",A155,1)","v":{"$error":"#VALUE!"}},{"$f":"SEARCH(\",\",A155,1)","v":{"$error":"#VALUE!"}},{"$f":"IF(TYPE(SEARCH(\",\",A155,J155+1))=1,SEARCH(\",\",A155,J155+1),J155)","v":{"$error":"#VALUE!"}},null,{"$f":"IF(TYPE(SEARCH(\",\",A155,K155+1))=1,SEARCH(\",\",A155,K155+1),K155)+IF(Q155=1,1,0)","v":{"$error":"#VALUE!"}},{"$f":"IF(TYPE(SEARCH(\",\",A155,M155+1))=1,SEARCH(\",\",A155,M155+1),M155)","v":{"$error":"#VALUE!"}},{"$f":"IF(I155-2-(N155+4)<0,0,I155-2-(N155+4))","v":{"$error":"#VALUE!"}},{"$f":"IF(MID(A155,N155+4,O155)=\"\",0,MID(A155,N155+4,O155))","v":{"$error":"#VALUE!"}},{"$f":"TYPE(SEARCH(\"K\",A155,1))","v":16}]
[{"$f":"Feuil2!$K$13","v":0},null,{"$f":"IF(TYPE(SEARCH(\"(\",A156,1))=16,SEARCH(\"F\",A156,1)+1,SEARCH(\"(\",A156,1))","v":{"$error":"#VALUE!"}},{"$f":"REPLACE(MID(A156,1,C156-2),1,1,\"\")","v":{"$error":"#VALUE!"}},{"$f":"E149+H156","v":0},{"$f":"VALUE(D156)-J156","v":{"$error":"#VALUE!"}},16,0,{"$f":"IF(TYPE(SEARCH(\")\",A156,1))=16,K156,SEARCH(\")\",A156,1))","v":{"$error":"#VALUE!"}},{"$f":"IF(TYPE(SEARCH(\")\",A156,1))=16,0,MID(A156,K156,L156))","v":0},{"$f":"C156+2","v":{"$error":"#VALUE!"}},{"$f":"I156-K156","v":{"$error":"#VALUE!"}},null,null,null,{"$f":"P155","v":{"$error":"#VALUE!"}}]
[{"$f":"Feuil2!$K$15","v":0},null,{"$f":"IF(TYPE(SEARCH(\"(\",A157,1))=16,SEARCH(\"H\",A157,1)+1,SEARCH(\"(\",A157,1))","v":{"$error":"#VALUE!"}},{"$f":"REPLACE(MID(A157,1,C157-2),1,1,\"\")","v":{"$error":"#VALUE!"}},{"$f":"E156+H157","v":0},{"$f":"VALUE(D157)-J157","v":{"$error":"#VALUE!"}},16,0,{"$f":"IF(TYPE(SEARCH(\")\",A157,1))=16,K157,SEARCH(\")\",A157,1))","v":{"$error":"#VALUE!"}},{"$f":"IF(TYPE(SEARCH(\"(\",A157,1))=16,0,MID(A157,K157,L157))","v":0},{"$f":"C157+2","v":{"$error":"#VALUE!"}},{"$f":"I157-K157","v":{"$error":"#VALUE!"}}]
[{"$f":"Feuil2!$K$17","v":0},null,{"$f":"IF(TYPE(SEARCH(\"(\",A158,1))=16,SEARCH(\"V\",A158,1)+1,SEARCH(\"(\",A158,1))","v":{"$error":"#VALUE!"}},{"$f":"REPLACE(MID(A158,1,C158-2),1,1,\"\")","v":{"$error":"#VALUE!"}},{"$f":"E157+H158","v":0},{"$f":"VALUE(D158)-J158","v":{"$error":"#VALUE!"}},16,0,{"$f":"IF(TYPE(SEARCH(\")\",A158,1))=16,K158,SEARCH(\")\",A158,1))","v":{"$error":"#VALUE!"}},{"$f":"IF(TYPE(SEARCH(\"(\",A158,1))=16,0,MID(A158,K158,L158))","v":0},{"$f":"C158+2","v":{"$error":"#VALUE!"}},{"$f":"I158-K158","v":{"$error":"#VALUE!"}}]
[{"$f":"Feuil2!$K$19","v":0},null,{"$f":"IF(TYPE(SEARCH(\"(\",A159,1))=16,SEARCH(\"E\",A159,1)+1,SEARCH(\"(\",A159,1))","v":{"$error":"#VALUE!"}},{"$f":"REPLACE(MID(A159,1,C159-2),1,1,\"\")","v":{"$error":"#VALUE!"}},{"$f":"E158+H159","v":0},{"$f":"VALUE(D159)-J159","v":{"$error":"#VALUE!"}},16,0,{"$f":"IF(TYPE(SEARCH(\")\",A159,1))=16,K159,SEARCH(\")\",A159,1))","v":{"$error":"#VALUE!"}},{"$f":"IF(TYPE(SEARCH(\"(\",A159,1))=16,0,MID(A159,K159,L159))","v":0},{"$f":"C159+2","v":{"$error":"#VALUE!"}},{"$f":"I159-K159","v":{"$error":"#VALUE!"}}]
[{"$f":"Feuil2!$K$21","v":0},null,{"$f":"IF(TYPE(SEARCH(\"(\",A160,1))=16,SEARCH(\"I\",A160,1)+1,SEARCH(\"(\",A160,1))","v":{"$error":"#VALUE!"}},{"$f":"REPLACE(MID(A160,1,C160-2),1,1,\"\")","v":{"$error":"#VALUE!"}},{"$f":"E159+H160","v":0},{"$f":"VALUE(D160)-J160","v":{"$error":"#VALUE!"}},16,0,{"$f":"IF(TYPE(SEARCH(\")\",A160,1))=16,K160,SEARCH(\")\",A160,1))","v":{"$error":"#VALUE!"}},{"$f":"IF(TYPE(SEARCH(\"(\",A160,1))=16,0,MID(A160,K160,L160))","v":0},{"$f":"C160+2","v":{"$error":"#VALUE!"}},{"$f":"I160-K160","v":{"$error":"#VALUE!"}}]
[{"$f":"Feuil2!$K$24","v":0},null,{"$f":"SEARCH(\"E\",A161,1)","v":{"$error":"#VALUE!"}},{"$f":"REPLACE(MID(A161,1,C161-1),1,1,\"\")","v":{"$error":"#VALUE!"}}]
[{"$f":"Feuil2!$K$26","v":0},null,{"$f":"SEARCH(\"M\",A162,1)","v":{"$error":"#VALUE!"}},{"$f":"REPLACE(MID(A162,1,C162-1),1,1,\"\")","v":{"$error":"#VALUE!"}}]
[]
[{"$f":"Feuil2!$L$3","v":0}]
[{"$f":"Feuil2!$L$7","v":0},null,{"$f":"A164","v":0}]
[{"$f":"Feuil2!$L$9","v":0},null,null,{"$f":"P166","v":{"$error":"#VALUE!"}},null,{"$f":"VALUE(D166)","v":{"$error":"#VALUE!"}},{"$f":"TYPE(F166)","v":16},{"$f":"IF(G166=1,1,0)","v":0},{"$f":"SEARCH(\"Potentiel\",A166,1)","v":{"$error":"#VALUE!"}},{"$f":"SEARCH(\",\",A166,1)","v":{"$error":"#VALUE!"}},{"$f":"IF(TYPE(SEARCH(\",\",A166,J166+1))=1,SEARCH(\",\",A166,J166+1),J166)","v":{"$error":"#VALUE!"}},null,{"$f":"IF(TYPE(SEARCH(\",\",A166,K166+1))=1,SEARCH(\",\",A166,K166+1),K166)+IF(Q166=1,1,0)","v":{"$error":"#VALUE!"}},{"$f":"IF(TYPE(SEARCH(\",\",A166,M166+1))=1,SEARCH(\",\",A166,M166+1),M166)","v":{"$error":"#VALUE!"}},{"$f":"IF(I166-2-(N166+4)<0,0,I166-2-(N166+4))","v":{"$error":"#VALUE!"}},{"$f":"IF(MID(A166,N166+4,O166)=\"\",0,MID(A166,N166+4,O166))","v":{"$error":"#VALUE!"}},{"$f":"TYPE(SEARCH(\"K\",A166,1))","v":16}]
[{"$f":"Feuil2!$L$13","v":0},null,{"$f":"IF(TYPE(SEARCH(\"(\",A167,1))=16,SEARCH(\"F\",A167,1)+1,SEARCH(\"(\",A167,1))","v":{"$error":"#VALUE!"}},{"$f":"REPLACE(MID(A167,1,C167-2),1,1,\"\")","v":{"$error":"#VALUE!"}},{"$f":"E160+H167","v":0},{"$f":"VALUE(D167)-J167","v":{"$error":"#VALUE!"}},16,0,{"$f":"IF(TYPE(SEARCH(\")\",A167,1))=16,K167,SEARCH(\")\",A167,1))","v":{"$error":"#VALUE!"}},{"$f":"IF(TYPE(SEARCH(\")\",A167,1))=16,0,MID(A167,K167,L167))","v":0},{"$f":"C167+2","v":{"$error":"#VALUE!"}},{"$f":"I167-K167","v":{"$error":"#VALUE!"}},null,null,null,{"$f":"P166","v":{"$error":"#VALUE!"}}]
[{"$f":"Feuil2!$L$15","v":0},null,{"$f":"IF(TYPE(SEARCH(\"(\",A168,1))=16,SEARCH(\"H\",A168,1)+1,SEARCH(\"(\",A168,1))","v":{"$error":"#VALUE!"}},{"$f":"REPLACE(MID(A168,1,C168-2),1,1,\"\")","v":{"$error":"#VALUE!"}},{"$f":"E167+H168","v":0},{"$f":"VALUE(D168)-J168","v":{"$error":"#VALUE!"}},16,0,{"$f":"IF(TYPE(SEARCH(\")\",A168,1))=16,K168,SEARCH(\")\",A168,1))","v":{"$error":"#VALUE!"}},{"$f":"IF(TYPE(SEARCH(\"(\",A168,1))=16,0,MID(A168,K168,L168))","v":0},{"$f":"C168+2","v":{"$error":"#VALUE!"}},{"$f":"I168-K168","v":{"$error":"#VALUE!"}}]
[{"$f":"Feuil2!$L$17","v":0},null,{"$f":"IF(TYPE(SEARCH(\"(\",A169,1))=16,SEARCH(\"V\",A169,1)+1,SEARCH(\"(\",A169,1))","v":{"$error":"#VALUE!"}},{"$f":"REPLACE(MID(A169,1,C169-2),1,1,\"\")","v":{"$error":"#VALUE!"}},{"$f":"E168+H169","v":0},{"$f":"VALUE(D169)-J169","v":{"$error":"#VALUE!"}},16,0,{"$f":"IF(TYPE(SEARCH(\")\",A169,1))=16,K169,SEARCH(\")\",A169,1))","v":{"$error":"#VALUE!"}},{"$f":"IF(TYPE(SEARCH(\"(\",A169,1))=16,0,MID(A169,K169,L169))","v":0},{"$f":"C169+2","v":{"$error":"#VALUE!"}},{"$f":"I169-K169","v":{"$error":"#VALUE!"}}]
[{"$f":"Feuil2!$L$19","v":0},null,{"$f":"IF(TYPE(SEARCH(\"(\",A170,1))=16,SEARCH(\"E\",A170,1)+1,SEARCH(\"(\",A170,1))","v":{"$error":"#VALUE!"}},{"$f":"REPLACE(MID(A170,1,C170-2),1,1,\"\")","v":{"$error":"#VALUE!"}},{"$f":"E169+H170","v":0},{"$f":"VALUE(D170)-J170","v":{"$error":"#VALUE!"}},16,0,{"$f":"IF(TYPE(SEARCH(\")\",A170,1))=16,K170,SEARCH(\")\",A170,1))","v":{"$error":"#VALUE!"}},{"$f":"IF(TYPE(SEARCH(\"(\",A170,1))=16,0,MID(A170,K170,L170))","v":0},{"$f":"C170+2","v":{"$error":"#VALUE!"}},{"$f":"I170-K170","v":{"$error":"#VALUE!"}}]
[{"$f":"Feuil2!$L$21","v":0},null,{"$f":"IF(TYPE(SEARCH(\"(\",A171,1))=16,SEARCH(\"I\",A171,1)+1,SEARCH(\"(\",A171,1))","v":{"$error":"#VALUE!"}},{"$f":"REPLACE(MID(A171,1,C171-2),1,1,\"\")","v":{"$error":"#VALUE!"}},{"$f":"E170+H171","v":0},{"$f":"VALUE(D171)-J171","v":{"$error":"#VALUE!"}},16,0,{"$f":"IF(TYPE(SEARCH(\")\",A171,1))=16,K171,SEARCH(\")\",A171,1))","v":{"$error":"#VALUE!"}},{"$f":"IF(TYPE(SEARCH(\"(\",A171,1))=16,0,MID(A171,K171,L171))","v":0},{"$f":"C171+2","v":{"$error":"#VALUE!"}},{"$f":"I171-K171","v":{"$error":"#VALUE!"}}]
[{"$f":"Feuil2!$L$24","v":0},null,{"$f":"SEARCH(\"E\",A172,1)","v":{"$error":"#VALUE!"}},{"$f":"REPLACE(MID(A172,1,C172-1),1,1,\"\")","v":{"$error":"#VALUE!"}}]
[{"$f":"Feuil2!$L$26","v":0},null,{"$f":"SEARCH(\"M\",A173,1)","v":{"$error":"#VALUE!"}},{"$f":"REPLACE(MID(A173,1,C173-1),1,1,\"\")","v":{"$error":"#VALUE!"}}]
[]
[{"$f":"Feuil2!$M$3","v":0}]
[{"$f":"Feuil2!$M$7","v":0},null,{"$f":"A175","v":0}]
[{"$f":"Feuil2!$M$9","v":0},null,null,{"$f":"P177","v":{"$error":"#VALUE!"}},null,{"$f":"VALUE(D177)","v":{"$error":"#VALUE!"}},{"$f":"TYPE(F177)","v":16},{"$f":"IF(G177=1,1,0)","v":0},{"$f":"SEARCH(\"Potentiel\",A177,1)","v":{"$error":"#VALUE!"}},{"$f":"SEARCH(\",\",A177,1)","v":{"$error":"#VALUE!"}},{"$f":"IF(TYPE(SEARCH(\",\",A177,J177+1))=1,SEARCH(\",\",A177,J177+1),J177)","v":{"$error":"#VALUE!"}},null,{"$f":"IF(TYPE(SEARCH(\",\",A177,K177+1))=1,SEARCH(\",\",A177,K177+1),K177)+IF(Q177=1,1,0)","v":{"$error":"#VALUE!"}},{"$f":"IF(TYPE(SEARCH(\",\",A177,M177+1))=1,SEARCH(\",\",A177,M177+1),M177)","v":{"$error":"#VALUE!"}},{"$f":"IF(I177-2-(N177+4)<0,0,I177-2-(N177+4))","v":{"$error":"#VALUE!"}},{"$f":"IF(MID(A177,N177+4,O177)=\"\",0,MID(A177,N177+4,O177))","v":{"$error":"#VALUE!"}},{"$f":"TYPE(SEARCH(\"K\",A177,1))","v":16}]
[{"$f":"Feuil2!$M$13","v":0},null,{"$f":"IF(TYPE(SEARCH(\"(\",A178,1))=16,SEARCH(\"F\",A178,1)+1,SEARCH(\"(\",A178,1))","v":{"$error":"#VALUE!"}},{"$f":"REPLACE(MID(A178,1,C178-2),1,1,\"\")","v":{"$error":"#VALUE!"}},{"$f":"E171+H178","v":0},{"$f":"VALUE(D178)-J178","v":{"$error":"#VALUE!"}},16,0,{"$f":"IF(TYPE(SEARCH(\")\",A178,1))=16,K178,SEARCH(\")\",A178,1))","v":{"$error":"#VALUE!"}},{"$f":"IF(TYPE(SEARCH(\")\",A178,1))=16,0,MID(A178,K178,L178))","v":0},{"$f":"C178+2","v":{"$error":"#VALUE!"}},{"$f":"I178-K178","v":{"$error":"#VALUE!"}},null,null,null,{"$f":"P177","v":{"$error":"#VALUE!"}}]
[{"$f":"Feuil2!$M$15","v":0},null,{"$f":"IF(TYPE(SEARCH(\"(\",A179,1))=16,SEARCH(\"H\",A179,1)+1,SEARCH(\"(\",A179,1))","v":{"$error":"#VALUE!"}},{"$f":"REPLACE(MID(A179,1,C179-2),1,1,\"\")","v":{"$error":"#VALUE!"}},{"$f":"E178+H179","v":0},{"$f":"VALUE(D179)-J179","v":{"$error":"#VALUE!"}},16,0,{"$f":"IF(TYPE(SEARCH(\")\",A179,1))=16,K179,SEARCH(\")\",A179,1))","v":{"$error":"#VALUE!"}},{"$f":"IF(TYPE(SEARCH(\"(\",A179,1))=16,0,MID(A179,K179,L179))","v":0},{"$f":"C179+2","v":{"$error":"#VALUE!"}},{"$f":"I179-K179","v":{"$error":"#VALUE!"}}]
[{"$f":"Feuil2!$M$17","v":0},null,{"$f":"IF(TYPE(SEARCH(\"(\",A180,1))=16,SEARCH(\"V\",A180,1)+1,SEARCH(\"(\",A180,1))","v":{"$error":"#VALUE!"}},{"$f":"REPLACE(MID(A180,1,C180-2),1,1,\"\")","v":{"$error":"#VALUE!"}},{"$f":"E179+H180","v":0},{"$f":"VALUE(D180)-J180","v":{"$error":"#VALUE!"}},16,0,{"$f":"IF(TYPE(SEARCH(\")\",A180,1))=16,K180,SEARCH(\")\",A180,1))","v":{"$error":"#VALUE!"}},{"$f":"IF(TYPE(SEARCH(\"(\",A180,1))=16,0,MID(A180,K180,L180))","v":0},{"$f":"C180+2","v":{"$error":"#VALUE!"}},{"$f":"I180-K180","v":{"$error":"#VALUE!"}}]
[{"$f":"Feuil2!$M$19","v":0},null,{"$f":"IF(TYPE(SEARCH(\"(\",A181,1))=16,SEARCH(\"E\",A181,1)+1,SEARCH(\"(\",A181,1))","v":{"$error":"#VALUE!"}},{"$f":"REPLACE(MID(A181,1,C181-2),1,1,\"\")","v":{"$error":"#VALUE!"}},{"$f":"E180+H181","v":0},{"$f":"VALUE(D181)-J181","v":{"$error":"#VALUE!"}},16,0,{"$f":"IF(TYPE(SEARCH(\")\",A181,1))=16,K181,SEARCH(\")\",A181,1))","v":{"$error":"#VALUE!"}},{"$f":"IF(TYPE(SEARCH(\"(\",A181,1))=16,0,MID(A181,K181,L181))","v":0},{"$f":"C181+2","v":{"$error":"#VALUE!"}},{"$f":"I181-K181","v":{"$error":"#VALUE!"}}]
[{"$f":"Feuil2!$M$21","v":0},null,{"$f":"IF(TYPE(SEARCH(\"(\",A182,1))=16,SEARCH(\"I\",A182,1)+1,SEARCH(\"(\",A182,1))","v":{"$error":"#VALUE!"}},{"$f":"REPLACE(MID(A182,1,C182-2),1,1,\"\")","v":{"$error":"#VALUE!"}},{"$f":"E181+H182","v":0},{"$f":"VALUE(D182)-J182","v":{"$error":"#VALUE!"}},16,0,{"$f":"IF(TYPE(SEARCH(\")\",A182,1))=16,K182,SEARCH(\")\",A182,1))","v":{"$error":"#VALUE!"}},{"$f":"IF(TYPE(SEARCH(\"(\",A182,1))=16,0,MID(A182,K182,L182))","v":0},{"$f":"C182+2","v":{"$error":"#VALUE!"}},{"$f":"I182-K182","v":{"$error":"#VALUE!"}}]
[{"$f":"Feuil2!$M$24","v":0},null,{"$f":"SEARCH(\"E\",A183,1)","v":{"$error":"#VALUE!"}},{"$f":"REPLACE(MID(A183,1,C183-1),1,1,\"\")","v":{"$error":"#VALUE!"}}]
[{"$f":"Feuil2!$M$26","v":0},null,{"$f":"SEARCH(\"M\",A184,1)","v":{"$error":"#VALUE!"}},{"$f":"REPLACE(MID(A184,1,C184-1),1,1,\"\")","v":{"$error":"#VALUE!"}}]
[]
[{"$f":"Feuil2!$N$3","v":0}]
[{"$f":"Feuil2!$N$7","v":0},null,{"$f":"A186","v":0}]
[{"$f":"Feuil2!$N$9","v":0},null,null,{"$f":"P188","v":{"$error":"#VALUE!"}},null,{"$f":"VALUE(D188)","v":{"$error":"#VALUE!"}},{"$f":"TYPE(F188)","v":16},{"$f":"IF(G188=1,1,0)","v":0},{"$f":"SEARCH(\"Potentiel\",A188,1)","v":{"$error":"#VALUE!"}},{"$f":"SEARCH(\",\",A188,1)","v":{"$error":"#VALUE!"}},{"$f":"IF(TYPE(SEARCH(\",\",A188,J188+1))=1,SEARCH(\",\",A188,J188+1),J188)","v":{"$error":"#VALUE!"}},null,{"$f":"IF(TYPE(SEARCH(\",\",A188,K188+1))=1,SEARCH(\",\",A188,K188+1),K188)+IF(Q188=1,1,0)","v":{"$error":"#VALUE!"}},{"$f":"IF(TYPE(SEARCH(\",\",A188,M188+1))=1,SEARCH(\",\",A188,M188+1),M188)","v":{"$error":"#VALUE!"}},{"$f":"IF(I188-2-(N188+4)<0,0,I188-2-(N188+4))","v":{"$error":"#VALUE!"}},{"$f":"IF(MID(A188,N188+4,O188)=\"\",0,MID(A188,N188+4,O188))","v":{"$error":"#VALUE!"}},{"$f":"TYPE(SEARCH(\"K\",A188,1))","v":16}]
[{"$f":"Feuil2!$N$13","v":0},null,{"$f":"IF(TYPE(SEARCH(\"(\",A189,1))=16,SEARCH(\"F\",A189,1)+1,SEARCH(\"(\",A189,1))","v":{"$error":"#VALUE!"}},{"$f":"REPLACE(MID(A189,1,C189-2),1,1,\"\")","v":{"$error":"#VALUE!"}},{"$f":"E182+H189","v":0},{"$f":"VALUE(D189)-J189","v":{"$error":"#VALUE!"}},16,0,{"$f":"IF(TYPE(SEARCH(\")\",A189,1))=16,K189,SEARCH(\")\",A189,1))","v":{"$error":"#VALUE!"}},{"$f":"IF(TYPE(SEARCH(\")\",A189,1))=16,0,MID(A189,K189,L189))","v":0},{"$f":"C189+2","v":{"$error":"#VALUE!"}},{"$f":"I189-K189","v":{"$error":"#VALUE!"}},null,null,null,{"$f":"P188","v":{"$error":"#VALUE!"}}]
[{"$f":"Feuil2!$N$15","v":0},null,{"$f":"IF(TYPE(SEARCH(\"(\",A190,1))=16,SEARCH(\"H\",A190,1)+1,SEARCH(\"(\",A190,1))","v":{"$error":"#VALUE!"}},{"$f":"REPLACE(MID(A190,1,C190-2),1,1,\"\")","v":{"$error":"#VALUE!"}},{"$f":"E189+H190","v":0},{"$f":"VALUE(D190)-J190","v":{"$error":"#VALUE!"}},16,0,{"$f":"IF(TYPE(SEARCH(\")\",A190,1))=16,K190,SEARCH(\")\",A190,1))","v":{"$error":"#VALUE!"}},{"$f":"IF(TYPE(SEARCH(\"(\",A190,1))=16,0,MID(A190,K190,L190))","v":0},{"$f":"C190+2","v":{"$error":"#VALUE!"}},{"$f":"I190-K190","v":{"$error":"#VALUE!"}}]
[{"$f":"Feuil2!$N$17","v":0},null,{"$f":"IF(TYPE(SEARCH(\"(\",A191,1))=16,SEARCH(\"V\",A191,1)+1,SEARCH(\"(\",A191,1))","v":{"$error":"#VALUE!"}},{"$f":"REPLACE(MID(A191,1,C191-2),1,1,\"\")","v":{"$error":"#VALUE!"}},{"$f":"E190+H191","v":0},{"$f":"VALUE(D191)-J191","v":{"$error":"#VALUE!"}},16,0,{"$f":"IF(TYPE(SEARCH(\")\",A191,1))=16,K191,SEARCH(\")\",A191,1))","v":{"$error":"#VALUE!"}},{"$f":"IF(TYPE(SEARCH(\"(\",A191,1))=16,0,MID(A191,K191,L191))","v":0},{"$f":"C191+2","v":{"$error":"#VALUE!"}},{"$f":"I191-K191","v":{"$error":"#VALUE!"}}]
[{"$f":"Feuil2!$N$19","v":0},null,{"$f":"IF(TYPE(SEARCH(\"(\",A192,1))=16,SEARCH(\"E\",A192,1)+1,SEARCH(\"(\",A192,1))","v":{"$error":"#VALUE!"}},{"$f":"REPLACE(MID(A192,1,C192-2),1,1,\"\")","v":{"$error":"#VALUE!"}},{"$f":"E191+H192","v":0},{"$f":"VALUE(D192)-J192","v":{"$error":"#VALUE!"}},16,0,{"$f":"IF(TYPE(SEARCH(\")\",A192,1))=16,K192,SEARCH(\")\",A192,1))","v":{"$error":"#VALUE!"}},{"$f":"IF(TYPE(SEARCH(\"(\",A192,1))=16,0,MID(A192,K192,L192))","v":0},{"$f":"C192+2","v":{"$error":"#VALUE!"}},{"$f":"I192-K192","v":{"$error":"#VALUE!"}}]
[{"$f":"Feuil2!$N$21","v":0},null,{"$f":"IF(TYPE(SEARCH(\"(\",A193,1))=16,SEARCH(\"I\",A193,1)+1,SEARCH(\"(\",A193,1))","v":{"$error":"#VALUE!"}},{"$f":"REPLACE(MID(A193,1,C193-2),1,1,\"\")","v":{"$error":"#VALUE!"}},{"$f":"E192+H193","v":0},{"$f":"VALUE(D193)-J193","v":{"$error":"#VALUE!"}},16,0,{"$f":"IF(TYPE(SEARCH(\")\",A193,1))=16,K193,SEARCH(\")\",A193,1))","v":{"$error":"#VALUE!"}},{"$f":"IF(TYPE(SEARCH(\"(\",A193,1))=16,0,MID(A193,K193,L193))","v":0},{"$f":"C193+2","v":{"$error":"#VALUE!"}},{"$f":"I193-K193","v":{"$error":"#VALUE!"}}]
[{"$f":"Feuil2!$N$24","v":0},null,{"$f":"SEARCH(\"E\",A194,1)","v":{"$error":"#VALUE!"}},{"$f":"REPLACE(MID(A194,1,C194-1),1,1,\"\")","v":{"$error":"#VALUE!"}}]
[{"$f":"Feuil2!$N$26","v":0},null,{"$f":"SEARCH(\"M\",A195,1)","v":{"$error":"#VALUE!"}},{"$f":"REPLACE(MID(A195,1,C195-1),1,1,\"\")","v":{"$error":"#VALUE!"}}]
[]
[{"$f":"Feuil2!$O$3","v":0}]
[{"$f":"Feuil2!$O$7","v":0},null,{"$f":"A197","v":0}]
[{"$f":"Feuil2!$O$9","v":0},null,null,{"$f":"P199","v":{"$error":"#VALUE!"}},null,{"$f":"VALUE(D199)","v":{"$error":"#VALUE!"}},{"$f":"TYPE(F199)","v":16},{"$f":"IF(G199=1,1,0)","v":0},{"$f":"SEARCH(\"Potentiel\",A199,1)","v":{"$error":"#VALUE!"}},{"$f":"SEARCH(\",\",A199,1)","v":{"$error":"#VALUE!"}},{"$f":"IF(TYPE(SEARCH(\",\",A199,J199+1))=1,SEARCH(\",\",A199,J199+1),J199)","v":{"$error":"#VALUE!"}},null,{"$f":"IF(TYPE(SEARCH(\",\",A199,K199+1))=1,SEARCH(\",\",A199,K199+1),K199)+IF(Q199=1,1,0)","v":{"$error":"#VALUE!"}},{"$f":"IF(TYPE(SEARCH(\",\",A199,M199+1))=1,SEARCH(\",\",A199,M199+1),M199)","v":{"$error":"#VALUE!"}},{"$f":"IF(I199-2-(N199+4)<0,0,I199-2-(N199+4))","v":{"$error":"#VALUE!"}},{"$f":"IF(MID(A199,N199+4,O199)=\"\",0,MID(A199,N199+4,O199))","v":{"$error":"#VALUE!"}},{"$f":"TYPE(SEARCH(\"K\",A199,1))","v":16}]
[{"$f":"Feuil2!$O$13","v":0},null,{"$f":"IF(TYPE(SEARCH(\"(\",A200,1))=16,SEARCH(\"F\",A200,1)+1,SEARCH(\"(\",A200,1))","v":{"$error":"#VALUE!"}},{"$f":"REPLACE(MID(A200,1,C200-2),1,1,\"\")","v":{"$error":"#VALUE!"}},{"$f":"E193+H200","v":0},{"$f":"VALUE(D200)-J200","v":{"$error":"#VALUE!"}},16,0,{"$f":"IF(TYPE(SEARCH(\")\",A200,1))=16,K200,SEARCH(\")\",A200,1))","v":{"$error":"#VALUE!"}},{"$f":"IF(TYPE(SEARCH(\")\",A200,1))=16,0,MID(A200,K200,L200))","v":0},{"$f":"C200+2","v":{"$error":"#VALUE!"}},{"$f":"I200-K200","v":{"$error":"#VALUE!"}},null,null,null,{"$f":"P199","v":{"$error":"#VALUE!"}}]
[{"$f":"Feuil2!$O$15","v":0},null,{"$f":"IF(TYPE(SEARCH(\"(\",A201,1))=16,SEARCH(\"H\",A201,1)+1,SEARCH(\"(\",A201,1))","v":{"$error":"#VALUE!"}},{"$f":"REPLACE(MID(A201,1,C201-2),1,1,\"\")","v":{"$error":"#VALUE!"}},{"$f":"E200+H201","v":0},{"$f":"VALUE(D201)-J201","v":{"$error":"#VALUE!"}},16,0,{"$f":"IF(TYPE(SEARCH(\")\",A201,1))=16,K201,SEARCH(\")\",A201,1))","v":{"$error":"#VALUE!"}},{"$f":"IF(TYPE(SEARCH(\"(\",A201,1))=16,0,MID(A201,K201,L201))","v":0},{"$f":"C201+2","v":{"$error":"#VALUE!"}},{"$f":"I201-K201","v":{"$error":"#VALUE!"}}]
[{"$f":"Feuil2!$O$17","v":0},null,{"$f":"IF(TYPE(SEARCH(\"(\",A202,1))=16,SEARCH(\"V\",A202,1)+1,SEARCH(\"(\",A202,1))","v":{"$error":"#VALUE!"}},{"$f":"REPLACE(MID(A202,1,C202-2),1,1,\"\")","v":{"$error":"#VALUE!"}},{"$f":"E201+H202","v":0},{"$f":"VALUE(D202)-J202","v":{"$error":"#VALUE!"}},16,0,{"$f":"IF(TYPE(SEARCH(\")\",A202,1))=16,K202,SEARCH(\")\",A202,1))","v":{"$error":"#VALUE!"}},{"$f":"IF(TYPE(SEARCH(\"(\",A202,1))=16,0,MID(A202,K202,L202))","v":0},{"$f":"C202+2","v":{"$error":"#VALUE!"}},{"$f":"I202-K202","v":{"$error":"#VALUE!"}}]
[{"$f":"Feuil2!$O$19","v":0},null,{"$f":"IF(TYPE(SEARCH(\"(\",A203,1))=16,SEARCH(\"E\",A203,1)+1,SEARCH(\"(\",A203,1))","v":{"$error":"#VALUE!"}},{"$f":"REPLACE(MID(A203,1,C203-2),1,1,\"\")","v":{"$error":"#VALUE!"}},{"$f":"E202+H203","v":0},{"$f":"VALUE(D203)-J203","v":{"$error":"#VALUE!"}},16,0,{"$f":"IF(TYPE(SEARCH(\")\",A203,1))=16,K203,SEARCH(\")\",A203,1))","v":{"$error":"#VALUE!"}},{"$f":"IF(TYPE(SEARCH(\"(\",A203,1))=16,0,MID(A203,K203,L203))","v":0},{"$f":"C203+2","v":{"$error":"#VALUE!"}},{"$f":"I203-K203","v":{"$error":"#VALUE!"}}]
[{"$f":"Feuil2!$O$21","v":0},null,{"$f":"IF(TYPE(SEARCH(\"(\",A204,1))=16,SEARCH(\"I\",A204,1)+1,SEARCH(\"(\",A204,1))","v":{"$error":"#VALUE!"}},{"$f":"REPLACE(MID(A204,1,C204-2),1,1,\"\")","v":{"$error":"#VALUE!"}},{"$f":"E203+H204","v":0},{"$f":"VALUE(D204)-J204","v":{"$error":"#VALUE!"}},16,0,{"$f":"IF(TYPE(SEARCH(\")\",A204,1))=16,K204,SEARCH(\")\",A204,1))","v":{"$error":"#VALUE!"}},{"$f":"IF(TYPE(SEARCH(\"(\",A204,1))=16,0,MID(A204,K204,L204))","v":0},{"$f":"C204+2","v":{"$error":"#VALUE!"}},{"$f":"I204-K204","v":{"$error":"#VALUE!"}}]
[{"$f":"Feuil2!$O$24","v":0},null,{"$f":"SEARCH(\"E\",A205,1)","v":{"$error":"#VALUE!"}},{"$f":"REPLACE(MID(A205,1,C205-1),1,1,\"\")","v":{"$error":"#VALUE!"}}]
[{"$f":"Feuil2!$O$26","v":0},null,{"$f":"SEARCH(\"M\",A206,1)","v":{"$error":"#VALUE!"}},{"$f":"REPLACE(MID(A206,1,C206-1),1,1,\"\")","v":{"$error":"#VALUE!"}}]
[]
[{"$f":"Feuil2!$P$3","v":0}]
[{"$f":"Feuil2!$P$7","v":0},null,{"$f":"A208","v":0}]
[{"$f":"Feuil2!$P$9","v":0},null,null,{"$f":"P210","v":{"$error":"#VALUE!"}},null,{"$f":"VALUE(D210)","v":{"$error":"#VALUE!"}},{"$f":"TYPE(F210)","v":16},{"$f":"IF(G210=1,1,0)","v":0},{"$f":"SEARCH(\"Potentiel\",A210,1)","v":{"$error":"#VALUE!"}},{"$f":"SEARCH(\",\",A210,1)","v":{"$error":"#VALUE!"}},{"$f":"IF(TYPE(SEARCH(\",\",A210,J210+1))=1,SEARCH(\",\",A210,J210+1),J210)","v":{"$error":"#VALUE!"}},null,{"$f":"IF(TYPE(SEARCH(\",\",A210,K210+1))=1,SEARCH(\",\",A210,K210+1),K210)+IF(Q210=1,1,0)","v":{"$error":"#VALUE!"}},{"$f":"IF(TYPE(SEARCH(\",\",A210,M210+1))=1,SEARCH(\",\",A210,M210+1),M210)","v":{"$error":"#VALUE!"}},{"$f":"IF(I210-2-(N210+4)<0,0,I210-2-(N210+4))","v":{"$error":"#VALUE!"}},{"$f":"IF(MID(A210,N210+4,O210)=\"\",0,MID(A210,N210+4,O210))","v":{"$error":"#VALUE!"}},{"$f":"TYPE(SEARCH(\"K\",A210,1))","v":16}]
[{"$f":"Feuil2!$P$13","v":0},null,{"$f":"IF(TYPE(SEARCH(\"(\",A211,1))=16,SEARCH(\"F\",A211,1)+1,SEARCH(\"(\",A211,1))","v":{"$error":"#VALUE!"}},{"$f":"REPLACE(MID(A211,1,C211-2),1,1,\"\")","v":{"$error":"#VALUE!"}},{"$f":"E204+H211","v":0},{"$f":"VALUE(D211)-J211","v":{"$error":"#VALUE!"}},16,0,{"$f":"IF(TYPE(SEARCH(\")\",A211,1))=16,K211,SEARCH(\")\",A211,1))","v":{"$error":"#VALUE!"}},{"$f":"IF(TYPE(SEARCH(\")\",A211,1))=16,0,MID(A211,K211,L211))","v":0},{"$f":"C211+2","v":{"$error":"#VALUE!"}},{"$f":"I211-K211","v":{"$error":"#VALUE!"}},null,null,null,{"$f":"P210","v":{"$error":"#VALUE!"}}]
[{"$f":"Feuil2!$P$15","v":0},null,{"$f":"IF(TYPE(SEARCH(\"(\",A212,1))=16,SEARCH(\"H\",A212,1)+1,SEARCH(\"(\",A212,1))","v":{"$error":"#VALUE!"}},{"$f":"REPLACE(MID(A212,1,C212-2),1,1,\"\")","v":{"$error":"#VALUE!"}},{"$f":"E211+H212","v":0},{"$f":"VALUE(D212)-J212","v":{"$error":"#VALUE!"}},16,0,{"$f":"IF(TYPE(SEARCH(\")\",A212,1))=16,K212,SEARCH(\")\",A212,1))","v":{"$error":"#VALUE!"}},{"$f":"IF(TYPE(SEARCH(\"(\",A212,1))=16,0,MID(A212,K212,L212))","v":0},{"$f":"C212+2","v":{"$error":"#VALUE!"}},{"$f":"I212-K212","v":{"$error":"#VALUE!"}}]
[{"$f":"Feuil2!$P$17","v":0},null,{"$f":"IF(TYPE(SEARCH(\"(\",A213,1))=16,SEARCH(\"V\",A213,1)+1,SEARCH(\"(\",A213,1))","v":{"$error":"#VALUE!"}},{"$f":"REPLACE(MID(A213,1,C213-2),1,1,\"\")","v":{"$error":"#VALUE!"}},{"$f":"E212+H213","v":0},{"$f":"VALUE(D213)-J213","v":{"$error":"#VALUE!"}},16,0,{"$f":"IF(TYPE(SEARCH(\")\",A213,1))=16,K213,SEARCH(\")\",A213,1))","v":{"$error":"#VALUE!"}},{"$f":"IF(TYPE(SEARCH(\"(\",A213,1))=16,0,MID(A213,K213,L213))","v":0},{"$f":"C213+2","v":{"$error":"#VALUE!"}},{"$f":"I213-K213","v":{"$error":"#VALUE!"}}]
[{"$f":"Feuil2!$P$19","v":0},null,{"$f":"IF(TYPE(SEARCH(\"(\",A214,1))=16,SEARCH(\"E\",A214,1)+1,SEARCH(\"(\",A214,1))","v":{"$error":"#VALUE!"}},{"$f":"REPLACE(MID(A214,1,C214-2),1,1,\"\")","v":{"$error":"#VALUE!"}},{"$f":"E213+H214","v":0},{"$f":"VALUE(D214)-J214","v":{"$error":"#VALUE!"}},16,0,{"$f":"IF(TYPE(SEARCH(\")\",A214,1))=16,K214,SEARCH(\")\",A214,1))","v":{"$error":"#VALUE!"}},{"$f":"IF(TYPE(SEARCH(\"(\",A214,1))=16,0,MID(A214,K214,L214))","v":0},{"$f":"C214+2","v":{"$error":"#VALUE!"}},{"$f":"I214-K214","v":{"$error":"#VALUE!"}}]
[{"$f":"Feuil2!$P$21","v":0},null,{"$f":"IF(TYPE(SEARCH(\"(\",A215,1))=16,SEARCH(\"I\",A215,1)+1,SEARCH(\"(\",A215,1))","v":{"$error":"#VALUE!"}},{"$f":"REPLACE(MID(A215,1,C215-2),1,1,\"\")","v":{"$error":"#VALUE!"}},{"$f":"E214+H215","v":0},{"$f":"VALUE(D215)-J215","v":{"$error":"#VALUE!"}},16,0,{"$f":"IF(TYPE(SEARCH(\")\",A215,1))=16,K215,SEARCH(\")\",A215,1))","v":{"$error":"#VALUE!"}},{"$f":"IF(TYPE(SEARCH(\"(\",A215,1))=16,0,MID(A215,K215,L215))","v":0},{"$f":"C215+2","v":{"$error":"#VALUE!"}},{"$f":"I215-K215","v":{"$error":"#VALUE!"}}]
[{"$f":"Feuil2!$P$24","v":0},null,{"$f":"SEARCH(\"E\",A216,1)","v":{"$error":"#VALUE!"}},{"$f":"REPLACE(MID(A216,1,C216-1),1,1,\"\")","v":{"$error":"#VALUE!"}}]
[{"$f":"Feuil2!$P$26","v":0},null,{"$f":"SEARCH(\"M\",A217,1)","v":{"$error":"#VALUE!"}},{"$f":"REPLACE(MID(A217,1,C217-1),1,1,\"\")","v":{"$error":"#VALUE!"}}]
[]
[{"$f":"Feuil2!$Q$3","v":0}]
[{"$f":"Feuil2!$Q$7","v":0},null,{"$f":"A219","v":0}]
[{"$f":"Feuil2!$Q$9","v":0},null,null,{"$f":"P221","v":{"$error":"#VALUE!"}},null,{"$f":"VALUE(D221)","v":{"$error":"#VALUE!"}},{"$f":"TYPE(F221)","v":16},{"$f":"IF(G221=1,1,0)","v":0},{"$f":"SEARCH(\"Potentiel\",A221,1)","v":{"$error":"#VALUE!"}},{"$f":"SEARCH(\",\",A221,1)","v":{"$error":"#VALUE!"}},{"$f":"IF(TYPE(SEARCH(\",\",A221,J221+1))=1,SEARCH(\",\",A221,J221+1),J221)","v":{"$error":"#VALUE!"}},null,{"$f":"IF(TYPE(SEARCH(\",\",A221,K221+1))=1,SEARCH(\",\",A221,K221+1),K221)+IF(Q221=1,1,0)","v":{"$error":"#VALUE!"}},{"$f":"IF(TYPE(SEARCH(\",\",A221,M221+1))=1,SEARCH(\",\",A221,M221+1),M221)","v":{"$error":"#VALUE!"}},{"$f":"IF(I221-2-(N221+4)<0,0,I221-2-(N221+4))","v":{"$error":"#VALUE!"}},{"$f":"IF(MID(A221,N221+4,O221)=\"\",0,MID(A221,N221+4,O221))","v":{"$error":"#VALUE!"}},{"$f":"TYPE(SEARCH(\"K\",A221,1))","v":16}]
[{"$f":"Feuil2!$Q$13","v":0},null,{"$f":"IF(TYPE(SEARCH(\"(\",A222,1))=16,SEARCH(\"F\",A222,1)+1,SEARCH(\"(\",A222,1))","v":{"$error":"#VALUE!"}},{"$f":"REPLACE(MID(A222,1,C222-2),1,1,\"\")","v":{"$error":"#VALUE!"}},{"$f":"E215+H222","v":0},{"$f":"VALUE(D222)-J222","v":{"$error":"#VALUE!"}},16,0,{"$f":"IF(TYPE(SEARCH(\")\",A222,1))=16,K222,SEARCH(\")\",A222,1))","v":{"$error":"#VALUE!"}},{"$f":"IF(TYPE(SEARCH(\")\",A222,1))=16,0,MID(A222,K222,L222))","v":0},{"$f":"C222+2","v":{"$error":"#VALUE!"}},{"$f":"I222-K222","v":{"$error":"#VALUE!"}},null,null,null,{"$f":"P221","v":{"$error":"#VALUE!"}}]
[{"$f":"Feuil2!$Q$15","v":0},null,{"$f":"IF(TYPE(SEARCH(\"(\",A223,1))=16,SEARCH(\"H\",A223,1)+1,SEARCH(\"(\",A223,1))","v":{"$error":"#VALUE!"}},{"$f":"REPLACE(MID(A223,1,C223-2),1,1,\"\")","v":{"$error":"#VALUE!"}},{"$f":"E222+H223","v":0},{"$f":"VALUE(D223)-J223","v":{"$error":"#VALUE!"}},16,0,{"$f":"IF(TYPE(SEARCH(\")\",A223,1))=16,K223,SEARCH(\")\",A223,1))","v":{"$error":"#VALUE!"}},{"$f":"IF(TYPE(SEARCH(\"(\",A223,1))=16,0,MID(A223,K223,L223))","v":0},{"$f":"C223+2","v":{"$error":"#VALUE!"}},{"$f":"I223-K223","v":{"$error":"#VALUE!"}}]
[{"$f":"Feuil2!$Q$17","v":0},null,{"$f":"IF(TYPE(SEARCH(\"(\",A224,1))=16,SEARCH(\"V\",A224,1)+1,SEARCH(\"(\",A224,1))","v":{"$error":"#VALUE!"}},{"$f":"REPLACE(MID(A224,1,C224-2),1,1,\"\")","v":{"$error":"#VALUE!"}},{"$f":"E223+H224","v":0},{"$f":"VALUE(D224)-J224","v":{"$error":"#VALUE!"}},16,0,{"$f":"IF(TYPE(SEARCH(\")\",A224,1))=16,K224,SEARCH(\")\",A224,1))","v":{"$error":"#VALUE!"}},{"$f":"IF(TYPE(SEARCH(\"(\",A224,1))=16,0,MID(A224,K224,L224))","v":0},{"$f":"C224+2","v":{"$error":"#VALUE!"}},{"$f":"I224-K224","v":{"$error":"#VALUE!"}}]
[{"$f":"Feuil2!$Q$19","v":0},null,{"$f":"IF(TYPE(SEARCH(\"(\",A225,1))=16,SEARCH(\"E\",A225,1)+1,SEARCH(\"(\",A225,1))","v":{"$error":"#VALUE!"}},{"$f":"REPLACE(MID(A225,1,C225-2),1,1,\"\")","v":{"$error":"#VALUE!"}},{"$f":"E224+H225","v":0},{"$f":"VALUE(D225)-J225","v":{"$error":"#VALUE!"}},16,0,{"$f":"IF(TYPE(SEARCH(\")\",A225,1))=16,K225,SEARCH(\")\",A225,1))","v":{"$error":"#VALUE!"}},{"$f":"IF(TYPE(SEARCH(\"(\",A225,1))=16,0,MID(A225,K225,L225))","v":0},{"$f":"C225+2","v":{"$error":"#VALUE!"}},{"$f":"I225-K225","v":{"$error":"#VALUE!"}}]
[{"$f":"Feuil2!$Q$21","v":0},null,{"$f":"IF(TYPE(SEARCH(\"(\",A226,1))=16,SEARCH(\"I\",A226,1)+1,SEARCH(\"(\",A226,1))","v":{"$error":"#VALUE!"}},{"$f":"REPLACE(MID(A226,1,C226-2),1,1,\"\")","v":{"$error":"#VALUE!"}},{"$f":"E225+H226","v":0},{"$f":"VALUE(D226)-J226","v":{"$error":"#VALUE!"}},16,0,{"$f":"IF(TYPE(SEARCH(\")\",A226,1))=16,K226,SEARCH(\")\",A226,1))","v":{"$error":"#VALUE!"}},{"$f":"IF(TYPE(SEARCH(\"(\",A226,1))=16,0,MID(A226,K226,L226))","v":0},{"$f":"C226+2","v":{"$error":"#VALUE!"}},{"$f":"I226-K226","v":{"$error":"#VALUE!"}}]
[{"$f":"Feuil2!$Q$24","v":0},null,{"$f":"SEARCH(\"E\",A227,1)","v":{"$error":"#VALUE!"}},{"$f":"REPLACE(MID(A227,1,C227-1),1,1,\"\")","v":{"$error":"#VALUE!"}}]
[{"$f":"Feuil2!$Q$26","v":0},null,{"$f":"SEARCH(\"M\",A228,1)","v":{"$error":"#VALUE!"}},{"$f":"REPLACE(MID(A228,1,C228-1),1,1,\"\")","v":{"$error":"#VALUE!"}}]
[]
[{"$f":"Feuil2!$R$3","v":0}]
[{"$f":"Feuil2!$R$7","v":0},null,{"$f":"A230","v":0}]
[{"$f":"Feuil2!$R$9","v":0},null,null,{"$f":"P232","v":{"$error":"#VALUE!"}},null,{"$f":"VALUE(D232)","v":{"$error":"#VALUE!"}},{"$f":"TYPE(F232)","v":16},{"$f":"IF(G232=1,1,0)","v":0},{"$f":"SEARCH(\"Potentiel\",A232,1)","v":{"$error":"#VALUE!"}},{"$f":"SEARCH(\",\",A232,1)","v":{"$error":"#VALUE!"}},{"$f":"IF(TYPE(SEARCH(\",\",A232,J232+1))=1,SEARCH(\",\",A232,J232+1),J232)","v":{"$error":"#VALUE!"}},null,{"$f":"IF(TYPE(SEARCH(\",\",A232,K232+1))=1,SEARCH(\",\",A232,K232+1),K232)+IF(Q232=1,1,0)","v":{"$error":"#VALUE!"}},{"$f":"IF(TYPE(SEARCH(\",\",A232,M232+1))=1,SEARCH(\",\",A232,M232+1),M232)","v":{"$error":"#VALUE!"}},{"$f":"IF(I232-2-(N232+4)<0,0,I232-2-(N232+4))","v":{"$error":"#VALUE!"}},{"$f":"IF(MID(A232,N232+4,O232)=\"\",0,MID(A232,N232+4,O232))","v":{"$error":"#VALUE!"}},{"$f":"TYPE(SEARCH(\"K\",A232,1))","v":16}]
[{"$f":"Feuil2!$R$13","v":0},null,{"$f":"IF(TYPE(SEARCH(\"(\",A233,1))=16,SEARCH(\"F\",A233,1)+1,SEARCH(\"(\",A233,1))","v":{"$error":"#VALUE!"}},{"$f":"REPLACE(MID(A233,1,C233-2),1,1,\"\")","v":{"$error":"#VALUE!"}},{"$f":"E226+H233","v":0},{"$f":"VALUE(D233)-J233","v":{"$error":"#VALUE!"}},16,0,{"$f":"IF(TYPE(SEARCH(\")\",A233,1))=16,K233,SEARCH(\")\",A233,1))","v":{"$error":"#VALUE!"}},{"$f":"IF(TYPE(SEARCH(\")\",A233,1))=16,0,MID(A233,K233,L233))","v":0},{"$f":"C233+2","v":{"$error":"#VALUE!"}},{"$f":"I233-K233","v":{"$error":"#VALUE!"}},null,null,null,{"$f":"P232","v":{"$error":"#VALUE!"}}]
[{"$f":"Feuil2!$R$15","v":0},null,{"$f":"IF(TYPE(SEARCH(\"(\",A234,1))=16,SEARCH(\"H\",A234,1)+1,SEARCH(\"(\",A234,1))","v":{"$error":"#VALUE!"}},{"$f":"REPLACE(MID(A234,1,C234-2),1,1,\"\")","v":{"$error":"#VALUE!"}},{"$f":"E233+H234","v":0},{"$f":"VALUE(D234)-J234","v":{"$error":"#VALUE!"}},16,0,{"$f":"IF(TYPE(SEARCH(\")\",A234,1))=16,K234,SEARCH(\")\",A234,1))","v":{"$error":"#VALUE!"}},{"$f":"IF(TYPE(SEARCH(\"(\",A234,1))=16,0,MID(A234,K234,L234))","v":0},{"$f":"C234+2","v":{"$error":"#VALUE!"}},{"$f":"I234-K234","v":{"$error":"#VALUE!"}}]
[{"$f":"Feuil2!$R$17","v":0},null,{"$f":"IF(TYPE(SEARCH(\"(\",A235,1))=16,SEARCH(\"V\",A235,1)+1,SEARCH(\"(\",A235,1))","v":{"$error":"#VALUE!"}},{"$f":"REPLACE(MID(A235,1,C235-2),1,1,\"\")","v":{"$error":"#VALUE!"}},{"$f":"E234+H235","v":0},{"$f":"VALUE(D235)-J235","v":{"$error":"#VALUE!"}},16,0,{"$f":"IF(TYPE(SEARCH(\")\",A235,1))=16,K235,SEARCH(\")\",A235,1))","v":{"$error":"#VALUE!"}},{"$f":"IF(TYPE(SEARCH(\"(\",A235,1))=16,0,MID(A235,K235,L235))","v":0},{"$f":"C235+2","v":{"$error":"#VALUE!"}},{"$f":"I235-K235","v":{"$error":"#VALUE!"}}]
[{"$f":"Feuil2!$R$19","v":0},null,{"$f":"IF(TYPE(SEARCH(\"(\",A236,1))=16,SEARCH(\"E\",A236,1)+1,SEARCH(\"(\",A236,1))","v":{"$error":"#VALUE!"}},{"$f":"REPLACE(MID(A236,1,C236-2),1,1,\"\")","v":{"$error":"#VALUE!"}},{"$f":"E235+H236","v":0},{"$f":"VALUE(D236)-J236","v":{"$error":"#VALUE!"}},16,0,{"$f":"IF(TYPE(SEARCH(\")\",A236,1))=16,K236,SEARCH(\")\",A236,1))","v":{"$error":"#VALUE!"}},{"$f":"IF(TYPE(SEARCH(\"(\",A236,1))=16,0,MID(A236,K236,L236))","v":0},{"$f":"C236+2","v":{"$error":"#VALUE!"}},{"$f":"I236-K236","v":{"$error":"#VALUE!"}}]
[{"$f":"Feuil2!$R$21","v":0},null,{"$f":"IF(TYPE(SEARCH(\"(\",A237,1))=16,SEARCH(\"I\",A237,1)+1,SEARCH(\"(\",A237,1))","v":{"$error":"#VALUE!"}},{"$f":"REPLACE(MID(A237,1,C237-2),1,1,\"\")","v":{"$error":"#VALUE!"}},{"$f":"E236+H237","v":0},{"$f":"VALUE(D237)-J237","v":{"$error":"#VALUE!"}},16,0,{"$f":"IF(TYPE(SEARCH(\")\",A237,1))=16,K237,SEARCH(\")\",A237,1))","v":{"$error":"#VALUE!"}},{"$f":"IF(TYPE(SEARCH(\"(\",A237,1))=16,0,MID(A237,K237,L237))","v":0},{"$f":"C237+2","v":{"$error":"#VALUE!"}},{"$f":"I237-K237","v":{"$error":"#VALUE!"}}]
[{"$f":"Feuil2!$R$24","v":0},null,{"$f":"SEARCH(\"E\",A238,1)","v":{"$error":"#VALUE!"}},{"$f":"REPLACE(MID(A238,1,C238-1),1,1,\"\")","v":{"$error":"#VALUE!"}}]
[{"$f":"Feuil2!$R$26","v":0},null,{"$f":"SEARCH(\"M\",A239,1)","v":{"$error":"#VALUE!"}},{"$f":"REPLACE(MID(A239,1,C239-1),1,1,\"\")","v":{"$error":"#VALUE!"}}]
[]
[{"$f":"Feuil2!$S$3","v":0}]
[{"$f":"Feuil2!$S$7","v":0},null,{"$f":"A241","v":0}]
[{"$f":"Feuil2!$S$9","v":0},null,null,{"$f":"P243","v":{"$error":"#VALUE!"}},null,{"$f":"VALUE(D243)","v":{"$error":"#VALUE!"}},{"$f":"TYPE(F243)","v":16},{"$f":"IF(G243=1,1,0)","v":0},{"$f":"SEARCH(\"Potentiel\",A243,1)","v":{"$error":"#VALUE!"}},{"$f":"SEARCH(\",\",A243,1)","v":{"$error":"#VALUE!"}},{"$f":"IF(TYPE(SEARCH(\",\",A243,J243+1))=1,SEARCH(\",\",A243,J243+1),J243)","v":{"$error":"#VALUE!"}},null,{"$f":"IF(TYPE(SEARCH(\",\",A243,K243+1))=1,SEARCH(\",\",A243,K243+1),K243)+IF(Q243=1,1,0)","v":{"$error":"#VALUE!"}},{"$f":"IF(TYPE(SEARCH(\",\",A243,M243+1))=1,SEARCH(\",\",A243,M243+1),M243)","v":{"$error":"#VALUE!"}},{"$f":"IF(I243-2-(N243+4)<0,0,I243-2-(N243+4))","v":{"$error":"#VALUE!"}},{"$f":"IF(MID(A243,N243+4,O243)=\"\",0,MID(A243,N243+4,O243))","v":{"$error":"#VALUE!"}},{"$f":"TYPE(SEARCH(\"K\",A243,1))","v":16}]
[{"$f":"Feuil2!$S$13","v":0},null,{"$f":"IF(TYPE(SEARCH(\"(\",A244,1))=16,SEARCH(\"F\",A244,1)+1,SEARCH(\"(\",A244,1))","v":{"$error":"#VALUE!"}},{"$f":"REPLACE(MID(A244,1,C244-2),1,1,\"\")","v":{"$error":"#VALUE!"}},{"$f":"E237+H244","v":0},{"$f":"VALUE(D244)-J244","v":{"$error":"#VALUE!"}},16,0,{"$f":"IF(TYPE(SEARCH(\")\",A244,1))=16,K244,SEARCH(\")\",A244,1))","v":{"$error":"#VALUE!"}},{"$f":"IF(TYPE(SEARCH(\")\",A244,1))=16,0,MID(A244,K244,L244))","v":0},{"$f":"C244+2","v":{"$error":"#VALUE!"}},{"$f":"I244-K244","v":{"$error":"#VALUE!"}},null,null,null,{"$f":"P243","v":{"$error":"#VALUE!"}}]
[{"$f":"Feuil2!$S$15","v":0},null,{"$f":"IF(TYPE(SEARCH(\"(\",A245,1))=16,SEARCH(\"H\",A245,1)+1,SEARCH(\"(\",A245,1))","v":{"$error":"#VALUE!"}},{"$f":"REPLACE(MID(A245,1,C245-2),1,1,\"\")","v":{"$error":"#VALUE!"}},{"$f":"E244+H245","v":0},{"$f":"VALUE(D245)-J245","v":{"$error":"#VALUE!"}},16,0,{"$f":"IF(TYPE(SEARCH(\")\",A245,1))=16,K245,SEARCH(\")\",A245,1))","v":{"$error":"#VALUE!"}},{"$f":"IF(TYPE(SEARCH(\"(\",A245,1))=16,0,MID(A245,K245,L245))","v":0},{"$f":"C245+2","v":{"$error":"#VALUE!"}},{"$f":"I245-K245","v":{"$error":"#VALUE!"}}]
[{"$f":"Feuil2!$S$17","v":0},null,{"$f":"IF(TYPE(SEARCH(\"(\",A246,1))=16,SEARCH(\"V\",A246,1)+1,SEARCH(\"(\",A246,1))","v":{"$error":"#VALUE!"}},{"$f":"REPLACE(MID(A246,1,C246-2),1,1,\"\")","v":{"$error":"#VALUE!"}},{"$f":"E245+H246","v":0},{"$f":"VALUE(D246)-J246","v":{"$error":"#VALUE!"}},16,0,{"$f":"IF(TYPE(SEARCH(\")\",A246,1))=16,K246,SEARCH(\")\",A246,1))","v":{"$error":"#VALUE!"}},{"$f":"IF(TYPE(SEARCH(\"(\",A246,1))=16,0,MID(A246,K246,L246))","v":0},{"$f":"C246+2","v":{"$error":"#VALUE!"}},{"$f":"I246-K246","v":{"$error":"#VALUE!"}}]
[{"$f":"Feuil2!$S$19","v":0},null,{"$f":"IF(TYPE(SEARCH(\"(\",A247,1))=16,SEARCH(\"E\",A247,1)+1,SEARCH(\"(\",A247,1))","v":{"$error":"#VALUE!"}},{"$f":"REPLACE(MID(A247,1,C247-2),1,1,\"\")","v":{"$error":"#VALUE!"}},{"$f":"E246+H247","v":0},{"$f":"VALUE(D247)-J247","v":{"$error":"#VALUE!"}},16,0,{"$f":"IF(TYPE(SEARCH(\")\",A247,1))=16,K247,SEARCH(\")\",A247,1))","v":{"$error":"#VALUE!"}},{"$f":"IF(TYPE(SEARCH(\"(\",A247,1))=16,0,MID(A247,K247,L247))","v":0},{"$f":"C247+2","v":{"$error":"#VALUE!"}},{"$f":"I247-K247","v":{"$error":"#VALUE!"}}]
[{"$f":"Feuil2!$S$21","v":0},null,{"$f":"IF(TYPE(SEARCH(\"(\",A248,1))=16,SEARCH(\"I\",A248,1)+1,SEARCH(\"(\",A248,1))","v":{"$error":"#VALUE!"}},{"$f":"REPLACE(MID(A248,1,C248-2),1,1,\"\")","v":{"$error":"#VALUE!"}},{"$f":"E247+H248","v":0},{"$f":"VALUE(D248)-J248","v":{"$error":"#VALUE!"}},16,0,{"$f":"IF(TYPE(SEARCH(\")\",A248,1))=16,K248,SEARCH(\")\",A248,1))","v":{"$error":"#VALUE!"}},{"$f":"IF(TYPE(SEARCH(\"(\",A248,1))=16,0,MID(A248,K248,L248))","v":0},{"$f":"C248+2","v":{"$error":"#VALUE!"}},{"$f":"I248-K248","v":{"$error":"#VALUE!"}}]
[{"$f":"Feuil2!$S$24","v":0},null,{"$f":"SEARCH(\"E\",A249,1)","v":{"$error":"#VALUE!"}},{"$f":"REPLACE(MID(A249,1,C249-1),1,1,\"\")","v":{"$error":"#VALUE!"}}]
[{"$f":"Feuil2!$S$26","v":0},null,{"$f":"SEARCH(\"M\",A250,1)","v":{"$error":"#VALUE!"}},{"$f":"REPLACE(MID(A250,1,C250-1),1,1,\"\")","v":{"$error":"#VALUE!"}}]
[]
[]
[]
[]
[]
[]
[null,null,null,null,null,null,null,null,null,null,null,null,null,null,null,null,null,null,null,null,null,null,null,null,null,null,null,null,null,null,{"$f":"[1]Analyse!AC1","v":0}]
[null,null,null,null,null,null,null,null,null,null,null,null,null,null,null,null,null,null,null,null,null,null,null,null,null,null,null,null,null,null,{"$f":"[1]Analyse!AC2","v":0}]
[null,null,null,null,null,null,null,null,null,null,null,null,null,null,null,null,null,null,null,null,null,null,null,null,null,null,null,null,null,null,{"$f":"[1]Analyse!AC3","v":0}]
[null,null,null,null,null,null,null,null,null,null,null,null,null,null,null,null,null,null,null,null,null,null,null,null,null,null,null,null,null,null,{"$f":"[1]Analyse!AC4","v":"min"}]
[null,null,null,null,null,null,null,null,null,null,null,null,null,null,null,null,null,null,null,null,null,null,null,null,null,{"$f":"[1]Analyse!X5","v":{"$error":"#VALUE!"}},{"$f":"[1]Analyse!Y5","v":{"$error":"#VALUE!"}},{"$f":"[1]Analyse!Z5","v":{"$error":"#VALUE!"}},{"$f":"[1]Analyse!AA5","v":{"$error":"#VALUE!"}},{"$f":"[1]Analyse!AB5","v":{"$error":"#VALUE!"}},{"$f":"[1]Analyse!AC5","v":{"$error":"#VALUE!"}}]
[null,null,null,null,null,null,null,null,null,null,null,null,null,null,null,null,null,null,null,null,null,null,null,null,null,{"$f":"[1]Analyse!X6","v":{"$error":"#VALUE!"}},{"$f":"[1]Analyse!Y6","v":{"$error":"#VALUE!"}},{"$f":"[1]Analyse!Z6","v":{"$error":"#VALUE!"}},{"$f":"[1]Analyse!AA6","v":{"$error":"#VALUE!"}},{"$f":"[1]Analyse!AB6","v":{"$error":"#VALUE!"}},{"$f":"[1]Analyse!AC6","v":{"$error":"#VALUE!"}}]
[null,null,null,null,null,null,null,null,null,null,null,null,null,null,null,null,null,null,null,null,null,null,null,null,null,{"$f":"[1]Analyse!X7","v":{"$error":"#VALUE!"}},{"$f":"[1]Analyse!Y7","v":{"$error":"#VALUE!"}},{"$f":"[1]Analyse!Z7","v":{"$error":"#VALUE!"}},{"$f":"[1]Analyse!AA7","v":{"$error":"#VALUE!"}},{"$f":"[1]Analyse!AB7","v":{"$error":"#VALUE!"}},{"$f":"[1]Analyse!AC7","v":{"$error":"#VALUE!"}}]
[null,null,null,null,null,null,null,null,null,null,null,null,null,null,null,null,null,null,null,null,null,null,null,null,null,{"$f":"[1]Analyse!X8","v":{"$error":"#VALUE!"}},{"$f":"[1]Analyse!Y8","v":{"$error":"#VALUE!"}},{"$f":"[1]Analyse!Z8","v":{"$error":"#VALUE!"}},{"$f":"[1]Analyse!AA8","v":{"$error":"#VALUE!"}},{"$f":"[1]Analyse!AB8","v":{"$error":"#VALUE!"}},{"$f":"[1]Analyse!AC8","v":{"$error":"#VALUE!"}}]
[null,null,null,null,null,null,null,null,null,null,null,null,null,null,null,null,null,null,null,null,null,null,null,null,null,{"$f":"[1]Analyse!X9","v":{"$error":"#VALUE!"}},{"$f":"[1]Analyse!Y9","v":{"$error":"#VALUE!"}},{"$f":"[1]Analyse!Z9","v":{"$error":"#VALUE!"}},{"$f":"[1]Analyse!AA9","v":{"$error":"#VALUE!"}},{"$f":"[1]Analyse!AB9","v":{"$error":"#VALUE!"}},{"$f":"[1]Analyse!AC9","v":{"$error":"#VALUE!"}}]
[null,null,null,null,null,null,null,null,null,null,null,null,null,null,null,null,null,null,null,null,null,null,null,null,null,{"$f":"[1]Analyse!X10","v":{"$error":"#VALUE!"}},{"$f":"[1]Analyse!Y10","v":{"$error":"#VALUE!"}},{"$f":"[1]Analyse!Z10","v":{"$error":"#VALUE!"}},{"$f":"[1]Analyse!AA10","v":{"$error":"#VALUE!"}},{"$f":"[1]Analyse!AB10","v":{"$error":"#VALUE!"}},{"$f":"[1]Analyse!AC10","v":{"$error":"#VALUE!"}}]
[null,null,null,null,null,null,null,null,null,null,null,null,null,null,null,null,null,null,null,null,null,null,null,null,null,{"$f":"[1]Analyse!X11","v":{"$error":"#VALUE!"}},{"$f":"[1]Analyse!Y11","v":{"$error":"#VALUE!"}},{"$f":"[1]Analyse!Z11","v":{"$error":"#VALUE!"}},{"$f":"[1]Analyse!AA11","v":{"$error":"#VALUE!"}},{"$f":"[1]Analyse!AB11","v":{"$error":"#VALUE!"}},{"$f":"[1]Analyse!AC11","v":{"$error":"#VALUE!"}}]
[null,null,null,null,null,null,null,null,null,null,null,null,null,null,null,null,null,null,null,null,null,null,null,null,null,{"$f":"[1]Analyse!X12","v":{"$error":"#VALUE!"}},{"$f":"[1]Analyse!Y12","v":{"$error":"#VALUE!"}},{"$f":"[1]Analyse!Z12","v":{"$error":"#VALUE!"}},{"$f":"[1]Analyse!AA12","v":{"$error":"#VALUE!"}},{"$f":"[1]Analyse!AB12","v":{"$error":"#VALUE!"}},{"$f":"[1]Analyse!AC12","v":{"$error":"#VALUE!"}}]
[null,null,null,null,null,null,null,null,null,null,null,null,null,null,null,null,null,null,null,null,null,null,null,null,null,{"$f":"[1]Analyse!X13","v":{"$error":"#VALUE!"}},{"$f":"[1]Analyse!Y13","v":{"$error":"#VALUE!"}},{"$f":"[1]Analyse!Z13","v":{"$error":"#VALUE!"}},{"$f":"[1]Analyse!AA13","v":{"$error":"#VALUE!"}},{"$f":"[1]Analyse!AB13","v":{"$error":"#VALUE!"}},{"$f":"[1]Analyse!AC13","v":{"$error":"#VALUE!"}}]
[null,null,null,null,null,null,null,null,null,null,null,null,null,null,null,null,null,null,null,null,null,null,null,null,null,{"$f":"[1]Analyse!X14","v":{"$error":"#VALUE!"}},{"$f":"[1]Analyse!Y14","v":{"$error":"#VALUE!"}},{"$f":"[1]Analyse!Z14","v":{"$error":"#VALUE!"}},{"$f":"[1]Analyse!AA14","v":{"$error":"#VALUE!"}},{"$f":"[1]Analyse!AB14","v":{"$error":"#VALUE!"}},{"$f":"[1]Analyse!AC14","v":{"$error":"#VALUE!"}}]
[null,null,null,null,null,null,null,null,null,null,null,null,null,null,null,null,null,null,null,null,null,null,null,null,null,{"$f":"[1]Analyse!X15","v":{"$error":"#VALUE!"}},{"$f":"[1]Analyse!Y15","v":{"$error":"#VALUE!"}},{"$f":"[1]Analyse!Z15","v":{"$error":"#VALUE!"}},{"$f":"[1]Analyse!AA15","v":{"$error":"#VALUE!"}},{"$f":"[1]Analyse!AB15","v":{"$error":"#VALUE!"}},{"$f":"[1]Analyse!AC15","v":{"$error":"#VALUE!"}}]
[null,null,null,null,null,null,null,null,null,null,null,null,null,null,null,null,null,null,null,null,null,null,null,null,null,{"$f":"[1]Analyse!X16","v":{"$error":"#VALUE!"}},{"$f":"[1]Analyse!Y16","v":{"$error":"#VALUE!"}},{"$f":"[1]Analyse!Z16","v":{"$error":"#VALUE!"}},{"$f":"[1]Analyse!AA16","v":{"$error":"#VALUE!"}},{"$f":"[1]Analyse!AB16","v":{"$error":"#VALUE!"}},{"$f":"[1]Analyse!AC16","v":{"$error":"#VALUE!"}}]
[null,null,null,null,null,null,null,null,null,null,null,null,null,null,null,null,null,null,null,null,null,null,null,null,null,{"$f":"[1]Analyse!X17","v":{"$error":"#VALUE!"}},{"$f":"[1]Analyse!Y17","v":{"$error":"#VALUE!"}},{"$f":"[1]Analyse!Z17","v":{"$error":"#VALUE!"}},{"$f":"[1]Analyse!AA17","v":{"$error":"#VALUE!"}},{"$f":"[1]Analyse!AB17","v":{"$error":"#VALUE!"}},{"$f":"[1]Analyse!AC17","v":{"$error":"#VALUE!"}}]
[null,null,null,null,null,null,null,null,null,null,null,null,null,null,null,null,null,null,null,null,null,null,null,null,null,{"$f":"[1]Analyse!X18","v":{"$error":"#VALUE!"}},{"$f":"[1]Analyse!Y18","v":{"$error":"#VALUE!"}},{"$f":"[1]Analyse!Z18","v":{"$error":"#VALUE!"}},{"$f":"[1]Analyse!AA18","v":{"$error":"#VALUE!"}},{"$f":"[1]Analyse!AB18","v":{"$error":"#VALUE!"}},{"$f":"[1]Analyse!AC18","v":{"$error":"#VALUE!"}}]
[null,null,null,null,null,null,null,null,null,null,null,null,null,null,null,null,null,null,null,null,null,null,null,null,null,{"$f":"[1]Analyse!X19","v":{"$error":"#VALUE!"}},{"$f":"[1]Analyse!Y19","v":{"$error":"#VALUE!"}},{"$f":"[1]Analyse!Z19","v":{"$error":"#VALUE!"}},{"$f":"[1]Analyse!AA19","v":{"$error":"#VALUE!"}},{"$f":"[1]Analyse!AB19","v":{"$error":"#VALUE!"}},{"$f":"[1]Analyse!AC19","v":{"$error":"#VALUE!"}}]
[null,null,null,null,null,null,null,null,null,null,null,null,null,null,null,null,null,null,null,null,null,null,null,null,null,{"$f":"[1]Analyse!X20","v":{"$error":"#VALUE!"}},{"$f":"[1]Analyse!Y20","v":{"$error":"#VALUE!"}},{"$f":"[1]Analyse!Z20","v":{"$error":"#VALUE!"}},{"$f":"[1]Analyse!AA20","v":{"$error":"#VALUE!"}},{"$f":"[1]Analyse!AB20","v":{"$error":"#VALUE!"}},{"$f":"[1]Analyse!AC20","v":{"$error":"#VALUE!"}}]
[null,null,null,null,null,null,null,null,null,null,null,null,null,null,null,null,null,null,null,null,null,null,null,null,null,{"$f":"[1]Analyse!X21","v":{"$error":"#VALUE!"}},{"$f":"[1]Analyse!Y21","v":{"$error":"#VALUE!"}},{"$f":"[1]Analyse!Z21","v":{"$error":"#VALUE!"}},{"$f":"[1]Analyse!AA21","v":{"$error":"#VALUE!"}},{"$f":"[1]Analyse!AB21","v":{"$error":"#VALUE!"}},{"$f":"[1]Analyse!AC21","v":{"$error":"#VALUE!"}}]
[null,null,null,null,null,null,null,null,null,null,null,null,null,null,null,null,null,null,null,null,null,null,null,null,null,{"$f":"[1]Analyse!X22","v":{"$error":"#VALUE!"}},{"$f":"[1]Analyse!Y22","v":{"$error":"#VALUE!"}},{"$f":"[1]Analyse!Z22","v":{"$error":"#VALUE!"}},{"$f":"[1]Analyse!AA22","v":{"$error":"#VALUE!"}},{"$f":"[1]Analyse!AB22","v":{"$error":"#VALUE!"}},{"$f":"[1]Analyse!AC22","v":{"$error":"#VALUE!"}}]
[null,null,null,null,null,null,null,null,null,null,null,null,null,null,null,null,null,null,null,null,null,null,null,null,null,{"$f":"[1]Analyse!X23","v":{"$error":"#VALUE!"}},{"$f":"[1]Analyse!Y23","v":{"$error":"#VALUE!"}},{"$f":"[1]Analyse!Z23","v":{"$error":"#VALUE!"}},{"$f":"[1]Analyse!AA23","v":{"$error":"#VALUE!"}},{"$f":"[1]Analyse!AB23","v":{"$error":"#VALUE!"}},{"$f":"[1]Analyse!AC23","v":{"$error":"#VALUE!"}}]
[null,null,null,null,null,null,null,null,null,null,null,null,null,null,null,null,null,null,null,null,null,null,null,null,null,{"$f":"[1]Analyse!X24","v":{"$error":"#VALUE!"}},{"$f":"[1]Analyse!Y24","v":{"$error":"#VALUE!"}},{"$f":"[1]Analyse!Z24","v":{"$error":"#VALUE!"}},{"$f":"[1]Analyse!AA24","v":{"$error":"#VALUE!"}},{"$f":"[1]Analyse!AB24","v":{"$error":"#VALUE!"}},{"$f":"[1]Analyse!AC24","v":{"$error":"#VALUE!"}}]
[null,null,null,null,null,null,null,null,null,null,null,null,null,null,null,null,null,null,null,null,null,null,null,null,null,{"$f":"[1]Analyse!X25","v":{"$error":"#VALUE!"}},{"$f":"[1]Analyse!Y25","v":{"$error":"#VALUE!"}},{"$f":"[1]Analyse!Z25","v":{"$error":"#VALUE!"}},{"$f":"[1]Analyse!AA25","v":{"$error":"#VALUE!"}},{"$f":"[1]Analyse!AB25","v":{"$error":"#VALUE!"}},{"$f":"[1]Analyse!AC25","v":{"$error":"#VALUE!"}}]
[null,null,null,null,null,null,null,null,null,null,null,null,null,null,null,null,null,null,null,null,null,null,null,null,null,{"$f":"[1]Analyse!X26","v":{"$error":"#VALUE!"}},{"$f":"[1]Analyse!Y26","v":{"$error":"#VALUE!"}},{"$f":"[1]Analyse!Z26","v":{"$error":"#VALUE!"}},{"$f":"[1]Analyse!AA26","v":{"$error":"#VALUE!"}},{"$f":"[1]Analyse!AB26","v":{"$error":"#VALUE!"}},{"$f":"[1]Analyse!AC26","v":{"$error":"#VALUE!"}}]
[null,null,null,null,null,null,null,null,null,null,null,null,null,null,null,null,null,null,null,null,null,null,null,null,null,{"$f":"[1]Analyse!X27","v":{"$error":"#VALUE!"}},{"$f":"[1]Analyse!Y27","v":{"$error":"#VALUE!"}},{"$f":"[1]Analyse!Z27","v":{"$error":"#VALUE!"}},{"$f":"[1]Analyse!AA27","v":{"$error":"#VALUE!"}},{"$f":"[1]Analyse!AB27","v":{"$error":"#VALUE!"}},{"$f":"[1]Analyse!AC27","v":{"$error":"#VALUE!"}}]
[null,null,null,null,null,null,null,null,null,null,null,null,null,null,null,null,null,null,null,null,null,null,null,null,null,{"$f":"[1]Analyse!X28","v":{"$error":"#VALUE!"}},{"$f":"[1]Analyse!Y28","v":{"$error":"#VALUE!"}},{"$f":"[1]Analyse!Z28","v":{"$error":"#VALUE!"}},{"$f":"[1]Analyse!AA28","v":{"$error":"#VALUE!"}},{"$f":"[1]Analyse!AB28","v":{"$error":"#VALUE!"}},{"$f":"[1]Analyse!AC28","v":{"$error":"#VALUE!"}}]
[null,null,null,null,null,null,null,null,null,null,null,null,null,null,null,null,null,null,null,null,null,null,null,null,null,{"$f":"[1]Analyse!X29","v":{"$error":"#VALUE!"}},{"$f":"[1]Analyse!Y29","v":{"$error":"#VALUE!"}},{"$f":"[1]Analyse!Z29","v":{"$error":"#VALUE!"}},{"$f":"[1]Analyse!AA29","v":{"$error":"#VALUE!"}},{"$f":"[1]Analyse!AB29","v":{"$error":"#VALUE!"}},{"$f":"[1]Analyse!AC29","v":{"$error":"#VALUE!"}}]
[null,null,null,null,null,null,null,null,null,null,null,null,null,null,null,null,null,null,null,null,null,null,null,null,null,{"$f":"[1]Analyse!X30","v":{"$error":"#VALUE!"}},{"$f":"[1]Analyse!Y30","v":{"$error":"#VALUE!"}},{"$f":"[1]Analyse!Z30","v":{"$error":"#VALUE!"}},{"$f":"[1]Analyse!AA30","v":{"$error":"#VALUE!"}},{"$f":"[1]Analyse!AB30","v":{"$error":"#VALUE!"}},{"$f":"[1]Analyse!AC30","v":{"$error":"#VALUE!"}}]
[null,null,null,null,null,null,null,null,null,null,null,null,null,null,null,null,null,null,null,null,null,null,null,null,null,{"$f":"[1]Analyse!X31","v":{"$error":"#VALUE!"}},{"$f":"[1]Analyse!Y31","v":{"$error":"#VALUE!"}},{"$f":"[1]Analyse!Z31","v":{"$error":"#VALUE!"}},{"$f":"[1]Analyse!AA31","v":{"$error":"#VALUE!"}},{"$f":"[1]Analyse!AB31","v":{"$error":"#VALUE!"}},{"$f":"[1]Analyse!AC31","v":{"$error":"#VALUE!"}}]
[null,null,null,null,null,null,null,null,null,null,null,null,null,null,null,null,null,null,null,null,null,null,null,null,null,{"$f":"[1]Analyse!X32","v":{"$error":"#VALUE!"}},{"$f":"[1]Analyse!Y32","v":{"$error":"#VALUE!"}},{"$f":"[1]Analyse!Z32","v":{"$error":"#VALUE!"}},{"$f":"[1]Analyse!AA32","v":{"$error":"#VALUE!"}},{"$f":"[1]Analyse!AB32","v":{"$error":"#VALUE!"}},{"$f":"[1]Analyse!AC32","v":{"$error":"#VALUE!"}}]
[null,null,null,null,null,null,null,null,null,null,null,null,null,null,null,null,null,null,null,null,null,null,null,null,null,{"$f":"[1]Analyse!X33","v":{"$error":"#VALUE!"}},{"$f":"[1]Analyse!Y33","v":{"$error":"#VALUE!"}},{"$f":"[1]Analyse!Z33","v":{"$error":"#VALUE!"}},{"$f":"[1]Analyse!AA33","v":{"$error":"#VALUE!"}},{"$f":"[1]Analyse!AB33","v":{"$error":"#VALUE!"}},{"$f":"[1]Analyse!AC33","v":{"$error":"#VALUE!"}}]
[null,null,null,null,null,null,null,null,null,null,null,null,null,null,null,null,null,null,null,null,null,null,null,null,null,{"$f":"[1]Analyse!X34","v":{"$error":"#VALUE!"}},{"$f":"[1]Analyse!Y34","v":{"$error":"#VALUE!"}},{"$f":"[1]Analyse!Z34","v":{"$error":"#VALUE!"}},{"$f":"[1]Analyse!AA34","v":{"$error":"#VALUE!"}},{"$f":"[1]Analyse!AB34","v":{"$error":"#VALUE!"}},{"$f":"[1]Analyse!AC34","v":{"$error":"#VALUE!"}}]
[null,null,null,null,null,null,null,null,null,null,null,null,null,null,null,null,null,null,null,null,null,null,null,null,null,{"$f":"[1]Analyse!X35","v":{"$error":"#VALUE!"}},{"$f":"[1]Analyse!Y35","v":{"$error":"#VALUE!"}},{"$f":"[1]Analyse!Z35","v":{"$error":"#VALUE!"}},{"$f":"[1]Analyse!AA35","v":{"$error":"#VALUE!"}},{"$f":"[1]Analyse!AB35","v":{"$error":"#VALUE!"}},{"$f":"[1]Analyse!AC35","v":{"$error":"#VALUE!"}}]
[null,null,null,null,null,null,null,null,null,null,null,null,null,null,null,null,null,null,null,null,null,null,null,null,null,{"$f":"[1]Analyse!X36","v":{"$error":"#VALUE!"}},{"$f":"[1]Analyse!Y36","v":{"$error":"#VALUE!"}},{"$f":"[1]Analyse!Z36","v":{"$error":"#VALUE!"}},{"$f":"[1]Analyse!AA36","v":{"$error":"#VALUE!"}},{"$f":"[1]Analyse!AB36","v":{"$error":"#VALUE!"}},{"$f":"[1]Analyse!AC36","v":{"$error":"#VALUE!"}}]
[null,null,null,null,null,null,null,null,null,null,null,null,null,null,null,null,null,null,null,null,null,null,null,null,null,{"$f":"[1]Analyse!X37","v":{"$error":"#VALUE!"}},{"$f":"[1]Analyse!Y37","v":{"$error":"#VALUE!"}},{"$f":"[1]Analyse!Z37","v":{"$error":"#VALUE!"}},{"$f":"[1]Analyse!AA37","v":{"$error":"#VALUE!"}},{"$f":"[1]Analyse!AB37","v":{"$error":"#VALUE!"}},{"$f":"[1]Analyse!AC37","v":{"$error":"#VALUE!"}}]
[null,null,null,null,null,null,null,null,null,null,null,null,null,null,null,null,null,null,null,null,null,null,null,null,null,{"$f":"[1]Analyse!X38","v":{"$error":"#VALUE!"}},{"$f":"[1]Analyse!Y38","v":{"$error":"#VALUE!"}},{"$f":"[1]Analyse!Z38","v":{"$error":"#VALUE!"}},{"$f":"[1]Analyse!AA38","v":{"$error":"#VALUE!"}},{"$f":"[1]Analyse!AB38","v":{"$error":"#VALUE!"}},{"$f":"[1]Analyse!AC38","v":{"$error":"#VALUE!"}}]
[null,null,null,null,null,null,null,null,null,null,null,null,null,null,null,null,null,null,null,null,null,null,null,null,null,{"$f":"[1]Analyse!X39","v":{"$error":"#VALUE!"}},{"$f":"[1]Analyse!Y39","v":{"$error":"#VALUE!"}},{"$f":"[1]Analyse!Z39","v":{"$error":"#VALUE!"}},{"$f":"[1]Analyse!AA39","v":{"$error":"#VALUE!"}},{"$f":"[1]Analyse!AB39","v":{"$error":"#VALUE!"}},{"$f":"[1]Analyse!AC39","v":{"$error":"#VALUE!"}}]
[null,null,null,null,null,null,null,null,null,null,null,null,null,null,null,null,null,null,null,null,null,null,null,null,null,{"$f":"[1]Analyse!X40","v":{"$error":"#VALUE!"}},{"$f":"[1]Analyse!Y40","v":{"$error":"#VALUE!"}},{"$f":"[1]Analyse!Z40","v":{"$error":"#VALUE!"}},{"$f":"[1]Analyse!AA40","v":{"$error":"#VALUE!"}},{"$f":"[1]Analyse!AB40","v":{"$error":"#VALUE!"}},{"$f":"[1]Analyse!AC40","v":{"$error":"#VALUE!"}}]
[null,null,null,null,null,null,null,null,null,null,null,null,null,null,null,null,null,null,null,null,null,null,null,null,null,{"$f":"[1]Analyse!X41","v":{"$error":"#VALUE!"}},{"$f":"[1]Analyse!Y41","v":{"$error":"#VALUE!"}},{"$f":"[1]Analyse!Z41","v":{"$error":"#VALUE!"}},{"$f":"[1]Analyse!AA41","v":{"$error":"#VALUE!"}},{"$f":"[1]Analyse!AB41","v":{"$error":"#VALUE!"}},{"$f":"[1]Analyse!AC41","v":{"$error":"#VALUE!"}}]
[null,null,null,null,null,null,null,null,null,null,null,null,null,null,null,null,null,null,null,null,null,null,null,null,null,{"$f":"[1]Analyse!X42","v":{"$error":"#VALUE!"}},{"$f":"[1]Analyse!Y42","v":{"$error":"#VALUE!"}},{"$f":"[1]Analyse!Z42","v":{"$error":"#VALUE!"}},{"$f":"[1]Analyse!AA42","v":{"$error":"#VALUE!"}},{"$f":"[1]Analyse!AB42","v":{"$error":"#VALUE!"}},{"$f":"[1]Analyse!AC42","v":{"$error":"#VALUE!"}}]
[null,null,null,null,null,null,null,null,null,null,null,null,null,null,null,null,null,null,null,null,null,null,null,null,null,{"$f":"[1]Analyse!X43","v":{"$error":"#VALUE!"}},{"$f":"[1]Analyse!Y43","v":{"$error":"#VALUE!"}},{"$f":"[1]Analyse!Z43","v":{"$error":"#VALUE!"}},{"$f":"[1]Analyse!AA43","v":{"$error":"#VALUE!"}},{"$f":"[1]Analyse!AB43","v":{"$error":"#VALUE!"}},{"$f":"[1]Analyse!AC43","v":{"$error":"#VALUE!"}}]
[null,null,null,null,null,null,null,null,null,null,null,null,null,null,null,null,null,null,null,null,null,null,null,null,null,{"$f":"[1]Analyse!X44","v":{"$error":"#VALUE!"}},{"$f":"[1]Analyse!Y44","v":{"$error":"#VALUE!"}},{"$f":"[1]Analyse!Z44","v":{"$error":"#VALUE!"}},{"$f":"[1]Analyse!AA44","v":{"$error":"#VALUE!"}},{"$f":"[1]Analyse!AB44","v":{"$error":"#VALUE!"}},{"$f":"[1]Analyse!AC44","v":{"$error":"#VALUE!"}}]
[null,null,null,null,null,null,null,null,null,null,null,null,null,null,null,null,null,null,null,null,null,null,null,null,null,{"$f":"[1]Analyse!X45","v":{"$error":"#VALUE!"}},{"$f":"[1]Analyse!Y45","v":{"$error":"#VALUE!"}},{"$f":"[1]Analyse!Z45","v":{"$error":"#VALUE!"}},{"$f":"[1]Analyse!AA45","v":{"$error":"#VALUE!"}},{"$f":"[1]Analyse!AB45","v":{"$error":"#VALUE!"}},{"$f":"[1]Analyse!AC45","v":{"$error":"#VALUE!"}}]
[null,null,null,null,null,null,null,null,null,null,null,null,null,null,null,null,null,null,null,null,null,null,null,null,null,{"$f":"[1]Analyse!X46","v":{"$error":"#VALUE!"}},{"$f":"[1]Analyse!Y46","v":{"$error":"#VALUE!"}},{"$f":"[1]Analyse!Z46","v":{"$error":"#VALUE!"}},{"$f":"[1]Analyse!AA46","v":{"$error":"#VALUE!"}},{"$f":"[1]Analyse!AB46","v":{"$error":"#VALUE!"}},{"$f":"[1]Analyse!AC46","v":{"$error":"#VALUE!"}}]
[null,null,null,null,null,null,null,null,null,null,null,null,null,null,null,null,null,null,null,null,null,null,null,null,null,{"$f":"[1]Analyse!X47","v":{"$error":"#VALUE!"}},{"$f":"[1]Analyse!Y47","v":{"$error":"#VALUE!"}},{"$f":"[1]Analyse!Z47","v":{"$error":"#VALUE!"}},{"$f":"[1]Analyse!AA47","v":{"$error":"#VALUE!"}},{"$f":"[1]Analyse!AB47","v":{"$error":"#VALUE!"}},{"$f":"[1]Analyse!AC47","v":{"$error":"#VALUE!"}}]
[null,null,null,null,null,null,null,null,null,null,null,null,null,null,null,null,null,null,null,null,null,null,null,null,null,{"$f":"[1]Analyse!X48","v":{"$error":"#VALUE!"}},{"$f":"[1]Analyse!Y48","v":{"$error":"#VALUE!"}},{"$f":"[1]Analyse!Z48","v":{"$error":"#VALUE!"}},{"$f":"[1]Analyse!AA48","v":{"$error":"#VALUE!"}},{"$f":"[1]Analyse!AB48","v":{"$error":"#VALUE!"}},{"$f":"[1]Analyse!AC48","v":{"$error":"#VALUE!"}}]
[null,null,null,null,null,null,null,null,null,null,null,null,null,null,null,null,null,null,null,null,null,null,null,null,null,null,null,null,null,null,{"$f":"[1]Analyse!AC49","v":0}]
[null,null,null,null,null,null,null,null,null,null,null,null,null,null,null,null,null,null,null,null,null,null,null,null,null,null,null,null,null,null,{"$f":"[1]Analyse!AC50","v":0}]
[null,null,null,null,null,null,null,null,null,null,null,null,null,null,null,null,null,null,null,null,null,null,null,null,null,null,null,null,null,null,{"$f":"[1]Analyse!AC51","v":"min"}]
[null,null,null,null,null,null,null,null,null,null,null,null,null,null,null,null,null,null,null,null,null,null,null,null,null,{"$f":"[1]Analyse!X52","v":{"$error":"#VALUE!"}},{"$f":"[1]Analyse!Y52","v":{"$error":"#VALUE!"}},{"$f":"[1]Analyse!Z52","v":{"$error":"#VALUE!"}},{"$f":"[1]Analyse!AA52","v":{"$error":"#VALUE!"}},{"$f":"[1]Analyse!AB52","v":{"$error":"#VALUE!"}},{"$f":"[1]Analyse!AC52","v":{"$error":"#VALUE!"}}]
[null,null,null,null,null,null,null,null,null,null,null,null,null,null,null,null,null,null,null,null,null,null,null,null,null,{"$f":"[1]Analyse!X53","v":{"$error":"#VALUE!"}},{"$f":"[1]Analyse!Y53","v":{"$error":"#VALUE!"}},{"$f":"[1]Analyse!Z53","v":{"$error":"#VALUE!"}},{"$f":"[1]Analyse!AA53","v":{"$error":"#VALUE!"}},{"$f":"[1]Analyse!AB53","v":{"$error":"#VALUE!"}},{"$f":"[1]Analyse!AC53","v":{"$error":"#VALUE!"}}]
[null,null,null,null,null,null,null,null,null,null,null,null,null,null,null,null,null,null,null,null,null,null,null,null,null,{"$f":"[1]Analyse!X54","v":{"$error":"#VALUE!"}},{"$f":"[1]Analyse!Y54","v":{"$error":"#VALUE!"}},{"$f":"[1]Analyse!Z54","v":{"$error":"#VALUE!"}},{"$f":"[1]Analyse!AA54","v":{"$error":"#VALUE!"}},{"$f":"[1]Analyse!AB54","v":{"$error":"#VALUE!"}},{"$f":"[1]Analyse!AC54","v":{"$error":"#VALUE!"}}]
[null,null,null,null,null,null,null,null,null,null,null,null,null,null,null,null,null,null,null,null,null,null,null,null,null,{"$f":"[1]Analyse!X55","v":{"$error":"#VALUE!"}},{"$f":"[1]Analyse!Y55","v":{"$error":"#VALUE!"}},{"$f":"[1]Analyse!Z55","v":{"$error":"#VALUE!"}},{"$f":"[1]Analyse!AA55","v":{"$error":"#VALUE!"}},{"$f":"[1]Analyse!AB55","v":{"$error":"#VALUE!"}},{"$f":"[1]Analyse!AC55","v":{"$error":"#VALUE!"}}]
[null,null,null,null,null,null,null,null,null,null,null,null,null,null,null,null,null,null,null,null,null,null,null,null,null,{"$f":"[1]Analyse!X56","v":{"$error":"#VALUE!"}},{"$f":"[1]Analyse!Y56","v":{"$error":"#VALUE!"}},{"$f":"[1]Analyse!Z56","v":{"$error":"#VALUE!"}},{"$f":"[1]Analyse!AA56","v":{"$error":"#VALUE!"}},{"$f":"[1]Analyse!AB56","v":{"$error":"#VALUE!"}},{"$f":"[1]Analyse!AC56","v":{"$error":"#VALUE!"}}]
[null,null,null,null,null,null,null,null,null,null,null,null,null,null,null,null,null,null,null,null,null,null,null,null,null,{"$f":"[1]Analyse!X57","v":{"$error":"#VALUE!"}},{"$f":"[1]Analyse!Y57","v":{"$error":"#VALUE!"}},{"$f":"[1]Analyse!Z57","v":{"$error":"#VALUE!"}},{"$f":"[1]Analyse!AA57","v":{"$error":"#VALUE!"}},{"$f":"[1]Analyse!AB57","v":{"$error":"#VALUE!"}},{"$f":"[1]Analyse!AC57","v":{"$error":"#VALUE!"}}]
[null,null,null,null,null,null,null,null,null,null,null,null,null,null,null,null,null,null,null,null,null,null,null,null,null,{"$f":"[1]Analyse!X58","v":{"$error":"#VALUE!"}},{"$f":"[1]Analyse!Y58","v":{"$error":"#VALUE!"}},{"$f":"[1]Analyse!Z58","v":{"$error":"#VALUE!"}},{"$f":"[1]Analyse!AA58","v":{"$error":"#VALUE!"}},{"$f":"[1]Analyse!AB58","v":{"$error":"#VALUE!"}},{"$f":"[1]Analyse!AC58","v":{"$error":"#VALUE!"}}]
[null,null,null,null,null,null,null,null,null,null,null,null,null,null,null,null,null,null,null,null,null,null,null,null,null,{"$f":"[1]Analyse!X59","v":{"$error":"#VALUE!"}},{"$f":"[1]Analyse!Y59","v":{"$error":"#VALUE!"}},{"$f":"[1]Analyse!Z59","v":{"$error":"#VALUE!"}},{"$f":"[1]Analyse!AA59","v":{"$error":"#VALUE!"}},{"$f":"[1]Analyse!AB59","v":{"$error":"#VALUE!"}},{"$f":"[1]Analyse!AC59","v":{"$error":"#VALUE!"}}]
[null,null,null,null,null,null,null,null,null,null,null,null,null,null,null,null,null,null,null,null,null,null,null,null,null,{"$f":"[1]Analyse!X60","v":{"$error":"#VALUE!"}},{"$f":"[1]Analyse!Y60","v":{"$error":"#VALUE!"}},{"$f":"[1]Analyse!Z60","v":{"$error":"#VALUE!"}},{"$f":"[1]Analyse!AA60","v":{"$error":"#VALUE!"}},{"$f":"[1]Analyse!AB60","v":{"$error":"#VALUE!"}},{"$f":"[1]Analyse!AC60","v":{"$error":"#VALUE!"}}]
[null,null,null,null,null,null,null,null,null,null,null,null,null,null,null,null,null,null,null,null,null,null,null,null,null,{"$f":"[1]Analyse!X61","v":{"$error":"#VALUE!"}},{"$f":"[1]Analyse!Y61","v":{"$error":"#VALUE!"}},{"$f":"[1]Analyse!Z61","v":{"$error":"#VALUE!"}},{"$f":"[1]Analyse!AA61","v":{"$error":"#VALUE!"}},{"$f":"[1]Analyse!AB61","v":{"$error":"#VALUE!"}},{"$f":"[1]Analyse!AC61","v":{"$error":"#VALUE!"}}]
[null,null,null,null,null,null,null,null,null,null,null,null,null,null,null,null,null,null,null,null,null,null,null,null,null,{"$f":"[1]Analyse!X62","v":{"$error":"#VALUE!"}},{"$f":"[1]Analyse!Y62","v":{"$error":"#VALUE!"}},{"$f":"[1]Analyse!Z62","v":{"$error":"#VALUE!"}},{"$f":"[1]Analyse!AA62","v":{"$error":"#VALUE!"}},{"$f":"[1]Analyse!AB62","v":{"$error":"#VALUE!"}},{"$f":"[1]Analyse!AC62","v":{"$error":"#VALUE!"}}]
[null,null,null,null,null,null,null,null,null,null,null,null,null,null,null,null,null,null,null,null,null,null,null,null,null,{"$f":"[1]Analyse!X63","v":{"$error":"#VALUE!"}},{"$f":"[1]Analyse!Y63","v":{"$error":"#VALUE!"}},{"$f":"[1]Analyse!Z63","v":{"$error":"#VALUE!"}},{"$f":"[1]Analyse!AA63","v":{"$error":"#VALUE!"}},{"$f":"[1]Analyse!AB63","v":{"$error":"#VALUE!"}},{"$f":"[1]Analyse!AC63","v":{"$error":"#VALUE!"}}]
[null,null,null,null,null,null,null,null,null,null,null,null,null,null,null,null,null,null,null,null,null,null,null,null,null,{"$f":"[1]Analyse!X64","v":{"$error":"#VALUE!"}},{"$f":"[1]Analyse!Y64","v":{"$error":"#VALUE!"}},{"$f":"[1]Analyse!Z64","v":{"$error":"#VALUE!"}},{"$f":"[1]Analyse!AA64","v":{"$error":"#VALUE!"}},{"$f":"[1]Analyse!AB64","v":{"$error":"#VALUE!"}},{"$f":"[1]Analyse!AC64","v":{"$error":"#VALUE!"}}]
[null,null,null,null,null,null,null,null,null,null,null,null,null,null,null,null,null,null,null,null,null,null,null,null,null,{"$f":"[1]Analyse!X65","v":{"$error":"#VALUE!"}},{"$f":"[1]Analyse!Y65","v":{"$error":"#VALUE!"}},{"$f":"[1]Analyse!Z65","v":{"$error":"#VALUE!"}},{"$f":"[1]Analyse!AA65","v":{"$error":"#VALUE!"}},{"$f":"[1]Analyse!AB65","v":{"$error":"#VALUE!"}},{"$f":"[1]Analyse!AC65","v":{"$error":"#VALUE!"}}]
[null,null,null,null,null,null,null,null,null,null,null,null,null,null,null,null,null,null,null,null,null,null,null,null,null,{"$f":"[1]Analyse!X66","v":{"$error":"#VALUE!"}},{"$f":"[1]Analyse!Y66","v":{"$error":"#VALUE!"}},{"$f":"[1]Analyse!Z66","v":{"$error":"#VALUE!"}},{"$f":"[1]Analyse!AA66","v":{"$error":"#VALUE!"}},{"$f":"[1]Analyse!AB66","v":{"$error":"#VALUE!"}},{"$f":"[1]Analyse!AC66","v":{"$error":"#VALUE!"}}]
[null,null,null,null,null,null,null,null,null,null,null,null,null,null,null,null,null,null,null,null,null,null,null,null,null,{"$f":"[1]Analyse!X67","v":{"$error":"#VALUE!"}},{"$f":"[1]Analyse!Y67","v":{"$error":"#VALUE!"}},{"$f":"[1]Analyse!Z67","v":{"$error":"#VALUE!"}},{"$f":"[1]Analyse!AA67","v":{"$error":"#VALUE!"}},{"$f":"[1]Analyse!AB67","v":{"$error":"#VALUE!"}},{"$f":"[1]Analyse!AC67","v":{"$error":"#VALUE!"}}]
[null,null,null,null,null,null,null,null,null,null,null,null,null,null,null,null,null,null,null,null,null,null,null,null,null,{"$f":"[1]Analyse!X68","v":{"$error":"#VALUE!"}},{"$f":"[1]Analyse!Y68","v":{"$error":"#VALUE!"}},{"$f":"[1]Analyse!Z68","v":{"$error":"#VALUE!"}},{"$f":"[1]Analyse!AA68","v":{"$error":"#VALUE!"}},{"$f":"[1]Analyse!AB68","v":{"$error":"#VALUE!"}},{"$f":"[1]Analyse!AC68","v":{"$error":"#VALUE!"}}]
[null,null,null,null,null,null,null,null,null,null,null,null,null,null,null,null,null,null,null,null,null,null,null,null,null,{"$f":"[1]Analyse!X69","v":{"$error":"#VALUE!"}},{"$f":"[1]Analyse!Y69","v":{"$error":"#VALUE!"}},{"$f":"[1]Analyse!Z69","v":{"$error":"#VALUE!"}},{"$f":"[1]Analyse!AA69","v":{"$error":"#VALUE!"}},{"$f":"[1]Analyse!AB69","v":{"$error":"#VALUE!"}},{"$f":"[1]Analyse!AC69","v":{"$error":"#VALUE!"}}]
[null,null,null,null,null,null,null,null,null,null,null,null,null,null,null,null,null,null,null,null,null,null,null,null,null,{"$f":"[1]Analyse!X70","v":{"$error":"#VALUE!"}},{"$f":"[1]Analyse!Y70","v":{"$error":"#VALUE!"}},{"$f":"[1]Analyse!Z70","v":{"$error":"#VALUE!"}},{"$f":"[1]Analyse!AA70","v":{"$error":"#VALUE!"}},{"$f":"[1]Analyse!AB70","v":{"$error":"#VALUE!"}},{"$f":"[1]Analyse!AC70","v":{"$error":"#VALUE!"}}]
[null,null,null,null,null,null,null,null,null,null,null,null,null,null,null,null,null,null,null,null,null,null,null,null,null,{"$f":"[1]Analyse!X71","v":{"$error":"#VALUE!"}},{"$f":"[1]Analyse!Y71","v":{"$error":"#VALUE!"}},{"$f":"[1]Analyse!Z71","v":{"$error":"#VALUE!"}},{"$f":"[1]Analyse!AA71","v":{"$error":"#VALUE!"}},{"$f":"[1]Analyse!AB71","v":{"$error":"#VALUE!"}},{"$f":"[1]Analyse!AC71","v":{"$error":"#VALUE!"}}]
[null,null,null,null,null,null,null,null,null,null,null,null,null,null,null,null,null,null,null,null,null,null,null,null,null,{"$f":"[1]Analyse!X72","v":{"$error":"#VALUE!"}},{"$f":"[1]Analyse!Y72","v":{"$error":"#VALUE!"}},{"$f":"[1]Analyse!Z72","v":{"$error":"#VALUE!"}},{"$f":"[1]Analyse!AA72","v":{"$error":"#VALUE!"}},{"$f":"[1]Analyse!AB72","v":{"$error":"#VALUE!"}},{"$f":"[1]Analyse!AC72","v":{"$error":"#VALUE!"}}]
[null,null,null,null,null,null,null,null,null,null,null,null,null,null,null,null,null,null,null,null,null,null,null,null,null,{"$f":"[1]Analyse!X73","v":{"$error":"#VALUE!"}},{"$f":"[1]Analyse!Y73","v":{"$error":"#VALUE!"}},{"$f":"[1]Analyse!Z73","v":{"$error":"#VALUE!"}},{"$f":"[1]Analyse!AA73","v":{"$error":"#VALUE!"}},{"$f":"[1]Analyse!AB73","v":{"$error":"#VALUE!"}},{"$f":"[1]Analyse!AC73","v":{"$error":"#VALUE!"}}]
[null,null,null,null,null,null,null,null,null,null,null,null,null,null,null,null,null,null,null,null,null,null,null,null,null,{"$f":"[1]Analyse!X74","v":{"$error":"#VALUE!"}},{"$f":"[1]Analyse!Y74","v":{"$error":"#VALUE!"}},{"$f":"[1]Analyse!Z74","v":{"$error":"#VALUE!"}},{"$f":"[1]Analyse!AA74","v":{"$error":"#VALUE!"}},{"$f":"[1]Analyse!AB74","v":{"$error":"#VALUE!"}},{"$f":"[1]Analyse!AC74","v":{"$error":"#VALUE!"}}]
[null,null,null,null,null,null,null,null,null,null,null,null,null,null,null,null,null,null,null,null,null,null,null,null,null,{"$f":"[1]Analyse!X75","v":{"$error":"#VALUE!"}},{"$f":"[1]Analyse!Y75","v":{"$error":"#VALUE!"}},{"$f":"[1]Analyse!Z75","v":{"$error":"#VALUE!"}},{"$f":"[1]Analyse!AA75","v":{"$error":"#VALUE!"}},{"$f":"[1]Analyse!AB75","v":{"$error":"#VALUE!"}},{"$f":"[1]Analyse!AC75","v":{"$error":"#VALUE!"}}]
[null,null,null,null,null,null,null,null,null,null,null,null,null,null,null,null,null,null,null,null,null,null,null,null,null,{"$f":"[1]Analyse!X76","v":{"$error":"#VALUE!"}},{"$f":"[1]Analyse!Y76","v":{"$error":"#VALUE!"}},{"$f":"[1]Analyse!Z76","v":{"$error":"#VALUE!"}},{"$f":"[1]Analyse!AA76","v":{"$error":"#VALUE!"}},{"$f":"[1]Analyse!AB76","v":{"$error":"#VALUE!"}},{"$f":"[1]Analyse!AC76","v":{"$error":"#VALUE!"}}]
[null,null,null,null,null,null,null,null,null,null,null,null,null,null,null,null,null,null,null,null,null,null,null,null,null,{"$f":"[1]Analyse!X77","v":{"$error":"#VALUE!"}},{"$f":"[1]Analyse!Y77","v":{"$error":"#VALUE!"}},{"$f":"[1]Analyse!Z77","v":{"$error":"#VALUE!"}},{"$f":"[1]Analyse!AA77","v":{"$error":"#VALUE!"}},{"$f":"[1]Analyse!AB77","v":{"$error":"#VALUE!"}},{"$f":"[1]Analyse!AC77","v":{"$error":"#VALUE!"}}]
[null,null,null,null,null,null,null,null,null,null,null,null,null,null,null,null,null,null,null,null,null,null,null,null,null,{"$f":"[1]Analyse!X78","v":{"$error":"#VALUE!"}},{"$f":"[1]Analyse!Y78","v":{"$error":"#VALUE!"}},{"$f":"[1]Analyse!Z78","v":{"$error":"#VALUE!"}},{"$f":"[1]Analyse!AA78","v":{"$error":"#VALUE!"}},{"$f":"[1]Analyse!AB78","v":{"$error":"#VALUE!"}},{"$f":"[1]Analyse!AC78","v":{"$error":"#VALUE!"}}]
[null,null,null,null,null,null,null,null,null,null,null,null,null,null,null,null,null,null,null,null,null,null,null,null,null,{"$f":"[1]Analyse!X79","v":{"$error":"#VALUE!"}},{"$f":"[1]Analyse!Y79","v":{"$error":"#VALUE!"}},{"$f":"[1]Analyse!Z79","v":{"$error":"#VALUE!"}},{"$f":"[1]Analyse!AA79","v":{"$error":"#VALUE!"}},{"$f":"[1]Analyse!AB79","v":{"$error":"#VALUE!"}},{"$f":"[1]Analyse!AC79","v":{"$error":"#VALUE!"}}]
[null,null,null,null,null,null,null,null,null,null,null,null,null,null,null,null,null,null,null,null,null,null,null,null,null,{"$f":"[1]Analyse!X80","v":{"$error":"#VALUE!"}},{"$f":"[1]Analyse!Y80","v":{"$error":"#VALUE!"}},{"$f":"[1]Analyse!Z80","v":{"$error":"#VALUE!"}},{"$f":"[1]Analyse!AA80","v":{"$error":"#VALUE!"}},{"$f":"[1]Analyse!AB80","v":{"$error":"#VALUE!"}},{"$f":"[1]Analyse!AC80","v":{"$error":"#VALUE!"}}]
[null,null,null,null,null,null,null,null,null,null,null,null,null,null,null,null,null,null,null,null,null,null,null,null,null,{"$f":"[1]Analyse!X81","v":{"$error":"#VALUE!"}},{"$f":"[1]Analyse!Y81","v":{"$error":"#VALUE!"}},{"$f":"[1]Analyse!Z81","v":{"$error":"#VALUE!"}},{"$f":"[1]Analyse!AA81","v":{"$error":"#VALUE!"}},{"$f":"[1]Analyse!AB81","v":{"$error":"#VALUE!"}},{"$f":"[1]Analyse!AC81","v":{"$error":"#VALUE!"}}]
[null,null,null,null,null,null,null,null,null,null,null,null,null,null,null,null,null,null,null,null,null,null,null,null,null,{"$f":"[1]Analyse!X82","v":{"$error":"#VALUE!"}},{"$f":"[1]Analyse!Y82","v":{"$error":"#VALUE!"}},{"$f":"[1]Analyse!Z82","v":{"$error":"#VALUE!"}},{"$f":"[1]Analyse!AA82","v":{"$error":"#VALUE!"}},{"$f":"[1]Analyse!AB82","v":{"$error":"#VALUE!"}},{"$f":"[1]Analyse!AC82","v":{"$error":"#VALUE!"}}]
[null,null,null,null,null,null,null,null,null,null,null,null,null,null,null,null,null,null,null,null,null,null,null,null,null,{"$f":"[1]Analyse!X83","v":{"$error":"#VALUE!"}},{"$f":"[1]Analyse!Y83","v":{"$error":"#VALUE!"}},{"$f":"[1]Analyse!Z83","v":{"$error":"#VALUE!"}},{"$f":"[1]Analyse!AA83","v":{"$error":"#VALUE!"}},{"$f":"[1]Analyse!AB83","v":{"$error":"#VALUE!"}},{"$f":"[1]Analyse!AC83","v":{"$error":"#VALUE!"}}]
[null,null,null,null,null,null,null,null,null,null,null,null,null,null,null,null,null,null,null,null,null,null,null,null,null,{"$f":"[1]Analyse!X84","v":{"$error":"#VALUE!"}},{"$f":"[1]Analyse!Y84","v":{"$error":"#VALUE!"}},{"$f":"[1]Analyse!Z84","v":{"$error":"#VALUE!"}},{"$f":"[1]Analyse!AA84","v":{"$error":"#VALUE!"}},{"$f":"[1]Analyse!AB84","v":{"$error":"#VALUE!"}},{"$f":"[1]Analyse!AC84","v":{"$error":"#VALUE!"}}]
[null,null,null,null,null,null,null,null,null,null,null,null,null,null,null,null,null,null,null,null,null,null,null,null,null,{"$f":"[1]Analyse!X85","v":{"$error":"#VALUE!"}},{"$f":"[1]Analyse!Y85","v":{"$error":"#VALUE!"}},{"$f":"[1]Analyse!Z85","v":{"$error":"#VALUE!"}},{"$f":"[1]Analyse!AA85","v":{"$error":"#VALUE!"}},{"$f":"[1]Analyse!AB85","v":{"$error":"#VALUE!"}},{"$f":"[1]Analyse!AC85","v":{"$error":"#VALUE!"}}]
[null,null,null,null,null,null,null,null,null,null,null,null,null,null,null,null,null,null,null,null,null,null,null,null,null,{"$f":"[1]Analyse!X86","v":{"$error":"#VALUE!"}},{"$f":"[1]Analyse!Y86","v":{"$error":"#VALUE!"}},{"$f":"[1]Analyse!Z86","v":{"$error":"#VALUE!"}},{"$f":"[1]Analyse!AA86","v":{"$error":"#VALUE!"}},{"$f":"[1]Analyse!AB86","v":{"$error":"#VALUE!"}},{"$f":"[1]Analyse!AC86","v":{"$error":"#VALUE!"}}]
[null,null,null,null,null,null,null,null,null,null,null,null,null,null,null,null,null,null,null,null,null,null,null,null,null,{"$f":"[1]Analyse!X87","v":{"$error":"#VALUE!"}},{"$f":"[1]Analyse!Y87","v":{"$error":"#VALUE!"}},{"$f":"[1]Analyse!Z87","v":{"$error":"#VALUE!"}},{"$f":"[1]Analyse!AA87","v":{"$error":"#VALUE!"}},{"$f":"[1]Analyse!AB87","v":{"$error":"#VALUE!"}},{"$f":"[1]Analyse!AC87","v":{"$error":"#VALUE!"}}]
[null,null,null,null,null,null,null,null,null,null,null,null,null,null,null,null,null,null,null,null,null,null,null,null,null,{"$f":"[1]Analyse!X88","v":{"$error":"#VALUE!"}},{"$f":"[1]Analyse!Y88","v":{"$error":"#VALUE!"}},{"$f":"[1]Analyse!Z88","v":{"$error":"#VALUE!"}},{"$f":"[1]Analyse!AA88","v":{"$error":"#VALUE!"}},{"$f":"[1]Analyse!AB88","v":{"$error":"#VALUE!"}},{"$f":"[1]Analyse!AC88","v":{"$error":"#VALUE!"}}]
[null,null,null,null,null,null,null,null,null,null,null,null,null,null,null,null,null,null,null,null,null,null,null,null,null,{"$f":"[1]Analyse!X89","v":{"$error":"#VALUE!"}},{"$f":"[1]Analyse!Y89","v":{"$error":"#VALUE!"}},{"$f":"[1]Analyse!Z89","v":{"$error":"#VALUE!"}},{"$f":"[1]Analyse!AA89","v":{"$error":"#VALUE!"}},{"$f":"[1]Analyse!AB89","v":{"$error":"#VALUE!"}},{"$f":"[1]Analyse!AC89","v":{"$error":"#VALUE!"}}]
[null,null,null,null,null,null,null,null,null,null,null,null,null,null,null,null,null,null,null,null,null,null,null,null,null,{"$f":"[1]Analyse!X90","v":{"$error":"#VALUE!"}},{"$f":"[1]Analyse!Y90","v":{"$error":"#VALUE!"}},{"$f":"[1]Analyse!Z90","v":{"$error":"#VALUE!"}},{"$f":"[1]Analyse!AA90","v":{"$error":"#VALUE!"}},{"$f":"[1]Analyse!AB90","v":{"$error":"#VALUE!"}},{"$f":"[1]Analyse!AC90","v":{"$error":"#VALUE!"}}]
[null,null,null,null,null,null,null,null,null,null,null,null,null,null,null,null,null,null,null,null,null,null,null,null,null,{"$f":"[1]Analyse!X91","v":{"$error":"#VALUE!"}},{"$f":"[1]Analyse!Y91","v":{"$error":"#VALUE!"}},{"$f":"[1]Analyse!Z91","v":{"$error":"#VALUE!"}},{"$f":"[1]Analyse!AA91","v":{"$error":"#VALUE!"}},{"$f":"[1]Analyse!AB91","v":{"$error":"#VALUE!"}},{"$f":"[1]Analyse!AC91","v":{"$error":"#VALUE!"}}]
[null,null,null,null,null,null,null,null,null,null,null,null,null,null,null,null,null,null,null,null,null,null,null,null,null,{"$f":"[1]Analyse!X92","v":{"$error":"#VALUE!"}},{"$f":"[1]Analyse!Y92","v":{"$error":"#VALUE!"}},{"$f":"[1]Analyse!Z92","v":{"$error":"#VALUE!"}},{"$f":"[1]Analyse!AA92","v":{"$error":"#VALUE!"}},{"$f":"[1]Analyse!AB92","v":{"$error":"#VALUE!"}},{"$f":"[1]Analyse!AC92","v":{"$error":"#VALUE!"}}]
[null,null,null,null,null,null,null,null,null,null,null,null,null,null,null,null,null,null,null,null,null,null,null,null,null,{"$f":"[1]Analyse!X93","v":{"$error":"#VALUE!"}},{"$f":"[1]Analyse!Y93","v":{"$error":"#VALUE!"}},{"$f":"[1]Analyse!Z93","v":{"$error":"#VALUE!"}},{"$f":"[1]Analyse!AA93","v":{"$error":"#VALUE!"}},{"$f":"[1]Analyse!AB93","v":{"$error":"#VALUE!"}},{"$f":"[1]Analyse!AC93","v":{"$error":"#VALUE!"}}]
[null,null,null,null,null,null,null,null,null,null,null,null,null,null,null,null,null,null,null,null,null,null,null,null,null,{"$f":"[1]Analyse!X94","v":{"$error":"#VALUE!"}},{"$f":"[1]Analyse!Y94","v":{"$error":"#VALUE!"}},{"$f":"[1]Analyse!Z94","v":{"$error":"#VALUE!"}},{"$f":"[1]Analyse!AA94","v":{"$error":"#VALUE!"}},{"$f":"[1]Analyse!AB94","v":{"$error":"#VALUE!"}},{"$f":"[1]Analyse!AC94","v":{"$error":"#VALUE!"}}]
[null,null,null,null,null,null,null,null,null,null,null,null,null,null,null,null,null,null,null,null,null,null,null,null,null,{"$f":"[1]Analyse!X95","v":{"$error":"#VALUE!"}},{"$f":"[1]Analyse!Y95","v":{"$error":"#VALUE!"}},{"$f":"[1]Analyse!Z95","v":{"$error":"#VALUE!"}},{"$f":"[1]Analyse!AA95","v":{"$error":"#VALUE!"}},{"$f":"[1]Analyse!AB95","v":{"$error":"#VALUE!"}},{"$f":"[1]Analyse!AC95","v":{"$error":"#VALUE!"}}]
[null,null,null,null,null,null,null,null,null,null,null,null,null,null,null,null,null,null,null,null,null,null,null,null,null,null,null,null,null,null,{"$f":"[1]Analyse!AC96","v":0}]
[null,null,null,null,null,null,null,null,null,null,null,null,null,null,null,null,null,null,null,null,null,null,null,null,null,null,null,null,null,null,{"$f":"[1]Analyse!AC97","v":0}]
[null,null,null,null,null,null,null,null,null,null,null,null,null,null,null,null,null,null,null,null,null,null,null,null,null,null,null,null,null,null,{"$f":"[1]Analyse!AC98","v":"min"}]
[null,null,null,null,null,null,null,null,null,null,null,null,null,null,null,null,null,null,null,null,null,null,null,null,null,{"$f":"[1]Analyse!X99","v":{"$error":"#VALUE!"}},{"$f":"[1]Analyse!Y99","v":{"$error":"#VALUE!"}},{"$f":"[1]Analyse!Z99","v":{"$error":"#VALUE!"}},{"$f":"[1]Analyse!AA99","v":{"$error":"#VALUE!"}},{"$f":"[1]Analyse!AB99","v":{"$error":"#VALUE!"}},{"$f":"[1]Analyse!AC99","v":{"$error":"#VALUE!"}}]
[null,null,null,null,null,null,null,null,null,null,null,null,null,null,null,null,null,null,null,null,null,null,null,null,null,{"$f":"[1]Analyse!X100","v":{"$error":"#VALUE!"}},{"$f":"[1]Analyse!Y100","v":{"$error":"#VALUE!"}},{"$f":"[1]Analyse!Z100","v":{"$error":"#VALUE!"}},{"$f":"[1]Analyse!AA100","v":{"$error":"#VALUE!"}},{"$f":"[1]Analyse!AB100","v":{"$error":"#VALUE!"}},{"$f":"[1]Analyse!AC100","v":{"$error":"#VALUE!"}}]
[null,null,null,null,null,null,null,null,null,null,null,null,null,null,null,null,null,null,null,null,null,null,null,null,null,{"$f":"[1]Analyse!X101","v":{"$error":"#VALUE!"}},{"$f":"[1]Analyse!Y101","v":{"$error":"#VALUE!"}},{"$f":"[1]Analyse!Z101","v":{"$error":"#VALUE!"}},{"$f":"[1]Analyse!AA101","v":{"$error":"#VALUE!"}},{"$f":"[1]Analyse!AB101","v":{"$error":"#VALUE!"}},{"$f":"[1]Analyse!AC101","v":{"$error":"#VALUE!"}}]
[null,null,null,null,null,null,null,null,null,null,null,null,null,null,null,null,null,null,null,null,null,null,null,null,null,{"$f":"[1]Analyse!X102","v":{"$error":"#VALUE!"}},{"$f":"[1]Analyse!Y102","v":{"$error":"#VALUE!"}},{"$f":"[1]Analyse!Z102","v":{"$error":"#VALUE!"}},{"$f":"[1]Analyse!AA102","v":{"$error":"#VALUE!"}},{"$f":"[1]Analyse!AB102","v":{"$error":"#VALUE!"}},{"$f":"[1]Analyse!AC102","v":{"$error":"#VALUE!"}}]
[null,null,null,null,null,null,null,null,null,null,null,null,null,null,null,null,null,null,null,null,null,null,null,null,null,{"$f":"[1]Analyse!X103","v":{"$error":"#VALUE!"}},{"$f":"[1]Analyse!Y103","v":{"$error":"#VALUE!"}},{"$f":"[1]Analyse!Z103","v":{"$error":"#VALUE!"}},{"$f":"[1]Analyse!AA103","v":{"$error":"#VALUE!"}},{"$f":"[1]Analyse!AB103","v":{"$error":"#VALUE!"}},{"$f":"[1]Analyse!AC103","v":{"$error":"#VALUE!"}}]
[null,null,null,null,null,null,null,null,null,null,null,null,null,null,null,null,null,null,null,null,null,null,null,null,null,{"$f":"[1]Analyse!X104","v":{"$error":"#VALUE!"}},{"$f":"[1]Analyse!Y104","v":{"$error":"#VALUE!"}},{"$f":"[1]Analyse!Z104","v":{"$error":"#VALUE!"}},{"$f":"[1]Analyse!AA104","v":{"$error":"#VALUE!"}},{"$f":"[1]Analyse!AB104","v":{"$error":"#VALUE!"}},{"$f":"[1]Analyse!AC104","v":{"$error":"#VALUE!"}}]
[null,null,null,null,null,null,null,null,null,null,null,null,null,null,null,null,null,null,null,null,null,null,null,null,null,{"$f":"[1]Analyse!X105","v":{"$error":"#VALUE!"}},{"$f":"[1]Analyse!Y105","v":{"$error":"#VALUE!"}},{"$f":"[1]Analyse!Z105","v":{"$error":"#VALUE!"}},{"$f":"[1]Analyse!AA105","v":{"$error":"#VALUE!"}},{"$f":"[1]Analyse!AB105","v":{"$error":"#VALUE!"}},{"$f":"[1]Analyse!AC105","v":{"$error":"#VALUE!"}}]
[null,null,null,null,null,null,null,null,null,null,null,null,null,null,null,null,null,null,null,null,null,null,null,null,null,{"$f":"[1]Analyse!X106","v":{"$error":"#VALUE!"}},{"$f":"[1]Analyse!Y106","v":{"$error":"#VALUE!"}},{"$f":"[1]Analyse!Z106","v":{"$error":"#VALUE!"}},{"$f":"[1]Analyse!AA106","v":{"$error":"#VALUE!"}},{"$f":"[1]Analyse!AB106","v":{"$error":"#VALUE!"}},{"$f":"[1]Analyse!AC106","v":{"$error":"#VALUE!"}}]
[null,null,null,null,null,null,null,null,null,null,null,null,null,null,null,null,null,null,null,null,null,null,null,null,null,{"$f":"[1]Analyse!X107","v":{"$error":"#VALUE!"}},{"$f":"[1]Analyse!Y107","v":{"$error":"#VALUE!"}},{"$f":"[1]Analyse!Z107","v":{"$error":"#VALUE!"}},{"$f":"[1]Analyse!AA107","v":{"$error":"#VALUE!"}},{"$f":"[1]Analyse!AB107","v":{"$error":"#VALUE!"}},{"$f":"[1]Analyse!AC107","v":{"$error":"#VALUE!"}}]
[null,null,null,null,null,null,null,null,null,null,null,null,null,null,null,null,null,null,null,null,null,null,null,null,null,{"$f":"[1]Analyse!X108","v":{"$error":"#VALUE!"}},{"$f":"[1]Analyse!Y108","v":{"$error":"#VALUE!"}},{"$f":"[1]Analyse!Z108","v":{"$error":"#VALUE!"}},{"$f":"[1]Analyse!AA108","v":{"$error":"#VALUE!"}},{"$f":"[1]Analyse!AB108","v":{"$error":"#VALUE!"}},{"$f":"[1]Analyse!AC108","v":{"$error":"#VALUE!"}}]
[null,null,null,null,null,null,null,null,null,null,null,null,null,null,null,null,null,null,null,null,null,null,null,null,null,{"$f":"[1]Analyse!X109","v":{"$error":"#VALUE!"}},{"$f":"[1]Analyse!Y109","v":{"$error":"#VALUE!"}},{"$f":"[1]Analyse!Z109","v":{"$error":"#VALUE!"}},{"$f":"[1]Analyse!AA109","v":{"$error":"#VALUE!"}},{"$f":"[1]Analyse!AB109","v":{"$error":"#VALUE!"}},{"$f":"[1]Analyse!AC109","v":{"$error":"#VALUE!"}}]
[null,null,null,null,null,null,null,null,null,null,null,null,null,null,null,null,null,null,null,null,null,null,null,null,null,{"$f":"[1]Analyse!X110","v":{"$error":"#VALUE!"}},{"$f":"[1]Analyse!Y110","v":{"$error":"#VALUE!"}},{"$f":"[1]Analyse!Z110","v":{"$error":"#VALUE!"}},{"$f":"[1]Analyse!AA110","v":{"$error":"#VALUE!"}},{"$f":"[1]Analyse!AB110","v":{"$error":"#VALUE!"}},{"$f":"[1]Analyse!AC110","v":{"$error":"#VALUE!"}}]
[null,null,null,null,null,null,null,null,null,null,null,null,null,null,null,null,null,null,null,null,null,null,null,null,null,{"$f":"[1]Analyse!X111","v":{"$error":"#VALUE!"}},{"$f":"[1]Analyse!Y111","v":{"$error":"#VALUE!"}},{"$f":"[1]Analyse!Z111","v":{"$error":"#VALUE!"}},{"$f":"[1]Analyse!AA111","v":{"$error":"#VALUE!"}},{"$f":"[1]Analyse!AB111","v":{"$error":"#VALUE!"}},{"$f":"[1]Analyse!AC111","v":{"$error":"#VALUE!"}}]
[null,null,null,null,null,null,null,null,null,null,null,null,null,null,null,null,null,null,null,null,null,null,null,null,null,{"$f":"[1]Analyse!X112","v":{"$error":"#VALUE!"}},{"$f":"[1]Analyse!Y112","v":{"$error":"#VALUE!"}},{"$f":"[1]Analyse!Z112","v":{"$error":"#VALUE!"}},{"$f":"[1]Analyse!AA112","v":{"$error":"#VALUE!"}},{"$f":"[1]Analyse!AB112","v":{"$error":"#VALUE!"}},{"$f":"[1]Analyse!AC112","v":{"$error":"#VALUE!"}}]
[null,null,null,null,null,null,null,null,null,null,null,null,null,null,null,null,null,null,null,null,null,null,null,null,null,{"$f":"[1]Analyse!X113","v":{"$error":"#VALUE!"}},{"$f":"[1]Analyse!Y113","v":{"$error":"#VALUE!"}},{"$f":"[1]Analyse!Z113","v":{"$error":"#VALUE!"}},{"$f":"[1]Analyse!AA113","v":{"$error":"#VALUE!"}},{"$f":"[1]Analyse!AB113","v":{"$error":"#VALUE!"}},{"$f":"[1]Analyse!AC113","v":{"$error":"#VALUE!"}}]
[null,null,null,null,null,null,null,null,null,null,null,null,null,null,null,null,null,null,null,null,null,null,null,null,null,{"$f":"[1]Analyse!X114","v":{"$error":"#VALUE!"}},{"$f":"[1]Analyse!Y114","v":{"$error":"#VALUE!"}},{"$f":"[1]Analyse!Z114","v":{"$error":"#VALUE!"}},{"$f":"[1]Analyse!AA114","v":{"$error":"#VALUE!"}},{"$f":"[1]Analyse!AB114","v":{"$error":"#VALUE!"}},{"$f":"[1]Analyse!AC114","v":{"$error":"#VALUE!"}}]
[null,null,null,null,null,null,null,null,null,null,null,null,null,null,null,null,null,null,null,null,null,null,null,null,null,{"$f":"[1]Analyse!X115","v":{"$error":"#VALUE!"}},{"$f":"[1]Analyse!Y115","v":{"$error":"#VALUE!"}},{"$f":"[1]Analyse!Z115","v":{"$error":"#VALUE!"}},{"$f":"[1]Analyse!AA115","v":{"$error":"#VALUE!"}},{"$f":"[1]Analyse!AB115","v":{"$error":"#VALUE!"}},{"$f":"[1]Analyse!AC115","v":{"$error":"#VALUE!"}}]
[null,null,null,null,null,null,null,null,null,null,null,null,null,null,null,null,null,null,null,null,null,null,null,null,null,{"$f":"[1]Analyse!X116","v":{"$error":"#VALUE!"}},{"$f":"[1]Analyse!Y116","v":{"$error":"#VALUE!"}},{"$f":"[1]Analyse!Z116","v":{"$error":"#VALUE!"}},{"$f":"[1]Analyse!AA116","v":{"$error":"#VALUE!"}},{"$f":"[1]Analyse!AB116","v":{"$error":"#VALUE!"}},{"$f":"[1]Analyse!AC116","v":{"$error":"#VALUE!"}}]
[null,null,null,null,null,null,null,null,null,null,null,null,null,null,null,null,null,null,null,null,null,null,null,null,null,{"$f":"[1]Analyse!X117","v":{"$error":"#VALUE!"}},{"$f":"[1]Analyse!Y117","v":{"$error":"#VALUE!"}},{"$f":"[1]Analyse!Z117","v":{"$error":"#VALUE!"}},{"$f":"[1]Analyse!AA117","v":{"$error":"#VALUE!"}},{"$f":"[1]Analyse!AB117","v":{"$error":"#VALUE!"}},{"$f":"[1]Analyse!AC117","v":{"$error":"#VALUE!"}}]
[null,null,null,null,null,null,null,null,null,null,null,null,null,null,null,null,null,null,null,null,null,null,null,null,null,{"$f":"[1]Analyse!X118","v":{"$error":"#VALUE!"}},{"$f":"[1]Analyse!Y118","v":{"$error":"#VALUE!"}},{"$f":"[1]Analyse!Z118","v":{"$error":"#VALUE!"}},{"$f":"[1]Analyse!AA118","v":{"$error":"#VALUE!"}},{"$f":"[1]Analyse!AB118","v":{"$error":"#VALUE!"}},{"$f":"[1]Analyse!AC118","v":{"$error":"#VALUE!"}}]
[null,null,null,null,null,null,null,null,null,null,null,null,null,null,null,null,null,null,null,null,null,null,null,null,null,{"$f":"[1]Analyse!X119","v":{"$error":"#VALUE!"}},{"$f":"[1]Analyse!Y119","v":{"$error":"#VALUE!"}},{"$f":"[1]Analyse!Z119","v":{"$error":"#VALUE!"}},{"$f":"[1]Analyse!AA119","v":{"$error":"#VALUE!"}},{"$f":"[1]Analyse!AB119","v":{"$error":"#VALUE!"}},{"$f":"[1]Analyse!AC119","v":{"$error":"#VALUE!"}}]
[null,null,null,null,null,null,null,null,null,null,null,null,null,null,null,null,null,null,null,null,null,null,null,null,null,{"$f":"[1]Analyse!X120","v":{"$error":"#VALUE!"}},{"$f":"[1]Analyse!Y120","v":{"$error":"#VALUE!"}},{"$f":"[1]Analyse!Z120","v":{"$error":"#VALUE!"}},{"$f":"[1]Analyse!AA120","v":{"$error":"#VALUE!"}},{"$f":"[1]Analyse!AB120","v":{"$error":"#VALUE!"}},{"$f":"[1]Analyse!AC120","v":{"$error":"#VALUE!"}}]
[null,null,null,null,null,null,null,null,null,null,null,null,null,null,null,null,null,null,null,null,null,null,null,null,null,{"$f":"[1]Analyse!X121","v":{"$error":"#VALUE!"}},{"$f":"[1]Analyse!Y121","v":{"$error":"#VALUE!"}},{"$f":"[1]Analyse!Z121","v":{"$error":"#VALUE!"}},{"$f":"[1]Analyse!AA121","v":{"$error":"#VALUE!"}},{"$f":"[1]Analyse!AB121","v":{"$error":"#VALUE!"}},{"$f":"[1]Analyse!AC121","v":{"$error":"#VALUE!"}}]
[null,null,null,null,null,null,null,null,null,null,null,null,null,null,null,null,null,null,null,null,null,null,null,null,null,{"$f":"[1]Analyse!X122","v":{"$error":"#VALUE!"}},{"$f":"[1]Analyse!Y122","v":{"$error":"#VALUE!"}},{"$f":"[1]Analyse!Z122","v":{"$error":"#VALUE!"}},{"$f":"[1]Analyse!AA122","v":{"$error":"#VALUE!"}},{"$f":"[1]Analyse!AB122","v":{"$error":"#VALUE!"}},{"$f":"[1]Analyse!AC122","v":{"$error":"#VALUE!"}}]
[null,null,null,null,null,null,null,null,null,null,null,null,null,null,null,null,null,null,null,null,null,null,null,null,null,{"$f":"[1]Analyse!X123","v":{"$error":"#VALUE!"}},{"$f":"[1]Analyse!Y123","v":{"$error":"#VALUE!"}},{"$f":"[1]Analyse!Z123","v":{"$error":"#VALUE!"}},{"$f":"[1]Analyse!AA123","v":{"$error":"#VALUE!"}},{"$f":"[1]Analyse!AB123","v":{"$error":"#VALUE!"}},{"$f":"[1]Analyse!AC123","v":{"$error":"#VALUE!"}}]
[null,null,null,null,null,null,null,null,null,null,null,null,null,null,null,null,null,null,null,null,null,null,null,null,null,{"$f":"[1]Analyse!X124","v":{"$error":"#VALUE!"}},{"$f":"[1]Analyse!Y124","v":{"$error":"#VALUE!"}},{"$f":"[1]Analyse!Z124","v":{"$error":"#VALUE!"}},{"$f":"[1]Analyse!AA124","v":{"$error":"#VALUE!"}},{"$f":"[1]Analyse!AB124","v":{"$error":"#VALUE!"}},{"$f":"[1]Analyse!AC124","v":{"$error":"#VALUE!"}}]
[null,null,null,null,null,null,null,null,null,null,null,null,null,null,null,null,null,null,null,null,null,null,null,null,null,{"$f":"[1]Analyse!X125","v":{"$error":"#VALUE!"}},{"$f":"[1]Analyse!Y125","v":{"$error":"#VALUE!"}},{"$f":"[1]Analyse!Z125","v":{"$error":"#VALUE!"}},{"$f":"[1]Analyse!AA125","v":{"$error":"#VALUE!"}},{"$f":"[1]Analyse!AB125","v":{"$error":"#VALUE!"}},{"$f":"[1]Analyse!AC125","v":{"$error":"#VALUE!"}}]
[null,null,null,null,null,null,null,null,null,null,null,null,null,null,null,null,null,null,null,null,null,null,null,null,null,{"$f":"[1]Analyse!X126","v":{"$error":"#VALUE!"}},{"$f":"[1]Analyse!Y126","v":{"$error":"#VALUE!"}},{"$f":"[1]Analyse!Z126","v":{"$error":"#VALUE!"}},{"$f":"[1]Analyse!AA126","v":{"$error":"#VALUE!"}},{"$f":"[1]Analyse!AB126","v":{"$error":"#VALUE!"}},{"$f":"[1]Analyse!AC126","v":{"$error":"#VALUE!"}}]
[null,null,null,null,null,null,null,null,null,null,null,null,null,null,null,null,null,null,null,null,null,null,null,null,null,{"$f":"[1]Analyse!X127","v":{"$error":"#VALUE!"}},{"$f":"[1]Analyse!Y127","v":{"$error":"#VALUE!"}},{"$f":"[1]Analyse!Z127","v":{"$error":"#VALUE!"}},{"$f":"[1]Analyse!AA127","v":{"$error":"#VALUE!"}},{"$f":"[1]Analyse!AB127","v":{"$error":"#VALUE!"}},{"$f":"[1]Analyse!AC127","v":{"$error":"#VALUE!"}}]
[null,null,null,null,null,null,null,null,null,null,null,null,null,null,null,null,null,null,null,null,null,null,null,null,null,{"$f":"[1]Analyse!X128","v":{"$error":"#VALUE!"}},{"$f":"[1]Analyse!Y128","v":{"$error":"#VALUE!"}},{"$f":"[1]Analyse!Z128","v":{"$error":"#VALUE!"}},{"$f":"[1]Analyse!AA128","v":{"$error":"#VALUE!"}},{"$f":"[1]Analyse!AB128","v":{"$error":"#VALUE!"}},{"$f":"[1]Analyse!AC128","v":{"$error":"#VALUE!"}}]
[null,null,null,null,null,null,null,null,null,null,null,null,null,null,null,null,null,null,null,null,null,null,null,null,null,{"$f":"[1]Analyse!X129","v":{"$error":"#VALUE!"}},{"$f":"[1]Analyse!Y129","v":{"$error":"#VALUE!"}},{"$f":"[1]Analyse!Z129","v":{"$error":"#VALUE!"}},{"$f":"[1]Analyse!AA129","v":{"$error":"#VALUE!"}},{"$f":"[1]Analyse!AB129","v":{"$error":"#VALUE!"}},{"$f":"[1]Analyse!AC129","v":{"$error":"#VALUE!"}}]
[null,null,null,null,null,null,null,null,null,null,null,null,null,null,null,null,null,null,null,null,null,null,null,null,null,{"$f":"[1]Analyse!X130","v":{"$error":"#VALUE!"}},{"$f":"[1]Analyse!Y130","v":{"$error":"#VALUE!"}},{"$f":"[1]Analyse!Z130","v":{"$error":"#VALUE!"}},{"$f":"[1]Analyse!AA130","v":{"$error":"#VALUE!"}},{"$f":"[1]Analyse!AB130","v":{"$error":"#VALUE!"}},{"$f":"[1]Analyse!AC130","v":{"$error":"#VALUE!"}}]
[null,null,null,null,null,null,null,null,null,null,null,null,null,null,null,null,null,null,null,null,null,null,null,null,null,{"$f":"[1]Analyse!X131","v":{"$error":"#VALUE!"}},{"$f":"[1]Analyse!Y131","v":{"$error":"#VALUE!"}},{"$f":"[1]Analyse!Z131","v":{"$error":"#VALUE!"}},{"$f":"[1]Analyse!AA131","v":{"$error":"#VALUE!"}},{"$f":"[1]Analyse!AB131","v":{"$error":"#VALUE!"}},{"$f":"[1]Analyse!AC131","v":{"$error":"#VALUE!"}}]
[null,null,null,null,null,null,null,null,null,null,null,null,null,null,null,null,null,null,null,null,null,null,null,null,null,{"$f":"[1]Analyse!X132","v":{"$error":"#VALUE!"}},{"$f":"[1]Analyse!Y132","v":{"$error":"#VALUE!"}},{"$f":"[1]Analyse!Z132","v":{"$error":"#VALUE!"}},{"$f":"[1]Analyse!AA132","v":{"$error":"#VALUE!"}},{"$f":"[1]Analyse!AB132","v":{"$error":"#VALUE!"}},{"$f":"[1]Analyse!AC132","v":{"$error":"#VALUE!"}}]
[null,null,null,null,null,null,null,null,null,null,null,null,null,null,null,null,null,null,null,null,null,null,null,null,null,{"$f":"[1]Analyse!X133","v":{"$error":"#VALUE!"}},{"$f":"[1]Analyse!Y133","v":{"$error":"#VALUE!"}},{"$f":"[1]Analyse!Z133","v":{"$error":"#VALUE!"}},{"$f":"[1]Analyse!AA133","v":{"$error":"#VALUE!"}},{"$f":"[1]Analyse!AB133","v":{"$error":"#VALUE!"}},{"$f":"[1]Analyse!AC133","v":{"$error":"#VALUE!"}}]
[null,null,null,null,null,null,null,null,null,null,null,null,null,null,null,null,null,null,null,null,null,null,null,null,null,{"$f":"[1]Analyse!X134","v":{"$error":"#VALUE!"}},{"$f":"[1]Analyse!Y134","v":{"$error":"#VALUE!"}},{"$f":"[1]Analyse!Z134","v":{"$error":"#VALUE!"}},{"$f":"[1]Analyse!AA134","v":{"$error":"#VALUE!"}},{"$f":"[1]Analyse!AB134","v":{"$error":"#VALUE!"}},{"$f":"[1]Analyse!AC134","v":{"$error":"#VALUE!"}}]
[null,null,null,null,null,null,null,null,null,null,null,null,null,null,null,null,null,null,null,null,null,null,null,null,null,{"$f":"[1]Analyse!X135","v":{"$error":"#VALUE!"}},{"$f":"[1]Analyse!Y135","v":{"$error":"#VALUE!"}},{"$f":"[1]Analyse!Z135","v":{"$error":"#VALUE!"}},{"$f":"[1]Analyse!AA135","v":{"$error":"#VALUE!"}},{"$f":"[1]Analyse!AB135","v":{"$error":"#VALUE!"}},{"$f":"[1]Analyse!AC135","v":{"$error":"#VALUE!"}}]
[null,null,null,null,null,null,null,null,null,null,null,null,null,null,null,null,null,null,null,null,null,null,null,null,null,{"$f":"[1]Analyse!X136","v":{"$error":"#VALUE!"}},{"$f":"[1]Analyse!Y136","v":{"$error":"#VALUE!"}},{"$f":"[1]Analyse!Z136","v":{"$error":"#VALUE!"}},{"$f":"[1]Analyse!AA136","v":{"$error":"#VALUE!"}},{"$f":"[1]Analyse!AB136","v":{"$error":"#VALUE!"}},{"$f":"[1]Analyse!AC136","v":{"$error":"#VALUE!"}}]
[null,null,null,null,null,null,null,null,null,null,null,null,null,null,null,null,null,null,null,null,null,null,null,null,null,{"$f":"[1]Analyse!X137","v":{"$error":"#VALUE!"}},{"$f":"[1]Analyse!Y137","v":{"$error":"#VALUE!"}},{"$f":"[1]Analyse!Z137","v":{"$error":"#VALUE!"}},{"$f":"[1]Analyse!AA137","v":{"$error":"#VALUE!"}},{"$f":"[1]Analyse!AB137","v":{"$error":"#VALUE!"}},{"$f":"[1]Analyse!AC137","v":{"$error":"#VALUE!"}}]
[null,null,null,null,null,null,null,null,null,null,null,null,null,null,null,null,null,null,null,null,null,null,null,null,null,{"$f":"[1]Analyse!X138","v":{"$error":"#VALUE!"}},{"$f":"[1]Analyse!Y138","v":{"$error":"#VALUE!"}},{"$f":"[1]Analyse!Z138","v":{"$error":"#VALUE!"}},{"$f":"[1]Analyse!AA138","v":{"$error":"#VALUE!"}},{"$f":"[1]Analyse!AB138","v":{"$error":"#VALUE!"}},{"$f":"[1]Analyse!AC138","v":{"$error":"#VALUE!"}}]
[null,null,null,null,null,null,null,null,null,null,null,null,null,null,null,null,null,null,null,null,null,null,null,null,null,{"$f":"[1]Analyse!X139","v":{"$error":"#VALUE!"}},{"$f":"[1]Analyse!Y139","v":{"$error":"#VALUE!"}},{"$f":"[1]Analyse!Z139","v":{"$error":"#VALUE!"}},{"$f":"[1]Analyse!AA139","v":{"$error":"#VALUE!"}},{"$f":"[1]Analyse!AB139","v":{"$error":"#VALUE!"}},{"$f":"[1]Analyse!AC139","v":{"$error":"#VALUE!"}}]
[null,null,null,null,null,null,null,null,null,null,null,null,null,null,null,null,null,null,null,null,null,null,null,null,null,{"$f":"[1]Analyse!X140","v":{"$error":"#VALUE!"}},{"$f":"[1]Analyse!Y140","v":{"$error":"#VALUE!"}},{"$f":"[1]Analyse!Z140","v":{"$error":"#VALUE!"}},{"$f":"[1]Analyse!AA140","v":{"$error":"#VALUE!"}},{"$f":"[1]Analyse!AB140","v":{"$error":"#VALUE!"}},{"$f":"[1]Analyse!AC140","v":{"$error":"#VALUE!"}}]
[null,null,null,null,null,null,null,null,null,null,null,null,null,null,null,null,null,null,null,null,null,null,null,null,null,{"$f":"[1]Analyse!X141","v":{"$error":"#VALUE!"}},{"$f":"[1]Analyse!Y141","v":{"$error":"#VALUE!"}},{"$f":"[1]Analyse!Z141","v":{"$error":"#VALUE!"}},{"$f":"[1]Analyse!AA141","v":{"$error":"#VALUE!"}},{"$f":"[1]Analyse!AB141","v":{"$error":"#VALUE!"}},{"$f":"[1]Analyse!AC141","v":{"$error":"#VALUE!"}}]
[null,null,null,null,null,null,null,null,null,null,null,null,null,null,null,null,null,null,null,null,null,null,null,null,null,{"$f":"[1]Analyse!X142","v":{"$error":"#VALUE!"}},{"$f":"[1]Analyse!Y142","v":{"$error":"#VALUE!"}},{"$f":"[1]Analyse!Z142","v":{"$error":"#VALUE!"}},{"$f":"[1]Analyse!AA142","v":{"$error":"#VALUE!"}},{"$f":"[1]Analyse!AB142","v":{"$error":"#VALUE!"}},{"$f":"[1]Analyse!AC142","v":{"$error":"#VALUE!"}}]
[null,null,null,null,null,null,null,null,null,null,null,null,null,null,null,null,null,null,null,null,null,null,null,null,null,null,null,null,null,null,{"$f":"[1]Analyse!AC143","v":0}]
[null,null,null,null,null,null,null,null,null,null,null,null,null,null,null,null,null,null,null,null,null,null,null,null,null,null,null,null,null,null,{"$f":"[1]Analyse!AC144","v":0}]
[null,null,null,null,null,null,null,null,null,null,null,null,null,null,null,null,null,null,null,null,null,null,null,null,null,null,null,null,null,null,{"$f":"[1]Analyse!AC145","v":"min"}]
[null,null,null,null,null,null,null,null,null,null,null,null,null,null,null,null,null,null,null,null,null,null,null,null,null,{"$f":"[1]Analyse!X146","v":{"$error":"#VALUE!"}},{"$f":"[1]Analyse!Y146","v":{"$error":"#VALUE!"}},{"$f":"[1]Analyse!Z146","v":{"$error":"#VALUE!"}},{"$f":"[1]Analyse!AA146","v":{"$error":"#VALUE!"}},{"$f":"[1]Analyse!AB146","v":{"$error":"#VALUE!"}},{"$f":"[1]Analyse!AC146","v":{"$error":"#VALUE!"}}]
[null,null,null,null,null,null,null,null,null,null,null,null,null,null,null,null,null,null,null,null,null,null,null,null,null,{"$f":"[1]Analyse!X147","v":{"$error":"#VALUE!"}},{"$f":"[1]Analyse!Y147","v":{"$error":"#VALUE!"}},{"$f":"[1]Analyse!Z147","v":{"$error":"#VALUE!"}},{"$f":"[1]Analyse!AA147","v":{"$error":"#VALUE!"}},{"$f":"[1]Analyse!AB147","v":{"$error":"#VALUE!"}},{"$f":"[1]Analyse!AC147","v":{"$error":"#VALUE!"}}]
[null,null,null,null,null,null,null,null,null,null,null,null,null,null,null,null,null,null,null,null,null,null,null,null,null,{"$f":"[1]Analyse!X148","v":{"$error":"#VALUE!"}},{"$f":"[1]Analyse!Y148","v":{"$error":"#VALUE!"}},{"$f":"[1]Analyse!Z148","v":{"$error":"#VALUE!"}},{"$f":"[1]Analyse!AA148","v":{"$error":"#VALUE!"}},{"$f":"[1]Analyse!AB148","v":{"$error":"#VALUE!"}},{"$f":"[1]Analyse!AC148","v":{"$error":"#VALUE!"}}]
[null,null,null,null,null,null,null,null,null,null,null,null,null,null,null,null,null,null,null,null,null,null,null,null,null,{"$f":"[1]Analyse!X149","v":{"$error":"#VALUE!"}},{"$f":"[1]Analyse!Y149","v":{"$error":"#VALUE!"}},{"$f":"[1]Analyse!Z149","v":{"$error":"#VALUE!"}},{"$f":"[1]Analyse!AA149","v":{"$error":"#VALUE!"}},{"$f":"[1]Analyse!AB149","v":{"$error":"#VALUE!"}},{"$f":"[1]Analyse!AC149","v":{"$error":"#VALUE!"}}]
[null,null,null,null,null,null,null,null,null,null,null,null,null,null,null,null,null,null,null,null,null,null,null,null,null,{"$f":"[1]Analyse!X150","v":{"$error":"#VALUE!"}},{"$f":"[1]Analyse!Y150","v":{"$error":"#VALUE!"}},{"$f":"[1]Analyse!Z150","v":{"$error":"#VALUE!"}},{"$f":"[1]Analyse!AA150","v":{"$error":"#VALUE!"}},{"$f":"[1]Analyse!AB150","v":{"$error":"#VALUE!"}},{"$f":"[1]Analyse!AC150","v":{"$error":"#VALUE!"}}]
[null,null,null,null,null,null,null,null,null,null,null,null,null,null,null,null,null,null,null,null,null,null,null,null,null,{"$f":"[1]Analyse!X151","v":{"$error":"#VALUE!"}},{"$f":"[1]Analyse!Y151","v":{"$error":"#VALUE!"}},{"$f":"[1]Analyse!Z151","v":{"$error":"#VALUE!"}},{"$f":"[1]Analyse!AA151","v":{"$error":"#VALUE!"}},{"$f":"[1]Analyse!AB151","v":{"$error":"#VALUE!"}},{"$f":"[1]Analyse!AC151","v":{"$error":"#VALUE!"}}]
[null,null,null,null,null,null,null,null,null,null,null,null,null,null,null,null,null,null,null,null,null,null,null,null,null,{"$f":"[1]Analyse!X152","v":{"$error":"#VALUE!"}},{"$f":"[1]Analyse!Y152","v":{"$error":"#VALUE!"}},{"$f":"[1]Analyse!Z152","v":{"$error":"#VALUE!"}},{"$f":"[1]Analyse!AA152","v":{"$error":"#VALUE!"}},{"$f":"[1]Analyse!AB152","v":{"$error":"#VALUE!"}},{"$f":"[1]Analyse!AC152","v":{"$error":"#VALUE!"}}]
[null,null,null,null,null,null,null,null,null,null,null,null,null,null,null,null,null,null,null,null,null,null,null,null,null,{"$f":"[1]Analyse!X153","v":{"$error":"#VALUE!"}},{"$f":"[1]Analyse!Y153","v":{"$error":"#VALUE!"}},{"$f":"[1]Analyse!Z153","v":{"$error":"#VALUE!"}},{"$f":"[1]Analyse!AA153","v":{"$error":"#VALUE!"}},{"$f":"[1]Analyse!AB153","v":{"$error":"#VALUE!"}},{"$f":"[1]Analyse!AC153","v":{"$error":"#VALUE!"}}]
[null,null,null,null,null,null,null,null,null,null,null,null,null,null,null,null,null,null,null,null,null,null,null,null,null,{"$f":"[1]Analyse!X154","v":{"$error":"#VALUE!"}},{"$f":"[1]Analyse!Y154","v":{"$error":"#VALUE!"}},{"$f":"[1]Analyse!Z154","v":{"$error":"#VALUE!"}},{"$f":"[1]Analyse!AA154","v":{"$error":"#VALUE!"}},{"$f":"[1]Analyse!AB154","v":{"$error":"#VALUE!"}},{"$f":"[1]Analyse!AC154","v":{"$error":"#VALUE!"}}]
[null,null,null,null,null,null,null,null,null,null,null,null,null,null,null,null,null,null,null,null,null,null,null,null,null,{"$f":"[1]Analyse!X155","v":{"$error":"#VALUE!"}},{"$f":"[1]Analyse!Y155","v":{"$error":"#VALUE!"}},{"$f":"[1]Analyse!Z155","v":{"$error":"#VALUE!"}},{"$f":"[1]Analyse!AA155","v":{"$error":"#VALUE!"}},{"$f":"[1]Analyse!AB155","v":{"$error":"#VALUE!"}},{"$f":"[1]Analyse!AC155","v":{"$error":"#VALUE!"}}]
[null,null,null,null,null,null,null,null,null,null,null,null,null,null,null,null,null,null,null,null,null,null,null,null,null,{"$f":"[1]Analyse!X156","v":{"$error":"#VALUE!"}},{"$f":"[1]Analyse!Y156","v":{"$error":"#VALUE!"}},{"$f":"[1]Analyse!Z156","v":{"$error":"#VALUE!"}},{"$f":"[1]Analyse!AA156","v":{"$error":"#VALUE!"}},{"$f":"[1]Analyse!AB156","v":{"$error":"#VALUE!"}},{"$f":"[1]Analyse!AC156","v":{"$error":"#VALUE!"}}]
[null,null,null,null,null,null,null,null,null,null,null,null,null,null,null,null,null,null,null,null,null,null,null,null,null,{"$f":"[1]Analyse!X157","v":{"$error":"#VALUE!"}},{"$f":"[1]Analyse!Y157","v":{"$error":"#VALUE!"}},{"$f":"[1]Analyse!Z157","v":{"$error":"#VALUE!"}},{"$f":"[1]Analyse!AA157","v":{"$error":"#VALUE!"}},{"$f":"[1]Analyse!AB157","v":{"$error":"#VALUE!"}},{"$f":"[1]Analyse!AC157","v":{"$error":"#VALUE!"}}]
[null,null,null,null,null,null,null,null,null,null,null,null,null,null,null,null,null,null,null,null,null,null,null,null,null,{"$f":"[1]Analyse!X158","v":{"$error":"#VALUE!"}},{"$f":"[1]Analyse!Y158","v":{"$error":"#VALUE!"}},{"$f":"[1]Analyse!Z158","v":{"$error":"#VALUE!"}},{"$f":"[1]Analyse!AA158","v":{"$error":"#VALUE!"}},{"$f":"[1]Analyse!AB158","v":{"$error":"#VALUE!"}},{"$f":"[1]Analyse!AC158","v":{"$error":"#VALUE!"}}]
[null,null,null,null,null,null,null,null,null,null,null,null,null,null,null,null,null,null,null,null,null,null,null,null,null,{"$f":"[1]Analyse!X159","v":{"$error":"#VALUE!"}},{"$f":"[1]Analyse!Y159","v":{"$error":"#VALUE!"}},{"$f":"[1]Analyse!Z159","v":{"$error":"#VALUE!"}},{"$f":"[1]Analyse!AA159","v":{"$error":"#VALUE!"}},{"$f":"[1]Analyse!AB159","v":{"$error":"#VALUE!"}},{"$f":"[1]Analyse!AC159","v":{"$error":"#VALUE!"}}]
[null,null,null,null,null,null,null,null,null,null,null,null,null,null,null,null,null,null,null,null,null,null,null,null,null,{"$f":"[1]Analyse!X160","v":{"$error":"#VALUE!"}},{"$f":"[1]Analyse!Y160","v":{"$error":"#VALUE!"}},{"$f":"[1]Analyse!Z160","v":{"$error":"#VALUE!"}},{"$f":"[1]Analyse!AA160","v":{"$error":"#VALUE!"}},{"$f":"[1]Analyse!AB160","v":{"$error":"#VALUE!"}},{"$f":"[1]Analyse!AC160","v":{"$error":"#VALUE!"}}]
[null,null,null,null,null,null,null,null,null,null,null,null,null,null,null,null,null,null,null,null,null,null,null,null,null,{"$f":"[1]Analyse!X161","v":{"$error":"#VALUE!"}},{"$f":"[1]Analyse!Y161","v":{"$error":"#VALUE!"}},{"$f":"[1]Analyse!Z161","v":{"$error":"#VALUE!"}},{"$f":"[1]Analyse!AA161","v":{"$error":"#VALUE!"}},{"$f":"[1]Analyse!AB161","v":{"$error":"#VALUE!"}},{"$f":"[1]Analyse!AC161","v":{"$error":"#VALUE!"}}]
[null,null,null,null,null,null,null,null,null,null,null,null,null,null,null,null,null,null,null,null,null,null,null,null,null,{"$f":"[1]Analyse!X162","v":{"$error":"#VALUE!"}},{"$f":"[1]Analyse!Y162","v":{"$error":"#VALUE!"}},{"$f":"[1]Analyse!Z162","v":{"$error":"#VALUE!"}},{"$f":"[1]Analyse!AA162","v":{"$error":"#VALUE!"}},{"$f":"[1]Analyse!AB162","v":{"$error":"#VALUE!"}},{"$f":"[1]Analyse!AC162","v":{"$error":"#VALUE!"}}]
[null,null,null,null,null,null,null,null,null,null,null,null,null,null,null,null,null,null,null,null,null,null,null,null,null,{"$f":"[1]Analyse!X163","v":{"$error":"#VALUE!"}},{"$f":"[1]Analyse!Y163","v":{"$error":"#VALUE!"}},{"$f":"[1]Analyse!Z163","v":{"$error":"#VALUE!"}},{"$f":"[1]Analyse!AA163","v":{"$error":"#VALUE!"}},{"$f":"[1]Analyse!AB163","v":{"$error":"#VALUE!"}},{"$f":"[1]Analyse!AC163","v":{"$error":"#VALUE!"}}]
[null,null,null,null,null,null,null,null,null,null,null,null,null,null,null,null,null,null,null,null,null,null,null,null,null,{"$f":"[1]Analyse!X164","v":{"$error":"#VALUE!"}},{"$f":"[1]Analyse!Y164","v":{"$error":"#VALUE!"}},{"$f":"[1]Analyse!Z164","v":{"$error":"#VALUE!"}},{"$f":"[1]Analyse!AA164","v":{"$error":"#VALUE!"}},{"$f":"[1]Analyse!AB164","v":{"$error":"#VALUE!"}},{"$f":"[1]Analyse!AC164","v":{"$error":"#VALUE!"}}]
[null,null,null,null,null,null,null,null,null,null,null,null,null,null,null,null,null,null,null,null,null,null,null,null,null,{"$f":"[1]Analyse!X165","v":{"$error":"#VALUE!"}},{"$f":"[1]Analyse!Y165","v":{"$error":"#VALUE!"}},{"$f":"[1]Analyse!Z165","v":{"$error":"#VALUE!"}},{"$f":"[1]Analyse!AA165","v":{"$error":"#VALUE!"}},{"$f":"[1]Analyse!AB165","v":{"$error":"#VALUE!"}},{"$f":"[1]Analyse!AC165","v":{"$error":"#VALUE!"}}]
[null,null,null,null,null,null,null,null,null,null,null,null,null,null,null,null,null,null,null,null,null,null,null,null,null,{"$f":"[1]Analyse!X166","v":{"$error":"#VALUE!"}},{"$f":"[1]Analyse!Y166","v":{"$error":"#VALUE!"}},{"$f":"[1]Analyse!Z166","v":{"$error":"#VALUE!"}},{"$f":"[1]Analyse!AA166","v":{"$error":"#VALUE!"}},{"$f":"[1]Analyse!AB166","v":{"$error":"#VALUE!"}},{"$f":"[1]Analyse!AC166","v":{"$error":"#VALUE!"}}]
[null,null,null,null,null,null,null,null,null,null,null,null,null,null,null,null,null,null,null,null,null,null,null,null,null,{"$f":"[1]Analyse!X167","v":{"$error":"#VALUE!"}},{"$f":"[1]Analyse!Y167","v":{"$error":"#VALUE!"}},{"$f":"[1]Analyse!Z167","v":{"$error":"#VALUE!"}},{"$f":"[1]Analyse!AA167","v":{"$error":"#VALUE!"}},{"$f":"[1]Analyse!AB167","v":{"$error":"#VALUE!"}},{"$f":"[1]Analyse!AC167","v":{"$error":"#VALUE!"}}]
[null,null,null,null,null,null,null,null,null,null,null,null,null,null,null,null,null,null,null,null,null,null,null,null,null,{"$f":"[1]Analyse!X168","v":{"$error":"#VALUE!"}},{"$f":"[1]Analyse!Y168","v":{"$error":"#VALUE!"}},{"$f":"[1]Analyse!Z168","v":{"$error":"#VALUE!"}},{"$f":"[1]Analyse!AA168","v":{"$error":"#VALUE!"}},{"$f":"[1]Analyse!AB168","v":{"$error":"#VALUE!"}},{"$f":"[1]Analyse!AC168","v":{"$error":"#VALUE!"}}]
[null,null,null,null,null,null,null,null,null,null,null,null,null,null,null,null,null,null,null,null,null,null,null,null,null,{"$f":"[1]Analyse!X169","v":{"$error":"#VALUE!"}},{"$f":"[1]Analyse!Y169","v":{"$error":"#VALUE!"}},{"$f":"[1]Analyse!Z169","v":{"$error":"#VALUE!"}},{"$f":"[1]Analyse!AA169","v":{"$error":"#VALUE!"}},{"$f":"[1]Analyse!AB169","v":{"$error":"#VALUE!"}},{"$f":"[1]Analyse!AC169","v":{"$error":"#VALUE!"}}]
[null,null,null,null,null,null,null,null,null,null,null,null,null,null,null,null,null,null,null,null,null,null,null,null,null,{"$f":"[1]Analyse!X170","v":{"$error":"#VALUE!"}},{"$f":"[1]Analyse!Y170","v":{"$error":"#VALUE!"}},{"$f":"[1]Analyse!Z170","v":{"$error":"#VALUE!"}},{"$f":"[1]Analyse!AA170","v":{"$error":"#VALUE!"}},{"$f":"[1]Analyse!AB170","v":{"$error":"#VALUE!"}},{"$f":"[1]Analyse!AC170","v":{"$error":"#VALUE!"}}]
[null,null,null,null,null,null,null,null,null,null,null,null,null,null,null,null,null,null,null,null,null,null,null,null,null,{"$f":"[1]Analyse!X171","v":{"$error":"#VALUE!"}},{"$f":"[1]Analyse!Y171","v":{"$error":"#VALUE!"}},{"$f":"[1]Analyse!Z171","v":{"$error":"#VALUE!"}},{"$f":"[1]Analyse!AA171","v":{"$error":"#VALUE!"}},{"$f":"[1]Analyse!AB171","v":{"$error":"#VALUE!"}},{"$f":"[1]Analyse!AC171","v":{"$error":"#VALUE!"}}]
[null,null,null,null,null,null,null,null,null,null,null,null,null,null,null,null,null,null,null,null,null,null,null,null,null,{"$f":"[1]Analyse!X172","v":{"$error":"#VALUE!"}},{"$f":"[1]Analyse!Y172","v":{"$error":"#VALUE!"}},{"$f":"[1]Analyse!Z172","v":{"$error":"#VALUE!"}},{"$f":"[1]Analyse!AA172","v":{"$error":"#VALUE!"}},{"$f":"[1]Analyse!AB172","v":{"$error":"#VALUE!"}},{"$f":"[1]Analyse!AC172","v":{"$error":"#VALUE!"}}]
[null,null,null,null,null,null,null,null,null,null,null,null,null,null,null,null,null,null,null,null,null,null,null,null,null,{"$f":"[1]Analyse!X173","v":{"$error":"#VALUE!"}},{"$f":"[1]Analyse!Y173","v":{"$error":"#VALUE!"}},{"$f":"[1]Analyse!Z173","v":{"$error":"#VALUE!"}},{"$f":"[1]Analyse!AA173","v":{"$error":"#VALUE!"}},{"$f":"[1]Analyse!AB173","v":{"$error":"#VALUE!"}},{"$f":"[1]Analyse!AC173","v":{"$error":"#VALUE!"}}]
[null,null,null,null,null,null,null,null,null,null,null,null,null,null,null,null,null,null,null,null,null,null,null,null,null,{"$f":"[1]Analyse!X174","v":{"$error":"#VALUE!"}},{"$f":"[1]Analyse!Y174","v":{"$error":"#VALUE!"}},{"$f":"[1]Analyse!Z174","v":{"$error":"#VALUE!"}},{"$f":"[1]Analyse!AA174","v":{"$error":"#VALUE!"}},{"$f":"[1]Analyse!AB174","v":{"$error":"#VALUE!"}},{"$f":"[1]Analyse!AC174","v":{"$error":"#VALUE!"}}]
[null,null,null,null,null,null,null,null,null,null,null,null,null,null,null,null,null,null,null,null,null,null,null,null,null,{"$f":"[1]Analyse!X175","v":{"$error":"#VALUE!"}},{"$f":"[1]Analyse!Y175","v":{"$error":"#VALUE!"}},{"$f":"[1]Analyse!Z175","v":{"$error":"#VALUE!"}},{"$f":"[1]Analyse!AA175","v":{"$error":"#VALUE!"}},{"$f":"[1]Analyse!AB175","v":{"$error":"#VALUE!"}},{"$f":"[1]Analyse!AC175","v":{"$error":"#VALUE!"}}]
[null,null,null,null,null,null,null,null,null,null,null,null,null,null,null,null,null,null,null,null,null,null,null,null,null,{"$f":"[1]Analyse!X176","v":{"$error":"#VALUE!"}},{"$f":"[1]Analyse!Y176","v":{"$error":"#VALUE!"}},{"$f":"[1]Analyse!Z176","v":{"$error":"#VALUE!"}},{"$f":"[1]Analyse!AA176","v":{"$error":"#VALUE!"}},{"$f":"[1]Analyse!AB176","v":{"$error":"#VALUE!"}},{"$f":"[1]Analyse!AC176","v":{"$error":"#VALUE!"}}]
[null,null,null,null,null,null,null,null,null,null,null,null,null,null,null,null,null,null,null,null,null,null,null,null,null,{"$f":"[1]Analyse!X177","v":{"$error":"#VALUE!"}},{"$f":"[1]Analyse!Y177","v":{"$error":"#VALUE!"}},{"$f":"[1]Analyse!Z177","v":{"$error":"#VALUE!"}},{"$f":"[1]Analyse!AA177","v":{"$error":"#VALUE!"}},{"$f":"[1]Analyse!AB177","v":{"$error":"#VALUE!"}},{"$f":"[1]Analyse!AC177","v":{"$error":"#VALUE!"}}]
[null,null,null,null,null,null,null,null,null,null,null,null,null,null,null,null,null,null,null,null,null,null,null,null,null,{"$f":"[1]Analyse!X178","v":{"$error":"#VALUE!"}},{"$f":"[1]Analyse!Y178","v":{"$error":"#VALUE!"}},{"$f":"[1]Analyse!Z178","v":{"$error":"#VALUE!"}},{"$f":"[1]Analyse!AA178","v":{"$error":"#VALUE!"}},{"$f":"[1]Analyse!AB178","v":{"$error":"#VALUE!"}},{"$f":"[1]Analyse!AC178","v":{"$error":"#VALUE!"}}]
[null,null,null,null,null,null,null,null,null,null,null,null,null,null,null,null,null,null,null,null,null,null,null,null,null,{"$f":"[1]Analyse!X179","v":{"$error":"#VALUE!"}},{"$f":"[1]Analyse!Y179","v":{"$error":"#VALUE!"}},{"$f":"[1]Analyse!Z179","v":{"$error":"#VALUE!"}},{"$f":"[1]Analyse!AA179","v":{"$error":"#VALUE!"}},{"$f":"[1]Analyse!AB179","v":{"$error":"#VALUE!"}},{"$f":"[1]Analyse!AC179","v":{"$error":"#VALUE!"}}]
[null,null,null,null,null,null,null,null,null,null,null,null,null,null,null,null,null,null,null,null,null,null,null,null,null,{"$f":"[1]Analyse!X180","v":{"$error":"#VALUE!"}},{"$f":"[1]Analyse!Y180","v":{"$error":"#VALUE!"}},{"$f":"[1]Analyse!Z180","v":{"$error":"#VALUE!"}},{"$f":"[1]Analyse!AA180","v":{"$error":"#VALUE!"}},{"$f":"[1]Analyse!AB180","v":{"$error":"#VALUE!"}},{"$f":"[1]Analyse!AC180","v":{"$error":"#VALUE!"}}]
[null,null,null,null,null,null,null,null,null,null,null,null,null,null,null,null,null,null,null,null,null,null,null,null,null,{"$f":"[1]Analyse!X181","v":{"$error":"#VALUE!"}},{"$f":"[1]Analyse!Y181","v":{"$error":"#VALUE!"}},{"$f":"[1]Analyse!Z181","v":{"$error":"#VALUE!"}},{"$f":"[1]Analyse!AA181","v":{"$error":"#VALUE!"}},{"$f":"[1]Analyse!AB181","v":{"$error":"#VALUE!"}},{"$f":"[1]Analyse!AC181","v":{"$error":"#VALUE!"}}]
[null,null,null,null,null,null,null,null,null,null,null,null,null,null,null,null,null,null,null,null,null,null,null,null,null,{"$f":"[1]Analyse!X182","v":{"$error":"#VALUE!"}},{"$f":"[1]Analyse!Y182","v":{"$error":"#VALUE!"}},{"$f":"[1]Analyse!Z182","v":{"$error":"#VALUE!"}},{"$f":"[1]Analyse!AA182","v":{"$error":"#VALUE!"}},{"$f":"[1]Analyse!AB182","v":{"$error":"#VALUE!"}},{"$f":"[1]Analyse!AC182","v":{"$error":"#VALUE!"}}]
[null,null,null,null,null,null,null,null,null,null,null,null,null,null,null,null,null,null,null,null,null,null,null,null,null,{"$f":"[1]Analyse!X183","v":{"$error":"#VALUE!"}},{"$f":"[1]Analyse!Y183","v":{"$error":"#VALUE!"}},{"$f":"[1]Analyse!Z183","v":{"$error":"#VALUE!"}},{"$f":"[1]Analyse!AA183","v":{"$error":"#VALUE!"}},{"$f":"[1]Analyse!AB183","v":{"$error":"#VALUE!"}},{"$f":"[1]Analyse!AC183","v":{"$error":"#VALUE!"}}]
[null,null,null,null,null,null,null,null,null,null,null,null,null,null,null,null,null,null,null,null,null,null,null,null,null,{"$f":"[1]Analyse!X184","v":{"$error":"#VALUE!"}},{"$f":"[1]Analyse!Y184","v":{"$error":"#VALUE!"}},{"$f":"[1]Analyse!Z184","v":{"$error":"#VALUE!"}},{"$f":"[1]Analyse!AA184","v":{"$error":"#VALUE!"}},{"$f":"[1]Analyse!AB184","v":{"$error":"#VALUE!"}},{"$f":"[1]Analyse!AC184","v":{"$error":"#VALUE!"}}]
[null,null,null,null,null,null,null,null,null,null,null,null,null,null,null,null,null,null,null,null,null,null,null,null,null,{"$f":"[1]Analyse!X185","v":{"$error":"#VALUE!"}},{"$f":"[1]Analyse!Y185","v":{"$error":"#VALUE!"}},{"$f":"[1]Analyse!Z185","v":{"$error":"#VALUE!"}},{"$f":"[1]Analyse!AA185","v":{"$error":"#VALUE!"}},{"$f":"[1]Analyse!AB185","v":{"$error":"#VALUE!"}},{"$f":"[1]Analyse!AC185","v":{"$error":"#VALUE!"}}]
[null,null,null,null,null,null,null,null,null,null,null,null,null,null,null,null,null,null,null,null,null,null,null,null,null,{"$f":"[1]Analyse!X186","v":{"$error":"#VALUE!"}},{"$f":"[1]Analyse!Y186","v":{"$error":"#VALUE!"}},{"$f":"[1]Analyse!Z186","v":{"$error":"#VALUE!"}},{"$f":"[1]Analyse!AA186","v":{"$error":"#VALUE!"}},{"$f":"[1]Analyse!AB186","v":{"$error":"#VALUE!"}},{"$f":"[1]Analyse!AC186","v":{"$error":"#VALUE!"}}]
[null,null,null,null,null,null,null,null,null,null,null,null,null,null,null,null,null,null,null,null,null,null,null,null,null,{"$f":"[1]Analyse!X187","v":{"$error":"#VALUE!"}},{"$f":"[1]Analyse!Y187","v":{"$error":"#VALUE!"}},{"$f":"[1]Analyse!Z187","v":{"$error":"#VALUE!"}},{"$f":"[1]Analyse!AA187","v":{"$error":"#VALUE!"}},{"$f":"[1]Analyse!AB187","v":{"$error":"#VALUE!"}},{"$f":"[1]Analyse!AC187","v":{"$error":"#VALUE!"}}]
[null,null,null,null,null,null,null,null,null,null,null,null,null,null,null,null,null,null,null,null,null,null,null,null,null,{"$f":"[1]Analyse!X188","v":{"$error":"#VALUE!"}},{"$f":"[1]Analyse!Y188","v":{"$error":"#VALUE!"}},{"$f":"[1]Analyse!Z188","v":{"$error":"#VALUE!"}},{"$f":"[1]Analyse!AA188","v":{"$error":"#VALUE!"}},{"$f":"[1]Analyse!AB188","v":{"$error":"#VALUE!"}},{"$f":"[1]Analyse!AC188","v":{"$error":"#VALUE!"}}]
[null,null,null,null,null,null,null,null,null,null,null,null,null,null,null,null,null,null,null,null,null,null,null,null,null,{"$f":"[1]Analyse!X189","v":{"$error":"#VALUE!"}},{"$f":"[1]Analyse!Y189","v":{"$error":"#VALUE!"}},{"$f":"[1]Analyse!Z189","v":{"$error":"#VALUE!"}},{"$f":"[1]Analyse!AA189","v":{"$error":"#VALUE!"}},{"$f":"[1]Analyse!AB189","v":{"$error":"#VALUE!"}},{"$f":"[1]Analyse!AC189","v":{"$error":"#VALUE!"}}]
[null,null,null,null,null,null,null,null,null,null,null,null,null,null,null,null,null,null,null,null,null,null,null,null,null,null,null,null,null,null,{"$f":"[1]Analyse!AC190","v":0}]
[null,null,null,null,null,null,null,null,null,null,null,null,null,null,null,null,null,null,null,null,null,null,null,null,null,null,null,null,null,null,{"$f":"[1]Analyse!AC191","v":0}]
[null,null,null,null,null,null,null,null,null,null,null,null,null,null,null,null,null,null,null,null,null,null,null,null,null,null,null,null,null,null,{"$f":"[1]Analyse!AC192","v":"min"}]
[null,null,null,null,null,null,null,null,null,null,null,null,null,null,null,null,null,null,null,null,null,null,null,null,null,{"$f":"[1]Analyse!X193","v":{"$error":"#VALUE!"}},{"$f":"[1]Analyse!Y193","v":{"$error":"#VALUE!"}},{"$f":"[1]Analyse!Z193","v":{"$error":"#VALUE!"}},{"$f":"[1]Analyse!AA193","v":{"$error":"#VALUE!"}},{"$f":"[1]Analyse!AB193","v":{"$error":"#VALUE!"}},{"$f":"[1]Analyse!AC193","v":{"$error":"#VALUE!"}}]
[null,null,null,null,null,null,null,null,null,null,null,null,null,null,null,null,null,null,null,null,null,null,null,null,null,{"$f":"[1]Analyse!X194","v":{"$error":"#VALUE!"}},{"$f":"[1]Analyse!Y194","v":{"$error":"#VALUE!"}},{"$f":"[1]Analyse!Z194","v":{"$error":"#VALUE!"}},{"$f":"[1]Analyse!AA194","v":{"$error":"#VALUE!"}},{"$f":"[1]Analyse!AB194","v":{"$error":"#VALUE!"}},{"$f":"[1]Analyse!AC194","v":{"$error":"#VALUE!"}}]
[null,null,null,null,null,null,null,null,null,null,null,null,null,null,null,null,null,null,null,null,null,null,null,null,null,{"$f":"[1]Analyse!X195","v":{"$error":"#VALUE!"}},{"$f":"[1]Analyse!Y195","v":{"$error":"#VALUE!"}},{"$f":"[1]Analyse!Z195","v":{"$error":"#VALUE!"}},{"$f":"[1]Analyse!AA195","v":{"$error":"#VALUE!"}},{"$f":"[1]Analyse!AB195","v":{"$error":"#VALUE!"}},{"$f":"[1]Analyse!AC195","v":{"$error":"#VALUE!"}}]
[null,null,null,null,null,null,null,null,null,null,null,null,null,null,null,null,null,null,null,null,null,null,null,null,null,{"$f":"[1]Analyse!X196","v":{"$error":"#VALUE!"}},{"$f":"[1]Analyse!Y196","v":{"$error":"#VALUE!"}},{"$f":"[1]Analyse!Z196","v":{"$error":"#VALUE!"}},{"$f":"[1]Analyse!AA196","v":{"$error":"#VALUE!"}},{"$f":"[1]Analyse!AB196","v":{"$error":"#VALUE!"}},{"$f":"[1]Analyse!AC196","v":{"$error":"#VALUE!"}}]
[null,null,null,null,null,null,null,null,null,null,null,null,null,null,null,null,null,null,null,null,null,null,null,null,null,{"$f":"[1]Analyse!X197","v":{"$error":"#VALUE!"}},{"$f":"[1]Analyse!Y197","v":{"$error":"#VALUE!"}},{"$f":"[1]Analyse!Z197","v":{"$error":"#VALUE!"}},{"$f":"[1]Analyse!AA197","v":{"$error":"#VALUE!"}},{"$f":"[1]Analyse!AB197","v":{"$error":"#VALUE!"}},{"$f":"[1]Analyse!AC197","v":{"$error":"#VALUE!"}}]
[null,null,null,null,null,null,null,null,null,null,null,null,null,null,null,null,null,null,null,null,null,null,null,null,null,{"$f":"[1]Analyse!X198","v":{"$error":"#VALUE!"}},{"$f":"[1]Analyse!Y198","v":{"$error":"#VALUE!"}},{"$f":"[1]Analyse!Z198","v":{"$error":"#VALUE!"}},{"$f":"[1]Analyse!AA198","v":{"$error":"#VALUE!"}},{"$f":"[1]Analyse!AB198","v":{"$error":"#VALUE!"}},{"$f":"[1]Analyse!AC198","v":{"$error":"#VALUE!"}}]
[null,null,null,null,null,null,null,null,null,null,null,null,null,null,null,null,null,null,null,null,null,null,null,null,null,{"$f":"[1]Analyse!X199","v":{"$error":"#VALUE!"}},{"$f":"[1]Analyse!Y199","v":{"$error":"#VALUE!"}},{"$f":"[1]Analyse!Z199","v":{"$error":"#VALUE!"}},{"$f":"[1]Analyse!AA199","v":{"$error":"#VALUE!"}},{"$f":"[1]Analyse!AB199","v":{"$error":"#VALUE!"}},{"$f":"[1]Analyse!AC199","v":{"$error":"#VALUE!"}}]
[null,null,null,null,null,null,null,null,null,null,null,null,null,null,null,null,null,null,null,null,null,null,null,null,null,{"$f":"[1]Analyse!X200","v":{"$error":"#VALUE!"}},{"$f":"[1]Analyse!Y200","v":{"$error":"#VALUE!"}},{"$f":"[1]Analyse!Z200","v":{"$error":"#VALUE!"}},{"$f":"[1]Analyse!AA200","v":{"$error":"#VALUE!"}},{"$f":"[1]Analyse!AB200","v":{"$error":"#VALUE!"}},{"$f":"[1]Analyse!AC200","v":{"$error":"#VALUE!"}}]
[null,null,null,null,null,null,null,null,null,null,null,null,null,null,null,null,null,null,null,null,null,null,null,null,null,{"$f":"[1]Analyse!X201","v":{"$error":"#VALUE!"}},{"$f":"[1]Analyse!Y201","v":{"$error":"#VALUE!"}},{"$f":"[1]Analyse!Z201","v":{"$error":"#VALUE!"}},{"$f":"[1]Analyse!AA201","v":{"$error":"#VALUE!"}},{"$f":"[1]Analyse!AB201","v":{"$error":"#VALUE!"}},{"$f":"[1]Analyse!AC201","v":{"$error":"#VALUE!"}}]
[null,null,null,null,null,null,null,null,null,null,null,null,null,null,null,null,null,null,null,null,null,null,null,null,null,{"$f":"[1]Analyse!X202","v":{"$error":"#VALUE!"}},{"$f":"[1]Analyse!Y202","v":{"$error":"#VALUE!"}},{"$f":"[1]Analyse!Z202","v":{"$error":"#VALUE!"}},{"$f":"[1]Analyse!AA202","v":{"$error":"#VALUE!"}},{"$f":"[1]Analyse!AB202","v":{"$error":"#VALUE!"}},{"$f":"[1]Analyse!AC202","v":{"$error":"#VALUE!"}}]
[null,null,null,null,null,null,null,null,null,null,null,null,null,null,null,null,null,null,null,null,null,null,null,null,null,{"$f":"[1]Analyse!X203","v":{"$error":"#VALUE!"}},{"$f":"[1]Analyse!Y203","v":{"$error":"#VALUE!"}},{"$f":"[1]Analyse!Z203","v":{"$error":"#VALUE!"}},{"$f":"[1]Analyse!AA203","v":{"$error":"#VALUE!"}},{"$f":"[1]Analyse!AB203","v":{"$error":"#VALUE!"}},{"$f":"[1]Analyse!AC203","v":{"$error":"#VALUE!"}}]
[null,null,null,null,null,null,null,null,null,null,null,null,null,null,null,null,null,null,null,null,null,null,null,null,null,{"$f":"[1]Analyse!X204","v":{"$error":"#VALUE!"}},{"$f":"[1]Analyse!Y204","v":{"$error":"#VALUE!"}},{"$f":"[1]Analyse!Z204","v":{"$error":"#VALUE!"}},{"$f":"[1]Analyse!AA204","v":{"$error":"#VALUE!"}},{"$f":"[1]Analyse!AB204","v":{"$error":"#VALUE!"}},{"$f":"[1]Analyse!AC204","v":{"$error":"#VALUE!"}}]
[null,null,null,null,null,null,null,null,null,null,null,null,null,null,null,null,null,null,null,null,null,null,null,null,null,{"$f":"[1]Analyse!X205","v":{"$error":"#VALUE!"}},{"$f":"[1]Analyse!Y205","v":{"$error":"#VALUE!"}},{"$f":"[1]Analyse!Z205","v":{"$error":"#VALUE!"}},{"$f":"[1]Analyse!AA205","v":{"$error":"#VALUE!"}},{"$f":"[1]Analyse!AB205","v":{"$error":"#VALUE!"}},{"$f":"[1]Analyse!AC205","v":{"$error":"#VALUE!"}}]
[null,null,null,null,null,null,null,null,null,null,null,null,null,null,null,null,null,null,null,null,null,null,null,null,null,{"$f":"[1]Analyse!X206","v":{"$error":"#VALUE!"}},{"$f":"[1]Analyse!Y206","v":{"$error":"#VALUE!"}},{"$f":"[1]Analyse!Z206","v":{"$error":"#VALUE!"}},{"$f":"[1]Analyse!AA206","v":{"$error":"#VALUE!"}},{"$f":"[1]Analyse!AB206","v":{"$error":"#VALUE!"}},{"$f":"[1]Analyse!AC206","v":{"$error":"#VALUE!"}}]
[null,null,null,null,null,null,null,null,null,null,null,null,null,null,null,null,null,null,null,null,null,null,null,null,null,{"$f":"[1]Analyse!X207","v":{"$error":"#VALUE!"}},{"$f":"[1]Analyse!Y207","v":{"$error":"#VALUE!"}},{"$f":"[1]Analyse!Z207","v":{"$error":"#VALUE!"}},{"$f":"[1]Analyse!AA207","v":{"$error":"#VALUE!"}},{"$f":"[1]Analyse!AB207","v":{"$error":"#VALUE!"}},{"$f":"[1]Analyse!AC207","v":{"$error":"#VALUE!"}}]
[null,null,null,null,null,null,null,null,null,null,null,null,null,null,null,null,null,null,null,null,null,null,null,null,null,{"$f":"[1]Analyse!X208","v":{"$error":"#VALUE!"}},{"$f":"[1]Analyse!Y208","v":{"$error":"#VALUE!"}},{"$f":"[1]Analyse!Z208","v":{"$error":"#VALUE!"}},{"$f":"[1]Analyse!AA208","v":{"$error":"#VALUE!"}},{"$f":"[1]Analyse!AB208","v":{"$error":"#VALUE!"}},{"$f":"[1]Analyse!AC208","v":{"$error":"#VALUE!"}}]
[null,null,null,null,null,null,null,null,null,null,null,null,null,null,null,null,null,null,null,null,null,null,null,null,null,{"$f":"[1]Analyse!X209","v":{"$error":"#VALUE!"}},{"$f":"[1]Analyse!Y209","v":{"$error":"#VALUE!"}},{"$f":"[1]Analyse!Z209","v":{"$error":"#VALUE!"}},{"$f":"[1]Analyse!AA209","v":{"$error":"#VALUE!"}},{"$f":"[1]Analyse!AB209","v":{"$error":"#VALUE!"}},{"$f":"[1]Analyse!AC209","v":{"$error":"#VALUE!"}}]
[null,null,null,null,null,null,null,null,null,null,null,null,null,null,null,null,null,null,null,null,null,null,null,null,null,{"$f":"[1]Analyse!X210","v":{"$error":"#VALUE!"}},{"$f":"[1]Analyse!Y210","v":{"$error":"#VALUE!"}},{"$f":"[1]Analyse!Z210","v":{"$error":"#VALUE!"}},{"$f":"[1]Analyse!AA210","v":{"$error":"#VALUE!"}},{"$f":"[1]Analyse!AB210","v":{"$error":"#VALUE!"}},{"$f":"[1]Analyse!AC210","v":{"$error":"#VALUE!"}}]
[null,null,null,null,null,null,null,null,null,null,null,null,null,null,null,null,null,null,null,null,null,null,null,null,null,{"$f":"[1]Analyse!X211","v":{"$error":"#VALUE!"}},{"$f":"[1]Analyse!Y211","v":{"$error":"#VALUE!"}},{"$f":"[1]Analyse!Z211","v":{"$error":"#VALUE!"}},{"$f":"[1]Analyse!AA211","v":{"$error":"#VALUE!"}},{"$f":"[1]Analyse!AB211","v":{"$error":"#VALUE!"}},{"$f":"[1]Analyse!AC211","v":{"$error":"#VALUE!"}}]
[null,null,null,null,null,null,null,null,null,null,null,null,null,null,null,null,null,null,null,null,null,null,null,null,null,{"$f":"[1]Analyse!X212","v":{"$error":"#VALUE!"}},{"$f":"[1]Analyse!Y212","v":{"$error":"#VALUE!"}},{"$f":"[1]Analyse!Z212","v":{"$error":"#VALUE!"}},{"$f":"[1]Analyse!AA212","v":{"$error":"#VALUE!"}},{"$f":"[1]Analyse!AB212","v":{"$error":"#VALUE!"}},{"$f":"[1]Analyse!AC212","v":{"$error":"#VALUE!"}}]
[null,null,null,null,null,null,null,null,null,null,null,null,null,null,null,null,null,null,null,null,null,null,null,null,null,{"$f":"[1]Analyse!X213","v":{"$error":"#VALUE!"}},{"$f":"[1]Analyse!Y213","v":{"$error":"#VALUE!"}},{"$f":"[1]Analyse!Z213","v":{"$error":"#VALUE!"}},{"$f":"[1]Analyse!AA213","v":{"$error":"#VALUE!"}},{"$f":"[1]Analyse!AB213","v":{"$error":"#VALUE!"}},{"$f":"[1]Analyse!AC213","v":{"$error":"#VALUE!"}}]
[null,null,null,null,null,null,null,null,null,null,null,null,null,null,null,null,null,null,null,null,null,null,null,null,null,{"$f":"[1]Analyse!X214","v":{"$error":"#VALUE!"}},{"$f":"[1]Analyse!Y214","v":{"$error":"#VALUE!"}},{"$f":"[1]Analyse!Z214","v":{"$error":"#VALUE!"}},{"$f":"[1]Analyse!AA214","v":{"$error":"#VALUE!"}},{"$f":"[1]Analyse!AB214","v":{"$error":"#VALUE!"}},{"$f":"[1]Analyse!AC214","v":{"$error":"#VALUE!"}}]
[null,null,null,null,null,null,null,null,null,null,null,null,null,null,null,null,null,null,null,null,null,null,null,null,null,{"$f":"[1]Analyse!X215","v":{"$error":"#VALUE!"}},{"$f":"[1]Analyse!Y215","v":{"$error":"#VALUE!"}},{"$f":"[1]Analyse!Z215","v":{"$error":"#VALUE!"}},{"$f":"[1]Analyse!AA215","v":{"$error":"#VALUE!"}},{"$f":"[1]Analyse!AB215","v":{"$error":"#VALUE!"}},{"$f":"[1]Analyse!AC215","v":{"$error":"#VALUE!"}}]
[null,null,null,null,null,null,null,null,null,null,null,null,null,null,null,null,null,null,null,null,null,null,null,null,null,{"$f":"[1]Analyse!X216","v":{"$error":"#VALUE!"}},{"$f":"[1]Analyse!Y216","v":{"$error":"#VALUE!"}},{"$f":"[1]Analyse!Z216","v":{"$error":"#VALUE!"}},{"$f":"[1]Analyse!AA216","v":{"$error":"#VALUE!"}},{"$f":"[1]Analyse!AB216","v":{"$error":"#VALUE!"}},{"$f":"[1]Analyse!AC216","v":{"$error":"#VALUE!"}}]
[null,null,null,null,null,null,null,null,null,null,null,null,null,null,null,null,null,null,null,null,null,null,null,null,null,{"$f":"[1]Analyse!X217","v":{"$error":"#VALUE!"}},{"$f":"[1]Analyse!Y217","v":{"$error":"#VALUE!"}},{"$f":"[1]Analyse!Z217","v":{"$error":"#VALUE!"}},{"$f":"[1]Analyse!AA217","v":{"$error":"#VALUE!"}},{"$f":"[1]Analyse!AB217","v":{"$error":"#VALUE!"}},{"$f":"[1]Analyse!AC217","v":{"$error":"#VALUE!"}}]
[null,null,null,null,null,null,null,null,null,null,null,null,null,null,null,null,null,null,null,null,null,null,null,null,null,{"$f":"[1]Analyse!X218","v":{"$error":"#VALUE!"}},{"$f":"[1]Analyse!Y218","v":{"$error":"#VALUE!"}},{"$f":"[1]Analyse!Z218","v":{"$error":"#VALUE!"}},{"$f":"[1]Analyse!AA218","v":{"$error":"#VALUE!"}},{"$f":"[1]Analyse!AB218","v":{"$error":"#VALUE!"}},{"$f":"[1]Analyse!AC218","v":{"$error":"#VALUE!"}}]
[null,null,null,null,null,null,null,null,null,null,null,null,null,null,null,null,null,null,null,null,null,null,null,null,null,{"$f":"[1]Analyse!X219","v":{"$error":"#VALUE!"}},{"$f":"[1]Analyse!Y219","v":{"$error":"#VALUE!"}},{"$f":"[1]Analyse!Z219","v":{"$error":"#VALUE!"}},{"$f":"[1]Analyse!AA219","v":{"$error":"#VALUE!"}},{"$f":"[1]Analyse!AB219","v":{"$error":"#VALUE!"}},{"$f":"[1]Analyse!AC219","v":{"$error":"#VALUE!"}}]
[null,null,null,null,null,null,null,null,null,null,null,null,null,null,null,null,null,null,null,null,null,null,null,null,null,{"$f":"[1]Analyse!X220","v":{"$error":"#VALUE!"}},{"$f":"[1]Analyse!Y220","v":{"$error":"#VALUE!"}},{"$f":"[1]Analyse!Z220","v":{"$error":"#VALUE!"}},{"$f":"[1]Analyse!AA220","v":{"$error":"#VALUE!"}},{"$f":"[1]Analyse!AB220","v":{"$error":"#VALUE!"}},{"$f":"[1]Analyse!AC220","v":{"$error":"#VALUE!"}}]
[null,null,null,null,null,null,null,null,null,null,null,null,null,null,null,null,null,null,null,null,null,null,null,null,null,{"$f":"[1]Analyse!X221","v":{"$error":"#VALUE!"}},{"$f":"[1]Analyse!Y221","v":{"$error":"#VALUE!"}},{"$f":"[1]Analyse!Z221","v":{"$error":"#VALUE!"}},{"$f":"[1]Analyse!AA221","v":{"$error":"#VALUE!"}},{"$f":"[1]Analyse!AB221","v":{"$error":"#VALUE!"}},{"$f":"[1]Analyse!AC221","v":{"$error":"#VALUE!"}}]
[null,null,null,null,null,null,null,null,null,null,null,null,null,null,null,null,null,null,null,null,null,null,null,null,null,{"$f":"[1]Analyse!X222","v":{"$error":"#VALUE!"}},{"$f":"[1]Analyse!Y222","v":{"$error":"#VALUE!"}},{"$f":"[1]Analyse!Z222","v":{"$error":"#VALUE!"}},{"$f":"[1]Analyse!AA222","v":{"$error":"#VALUE!"}},{"$f":"[1]Analyse!AB222","v":{"$error":"#VALUE!"}},{"$f":"[1]Analyse!AC222","v":{"$error":"#VALUE!"}}]
[null,null,null,null,null,null,null,null,null,null,null,null,null,null,null,null,null,null,null,null,null,null,null,null,null,{"$f":"[1]Analyse!X223","v":{"$error":"#VALUE!"}},{"$f":"[1]Analyse!Y223","v":{"$error":"#VALUE!"}},{"$f":"[1]Analyse!Z223","v":{"$error":"#VALUE!"}},{"$f":"[1]Analyse!AA223","v":{"$error":"#VALUE!"}},{"$f":"[1]Analyse!AB223","v":{"$error":"#VALUE!"}},{"$f":"[1]Analyse!AC223","v":{"$error":"#VALUE!"}}]
[null,null,null,null,null,null,null,null,null,null,null,null,null,null,null,null,null,null,null,null,null,null,null,null,null,{"$f":"[1]Analyse!X224","v":{"$error":"#VALUE!"}},{"$f":"[1]Analyse!Y224","v":{"$error":"#VALUE!"}},{"$f":"[1]Analyse!Z224","v":{"$error":"#VALUE!"}},{"$f":"[1]Analyse!AA224","v":{"$error":"#VALUE!"}},{"$f":"[1]Analyse!AB224","v":{"$error":"#VALUE!"}},{"$f":"[1]Analyse!AC224","v":{"$error":"#VALUE!"}}]
[null,null,null,null,null,null,null,null,null,null,null,null,null,null,null,null,null,null,null,null,null,null,null,null,null,{"$f":"[1]Analyse!X225","v":{"$error":"#VALUE!"}},{"$f":"[1]Analyse!Y225","v":{"$error":"#VALUE!"}},{"$f":"[1]Analyse!Z225","v":{"$error":"#VALUE!"}},{"$f":"[1]Analyse!AA225","v":{"$error":"#VALUE!"}},{"$f":"[1]Analyse!AB225","v":{"$error":"#VALUE!"}},{"$f":"[1]Analyse!AC225","v":{"$error":"#VALUE!"}}]
[null,null,null,null,null,null,null,null,null,null,null,null,null,null,null,null,null,null,null,null,null,null,null,null,null,{"$f":"[1]Analyse!X226","v":{"$error":"#VALUE!"}},{"$f":"[1]Analyse!Y226","v":{"$error":"#VALUE!"}},{"$f":"[1]Analyse!Z226","v":{"$error":"#VALUE!"}},{"$f":"[1]Analyse!AA226","v":{"$error":"#VALUE!"}},{"$f":"[1]Analyse!AB226","v":{"$error":"#VALUE!"}},{"$f":"[1]Analyse!AC226","v":{"$error":"#VALUE!"}}]
[null,null,null,null,null,null,null,null,null,null,null,null,null,null,null,null,null,null,null,null,null,null,null,null,null,{"$f":"[1]Analyse!X227","v":{"$error":"#VALUE!"}},{"$f":"[1]Analyse!Y227","v":{"$error":"#VALUE!"}},{"$f":"[1]Analyse!Z227","v":{"$error":"#VALUE!"}},{"$f":"[1]Analyse!AA227","v":{"$error":"#VALUE!"}},{"$f":"[1]Analyse!AB227","v":{"$error":"#VALUE!"}},{"$f":"[1]Analyse!AC227","v":{"$error":"#VALUE!"}}]
[null,null,null,null,null,null,null,null,null,null,null,null,null,null,null,null,null,null,null,null,null,null,null,null,null,{"$f":"[1]Analyse!X228","v":{"$error":"#VALUE!"}},{"$f":"[1]Analyse!Y228","v":{"$error":"#VALUE!"}},{"$f":"[1]Analyse!Z228","v":{"$error":"#VALUE!"}},{"$f":"[1]Analyse!AA228","v":{"$error":"#VALUE!"}},{"$f":"[1]Analyse!AB228","v":{"$error":"#VALUE!"}},{"$f":"[1]Analyse!AC228","v":{"$error":"#VALUE!"}}]
[null,null,null,null,null,null,null,null,null,null,null,null,null,null,null,null,null,null,null,null,null,null,null,null,null,{"$f":"[1]Analyse!X229","v":{"$error":"#VALUE!"}},{"$f":"[1]Analyse!Y229","v":{"$error":"#VALUE!"}},{"$f":"[1]Analyse!Z229","v":{"$error":"#VALUE!"}},{"$f":"[1]Analyse!AA229","v":{"$error":"#VALUE!"}},{"$f":"[1]Analyse!AB229","v":{"$error":"#VALUE!"}},{"$f":"[1]Analyse!AC229","v":{"$error":"#VALUE!"}}]
[null,null,null,null,null,null,null,null,null,null,null,null,null,null,null,null,null,null,null,null,null,null,null,null,null,{"$f":"[1]Analyse!X230","v":{"$error":"#VALUE!"}},{"$f":"[1]Analyse!Y230","v":{"$error":"#VALUE!"}},{"$f":"[1]Analyse!Z230","v":{"$error":"#VALUE!"}},{"$f":"[1]Analyse!AA230","v":{"$error":"#VALUE!"}},{"$f":"[1]Analyse!AB230","v":{"$error":"#VALUE!"}},{"$f":"[1]Analyse!AC230","v":{"$error":"#VALUE!"}}]
[null,null,null,null,null,null,null,null,null,null,null,null,null,null,null,null,null,null,null,null,null,null,null,null,null,{"$f":"[1]Analyse!X231","v":{"$error":"#VALUE!"}},{"$f":"[1]Analyse!Y231","v":{"$error":"#VALUE!"}},{"$f":"[1]Analyse!Z231","v":{"$error":"#VALUE!"}},{"$f":"[1]Analyse!AA231","v":{"$error":"#VALUE!"}},{"$f":"[1]Analyse!AB231","v":{"$error":"#VALUE!"}},{"$f":"[1]Analyse!AC231","v":{"$error":"#VALUE!"}}]
[null,null,null,null,null,null,null,null,null,null,null,null,null,null,null,null,null,null,null,null,null,null,null,null,null,{"$f":"[1]Analyse!X232","v":{"$error":"#VALUE!"}},{"$f":"[1]Analyse!Y232","v":{"$error":"#VALUE!"}},{"$f":"[1]Analyse!Z232","v":{"$error":"#VALUE!"}},{"$f":"[1]Analyse!AA232","v":{"$error":"#VALUE!"}},{"$f":"[1]Analyse!AB232","v":{"$error":"#VALUE!"}},{"$f":"[1]Analyse!AC232","v":{"$error":"#VALUE!"}}]
[null,null,null,null,null,null,null,null,null,null,null,null,null,null,null,null,null,null,null,null,null,null,null,null,null,{"$f":"[1]Analyse!X233","v":{"$error":"#VALUE!"}},{"$f":"[1]Analyse!Y233","v":{"$error":"#VALUE!"}},{"$f":"[1]Analyse!Z233","v":{"$error":"#VALUE!"}},{"$f":"[1]Analyse!AA233","v":{"$error":"#VALUE!"}},{"$f":"[1]Analyse!AB233","v":{"$error":"#VALUE!"}},{"$f":"[1]Analyse!AC233","v":{"$error":"#VALUE!"}}]
[null,null,null,null,null,null,null,null,null,null,null,null,null,null,null,null,null,null,null,null,null,null,null,null,null,{"$f":"[1]Analyse!X234","v":{"$error":"#VALUE!"}},{"$f":"[1]Analyse!Y234","v":{"$error":"#VALUE!"}},{"$f":"[1]Analyse!Z234","v":{"$error":"#VALUE!"}},{"$f":"[1]Analyse!AA234","v":{"$error":"#VALUE!"}},{"$f":"[1]Analyse!AB234","v":{"$error":"#VALUE!"}},{"$f":"[1]Analyse!AC234","v":{"$error":"#VALUE!"}}]
[null,null,null,null,null,null,null,null,null,null,null,null,null,null,null,null,null,null,null,null,null,null,null,null,null,{"$f":"[1]Analyse!X235","v":{"$error":"#VALUE!"}},{"$f":"[1]Analyse!Y235","v":{"$error":"#VALUE!"}},{"$f":"[1]Analyse!Z235","v":{"$error":"#VALUE!"}},{"$f":"[1]Analyse!AA235","v":{"$error":"#VALUE!"}},{"$f":"[1]Analyse!AB235","v":{"$error":"#VALUE!"}},{"$f":"[1]Analyse!AC235","v":{"$error":"#VALUE!"}}]
[null,null,null,null,null,null,null,null,null,null,null,null,null,null,null,null,null,null,null,null,null,null,null,null,null,{"$f":"[1]Analyse!X236","v":{"$error":"#VALUE!"}},{"$f":"[1]Analyse!Y236","v":{"$error":"#VALUE!"}},{"$f":"[1]Analyse!Z236","v":{"$error":"#VALUE!"}},{"$f":"[1]Analyse!AA236","v":{"$error":"#VALUE!"}},{"$f":"[1]Analyse!AB236","v":{"$error":"#VALUE!"}},{"$f":"[1]Analyse!AC236","v":{"$error":"#VALUE!"}}]
[null,null,null,null,null,null,null,null,null,null,null,null,null,null,null,null,null,null,null,null,null,null,null,null,null,null,null,null,null,null,{"$f":"[1]Analyse!AC237","v":0}]
[null,null,null,null,null,null,null,null,null,null,null,null,null,null,null,null,null,null,null,null,null,null,null,null,null,null,null,null,null,null,{"$f":"[1]Analyse!AC238","v":0}]
[null,null,null,null,null,null,null,null,null,null,null,null,null,null,null,null,null,null,null,null,null,null,null,null,null,null,null,null,null,null,{"$f":"[1]Analyse!AC239","v":"min"}]
[null,null,null,null,null,null,null,null,null,null,null,null,null,null,null,null,null,null,null,null,null,null,null,null,null,{"$f":"[1]Analyse!X240","v":{"$error":"#VALUE!"}},{"$f":"[1]Analyse!Y240","v":{"$error":"#VALUE!"}},{"$f":"[1]Analyse!Z240","v":{"$error":"#VALUE!"}},{"$f":"[1]Analyse!AA240","v":{"$error":"#VALUE!"}},{"$f":"[1]Analyse!AB240","v":{"$error":"#VALUE!"}},{"$f":"[1]Analyse!AC240","v":{"$error":"#VALUE!"}}]
[null,null,null,null,null,null,null,null,null,null,null,null,null,null,null,null,null,null,null,null,null,null,null,null,null,{"$f":"[1]Analyse!X241","v":{"$error":"#VALUE!"}},{"$f":"[1]Analyse!Y241","v":{"$error":"#VALUE!"}},{"$f":"[1]Analyse!Z241","v":{"$error":"#VALUE!"}},{"$f":"[1]Analyse!AA241","v":{"$error":"#VALUE!"}},{"$f":"[1]Analyse!AB241","v":{"$error":"#VALUE!"}},{"$f":"[1]Analyse!AC241","v":{"$error":"#VALUE!"}}]
[null,null,null,null,null,null,null,null,null,null,null,null,null,null,null,null,null,null,null,null,null,null,null,null,null,{"$f":"[1]Analyse!X242","v":{"$error":"#VALUE!"}},{"$f":"[1]Analyse!Y242","v":{"$error":"#VALUE!"}},{"$f":"[1]Analyse!Z242","v":{"$error":"#VALUE!"}},{"$f":"[1]Analyse!AA242","v":{"$error":"#VALUE!"}},{"$f":"[1]Analyse!AB242","v":{"$error":"#VALUE!"}},{"$f":"[1]Analyse!AC242","v":{"$error":"#VALUE!"}}]
[null,null,null,null,null,null,null,null,null,null,null,null,null,null,null,null,null,null,null,null,null,null,null,null,null,{"$f":"[1]Analyse!X243","v":{"$error":"#VALUE!"}},{"$f":"[1]Analyse!Y243","v":{"$error":"#VALUE!"}},{"$f":"[1]Analyse!Z243","v":{"$error":"#VALUE!"}},{"$f":"[1]Analyse!AA243","v":{"$error":"#VALUE!"}},{"$f":"[1]Analyse!AB243","v":{"$error":"#VALUE!"}},{"$f":"[1]Analyse!AC243","v":{"$error":"#VALUE!"}}]
[null,null,null,null,null,null,null,null,null,null,null,null,null,null,null,null,null,null,null,null,null,null,null,null,null,{"$f":"[1]Analyse!X244","v":{"$error":"#VALUE!"}},{"$f":"[1]Analyse!Y244","v":{"$error":"#VALUE!"}},{"$f":"[1]Analyse!Z244","v":{"$error":"#VALUE!"}},{"$f":"[1]Analyse!AA244","v":{"$error":"#VALUE!"}},{"$f":"[1]Analyse!AB244","v":{"$error":"#VALUE!"}},{"$f":"[1]Analyse!AC244","v":{"$error":"#VALUE!"}}]
[null,null,null,null,null,null,null,null,null,null,null,null,null,null,null,null,null,null,null,null,null,null,null,null,null,{"$f":"[1]Analyse!X245","v":{"$error":"#VALUE!"}},{"$f":"[1]Analyse!Y245","v":{"$error":"#VALUE!"}},{"$f":"[1]Analyse!Z245","v":{"$error":"#VALUE!"}},{"$f":"[1]Analyse!AA245","v":{"$error":"#VALUE!"}},{"$f":"[1]Analyse!AB245","v":{"$error":"#VALUE!"}},{"$f":"[1]Analyse!AC245","v":{"$error":"#VALUE!"}}]
[null,null,null,null,null,null,null,null,null,null,null,null,null,null,null,null,null,null,null,null,null,null,null,null,null,{"$f":"[1]Analyse!X246","v":{"$error":"#VALUE!"}},{"$f":"[1]Analyse!Y246","v":{"$error":"#VALUE!"}},{"$f":"[1]Analyse!Z246","v":{"$error":"#VALUE!"}},{"$f":"[1]Analyse!AA246","v":{"$error":"#VALUE!"}},{"$f":"[1]Analyse!AB246","v":{"$error":"#VALUE!"}},{"$f":"[1]Analyse!AC246","v":{"$error":"#VALUE!"}}]
[null,null,null,null,null,null,null,null,null,null,null,null,null,null,null,null,null,null,null,null,null,null,null,null,null,{"$f":"[1]Analyse!X247","v":{"$error":"#VALUE!"}},{"$f":"[1]Analyse!Y247","v":{"$error":"#VALUE!"}},{"$f":"[1]Analyse!Z247","v":{"$error":"#VALUE!"}},{"$f":"[1]Analyse!AA247","v":{"$error":"#VALUE!"}},{"$f":"[1]Analyse!AB247","v":{"$error":"#VALUE!"}},{"$f":"[1]Analyse!AC247","v":{"$error":"#VALUE!"}}]
[null,null,null,null,null,null,null,null,null,null,null,null,null,null,null,null,null,null,null,null,null,null,null,null,null,{"$f":"[1]Analyse!X248","v":{"$error":"#VALUE!"}},{"$f":"[1]Analyse!Y248","v":{"$error":"#VALUE!"}},{"$f":"[1]Analyse!Z248","v":{"$error":"#VALUE!"}},{"$f":"[1]Analyse!AA248","v":{"$error":"#VALUE!"}},{"$f":"[1]Analyse!AB248","v":{"$error":"#VALUE!"}},{"$f":"[1]Analyse!AC248","v":{"$error":"#VALUE!"}}]
[null,null,null,null,null,null,null,null,null,null,null,null,null,null,null,null,null,null,null,null,null,null,null,null,null,{"$f":"[1]Analyse!X249","v":{"$error":"#VALUE!"}},{"$f":"[1]Analyse!Y249","v":{"$error":"#VALUE!"}},{"$f":"[1]Analyse!Z249","v":{"$error":"#VALUE!"}},{"$f":"[1]Analyse!AA249","v":{"$error":"#VALUE!"}},{"$f":"[1]Analyse!AB249","v":{"$error":"#VALUE!"}},{"$f":"[1]Analyse!AC249","v":{"$error":"#VALUE!"}}]
[null,null,null,null,null,null,null,null,null,null,null,null,null,null,null,null,null,null,null,null,null,null,null,null,null,{"$f":"[1]Analyse!X250","v":{"$error":"#VALUE!"}},{"$f":"[1]Analyse!Y250","v":{"$error":"#VALUE!"}},{"$f":"[1]Analyse!Z250","v":{"$error":"#VALUE!"}},{"$f":"[1]Analyse!AA250","v":{"$error":"#VALUE!"}},{"$f":"[1]Analyse!AB250","v":{"$error":"#VALUE!"}},{"$f":"[1]Analyse!AC250","v":{"$error":"#VALUE!"}}]
[null,null,null,null,null,null,null,null,null,null,null,null,null,null,null,null,null,null,null,null,null,null,null,null,null,{"$f":"[1]Analyse!X251","v":{"$error":"#VALUE!"}},{"$f":"[1]Analyse!Y251","v":{"$error":"#VALUE!"}},{"$f":"[1]Analyse!Z251","v":{"$error":"#VALUE!"}},{"$f":"[1]Analyse!AA251","v":{"$error":"#VALUE!"}},{"$f":"[1]Analyse!AB251","v":{"$error":"#VALUE!"}},{"$f":"[1]Analyse!AC251","v":{"$error":"#VALUE!"}}]
[null,null,null,null,null,null,null,null,null,null,null,null,null,null,null,null,null,null,null,null,null,null,null,null,null,{"$f":"[1]Analyse!X252","v":{"$error":"#VALUE!"}},{"$f":"[1]Analyse!Y252","v":{"$error":"#VALUE!"}},{"$f":"[1]Analyse!Z252","v":{"$error":"#VALUE!"}},{"$f":"[1]Analyse!AA252","v":{"$error":"#VALUE!"}},{"$f":"[1]Analyse!AB252","v":{"$error":"#VALUE!"}},{"$f":"[1]Analyse!AC252","v":{"$error":"#VALUE!"}}]
[null,null,null,null,null,null,null,null,null,null,null,null,null,null,null,null,null,null,null,null,null,null,null,null,null,{"$f":"[1]Analyse!X253","v":{"$error":"#VALUE!"}},{"$f":"[1]Analyse!Y253","v":{"$error":"#VALUE!"}},{"$f":"[1]Analyse!Z253","v":{"$error":"#VALUE!"}},{"$f":"[1]Analyse!AA253","v":{"$error":"#VALUE!"}},{"$f":"[1]Analyse!AB253","v":{"$error":"#VALUE!"}},{"$f":"[1]Analyse!AC253","v":{"$error":"#VALUE!"}}]
[null,null,null,null,null,null,null,null,null,null,null,null,null,null,null,null,null,null,null,null,null,null,null,null,null,{"$f":"[1]Analyse!X254","v":{"$error":"#VALUE!"}},{"$f":"[1]Analyse!Y254","v":{"$error":"#VALUE!"}},{"$f":"[1]Analyse!Z254","v":{"$error":"#VALUE!"}},{"$f":"[1]Analyse!AA254","v":{"$error":"#VALUE!"}},{"$f":"[1]Analyse!AB254","v":{"$error":"#VALUE!"}},{"$f":"[1]Analyse!AC254","v":{"$error":"#VALUE!"}}]
[null,null,null,null,null,null,null,null,null,null,null,null,null,null,null,null,null,null,null,null,null,null,null,null,null,{"$f":"[1]Analyse!X255","v":{"$error":"#VALUE!"}},{"$f":"[1]Analyse!Y255","v":{"$error":"#VALUE!"}},{"$f":"[1]Analyse!Z255","v":{"$error":"#VALUE!"}},{"$f":"[1]Analyse!AA255","v":{"$error":"#VALUE!"}},{"$f":"[1]Analyse!AB255","v":{"$error":"#VALUE!"}},{"$f":"[1]Analyse!AC255","v":{"$error":"#VALUE!"}}]
[null,null,null,null,null,null,null,null,null,null,null,null,null,null,null,null,null,null,null,null,null,null,null,null,null,{"$f":"[1]Analyse!X256","v":{"$error":"#VALUE!"}},{"$f":"[1]Analyse!Y256","v":{"$error":"#VALUE!"}},{"$f":"[1]Analyse!Z256","v":{"$error":"#VALUE!"}},{"$f":"[1]Analyse!AA256","v":{"$error":"#VALUE!"}},{"$f":"[1]Analyse!AB256","v":{"$error":"#VALUE!"}},{"$f":"[1]Analyse!AC256","v":{"$error":"#VALUE!"}}]
[null,null,null,null,null,null,null,null,null,null,null,null,null,null,null,null,null,null,null,null,null,null,null,null,null,{"$f":"[1]Analyse!X257","v":{"$error":"#VALUE!"}},{"$f":"[1]Analyse!Y257","v":{"$error":"#VALUE!"}},{"$f":"[1]Analyse!Z257","v":{"$error":"#VALUE!"}},{"$f":"[1]Analyse!AA257","v":{"$error":"#VALUE!"}},{"$f":"[1]Analyse!AB257","v":{"$error":"#VALUE!"}},{"$f":"[1]Analyse!AC257","v":{"$error":"#VALUE!"}}]
[null,null,null,null,null,null,null,null,null,null,null,null,null,null,null,null,null,null,null,null,null,null,null,null,null,{"$f":"[1]Analyse!X258","v":{"$error":"#VALUE!"}},{"$f":"[1]Analyse!Y258","v":{"$error":"#VALUE!"}},{"$f":"[1]Analyse!Z258","v":{"$error":"#VALUE!"}},{"$f":"[1]Analyse!AA258","v":{"$error":"#VALUE!"}},{"$f":"[1]Analyse!AB258","v":{"$error":"#VALUE!"}},{"$f":"[1]Analyse!AC258","v":{"$error":"#VALUE!"}}]
[null,null,null,null,null,null,null,null,null,null,null,null,null,null,null,null,null,null,null,null,null,null,null,null,null,{"$f":"[1]Analyse!X259","v":{"$error":"#VALUE!"}},{"$f":"[1]Analyse!Y259","v":{"$error":"#VALUE!"}},{"$f":"[1]Analyse!Z259","v":{"$error":"#VALUE!"}},{"$f":"[1]Analyse!AA259","v":{"$error":"#VALUE!"}},{"$f":"[1]Analyse!AB259","v":{"$error":"#VALUE!"}},{"$f":"[1]Analyse!AC259","v":{"$error":"#VALUE!"}}]
[null,null,null,null,null,null,null,null,null,null,null,null,null,null,null,null,null,null,null,null,null,null,null,null,null,{"$f":"[1]Analyse!X260","v":{"$error":"#VALUE!"}},{"$f":"[1]Analyse!Y260","v":{"$error":"#VALUE!"}},{"$f":"[1]Analyse!Z260","v":{"$error":"#VALUE!"}},{"$f":"[1]Analyse!AA260","v":{"$error":"#VALUE!"}},{"$f":"[1]Analyse!AB260","v":{"$error":"#VALUE!"}},{"$f":"[1]Analyse!AC260","v":{"$error":"#VALUE!"}}]
[null,null,null,null,null,null,null,null,null,null,null,null,null,null,null,null,null,null,null,null,null,null,null,null,null,{"$f":"[1]Analyse!X261","v":{"$error":"#VALUE!"}},{"$f":"[1]Analyse!Y261","v":{"$error":"#VALUE!"}},{"$f":"[1]Analyse!Z261","v":{"$error":"#VALUE!"}},{"$f":"[1]Analyse!AA261","v":{"$error":"#VALUE!"}},{"$f":"[1]Analyse!AB261","v":{"$error":"#VALUE!"}},{"$f":"[1]Analyse!AC261","v":{"$error":"#VALUE!"}}]
[null,null,null,null,null,null,null,null,null,null,null,null,null,null,null,null,null,null,null,null,null,null,null,null,null,{"$f":"[1]Analyse!X262","v":{"$error":"#VALUE!"}},{"$f":"[1]Analyse!Y262","v":{"$error":"#VALUE!"}},{"$f":"[1]Analyse!Z262","v":{"$error":"#VALUE!"}},{"$f":"[1]Analyse!AA262","v":{"$error":"#VALUE!"}},{"$f":"[1]Analyse!AB262","v":{"$error":"#VALUE!"}},{"$f":"[1]Analyse!AC262","v":{"$error":"#VALUE!"}}]
[null,null,null,null,null,null,null,null,null,null,null,null,null,null,null,null,null,null,null,null,null,null,null,null,null,{"$f":"[1]Analyse!X263","v":{"$error":"#VALUE!"}},{"$f":"[1]Analyse!Y263","v":{"$error":"#VALUE!"}},{"$f":"[1]Analyse!Z263","v":{"$error":"#VALUE!"}},{"$f":"[1]Analyse!AA263","v":{"$error":"#VALUE!"}},{"$f":"[1]Analyse!AB263","v":{"$error":"#VALUE!"}},{"$f":"[1]Analyse!AC263","v":{"$error":"#VALUE!"}}]
[null,null,null,null,null,null,null,null,null,null,null,null,null,null,null,null,null,null,null,null,null,null,null,null,null,{"$f":"[1]Analyse!X264","v":{"$error":"#VALUE!"}},{"$f":"[1]Analyse!Y264","v":{"$error":"#VALUE!"}},{"$f":"[1]Analyse!Z264","v":{"$error":"#VALUE!"}},{"$f":"[1]Analyse!AA264","v":{"$error":"#VALUE!"}},{"$f":"[1]Analyse!AB264","v":{"$error":"#VALUE!"}},{"$f":"[1]Analyse!AC264","v":{"$error":"#VALUE!"}}]
[null,null,null,null,null,null,null,null,null,null,null,null,null,null,null,null,null,null,null,null,null,null,null,null,null,{"$f":"[1]Analyse!X265","v":{"$error":"#VALUE!"}},{"$f":"[1]Analyse!Y265","v":{"$error":"#VALUE!"}},{"$f":"[1]Analyse!Z265","v":{"$error":"#VALUE!"}},{"$f":"[1]Analyse!AA265","v":{"$error":"#VALUE!"}},{"$f":"[1]Analyse!AB265","v":{"$error":"#VALUE!"}},{"$f":"[1]Analyse!AC265","v":{"$error":"#VALUE!"}}]
[null,null,null,null,null,null,null,null,null,null,null,null,null,null,null,null,null,null,null,null,null,null,null,null,null,{"$f":"[1]Analyse!X266","v":{"$error":"#VALUE!"}},{"$f":"[1]Analyse!Y266","v":{"$error":"#VALUE!"}},{"$f":"[1]Analyse!Z266","v":{"$error":"#VALUE!"}},{"$f":"[1]Analyse!AA266","v":{"$error":"#VALUE!"}},{"$f":"[1]Analyse!AB266","v":{"$error":"#VALUE!"}},{"$f":"[1]Analyse!AC266","v":{"$error":"#VALUE!"}}]
[null,null,null,null,null,null,null,null,null,null,null,null,null,null,null,null,null,null,null,null,null,null,null,null,null,{"$f":"[1]Analyse!X267","v":{"$error":"#VALUE!"}},{"$f":"[1]Analyse!Y267","v":{"$error":"#VALUE!"}},{"$f":"[1]Analyse!Z267","v":{"$error":"#VALUE!"}},{"$f":"[1]Analyse!AA267","v":{"$error":"#VALUE!"}},{"$f":"[1]Analyse!AB267","v":{"$error":"#VALUE!"}},{"$f":"[1]Analyse!AC267","v":{"$error":"#VALUE!"}}]
[null,null,null,null,null,null,null,null,null,null,null,null,null,null,null,null,null,null,null,null,null,null,null,null,null,{"$f":"[1]Analyse!X268","v":{"$error":"#VALUE!"}},{"$f":"[1]Analyse!Y268","v":{"$error":"#VALUE!"}},{"$f":"[1]Analyse!Z268","v":{"$error":"#VALUE!"}},{"$f":"[1]Analyse!AA268","v":{"$error":"#VALUE!"}},{"$f":"[1]Analyse!AB268","v":{"$error":"#VALUE!"}},{"$f":"[1]Analyse!AC268","v":{"$error":"#VALUE!"}}]
[null,null,null,null,null,null,null,null,null,null,null,null,null,null,null,null,null,null,null,null,null,null,null,null,null,{"$f":"[1]Analyse!X269","v":{"$error":"#VALUE!"}},{"$f":"[1]Analyse!Y269","v":{"$error":"#VALUE!"}},{"$f":"[1]Analyse!Z269","v":{"$error":"#VALUE!"}},{"$f":"[1]Analyse!AA269","v":{"$error":"#VALUE!"}},{"$f":"[1]Analyse!AB269","v":{"$error":"#VALUE!"}},{"$f":"[1]Analyse!AC269","v":{"$error":"#VALUE!"}}]
[null,null,null,null,null,null,null,null,null,null,null,null,null,null,null,null,null,null,null,null,null,null,null,null,null,{"$f":"[1]Analyse!X270","v":{"$error":"#VALUE!"}},{"$f":"[1]Analyse!Y270","v":{"$error":"#VALUE!"}},{"$f":"[1]Analyse!Z270","v":{"$error":"#VALUE!"}},{"$f":"[1]Analyse!AA270","v":{"$error":"#VALUE!"}},{"$f":"[1]Analyse!AB270","v":{"$error":"#VALUE!"}},{"$f":"[1]Analyse!AC270","v":{"$error":"#VALUE!"}}]
[null,null,null,null,null,null,null,null,null,null,null,null,null,null,null,null,null,null,null,null,null,null,null,null,null,{"$f":"[1]Analyse!X271","v":{"$error":"#VALUE!"}},{"$f":"[1]Analyse!Y271","v":{"$error":"#VALUE!"}},{"$f":"[1]Analyse!Z271","v":{"$error":"#VALUE!"}},{"$f":"[1]Analyse!AA271","v":{"$error":"#VALUE!"}},{"$f":"[1]Analyse!AB271","v":{"$error":"#VALUE!"}},{"$f":"[1]Analyse!AC271","v":{"$error":"#VALUE!"}}]
[null,null,null,null,null,null,null,null,null,null,null,null,null,null,null,null,null,null,null,null,null,null,null,null,null,{"$f":"[1]Analyse!X272","v":{"$error":"#VALUE!"}},{"$f":"[1]Analyse!Y272","v":{"$error":"#VALUE!"}},{"$f":"[1]Analyse!Z272","v":{"$error":"#VALUE!"}},{"$f":"[1]Analyse!AA272","v":{"$error":"#VALUE!"}},{"$f":"[1]Analyse!AB272","v":{"$error":"#VALUE!"}},{"$f":"[1]Analyse!AC272","v":{"$error":"#VALUE!"}}]
[null,null,null,null,null,null,null,null,null,null,null,null,null,null,null,null,null,null,null,null,null,null,null,null,null,{"$f":"[1]Analyse!X273","v":{"$error":"#VALUE!"}},{"$f":"[1]Analyse!Y273","v":{"$error":"#VALUE!"}},{"$f":"[1]Analyse!Z273","v":{"$error":"#VALUE!"}},{"$f":"[1]Analyse!AA273","v":{"$error":"#VALUE!"}},{"$f":"[1]Analyse!AB273","v":{"$error":"#VALUE!"}},{"$f":"[1]Analyse!AC273","v":{"$error":"#VALUE!"}}]
[null,null,null,null,null,null,null,null,null,null,null,null,null,null,null,null,null,null,null,null,null,null,null,null,null,{"$f":"[1]Analyse!X274","v":{"$error":"#VALUE!"}},{"$f":"[1]Analyse!Y274","v":{"$error":"#VALUE!"}},{"$f":"[1]Analyse!Z274","v":{"$error":"#VALUE!"}},{"$f":"[1]Analyse!AA274","v":{"$error":"#VALUE!"}},{"$f":"[1]Analyse!AB274","v":{"$error":"#VALUE!"}},{"$f":"[1]Analyse!AC274","v":{"$error":"#VALUE!"}}]
[null,null,null,null,null,null,null,null,null,null,null,null,null,null,null,null,null,null,null,null,null,null,null,null,null,{"$f":"[1]Analyse!X275","v":{"$error":"#VALUE!"}},{"$f":"[1]Analyse!Y275","v":{"$error":"#VALUE!"}},{"$f":"[1]Analyse!Z275","v":{"$error":"#VALUE!"}},{"$f":"[1]Analyse!AA275","v":{"$error":"#VALUE!"}},{"$f":"[1]Analyse!AB275","v":{"$error":"#VALUE!"}},{"$f":"[1]Analyse!AC275","v":{"$error":"#VALUE!"}}]
[null,null,null,null,null,null,null,null,null,null,null,null,null,null,null,null,null,null,null,null,null,null,null,null,null,{"$f":"[1]Analyse!X276","v":{"$error":"#VALUE!"}},{"$f":"[1]Analyse!Y276","v":{"$error":"#VALUE!"}},{"$f":"[1]Analyse!Z276","v":{"$error":"#VALUE!"}},{"$f":"[1]Analyse!AA276","v":{"$error":"#VALUE!"}},{"$f":"[1]Analyse!AB276","v":{"$error":"#VALUE!"}},{"$f":"[1]Analyse!AC276","v":{"$error":"#VALUE!"}}]
[null,null,null,null,null,null,null,null,null,null,null,null,null,null,null,null,null,null,null,null,null,null,null,null,null,{"$f":"[1]Analyse!X277","v":{"$error":"#VALUE!"}},{"$f":"[1]Analyse!Y277","v":{"$error":"#VALUE!"}},{"$f":"[1]Analyse!Z277","v":{"$error":"#VALUE!"}},{"$f":"[1]Analyse!AA277","v":{"$error":"#VALUE!"}},{"$f":"[1]Analyse!AB277","v":{"$error":"#VALUE!"}},{"$f":"[1]Analyse!AC277","v":{"$error":"#VALUE!"}}]
[null,null,null,null,null,null,null,null,null,null,null,null,null,null,null,null,null,null,null,null,null,null,null,null,null,{"$f":"[1]Analyse!X278","v":{"$error":"#VALUE!"}},{"$f":"[1]Analyse!Y278","v":{"$error":"#VALUE!"}},{"$f":"[1]Analyse!Z278","v":{"$error":"#VALUE!"}},{"$f":"[1]Analyse!AA278","v":{"$error":"#VALUE!"}},{"$f":"[1]Analyse!AB278","v":{"$error":"#VALUE!"}},{"$f":"[1]Analyse!AC278","v":{"$error":"#VALUE!"}}]
[null,null,null,null,null,null,null,null,null,null,null,null,null,null,null,null,null,null,null,null,null,null,null,null,null,{"$f":"[1]Analyse!X279","v":{"$error":"#VALUE!"}},{"$f":"[1]Analyse!Y279","v":{"$error":"#VALUE!"}},{"$f":"[1]Analyse!Z279","v":{"$error":"#VALUE!"}},{"$f":"[1]Analyse!AA279","v":{"$error":"#VALUE!"}},{"$f":"[1]Analyse!AB279","v":{"$error":"#VALUE!"}},{"$f":"[1]Analyse!AC279","v":{"$error":"#VALUE!"}}]
[null,null,null,null,null,null,null,null,null,null,null,null,null,null,null,null,null,null,null,null,null,null,null,null,null,{"$f":"[1]Analyse!X280","v":{"$error":"#VALUE!"}},{"$f":"[1]Analyse!Y280","v":{"$error":"#VALUE!"}},{"$f":"[1]Analyse!Z280","v":{"$error":"#VALUE!"}},{"$f":"[1]Analyse!AA280","v":{"$error":"#VALUE!"}},{"$f":"[1]Analyse!AB280","v":{"$error":"#VALUE!"}},{"$f":"[1]Analyse!AC280","v":{"$error":"#VALUE!"}}]
[null,null,null,null,null,null,null,null,null,null,null,null,null,null,null,null,null,null,null,null,null,null,null,null,null,{"$f":"[1]Analyse!X281","v":{"$error":"#VALUE!"}},{"$f":"[1]Analyse!Y281","v":{"$error":"#VALUE!"}},{"$f":"[1]Analyse!Z281","v":{"$error":"#VALUE!"}},{"$f":"[1]Analyse!AA281","v":{"$error":"#VALUE!"}},{"$f":"[1]Analyse!AB281","v":{"$error":"#VALUE!"}},{"$f":"[1]Analyse!AC281","v":{"$error":"#VALUE!"}}]
[null,null,null,null,null,null,null,null,null,null,null,null,null,null,null,null,null,null,null,null,null,null,null,null,null,{"$f":"[1]Analyse!X282","v":{"$error":"#VALUE!"}},{"$f":"[1]Analyse!Y282","v":{"$error":"#VALUE!"}},{"$f":"[1]Analyse!Z282","v":{"$error":"#VALUE!"}},{"$f":"[1]Analyse!AA282","v":{"$error":"#VALUE!"}},{"$f":"[1]Analyse!AB282","v":{"$error":"#VALUE!"}},{"$f":"[1]Analyse!AC282","v":{"$error":"#VALUE!"}}]
[null,null,null,null,null,null,null,null,null,null,null,null,null,null,null,null,null,null,null,null,null,null,null,null,null,{"$f":"[1]Analyse!X283","v":{"$error":"#VALUE!"}},{"$f":"[1]Analyse!Y283","v":{"$error":"#VALUE!"}},{"$f":"[1]Analyse!Z283","v":{"$error":"#VALUE!"}},{"$f":"[1]Analyse!AA283","v":{"$error":"#VALUE!"}},{"$f":"[1]Analyse!AB283","v":{"$error":"#VALUE!"}},{"$f":"[1]Analyse!AC283","v":{"$error":"#VALUE!"}}]

{"sheet":"Feuil2","index":2,"n_rows":105,"n_cols":8,"rows_kept":105,"cut":false,"hidden":true,"merged":[]}
[]
[]
[]
[]
[]
[]
[]
[]
[]
[]
[]
[]
[]
[]
[]
[]
[]
[]
[]
[]
[]
[]
[]
[]
[]
[]
[]
[]
[]
[]
[]
[]
[]
[]
[]
[]
[]
[]
[]
[]
[]
[]
[]
[]
[]
[]
[]
[]
[]
[]
[]
[]
[]
[]
[]
[]
[]
[]
[]
[]
[]
[]
[]
[]
[]
[]
[]
[]
[]
[]
[]
[]
[]
[]
[]
[]
[]
[]
[]
[]
[]
[]
[]
[]
[]
[]
[]
[]
[]
[null,null,null,null,null,null,"WebServicesLib"]
[null,null,null,null,null,null,"WebServices 1.0 Type Library"]
[null,null,null,null,null,null,"{453D7835-5495-48CD-8805-4020015CFAD4}"]
[null,null,null,null,null,null,1]
[null,null,null,null,null,null,0]
[null,null,null,null,null,null,"C:\\Program Files\\Common Files\\Autodesk Shared\\WebServices1.dll"]
[]
[]
[]
[]
["VBA","Excel","stdole","Office","MSForms","MSHTML",null,"SHDocVw"]
["Visual Basic For Applications","Microsoft Excel 14.0 Object Library","OLE Automation","Microsoft Office 14.0 Object Library","Microsoft Forms 2.0 Object Library","Microsoft HTML Object Library",null,"Microsoft Internet Controls"]
["{000204EF-0000-0000-C000-000000000046}","{00020813-0000-0000-C000-000000000046}","{00020430-0000-0000-C000-000000000046}","{2DF8D04C-5BFA-101B-BDE5-00AA0044DE52}","{0D452EE1-E08F-101A-852E-02608C4D0BB4}","{3050F1C5-98B5-11CF-BB82-00AA00BDCE0B}",null,"{EAB22AC0-30C1-11CF-A7EB-0000C05BAE0B}"]
[4,1,2,2,2,4,null,1]
[1,7,0,5,0,0,null,1]
["C:\\PROGRA~1\\COMMON~1\\MICROS~1\\VBA\\VBA7\\VBE7.DLL","C:\\Program Files\\Microsoft Office\\Office14\\EXCEL.EXE","C:\\Windows\\system32\\stdole2.tlb","C:\\Program Files\\Common Files\\Microsoft Shared\\OFFICE14\\MSO.DLL","C:\\Windows\\system32\\FM20.DLL","C:\\Windows\\system32\\MSHTML.TLB",null,"C:\\Windows\\System32\\ieframe.dll"]

{"sheet":"Feuil3","index":3,"n_rows":0,"n_cols":0,"rows_kept":0,"cut":false,"hidden":false,"merged":[]}